Workbook
Name Ersatzspalten: 'Especif. precios | opcional'!$I$3:$L$3
Name Ersatzspalten: 'Especif. precios | prestación'!$I$3:$L$3
Name Erstattungsart: Listas!$B$4:$B$7
Name JaNein: #REF!
Name lSFK: #REF!
Name lSFK: 'Lista de expertos(as) clave'!$B$11:$B$34
Name rZeilen: 'Especif. precios | opcional'!$N$13:$N$19
Name rZeilen: 'Especif. precios | prestación'!$N$13:$N$19
Name VENr: 'Especif. precios | opcional'!#REF!
Name VENr: 'Especif. precios | prestación'!#REF!
Name VEspalten: 'Especif. precios | opcional'!#REF!
Name VEspalten: 'Especif. precios | prestación'!#REF!

Sheet Especif. precios | prestación
A1: Especificación de precios: prestación
A2: CONFIDENTIAL
A3: N.º de contrato: | B3: 10051955 | C3: Fecha: | D3: 46287
A5: N.º de proyecto / n.º de unidad de costos: | B5: G-012321-002 | C5: Contratista:
C7: Dirección:
A9: 1. Precios fijos
A11: Partida | B11: Descripción | D11: Cantidad | E11: Retribución | F11: Total | G11: Explicaciones
A12: Suma total | F12: =D12*E12 -> 0
A13: Hito 1 | F13: =D13*E13 -> 0
A14: Hito 2 | F14: =D14*E14 -> 0
A15: Hito 3 | F15: =D15*E15 -> 0
A16: Hito 4 | F16: =D16*E16 -> 0
A17: Hito 5 | F17: =D17*E17 -> 0
A18: Hito 6 | F18: =D18*E18 -> 0
A19: Hito 7 | F19: =D19*E19 -> 0
A21: Subtotal | F21: =SUM(F12:F20) -> 0
A23: 2. Honorarios y otros costos condicionados por el contrato
A25: 2.1 Partida de honorarios | B25: Nombre | C25: Tipo de reembolso | D25: Cantidad días de experto/a | E25: Retribución | F25: Total | G25: Explicaciones
A26: Jefe/a de equipo | B26: =IFERROR(VLOOKUP(A26,'Lista de expertos(as) clave'!$B$11:$D$34,3,0)&" "&VLOOKUP(A26,'Lista de expertos(as) clave'!$B$11:$D$34,2,0),"N.N.") | C26: Monto global / cantidad | F26: =D26*E26 -> 0
A27: Experto/a clave 1 | B27: =IFERROR(VLOOKUP(A27,'Lista de expertos(as) clave'!$B$11:$D$34,3,0)&" "&VLOOKUP(A27,'Lista de expertos(as) clave'!$B$11:$D$34,2,0),"N.N.") | C27: Monto global / cantidad | D27: 20 | F27: =D27*E27 -> 0
A28: Experto/a clave 2 | B28: =IFERROR(VLOOKUP(A28,'Lista de expertos(as) clave'!$B$11:$D$34,3,0)&" "&VLOOKUP(A28,'Lista de expertos(as) clave'!$B$11:$D$34,2,0),"N.N.") | C28: Monto global / cantidad | F28: =D28*E28 -> 0
A29: Experto/a clave 3 | B29: =IFERROR(VLOOKUP(A29,'Lista de expertos(as) clave'!$B$11:$D$34,3,0)&" "&VLOOKUP(A29,'Lista de expertos(as) clave'!$B$11:$D$34,2,0),"N.N.") | C29: Monto global / cantidad | F29: =D29*E29 -> 0
A30: Experto/a clave 4 | B30: =IFERROR(VLOOKUP(A30,'Lista de expertos(as) clave'!$B$11:$D$34,3,0)&" "&VLOOKUP(A30,'Lista de expertos(as) clave'!$B$11:$D$34,2,0),"N.N.") | C30: Monto global / cantidad | F30: =D30*E30 -> 0
A31: Experto/a clave 5 | B31: =IFERROR(VLOOKUP(A31,'Lista de expertos(as) clave'!$B$11:$D$34,3,0)&" "&VLOOKUP(A31,'Lista de expertos(as) clave'!$B$11:$D$34,2,0),"N.N.") | C31: Monto global / cantidad | F31: =D31*E31 -> 0
A32: Contingente expertos/as 1 | B32: =IFERROR(VLOOKUP(A32,'Lista de expertos(as) clave'!$B$11:$D$34,3,0)&" "&VLOOKUP(A32,'Lista de expertos(as) clave'!$B$11:$D$34,2,0),"N.N.") | C32: Monto global / cantidad | F32: =D32*E32 -> 0
A33: Contingente expertos/as 2 | B33: =IFERROR(VLOOKUP(A33,'Lista de expertos(as) clave'!$B$11:$D$34,3,0)&" "&VLOOKUP(A33,'Lista de expertos(as) clave'!$B$11:$D$34,2,0),"N.N.") | C33: Monto global / cantidad | F33: =D33*E33 -> 0
A34: Contingente expertos/as 3 | B34: =IFERROR(VLOOKUP(A34,'Lista de expertos(as) clave'!$B$11:$D$34,3,0)&" "&VLOOKUP(A34,'Lista de expertos(as) clave'!$B$11:$D$34,2,0),"N.N.") | C34: Monto global / cantidad | F34: =D34*E34 -> 0
A35: Contingente expertos/as 4 | B35: =IFERROR(VLOOKUP(A35,'Lista de expertos(as) clave'!$B$11:$D$34,3,0)&" "&VLOOKUP(A35,'Lista de expertos(as) clave'!$B$11:$D$34,2,0),"N.N.") | C35: Monto global / cantidad | F35: =D35*E35 -> 0
A36: Contingente expertos/as 5 | B36: =IFERROR(VLOOKUP(A36,'Lista de expertos(as) clave'!$B$11:$D$34,3,0)&" "&VLOOKUP(A36,'Lista de expertos(as) clave'!$B$11:$D$34,2,0),"N.N.") | C36: Monto global / cantidad | F36: =D36*E36 -> 0
A38: Subtotal | F38: =SUM(F26:F37) -> 0
A40: 2.2 Partida de costos condicionados por el contrato | B40: Nombre | C40: Clave de liquidación | D40: Cantidad | E40: Precio | F40: Total | G40: Explicaciones
A41: Jefe/a de equipo | B41: =IFERROR(VLOOKUP(A41,'Lista de expertos(as) clave'!$B$11:$D$34,3,0)&" "&VLOOKUP(A41,'Lista de expertos(as) clave'!$B$11:$D$34,2,0),"N.N.") | C41: Monto global / cantidad | F41: =D41*E41 -> 0
A42: Experto/a clave 1 | B42: =IFERROR(VLOOKUP(A42,'Lista de expertos(as) clave'!$B$11:$D$34,3,0)&" "&VLOOKUP(A42,'Lista de expertos(as) clave'!$B$11:$D$34,2,0),"N.N.") | C42: Monto global / cantidad | F42: =D42*E42 -> 0
A43: Experto/a clave 2 | B43: =IFERROR(VLOOKUP(A43,'Lista de expertos(as) clave'!$B$11:$D$34,3,0)&" "&VLOOKUP(A43,'Lista de expertos(as) clave'!$B$11:$D$34,2,0),"N.N.") | C43: Monto global / cantidad | F43: =D43*E43 -> 0
A44: Experto/a clave 3 | B44: =IFERROR(VLOOKUP(A44,'Lista de expertos(as) clave'!$B$11:$D$34,3,0)&" "&VLOOKUP(A44,'Lista de expertos(as) clave'!$B$11:$D$34,2,0),"N.N.") | C44: Monto global / cantidad | F44: =D44*E44 -> 0
A45: Experto/a clave 4 | B45: =IFERROR(VLOOKUP(A45,'Lista de expertos(as) clave'!$B$11:$D$34,3,0)&" "&VLOOKUP(A45,'Lista de expertos(as) clave'!$B$11:$D$34,2,0),"N.N.") | C45: Monto global / cantidad | F45: =D45*E45 -> 0
A46: Experto/a clave 5 | B46: =IFERROR(VLOOKUP(A46,'Lista de expertos(as) clave'!$B$11:$D$34,3,0)&" "&VLOOKUP(A46,'Lista de expertos(as) clave'!$B$11:$D$34,2,0),"N.N.") | C46: Monto global / cantidad | F46: =D46*E46 -> 0
A47: Contingente expertos/as 1 | B47: =IFERROR(VLOOKUP(A47,'Lista de expertos(as) clave'!$B$11:$D$34,3,0)&" "&VLOOKUP(A47,'Lista de expertos(as) clave'!$B$11:$D$34,2,0),"N.N.") | C47: Monto global / cantidad | F47: =D47*E47 -> 0
A48: Contingente expertos/as 2 | B48: =IFERROR(VLOOKUP(A48,'Lista de expertos(as) clave'!$B$11:$D$34,3,0)&" "&VLOOKUP(A48,'Lista de expertos(as) clave'!$B$11:$D$34,2,0),"N.N.") | C48: Monto global / cantidad | F48: =D48*E48 -> 0
A49: Contingente expertos/as 3 | B49: =IFERROR(VLOOKUP(A49,'Lista de expertos(as) clave'!$B$11:$D$34,3,0)&" "&VLOOKUP(A49,'Lista de expertos(as) clave'!$B$11:$D$34,2,0),"N.N.") | C49: Monto global / cantidad | F49: =D49*E49 -> 0
...

Sheet Especif. precios | opcional
A1: Especificación de precios | opcional
A2: CONFIDENTIAL
A3: N.º de contrato: | B3: ='Especif. precios | prestación'!B3 -> 10051955 | C3: Fecha: | D3: ='Especif. precios | prestación'!D3 -> 46287
A5: N.º de proyecto / n.º de unidad de costos: | B5: ='Especif. precios | prestación'!B5 -> G-012321-002 | C5: Contratista: | D5: ='Especif. precios | prestación'!D5 -> 0
C7: Dirección: | D7: ='Especif. precios | prestación'!D7 -> 0
A9: 1. Precios fijos
A11: Partida | B11: Descripción | D11: Cantidad | E11: Retribución | F11: Total | G11: Explicaciones
A12: Suma total | F12: =D12*E12 -> 0
A13: Hito 1 | F13: =D13*E13 -> 0
A14: Hito 2 | F14: =D14*E14 -> 0
A15: Hito 3 | F15: =D15*E15 -> 0
A16: Hito 4 | F16: =D16*E16 -> 0
A17: Hito 5 | F17: =D17*E17 -> 0
A18: Hito 6 | F18: =D18*E18 -> 0
A19: Hito 7 | F19: =D19*E19 -> 0
A21: Subtotal | F21: =SUM(F12:F20) -> 0
A23: 2. Honorarios y otros costos condicionados por el contrato
A25: 2.1 Partida de honorarios | B25: Nombre | C25: Tipo de reembolso | D25: Cantidad días de experto/a | E25: Retribución | F25: Total | G25: Explicaciones
A26: Jefe/a de equipo | B26: =IFERROR(VLOOKUP(A26,'Lista de expertos(as) clave'!$B$11:$D$34,3,0)&" "&VLOOKUP(A26,'Lista de expertos(as) clave'!$B$11:$D$34,2,0),"N.N.") | C26: Monto global / cantidad | F26: =D26*E26 -> 0
A27: Experto/a clave 1 | B27: =IFERROR(VLOOKUP(A27,'Lista de expertos(as) clave'!$B$11:$D$34,3,0)&" "&VLOOKUP(A27,'Lista de expertos(as) clave'!$B$11:$D$34,2,0),"N.N.") | C27: Monto global / cantidad | F27: =D27*E27 -> 0
A28: Experto/a clave 2 | B28: =IFERROR(VLOOKUP(A28,'Lista de expertos(as) clave'!$B$11:$D$34,3,0)&" "&VLOOKUP(A28,'Lista de expertos(as) clave'!$B$11:$D$34,2,0),"N.N.") | C28: Monto global / cantidad | F28: =D28*E28 -> 0
A29: Experto/a clave 3 | B29: =IFERROR(VLOOKUP(A29,'Lista de expertos(as) clave'!$B$11:$D$34,3,0)&" "&VLOOKUP(A29,'Lista de expertos(as) clave'!$B$11:$D$34,2,0),"N.N.") | C29: Monto global / cantidad | F29: =D29*E29 -> 0
A30: Experto/a clave 4 | B30: =IFERROR(VLOOKUP(A30,'Lista de expertos(as) clave'!$B$11:$D$34,3,0)&" "&VLOOKUP(A30,'Lista de expertos(as) clave'!$B$11:$D$34,2,0),"N.N.") | C30: Monto global / cantidad | F30: =D30*E30 -> 0
A31: Experto/a clave 5 | B31: =IFERROR(VLOOKUP(A31,'Lista de expertos(as) clave'!$B$11:$D$34,3,0)&" "&VLOOKUP(A31,'Lista de expertos(as) clave'!$B$11:$D$34,2,0),"N.N.") | C31: Monto global / cantidad | F31: =D31*E31 -> 0
A32: Contingente expertos/as 1 | B32: =IFERROR(VLOOKUP(A32,'Lista de expertos(as) clave'!$B$11:$D$34,3,0)&" "&VLOOKUP(A32,'Lista de expertos(as) clave'!$B$11:$D$34,2,0),"N.N.") | C32: Monto global / cantidad | F32: =D32*E32 -> 0
A33: Contingente expertos/as 2 | B33: =IFERROR(VLOOKUP(A33,'Lista de expertos(as) clave'!$B$11:$D$34,3,0)&" "&VLOOKUP(A33,'Lista de expertos(as) clave'!$B$11:$D$34,2,0),"N.N.") | C33: Monto global / cantidad | F33: =D33*E33 -> 0
A34: Contingente expertos/as 3 | B34: =IFERROR(VLOOKUP(A34,'Lista de expertos(as) clave'!$B$11:$D$34,3,0)&" "&VLOOKUP(A34,'Lista de expertos(as) clave'!$B$11:$D$34,2,0),"N.N.") | C34: Monto global / cantidad | F34: =D34*E34 -> 0
A35: Contingente expertos/as 4 | B35: =IFERROR(VLOOKUP(A35,'Lista de expertos(as) clave'!$B$11:$D$34,3,0)&" "&VLOOKUP(A35,'Lista de expertos(as) clave'!$B$11:$D$34,2,0),"N.N.") | C35: Monto global / cantidad | F35: =D35*E35 -> 0
A36: Contingente expertos/as 5 | B36: =IFERROR(VLOOKUP(A36,'Lista de expertos(as) clave'!$B$11:$D$34,3,0)&" "&VLOOKUP(A36,'Lista de expertos(as) clave'!$B$11:$D$34,2,0),"N.N.") | C36: Monto global / cantidad | F36: =D36*E36 -> 0
A38: Subtotal | F38: =SUM(F26:F37) -> 0
A40: 2.2 Partida de costos condicionados por el contrato | B40: Nombre | C40: Clave de liquidación | D40: Cantidad | E40: Precio | F40: Total | G40: Explicaciones
A41: Jefe/a de equipo | B41: =IFERROR(VLOOKUP(A41,'Lista de expertos(as) clave'!$B$11:$D$34,3,0)&" "&VLOOKUP(A41,'Lista de expertos(as) clave'!$B$11:$D$34,2,0),"N.N.") | C41: Monto global / cantidad | F41: =D41*E41 -> 0
A42: Experto/a clave 1 | B42: =IFERROR(VLOOKUP(A42,'Lista de expertos(as) clave'!$B$11:$D$34,3,0)&" "&VLOOKUP(A42,'Lista de expertos(as) clave'!$B$11:$D$34,2,0),"N.N.") | C42: Monto global / cantidad | F42: =D42*E42 -> 0
A43: Experto/a clave 2 | B43: =IFERROR(VLOOKUP(A43,'Lista de expertos(as) clave'!$B$11:$D$34,3,0)&" "&VLOOKUP(A43,'Lista de expertos(as) clave'!$B$11:$D$34,2,0),"N.N.") | C43: Monto global / cantidad | F43: =D43*E43 -> 0
A44: Experto/a clave 3 | B44: =IFERROR(VLOOKUP(A44,'Lista de expertos(as) clave'!$B$11:$D$34,3,0)&" "&VLOOKUP(A44,'Lista de expertos(as) clave'!$B$11:$D$34,2,0),"N.N.") | C44: Monto global / cantidad | F44: =D44*E44 -> 0
A45: Experto/a clave 4 | B45: =IFERROR(VLOOKUP(A45,'Lista de expertos(as) clave'!$B$11:$D$34,3,0)&" "&VLOOKUP(A45,'Lista de expertos(as) clave'!$B$11:$D$34,2,0),"N.N.") | C45: Monto global / cantidad | F45: =D45*E45 -> 0
A46: Experto/a clave 5 | B46: =IFERROR(VLOOKUP(A46,'Lista de expertos(as) clave'!$B$11:$D$34,3,0)&" "&VLOOKUP(A46,'Lista de expertos(as) clave'!$B$11:$D$34,2,0),"N.N.") | C46: Monto global / cantidad | F46: =D46*E46 -> 0
A47: Contingente expertos/as 1 | B47: =IFERROR(VLOOKUP(A47,'Lista de expertos(as) clave'!$B$11:$D$34,3,0)&" "&VLOOKUP(A47,'Lista de expertos(as) clave'!$B$11:$D$34,2,0),"N.N.") | C47: Monto global / cantidad | F47: =D47*E47 -> 0
A48: Contingente expertos/as 2 | B48: =IFERROR(VLOOKUP(A48,'Lista de expertos(as) clave'!$B$11:$D$34,3,0)&" "&VLOOKUP(A48,'Lista de expertos(as) clave'!$B$11:$D$34,2,0),"N.N.") | C48: Monto global / cantidad | F48: =D48*E48 -> 0
A49: Contingente expertos/as 3 | B49: =IFERROR(VLOOKUP(A49,'Lista de expertos(as) clave'!$B$11:$D$34,3,0)&" "&VLOOKUP(A49,'Lista de expertos(as) clave'!$B$11:$D$34,2,0),"N.N.") | C49: Monto global / cantidad | F49: =D49*E49 -> 0
...

Sheet Suma prestación + opcional
A1: Especificación de precios: suma de prestación + prestación opcional
A2: CONFIDENTIAL
A3: N.º de contrato: | B3: ='Especif. precios | prestación'!B3 -> 10051955 | C3: Fecha: | D3: ='Especif. precios | prestación'!D3 -> 46287
A5: N.º de proyecto: | B5: ='Especif. precios | prestación'!B5 -> G-012321-002 | C5: Contratista: | D5: ='Especif. precios | prestación'!D5 -> 0
C7: Dirección: | D7: ='Especif. precios | prestación'!D7 -> 0
A9: 1. Precios fijos
A11: Subtotal | E11: ='Especif. precios | prestación'!F21+'Especif. precios | opcional'!F21 -> 0
A13: 2. Honorarios y otros costos condicionados por el contrato
A15: 2.1 Honorarios
A16: Subtotal | E16: ='Especif. precios | prestación'!F38+'Especif. precios | opcional'!F38 -> 0
A18: 2.2 Partida de costos condicionados por el contrato
A19: Subtotal | E19: ='Especif. precios | prestación'!F53+'Especif. precios | opcional'!F53 -> 0
A21: 3. Gastos de viaje
A22: Enlace a la tabla de países actual del Gobierno Federal alemán:
A23: https://www.bundesfinanzministerium.de/Content/DE/Downloads/BMF_Schreiben/Steuerarten/Lohnsteuer/2024-12-02-steuerliche-behandlung-reisekosten-2025.html (SÓLO EN ALEMÁN)
A25: Subtotal | E25: ='Especif. precios | prestación'!F75+'Especif. precios | opcional'!F75 -> 0
A27: 4. Otros costos
A29: Subtotal | E29: ='Especif. precios | prestación'!F94+'Especif. precios | opcional'!F94 -> 0
A31: 5. Costos totales
A33: Suma total (neta) | E33: ='Especif. precios | prestación'!F98+'Especif. precios | opcional'!F98 -> 0

Sheet Lista de expertos(as) clave
B2: Lista de expertos y expertas clave
B3: * Solo expertos y expertas para quienes es necesario un complemento al contrato
B4: ** Si cambia el experto o la experta clave, introduzca en las explicaciones la fecha de finalización de la asignación y el inicio de la asignación del nuevo experto o de la nueva experta clave.
B5: CONFIDENTIAL
B6: N.° de contrato: | C6: ='Especif. precios | prestación'!B3 -> 10051955 | E6: Fecha: | F6: ='Especif. precios | prestación'!D3 -> 46287
B8: N.° de proyecto: | C8: ='Especif. precios | prestación'!B5 -> G-012321-002
B10: Denominación en la especificación de precios | C10: Apellido(s) | D10: Nombre | E10: Fecha de nacimiento | F10: Lugar de residencia | G10: Explicación de los complementos al contrato
B11: Jefe/a de equipo
B12: Experto/a clave 1
B13: Experto/a clave 2
B14: Experto/a clave 3
B15: Experto/a clave 4
B16: Experto/a clave 5
B17: Experto/a clave 6
B18: Contingente expertos/as 1
B19: Contingente expertos/as 2
B20: Contingente expertos/as 3
B21: Contingente expertos/as 4
B22: Contingente expertos/as 5
B23: Contingente expertos/as 6

Sheet Listas
B3: Tipo de reembolso
B4: Seleccione
B5: Monto global / cantidad
B6: Contra justificante
B7: No procede
