{"text_format":"1","workbook":"xlsx","n_sheets":12,"sheets":["Get started","1A Input Base and BAU","1B Top-Down Validation","2A Input Climat Scen. Pass.","2B Input Climat Scen. Freight","3 Overview of results","4A Calcul. BAU city","4B Calcul. Climat Scen.","5 Default values","6 Defaults parameters","7 Sources and abbreviation","Referencing"],"not_rendered":{"charts":23,"images":8,"macros":1,"external_links":0,"defined_names":472,"comments":3,"pivot_tables":0},"unopened":[],"bounds":{"document_bytes":16777216,"sheet_cells":100000,"rows_first":2000,"rows_last":500,"rows_between":2000,"halvings":0,"cell_chars":16384,"cell_head_chars":4096},"cells_cut":0,"cells_raw":0,"read":"whole","date_system":"1900"}

{"sheet":"Get started","index":0,"n_rows":20,"n_cols":6,"rows_kept":20,"cut":false,"hidden":false,"merged":[[4,1,4,2],[9,1,9,2]]}
[]
[]
[]
[]
[null,{"$f":"Text1","v":"First: Select if you are a country or a city (drop-down menu) , fill in the name of your country/city as well as the base year chosen; and select the language (drop-down menu) below"},null,null,{"$f":"Text4","v":"Presentation of the tool"},"Supported by"]
[null,"City","xx",null,{"$f":"Text2","v":"Purpose of this tool:"}]
[null,{"$f":"yearref","v":"Reference year"},null,null,{"$f":"Text2a","v":"This tool is a bottom-up spreadsheet model for greenhouse gas emission (GHG) calculations in the transport sector at the national and local level. It enables calculating GHG inventories of cities and countries as well as BAU \"business as usual\" scenarios and climate scenarios. The tool enables governments to calculate potential effects of national and urban transport policies on total GHG emissions, e.g. extension of public transport, subsidies for electric vehicles. The scope of the emission that should be taken into account is based on a territorial principle (see for more details http://mobiliseyourcity.net/wp-content/uploads/sites/2/2017/09/MobiliseYourCity_MRV_Approach.pdf). Basically all traffic within the city/country must be taken into account WITHIN the defined territory (traffic of inhabitants, incoming and outgoing traffic such as commuters, tourists, freight deliveries and so on)\n\nThe inventory is mandatory, the calculation of a BAU is not compulsory but necessary if a climate scenario is calculated. The climate scenario is optional. Please provide all input to the corresponding assessment (only for base year for inventory, for future years in the BAU sheet and eventually for the climate scenario in the climate sheets if wanted)."}]
[null,{"$f":"Language","v":"Language"},"English",null,{"$f":"MethodologyContent","v":"Methodology and content:"}]
[null,null,null,null,{"$f":"Text2b","v":"The tool contains several excel sheets. The sheets \"1A Input Base and BAU\", \"2A Input Climat Scen. Pass.\" and \"2B Input Climat Scen. Freight\" are the main sheets to be filled/reviewed by user. The Sheet \"1B Top-Down Validation\" may be used for a bottom-up vs. top-down comparison. All further sheets are for informational purposes only, no user input is required.\n\nIn this sheet (\"Get started\") users should schoose in the drop-down menu if the assessment is at the country or at the city level. Furthermore, users should write the name of the country or city to be assessed as well as the reference year and finally choose in the drop-down menu the preferred language (cells B5-C8).\n"}]
[null,{"$f":"warning","v":"Please note that data must be entered manually and the cells must not be copied into the designated fields for the input data (in green). Indeed it damages the automatic error detection and the layout"},null,null,{"$f":"Text2c","v":"Further required input data to calculate the GHG inventory and the BAU scenario (sheet \"1A Input Base and BAU\") are listed below:\n1. Socio-economic data \n- Population (Number of inhabitants)\n- GDP (Gross domestic product)\n2. Vehicle kilometers travelled (vkt) within the country/city. This input data can be provided for two different approaches:\n- The vkt approach: Direct input of the vehicle kilometers travelled for each vehicle category to be assessed for the reference year. This approach can often be applied, when data from a transport model are available. \n- The fleet approach: Required input data for the reference year are the number of vehicles (vehicle stock) and the annual average mileage (vkt/year) for each vehicle category to be assessed.\n- For both approaches the expected growth rate of the total vehicle kilometers travelled (vkt) should be given in order to calculate the Business-as-usual (BAU) scenario.\n3. Further required transportation data:\n- Average Load (freight transport) and average occupancy (passenger transport) per vehicle category\n- Distribution of the vkt by fuel type per vehicle category\n- Average fuel/energy consumption by category per vehicle category\n- CO2 content of the grid electricity production\n\nCountries/cities which can not provide all of the required data can contact the MobiliseYourCity secretariat to check if suitable data are available (http://mobiliseyourcity.net/partnership/secretariat/)."}]
[null,null,null,null,{"$f":"Text3","v":"With the calculated results from the reference year and the BAU, in the next sheet (\"1B Top-Down Validation\") a bottom-up vs. top-down (based on energy balance data) validation of the results of the tool can be done. This may especially be relevant for the national level.\n\nIn the sheets \"2A Input Climate Scen Pass\" and \"2B Input Climate Scen Freight\" effects of mitigation actions can be assessed. \nThe type of emissions to be considered within the tool (TTW: tank-to-wheel or WTW: well-to-wheel) can be selected in the tab \"3 Overview of results\".\nAll other tabs are tabs which contain calculations (in grey) or presenting results (in blue). In these sheets no user input is required.\n\nPlease note the color code applied within the tool (bottom right hand side): Users should only put data or adjust data in cells which are indicated green. \n\nThe developers are not responsible for the accuracy of the results. Any modification of the tool is the responsibility of the user.\n\nContext:\nThis tool was developed by the Institute for Energy and Environmental Research (ifeu - http://www.ifeu.de) in cooperation with the German and French development agencies GIZ and AFD.\nIt is not allowed to use the tool for commercial purposes.\n\nContact:\nMarie Colson (marie.colson@ifeu.de) or Dominik Räder (dominik.raeder@ifeu.de)\nWilckenstraße 3, 69120, Heidelberg, Germany\n\nLast update\nTool Version: 1.2  (04.05.2020)"}]
[]
[null,"Colour code"]
[null,"Data input"]
[null,"Data input disabled"]
[null,"Calculated cell"]
[null,"Default value"]
[]
[null,{"$f":"country","v":"Country"}]
[null,{"$f":"City","v":"City"}]

{"sheet":"1A Input Base and BAU","index":1,"n_rows":280,"n_cols":30,"rows_kept":280,"cut":false,"hidden":false,"merged":[[170,25,170,29],[170,10,170,14],[227,1,228,2],[227,3,227,8],[227,9,227,14],[221,17,221,18],[231,1,231,2],[96,1,98,1],[169,1,171,1],[169,3,171,3],[163,1,163,2],[169,25,169,29],[169,19,169,24],[97,3,97,8],[97,10,97,15],[71,1,72,1],[169,4,169,9],[71,7,72,7],[71,3,71,4],[71,6,72,6],[169,10,169,14],[96,2,98,2],[169,17,171,17],[169,18,171,18],[71,2,72,2],[170,4,170,9],[170,19,170,24],[19,1,19,3],[16,1,17,3],[16,4,17,4],[24,0,24,16],[4,3,11,16],[15,0,15,16],[2,3,2,16],[3,0,3,1],[16,11,16,15],[16,5,16,10],[18,1,18,3],[94,0,94,16],[167,0,167,16],[225,0,225,15],[93,0,93,16],[25,3,25,4],[27,3,27,4],[26,5,26,9],[46,2,46,7],[26,1,27,1],[46,1,47,1],[96,3,96,8],[96,10,96,15],[68,0,68,15],[69,0,69,16],[169,2,171,2]]}
[{"$f":"Tab","v":"Tab"},1]
[{"$f":"Candc","v":"Country and city"},{"$f":"'Get started'!C6","v":"xx"}]
[{"$f":"yearref","v":"Reference year"},{"$f":"'Get started'!C7","v":0},null,{"$f":"Text5","v":"1A Input base and BAU"}]
[]
[null,null,null,{"$f":"Text6","v":"In this sheet the GHG inventory for the reference year and a Business-As-Usual scenario can be calculated.\n\nThe required data is listed below:\n1. Socio-economic data\n- Population\n- GDP - Gross domestic product (if available)\n\n2. Vehicle kilometers travelled based on two possible approaches:\n- Either with transport model tool: Total vkt for each vehicle category for the base year\n- Or the fleet approach: Number of vehicles and the corresponding average yearly vkt per vehicle\nIt is possible to combine the approaches for different vehicle categories or for different years, but only one approach can be used per year and per vehicle category.\n- In both cases the expected growth in the BAU should be given for each period\n\n3. Further data\n- Load/occupancy and trip length\n- The breakdown of vkt by fuel type\n- The average fuel consumption per vehicle sub-category\n- The CO2 content of electricity\n\nGHG emissions from electric vehicles (due to electric energy consumption) are only taken into account if the WTW option is selected in the tab \"3 Overview of Results\"."}]
[]
[]
[]
[]
[]
[]
[]
[]
[]
[{"$f":"Descri12","v":"1) Socio-economic data "}]
[{"$f":"Descri13","v":"Description: Please enter the population and the gross domestic product (GDP) of your country/city for the reference year in the table below. For BAU scenario calculations please also enter corresponding annual growth rates.\nRemark: Data input for the population in the reference year is mandatory, data input for the GDP is optional - applied for key performance indicators (KPIs) in the sheet \"3 Overview of Results\"."}]
[null,null,null,null,{"$f":"Unit","v":"Unit"},{"$f":"Values","v":"Values"},null,null,null,null,null,{"$f":"Growth","v":"Annual growth rate [%]"}]
[null,null,null,null,null,{"$f":"$B$3","v":0},2020,2025,2030,2040,2050,{"$f":"$B$3& -2020","v":"0-2020"},"2020-2025","2025-2030","2030-2040","2040-2050"]
[null,{"$f":"Population","v":"Population"},null,null,{"$f":"numberinhab","v":"Number of inhabitants"},null,{"$f":"IF(F19<>\"\",+F19*((1+L19)^(G$18-F$18)),\"\")","v":""},{"$f":"IF(F19<>\"\",+G19*((1+M19)^(H$18-G$18)),\"\")","v":""},{"$f":"IF(F19<>\"\",+H19*((1+N19)^(I$18-H$18)),\"\")","v":""},{"$f":"IF(F19<>\"\",+I19*((1+O19)^(J$18-I$18)),\"\")","v":""},{"$f":"IF(F19<>\"\",+J19*((1+P19)^(K$18-J$18)),\"\")","v":""}]
[null,{"$f":"GDP","v":"Gross domestic product (GDP)"},null,null,{"$f":"BillionUSD","v":"Bin USD "},null,{"$f":"IF(F20<>\"\",+F20*((1+L19)^(G$18-F$18)),\"\")","v":""},{"$f":"IF(F20<>\"\",+G20*((1+M20)^(H$18-G$18)),\"\")","v":""},{"$f":"IF(F20<>\"\",+H20*((1+N20)^(I$18-H$18)),\"\")","v":""},{"$f":"IF(F20<>\"\",+I20*((1+O20)^(J$18-I$18)),\"\")","v":""},{"$f":"IF(F20<>\"\",+J20*((1+P20)^(K$18-J$18)),\"\")","v":""}]
[null,{"$f":"Source","v":"Source"}]
[]
[]
[{"$f":"Descri14","v":"2) Vehicle kilometers travelled (vkt)"}]
[{"$f":"Descri15","v":"Description: Please enter the transport performances (Mio person-kilometers) in the table on the left as well as the vehicle kilometers travelled (Mio km) in the table on the right delivered by the transport plannig tool for the reference year (mandatory). For BAU calculations please enter the vkt for the corresponding years in the same way.\nRemark 1: Definitions and short descriptions of each vehicle category can be found in the sheet \"7 Sources and abbreviation\"."}]
[null,null,{"$f":"Mileageapp","v":"1. Vkt approach"},{"$f":"Fleetapproach","v":"2. Fleet approach"}]
[null,{"$f":"Subcategory","v":"Subcategory"},{"$f":"Tmileage","v":"Total vkt per vehicle category [Mio. km/year]"},{"$f":"Vehiclestock","v":"Vehicle stock [total number of vehicles]"},{"$f":"vktfleet","v":"Average annual mileage per vehicle [km/vehicle/year]"},{"$f":"Growthmileage","v":"Annual growth of vkt per period  [%]"}]
[null,null,{"$f":"$B$3","v":0},{"$f":"$B$3","v":0},null,{"$f":"$B$3& -2020","v":"0-2020"},"2020-2025","2025-2030","2030-2040","2040-2050"]
[null,{"$f":"NMV","v":"NMT"}]
[null,{"$f":"Pcar","v":"Private car"}]
[null,{"$f":"Itaxi","v":"Individual taxi"}]
[null,{"$f":"Motorcycle","v":"Motorcycle"}]
[null,{"$f":"Mototaxi","v":"Motorcycle taxi"}]
[null,{"$f":"Minibus","v":"Minibus"}]
[null,{"$f":"Bus","v":"Bus"}]
[null,{"$f":"BRT","v":"BRT"}]
[null,{"$f":"Train","v":"Long distance train"}]
[null,{"$f":"Utrain","v":"Urban train"}]
[null,{"$f":"Metro","v":"Metro"}]
[null,{"$f":"lightLCV","v":"Very light LCV"}]
[null,{"$f":"LCV","v":"LCV"}]
[null,{"$f":"Solo","v":"Solo truck"}]
[null,{"$f":"Atruck","v":"Articulated truck"}]
[null,{"$f":"Ftrain","v":"Freight train"}]
[null,{"$f":"Source","v":"Source"}]
[]
[{"$f":"Results","v":"Results"},{"$f":"Subcategory","v":"Subcategory"},{"$f":"Milannualkm","v":"Vehicle kilometers travelled [Mio. km]"}]
[null,null,{"$f":"$B$3","v":0},2020,2025,2030,2040,2050]
[null,{"$f":"NMV","v":"NMT"},{"$f":"IF(C29<>\"\",C29,IF(D29<>\"\",D29*E29*10^-6,\"\"))","v":""},{"$f":"IF(C49<>\"\",C49*((1+F29)^(D$48-C$48)),\"\")","v":""},{"$f":"IF(D49<>\"\",D49*((1+G29)^(E$48-D$48)),\"\")","v":""},{"$f":"IF(E49<>\"\",E49*((1+H29)^(F$48-E$48)),\"\")","v":""},{"$f":"IF(F49<>\"\",F49*((1+I29)^(G$48-F$48)),\"\")","v":""},{"$f":"IF(G49<>\"\",G49*((1+J29)^(H$48-G$48)),\"\")","v":""}]
[null,{"$f":"Pcar","v":"Private car"},{"$f":"IF(C30<>\"\",C30,IF(D30<>\"\",D30*E30*10^-6,\"\"))","v":""},{"$f":"IF(C50<>\"\",C50*((1+F30)^(D$48-C$48)),\"\")","v":""},{"$f":"IF(D50<>\"\",D50*((1+G30)^(E$48-D$48)),\"\")","v":""},{"$f":"IF(E50<>\"\",E50*((1+H30)^(F$48-E$48)),\"\")","v":""},{"$f":"IF(F50<>\"\",F50*((1+I30)^(G$48-F$48)),\"\")","v":""},{"$f":"IF(G50<>\"\",G50*((1+J30)^(H$48-G$48)),\"\")","v":""}]
[null,{"$f":"Itaxi","v":"Individual taxi"},{"$f":"IF(C31<>\"\",C31,IF(D31<>\"\",D31*E31*10^-6,\"\"))","v":""},"","","","",""]
[null,{"$f":"Motorcycle","v":"Motorcycle"},{"$f":"IF(C32<>\"\",C32,IF(D32<>\"\",D32*E32*10^-6,\"\"))","v":""},"","","","",""]
[null,{"$f":"Mototaxi","v":"Motorcycle taxi"},"","","","","",""]
[null,{"$f":"Minibus","v":"Minibus"},"","","","","",""]
[null,{"$f":"Bus","v":"Bus"},"","","","","",""]
[null,{"$f":"BRT","v":"BRT"},"","","","","",""]
[null,{"$f":"Train","v":"Long distance train"},"","","","","",""]
[null,{"$f":"Utrain","v":"Urban train"},"","","","","",""]
[null,{"$f":"Metro","v":"Metro"},"","","","","",""]
[null,{"$f":"lightLCV","v":"Very light LCV"},"","","","","",""]
[null,{"$f":"LCV","v":"LCV"},"","","","","",""]
[null,{"$f":"Solo","v":"Solo truck"},"","","","","",""]
[null,{"$f":"Atruck","v":"Articulated truck"},"","","","","",""]
[null,{"$f":"Ftrain","v":"Freight train"},"","","","","",""]
[null,{"$f":"Total","v":"Sum"},{"$f":"IF(SUM(C49:C64)>0,SUM(C49:C64),\"\")","v":""},{"$f":"IF(SUM(D49:D64)>0,SUM(D49:D64),\"\")","v":""},"","","",""]
[]
[]
[{"$f":"Descri19","v":" 3.i) Load, occupancy and average trip length"}]
[{"$f":"Descri20","v":"Description: Please enter the occupancy for passenger vehicles (average number of passengers per vehicle) and the load for freight vehicles (average load per vehicle in tones). \nRemark 1: These values are used both for inventory and BAU purposes\nRemark 2: Conventionally drivers of public transport are not included as there are not passengers (incl. taxi), but for private transport drivers should be included if they travel for their own sake."}]
[{"$f":"Descri18","v":"Remark 2: Local (national/city) data can be used if available and robust. Otherwise for cities it is recommended to use national data and for countries to use regional specific data. If you do not have data available please get in touch with MYC secretariat to check if data are available for your country/city."}]
[]
[null,{"$f":"Subcategory","v":"Subcategory"},{"$f":"Unit","v":"Unit"},{"$f":"OccupancyLoad","v":"Average occupancy and load"},null,null,{"$f":"Subcategory","v":"Subcategory"},{"$f":"avtriplength","v":"Av. BAU trip length (km)"}]
[null,null,null,{"$f":"local","v":"local data"},{"$f":"default","v":"default values"}]
[null,{"$f":"NMV","v":"NMT"},{"$f":"Passpvehic","v":"Passengers/vehicle"},1,{"$f":"IF('Get started'!$B$6=Referencing!$B$385,'5 Default values'!C16,\"\")","v":""},null,{"$f":"NMV","v":"NMT"}]
[null,{"$f":"Pcar","v":"Private car"},"Passengers/vehicle",null,{"$f":"IF('Get started'!$B$6=Referencing!$B$385,'5 Default values'!C17,\"\")","v":""},null,{"$f":"Pcar","v":"Private car"}]
[null,{"$f":"Itaxi","v":"Individual taxi"},"Passengers/vehicle",null,{"$f":"IF('Get started'!$B$6=Referencing!$B$385,'5 Default values'!C18,\"\")","v":""},null,{"$f":"Itaxi","v":"Individual taxi"}]
[null,{"$f":"Motorcycle","v":"Motorcycle"},"Passengers/vehicle",null,{"$f":"IF('Get started'!$B$6=Referencing!$B$385,'5 Default values'!C19,\"\")","v":""},null,{"$f":"Motorcycle","v":"Motorcycle"}]
[null,{"$f":"Mototaxi","v":"Motorcycle taxi"},"Passengers/vehicle",null,{"$f":"IF('Get started'!$B$6=Referencing!$B$385,'5 Default values'!C20,\"\")","v":""},null,{"$f":"Mototaxi","v":"Motorcycle taxi"}]
[null,{"$f":"Minibus","v":"Minibus"},"Passengers/vehicle",null,{"$f":"IF('Get started'!$B$6=Referencing!$B$385,'5 Default values'!C21,\"\")","v":""},null,{"$f":"Minibus","v":"Minibus"}]
[null,{"$f":"Bus","v":"Bus"},"Passengers/vehicle",null,{"$f":"IF('Get started'!$B$6=Referencing!$B$385,'5 Default values'!C22,\"\")","v":""},null,{"$f":"Bus","v":"Bus"}]
[null,{"$f":"BRT","v":"BRT"},"Passengers/vehicle",null,{"$f":"IF('Get started'!$B$6=Referencing!$B$385,'5 Default values'!C23,\"\")","v":""},null,{"$f":"BRT","v":"BRT"}]
[null,{"$f":"Train","v":"Long distance train"},"Passengers/vehicle",null,{"$f":"IF('Get started'!$B$6=Referencing!$B$385,'5 Default values'!C24,\"\")","v":""},null,{"$f":"Train","v":"Long distance train"}]
[null,{"$f":"Utrain","v":"Urban train"},"Passengers/vehicle",null,{"$f":"IF('Get started'!$B$6=Referencing!$B$385,'5 Default values'!C25,\"\")","v":""},null,{"$f":"Utrain","v":"Urban train"}]
[null,{"$f":"Metro","v":"Metro"},"Passengers/vehicle",null,{"$f":"IF('Get started'!$B$6=Referencing!$B$385,'5 Default values'!C26,\"\")","v":""},null,{"$f":"Metro","v":"Metro"}]
[null,{"$f":"lightLCV","v":"Very light LCV"},{"$f":"ton","v":"load: tons/vehicle"},null,{"$f":"IF('Get started'!$B$6=Referencing!$B$385,'5 Default values'!C27,\"\")","v":""},null,{"$f":"Source","v":"Source"}]
[null,{"$f":"LCV","v":"LCV"},"load: tons/vehicle",null,{"$f":"IF('Get started'!$B$6=Referencing!$B$385,'5 Default values'!C28,\"\")","v":""}]
[null,{"$f":"Solo","v":"Solo truck"},"load: tons/vehicle",null,{"$f":"IF('Get started'!$B$6=Referencing!$B$385,'5 Default values'!C29,\"\")","v":""}]
[null,{"$f":"Atruck","v":"Articulated truck"},"load: tons/vehicle",null,{"$f":"IF('Get started'!$B$6=Referencing!$B$385,'5 Default values'!C30,\"\")","v":""}]
[null,{"$f":"Ftrain","v":"Freight train"},"load: tons/vehicle",null,{"$f":"IF('Get started'!$B$6=Referencing!$B$385,'5 Default values'!C31,\"\")","v":""}]
[null,{"$f":"Source","v":"Source"}]
[]
[]
[{"$f":"Descri21","v":"3.ii) Vehicle kilometers travelled breakdown by fuel type"}]
[{"$f":"Descri22","v":"Description: Please enter the percentage of vehicle kilometers travelled (vkt) per vehicle category and fuel type for the reference year and for future years "}]
[{"$f":"Descri23","v":"Remark 1: The sum of shares in each vehicle category must be 100 %."}]
[{"$f":"Descri26","v":"Remark 2: National default data - if available - can be considered for data input. Please see the columns on the right hand side (indicated orange)."}]
[null,{"$f":"Subcategory","v":"Subcategory"},{"$f":"Fuel","v":"Fuel type"},{"$f":"Mileagecat","v":"Vehicle kilometers travelled (vkt) by category [%]"},null,null,null,null,null,null,{"$f":"Mileagecat","v":"Vehicle kilometers travelled (vkt) by category [%]"}]
[null,null,null,{"$f":"local","v":"local data"},null,null,null,null,null,null,{"$f":"default","v":"default values"}]
[null,null,null,{"$f":"$B$3","v":0},2020,2025,2030,2040,2050,null,{"$f":"$B$3","v":0},2020,2025,2030,2040,2050]
[null,{"$f":"NMT","v":"NMT"},{"$f":"nd","v":"n.d."},1,1,1,1,1,1,null,{"$f":"IF('Get started'!$B$6=Referencing!$B$385,'5 Default values'!C39,\"\")","v":""},{"$f":"IF('Get started'!$B$6=Referencing!$B$385,'5 Default values'!D39,\"\")","v":""},{"$f":"IF('Get started'!$B$6=Referencing!$B$385,'5 Default values'!E39,\"\")","v":""},{"$f":"IF('Get started'!$B$6=Referencing!$B$385,'5 Default values'!F39,\"\")","v":""},{"$f":"IF('Get started'!$B$6=Referencing!$B$385,'5 Default values'!G39,\"\")","v":""},{"$f":"IF('Get started'!$B$6=Referencing!$B$385,'5 Default values'!H39,\"\")","v":""}]
[null,{"$f":"Pcar","v":"Private car"},{"$f":"all","v":"all"},{"$f":"IF($C$50>0,SUM(D102:D107),\"-\")","v":0},{"$f":"IF($C$50>0,SUM(E102:E107),\"-\")","v":0},0,0,0,0,null,{"$f":"IF('Get started'!$B$6=Referencing!$B$385,'5 Default values'!C40,\"\")","v":""},{"$f":"IF('Get started'!$B$6=Referencing!$B$385,'5 Default values'!D40,\"\")","v":""},{"$f":"IF('Get started'!$B$6=Referencing!$B$385,'5 Default values'!E40,\"\")","v":""},{"$f":"IF('Get started'!$B$6=Referencing!$B$385,'5 Default values'!F40,\"\")","v":""},{"$f":"IF('Get started'!$B$6=Referencing!$B$385,'5 Default values'!G40,\"\")","v":""},{"$f":"IF('Get started'!$B$6=Referencing!$B$385,'5 Default values'!H40,\"\")","v":""}]
[null,"Private car",{"$f":"Gasoline","v":"Gasoline"},null,null,null,null,null,null,null,{"$f":"IF('Get started'!$B$6=Referencing!$B$385,'5 Default values'!C41,\"\")","v":""},{"$f":"IF('Get started'!$B$6=Referencing!$B$385,'5 Default values'!D41,\"\")","v":""},{"$f":"IF('Get started'!$B$6=Referencing!$B$385,'5 Default values'!E41,\"\")","v":""},{"$f":"IF('Get started'!$B$6=Referencing!$B$385,'5 Default values'!F41,\"\")","v":""},{"$f":"IF('Get started'!$B$6=Referencing!$B$385,'5 Default values'!G41,\"\")","v":""},{"$f":"IF('Get started'!$B$6=Referencing!$B$385,'5 Default values'!H41,\"\")","v":""}]
[null,"Private car",{"$f":"Diesel","v":"Diesel"},null,null,null,null,null,null,null,{"$f":"IF('Get started'!$B$6=Referencing!$B$385,'5 Default values'!C42,\"\")","v":""},{"$f":"IF('Get started'!$B$6=Referencing!$B$385,'5 Default values'!D42,\"\")","v":""},{"$f":"IF('Get started'!$B$6=Referencing!$B$385,'5 Default values'!E42,\"\")","v":""},{"$f":"IF('Get started'!$B$6=Referencing!$B$385,'5 Default values'!F42,\"\")","v":""},{"$f":"IF('Get started'!$B$6=Referencing!$B$385,'5 Default values'!G42,\"\")","v":""},{"$f":"IF('Get started'!$B$6=Referencing!$B$385,'5 Default values'!H42,\"\")","v":""}]
[null,"Private car",{"$f":"LPG","v":"LPG"},null,null,null,null,null,null,null,{"$f":"IF('Get started'!$B$6=Referencing!$B$385,'5 Default values'!C43,\"\")","v":""},{"$f":"IF('Get started'!$B$6=Referencing!$B$385,'5 Default values'!D43,\"\")","v":""},{"$f":"IF('Get started'!$B$6=Referencing!$B$385,'5 Default values'!E43,\"\")","v":""},{"$f":"IF('Get started'!$B$6=Referencing!$B$385,'5 Default values'!F43,\"\")","v":""},{"$f":"IF('Get started'!$B$6=Referencing!$B$385,'5 Default values'!G43,\"\")","v":""},{"$f":"IF('Get started'!$B$6=Referencing!$B$385,'5 Default values'!H43,\"\")","v":""}]
[null,"Private car",{"$f":"NG","v":"NG"},null,null,null,null,null,null,null,{"$f":"IF('Get started'!$B$6=Referencing!$B$385,'5 Default values'!C44,\"\")","v":""},{"$f":"IF('Get started'!$B$6=Referencing!$B$385,'5 Default values'!D44,\"\")","v":""},{"$f":"IF('Get started'!$B$6=Referencing!$B$385,'5 Default values'!E44,\"\")","v":""},{"$f":"IF('Get started'!$B$6=Referencing!$B$385,'5 Default values'!F44,\"\")","v":""},{"$f":"IF('Get started'!$B$6=Referencing!$B$385,'5 Default values'!G44,\"\")","v":""},{"$f":"IF('Get started'!$B$6=Referencing!$B$385,'5 Default values'!H44,\"\")","v":""}]
[null,"Private car",{"$f":"Hybrid","v":"Hybrid"},null,null,null,null,null,null,null,{"$f":"IF('Get started'!$B$6=Referencing!$B$385,'5 Default values'!C45,\"\")","v":""},{"$f":"IF('Get started'!$B$6=Referencing!$B$385,'5 Default values'!D45,\"\")","v":""},{"$f":"IF('Get started'!$B$6=Referencing!$B$385,'5 Default values'!E45,\"\")","v":""},{"$f":"IF('Get started'!$B$6=Referencing!$B$385,'5 Default values'!F45,\"\")","v":""},{"$f":"IF('Get started'!$B$6=Referencing!$B$385,'5 Default values'!G45,\"\")","v":""},{"$f":"IF('Get started'!$B$6=Referencing!$B$385,'5 Default values'!H45,\"\")","v":""}]
[null,"Private car",{"$f":"Electric","v":"Electric"},null,null,null,null,null,null,null,{"$f":"IF('Get started'!$B$6=Referencing!$B$385,'5 Default values'!C46,\"\")","v":""},{"$f":"IF('Get started'!$B$6=Referencing!$B$385,'5 Default values'!D46,\"\")","v":""},{"$f":"IF('Get started'!$B$6=Referencing!$B$385,'5 Default values'!E46,\"\")","v":""},{"$f":"IF('Get started'!$B$6=Referencing!$B$385,'5 Default values'!F46,\"\")","v":""},{"$f":"IF('Get started'!$B$6=Referencing!$B$385,'5 Default values'!G46,\"\")","v":""},{"$f":"IF('Get started'!$B$6=Referencing!$B$385,'5 Default values'!H46,\"\")","v":""}]
[null,{"$f":"Itaxi","v":"Individual taxi"},{"$f":"all","v":"all"},{"$f":"IF($C$51>0,SUM(D109:D114),\"-\")","v":0},0,0,0,0,0,null,{"$f":"IF('Get started'!$B$6=Referencing!$B$385,'5 Default values'!C47,\"\")","v":""},{"$f":"IF('Get started'!$B$6=Referencing!$B$385,'5 Default values'!D47,\"\")","v":""},{"$f":"IF('Get started'!$B$6=Referencing!$B$385,'5 Default values'!E47,\"\")","v":""},{"$f":"IF('Get started'!$B$6=Referencing!$B$385,'5 Default values'!F47,\"\")","v":""},{"$f":"IF('Get started'!$B$6=Referencing!$B$385,'5 Default values'!G47,\"\")","v":""},{"$f":"IF('Get started'!$B$6=Referencing!$B$385,'5 Default values'!H47,\"\")","v":""}]
[null,{"$f":"Itaxi","v":"Individual taxi"},{"$f":"Gasoline","v":"Gasoline"},null,null,null,null,null,null,null,{"$f":"IF('Get started'!$B$6=Referencing!$B$385,'5 Default values'!C48,\"\")","v":""},{"$f":"IF('Get started'!$B$6=Referencing!$B$385,'5 Default values'!D48,\"\")","v":""},{"$f":"IF('Get started'!$B$6=Referencing!$B$385,'5 Default values'!E48,\"\")","v":""},{"$f":"IF('Get started'!$B$6=Referencing!$B$385,'5 Default values'!F48,\"\")","v":""},{"$f":"IF('Get started'!$B$6=Referencing!$B$385,'5 Default values'!G48,\"\")","v":""},{"$f":"IF('Get started'!$B$6=Referencing!$B$385,'5 Default values'!H48,\"\")","v":""}]
[null,"Individual taxi",{"$f":"Diesel","v":"Diesel"},null,null,null,null,null,null,null,{"$f":"IF('Get started'!$B$6=Referencing!$B$385,'5 Default values'!C49,\"\")","v":""},{"$f":"IF('Get started'!$B$6=Referencing!$B$385,'5 Default values'!D49,\"\")","v":""},{"$f":"IF('Get started'!$B$6=Referencing!$B$385,'5 Default values'!E49,\"\")","v":""},{"$f":"IF('Get started'!$B$6=Referencing!$B$385,'5 Default values'!F49,\"\")","v":""},{"$f":"IF('Get started'!$B$6=Referencing!$B$385,'5 Default values'!G49,\"\")","v":""},{"$f":"IF('Get started'!$B$6=Referencing!$B$385,'5 Default values'!H49,\"\")","v":""}]
[null,"Individual taxi",{"$f":"LPG","v":"LPG"},null,null,null,null,null,null,null,{"$f":"IF('Get started'!$B$6=Referencing!$B$385,'5 Default values'!C50,\"\")","v":""},{"$f":"IF('Get started'!$B$6=Referencing!$B$385,'5 Default values'!D50,\"\")","v":""},{"$f":"IF('Get started'!$B$6=Referencing!$B$385,'5 Default values'!E50,\"\")","v":""},{"$f":"IF('Get started'!$B$6=Referencing!$B$385,'5 Default values'!F50,\"\")","v":""},{"$f":"IF('Get started'!$B$6=Referencing!$B$385,'5 Default values'!G50,\"\")","v":""},{"$f":"IF('Get started'!$B$6=Referencing!$B$385,'5 Default values'!H50,\"\")","v":""}]
[null,"Individual taxi",{"$f":"NG","v":"NG"},null,null,null,null,null,null,null,{"$f":"IF('Get started'!$B$6=Referencing!$B$385,'5 Default values'!C51,\"\")","v":""},{"$f":"IF('Get started'!$B$6=Referencing!$B$385,'5 Default values'!D51,\"\")","v":""},{"$f":"IF('Get started'!$B$6=Referencing!$B$385,'5 Default values'!E51,\"\")","v":""},{"$f":"IF('Get started'!$B$6=Referencing!$B$385,'5 Default values'!F51,\"\")","v":""},{"$f":"IF('Get started'!$B$6=Referencing!$B$385,'5 Default values'!G51,\"\")","v":""},{"$f":"IF('Get started'!$B$6=Referencing!$B$385,'5 Default values'!H51,\"\")","v":""}]
[null,"Individual taxi",{"$f":"Hybrid","v":"Hybrid"},null,null,null,null,null,null,null,{"$f":"IF('Get started'!$B$6=Referencing!$B$385,'5 Default values'!C52,\"\")","v":""},{"$f":"IF('Get started'!$B$6=Referencing!$B$385,'5 Default values'!D52,\"\")","v":""},{"$f":"IF('Get started'!$B$6=Referencing!$B$385,'5 Default values'!E52,\"\")","v":""},{"$f":"IF('Get started'!$B$6=Referencing!$B$385,'5 Default values'!F52,\"\")","v":""},{"$f":"IF('Get started'!$B$6=Referencing!$B$385,'5 Default values'!G52,\"\")","v":""},{"$f":"IF('Get started'!$B$6=Referencing!$B$385,'5 Default values'!H52,\"\")","v":""}]
[null,"Individual taxi",{"$f":"Electric","v":"Electric"},null,null,null,null,null,null,null,{"$f":"IF('Get started'!$B$6=Referencing!$B$385,'5 Default values'!C53,\"\")","v":""},{"$f":"IF('Get started'!$B$6=Referencing!$B$385,'5 Default values'!D53,\"\")","v":""},{"$f":"IF('Get started'!$B$6=Referencing!$B$385,'5 Default values'!E53,\"\")","v":""},{"$f":"IF('Get started'!$B$6=Referencing!$B$385,'5 Default values'!F53,\"\")","v":""},{"$f":"IF('Get started'!$B$6=Referencing!$B$385,'5 Default values'!G53,\"\")","v":""},{"$f":"IF('Get started'!$B$6=Referencing!$B$385,'5 Default values'!H53,\"\")","v":""}]
[null,{"$f":"Motorcycle","v":"Motorcycle"},{"$f":"all","v":"all"},{"$f":"IF($C$52>0,SUM(D116:D117),\"-\")","v":0},{"$f":"IF($C$52>0,SUM(E116:E117),\"-\")","v":0},0,0,0,0,null,{"$f":"IF('Get started'!$B$6=Referencing!$B$385,'5 Default values'!C54,\"\")","v":""},{"$f":"IF('Get started'!$B$6=Referencing!$B$385,'5 Default values'!D54,\"\")","v":""},{"$f":"IF('Get started'!$B$6=Referencing!$B$385,'5 Default values'!E54,\"\")","v":""},{"$f":"IF('Get started'!$B$6=Referencing!$B$385,'5 Default values'!F54,\"\")","v":""},{"$f":"IF('Get started'!$B$6=Referencing!$B$385,'5 Default values'!G54,\"\")","v":""},{"$f":"IF('Get started'!$B$6=Referencing!$B$385,'5 Default values'!H54,\"\")","v":""}]
[null,{"$f":"Motorcycle","v":"Motorcycle"},{"$f":"Gasoline","v":"Gasoline"},null,null,null,null,null,null,null,{"$f":"IF('Get started'!$B$6=Referencing!$B$385,'5 Default values'!C55,\"\")","v":""},{"$f":"IF('Get started'!$B$6=Referencing!$B$385,'5 Default values'!D55,\"\")","v":""},{"$f":"IF('Get started'!$B$6=Referencing!$B$385,'5 Default values'!E55,\"\")","v":""},{"$f":"IF('Get started'!$B$6=Referencing!$B$385,'5 Default values'!F55,\"\")","v":""},{"$f":"IF('Get started'!$B$6=Referencing!$B$385,'5 Default values'!G55,\"\")","v":""},{"$f":"IF('Get started'!$B$6=Referencing!$B$385,'5 Default values'!H55,\"\")","v":""}]
[null,{"$f":"Motorcycle","v":"Motorcycle"},{"$f":"Electric","v":"Electric"},null,null,null,null,null,null,null,{"$f":"IF('Get started'!$B$6=Referencing!$B$385,'5 Default values'!C56,\"\")","v":""},{"$f":"IF('Get started'!$B$6=Referencing!$B$385,'5 Default values'!D56,\"\")","v":""},{"$f":"IF('Get started'!$B$6=Referencing!$B$385,'5 Default values'!E56,\"\")","v":""},{"$f":"IF('Get started'!$B$6=Referencing!$B$385,'5 Default values'!F56,\"\")","v":""},{"$f":"IF('Get started'!$B$6=Referencing!$B$385,'5 Default values'!G56,\"\")","v":""},{"$f":"IF('Get started'!$B$6=Referencing!$B$385,'5 Default values'!H56,\"\")","v":""}]
[null,{"$f":"Mototaxi","v":"Motorcycle taxi"},{"$f":"all","v":"all"},{"$f":"IF($C$53>0,SUM(D119:D120),\"-\")","v":0},{"$f":"IF($C$53>0,SUM(E119:E120),\"-\")","v":0},0,0,0,0,null,{"$f":"IF('Get started'!$B$6=Referencing!$B$385,'5 Default values'!C57,\"\")","v":""},{"$f":"IF('Get started'!$B$6=Referencing!$B$385,'5 Default values'!D57,\"\")","v":""},{"$f":"IF('Get started'!$B$6=Referencing!$B$385,'5 Default values'!E57,\"\")","v":""},{"$f":"IF('Get started'!$B$6=Referencing!$B$385,'5 Default values'!F57,\"\")","v":""},{"$f":"IF('Get started'!$B$6=Referencing!$B$385,'5 Default values'!G57,\"\")","v":""},{"$f":"IF('Get started'!$B$6=Referencing!$B$385,'5 Default values'!H57,\"\")","v":""}]
[null,{"$f":"Mototaxi","v":"Motorcycle taxi"},{"$f":"Gasoline","v":"Gasoline"},null,null,null,null,null,null,null,{"$f":"IF('Get started'!$B$6=Referencing!$B$385,'5 Default values'!C58,\"\")","v":""},{"$f":"IF('Get started'!$B$6=Referencing!$B$385,'5 Default values'!D58,\"\")","v":""},{"$f":"IF('Get started'!$B$6=Referencing!$B$385,'5 Default values'!E58,\"\")","v":""},{"$f":"IF('Get started'!$B$6=Referencing!$B$385,'5 Default values'!F58,\"\")","v":""},{"$f":"IF('Get started'!$B$6=Referencing!$B$385,'5 Default values'!G58,\"\")","v":""},{"$f":"IF('Get started'!$B$6=Referencing!$B$385,'5 Default values'!H58,\"\")","v":""}]
[null,{"$f":"Mototaxi","v":"Motorcycle taxi"},{"$f":"Electric","v":"Electric"},null,null,null,null,null,null,null,{"$f":"IF('Get started'!$B$6=Referencing!$B$385,'5 Default values'!C59,\"\")","v":""},{"$f":"IF('Get started'!$B$6=Referencing!$B$385,'5 Default values'!D59,\"\")","v":""},{"$f":"IF('Get started'!$B$6=Referencing!$B$385,'5 Default values'!E59,\"\")","v":""},{"$f":"IF('Get started'!$B$6=Referencing!$B$385,'5 Default values'!F59,\"\")","v":""},{"$f":"IF('Get started'!$B$6=Referencing!$B$385,'5 Default values'!G59,\"\")","v":""},{"$f":"IF('Get started'!$B$6=Referencing!$B$385,'5 Default values'!H59,\"\")","v":""}]
[null,{"$f":"Minibus","v":"Minibus"},{"$f":"all","v":"all"},{"$f":"IF($C$54>0,SUM(D122:D127),\"-\")","v":0},0,0,0,0,0,null,{"$f":"IF('Get started'!$B$6=Referencing!$B$385,'5 Default values'!C60,\"\")","v":""},{"$f":"IF('Get started'!$B$6=Referencing!$B$385,'5 Default values'!D60,\"\")","v":""},{"$f":"IF('Get started'!$B$6=Referencing!$B$385,'5 Default values'!E60,\"\")","v":""},{"$f":"IF('Get started'!$B$6=Referencing!$B$385,'5 Default values'!F60,\"\")","v":""},{"$f":"IF('Get started'!$B$6=Referencing!$B$385,'5 Default values'!G60,\"\")","v":""},{"$f":"IF('Get started'!$B$6=Referencing!$B$385,'5 Default values'!H60,\"\")","v":""}]
[null,"Minibus",{"$f":"Gasoline","v":"Gasoline"},null,null,null,null,null,null,null,{"$f":"IF('Get started'!$B$6=Referencing!$B$385,'5 Default values'!C61,\"\")","v":""},{"$f":"IF('Get started'!$B$6=Referencing!$B$385,'5 Default values'!D61,\"\")","v":""},{"$f":"IF('Get started'!$B$6=Referencing!$B$385,'5 Default values'!E61,\"\")","v":""},{"$f":"IF('Get started'!$B$6=Referencing!$B$385,'5 Default values'!F61,\"\")","v":""},{"$f":"IF('Get started'!$B$6=Referencing!$B$385,'5 Default values'!G61,\"\")","v":""},{"$f":"IF('Get started'!$B$6=Referencing!$B$385,'5 Default values'!H61,\"\")","v":""}]
[null,"Minibus",{"$f":"Diesel","v":"Diesel"},null,null,null,null,null,null,null,{"$f":"IF('Get started'!$B$6=Referencing!$B$385,'5 Default values'!C62,\"\")","v":""},{"$f":"IF('Get started'!$B$6=Referencing!$B$385,'5 Default values'!D62,\"\")","v":""},{"$f":"IF('Get started'!$B$6=Referencing!$B$385,'5 Default values'!E62,\"\")","v":""},{"$f":"IF('Get started'!$B$6=Referencing!$B$385,'5 Default values'!F62,\"\")","v":""},{"$f":"IF('Get started'!$B$6=Referencing!$B$385,'5 Default values'!G62,\"\")","v":""},{"$f":"IF('Get started'!$B$6=Referencing!$B$385,'5 Default values'!H62,\"\")","v":""}]
[null,"Minibus",{"$f":"LPG","v":"LPG"},null,null,null,null,null,null,null,{"$f":"IF('Get started'!$B$6=Referencing!$B$385,'5 Default values'!C63,\"\")","v":""},{"$f":"IF('Get started'!$B$6=Referencing!$B$385,'5 Default values'!D63,\"\")","v":""},{"$f":"IF('Get started'!$B$6=Referencing!$B$385,'5 Default values'!E63,\"\")","v":""},{"$f":"IF('Get started'!$B$6=Referencing!$B$385,'5 Default values'!F63,\"\")","v":""},{"$f":"IF('Get started'!$B$6=Referencing!$B$385,'5 Default values'!G63,\"\")","v":""},{"$f":"IF('Get started'!$B$6=Referencing!$B$385,'5 Default values'!H63,\"\")","v":""}]
[null,"Minibus",{"$f":"NG","v":"NG"},null,null,null,null,null,null,null,{"$f":"IF('Get started'!$B$6=Referencing!$B$385,'5 Default values'!C64,\"\")","v":""},{"$f":"IF('Get started'!$B$6=Referencing!$B$385,'5 Default values'!D64,\"\")","v":""},{"$f":"IF('Get started'!$B$6=Referencing!$B$385,'5 Default values'!E64,\"\")","v":""},{"$f":"IF('Get started'!$B$6=Referencing!$B$385,'5 Default values'!F64,\"\")","v":""},{"$f":"IF('Get started'!$B$6=Referencing!$B$385,'5 Default values'!G64,\"\")","v":""},{"$f":"IF('Get started'!$B$6=Referencing!$B$385,'5 Default values'!H64,\"\")","v":""}]
[null,"Minibus",{"$f":"Hybrid","v":"Hybrid"}]
[null,"Minibus",{"$f":"Electric","v":"Electric"}]
[null,{"$f":"Bus","v":"Bus"},{"$f":"all","v":"all"},{"$f":"IF($C$55>0,SUM(D129:D132),\"-\")","v":0},{"$f":"IF($C$55>0,SUM(E129:E132),\"-\")","v":0},0,0,0,0,null,{"$f":"IF('Get started'!$B$6=Referencing!$B$385,'5 Default values'!C66,\"\")","v":""},{"$f":"IF('Get started'!$B$6=Referencing!$B$385,'5 Default values'!D66,\"\")","v":""},{"$f":"IF('Get started'!$B$6=Referencing!$B$385,'5 Default values'!E66,\"\")","v":""},{"$f":"IF('Get started'!$B$6=Referencing!$B$385,'5 Default values'!F66,\"\")","v":""},{"$f":"IF('Get started'!$B$6=Referencing!$B$385,'5 Default values'!G66,\"\")","v":""},{"$f":"IF('Get started'!$B$6=Referencing!$B$385,'5 Default values'!H66,\"\")","v":""}]
[null,{"$f":"Bus","v":"Bus"},{"$f":"Diesel","v":"Diesel"},null,null,null,null,null,null,null,{"$f":"IF('Get started'!$B$6=Referencing!$B$385,'5 Default values'!C67,\"\")","v":""},{"$f":"IF('Get started'!$B$6=Referencing!$B$385,'5 Default values'!D67,\"\")","v":""},{"$f":"IF('Get started'!$B$6=Referencing!$B$385,'5 Default values'!E67,\"\")","v":""},{"$f":"IF('Get started'!$B$6=Referencing!$B$385,'5 Default values'!F67,\"\")","v":""},{"$f":"IF('Get started'!$B$6=Referencing!$B$385,'5 Default values'!G67,\"\")","v":""},{"$f":"IF('Get started'!$B$6=Referencing!$B$385,'5 Default values'!H67,\"\")","v":""}]
[null,{"$f":"Bus","v":"Bus"},{"$f":"NG","v":"NG"},null,null,null,null,null,null,null,{"$f":"IF('Get started'!$B$6=Referencing!$B$385,'5 Default values'!C68,\"\")","v":""},{"$f":"IF('Get started'!$B$6=Referencing!$B$385,'5 Default values'!D68,\"\")","v":""},{"$f":"IF('Get started'!$B$6=Referencing!$B$385,'5 Default values'!E68,\"\")","v":""},{"$f":"IF('Get started'!$B$6=Referencing!$B$385,'5 Default values'!F68,\"\")","v":""},{"$f":"IF('Get started'!$B$6=Referencing!$B$385,'5 Default values'!G68,\"\")","v":""},{"$f":"IF('Get started'!$B$6=Referencing!$B$385,'5 Default values'!H68,\"\")","v":""}]
[null,{"$f":"Bus","v":"Bus"},{"$f":"Hybrid","v":"Hybrid"},null,null,null,null,null,null,null,{"$f":"IF('Get started'!$B$6=Referencing!$B$385,'5 Default values'!C69,\"\")","v":""},{"$f":"IF('Get started'!$B$6=Referencing!$B$385,'5 Default values'!D69,\"\")","v":""},{"$f":"IF('Get started'!$B$6=Referencing!$B$385,'5 Default values'!E69,\"\")","v":""},{"$f":"IF('Get started'!$B$6=Referencing!$B$385,'5 Default values'!F69,\"\")","v":""},{"$f":"IF('Get started'!$B$6=Referencing!$B$385,'5 Default values'!G69,\"\")","v":""},{"$f":"IF('Get started'!$B$6=Referencing!$B$385,'5 Default values'!H69,\"\")","v":""}]
[null,{"$f":"Bus","v":"Bus"},{"$f":"Electric","v":"Electric"},null,null,null,null,null,null,null,{"$f":"IF('Get started'!$B$6=Referencing!$B$385,'5 Default values'!C70,\"\")","v":""},{"$f":"IF('Get started'!$B$6=Referencing!$B$385,'5 Default values'!D70,\"\")","v":""},{"$f":"IF('Get started'!$B$6=Referencing!$B$385,'5 Default values'!E70,\"\")","v":""},{"$f":"IF('Get started'!$B$6=Referencing!$B$385,'5 Default values'!F70,\"\")","v":""},{"$f":"IF('Get started'!$B$6=Referencing!$B$385,'5 Default values'!G70,\"\")","v":""},{"$f":"IF('Get started'!$B$6=Referencing!$B$385,'5 Default values'!H70,\"\")","v":""}]
[null,{"$f":"BRT","v":"BRT"},{"$f":"all","v":"all"},{"$f":"IF($C$56>0,SUM(D134:D135),\"-\")","v":0},{"$f":"IF($C$56>0,SUM(E134:E135),\"-\")","v":0},0,0,0,0,null,{"$f":"IF('Get started'!$B$6=Referencing!$B$385,'5 Default values'!C71,\"\")","v":""},{"$f":"IF('Get started'!$B$6=Referencing!$B$385,'5 Default values'!D71,\"\")","v":""},{"$f":"IF('Get started'!$B$6=Referencing!$B$385,'5 Default values'!E71,\"\")","v":""},{"$f":"IF('Get started'!$B$6=Referencing!$B$385,'5 Default values'!F71,\"\")","v":""},{"$f":"IF('Get started'!$B$6=Referencing!$B$385,'5 Default values'!G71,\"\")","v":""},{"$f":"IF('Get started'!$B$6=Referencing!$B$385,'5 Default values'!H71,\"\")","v":""}]
[null,{"$f":"BRT","v":"BRT"},{"$f":"Diesel","v":"Diesel"},null,null,null,null,null,null,null,{"$f":"IF('Get started'!$B$6=Referencing!$B$385,'5 Default values'!C72,\"\")","v":""},{"$f":"IF('Get started'!$B$6=Referencing!$B$385,'5 Default values'!D72,\"\")","v":""},{"$f":"IF('Get started'!$B$6=Referencing!$B$385,'5 Default values'!E72,\"\")","v":""},{"$f":"IF('Get started'!$B$6=Referencing!$B$385,'5 Default values'!F72,\"\")","v":""},{"$f":"IF('Get started'!$B$6=Referencing!$B$385,'5 Default values'!G72,\"\")","v":""},{"$f":"IF('Get started'!$B$6=Referencing!$B$385,'5 Default values'!H72,\"\")","v":""}]
[null,{"$f":"BRT","v":"BRT"},{"$f":"Electric","v":"Electric"},null,null,null,null,null,null,null,{"$f":"IF('Get started'!$B$6=Referencing!$B$385,'5 Default values'!C73,\"\")","v":""},{"$f":"IF('Get started'!$B$6=Referencing!$B$385,'5 Default values'!D73,\"\")","v":""},{"$f":"IF('Get started'!$B$6=Referencing!$B$385,'5 Default values'!E73,\"\")","v":""},{"$f":"IF('Get started'!$B$6=Referencing!$B$385,'5 Default values'!F73,\"\")","v":""},{"$f":"IF('Get started'!$B$6=Referencing!$B$385,'5 Default values'!G73,\"\")","v":""},{"$f":"IF('Get started'!$B$6=Referencing!$B$385,'5 Default values'!H73,\"\")","v":""}]
[null,{"$f":"lightLCV","v":"Very light LCV"},{"$f":"all","v":"all"},{"$f":"IF($C$60>0,SUM(D137:D139),\"-\")","v":0},{"$f":"IF($C$60>0,SUM(E137:E139),\"-\")","v":0},0,0,0,0,null,{"$f":"IF('Get started'!$B$6=Referencing!$B$385,'5 Default values'!C74,\"\")","v":""},{"$f":"IF('Get started'!$B$6=Referencing!$B$385,'5 Default values'!D74,\"\")","v":""},{"$f":"IF('Get started'!$B$6=Referencing!$B$385,'5 Default values'!E74,\"\")","v":""},{"$f":"IF('Get started'!$B$6=Referencing!$B$385,'5 Default values'!F74,\"\")","v":""},{"$f":"IF('Get started'!$B$6=Referencing!$B$385,'5 Default values'!G74,\"\")","v":""},{"$f":"IF('Get started'!$B$6=Referencing!$B$385,'5 Default values'!H74,\"\")","v":""}]
[null,{"$f":"lightLCV","v":"Very light LCV"},{"$f":"Gasoline","v":"Gasoline"},null,null,null,null,null,null,null,{"$f":"IF('Get started'!$B$6=Referencing!$B$385,'5 Default values'!C75,\"\")","v":""},{"$f":"IF('Get started'!$B$6=Referencing!$B$385,'5 Default values'!D75,\"\")","v":""},{"$f":"IF('Get started'!$B$6=Referencing!$B$385,'5 Default values'!E75,\"\")","v":""},{"$f":"IF('Get started'!$B$6=Referencing!$B$385,'5 Default values'!F75,\"\")","v":""},{"$f":"IF('Get started'!$B$6=Referencing!$B$385,'5 Default values'!G75,\"\")","v":""},{"$f":"IF('Get started'!$B$6=Referencing!$B$385,'5 Default values'!H75,\"\")","v":""}]
[null,{"$f":"lightLCV","v":"Very light LCV"},{"$f":"Diesel","v":"Diesel"},null,null,null,null,null,null,null,{"$f":"IF('Get started'!$B$6=Referencing!$B$385,'5 Default values'!C76,\"\")","v":""},{"$f":"IF('Get started'!$B$6=Referencing!$B$385,'5 Default values'!D76,\"\")","v":""},{"$f":"IF('Get started'!$B$6=Referencing!$B$385,'5 Default values'!E76,\"\")","v":""},{"$f":"IF('Get started'!$B$6=Referencing!$B$385,'5 Default values'!F76,\"\")","v":""},{"$f":"IF('Get started'!$B$6=Referencing!$B$385,'5 Default values'!G76,\"\")","v":""},{"$f":"IF('Get started'!$B$6=Referencing!$B$385,'5 Default values'!H76,\"\")","v":""}]
[null,{"$f":"lightLCV","v":"Very light LCV"},{"$f":"Electric","v":"Electric"},null,null,null,null,null,null,null,{"$f":"IF('Get started'!$B$6=Referencing!$B$385,'5 Default values'!C77,\"\")","v":""},{"$f":"IF('Get started'!$B$6=Referencing!$B$385,'5 Default values'!D77,\"\")","v":""},{"$f":"IF('Get started'!$B$6=Referencing!$B$385,'5 Default values'!E77,\"\")","v":""},{"$f":"IF('Get started'!$B$6=Referencing!$B$385,'5 Default values'!F77,\"\")","v":""},{"$f":"IF('Get started'!$B$6=Referencing!$B$385,'5 Default values'!G77,\"\")","v":""},{"$f":"IF('Get started'!$B$6=Referencing!$B$385,'5 Default values'!H77,\"\")","v":""}]
[null,{"$f":"LCV","v":"LCV"},{"$f":"all","v":"all"},{"$f":"IF($C$61>0,SUM(D141:D145),\"-\")","v":0},{"$f":"IF($C$61>0,SUM(E141:E145),\"-\")","v":0},0,0,0,0,null,{"$f":"IF('Get started'!$B$6=Referencing!$B$385,'5 Default values'!C78,\"\")","v":""},{"$f":"IF('Get started'!$B$6=Referencing!$B$385,'5 Default values'!D78,\"\")","v":""},{"$f":"IF('Get started'!$B$6=Referencing!$B$385,'5 Default values'!E78,\"\")","v":""},{"$f":"IF('Get started'!$B$6=Referencing!$B$385,'5 Default values'!F78,\"\")","v":""},{"$f":"IF('Get started'!$B$6=Referencing!$B$385,'5 Default values'!G78,\"\")","v":""},{"$f":"IF('Get started'!$B$6=Referencing!$B$385,'5 Default values'!H78,\"\")","v":""}]
[null,"LCV",{"$f":"Gasoline","v":"Gasoline"},null,null,null,null,null,null,null,{"$f":"IF('Get started'!$B$6=Referencing!$B$385,'5 Default values'!C79,\"\")","v":""},{"$f":"IF('Get started'!$B$6=Referencing!$B$385,'5 Default values'!D79,\"\")","v":""},{"$f":"IF('Get started'!$B$6=Referencing!$B$385,'5 Default values'!E79,\"\")","v":""},{"$f":"IF('Get started'!$B$6=Referencing!$B$385,'5 Default values'!F79,\"\")","v":""},{"$f":"IF('Get started'!$B$6=Referencing!$B$385,'5 Default values'!G79,\"\")","v":""},{"$f":"IF('Get started'!$B$6=Referencing!$B$385,'5 Default values'!H79,\"\")","v":""}]
[null,"LCV",{"$f":"Diesel","v":"Diesel"},null,null,null,null,null,null,null,{"$f":"IF('Get started'!$B$6=Referencing!$B$385,'5 Default values'!C80,\"\")","v":""},{"$f":"IF('Get started'!$B$6=Referencing!$B$385,'5 Default values'!D80,\"\")","v":""},{"$f":"IF('Get started'!$B$6=Referencing!$B$385,'5 Default values'!E80,\"\")","v":""},{"$f":"IF('Get started'!$B$6=Referencing!$B$385,'5 Default values'!F80,\"\")","v":""},{"$f":"IF('Get started'!$B$6=Referencing!$B$385,'5 Default values'!G80,\"\")","v":""},{"$f":"IF('Get started'!$B$6=Referencing!$B$385,'5 Default values'!H80,\"\")","v":""}]
[null,"LCV",{"$f":"LPG","v":"LPG"},null,null,null,null,null,null,null,{"$f":"IF('Get started'!$B$6=Referencing!$B$385,'5 Default values'!C81,\"\")","v":""},{"$f":"IF('Get started'!$B$6=Referencing!$B$385,'5 Default values'!D81,\"\")","v":""},{"$f":"IF('Get started'!$B$6=Referencing!$B$385,'5 Default values'!E81,\"\")","v":""},{"$f":"IF('Get started'!$B$6=Referencing!$B$385,'5 Default values'!F81,\"\")","v":""},{"$f":"IF('Get started'!$B$6=Referencing!$B$385,'5 Default values'!G81,\"\")","v":""},{"$f":"IF('Get started'!$B$6=Referencing!$B$385,'5 Default values'!H81,\"\")","v":""}]
[null,"LCV",{"$f":"NG","v":"NG"},null,null,null,null,null,null,null,{"$f":"IF('Get started'!$B$6=Referencing!$B$385,'5 Default values'!C82,\"\")","v":""},{"$f":"IF('Get started'!$B$6=Referencing!$B$385,'5 Default values'!D82,\"\")","v":""},{"$f":"IF('Get started'!$B$6=Referencing!$B$385,'5 Default values'!E82,\"\")","v":""},{"$f":"IF('Get started'!$B$6=Referencing!$B$385,'5 Default values'!F82,\"\")","v":""},{"$f":"IF('Get started'!$B$6=Referencing!$B$385,'5 Default values'!G82,\"\")","v":""},{"$f":"IF('Get started'!$B$6=Referencing!$B$385,'5 Default values'!H82,\"\")","v":""}]
[null,"LCV",{"$f":"Electric","v":"Electric"},null,null,null,null,null,null,null,{"$f":"IF('Get started'!$B$6=Referencing!$B$385,'5 Default values'!C83,\"\")","v":""},{"$f":"IF('Get started'!$B$6=Referencing!$B$385,'5 Default values'!D83,\"\")","v":""},{"$f":"IF('Get started'!$B$6=Referencing!$B$385,'5 Default values'!E83,\"\")","v":""},{"$f":"IF('Get started'!$B$6=Referencing!$B$385,'5 Default values'!F83,\"\")","v":""},{"$f":"IF('Get started'!$B$6=Referencing!$B$385,'5 Default values'!G83,\"\")","v":""},{"$f":"IF('Get started'!$B$6=Referencing!$B$385,'5 Default values'!H83,\"\")","v":""}]
[null,{"$f":"Solo","v":"Solo truck"},{"$f":"all","v":"all"},{"$f":"IF($C$62>0,SUM(D147:D149),\"-\")","v":0},{"$f":"IF($C$62>0,SUM(E147:E149),\"-\")","v":0},0,0,0,0,null,{"$f":"IF('Get started'!$B$6=Referencing!$B$385,'5 Default values'!C84,\"\")","v":""},{"$f":"IF('Get started'!$B$6=Referencing!$B$385,'5 Default values'!D84,\"\")","v":""},{"$f":"IF('Get started'!$B$6=Referencing!$B$385,'5 Default values'!E84,\"\")","v":""},{"$f":"IF('Get started'!$B$6=Referencing!$B$385,'5 Default values'!F84,\"\")","v":""},{"$f":"IF('Get started'!$B$6=Referencing!$B$385,'5 Default values'!G84,\"\")","v":""},{"$f":"IF('Get started'!$B$6=Referencing!$B$385,'5 Default values'!H84,\"\")","v":""}]
[null,{"$f":"Solo","v":"Solo truck"},{"$f":"Diesel","v":"Diesel"},null,null,null,null,null,null,null,{"$f":"IF('Get started'!$B$6=Referencing!$B$385,'5 Default values'!C85,\"\")","v":""},{"$f":"IF('Get started'!$B$6=Referencing!$B$385,'5 Default values'!D85,\"\")","v":""},{"$f":"IF('Get started'!$B$6=Referencing!$B$385,'5 Default values'!E85,\"\")","v":""},{"$f":"IF('Get started'!$B$6=Referencing!$B$385,'5 Default values'!F85,\"\")","v":""},{"$f":"IF('Get started'!$B$6=Referencing!$B$385,'5 Default values'!G85,\"\")","v":""},{"$f":"IF('Get started'!$B$6=Referencing!$B$385,'5 Default values'!H85,\"\")","v":""}]
[null,{"$f":"Solo","v":"Solo truck"},{"$f":"NG","v":"NG"},null,null,null,null,null,null,null,{"$f":"IF('Get started'!$B$6=Referencing!$B$385,'5 Default values'!C86,\"\")","v":""},{"$f":"IF('Get started'!$B$6=Referencing!$B$385,'5 Default values'!D86,\"\")","v":""},{"$f":"IF('Get started'!$B$6=Referencing!$B$385,'5 Default values'!E86,\"\")","v":""},{"$f":"IF('Get started'!$B$6=Referencing!$B$385,'5 Default values'!F86,\"\")","v":""},{"$f":"IF('Get started'!$B$6=Referencing!$B$385,'5 Default values'!G86,\"\")","v":""},{"$f":"IF('Get started'!$B$6=Referencing!$B$385,'5 Default values'!H86,\"\")","v":""}]
[null,{"$f":"Solo","v":"Solo truck"},{"$f":"Electric","v":"Electric"},null,null,null,null,null,null,null,{"$f":"IF('Get started'!$B$6=Referencing!$B$385,'5 Default values'!C87,\"\")","v":""},{"$f":"IF('Get started'!$B$6=Referencing!$B$385,'5 Default values'!D87,\"\")","v":""},{"$f":"IF('Get started'!$B$6=Referencing!$B$385,'5 Default values'!E87,\"\")","v":""},{"$f":"IF('Get started'!$B$6=Referencing!$B$385,'5 Default values'!F87,\"\")","v":""},{"$f":"IF('Get started'!$B$6=Referencing!$B$385,'5 Default values'!G87,\"\")","v":""},{"$f":"IF('Get started'!$B$6=Referencing!$B$385,'5 Default values'!H87,\"\")","v":""}]
[null,{"$f":"Atruck","v":"Articulated truck"},{"$f":"all","v":"all"},{"$f":"IF($C$63>0,SUM(D151:D153),\"-\")","v":0},{"$f":"IF($C$63>0,SUM(E151:E153),\"-\")","v":0},0,0,0,0,null,{"$f":"IF('Get started'!$B$6=Referencing!$B$385,'5 Default values'!C88,\"\")","v":""},{"$f":"IF('Get started'!$B$6=Referencing!$B$385,'5 Default values'!D88,\"\")","v":""},{"$f":"IF('Get started'!$B$6=Referencing!$B$385,'5 Default values'!E88,\"\")","v":""},{"$f":"IF('Get started'!$B$6=Referencing!$B$385,'5 Default values'!F88,\"\")","v":""},{"$f":"IF('Get started'!$B$6=Referencing!$B$385,'5 Default values'!G88,\"\")","v":""},{"$f":"IF('Get started'!$B$6=Referencing!$B$385,'5 Default values'!H88,\"\")","v":""}]
[null,{"$f":"Atruck","v":"Articulated truck"},{"$f":"Diesel","v":"Diesel"},null,null,null,null,null,null,null,{"$f":"IF('Get started'!$B$6=Referencing!$B$385,'5 Default values'!C89,\"\")","v":""},{"$f":"IF('Get started'!$B$6=Referencing!$B$385,'5 Default values'!D89,\"\")","v":""},{"$f":"IF('Get started'!$B$6=Referencing!$B$385,'5 Default values'!E89,\"\")","v":""},{"$f":"IF('Get started'!$B$6=Referencing!$B$385,'5 Default values'!F89,\"\")","v":""},{"$f":"IF('Get started'!$B$6=Referencing!$B$385,'5 Default values'!G89,\"\")","v":""},{"$f":"IF('Get started'!$B$6=Referencing!$B$385,'5 Default values'!H89,\"\")","v":""}]
[null,{"$f":"Atruck","v":"Articulated truck"},{"$f":"NG","v":"NG"},null,null,null,null,null,null,null,{"$f":"IF('Get started'!$B$6=Referencing!$B$385,'5 Default values'!C90,\"\")","v":""},{"$f":"IF('Get started'!$B$6=Referencing!$B$385,'5 Default values'!D90,\"\")","v":""},{"$f":"IF('Get started'!$B$6=Referencing!$B$385,'5 Default values'!E90,\"\")","v":""},{"$f":"IF('Get started'!$B$6=Referencing!$B$385,'5 Default values'!F90,\"\")","v":""},{"$f":"IF('Get started'!$B$6=Referencing!$B$385,'5 Default values'!G90,\"\")","v":""},{"$f":"IF('Get started'!$B$6=Referencing!$B$385,'5 Default values'!H90,\"\")","v":""}]
[null,{"$f":"Atruck","v":"Articulated truck"},{"$f":"Electric","v":"Electric"},null,null,null,null,null,null,null,{"$f":"IF('Get started'!$B$6=Referencing!$B$385,'5 Default values'!C91,\"\")","v":""},{"$f":"IF('Get started'!$B$6=Referencing!$B$385,'5 Default values'!D91,\"\")","v":""},{"$f":"IF('Get started'!$B$6=Referencing!$B$385,'5 Default values'!E91,\"\")","v":""},{"$f":"IF('Get started'!$B$6=Referencing!$B$385,'5 Default values'!F91,\"\")","v":""},{"$f":"IF('Get started'!$B$6=Referencing!$B$385,'5 Default values'!G91,\"\")","v":""},{"$f":"IF('Get started'!$B$6=Referencing!$B$385,'5 Default values'!H91,\"\")","v":""}]
[null,{"$f":"Train","v":"Long distance train"},{"$f":"all","v":"all"},{"$f":"IF($C$57>0,SUM(D155:D156),\"-\")","v":0},{"$f":"IF($C$57>0,SUM(E155:E156),\"-\")","v":0},0,0,0,0,null,{"$f":"IF('Get started'!$B$6=Referencing!$B$385,'5 Default values'!C92,\"\")","v":""},{"$f":"IF('Get started'!$B$6=Referencing!$B$385,'5 Default values'!D92,\"\")","v":""},{"$f":"IF('Get started'!$B$6=Referencing!$B$385,'5 Default values'!E92,\"\")","v":""},{"$f":"IF('Get started'!$B$6=Referencing!$B$385,'5 Default values'!F92,\"\")","v":""},{"$f":"IF('Get started'!$B$6=Referencing!$B$385,'5 Default values'!G92,\"\")","v":""},{"$f":"IF('Get started'!$B$6=Referencing!$B$385,'5 Default values'!H92,\"\")","v":""}]
[null,{"$f":"Train","v":"Long distance train"},{"$f":"Diesel","v":"Diesel"},null,null,null,null,null,null,null,{"$f":"IF('Get started'!$B$6=Referencing!$B$385,'5 Default values'!C93,\"\")","v":""},{"$f":"IF('Get started'!$B$6=Referencing!$B$385,'5 Default values'!D93,\"\")","v":""},{"$f":"IF('Get started'!$B$6=Referencing!$B$385,'5 Default values'!E93,\"\")","v":""},{"$f":"IF('Get started'!$B$6=Referencing!$B$385,'5 Default values'!F93,\"\")","v":""},{"$f":"IF('Get started'!$B$6=Referencing!$B$385,'5 Default values'!G93,\"\")","v":""},{"$f":"IF('Get started'!$B$6=Referencing!$B$385,'5 Default values'!H93,\"\")","v":""}]
[null,{"$f":"Train","v":"Long distance train"},{"$f":"Electric","v":"Electric"},null,null,null,null,null,null,null,{"$f":"IF('Get started'!$B$6=Referencing!$B$385,'5 Default values'!C94,\"\")","v":""},{"$f":"IF('Get started'!$B$6=Referencing!$B$385,'5 Default values'!D94,\"\")","v":""},{"$f":"IF('Get started'!$B$6=Referencing!$B$385,'5 Default values'!E94,\"\")","v":""},{"$f":"IF('Get started'!$B$6=Referencing!$B$385,'5 Default values'!F94,\"\")","v":""},{"$f":"IF('Get started'!$B$6=Referencing!$B$385,'5 Default values'!G94,\"\")","v":""},{"$f":"IF('Get started'!$B$6=Referencing!$B$385,'5 Default values'!H94,\"\")","v":""}]
[null,{"$f":"Utrain","v":"Urban train"},{"$f":"all","v":"all"},{"$f":"IF($C$58>0,SUM(D158),\"-\")","v":0},{"$f":"IF($C$58>0,SUM(E158),\"-\")","v":0},0,0,0,0,null,{"$f":"IF('Get started'!$B$6=Referencing!$B$385,'5 Default values'!C95,\"\")","v":""},{"$f":"IF('Get started'!$B$6=Referencing!$B$385,'5 Default values'!D95,\"\")","v":""},{"$f":"IF('Get started'!$B$6=Referencing!$B$385,'5 Default values'!E95,\"\")","v":""},{"$f":"IF('Get started'!$B$6=Referencing!$B$385,'5 Default values'!F95,\"\")","v":""},{"$f":"IF('Get started'!$B$6=Referencing!$B$385,'5 Default values'!G95,\"\")","v":""},{"$f":"IF('Get started'!$B$6=Referencing!$B$385,'5 Default values'!H95,\"\")","v":""}]
[null,{"$f":"Utrain","v":"Urban train"},{"$f":"Electric","v":"Electric"},null,null,null,null,null,null,null,{"$f":"IF('Get started'!$B$6=Referencing!$B$385,'5 Default values'!C96,\"\")","v":""},{"$f":"IF('Get started'!$B$6=Referencing!$B$385,'5 Default values'!D96,\"\")","v":""},{"$f":"IF('Get started'!$B$6=Referencing!$B$385,'5 Default values'!E96,\"\")","v":""},{"$f":"IF('Get started'!$B$6=Referencing!$B$385,'5 Default values'!F96,\"\")","v":""},{"$f":"IF('Get started'!$B$6=Referencing!$B$385,'5 Default values'!G96,\"\")","v":""},{"$f":"IF('Get started'!$B$6=Referencing!$B$385,'5 Default values'!H96,\"\")","v":""}]
[null,{"$f":"Metro","v":"Metro"},{"$f":"all","v":"all"},{"$f":"IF($C$59>0,SUM(D160),\"-\")","v":0},{"$f":"IF($C$59>0,SUM(E160),\"-\")","v":0},0,0,0,0,null,{"$f":"IF('Get started'!$B$6=Referencing!$B$385,'5 Default values'!C97,\"\")","v":""},{"$f":"IF('Get started'!$B$6=Referencing!$B$385,'5 Default values'!D97,\"\")","v":""},{"$f":"IF('Get started'!$B$6=Referencing!$B$385,'5 Default values'!E97,\"\")","v":""},{"$f":"IF('Get started'!$B$6=Referencing!$B$385,'5 Default values'!F97,\"\")","v":""},{"$f":"IF('Get started'!$B$6=Referencing!$B$385,'5 Default values'!G97,\"\")","v":""},{"$f":"IF('Get started'!$B$6=Referencing!$B$385,'5 Default values'!H97,\"\")","v":""}]
[null,{"$f":"Metro","v":"Metro"},{"$f":"Electric","v":"Electric"},null,null,null,null,null,null,null,{"$f":"IF('Get started'!$B$6=Referencing!$B$385,'5 Default values'!C98,\"\")","v":""},{"$f":"IF('Get started'!$B$6=Referencing!$B$385,'5 Default values'!D98,\"\")","v":""},{"$f":"IF('Get started'!$B$6=Referencing!$B$385,'5 Default values'!E98,\"\")","v":""},{"$f":"IF('Get started'!$B$6=Referencing!$B$385,'5 Default values'!F98,\"\")","v":""},{"$f":"IF('Get started'!$B$6=Referencing!$B$385,'5 Default values'!G98,\"\")","v":""},{"$f":"IF('Get started'!$B$6=Referencing!$B$385,'5 Default values'!H98,\"\")","v":""}]
[null,{"$f":"Ftrain","v":"Freight train"},{"$f":"all","v":"all"},{"$f":"IF($C$64>0,SUM(D162:D163),\"-\")","v":0},{"$f":"IF($C$64>0,SUM(E162:E163),\"-\")","v":0},0,0,0,0,null,{"$f":"IF('Get started'!$B$6=Referencing!$B$385,'5 Default values'!C99,\"\")","v":""},{"$f":"IF('Get started'!$B$6=Referencing!$B$385,'5 Default values'!D99,\"\")","v":""},{"$f":"IF('Get started'!$B$6=Referencing!$B$385,'5 Default values'!E99,\"\")","v":""},{"$f":"IF('Get started'!$B$6=Referencing!$B$385,'5 Default values'!F99,\"\")","v":""},{"$f":"IF('Get started'!$B$6=Referencing!$B$385,'5 Default values'!G99,\"\")","v":""},{"$f":"IF('Get started'!$B$6=Referencing!$B$385,'5 Default values'!H99,\"\")","v":""}]
[null,{"$f":"Ftrain","v":"Freight train"},{"$f":"Diesel","v":"Diesel"},null,null,null,null,null,null,null,{"$f":"IF('Get started'!$B$6=Referencing!$B$385,'5 Default values'!C100,\"\")","v":""},{"$f":"IF('Get started'!$B$6=Referencing!$B$385,'5 Default values'!D100,\"\")","v":""},{"$f":"IF('Get started'!$B$6=Referencing!$B$385,'5 Default values'!E100,\"\")","v":""},{"$f":"IF('Get started'!$B$6=Referencing!$B$385,'5 Default values'!F100,\"\")","v":""},{"$f":"IF('Get started'!$B$6=Referencing!$B$385,'5 Default values'!G100,\"\")","v":""},{"$f":"IF('Get started'!$B$6=Referencing!$B$385,'5 Default values'!H100,\"\")","v":""}]
[null,{"$f":"Ftrain","v":"Freight train"},{"$f":"Electric","v":"Electric"},null,null,null,null,null,null,null,{"$f":"IF('Get started'!$B$6=Referencing!$B$385,'5 Default values'!C101,\"\")","v":""},{"$f":"IF('Get started'!$B$6=Referencing!$B$385,'5 Default values'!D101,\"\")","v":""},{"$f":"IF('Get started'!$B$6=Referencing!$B$385,'5 Default values'!E101,\"\")","v":""},{"$f":"IF('Get started'!$B$6=Referencing!$B$385,'5 Default values'!F101,\"\")","v":""},{"$f":"IF('Get started'!$B$6=Referencing!$B$385,'5 Default values'!G101,\"\")","v":""},{"$f":"IF('Get started'!$B$6=Referencing!$B$385,'5 Default values'!H101,\"\")","v":""}]
[null,{"$f":"Source","v":"Source"}]
[]
[]
[{"$f":"Descri24","v":"3.iii) Average energy/fuel consumption for the reference year and energy efficiency change in the BAU scenario"}]
[{"$f":"Descri25","v":"Description: Please enter the average fuel/energy consumption - for each vehicle category and per fuel type- for the reference year (average fuel/energy consumption per vehicle per 100 km) as well as the annual change rate for each time period.\nRemark 1: Negative numbers for the annual change rate means a decrease of fuel/energy consumption. Positive numbers means an increase"}]
[{"$f":"Descri26","v":"Remark 2: National default data - if available - can be considered for data input. Please see the columns on the right hand side (indicated orange)."}]
[null,{"$f":"Subcategory","v":"Subcategory"},{"$f":"Fuel","v":"Fuel type"},"Unit",{"$f":"avcons","v":"Average energy consumption  [l-kW-kg/100 km]"},null,null,null,null,null,{"$f":"Ared","v":"Annual change in % on the given period"},null,null,null,null,null,null,{"$f":"Subcategory","v":"Subcategory"},{"$f":"Fuel","v":"Fuel type"},{"$f":"avcons","v":"Average energy consumption  [l-kW-kg/100 km]"},null,null,null,null,null,{"$f":"Ared","v":"Annual change in % on the given period"}]
[null,null,null,null,{"$f":"local","v":"local data"},null,null,null,null,null,{"$f":"local","v":"local data"},null,null,null,null,null,null,null,null,{"$f":"default","v":"default values"},null,null,null,null,null,{"$f":"default","v":"default values"}]
[null,null,null,null,{"$f":"$B$3","v":0},2020,2025,2030,2040,2050,{"$f":"$B$3& -2020","v":"0-2020"},"2020-2025","2025-2030","2030-2040","2040-2050",null,null,null,null,{"$f":"$B$3","v":0},2020,2025,2030,2040,2050,{"$f":"$B$3&-2020","v":"0-2020"},"2020-2025","2025-2030","2030-2040","2040-2050"]
[null,{"$f":"NMT","v":"NMT"},{"$f":"nd","v":"n.d."},{"$f":"nd","v":"n.d."},null,{"$f":"+IFERROR(E173*(1+K173)^(F$172-E$172),0)","v":0},{"$f":"+IFERROR(F173*(1+L173)^(G$172-F$172),0)","v":0},{"$f":"+IFERROR(G173*(1+M173)^(H$172-G$172),0)","v":0},{"$f":"+IFERROR(H173*(1+N173)^(I$172-H$172),0)","v":0},{"$f":"+IFERROR(I173*(1+O173)^(J$172-I$172),0)","v":0},null,null,null,null,null,null,null,{"$f":"NMT","v":"NMT"},{"$f":"nd","v":"n.d."},{"$f":"IF('Get started'!$B$6=Referencing!$B$385,'5 Default values'!C108,\"\")","v":""},{"$f":"IF('Get started'!$B$6=Referencing!$B$385,'5 Default values'!D108,\"\")","v":""},{"$f":"IF('Get started'!$B$6=Referencing!$B$385,'5 Default values'!E108,\"\")","v":""},{"$f":"IF('Get started'!$B$6=Referencing!$B$385,'5 Default values'!F108,\"\")","v":""},{"$f":"IF('Get started'!$B$6=Referencing!$B$385,'5 Default values'!G108,\"\")","v":""},{"$f":"IF('Get started'!$B$6=Referencing!$B$385,'5 Default values'!H108,\"\")","v":""},{"$f":"IF('Get started'!$B$6=Referencing!$B$385,'5 Default values'!I108,\"\")","v":""},{"$f":"IF('Get started'!$B$6=Referencing!$B$385,'5 Default values'!J108,\"\")","v":""},{"$f":"IF('Get started'!$B$6=Referencing!$B$385,'5 Default values'!K108,\"\")","v":""},{"$f":"IF('Get started'!$B$6=Referencing!$B$385,'5 Default values'!L108,\"\")","v":""},{"$f":"IF('Get started'!$B$6=Referencing!$B$385,'5 Default values'!M108,\"\")","v":""}]
[null,{"$f":"Pcar","v":"Private car"},{"$f":"Gasoline","v":"Gasoline"},"l/100km",null,{"$f":"+IFERROR(E174*(1+K174)^(F$172-E$172),0)","v":0},0,0,0,0,null,null,null,null,null,null,null,{"$f":"Pcar","v":"Private car"},{"$f":"Gasoline","v":"Gasoline"},null,null,null,null,null,null,{"$f":"IF('Get started'!$B$6=Referencing!$B$385,'5 Default values'!I109,\"\")","v":""},{"$f":"IF('Get started'!$B$6=Referencing!$B$385,'5 Default values'!J109,\"\")","v":""},{"$f":"IF('Get started'!$B$6=Referencing!$B$385,'5 Default values'!K109,\"\")","v":""},{"$f":"IF('Get started'!$B$6=Referencing!$B$385,'5 Default values'!L109,\"\")","v":""},{"$f":"IF('Get started'!$B$6=Referencing!$B$385,'5 Default values'!M109,\"\")","v":""}]
[null,"Private car",{"$f":"Diesel","v":"Diesel"},"l/100km",null,{"$f":"+IFERROR(E175*(1+K175)^(F$172-E$172),0)","v":0},0,0,0,0,null,null,null,null,null,null,null,"Private car",{"$f":"Diesel","v":"Diesel"},null,null,null,null,null,null,{"$f":"IF('Get started'!$B$6=Referencing!$B$385,'5 Default values'!I110,\"\")","v":""},{"$f":"IF('Get started'!$B$6=Referencing!$B$385,'5 Default values'!J110,\"\")","v":""},{"$f":"IF('Get started'!$B$6=Referencing!$B$385,'5 Default values'!K110,\"\")","v":""},{"$f":"IF('Get started'!$B$6=Referencing!$B$385,'5 Default values'!L110,\"\")","v":""},{"$f":"IF('Get started'!$B$6=Referencing!$B$385,'5 Default values'!M110,\"\")","v":""}]
[null,"Private car",{"$f":"LPG","v":"LPG"},"l/100km",null,0,0,0,0,0,null,null,null,null,null,null,null,"Private car",{"$f":"LPG","v":"LPG"},null,null,null,null,null,null,{"$f":"IF('Get started'!$B$6=Referencing!$B$385,'5 Default values'!I111,\"\")","v":""},{"$f":"IF('Get started'!$B$6=Referencing!$B$385,'5 Default values'!J111,\"\")","v":""},{"$f":"IF('Get started'!$B$6=Referencing!$B$385,'5 Default values'!K111,\"\")","v":""},{"$f":"IF('Get started'!$B$6=Referencing!$B$385,'5 Default values'!L111,\"\")","v":""},{"$f":"IF('Get started'!$B$6=Referencing!$B$385,'5 Default values'!M111,\"\")","v":""}]
[null,"Private car",{"$f":"NG","v":"NG"},"kg/100 km",null,0,0,0,0,0,null,null,null,null,null,null,null,"Private car",{"$f":"NG","v":"NG"},null,null,null,null,null,null,{"$f":"IF('Get started'!$B$6=Referencing!$B$385,'5 Default values'!I112,\"\")","v":""},{"$f":"IF('Get started'!$B$6=Referencing!$B$385,'5 Default values'!J112,\"\")","v":""},{"$f":"IF('Get started'!$B$6=Referencing!$B$385,'5 Default values'!K112,\"\")","v":""},{"$f":"IF('Get started'!$B$6=Referencing!$B$385,'5 Default values'!L112,\"\")","v":""},{"$f":"IF('Get started'!$B$6=Referencing!$B$385,'5 Default values'!M112,\"\")","v":""}]
[null,"Private car",{"$f":"Hybrid","v":"Hybrid"},"l/100km",null,0,0,0,0,0,null,null,null,null,null,null,null,"Private car",{"$f":"Hybrid","v":"Hybrid"},null,null,null,null,null,null,{"$f":"IF('Get started'!$B$6=Referencing!$B$385,'5 Default values'!I113,\"\")","v":""},{"$f":"IF('Get started'!$B$6=Referencing!$B$385,'5 Default values'!J113,\"\")","v":""},{"$f":"IF('Get started'!$B$6=Referencing!$B$385,'5 Default values'!K113,\"\")","v":""},{"$f":"IF('Get started'!$B$6=Referencing!$B$385,'5 Default values'!L113,\"\")","v":""},{"$f":"IF('Get started'!$B$6=Referencing!$B$385,'5 Default values'!M113,\"\")","v":""}]
[null,"Private car",{"$f":"Electric","v":"Electric"},"kWh/100 km",null,0,0,0,0,0,null,null,null,null,null,null,null,"Private car",{"$f":"Electric","v":"Electric"},null,null,null,null,null,null,{"$f":"IF('Get started'!$B$6=Referencing!$B$385,'5 Default values'!I114,\"\")","v":""},{"$f":"IF('Get started'!$B$6=Referencing!$B$385,'5 Default values'!J114,\"\")","v":""},{"$f":"IF('Get started'!$B$6=Referencing!$B$385,'5 Default values'!K114,\"\")","v":""},{"$f":"IF('Get started'!$B$6=Referencing!$B$385,'5 Default values'!L114,\"\")","v":""},{"$f":"IF('Get started'!$B$6=Referencing!$B$385,'5 Default values'!M114,\"\")","v":""}]
[null,{"$f":"Itaxi","v":"Individual taxi"},{"$f":"Gasoline","v":"Gasoline"},"l/100km",null,0,0,0,0,0,null,null,null,null,null,null,null,{"$f":"Itaxi","v":"Individual taxi"},{"$f":"Gasoline","v":"Gasoline"},null,null,null,null,null,null,{"$f":"IF('Get started'!$B$6=Referencing!$B$385,'5 Default values'!I115,\"\")","v":""},{"$f":"IF('Get started'!$B$6=Referencing!$B$385,'5 Default values'!J115,\"\")","v":""},{"$f":"IF('Get started'!$B$6=Referencing!$B$385,'5 Default values'!K115,\"\")","v":""},{"$f":"IF('Get started'!$B$6=Referencing!$B$385,'5 Default values'!L115,\"\")","v":""},{"$f":"IF('Get started'!$B$6=Referencing!$B$385,'5 Default values'!M115,\"\")","v":""}]
[null,"Individual taxi",{"$f":"Diesel","v":"Diesel"},"l/100km",null,0,0,0,0,0,null,null,null,null,null,null,null,"Individual taxi",{"$f":"Diesel","v":"Diesel"},null,null,null,null,null,null,{"$f":"IF('Get started'!$B$6=Referencing!$B$385,'5 Default values'!I116,\"\")","v":""},{"$f":"IF('Get started'!$B$6=Referencing!$B$385,'5 Default values'!J116,\"\")","v":""},{"$f":"IF('Get started'!$B$6=Referencing!$B$385,'5 Default values'!K116,\"\")","v":""},{"$f":"IF('Get started'!$B$6=Referencing!$B$385,'5 Default values'!L116,\"\")","v":""},{"$f":"IF('Get started'!$B$6=Referencing!$B$385,'5 Default values'!M116,\"\")","v":""}]
[null,"Individual taxi",{"$f":"LPG","v":"LPG"},"l/100km",null,0,0,0,0,0,null,null,null,null,null,null,null,"Individual taxi",{"$f":"LPG","v":"LPG"},null,null,null,null,null,null,{"$f":"IF('Get started'!$B$6=Referencing!$B$385,'5 Default values'!I117,\"\")","v":""},{"$f":"IF('Get started'!$B$6=Referencing!$B$385,'5 Default values'!J117,\"\")","v":""},{"$f":"IF('Get started'!$B$6=Referencing!$B$385,'5 Default values'!K117,\"\")","v":""},{"$f":"IF('Get started'!$B$6=Referencing!$B$385,'5 Default values'!L117,\"\")","v":""},{"$f":"IF('Get started'!$B$6=Referencing!$B$385,'5 Default values'!M117,\"\")","v":""}]
[null,"Individual taxi",{"$f":"NG","v":"NG"},"kg/100 km",null,0,0,0,0,0,null,null,null,null,null,null,null,"Individual taxi",{"$f":"NG","v":"NG"},null,null,null,null,null,null,{"$f":"IF('Get started'!$B$6=Referencing!$B$385,'5 Default values'!I118,\"\")","v":""},{"$f":"IF('Get started'!$B$6=Referencing!$B$385,'5 Default values'!J118,\"\")","v":""},{"$f":"IF('Get started'!$B$6=Referencing!$B$385,'5 Default values'!K118,\"\")","v":""},{"$f":"IF('Get started'!$B$6=Referencing!$B$385,'5 Default values'!L118,\"\")","v":""},{"$f":"IF('Get started'!$B$6=Referencing!$B$385,'5 Default values'!M118,\"\")","v":""}]
[null,"Individual taxi",{"$f":"Hybrid","v":"Hybrid"},"l/100km",null,0,0,0,0,0,null,null,null,null,null,null,null,"Individual taxi",{"$f":"Hybrid","v":"Hybrid"},null,null,null,null,null,null,{"$f":"IF('Get started'!$B$6=Referencing!$B$385,'5 Default values'!I119,\"\")","v":""},{"$f":"IF('Get started'!$B$6=Referencing!$B$385,'5 Default values'!J119,\"\")","v":""},{"$f":"IF('Get started'!$B$6=Referencing!$B$385,'5 Default values'!K119,\"\")","v":""},{"$f":"IF('Get started'!$B$6=Referencing!$B$385,'5 Default values'!L119,\"\")","v":""},{"$f":"IF('Get started'!$B$6=Referencing!$B$385,'5 Default values'!M119,\"\")","v":""}]
[null,"Individual taxi",{"$f":"Electric","v":"Electric"},"kWh/100 km",null,0,0,0,0,0,null,null,null,null,null,null,null,"Individual taxi",{"$f":"Electric","v":"Electric"},null,null,null,null,null,null,{"$f":"IF('Get started'!$B$6=Referencing!$B$385,'5 Default values'!I120,\"\")","v":""},{"$f":"IF('Get started'!$B$6=Referencing!$B$385,'5 Default values'!J120,\"\")","v":""},{"$f":"IF('Get started'!$B$6=Referencing!$B$385,'5 Default values'!K120,\"\")","v":""},{"$f":"IF('Get started'!$B$6=Referencing!$B$385,'5 Default values'!L120,\"\")","v":""},{"$f":"IF('Get started'!$B$6=Referencing!$B$385,'5 Default values'!M120,\"\")","v":""}]
[null,{"$f":"Motorcycle","v":"Motorcycle"},{"$f":"Gasoline","v":"Gasoline"},"l/100km",null,0,0,0,0,0,null,null,null,null,null,null,null,{"$f":"Motorcycle","v":"Motorcycle"},{"$f":"Gasoline","v":"Gasoline"},null,null,null,null,null,null,{"$f":"IF('Get started'!$B$6=Referencing!$B$385,'5 Default values'!I121,\"\")","v":""},{"$f":"IF('Get started'!$B$6=Referencing!$B$385,'5 Default values'!J121,\"\")","v":""},{"$f":"IF('Get started'!$B$6=Referencing!$B$385,'5 Default values'!K121,\"\")","v":""},{"$f":"IF('Get started'!$B$6=Referencing!$B$385,'5 Default values'!L121,\"\")","v":""},{"$f":"IF('Get started'!$B$6=Referencing!$B$385,'5 Default values'!M121,\"\")","v":""}]
[null,{"$f":"Motorcycle","v":"Motorcycle"},{"$f":"Electric","v":"Electric"},"kWh/100 km",null,0,0,0,0,0,null,null,null,null,null,null,null,{"$f":"Motorcycle","v":"Motorcycle"},{"$f":"Electric","v":"Electric"},null,null,null,null,null,null,{"$f":"IF('Get started'!$B$6=Referencing!$B$385,'5 Default values'!I122,\"\")","v":""},{"$f":"IF('Get started'!$B$6=Referencing!$B$385,'5 Default values'!J122,\"\")","v":""},{"$f":"IF('Get started'!$B$6=Referencing!$B$385,'5 Default values'!K122,\"\")","v":""},{"$f":"IF('Get started'!$B$6=Referencing!$B$385,'5 Default values'!L122,\"\")","v":""},{"$f":"IF('Get started'!$B$6=Referencing!$B$385,'5 Default values'!M122,\"\")","v":""}]
[null,{"$f":"Mototaxi","v":"Motorcycle taxi"},{"$f":"Gasoline","v":"Gasoline"},"l/100km",null,0,0,0,0,0,null,null,null,null,null,null,null,{"$f":"Mototaxi","v":"Motorcycle taxi"},{"$f":"Gasoline","v":"Gasoline"},null,null,null,null,null,null,{"$f":"IF('Get started'!$B$6=Referencing!$B$385,'5 Default values'!I123,\"\")","v":""},{"$f":"IF('Get started'!$B$6=Referencing!$B$385,'5 Default values'!J123,\"\")","v":""},{"$f":"IF('Get started'!$B$6=Referencing!$B$385,'5 Default values'!K123,\"\")","v":""},{"$f":"IF('Get started'!$B$6=Referencing!$B$385,'5 Default values'!L123,\"\")","v":""},{"$f":"IF('Get started'!$B$6=Referencing!$B$385,'5 Default values'!M123,\"\")","v":""}]
[null,{"$f":"Mototaxi","v":"Motorcycle taxi"},{"$f":"Electric","v":"Electric"},"kWh/100 km",null,0,0,0,0,0,null,null,null,null,null,null,null,{"$f":"Mototaxi","v":"Motorcycle taxi"},{"$f":"Electric","v":"Electric"},null,null,null,null,null,null,{"$f":"IF('Get started'!$B$6=Referencing!$B$385,'5 Default values'!I124,\"\")","v":""},{"$f":"IF('Get started'!$B$6=Referencing!$B$385,'5 Default values'!J124,\"\")","v":""},{"$f":"IF('Get started'!$B$6=Referencing!$B$385,'5 Default values'!K124,\"\")","v":""},{"$f":"IF('Get started'!$B$6=Referencing!$B$385,'5 Default values'!L124,\"\")","v":""},{"$f":"IF('Get started'!$B$6=Referencing!$B$385,'5 Default values'!M124,\"\")","v":""}]
[null,{"$f":"Minibus","v":"Minibus"},{"$f":"Gasoline","v":"Gasoline"},"l/100km",null,0,0,0,0,0,null,null,null,null,null,null,null,{"$f":"Minibus","v":"Minibus"},{"$f":"Gasoline","v":"Gasoline"},null,null,null,null,null,null,{"$f":"IF('Get started'!$B$6=Referencing!$B$385,'5 Default values'!I125,\"\")","v":""},{"$f":"IF('Get started'!$B$6=Referencing!$B$385,'5 Default values'!J125,\"\")","v":""},{"$f":"IF('Get started'!$B$6=Referencing!$B$385,'5 Default values'!K125,\"\")","v":""},{"$f":"IF('Get started'!$B$6=Referencing!$B$385,'5 Default values'!L125,\"\")","v":""},{"$f":"IF('Get started'!$B$6=Referencing!$B$385,'5 Default values'!M125,\"\")","v":""}]
[null,"Minibus",{"$f":"Diesel","v":"Diesel"},"l/100km",null,0,0,0,0,0,null,null,null,null,null,null,null,"Minibus",{"$f":"Diesel","v":"Diesel"},null,null,null,null,null,null,{"$f":"IF('Get started'!$B$6=Referencing!$B$385,'5 Default values'!I126,\"\")","v":""},{"$f":"IF('Get started'!$B$6=Referencing!$B$385,'5 Default values'!J126,\"\")","v":""},{"$f":"IF('Get started'!$B$6=Referencing!$B$385,'5 Default values'!K126,\"\")","v":""},{"$f":"IF('Get started'!$B$6=Referencing!$B$385,'5 Default values'!L126,\"\")","v":""},{"$f":"IF('Get started'!$B$6=Referencing!$B$385,'5 Default values'!M126,\"\")","v":""}]
[null,"Minibus",{"$f":"LPG","v":"LPG"},"l/100km",null,0,0,0,0,0,null,null,null,null,null,null,null,"Minibus",{"$f":"LPG","v":"LPG"},null,null,null,null,null,null,{"$f":"IF('Get started'!$B$6=Referencing!$B$385,'5 Default values'!I127,\"\")","v":""},{"$f":"IF('Get started'!$B$6=Referencing!$B$385,'5 Default values'!J127,\"\")","v":""},{"$f":"IF('Get started'!$B$6=Referencing!$B$385,'5 Default values'!K127,\"\")","v":""},{"$f":"IF('Get started'!$B$6=Referencing!$B$385,'5 Default values'!L127,\"\")","v":""},{"$f":"IF('Get started'!$B$6=Referencing!$B$385,'5 Default values'!M127,\"\")","v":""}]
[null,"Minibus",{"$f":"NG","v":"NG"},"kg/100 km",null,0,0,0,0,0,null,null,null,null,null,null,null,"Minibus",{"$f":"NG","v":"NG"},null,null,null,null,null,null,{"$f":"IF('Get started'!$B$6=Referencing!$B$385,'5 Default values'!I128,\"\")","v":""},{"$f":"IF('Get started'!$B$6=Referencing!$B$385,'5 Default values'!J128,\"\")","v":""},{"$f":"IF('Get started'!$B$6=Referencing!$B$385,'5 Default values'!K128,\"\")","v":""},{"$f":"IF('Get started'!$B$6=Referencing!$B$385,'5 Default values'!L128,\"\")","v":""},{"$f":"IF('Get started'!$B$6=Referencing!$B$385,'5 Default values'!M128,\"\")","v":""}]
[null,"Minibus",{"$f":"Hybrid","v":"Hybrid"},"l/100km",null,0,0,0,0,0,null,null,null,null,null,null,null,"Minibus",{"$f":"Hybrid","v":"Hybrid"}]
[null,"Minibus",{"$f":"Electric","v":"Electric"},"kWh/100 km",null,0,0,0,0,0,null,null,null,null,null,null,null,"Minibus",{"$f":"Electric","v":"Electric"}]
[null,{"$f":"Bus","v":"Bus"},{"$f":"Diesel","v":"Diesel"},"l/100km",null,0,0,0,0,0,null,null,null,null,null,null,null,{"$f":"Bus","v":"Bus"},{"$f":"Diesel","v":"Diesel"},null,null,null,null,null,null,{"$f":"IF('Get started'!$B$6=Referencing!$B$385,'5 Default values'!I131,\"\")","v":""},{"$f":"IF('Get started'!$B$6=Referencing!$B$385,'5 Default values'!J131,\"\")","v":""},{"$f":"IF('Get started'!$B$6=Referencing!$B$385,'5 Default values'!K131,\"\")","v":""},{"$f":"IF('Get started'!$B$6=Referencing!$B$385,'5 Default values'!L131,\"\")","v":""},{"$f":"IF('Get started'!$B$6=Referencing!$B$385,'5 Default values'!M131,\"\")","v":""}]
[null,{"$f":"Bus","v":"Bus"},{"$f":"NG","v":"NG"},"kg/100 km",null,0,0,0,0,0,null,null,null,null,null,null,null,{"$f":"Bus","v":"Bus"},{"$f":"NG","v":"NG"},null,null,null,null,null,null,{"$f":"IF('Get started'!$B$6=Referencing!$B$385,'5 Default values'!I132,\"\")","v":""},{"$f":"IF('Get started'!$B$6=Referencing!$B$385,'5 Default values'!J132,\"\")","v":""},{"$f":"IF('Get started'!$B$6=Referencing!$B$385,'5 Default values'!K132,\"\")","v":""},{"$f":"IF('Get started'!$B$6=Referencing!$B$385,'5 Default values'!L132,\"\")","v":""},{"$f":"IF('Get started'!$B$6=Referencing!$B$385,'5 Default values'!M132,\"\")","v":""}]
[null,{"$f":"Bus","v":"Bus"},{"$f":"Hybrid","v":"Hybrid"},"l/100km",null,0,0,0,0,0,null,null,null,null,null,null,null,{"$f":"Bus","v":"Bus"},{"$f":"Hybrid","v":"Hybrid"},null,null,null,null,null,null,{"$f":"IF('Get started'!$B$6=Referencing!$B$385,'5 Default values'!I133,\"\")","v":""},{"$f":"IF('Get started'!$B$6=Referencing!$B$385,'5 Default values'!J133,\"\")","v":""},{"$f":"IF('Get started'!$B$6=Referencing!$B$385,'5 Default values'!K133,\"\")","v":""},{"$f":"IF('Get started'!$B$6=Referencing!$B$385,'5 Default values'!L133,\"\")","v":""},{"$f":"IF('Get started'!$B$6=Referencing!$B$385,'5 Default values'!M133,\"\")","v":""}]
[null,{"$f":"Bus","v":"Bus"},{"$f":"Electric","v":"Electric"},"kWh/100 km",null,0,0,0,0,0,null,null,null,null,null,null,null,{"$f":"Bus","v":"Bus"},{"$f":"Electric","v":"Electric"},null,null,null,null,null,null,{"$f":"IF('Get started'!$B$6=Referencing!$B$385,'5 Default values'!I134,\"\")","v":""},{"$f":"IF('Get started'!$B$6=Referencing!$B$385,'5 Default values'!J134,\"\")","v":""},{"$f":"IF('Get started'!$B$6=Referencing!$B$385,'5 Default values'!K134,\"\")","v":""},{"$f":"IF('Get started'!$B$6=Referencing!$B$385,'5 Default values'!L134,\"\")","v":""},{"$f":"IF('Get started'!$B$6=Referencing!$B$385,'5 Default values'!M134,\"\")","v":""}]
[null,{"$f":"BRT","v":"BRT"},{"$f":"Diesel","v":"Diesel"},"l/100km",null,0,0,0,0,0,null,null,null,null,null,null,null,{"$f":"BRT","v":"BRT"},{"$f":"Diesel","v":"Diesel"},null,null,null,null,null,null,{"$f":"IF('Get started'!$B$6=Referencing!$B$385,'5 Default values'!I135,\"\")","v":""},{"$f":"IF('Get started'!$B$6=Referencing!$B$385,'5 Default values'!J135,\"\")","v":""},{"$f":"IF('Get started'!$B$6=Referencing!$B$385,'5 Default values'!K135,\"\")","v":""},{"$f":"IF('Get started'!$B$6=Referencing!$B$385,'5 Default values'!L135,\"\")","v":""},{"$f":"IF('Get started'!$B$6=Referencing!$B$385,'5 Default values'!M135,\"\")","v":""}]
[null,{"$f":"BRT","v":"BRT"},{"$f":"Electric","v":"Electric"},"kWh/100 km",null,0,0,0,0,0,null,null,null,null,null,null,null,{"$f":"BRT","v":"BRT"},{"$f":"Electric","v":"Electric"},null,null,null,null,null,null,{"$f":"IF('Get started'!$B$6=Referencing!$B$385,'5 Default values'!I136,\"\")","v":""},{"$f":"IF('Get started'!$B$6=Referencing!$B$385,'5 Default values'!J136,\"\")","v":""},{"$f":"IF('Get started'!$B$6=Referencing!$B$385,'5 Default values'!K136,\"\")","v":""},{"$f":"IF('Get started'!$B$6=Referencing!$B$385,'5 Default values'!L136,\"\")","v":""},{"$f":"IF('Get started'!$B$6=Referencing!$B$385,'5 Default values'!M136,\"\")","v":""}]
[null,{"$f":"lightLCV","v":"Very light LCV"},{"$f":"Gasoline","v":"Gasoline"},"l/100km",null,0,0,0,0,0,null,null,null,null,null,null,null,{"$f":"lightLCV","v":"Very light LCV"},{"$f":"Gasoline","v":"Gasoline"},null,null,null,null,null,null,{"$f":"IF('Get started'!$B$6=Referencing!$B$385,'5 Default values'!I137,\"\")","v":""},{"$f":"IF('Get started'!$B$6=Referencing!$B$385,'5 Default values'!J137,\"\")","v":""},{"$f":"IF('Get started'!$B$6=Referencing!$B$385,'5 Default values'!K137,\"\")","v":""},{"$f":"IF('Get started'!$B$6=Referencing!$B$385,'5 Default values'!L137,\"\")","v":""},{"$f":"IF('Get started'!$B$6=Referencing!$B$385,'5 Default values'!M137,\"\")","v":""}]
[null,{"$f":"lightLCV","v":"Very light LCV"},{"$f":"Diesel","v":"Diesel"},"l/100km",null,0,0,0,0,0,null,null,null,null,null,null,null,{"$f":"lightLCV","v":"Very light LCV"},{"$f":"Diesel","v":"Diesel"},null,null,null,null,null,null,{"$f":"IF('Get started'!$B$6=Referencing!$B$385,'5 Default values'!I138,\"\")","v":""},{"$f":"IF('Get started'!$B$6=Referencing!$B$385,'5 Default values'!J138,\"\")","v":""},{"$f":"IF('Get started'!$B$6=Referencing!$B$385,'5 Default values'!K138,\"\")","v":""},{"$f":"IF('Get started'!$B$6=Referencing!$B$385,'5 Default values'!L138,\"\")","v":""},{"$f":"IF('Get started'!$B$6=Referencing!$B$385,'5 Default values'!M138,\"\")","v":""}]
[null,{"$f":"lightLCV","v":"Very light LCV"},{"$f":"Electric","v":"Electric"},"kWh/100 km",null,0,0,0,0,0,null,null,null,null,null,null,null,{"$f":"lightLCV","v":"Very light LCV"},{"$f":"Electric","v":"Electric"},null,null,null,null,null,null,{"$f":"IF('Get started'!$B$6=Referencing!$B$385,'5 Default values'!I139,\"\")","v":""},{"$f":"IF('Get started'!$B$6=Referencing!$B$385,'5 Default values'!J139,\"\")","v":""},{"$f":"IF('Get started'!$B$6=Referencing!$B$385,'5 Default values'!K139,\"\")","v":""},{"$f":"IF('Get started'!$B$6=Referencing!$B$385,'5 Default values'!L139,\"\")","v":""},{"$f":"IF('Get started'!$B$6=Referencing!$B$385,'5 Default values'!M139,\"\")","v":""}]
[null,{"$f":"LCV","v":"LCV"},{"$f":"Gasoline","v":"Gasoline"},"l/100km",null,0,0,0,0,0,null,null,null,null,null,null,null,{"$f":"LCV","v":"LCV"},{"$f":"Gasoline","v":"Gasoline"},null,null,null,null,null,null,{"$f":"IF('Get started'!$B$6=Referencing!$B$385,'5 Default values'!I140,\"\")","v":""},{"$f":"IF('Get started'!$B$6=Referencing!$B$385,'5 Default values'!J140,\"\")","v":""},{"$f":"IF('Get started'!$B$6=Referencing!$B$385,'5 Default values'!K140,\"\")","v":""},{"$f":"IF('Get started'!$B$6=Referencing!$B$385,'5 Default values'!L140,\"\")","v":""},{"$f":"IF('Get started'!$B$6=Referencing!$B$385,'5 Default values'!M140,\"\")","v":""}]
[null,{"$f":"LCV","v":"LCV"},{"$f":"Diesel","v":"Diesel"},"l/100km",null,0,0,0,0,0,null,null,null,null,null,null,null,{"$f":"LCV","v":"LCV"},{"$f":"Diesel","v":"Diesel"},null,null,null,null,null,null,{"$f":"IF('Get started'!$B$6=Referencing!$B$385,'5 Default values'!I141,\"\")","v":""},{"$f":"IF('Get started'!$B$6=Referencing!$B$385,'5 Default values'!J141,\"\")","v":""},{"$f":"IF('Get started'!$B$6=Referencing!$B$385,'5 Default values'!K141,\"\")","v":""},{"$f":"IF('Get started'!$B$6=Referencing!$B$385,'5 Default values'!L141,\"\")","v":""},{"$f":"IF('Get started'!$B$6=Referencing!$B$385,'5 Default values'!M141,\"\")","v":""}]
[null,{"$f":"LCV","v":"LCV"},{"$f":"LPG","v":"LPG"},"l/100km",null,0,0,0,0,0,null,null,null,null,null,null,null,{"$f":"LCV","v":"LCV"},{"$f":"LPG","v":"LPG"},null,null,null,null,null,null,{"$f":"IF('Get started'!$B$6=Referencing!$B$385,'5 Default values'!I142,\"\")","v":""},{"$f":"IF('Get started'!$B$6=Referencing!$B$385,'5 Default values'!J142,\"\")","v":""},{"$f":"IF('Get started'!$B$6=Referencing!$B$385,'5 Default values'!K142,\"\")","v":""},{"$f":"IF('Get started'!$B$6=Referencing!$B$385,'5 Default values'!L142,\"\")","v":""},{"$f":"IF('Get started'!$B$6=Referencing!$B$385,'5 Default values'!M142,\"\")","v":""}]
[null,{"$f":"LCV","v":"LCV"},{"$f":"NG","v":"NG"},"kg/100 km",null,0,0,0,0,0,null,null,null,null,null,null,null,{"$f":"LCV","v":"LCV"},{"$f":"NG","v":"NG"},null,null,null,null,null,null,{"$f":"IF('Get started'!$B$6=Referencing!$B$385,'5 Default values'!I143,\"\")","v":""},{"$f":"IF('Get started'!$B$6=Referencing!$B$385,'5 Default values'!J143,\"\")","v":""},{"$f":"IF('Get started'!$B$6=Referencing!$B$385,'5 Default values'!K143,\"\")","v":""},{"$f":"IF('Get started'!$B$6=Referencing!$B$385,'5 Default values'!L143,\"\")","v":""},{"$f":"IF('Get started'!$B$6=Referencing!$B$385,'5 Default values'!M143,\"\")","v":""}]
[null,{"$f":"LCV","v":"LCV"},{"$f":"Electric","v":"Electric"},"kWh/100 km",null,0,0,0,0,0,null,null,null,null,null,null,null,{"$f":"LCV","v":"LCV"},{"$f":"Electric","v":"Electric"},null,null,null,null,null,null,{"$f":"IF('Get started'!$B$6=Referencing!$B$385,'5 Default values'!I144,\"\")","v":""},{"$f":"IF('Get started'!$B$6=Referencing!$B$385,'5 Default values'!J144,\"\")","v":""},{"$f":"IF('Get started'!$B$6=Referencing!$B$385,'5 Default values'!K144,\"\")","v":""},{"$f":"IF('Get started'!$B$6=Referencing!$B$385,'5 Default values'!L144,\"\")","v":""},{"$f":"IF('Get started'!$B$6=Referencing!$B$385,'5 Default values'!M144,\"\")","v":""}]
[null,{"$f":"Solo","v":"Solo truck"},{"$f":"Diesel","v":"Diesel"},"l/100km",null,0,0,0,0,0,null,null,null,null,null,null,null,{"$f":"Solo","v":"Solo truck"},{"$f":"Diesel","v":"Diesel"},null,null,null,null,null,null,{"$f":"IF('Get started'!$B$6=Referencing!$B$385,'5 Default values'!I145,\"\")","v":""},{"$f":"IF('Get started'!$B$6=Referencing!$B$385,'5 Default values'!J145,\"\")","v":""},{"$f":"IF('Get started'!$B$6=Referencing!$B$385,'5 Default values'!K145,\"\")","v":""},{"$f":"IF('Get started'!$B$6=Referencing!$B$385,'5 Default values'!L145,\"\")","v":""},{"$f":"IF('Get started'!$B$6=Referencing!$B$385,'5 Default values'!M145,\"\")","v":""}]
[null,{"$f":"Solo","v":"Solo truck"},{"$f":"NG","v":"NG"},"kg/100 km",null,0,0,0,0,0,null,null,null,null,null,null,null,{"$f":"Solo","v":"Solo truck"},{"$f":"NG","v":"NG"},null,null,null,null,null,null,{"$f":"IF('Get started'!$B$6=Referencing!$B$385,'5 Default values'!I146,\"\")","v":""},{"$f":"IF('Get started'!$B$6=Referencing!$B$385,'5 Default values'!J146,\"\")","v":""},{"$f":"IF('Get started'!$B$6=Referencing!$B$385,'5 Default values'!K146,\"\")","v":""},{"$f":"IF('Get started'!$B$6=Referencing!$B$385,'5 Default values'!L146,\"\")","v":""},{"$f":"IF('Get started'!$B$6=Referencing!$B$385,'5 Default values'!M146,\"\")","v":""}]
[null,{"$f":"Solo","v":"Solo truck"},{"$f":"Electric","v":"Electric"},"kWh/100 km",null,0,0,0,0,0,null,null,null,null,null,null,null,{"$f":"Solo","v":"Solo truck"},{"$f":"Electric","v":"Electric"},null,null,null,null,null,null,{"$f":"IF('Get started'!$B$6=Referencing!$B$385,'5 Default values'!I147,\"\")","v":""},{"$f":"IF('Get started'!$B$6=Referencing!$B$385,'5 Default values'!J147,\"\")","v":""},{"$f":"IF('Get started'!$B$6=Referencing!$B$385,'5 Default values'!K147,\"\")","v":""},{"$f":"IF('Get started'!$B$6=Referencing!$B$385,'5 Default values'!L147,\"\")","v":""},{"$f":"IF('Get started'!$B$6=Referencing!$B$385,'5 Default values'!M147,\"\")","v":""}]
[null,{"$f":"Atruck","v":"Articulated truck"},{"$f":"Diesel","v":"Diesel"},"l/100km",null,0,0,0,0,0,null,null,null,null,null,null,null,{"$f":"Atruck","v":"Articulated truck"},{"$f":"Diesel","v":"Diesel"},null,null,null,null,null,null,{"$f":"IF('Get started'!$B$6=Referencing!$B$385,'5 Default values'!I148,\"\")","v":""},{"$f":"IF('Get started'!$B$6=Referencing!$B$385,'5 Default values'!J148,\"\")","v":""},{"$f":"IF('Get started'!$B$6=Referencing!$B$385,'5 Default values'!K148,\"\")","v":""},{"$f":"IF('Get started'!$B$6=Referencing!$B$385,'5 Default values'!L148,\"\")","v":""},{"$f":"IF('Get started'!$B$6=Referencing!$B$385,'5 Default values'!M148,\"\")","v":""}]
[null,{"$f":"Atruck","v":"Articulated truck"},{"$f":"NG","v":"NG"},"kg/100 km",null,0,0,0,0,0,null,null,null,null,null,null,null,{"$f":"Atruck","v":"Articulated truck"},{"$f":"NG","v":"NG"},null,null,null,null,null,null,{"$f":"IF('Get started'!$B$6=Referencing!$B$385,'5 Default values'!I149,\"\")","v":""},{"$f":"IF('Get started'!$B$6=Referencing!$B$385,'5 Default values'!J149,\"\")","v":""},{"$f":"IF('Get started'!$B$6=Referencing!$B$385,'5 Default values'!K149,\"\")","v":""},{"$f":"IF('Get started'!$B$6=Referencing!$B$385,'5 Default values'!L149,\"\")","v":""},{"$f":"IF('Get started'!$B$6=Referencing!$B$385,'5 Default values'!M149,\"\")","v":""}]
[null,{"$f":"Atruck","v":"Articulated truck"},{"$f":"Electric","v":"Electric"},"kWh/100 km",null,0,0,0,0,0,null,null,null,null,null,null,null,{"$f":"Atruck","v":"Articulated truck"},{"$f":"Electric","v":"Electric"},null,null,null,null,null,null,{"$f":"IF('Get started'!$B$6=Referencing!$B$385,'5 Default values'!I150,\"\")","v":""},{"$f":"IF('Get started'!$B$6=Referencing!$B$385,'5 Default values'!J150,\"\")","v":""},{"$f":"IF('Get started'!$B$6=Referencing!$B$385,'5 Default values'!K150,\"\")","v":""},{"$f":"IF('Get started'!$B$6=Referencing!$B$385,'5 Default values'!L150,\"\")","v":""},{"$f":"IF('Get started'!$B$6=Referencing!$B$385,'5 Default values'!M150,\"\")","v":""}]
[null,{"$f":"Train","v":"Long distance train"},{"$f":"Diesel","v":"Diesel"},"l/100km",null,0,0,0,0,0,null,null,null,null,null,null,null,{"$f":"Train","v":"Long distance train"},{"$f":"Diesel","v":"Diesel"},null,null,null,null,null,null,{"$f":"IF('Get started'!$B$6=Referencing!$B$385,'5 Default values'!I151,\"\")","v":""},{"$f":"IF('Get started'!$B$6=Referencing!$B$385,'5 Default values'!J151,\"\")","v":""},{"$f":"IF('Get started'!$B$6=Referencing!$B$385,'5 Default values'!K151,\"\")","v":""},{"$f":"IF('Get started'!$B$6=Referencing!$B$385,'5 Default values'!L151,\"\")","v":""},{"$f":"IF('Get started'!$B$6=Referencing!$B$385,'5 Default values'!M151,\"\")","v":""}]
[null,{"$f":"Train","v":"Long distance train"},{"$f":"Electric","v":"Electric"},"kWh/100 km",null,0,0,0,0,0,null,null,null,null,null,null,null,{"$f":"Train","v":"Long distance train"},{"$f":"Electric","v":"Electric"},null,null,null,null,null,null,{"$f":"IF('Get started'!$B$6=Referencing!$B$385,'5 Default values'!I152,\"\")","v":""},{"$f":"IF('Get started'!$B$6=Referencing!$B$385,'5 Default values'!J152,\"\")","v":""},{"$f":"IF('Get started'!$B$6=Referencing!$B$385,'5 Default values'!K152,\"\")","v":""},{"$f":"IF('Get started'!$B$6=Referencing!$B$385,'5 Default values'!L152,\"\")","v":""},{"$f":"IF('Get started'!$B$6=Referencing!$B$385,'5 Default values'!M152,\"\")","v":""}]
[null,{"$f":"Utrain","v":"Urban train"},{"$f":"Electric","v":"Electric"},"kWh/100 km",null,0,0,0,0,0,null,null,null,null,null,null,null,{"$f":"Utrain","v":"Urban train"},{"$f":"Electric","v":"Electric"},null,null,null,null,null,null,{"$f":"IF('Get started'!$B$6=Referencing!$B$385,'5 Default values'!I153,\"\")","v":""},{"$f":"IF('Get started'!$B$6=Referencing!$B$385,'5 Default values'!J153,\"\")","v":""},{"$f":"IF('Get started'!$B$6=Referencing!$B$385,'5 Default values'!K153,\"\")","v":""},{"$f":"IF('Get started'!$B$6=Referencing!$B$385,'5 Default values'!L153,\"\")","v":""},{"$f":"IF('Get started'!$B$6=Referencing!$B$385,'5 Default values'!M153,\"\")","v":""}]
[null,{"$f":"Metro","v":"Metro"},{"$f":"Electric","v":"Electric"},"kWh/100 km",null,0,0,0,0,0,null,null,null,null,null,null,null,{"$f":"Metro","v":"Metro"},{"$f":"Electric","v":"Electric"},null,null,null,null,null,null,{"$f":"IF('Get started'!$B$6=Referencing!$B$385,'5 Default values'!I154,\"\")","v":""},{"$f":"IF('Get started'!$B$6=Referencing!$B$385,'5 Default values'!J154,\"\")","v":""},{"$f":"IF('Get started'!$B$6=Referencing!$B$385,'5 Default values'!K154,\"\")","v":""},{"$f":"IF('Get started'!$B$6=Referencing!$B$385,'5 Default values'!L154,\"\")","v":""},{"$f":"IF('Get started'!$B$6=Referencing!$B$385,'5 Default values'!M154,\"\")","v":""}]
[null,{"$f":"Ftrain","v":"Freight train"},{"$f":"Diesel","v":"Diesel"},"l/100km",null,0,0,0,0,0,null,null,null,null,null,null,null,{"$f":"Ftrain","v":"Freight train"},{"$f":"Diesel","v":"Diesel"},null,null,null,null,null,null,{"$f":"IF('Get started'!$B$6=Referencing!$B$385,'5 Default values'!I155,\"\")","v":""},{"$f":"IF('Get started'!$B$6=Referencing!$B$385,'5 Default values'!J155,\"\")","v":""},{"$f":"IF('Get started'!$B$6=Referencing!$B$385,'5 Default values'!K155,\"\")","v":""},{"$f":"IF('Get started'!$B$6=Referencing!$B$385,'5 Default values'!L155,\"\")","v":""},{"$f":"IF('Get started'!$B$6=Referencing!$B$385,'5 Default values'!M155,\"\")","v":""}]
[null,{"$f":"Ftrain","v":"Freight train"},{"$f":"Electric","v":"Electric"},"kWh/100 km",null,0,0,0,0,0,null,null,null,null,null,null,null,{"$f":"Ftrain","v":"Freight train"},{"$f":"Electric","v":"Electric"},null,null,null,null,null,null,{"$f":"IF('Get started'!$B$6=Referencing!$B$385,'5 Default values'!I156,\"\")","v":""},{"$f":"IF('Get started'!$B$6=Referencing!$B$385,'5 Default values'!J156,\"\")","v":""},{"$f":"IF('Get started'!$B$6=Referencing!$B$385,'5 Default values'!K156,\"\")","v":""},{"$f":"IF('Get started'!$B$6=Referencing!$B$385,'5 Default values'!L156,\"\")","v":""},{"$f":"IF('Get started'!$B$6=Referencing!$B$385,'5 Default values'!M156,\"\")","v":""}]
[null,{"$f":"Source","v":"Source"},null,null,null,null,null,null,null,null,null,null,null,null,null,null,null,{"$f":"Source","v":"Source"}]
[]
[]
[{"$f":"Descri27","v":"3.iv) Evolution of the CO2 content from the electricity production in both scenarios"}]
[{"$f":"Descri29","v":"Description: Please enter the CO2 content of the electricity production for the reference year and for future years.\nRemark 1: For scenario calculations, it is mandatory to enter the values for future years as well. These values were used for scenario calculations both for the BAU (this sheet) and the climate scenario (sheets 2A and 2B)."}]
[{"$f":"Descri28","v":"Remark 2: GHG emissions from electric vehicles are zero when applying a TTW (tank to wheel) approach. If the WTW (well to wheel) approach is applied the upstream GHG emissions from the production and transport of the electricity are also considered."}]
[null,{"$f":"Inputmix","v":"Input data for the electricity mix"},null,{"$f":"local","v":"local data"},null,null,null,null,null,{"$f":"default","v":"default values"}]
[null,null,null,{"$f":"$B$3","v":0},2020,2025,2030,2040,2050,{"$f":"$B$3","v":0},2020,2025,2030,2040,2050]
[null,{"$f":"Roadelec","v":"Road - Electric"},"g CO2/kWh",null,null,null,null,null,null,{"$f":"IF('Get started'!$B$6=Referencing!$B$385,'5 Default values'!C160,\"\")","v":""},{"$f":"IF('Get started'!$B$6=Referencing!$B$385,'5 Default values'!D160,\"\")","v":""},{"$f":"IF('Get started'!$B$6=Referencing!$B$385,'5 Default values'!E160,\"\")","v":""},{"$f":"IF('Get started'!$B$6=Referencing!$B$385,'5 Default values'!F160,\"\")","v":""},{"$f":"IF('Get started'!$B$6=Referencing!$B$385,'5 Default values'!G160,\"\")","v":""},{"$f":"IF('Get started'!$B$6=Referencing!$B$385,'5 Default values'!H160,\"\")","v":""}]
[null,{"$f":"Trainelec","v":"Train - Electric"},"g CO2/kWh",null,null,null,null,null,null,{"$f":"IF('Get started'!$B$6=Referencing!$B$385,'5 Default values'!C161,\"\")","v":""},{"$f":"IF('Get started'!$B$6=Referencing!$B$385,'5 Default values'!D161,\"\")","v":""},{"$f":"IF('Get started'!$B$6=Referencing!$B$385,'5 Default values'!E161,\"\")","v":""},{"$f":"IF('Get started'!$B$6=Referencing!$B$385,'5 Default values'!F161,\"\")","v":""},{"$f":"IF('Get started'!$B$6=Referencing!$B$385,'5 Default values'!G161,\"\")","v":""},{"$f":"IF('Get started'!$B$6=Referencing!$B$385,'5 Default values'!H161,\"\")","v":""}]
[null,{"$f":"Source","v":"Source"}]
[]
[]
[]
[]
[]
[]
[]
[]
[{"$f":"donottouch","v":"Do not touch - for graphic purposes"}]
[]
[{"$f":"Graph2","v":"Modal split passenger [pkm]"}]
[{"$f":"Graph1","v":"Modal split freight [tkm]"},{"$f":"Modalsplit","v":"Modal split [pkm]"},{"$f":"'4A Calcul. BAU city'!AD12","v":0},2020,2025,2030,{"$f":"'4A Calcul. BAU city'!AH12","v":2040},{"$f":"'4A Calcul. BAU city'!AI12","v":2050}]
[{"$f":"vktbase","v":"Base vkt [Mio. km]"},{"$f":"NMV","v":"NMT"},{"$f":"IFERROR(SUMIF('4A Calcul. BAU city'!$C$13:$C$61,$B245,'4A Calcul. BAU city'!AQ$13:AQ$61)/SUM('4A Calcul. BAU city'!AQ$13:AQ$61),0)","v":0},{"$f":"IFERROR(SUMIF('4A Calcul. BAU city'!$C$13:$C$61,$B245,'4A Calcul. BAU city'!AR$13:AR$61)/SUM('4A Calcul. BAU city'!AR$13:AR$61),0)","v":0},{"$f":"IFERROR(SUMIF('4A Calcul. BAU city'!$C$13:$C$61,$B245,'4A Calcul. BAU city'!AS$13:AS$61)/SUM('4A Calcul. BAU city'!AS$13:AS$61),0)","v":0},{"$f":"IFERROR(SUMIF('4A Calcul. BAU city'!$C$13:$C$61,$B245,'4A Calcul. BAU city'!AT$13:AT$61)/SUM('4A Calcul. BAU city'!AT$13:AT$61),0)","v":0},{"$f":"IFERROR(SUMIF('4A Calcul. BAU city'!$C$13:$C$61,$B245,'4A Calcul. BAU city'!AU$13:AU$61)/SUM('4A Calcul. BAU city'!AU$13:AU$61),0)","v":0},{"$f":"IFERROR(SUMIF('4A Calcul. BAU city'!$C$13:$C$61,$B245,'4A Calcul. BAU city'!AV$13:AV$61)/SUM('4A Calcul. BAU city'!AV$13:AV$61),0)","v":0}]
[{"$f":"B20& E20","v":"Gross domestic product (GDP)Bin USD "},{"$f":"Pcar","v":"Private car"},{"$f":"IFERROR(SUMIF('4A Calcul. BAU city'!$C$13:$C$61,$B246,'4A Calcul. BAU city'!AQ$13:AQ$61)/SUM('4A Calcul. BAU city'!AQ$13:AQ$61),0)","v":0},{"$f":"IFERROR(SUMIF('4A Calcul. BAU city'!$C$13:$C$61,$B246,'4A Calcul. BAU city'!AR$13:AR$61)/SUM('4A Calcul. BAU city'!AR$13:AR$61),0)","v":0},{"$f":"IFERROR(SUMIF('4A Calcul. BAU city'!$C$13:$C$61,$B246,'4A Calcul. BAU city'!AS$13:AS$61)/SUM('4A Calcul. BAU city'!AS$13:AS$61),0)","v":0},{"$f":"IFERROR(SUMIF('4A Calcul. BAU city'!$C$13:$C$61,$B246,'4A Calcul. BAU city'!AT$13:AT$61)/SUM('4A Calcul. BAU city'!AT$13:AT$61),0)","v":0},{"$f":"IFERROR(SUMIF('4A Calcul. BAU city'!$C$13:$C$61,$B246,'4A Calcul. BAU city'!AU$13:AU$61)/SUM('4A Calcul. BAU city'!AU$13:AU$61),0)","v":0},{"$f":"IFERROR(SUMIF('4A Calcul. BAU city'!$C$13:$C$61,$B246,'4A Calcul. BAU city'!AV$13:AV$61)/SUM('4A Calcul. BAU city'!AV$13:AV$61),0)","v":0}]
[null,{"$f":"Itaxi","v":"Individual taxi"},{"$f":"IFERROR(SUMIF('4A Calcul. BAU city'!$C$13:$C$61,$B247,'4A Calcul. BAU city'!AQ$13:AQ$61)/SUM('4A Calcul. BAU city'!AQ$13:AQ$61),0)","v":0},{"$f":"IFERROR(SUMIF('4A Calcul. BAU city'!$C$13:$C$61,$B247,'4A Calcul. BAU city'!AR$13:AR$61)/SUM('4A Calcul. BAU city'!AR$13:AR$61),0)","v":0},{"$f":"IFERROR(SUMIF('4A Calcul. BAU city'!$C$13:$C$61,$B247,'4A Calcul. BAU city'!AS$13:AS$61)/SUM('4A Calcul. BAU city'!AS$13:AS$61),0)","v":0},{"$f":"IFERROR(SUMIF('4A Calcul. BAU city'!$C$13:$C$61,$B247,'4A Calcul. BAU city'!AT$13:AT$61)/SUM('4A Calcul. BAU city'!AT$13:AT$61),0)","v":0},{"$f":"IFERROR(SUMIF('4A Calcul. BAU city'!$C$13:$C$61,$B247,'4A Calcul. BAU city'!AU$13:AU$61)/SUM('4A Calcul. BAU city'!AU$13:AU$61),0)","v":0},{"$f":"IFERROR(SUMIF('4A Calcul. BAU city'!$C$13:$C$61,$B247,'4A Calcul. BAU city'!AV$13:AV$61)/SUM('4A Calcul. BAU city'!AV$13:AV$61),0)","v":0}]
[null,{"$f":"Motorcycle","v":"Motorcycle"},{"$f":"IFERROR(SUMIF('4A Calcul. BAU city'!$C$13:$C$61,$B248,'4A Calcul. BAU city'!AQ$13:AQ$61)/SUM('4A Calcul. BAU city'!AQ$13:AQ$61),0)","v":0},{"$f":"IFERROR(SUMIF('4A Calcul. BAU city'!$C$13:$C$61,$B248,'4A Calcul. BAU city'!AR$13:AR$61)/SUM('4A Calcul. BAU city'!AR$13:AR$61),0)","v":0},{"$f":"IFERROR(SUMIF('4A Calcul. BAU city'!$C$13:$C$61,$B248,'4A Calcul. BAU city'!AS$13:AS$61)/SUM('4A Calcul. BAU city'!AS$13:AS$61),0)","v":0},{"$f":"IFERROR(SUMIF('4A Calcul. BAU city'!$C$13:$C$61,$B248,'4A Calcul. BAU city'!AT$13:AT$61)/SUM('4A Calcul. BAU city'!AT$13:AT$61),0)","v":0},{"$f":"IFERROR(SUMIF('4A Calcul. BAU city'!$C$13:$C$61,$B248,'4A Calcul. BAU city'!AU$13:AU$61)/SUM('4A Calcul. BAU city'!AU$13:AU$61),0)","v":0},{"$f":"IFERROR(SUMIF('4A Calcul. BAU city'!$C$13:$C$61,$B248,'4A Calcul. BAU city'!AV$13:AV$61)/SUM('4A Calcul. BAU city'!AV$13:AV$61),0)","v":0}]
[null,{"$f":"Mototaxi","v":"Motorcycle taxi"},{"$f":"IFERROR(SUMIF('4A Calcul. BAU city'!$C$13:$C$61,$B249,'4A Calcul. BAU city'!AQ$13:AQ$61)/SUM('4A Calcul. BAU city'!AQ$13:AQ$61),0)","v":0},{"$f":"IFERROR(SUMIF('4A Calcul. BAU city'!$C$13:$C$61,$B249,'4A Calcul. BAU city'!AR$13:AR$61)/SUM('4A Calcul. BAU city'!AR$13:AR$61),0)","v":0},{"$f":"IFERROR(SUMIF('4A Calcul. BAU city'!$C$13:$C$61,$B249,'4A Calcul. BAU city'!AS$13:AS$61)/SUM('4A Calcul. BAU city'!AS$13:AS$61),0)","v":0},{"$f":"IFERROR(SUMIF('4A Calcul. BAU city'!$C$13:$C$61,$B249,'4A Calcul. BAU city'!AT$13:AT$61)/SUM('4A Calcul. BAU city'!AT$13:AT$61),0)","v":0},{"$f":"IFERROR(SUMIF('4A Calcul. BAU city'!$C$13:$C$61,$B249,'4A Calcul. BAU city'!AU$13:AU$61)/SUM('4A Calcul. BAU city'!AU$13:AU$61),0)","v":0},{"$f":"IFERROR(SUMIF('4A Calcul. BAU city'!$C$13:$C$61,$B249,'4A Calcul. BAU city'!AV$13:AV$61)/SUM('4A Calcul. BAU city'!AV$13:AV$61),0)","v":0}]
[null,{"$f":"Minibus","v":"Minibus"},{"$f":"IFERROR(SUMIF('4A Calcul. BAU city'!$C$13:$C$61,$B250,'4A Calcul. BAU city'!AQ$13:AQ$61)/SUM('4A Calcul. BAU city'!AQ$13:AQ$61),0)","v":0},{"$f":"IFERROR(SUMIF('4A Calcul. BAU city'!$C$13:$C$61,$B250,'4A Calcul. BAU city'!AR$13:AR$61)/SUM('4A Calcul. BAU city'!AR$13:AR$61),0)","v":0},{"$f":"IFERROR(SUMIF('4A Calcul. BAU city'!$C$13:$C$61,$B250,'4A Calcul. BAU city'!AS$13:AS$61)/SUM('4A Calcul. BAU city'!AS$13:AS$61),0)","v":0},{"$f":"IFERROR(SUMIF('4A Calcul. BAU city'!$C$13:$C$61,$B250,'4A Calcul. BAU city'!AT$13:AT$61)/SUM('4A Calcul. BAU city'!AT$13:AT$61),0)","v":0},{"$f":"IFERROR(SUMIF('4A Calcul. BAU city'!$C$13:$C$61,$B250,'4A Calcul. BAU city'!AU$13:AU$61)/SUM('4A Calcul. BAU city'!AU$13:AU$61),0)","v":0},{"$f":"IFERROR(SUMIF('4A Calcul. BAU city'!$C$13:$C$61,$B250,'4A Calcul. BAU city'!AV$13:AV$61)/SUM('4A Calcul. BAU city'!AV$13:AV$61),0)","v":0}]
[null,{"$f":"Bus","v":"Bus"},{"$f":"IFERROR(SUMIF('4A Calcul. BAU city'!$C$13:$C$61,$B251,'4A Calcul. BAU city'!AQ$13:AQ$61)/SUM('4A Calcul. BAU city'!AQ$13:AQ$61),0)","v":0},{"$f":"IFERROR(SUMIF('4A Calcul. BAU city'!$C$13:$C$61,$B251,'4A Calcul. BAU city'!AR$13:AR$61)/SUM('4A Calcul. BAU city'!AR$13:AR$61),0)","v":0},{"$f":"IFERROR(SUMIF('4A Calcul. BAU city'!$C$13:$C$61,$B251,'4A Calcul. BAU city'!AS$13:AS$61)/SUM('4A Calcul. BAU city'!AS$13:AS$61),0)","v":0},{"$f":"IFERROR(SUMIF('4A Calcul. BAU city'!$C$13:$C$61,$B251,'4A Calcul. BAU city'!AT$13:AT$61)/SUM('4A Calcul. BAU city'!AT$13:AT$61),0)","v":0},{"$f":"IFERROR(SUMIF('4A Calcul. BAU city'!$C$13:$C$61,$B251,'4A Calcul. BAU city'!AU$13:AU$61)/SUM('4A Calcul. BAU city'!AU$13:AU$61),0)","v":0},{"$f":"IFERROR(SUMIF('4A Calcul. BAU city'!$C$13:$C$61,$B251,'4A Calcul. BAU city'!AV$13:AV$61)/SUM('4A Calcul. BAU city'!AV$13:AV$61),0)","v":0}]
[null,{"$f":"BRT","v":"BRT"},{"$f":"IFERROR(SUMIF('4A Calcul. BAU city'!$C$13:$C$61,$B252,'4A Calcul. BAU city'!AQ$13:AQ$61)/SUM('4A Calcul. BAU city'!AQ$13:AQ$61),0)","v":0},{"$f":"IFERROR(SUMIF('4A Calcul. BAU city'!$C$13:$C$61,$B252,'4A Calcul. BAU city'!AR$13:AR$61)/SUM('4A Calcul. BAU city'!AR$13:AR$61),0)","v":0},{"$f":"IFERROR(SUMIF('4A Calcul. BAU city'!$C$13:$C$61,$B252,'4A Calcul. BAU city'!AS$13:AS$61)/SUM('4A Calcul. BAU city'!AS$13:AS$61),0)","v":0},{"$f":"IFERROR(SUMIF('4A Calcul. BAU city'!$C$13:$C$61,$B252,'4A Calcul. BAU city'!AT$13:AT$61)/SUM('4A Calcul. BAU city'!AT$13:AT$61),0)","v":0},{"$f":"IFERROR(SUMIF('4A Calcul. BAU city'!$C$13:$C$61,$B252,'4A Calcul. BAU city'!AU$13:AU$61)/SUM('4A Calcul. BAU city'!AU$13:AU$61),0)","v":0},{"$f":"IFERROR(SUMIF('4A Calcul. BAU city'!$C$13:$C$61,$B252,'4A Calcul. BAU city'!AV$13:AV$61)/SUM('4A Calcul. BAU city'!AV$13:AV$61),0)","v":0}]
[null,{"$f":"Train","v":"Long distance train"},{"$f":"IFERROR(SUMIF('4A Calcul. BAU city'!$C$13:$C$61,$B253,'4A Calcul. BAU city'!AQ$13:AQ$61)/SUM('4A Calcul. BAU city'!AQ$13:AQ$61),0)","v":0},{"$f":"IFERROR(SUMIF('4A Calcul. BAU city'!$C$13:$C$61,$B253,'4A Calcul. BAU city'!AR$13:AR$61)/SUM('4A Calcul. BAU city'!AR$13:AR$61),0)","v":0},{"$f":"IFERROR(SUMIF('4A Calcul. BAU city'!$C$13:$C$61,$B253,'4A Calcul. BAU city'!AS$13:AS$61)/SUM('4A Calcul. BAU city'!AS$13:AS$61),0)","v":0},{"$f":"IFERROR(SUMIF('4A Calcul. BAU city'!$C$13:$C$61,$B253,'4A Calcul. BAU city'!AT$13:AT$61)/SUM('4A Calcul. BAU city'!AT$13:AT$61),0)","v":0},{"$f":"IFERROR(SUMIF('4A Calcul. BAU city'!$C$13:$C$61,$B253,'4A Calcul. BAU city'!AU$13:AU$61)/SUM('4A Calcul. BAU city'!AU$13:AU$61),0)","v":0},{"$f":"IFERROR(SUMIF('4A Calcul. BAU city'!$C$13:$C$61,$B253,'4A Calcul. BAU city'!AV$13:AV$61)/SUM('4A Calcul. BAU city'!AV$13:AV$61),0)","v":0}]
[null,{"$f":"Utrain","v":"Urban train"},{"$f":"IFERROR(SUMIF('4A Calcul. BAU city'!$C$13:$C$61,$B254,'4A Calcul. BAU city'!AQ$13:AQ$61)/SUM('4A Calcul. BAU city'!AQ$13:AQ$61),0)","v":0},{"$f":"IFERROR(SUMIF('4A Calcul. BAU city'!$C$13:$C$61,$B254,'4A Calcul. BAU city'!AR$13:AR$61)/SUM('4A Calcul. BAU city'!AR$13:AR$61),0)","v":0},{"$f":"IFERROR(SUMIF('4A Calcul. BAU city'!$C$13:$C$61,$B254,'4A Calcul. BAU city'!AS$13:AS$61)/SUM('4A Calcul. BAU city'!AS$13:AS$61),0)","v":0},{"$f":"IFERROR(SUMIF('4A Calcul. BAU city'!$C$13:$C$61,$B254,'4A Calcul. BAU city'!AT$13:AT$61)/SUM('4A Calcul. BAU city'!AT$13:AT$61),0)","v":0},{"$f":"IFERROR(SUMIF('4A Calcul. BAU city'!$C$13:$C$61,$B254,'4A Calcul. BAU city'!AU$13:AU$61)/SUM('4A Calcul. BAU city'!AU$13:AU$61),0)","v":0},{"$f":"IFERROR(SUMIF('4A Calcul. BAU city'!$C$13:$C$61,$B254,'4A Calcul. BAU city'!AV$13:AV$61)/SUM('4A Calcul. BAU city'!AV$13:AV$61),0)","v":0}]
[null,{"$f":"Metro","v":"Metro"},{"$f":"IFERROR(SUMIF('4A Calcul. BAU city'!$C$13:$C$61,$B255,'4A Calcul. BAU city'!AQ$13:AQ$61)/SUM('4A Calcul. BAU city'!AQ$13:AQ$61),0)","v":0},{"$f":"IFERROR(SUMIF('4A Calcul. BAU city'!$C$13:$C$61,$B255,'4A Calcul. BAU city'!AR$13:AR$61)/SUM('4A Calcul. BAU city'!AR$13:AR$61),0)","v":0},{"$f":"IFERROR(SUMIF('4A Calcul. BAU city'!$C$13:$C$61,$B255,'4A Calcul. BAU city'!AS$13:AS$61)/SUM('4A Calcul. BAU city'!AS$13:AS$61),0)","v":0},{"$f":"IFERROR(SUMIF('4A Calcul. BAU city'!$C$13:$C$61,$B255,'4A Calcul. BAU city'!AT$13:AT$61)/SUM('4A Calcul. BAU city'!AT$13:AT$61),0)","v":0},{"$f":"IFERROR(SUMIF('4A Calcul. BAU city'!$C$13:$C$61,$B255,'4A Calcul. BAU city'!AU$13:AU$61)/SUM('4A Calcul. BAU city'!AU$13:AU$61),0)","v":0},{"$f":"IFERROR(SUMIF('4A Calcul. BAU city'!$C$13:$C$61,$B255,'4A Calcul. BAU city'!AV$13:AV$61)/SUM('4A Calcul. BAU city'!AV$13:AV$61),0)","v":0}]
[null,{"$f":"lightLCV","v":"Very light LCV"},{"$f":"IFERROR(SUMIF('4A Calcul. BAU city'!$C$13:$C$61,$B256,'4A Calcul. BAU city'!AW$13:AW$61)/SUM('4A Calcul. BAU city'!AW$13:AW$61),0)","v":0},{"$f":"IFERROR(SUMIF('4A Calcul. BAU city'!$C$13:$C$61,$B256,'4A Calcul. BAU city'!AX$13:AX$61)/SUM('4A Calcul. BAU city'!AX$13:AX$61),0)","v":0},{"$f":"IFERROR(SUMIF('4A Calcul. BAU city'!$C$13:$C$61,$B256,'4A Calcul. BAU city'!AY$13:AY$61)/SUM('4A Calcul. BAU city'!AY$13:AY$61),0)","v":0},{"$f":"IFERROR(SUMIF('4A Calcul. BAU city'!$C$13:$C$61,$B256,'4A Calcul. BAU city'!AZ$13:AZ$61)/SUM('4A Calcul. BAU city'!AZ$13:AZ$61),0)","v":0},{"$f":"IFERROR(SUMIF('4A Calcul. BAU city'!$C$13:$C$61,$B256,'4A Calcul. BAU city'!BA$13:BA$61)/SUM('4A Calcul. BAU city'!BA$13:BA$61),0)","v":0},{"$f":"IFERROR(SUMIF('4A Calcul. BAU city'!$C$13:$C$61,$B256,'4A Calcul. BAU city'!BB$13:BB$61)/SUM('4A Calcul. BAU city'!BB$13:BB$61),0)","v":0}]
[null,{"$f":"LCV","v":"LCV"},{"$f":"IFERROR(SUMIF('4A Calcul. BAU city'!$C$13:$C$61,$B257,'4A Calcul. BAU city'!AW$13:AW$61)/SUM('4A Calcul. BAU city'!AW$13:AW$61),0)","v":0},{"$f":"IFERROR(SUMIF('4A Calcul. BAU city'!$C$13:$C$61,$B257,'4A Calcul. BAU city'!AX$13:AX$61)/SUM('4A Calcul. BAU city'!AX$13:AX$61),0)","v":0},{"$f":"IFERROR(SUMIF('4A Calcul. BAU city'!$C$13:$C$61,$B257,'4A Calcul. BAU city'!AY$13:AY$61)/SUM('4A Calcul. BAU city'!AY$13:AY$61),0)","v":0},{"$f":"IFERROR(SUMIF('4A Calcul. BAU city'!$C$13:$C$61,$B257,'4A Calcul. BAU city'!AZ$13:AZ$61)/SUM('4A Calcul. BAU city'!AZ$13:AZ$61),0)","v":0},{"$f":"IFERROR(SUMIF('4A Calcul. BAU city'!$C$13:$C$61,$B257,'4A Calcul. BAU city'!BA$13:BA$61)/SUM('4A Calcul. BAU city'!BA$13:BA$61),0)","v":0},{"$f":"IFERROR(SUMIF('4A Calcul. BAU city'!$C$13:$C$61,$B257,'4A Calcul. BAU city'!BB$13:BB$61)/SUM('4A Calcul. BAU city'!BB$13:BB$61),0)","v":0}]
[null,{"$f":"Solo","v":"Solo truck"},{"$f":"IFERROR(SUMIF('4A Calcul. BAU city'!$C$13:$C$61,$B258,'4A Calcul. BAU city'!AW$13:AW$61)/SUM('4A Calcul. BAU city'!AW$13:AW$61),0)","v":0},{"$f":"IFERROR(SUMIF('4A Calcul. BAU city'!$C$13:$C$61,$B258,'4A Calcul. BAU city'!AX$13:AX$61)/SUM('4A Calcul. BAU city'!AX$13:AX$61),0)","v":0},{"$f":"IFERROR(SUMIF('4A Calcul. BAU city'!$C$13:$C$61,$B258,'4A Calcul. BAU city'!AY$13:AY$61)/SUM('4A Calcul. BAU city'!AY$13:AY$61),0)","v":0},{"$f":"IFERROR(SUMIF('4A Calcul. BAU city'!$C$13:$C$61,$B258,'4A Calcul. BAU city'!AZ$13:AZ$61)/SUM('4A Calcul. BAU city'!AZ$13:AZ$61),0)","v":0},{"$f":"IFERROR(SUMIF('4A Calcul. BAU city'!$C$13:$C$61,$B258,'4A Calcul. BAU city'!BA$13:BA$61)/SUM('4A Calcul. BAU city'!BA$13:BA$61),0)","v":0},{"$f":"IFERROR(SUMIF('4A Calcul. BAU city'!$C$13:$C$61,$B258,'4A Calcul. BAU city'!BB$13:BB$61)/SUM('4A Calcul. BAU city'!BB$13:BB$61),0)","v":0}]
[null,{"$f":"Atruck","v":"Articulated truck"},{"$f":"IFERROR(SUMIF('4A Calcul. BAU city'!$C$13:$C$61,$B259,'4A Calcul. BAU city'!AW$13:AW$61)/SUM('4A Calcul. BAU city'!AW$13:AW$61),0)","v":0},{"$f":"IFERROR(SUMIF('4A Calcul. BAU city'!$C$13:$C$61,$B259,'4A Calcul. BAU city'!AX$13:AX$61)/SUM('4A Calcul. BAU city'!AX$13:AX$61),0)","v":0},{"$f":"IFERROR(SUMIF('4A Calcul. BAU city'!$C$13:$C$61,$B259,'4A Calcul. BAU city'!AY$13:AY$61)/SUM('4A Calcul. BAU city'!AY$13:AY$61),0)","v":0},{"$f":"IFERROR(SUMIF('4A Calcul. BAU city'!$C$13:$C$61,$B259,'4A Calcul. BAU city'!AZ$13:AZ$61)/SUM('4A Calcul. BAU city'!AZ$13:AZ$61),0)","v":0},{"$f":"IFERROR(SUMIF('4A Calcul. BAU city'!$C$13:$C$61,$B259,'4A Calcul. BAU city'!BA$13:BA$61)/SUM('4A Calcul. BAU city'!BA$13:BA$61),0)","v":0},{"$f":"IFERROR(SUMIF('4A Calcul. BAU city'!$C$13:$C$61,$B259,'4A Calcul. BAU city'!BB$13:BB$61)/SUM('4A Calcul. BAU city'!BB$13:BB$61),0)","v":0}]
[null,{"$f":"Ftrain","v":"Freight train"},{"$f":"IFERROR(SUMIF('4A Calcul. BAU city'!$C$13:$C$61,$B260,'4A Calcul. BAU city'!AW$13:AW$61)/SUM('4A Calcul. BAU city'!AW$13:AW$61),0)","v":0},{"$f":"IFERROR(SUMIF('4A Calcul. BAU city'!$C$13:$C$61,$B260,'4A Calcul. BAU city'!AX$13:AX$61)/SUM('4A Calcul. BAU city'!AX$13:AX$61),0)","v":0},{"$f":"IFERROR(SUMIF('4A Calcul. BAU city'!$C$13:$C$61,$B260,'4A Calcul. BAU city'!AY$13:AY$61)/SUM('4A Calcul. BAU city'!AY$13:AY$61),0)","v":0},{"$f":"IFERROR(SUMIF('4A Calcul. BAU city'!$C$13:$C$61,$B260,'4A Calcul. BAU city'!AZ$13:AZ$61)/SUM('4A Calcul. BAU city'!AZ$13:AZ$61),0)","v":0},{"$f":"IFERROR(SUMIF('4A Calcul. BAU city'!$C$13:$C$61,$B260,'4A Calcul. BAU city'!BA$13:BA$61)/SUM('4A Calcul. BAU city'!BA$13:BA$61),0)","v":0},{"$f":"IFERROR(SUMIF('4A Calcul. BAU city'!$C$13:$C$61,$B260,'4A Calcul. BAU city'!BB$13:BB$61)/SUM('4A Calcul. BAU city'!BB$13:BB$61),0)","v":0}]
[null,{"$f":"Total","v":"Sum"},{"$f":"SUM(C245:C260)","v":0},{"$f":"SUM(D245:D260)","v":0},0,0,0,0]
[]
[null,{"$f":"Graph3&'3 Overview of results'!D12","v":"Emission of transportation [1000 t GHG] TTW"},{"$f":"'1A Input Base and BAU'!C244","v":0},{"$f":"'1A Input Base and BAU'!D244","v":2020},2025,2030,{"$f":"'1A Input Base and BAU'!G244","v":2040},{"$f":"'1A Input Base and BAU'!H244","v":2050},"Check",{"$f":"C263","v":0},{"$f":"D263","v":2020},2025,2030,2040,2050,null,{"$f":"J263","v":0},{"$f":"K263","v":2020},2025,2030,{"$f":"N263","v":2040},{"$f":"O263","v":2050}]
[null,{"$f":"NMV","v":"NMT"},{"$f":"SUMIF('4A Calcul. BAU city'!$C$13:$C$61,$B264,'4A Calcul. BAU city'!AJ$13:AJ$61)","v":0},{"$f":"SUMIF('4A Calcul. BAU city'!$C$13:$C$61,$B264,'4A Calcul. BAU city'!AK$13:AK$61)","v":0},{"$f":"SUMIF('4A Calcul. BAU city'!$C$13:$C$61,$B264,'4A Calcul. BAU city'!AL$13:AL$61)","v":0},{"$f":"SUMIF('4A Calcul. BAU city'!$C$13:$C$61,$B264,'4A Calcul. BAU city'!AM$13:AM$61)","v":0},{"$f":"SUMIF('4A Calcul. BAU city'!$C$13:$C$61,$B264,'4A Calcul. BAU city'!AN$13:AN$61)","v":0},{"$f":"SUMIF('4A Calcul. BAU city'!$C$13:$C$61,$B264,'4A Calcul. BAU city'!AO$13:AO$61)","v":0},null,"Gramm CO2äq pro Fz-km",null,null,null,null,null,null,"Gramm CO2äq pro pkm/tkm"]
[null,{"$f":"Pcar","v":"Private car"},{"$f":"SUMIF('4A Calcul. BAU city'!$C$13:$C$61,$B265,'4A Calcul. BAU city'!AJ$13:AJ$61)","v":0},{"$f":"SUMIF('4A Calcul. BAU city'!$C$13:$C$61,$B265,'4A Calcul. BAU city'!AK$13:AK$61)","v":0},{"$f":"SUMIF('4A Calcul. BAU city'!$C$13:$C$61,$B265,'4A Calcul. BAU city'!AL$13:AL$61)","v":0},{"$f":"SUMIF('4A Calcul. BAU city'!$C$13:$C$61,$B265,'4A Calcul. BAU city'!AM$13:AM$61)","v":0},{"$f":"SUMIF('4A Calcul. BAU city'!$C$13:$C$61,$B265,'4A Calcul. BAU city'!AN$13:AN$61)","v":0},{"$f":"SUMIF('4A Calcul. BAU city'!$C$13:$C$61,$B265,'4A Calcul. BAU city'!AO$13:AO$61)","v":0},null,{"$f":"C265*1000/(C50*10^6)*10^6","v":{"$error":"#VALUE!"}},{"$error":"#VALUE!"},{"$error":"#VALUE!"},{"$error":"#VALUE!"},{"$error":"#VALUE!"},{"$error":"#VALUE!"},null,{"$f":"J265/$D$75","v":{"$error":"#VALUE!"}},{"$f":"K265/$D$75","v":{"$error":"#VALUE!"}},{"$error":"#VALUE!"},{"$error":"#VALUE!"},{"$error":"#VALUE!"},{"$error":"#VALUE!"}]
[null,{"$f":"Itaxi","v":"Individual taxi"},{"$f":"SUMIF('4A Calcul. BAU city'!$C$13:$C$61,$B266,'4A Calcul. BAU city'!AJ$13:AJ$61)","v":0},{"$f":"SUMIF('4A Calcul. BAU city'!$C$13:$C$61,$B266,'4A Calcul. BAU city'!AK$13:AK$61)","v":0},{"$f":"SUMIF('4A Calcul. BAU city'!$C$13:$C$61,$B266,'4A Calcul. BAU city'!AL$13:AL$61)","v":0},{"$f":"SUMIF('4A Calcul. BAU city'!$C$13:$C$61,$B266,'4A Calcul. BAU city'!AM$13:AM$61)","v":0},{"$f":"SUMIF('4A Calcul. BAU city'!$C$13:$C$61,$B266,'4A Calcul. BAU city'!AN$13:AN$61)","v":0},{"$f":"SUMIF('4A Calcul. BAU city'!$C$13:$C$61,$B266,'4A Calcul. BAU city'!AO$13:AO$61)","v":0},null,{"$error":"#VALUE!"},{"$error":"#VALUE!"},{"$error":"#VALUE!"},{"$error":"#VALUE!"},{"$error":"#VALUE!"},{"$error":"#VALUE!"},null,{"$f":"J266/$D$76","v":{"$error":"#VALUE!"}},{"$f":"K266/$D$76","v":{"$error":"#VALUE!"}},{"$error":"#VALUE!"},{"$error":"#VALUE!"},{"$error":"#VALUE!"},{"$error":"#VALUE!"}]
[null,{"$f":"Motorcycle","v":"Motorcycle"},{"$f":"SUMIF('4A Calcul. BAU city'!$C$13:$C$61,$B267,'4A Calcul. BAU city'!AJ$13:AJ$61)","v":0},{"$f":"SUMIF('4A Calcul. BAU city'!$C$13:$C$61,$B267,'4A Calcul. BAU city'!AK$13:AK$61)","v":0},{"$f":"SUMIF('4A Calcul. BAU city'!$C$13:$C$61,$B267,'4A Calcul. BAU city'!AL$13:AL$61)","v":0},{"$f":"SUMIF('4A Calcul. BAU city'!$C$13:$C$61,$B267,'4A Calcul. BAU city'!AM$13:AM$61)","v":0},{"$f":"SUMIF('4A Calcul. BAU city'!$C$13:$C$61,$B267,'4A Calcul. BAU city'!AN$13:AN$61)","v":0},{"$f":"SUMIF('4A Calcul. BAU city'!$C$13:$C$61,$B267,'4A Calcul. BAU city'!AO$13:AO$61)","v":0},null,{"$error":"#VALUE!"},{"$error":"#VALUE!"},{"$error":"#VALUE!"},{"$error":"#VALUE!"},{"$error":"#VALUE!"},{"$error":"#VALUE!"},null,{"$f":"J267/$D$77","v":{"$error":"#VALUE!"}},{"$f":"K267/$D$77","v":{"$error":"#VALUE!"}},{"$error":"#VALUE!"},{"$error":"#VALUE!"},{"$error":"#VALUE!"},{"$error":"#VALUE!"}]
[null,{"$f":"Mototaxi","v":"Motorcycle taxi"},{"$f":"SUMIF('4A Calcul. BAU city'!$C$13:$C$61,$B268,'4A Calcul. BAU city'!AJ$13:AJ$61)","v":0},{"$f":"SUMIF('4A Calcul. BAU city'!$C$13:$C$61,$B268,'4A Calcul. BAU city'!AK$13:AK$61)","v":0},{"$f":"SUMIF('4A Calcul. BAU city'!$C$13:$C$61,$B268,'4A Calcul. BAU city'!AL$13:AL$61)","v":0},{"$f":"SUMIF('4A Calcul. BAU city'!$C$13:$C$61,$B268,'4A Calcul. BAU city'!AM$13:AM$61)","v":0},{"$f":"SUMIF('4A Calcul. BAU city'!$C$13:$C$61,$B268,'4A Calcul. BAU city'!AN$13:AN$61)","v":0},{"$f":"SUMIF('4A Calcul. BAU city'!$C$13:$C$61,$B268,'4A Calcul. BAU city'!AO$13:AO$61)","v":0},null,{"$error":"#VALUE!"},{"$error":"#VALUE!"},{"$error":"#VALUE!"},{"$error":"#VALUE!"},{"$error":"#VALUE!"},{"$error":"#VALUE!"},null,{"$f":"J268/$D$78","v":{"$error":"#VALUE!"}},{"$f":"K268/$D$78","v":{"$error":"#VALUE!"}},{"$error":"#VALUE!"},{"$error":"#VALUE!"},{"$error":"#VALUE!"},{"$error":"#VALUE!"}]
[null,{"$f":"Minibus","v":"Minibus"},{"$f":"SUMIF('4A Calcul. BAU city'!$C$13:$C$61,$B269,'4A Calcul. BAU city'!AJ$13:AJ$61)","v":0},{"$f":"SUMIF('4A Calcul. BAU city'!$C$13:$C$61,$B269,'4A Calcul. BAU city'!AK$13:AK$61)","v":0},{"$f":"SUMIF('4A Calcul. BAU city'!$C$13:$C$61,$B269,'4A Calcul. BAU city'!AL$13:AL$61)","v":0},{"$f":"SUMIF('4A Calcul. BAU city'!$C$13:$C$61,$B269,'4A Calcul. BAU city'!AM$13:AM$61)","v":0},{"$f":"SUMIF('4A Calcul. BAU city'!$C$13:$C$61,$B269,'4A Calcul. BAU city'!AN$13:AN$61)","v":0},{"$f":"SUMIF('4A Calcul. BAU city'!$C$13:$C$61,$B269,'4A Calcul. BAU city'!AO$13:AO$61)","v":0},null,{"$error":"#VALUE!"},{"$error":"#VALUE!"},{"$error":"#VALUE!"},{"$error":"#VALUE!"},{"$error":"#VALUE!"},{"$error":"#VALUE!"},null,{"$f":"J269/$D$79","v":{"$error":"#VALUE!"}},{"$f":"K269/$D$79","v":{"$error":"#VALUE!"}},{"$error":"#VALUE!"},{"$error":"#VALUE!"},{"$error":"#VALUE!"},{"$error":"#VALUE!"}]
[null,{"$f":"Bus","v":"Bus"},{"$f":"SUMIF('4A Calcul. BAU city'!$C$13:$C$61,$B270,'4A Calcul. BAU city'!AJ$13:AJ$61)","v":0},{"$f":"SUMIF('4A Calcul. BAU city'!$C$13:$C$61,$B270,'4A Calcul. BAU city'!AK$13:AK$61)","v":0},{"$f":"SUMIF('4A Calcul. BAU city'!$C$13:$C$61,$B270,'4A Calcul. BAU city'!AL$13:AL$61)","v":0},{"$f":"SUMIF('4A Calcul. BAU city'!$C$13:$C$61,$B270,'4A Calcul. BAU city'!AM$13:AM$61)","v":0},{"$f":"SUMIF('4A Calcul. BAU city'!$C$13:$C$61,$B270,'4A Calcul. BAU city'!AN$13:AN$61)","v":0},{"$f":"SUMIF('4A Calcul. BAU city'!$C$13:$C$61,$B270,'4A Calcul. BAU city'!AO$13:AO$61)","v":0},null,{"$error":"#VALUE!"},{"$error":"#VALUE!"},{"$error":"#VALUE!"},{"$error":"#VALUE!"},{"$error":"#VALUE!"},{"$error":"#VALUE!"},null,{"$f":"J270/$D$80","v":{"$error":"#VALUE!"}},{"$f":"K270/$D$80","v":{"$error":"#VALUE!"}},{"$error":"#VALUE!"},{"$error":"#VALUE!"},{"$error":"#VALUE!"},{"$error":"#VALUE!"}]
[null,{"$f":"BRT","v":"BRT"},{"$f":"SUMIF('4A Calcul. BAU city'!$C$13:$C$61,$B271,'4A Calcul. BAU city'!AJ$13:AJ$61)","v":0},{"$f":"SUMIF('4A Calcul. BAU city'!$C$13:$C$61,$B271,'4A Calcul. BAU city'!AK$13:AK$61)","v":0},{"$f":"SUMIF('4A Calcul. BAU city'!$C$13:$C$61,$B271,'4A Calcul. BAU city'!AL$13:AL$61)","v":0},{"$f":"SUMIF('4A Calcul. BAU city'!$C$13:$C$61,$B271,'4A Calcul. BAU city'!AM$13:AM$61)","v":0},{"$f":"SUMIF('4A Calcul. BAU city'!$C$13:$C$61,$B271,'4A Calcul. BAU city'!AN$13:AN$61)","v":0},{"$f":"SUMIF('4A Calcul. BAU city'!$C$13:$C$61,$B271,'4A Calcul. BAU city'!AO$13:AO$61)","v":0},null,{"$error":"#VALUE!"},{"$error":"#VALUE!"},{"$error":"#VALUE!"},{"$error":"#VALUE!"},{"$error":"#VALUE!"},{"$error":"#VALUE!"},null,{"$f":"J271/$D$81","v":{"$error":"#VALUE!"}},{"$f":"K271/$D$81","v":{"$error":"#VALUE!"}},{"$error":"#VALUE!"},{"$error":"#VALUE!"},{"$error":"#VALUE!"},{"$error":"#VALUE!"}]
[null,{"$f":"Train","v":"Long distance train"},{"$f":"SUMIF('4A Calcul. BAU city'!$C$13:$C$61,$B272,'4A Calcul. BAU city'!AJ$13:AJ$61)","v":0},{"$f":"SUMIF('4A Calcul. BAU city'!$C$13:$C$61,$B272,'4A Calcul. BAU city'!AK$13:AK$61)","v":0},{"$f":"SUMIF('4A Calcul. BAU city'!$C$13:$C$61,$B272,'4A Calcul. BAU city'!AL$13:AL$61)","v":0},{"$f":"SUMIF('4A Calcul. BAU city'!$C$13:$C$61,$B272,'4A Calcul. BAU city'!AM$13:AM$61)","v":0},{"$f":"SUMIF('4A Calcul. BAU city'!$C$13:$C$61,$B272,'4A Calcul. BAU city'!AN$13:AN$61)","v":0},{"$f":"SUMIF('4A Calcul. BAU city'!$C$13:$C$61,$B272,'4A Calcul. BAU city'!AO$13:AO$61)","v":0},null,{"$error":"#VALUE!"},{"$error":"#VALUE!"},{"$error":"#VALUE!"},{"$error":"#VALUE!"},{"$error":"#VALUE!"},{"$error":"#VALUE!"},null,{"$f":"J272/$D$82","v":{"$error":"#VALUE!"}},{"$f":"K272/$D$82","v":{"$error":"#VALUE!"}},{"$error":"#VALUE!"},{"$error":"#VALUE!"},{"$error":"#VALUE!"},{"$error":"#VALUE!"}]
[null,{"$f":"Utrain","v":"Urban train"},{"$f":"SUMIF('4A Calcul. BAU city'!$C$13:$C$61,$B273,'4A Calcul. BAU city'!AJ$13:AJ$61)","v":0},{"$f":"SUMIF('4A Calcul. BAU city'!$C$13:$C$61,$B273,'4A Calcul. BAU city'!AK$13:AK$61)","v":0},{"$f":"SUMIF('4A Calcul. BAU city'!$C$13:$C$61,$B273,'4A Calcul. BAU city'!AL$13:AL$61)","v":0},{"$f":"SUMIF('4A Calcul. BAU city'!$C$13:$C$61,$B273,'4A Calcul. BAU city'!AM$13:AM$61)","v":0},{"$f":"SUMIF('4A Calcul. BAU city'!$C$13:$C$61,$B273,'4A Calcul. BAU city'!AN$13:AN$61)","v":0},{"$f":"SUMIF('4A Calcul. BAU city'!$C$13:$C$61,$B273,'4A Calcul. BAU city'!AO$13:AO$61)","v":0},null,{"$f":"C273/C58*1000","v":{"$error":"#VALUE!"}},{"$error":"#VALUE!"},{"$error":"#VALUE!"},{"$error":"#VALUE!"},{"$error":"#VALUE!"},{"$error":"#VALUE!"},null,{"$f":"J273/$D$83","v":{"$error":"#VALUE!"}},{"$f":"K273/$D$83","v":{"$error":"#VALUE!"}},{"$error":"#VALUE!"},{"$error":"#VALUE!"},{"$error":"#VALUE!"},{"$error":"#VALUE!"}]
[null,{"$f":"Metro","v":"Metro"},{"$f":"SUMIF('4A Calcul. BAU city'!$C$13:$C$61,$B274,'4A Calcul. BAU city'!AJ$13:AJ$61)","v":0},{"$f":"SUMIF('4A Calcul. BAU city'!$C$13:$C$61,$B274,'4A Calcul. BAU city'!AK$13:AK$61)","v":0},{"$f":"SUMIF('4A Calcul. BAU city'!$C$13:$C$61,$B274,'4A Calcul. BAU city'!AL$13:AL$61)","v":0},{"$f":"SUMIF('4A Calcul. BAU city'!$C$13:$C$61,$B274,'4A Calcul. BAU city'!AM$13:AM$61)","v":0},{"$f":"SUMIF('4A Calcul. BAU city'!$C$13:$C$61,$B274,'4A Calcul. BAU city'!AN$13:AN$61)","v":0},{"$f":"SUMIF('4A Calcul. BAU city'!$C$13:$C$61,$B274,'4A Calcul. BAU city'!AO$13:AO$61)","v":0},null,{"$error":"#VALUE!"},{"$error":"#VALUE!"},{"$error":"#VALUE!"},{"$error":"#VALUE!"},{"$error":"#VALUE!"},{"$error":"#VALUE!"},null,{"$f":"J274/$D$84","v":{"$error":"#VALUE!"}},{"$f":"K274/$D$84","v":{"$error":"#VALUE!"}},{"$error":"#VALUE!"},{"$error":"#VALUE!"},{"$error":"#VALUE!"},{"$error":"#VALUE!"}]
[null,{"$f":"lightLCV","v":"Very light LCV"},{"$f":"SUMIF('4A Calcul. BAU city'!$C$13:$C$61,$B275,'4A Calcul. BAU city'!AJ$13:AJ$61)","v":0},{"$f":"SUMIF('4A Calcul. BAU city'!$C$13:$C$61,$B275,'4A Calcul. BAU city'!AK$13:AK$61)","v":0},{"$f":"SUMIF('4A Calcul. BAU city'!$C$13:$C$61,$B275,'4A Calcul. BAU city'!AL$13:AL$61)","v":0},{"$f":"SUMIF('4A Calcul. BAU city'!$C$13:$C$61,$B275,'4A Calcul. BAU city'!AM$13:AM$61)","v":0},{"$f":"SUMIF('4A Calcul. BAU city'!$C$13:$C$61,$B275,'4A Calcul. BAU city'!AN$13:AN$61)","v":0},{"$f":"SUMIF('4A Calcul. BAU city'!$C$13:$C$61,$B275,'4A Calcul. BAU city'!AO$13:AO$61)","v":0},null,{"$error":"#VALUE!"},{"$error":"#VALUE!"},{"$error":"#VALUE!"},{"$error":"#VALUE!"},{"$error":"#VALUE!"},{"$error":"#VALUE!"},null,{"$f":"J275/$D$85","v":{"$error":"#VALUE!"}},{"$f":"K275/$D$85","v":{"$error":"#VALUE!"}},{"$error":"#VALUE!"},{"$error":"#VALUE!"},{"$error":"#VALUE!"},{"$error":"#VALUE!"}]
[null,{"$f":"LCV","v":"LCV"},{"$f":"SUMIF('4A Calcul. BAU city'!$C$13:$C$61,$B276,'4A Calcul. BAU city'!AJ$13:AJ$61)","v":0},{"$f":"SUMIF('4A Calcul. BAU city'!$C$13:$C$61,$B276,'4A Calcul. BAU city'!AK$13:AK$61)","v":0},{"$f":"SUMIF('4A Calcul. BAU city'!$C$13:$C$61,$B276,'4A Calcul. BAU city'!AL$13:AL$61)","v":0},{"$f":"SUMIF('4A Calcul. BAU city'!$C$13:$C$61,$B276,'4A Calcul. BAU city'!AM$13:AM$61)","v":0},{"$f":"SUMIF('4A Calcul. BAU city'!$C$13:$C$61,$B276,'4A Calcul. BAU city'!AN$13:AN$61)","v":0},{"$f":"SUMIF('4A Calcul. BAU city'!$C$13:$C$61,$B276,'4A Calcul. BAU city'!AO$13:AO$61)","v":0},null,{"$error":"#VALUE!"},{"$error":"#VALUE!"},{"$error":"#VALUE!"},{"$error":"#VALUE!"},{"$error":"#VALUE!"},{"$error":"#VALUE!"},null,{"$f":"J276/$D$86","v":{"$error":"#VALUE!"}},{"$f":"K276/$D$86","v":{"$error":"#VALUE!"}},{"$error":"#VALUE!"},{"$error":"#VALUE!"},{"$error":"#VALUE!"},{"$error":"#VALUE!"}]
[null,{"$f":"Solo","v":"Solo truck"},{"$f":"SUMIF('4A Calcul. BAU city'!$C$13:$C$61,$B277,'4A Calcul. BAU city'!AJ$13:AJ$61)","v":0},{"$f":"SUMIF('4A Calcul. BAU city'!$C$13:$C$61,$B277,'4A Calcul. BAU city'!AK$13:AK$61)","v":0},{"$f":"SUMIF('4A Calcul. BAU city'!$C$13:$C$61,$B277,'4A Calcul. BAU city'!AL$13:AL$61)","v":0},{"$f":"SUMIF('4A Calcul. BAU city'!$C$13:$C$61,$B277,'4A Calcul. BAU city'!AM$13:AM$61)","v":0},{"$f":"SUMIF('4A Calcul. BAU city'!$C$13:$C$61,$B277,'4A Calcul. BAU city'!AN$13:AN$61)","v":0},{"$f":"SUMIF('4A Calcul. BAU city'!$C$13:$C$61,$B277,'4A Calcul. BAU city'!AO$13:AO$61)","v":0},null,{"$error":"#VALUE!"},{"$error":"#VALUE!"},{"$error":"#VALUE!"},{"$error":"#VALUE!"},{"$error":"#VALUE!"},{"$error":"#VALUE!"},null,{"$f":"J277/$D$87","v":{"$error":"#VALUE!"}},{"$f":"K277/$D$87","v":{"$error":"#VALUE!"}},{"$error":"#VALUE!"},{"$error":"#VALUE!"},{"$error":"#VALUE!"},{"$error":"#VALUE!"}]
[null,{"$f":"Atruck","v":"Articulated truck"},{"$f":"SUMIF('4A Calcul. BAU city'!$C$13:$C$61,$B278,'4A Calcul. BAU city'!AJ$13:AJ$61)","v":0},{"$f":"SUMIF('4A Calcul. BAU city'!$C$13:$C$61,$B278,'4A Calcul. BAU city'!AK$13:AK$61)","v":0},{"$f":"SUMIF('4A Calcul. BAU city'!$C$13:$C$61,$B278,'4A Calcul. BAU city'!AL$13:AL$61)","v":0},{"$f":"SUMIF('4A Calcul. BAU city'!$C$13:$C$61,$B278,'4A Calcul. BAU city'!AM$13:AM$61)","v":0},{"$f":"SUMIF('4A Calcul. BAU city'!$C$13:$C$61,$B278,'4A Calcul. BAU city'!AN$13:AN$61)","v":0},{"$f":"SUMIF('4A Calcul. BAU city'!$C$13:$C$61,$B278,'4A Calcul. BAU city'!AO$13:AO$61)","v":0},null,{"$error":"#VALUE!"},{"$error":"#VALUE!"},{"$error":"#VALUE!"},{"$error":"#VALUE!"},{"$error":"#VALUE!"},{"$error":"#VALUE!"},null,{"$f":"J278/$D$88","v":{"$error":"#VALUE!"}},{"$f":"K278/$D$88","v":{"$error":"#VALUE!"}},{"$error":"#VALUE!"},{"$error":"#VALUE!"},{"$error":"#VALUE!"},{"$error":"#VALUE!"}]
[null,{"$f":"Ftrain","v":"Freight train"},{"$f":"SUMIF('4A Calcul. BAU city'!$C$13:$C$61,$B279,'4A Calcul. BAU city'!AJ$13:AJ$61)","v":0},{"$f":"SUMIF('4A Calcul. BAU city'!$C$13:$C$61,$B279,'4A Calcul. BAU city'!AK$13:AK$61)","v":0},{"$f":"SUMIF('4A Calcul. BAU city'!$C$13:$C$61,$B279,'4A Calcul. BAU city'!AL$13:AL$61)","v":0},{"$f":"SUMIF('4A Calcul. BAU city'!$C$13:$C$61,$B279,'4A Calcul. BAU city'!AM$13:AM$61)","v":0},{"$f":"SUMIF('4A Calcul. BAU city'!$C$13:$C$61,$B279,'4A Calcul. BAU city'!AN$13:AN$61)","v":0},{"$f":"SUMIF('4A Calcul. BAU city'!$C$13:$C$61,$B279,'4A Calcul. BAU city'!AO$13:AO$61)","v":0},null,{"$error":"#VALUE!"},{"$error":"#VALUE!"},{"$error":"#VALUE!"},{"$error":"#VALUE!"},{"$error":"#VALUE!"},{"$error":"#VALUE!"},null,{"$f":"J279/$D$89","v":{"$error":"#VALUE!"}},{"$f":"K279/$D$89","v":{"$error":"#VALUE!"}},{"$error":"#VALUE!"},{"$error":"#VALUE!"},{"$error":"#VALUE!"},{"$error":"#VALUE!"}]
[null,{"$f":"Total","v":"Sum"},{"$f":"SUM(C264:C279)","v":0},0,0,0,0,0]

{"sheet":"1B Top-Down Validation","index":2,"n_rows":46,"n_cols":19,"rows_kept":46,"cut":false,"hidden":false,"merged":[[6,23,29,23],[13,8,13,12],[13,14,13,18],[2,4,10,18],[1,4,1,18],[13,1,13,4]]}
[null,{"$f":"Tab","v":"Tab"},2]
[null,{"$f":"Candc","v":"Country and city"},{"$f":"'Get started'!C6","v":"xx"},null,{"$f":"Topdownvalidation","v":"1B Top-Down Validation Approach"}]
[null,{"$f":"yearref","v":"Reference year"},{"$f":"'Get started'!C7","v":0},null,{"$f":"Text23","v":"A well-known validation approach especially for national GHG inventories is the comparison of the calculated fuel consumption (summed by fuel type and vehicle category) obtained from the present tool (bottom-up approach) with the national energy balance (top-down approach). Differences within a range of +/- 10% are quite common and should not be considered as error but as uncertainty. One reason can be for example, that the energy balance does not include fuels bought in neighboring countries and consumed within the country. The emission inventory report should try explaining gaps and analyze the possibility to minimize the related uncertainties.\nEnergy balance data are based on the total fuel sales within the country. According to the IPCC guidelines 2006, the final energy consumption for the GHG inventory should be calculated as follow: production + import - export - international bunkers - stock change. The main uncertainties for energy balance data are: \n- Wrong allocation of fuels to the sub-transport sectors (e.g. fuel consumption from diesel generators should not be accounted in transport sector) or transport subcategories (i.e. road transportation vs. other transports, domestic use vs. international bunkers)\n- Amount of grey imports (illegally sold fuels, tank-tourism in small or transit-countries)\n\nThe main uncertainties for bottom-up fuel consumption data are: \n- Activity data i.e. fleet composition, number of vehicles or vkt, specific fuel consumption \nA comparison of different sources can help to identify the range of uncertainties. If identifying the parameter with the highest uncertainties is possible, it makes sense to try adjusting it. For example, the calculated total gasoline consumption for road transport is 30% higher than the value given in the energy balance. Motorcycles consume 50% of motor gasoline and the motorcycle population could not be provided by official statistics but only estimated. In order to minimize the gap for motor gasoline to e.g. 10%, the number of motorcycles could be diminished by 30%. Another common approach is to adjust average vkt in order to match the energy balance results.\n\nThe codes 1.3.A and similar refer to the IPCC guidelines\n"}]
[]
[]
[]
[]
[]
[]
[]
[]
[]
[]
[null,{"$f":"transportrandr","v":"Transport (sum of road and rail)"},null,null,null,null,null,null,{"$f":"Road","v":"Road"},null,null,null,null,null,{"$f":"Rail","v":"Rail"}]
[null,{"$f":"Fuel","v":"Fuel type"},{"$f":"energybalance","v":"Energy Balance\n[1000 TOE]"},{"$f":"calculated1000TOE","v":"Calculated [1000 TOE]"},{"$f":"gap","v":"gap"},null,null,null,{"$f":"Fuel","v":"Fuel type"},{"$f":"energybalance","v":"Energy Balance\n[1000 TOE]"},{"$f":"Source","v":"Source"},{"$f":"calculated1000TOE","v":"Calculated [1000 TOE]"},{"$f":"gap","v":"gap"},null,{"$f":"Fuel","v":"Fuel type"},{"$f":"energybalance","v":"Energy Balance\n[1000 TOE]"},{"$f":"Source","v":"Source"},{"$f":"calculated1000TOE","v":"Calculated [1000 TOE]"},{"$f":"gap","v":"gap"}]
[null,{"$f":"Gasoline","v":"Gasoline"},{"$f":"J16+P16","v":0},{"$f":"+L16+R16","v":0},{"$f":"+IFERROR(D16/C16-1,\"\")","v":""},null,null,null,{"$f":"Gasoline","v":"Gasoline"},null,null,{"$f":"+SUMIFS('4A Calcul. BAU city'!$AD:$AD,'4A Calcul. BAU city'!$A:$A,'1B Top-Down Validation'!$I$14,'4A Calcul. BAU city'!$E:$E,'1B Top-Down Validation'!I16)*10^3/41868","v":0},{"$f":"+IFERROR(L16/J16-1,\"\")","v":""},null,{"$f":"Gasoline","v":"Gasoline"},null,null,{"$f":"+SUMIFS('4A Calcul. BAU city'!$AD:$AD,'4A Calcul. BAU city'!$A:$A,'1B Top-Down Validation'!$O$14,'4A Calcul. BAU city'!$E:$E,'1B Top-Down Validation'!O16)*10^3/41868","v":0},{"$f":"+IFERROR(R16/P16-1,\"\")","v":""}]
[null,{"$f":"Diesel","v":"Diesel"},{"$f":"J17+P17","v":0},0,"",null,null,null,{"$f":"Diesel","v":"Diesel"},null,null,{"$f":"+SUMIFS('4A Calcul. BAU city'!$AD:$AD,'4A Calcul. BAU city'!$A:$A,'1B Top-Down Validation'!$I$14,'4A Calcul. BAU city'!$E:$E,'1B Top-Down Validation'!I17)*10^3/41868","v":0},{"$f":"+IFERROR(L17/J17-1,\"\")","v":""},null,{"$f":"Diesel","v":"Diesel"},null,null,{"$f":"+SUMIFS('4A Calcul. BAU city'!$AD:$AD,'4A Calcul. BAU city'!$A:$A,'1B Top-Down Validation'!$O$14,'4A Calcul. BAU city'!$E:$E,'1B Top-Down Validation'!O17)*10^3/41868","v":0},{"$f":"+IFERROR(R17/P17-1,\"\")","v":""}]
[null,{"$f":"Electric","v":"Electric"},0,0,"",null,null,null,{"$f":"Electric","v":"Electric"},null,null,{"$f":"+SUMIFS('4A Calcul. BAU city'!$AD:$AD,'4A Calcul. BAU city'!$A:$A,'1B Top-Down Validation'!$I$14,'4A Calcul. BAU city'!$E:$E,'1B Top-Down Validation'!I18)*10^3/41868","v":0},"",null,{"$f":"Electric","v":"Electric"},null,null,{"$f":"+SUMIFS('4A Calcul. BAU city'!$AD:$AD,'4A Calcul. BAU city'!$A:$A,'1B Top-Down Validation'!$O$14,'4A Calcul. BAU city'!$E:$E,'1B Top-Down Validation'!O18)*10^3/41868","v":0},""]
[null,{"$f":"LPG","v":"LPG"},0,0,"",null,null,null,{"$f":"LPG","v":"LPG"},null,null,{"$f":"+SUMIFS('4A Calcul. BAU city'!$AD:$AD,'4A Calcul. BAU city'!$A:$A,'1B Top-Down Validation'!$I$14,'4A Calcul. BAU city'!$E:$E,'1B Top-Down Validation'!I19)*10^3/41868","v":0},"",null,{"$f":"LPG","v":"LPG"},null,null,{"$f":"+SUMIFS('4A Calcul. BAU city'!$AD:$AD,'4A Calcul. BAU city'!$A:$A,'1B Top-Down Validation'!$O$14,'4A Calcul. BAU city'!$E:$E,'1B Top-Down Validation'!O19)*10^3/41868","v":0},""]
[null,{"$f":"NG","v":"NG"},0,0,"",null,null,null,{"$f":"NG","v":"NG"},null,null,{"$f":"+SUMIFS('4A Calcul. BAU city'!$AD:$AD,'4A Calcul. BAU city'!$A:$A,'1B Top-Down Validation'!$I$14,'4A Calcul. BAU city'!$E:$E,'1B Top-Down Validation'!I20)*10^3/41868","v":0},"",null,{"$f":"NG","v":"NG"},null,null,{"$f":"+SUMIFS('4A Calcul. BAU city'!$AD:$AD,'4A Calcul. BAU city'!$A:$A,'1B Top-Down Validation'!$O$14,'4A Calcul. BAU city'!$E:$E,'1B Top-Down Validation'!O20)*10^3/41868","v":0},""]
[]
[]
[]
[]
[]
[]
[]
[]
[]
[]
[]
[]
[]
[]
[]
[]
[]
[null,{"$f":"bunker","v":"excluding international bunkers"}]
[]
[null,"Conversion factor: 1 TOE (tonne of oil equivalent) = 41868 MJ"]
[]
[]
[null,{"$f":"transporttout","v":"1 A3 Transport energy consumption [1000  TOE]\n"}]
[null,{"$f":"Roadtransport","v":"1A3b Energy consumption road transportation  [1000  TOE]\n"}]
[null,{"$f":"Railtransport","v":"1A3c Energy consumption rail transport  [1000  TOE]"}]
[null,{"$f":"consoTOE","v":"Domestic fuel consumption\nin 1000 TOE\n"}]

{"sheet":"2A Input Climat Scen. Pass.","index":3,"n_rows":426,"n_cols":43,"rows_kept":426,"cut":false,"hidden":false,"merged":[[301,7,301,9],[301,1,301,3],[301,13,301,15],[55,2,55,6],[301,4,301,6],[301,10,301,12],[245,15,245,19],[245,9,245,13],[85,3,85,7],[174,11,174,15],[193,15,193,19],[245,3,245,7],[174,3,174,7],[193,3,193,7],[193,9,193,13],[191,1,191,20],[75,2,75,7],[65,2,65,6],[4,0,4,1],[35,9,35,13],[53,1,54,21],[51,1,51,21],[35,16,35,20],[35,2,35,6],[16,2,16,6],[14,1,14,21],[7,0,7,1],[8,3,8,13],[7,3,7,13],[16,9,16,13],[10,0,10,21]]}
[{"$f":"Tab","v":"Tab"},3,null,{"$f":"Overviewres","v":"Overview of results"}]
[{"$f":"subsector","v":"Sub-sector"},{"$f":"Passtrans","v":"Passenger transportation"}]
[{"$f":"Candc","v":"Country and city"},{"$f":"'Get started'!C6","v":"xx"}]
[{"$f":"yearref","v":"Reference year"},{"$f":"'Get started'!C7","v":0}]
[]
[]
[]
[null,null,null,{"$f":"Text7","v":"2A Input Climat Scen. Pass."}]
[null,null,null,{"$f":"Text8","v":"In this sheet effects of mitigations actions for passenger transport can be calculated in a climate scenario. In order to derive transport demand data for the calculations two different data input approaches are possible. The user has to preferably choose one approach.\n\nThe first approach \"WITH UPSTREAM CALCULATIONS - INPUT FROM EXTERNAL TRANSPORT PLANNING TOOL\" the user can directly enter transport performance (pkm/tkm) and the vehicle kilometers travelled (vkt) provided by an external transport planning tool. Once the two tables are filled in, the user can skip the next section and continue with step 3).\n\nIf no data from a transport planning tool are available, the second approach \"WITHOUT UPSTREAM CALCULATIONS - CALCULATIONS WITHIN THIS TOOL\" can be applied. For calculating potential GHG savings from mitigation measures within this approach the \"ASI\" (Avoid/Shift/Improve) approach is applied. Users have to estimate the effect of transport related actions on the transport demand for each mitigation action type (Avoid, Shift or Improve). E.g. Parking area management may lead to 5% avoided passenger car vehicle kilometers travelled (vkt).\n1) Avoid: Avoided vehicle kilometers travelled (vkt)\n2) Shift: Shift of transport from the current to another transport modes\n\nOnce the transport demand is applied for one of the two approaches mentioned above the user has to enter data within the two last steps:\n3) Improve: Penetration of alternative energies\n4) Improve: Adjustment of fuel/energy consumption"}]
[]
[{"$f":"Descri11","v":" The user has to choose between the vkt approach or the fleet approach for each vehicle category. It is not recommended to use both approaches at the same time to limit unconsistencies but the tool offers this option nevertheless.\nRemark 1: The total vkt (mileage approach) or average annual mileage (fleet approach) should comply with the actual transport activity within the city or country territory."}]
[]
[{"$f":"planningtool","v":"WITH UPSTREAM CALCULATIONS - TRANSPORT ACTIVITY DATA FROM EXTERNAL TRANSPORT PLANNING TOOL"}]
[]
[{"$f":"Description","v":"Description"},{"$f":"Descri15","v":"Description: Please enter the transport performances (Mio person-kilometers) in the table on the left as well as the vehicle kilometers travelled (Mio km) in the table on the right delivered by the transport plannig tool for the reference year (mandatory). For BAU calculations please enter the vkt for the corresponding years in the same way.\nRemark 1: Definitions and short descriptions of each vehicle category can be found in the sheet \"7 Sources and abbreviation\"."}]
[]
[null,{"$f":"Category","v":"Category"},{"$f":"Transportperf","v":"Transport performance [Mio. Pkm]"},null,null,null,null,null,{"$f":"Category","v":"Category"},{"$f":"Milannualkm","v":"Vehicle kilometers travelled [Mio. km]"}]
[null,{"$f":"Subcategory","v":"Subcategory"},2020,2025,2030,2040,2050,null,{"$f":"Subcategory","v":"Subcategory"},2020,2025,2030,2040,2050]
[null,{"$f":"NMT","v":"NMT"},null,null,null,null,null,null,{"$f":"NMT","v":"NMT"}]
[null,{"$f":"Pcar","v":"Private car"},null,null,null,null,null,null,{"$f":"Pcar","v":"Private car"}]
[null,{"$f":"Itaxi","v":"Individual taxi"},null,null,null,null,null,null,{"$f":"Itaxi","v":"Individual taxi"}]
[null,{"$f":"Motorcycle","v":"Motorcycle"},null,null,null,null,null,null,{"$f":"Motorcycle","v":"Motorcycle"}]
[null,{"$f":"Mototaxi","v":"Motorcycle taxi"},null,null,null,null,null,null,{"$f":"Mototaxi","v":"Motorcycle taxi"}]
[null,{"$f":"Minibus","v":"Minibus"},null,null,null,null,null,null,{"$f":"Minibus","v":"Minibus"}]
[null,{"$f":"Bus","v":"Bus"},null,null,null,null,null,null,{"$f":"Bus","v":"Bus"}]
[null,{"$f":"BRT","v":"BRT"},null,null,null,null,null,null,{"$f":"BRT","v":"BRT"}]
[null,{"$f":"Train","v":"Long distance train"},null,null,null,null,null,null,{"$f":"Train","v":"Long distance train"}]
[null,{"$f":"Utrain","v":"Urban train"},null,null,null,null,null,null,{"$f":"Utrain","v":"Urban train"}]
[null,{"$f":"Metro","v":"Metro"},null,null,null,null,null,null,{"$f":"Metro","v":"Metro"}]
[]
[]
[{"$f":"withoutplanning","v":"WITHOUT UPSTREAM CALCULATIONS - TRANSPORT ACTIVITY DATA CALCULATIONS WITHIN THIS TOOL"}]
[{"$f":"Descri30","v":"1) Avoid: Avoided vehicle kilometers travelled (vkt)"}]
[{"$f":"Description","v":"Description"},{"$f":"Descri31","v":"Please define the percentage of vehicle kilometers travelled (vkt), which can be avoided with the planned mitigation measures."}]
[null,{"$f":"Descri32","v":"Example of measure: home office"}]
[null,{"$f":"Category","v":"Category"},{"$f":"vktbase","v":"Base vkt [Mio. km]"},null,null,null,null,null,{"$f":"Category","v":"Category"},{"$f":"avoidedvkt","v":"Avoided motorised vkt [%]"},null,null,null,null,null,{"$f":"Category","v":"Category"},{"$f":"scenariovkt","v":"Scenario vkt [Mio. km]"}]
[null,{"$f":"Subcategory","v":"Subcategory"},2020,2025,2030,2040,2050,null,{"$f":"Subcategory","v":"Subcategory"},2020,2025,2030,2040,2050,null,{"$f":"Subcategory","v":"Subcategory"},2020,2025,2030,2040,2050]
[null,{"$f":"Pcar","v":"Private car"},{"$f":"SUMIF('4B Calcul. Climat Scen.'!$J$38:$J$59,'2A Input Climat Scen. Pass.'!$B38,'4B Calcul. Climat Scen.'!L$38:L$59)","v":0},{"$f":"SUMIF('4B Calcul. Climat Scen.'!$J$38:$J$59,'2A Input Climat Scen. Pass.'!$B38,'4B Calcul. Climat Scen.'!M$38:M$59)","v":0},{"$f":"SUMIF('4B Calcul. Climat Scen.'!$J$38:$J$59,'2A Input Climat Scen. Pass.'!$B38,'4B Calcul. Climat Scen.'!N$38:N$59)","v":0},{"$f":"SUMIF('4B Calcul. Climat Scen.'!$J$38:$J$59,'2A Input Climat Scen. Pass.'!$B38,'4B Calcul. Climat Scen.'!O$38:O$59)","v":0},{"$f":"SUMIF('4B Calcul. Climat Scen.'!$J$38:$J$59,'2A Input Climat Scen. Pass.'!$B38,'4B Calcul. Climat Scen.'!P$38:P$59)","v":0},null,{"$f":"Pcar","v":"Private car"},null,null,null,null,null,null,{"$f":"Pcar","v":"Private car"},{"$f":"SUMIF('4B Calcul. Climat Scen.'!$J$89:$J$110,'2A Input Climat Scen. Pass.'!$B38,'4B Calcul. Climat Scen.'!M$89:M$110)","v":0},{"$f":"SUMIF('4B Calcul. Climat Scen.'!$J$89:$J$110,'2A Input Climat Scen. Pass.'!$B38,'4B Calcul. Climat Scen.'!N$89:N$110)","v":0},{"$f":"SUMIF('4B Calcul. Climat Scen.'!$J$89:$J$110,'2A Input Climat Scen. Pass.'!$B38,'4B Calcul. Climat Scen.'!O$89:O$110)","v":0},{"$f":"SUMIF('4B Calcul. Climat Scen.'!$J$89:$J$110,'2A Input Climat Scen. Pass.'!$B38,'4B Calcul. Climat Scen.'!P$89:P$110)","v":0},{"$f":"SUMIF('4B Calcul. Climat Scen.'!$J$89:$J$110,'2A Input Climat Scen. Pass.'!$B38,'4B Calcul. Climat Scen.'!Q$89:Q$110)","v":0}]
[null,{"$f":"Itaxi","v":"Individual taxi"},{"$f":"SUMIF('4B Calcul. Climat Scen.'!$J$38:$J$59,'2A Input Climat Scen. Pass.'!$B39,'4B Calcul. Climat Scen.'!L$38:L$59)","v":0},{"$f":"SUMIF('4B Calcul. Climat Scen.'!$J$38:$J$59,'2A Input Climat Scen. Pass.'!$B39,'4B Calcul. Climat Scen.'!M$38:M$59)","v":0},{"$f":"SUMIF('4B Calcul. Climat Scen.'!$J$38:$J$59,'2A Input Climat Scen. Pass.'!$B39,'4B Calcul. Climat Scen.'!N$38:N$59)","v":0},{"$f":"SUMIF('4B Calcul. Climat Scen.'!$J$38:$J$59,'2A Input Climat Scen. Pass.'!$B39,'4B Calcul. Climat Scen.'!O$38:O$59)","v":0},{"$f":"SUMIF('4B Calcul. Climat Scen.'!$J$38:$J$59,'2A Input Climat Scen. Pass.'!$B39,'4B Calcul. Climat Scen.'!P$38:P$59)","v":0},null,{"$f":"Itaxi","v":"Individual taxi"},null,null,null,null,null,null,{"$f":"Itaxi","v":"Individual taxi"},{"$f":"SUMIF('4B Calcul. Climat Scen.'!$J$89:$J$110,'2A Input Climat Scen. Pass.'!$B39,'4B Calcul. Climat Scen.'!M$89:M$110)","v":0},{"$f":"SUMIF('4B Calcul. Climat Scen.'!$J$89:$J$110,'2A Input Climat Scen. Pass.'!$B39,'4B Calcul. Climat Scen.'!N$89:N$110)","v":0},{"$f":"SUMIF('4B Calcul. Climat Scen.'!$J$89:$J$110,'2A Input Climat Scen. Pass.'!$B39,'4B Calcul. Climat Scen.'!O$89:O$110)","v":0},{"$f":"SUMIF('4B Calcul. Climat Scen.'!$J$89:$J$110,'2A Input Climat Scen. Pass.'!$B39,'4B Calcul. Climat Scen.'!P$89:P$110)","v":0},{"$f":"SUMIF('4B Calcul. Climat Scen.'!$J$89:$J$110,'2A Input Climat Scen. Pass.'!$B39,'4B Calcul. Climat Scen.'!Q$89:Q$110)","v":0}]
[null,{"$f":"Motorcycle","v":"Motorcycle"},{"$f":"SUMIF('4B Calcul. Climat Scen.'!$J$38:$J$59,'2A Input Climat Scen. Pass.'!$B40,'4B Calcul. Climat Scen.'!L$38:L$59)","v":0},{"$f":"SUMIF('4B Calcul. Climat Scen.'!$J$38:$J$59,'2A Input Climat Scen. Pass.'!$B40,'4B Calcul. Climat Scen.'!M$38:M$59)","v":0},{"$f":"SUMIF('4B Calcul. Climat Scen.'!$J$38:$J$59,'2A Input Climat Scen. Pass.'!$B40,'4B Calcul. Climat Scen.'!N$38:N$59)","v":0},{"$f":"SUMIF('4B Calcul. Climat Scen.'!$J$38:$J$59,'2A Input Climat Scen. Pass.'!$B40,'4B Calcul. Climat Scen.'!O$38:O$59)","v":0},{"$f":"SUMIF('4B Calcul. Climat Scen.'!$J$38:$J$59,'2A Input Climat Scen. Pass.'!$B40,'4B Calcul. Climat Scen.'!P$38:P$59)","v":0},null,{"$f":"Motorcycle","v":"Motorcycle"},null,null,null,null,null,null,{"$f":"Motorcycle","v":"Motorcycle"},{"$f":"SUMIF('4B Calcul. Climat Scen.'!$J$89:$J$110,'2A Input Climat Scen. Pass.'!$B40,'4B Calcul. Climat Scen.'!M$89:M$110)","v":0},{"$f":"SUMIF('4B Calcul. Climat Scen.'!$J$89:$J$110,'2A Input Climat Scen. Pass.'!$B40,'4B Calcul. Climat Scen.'!N$89:N$110)","v":0},{"$f":"SUMIF('4B Calcul. Climat Scen.'!$J$89:$J$110,'2A Input Climat Scen. Pass.'!$B40,'4B Calcul. Climat Scen.'!O$89:O$110)","v":0},{"$f":"SUMIF('4B Calcul. Climat Scen.'!$J$89:$J$110,'2A Input Climat Scen. Pass.'!$B40,'4B Calcul. Climat Scen.'!P$89:P$110)","v":0},{"$f":"SUMIF('4B Calcul. Climat Scen.'!$J$89:$J$110,'2A Input Climat Scen. Pass.'!$B40,'4B Calcul. Climat Scen.'!Q$89:Q$110)","v":0}]
[null,{"$f":"Mototaxi","v":"Motorcycle taxi"},{"$f":"SUMIF('4B Calcul. Climat Scen.'!$J$38:$J$59,'2A Input Climat Scen. Pass.'!$B41,'4B Calcul. Climat Scen.'!L$38:L$59)","v":0},{"$f":"SUMIF('4B Calcul. Climat Scen.'!$J$38:$J$59,'2A Input Climat Scen. Pass.'!$B41,'4B Calcul. Climat Scen.'!M$38:M$59)","v":0},{"$f":"SUMIF('4B Calcul. Climat Scen.'!$J$38:$J$59,'2A Input Climat Scen. Pass.'!$B41,'4B Calcul. Climat Scen.'!N$38:N$59)","v":0},{"$f":"SUMIF('4B Calcul. Climat Scen.'!$J$38:$J$59,'2A Input Climat Scen. Pass.'!$B41,'4B Calcul. Climat Scen.'!O$38:O$59)","v":0},{"$f":"SUMIF('4B Calcul. Climat Scen.'!$J$38:$J$59,'2A Input Climat Scen. Pass.'!$B41,'4B Calcul. Climat Scen.'!P$38:P$59)","v":0},null,{"$f":"Mototaxi","v":"Motorcycle taxi"},null,null,null,null,null,null,{"$f":"Mototaxi","v":"Motorcycle taxi"},{"$f":"SUMIF('4B Calcul. Climat Scen.'!$J$89:$J$110,'2A Input Climat Scen. Pass.'!$B41,'4B Calcul. Climat Scen.'!M$89:M$110)","v":0},{"$f":"SUMIF('4B Calcul. Climat Scen.'!$J$89:$J$110,'2A Input Climat Scen. Pass.'!$B41,'4B Calcul. Climat Scen.'!N$89:N$110)","v":0},{"$f":"SUMIF('4B Calcul. Climat Scen.'!$J$89:$J$110,'2A Input Climat Scen. Pass.'!$B41,'4B Calcul. Climat Scen.'!O$89:O$110)","v":0},{"$f":"SUMIF('4B Calcul. Climat Scen.'!$J$89:$J$110,'2A Input Climat Scen. Pass.'!$B41,'4B Calcul. Climat Scen.'!P$89:P$110)","v":0},{"$f":"SUMIF('4B Calcul. Climat Scen.'!$J$89:$J$110,'2A Input Climat Scen. Pass.'!$B41,'4B Calcul. Climat Scen.'!Q$89:Q$110)","v":0}]
[null,{"$f":"Minibus","v":"Minibus"},{"$f":"SUMIF('4B Calcul. Climat Scen.'!$J$38:$J$59,'2A Input Climat Scen. Pass.'!$B42,'4B Calcul. Climat Scen.'!L$38:L$59)","v":0},{"$f":"SUMIF('4B Calcul. Climat Scen.'!$J$38:$J$59,'2A Input Climat Scen. Pass.'!$B42,'4B Calcul. Climat Scen.'!M$38:M$59)","v":0},{"$f":"SUMIF('4B Calcul. Climat Scen.'!$J$38:$J$59,'2A Input Climat Scen. Pass.'!$B42,'4B Calcul. Climat Scen.'!N$38:N$59)","v":0},{"$f":"SUMIF('4B Calcul. Climat Scen.'!$J$38:$J$59,'2A Input Climat Scen. Pass.'!$B42,'4B Calcul. Climat Scen.'!O$38:O$59)","v":0},{"$f":"SUMIF('4B Calcul. Climat Scen.'!$J$38:$J$59,'2A Input Climat Scen. Pass.'!$B42,'4B Calcul. Climat Scen.'!P$38:P$59)","v":0},null,{"$f":"Minibus","v":"Minibus"},null,null,null,null,null,null,{"$f":"Minibus","v":"Minibus"},{"$f":"SUMIF('4B Calcul. Climat Scen.'!$J$89:$J$110,'2A Input Climat Scen. Pass.'!$B42,'4B Calcul. Climat Scen.'!M$89:M$110)","v":0},{"$f":"SUMIF('4B Calcul. Climat Scen.'!$J$89:$J$110,'2A Input Climat Scen. Pass.'!$B42,'4B Calcul. Climat Scen.'!N$89:N$110)","v":0},{"$f":"SUMIF('4B Calcul. Climat Scen.'!$J$89:$J$110,'2A Input Climat Scen. Pass.'!$B42,'4B Calcul. Climat Scen.'!O$89:O$110)","v":0},{"$f":"SUMIF('4B Calcul. Climat Scen.'!$J$89:$J$110,'2A Input Climat Scen. Pass.'!$B42,'4B Calcul. Climat Scen.'!P$89:P$110)","v":0},{"$f":"SUMIF('4B Calcul. Climat Scen.'!$J$89:$J$110,'2A Input Climat Scen. Pass.'!$B42,'4B Calcul. Climat Scen.'!Q$89:Q$110)","v":0}]
[null,{"$f":"Bus","v":"Bus"},{"$f":"SUMIF('4B Calcul. Climat Scen.'!$J$38:$J$59,'2A Input Climat Scen. Pass.'!$B43,'4B Calcul. Climat Scen.'!L$38:L$59)","v":0},{"$f":"SUMIF('4B Calcul. Climat Scen.'!$J$38:$J$59,'2A Input Climat Scen. Pass.'!$B43,'4B Calcul. Climat Scen.'!M$38:M$59)","v":0},{"$f":"SUMIF('4B Calcul. Climat Scen.'!$J$38:$J$59,'2A Input Climat Scen. Pass.'!$B43,'4B Calcul. Climat Scen.'!N$38:N$59)","v":0},{"$f":"SUMIF('4B Calcul. Climat Scen.'!$J$38:$J$59,'2A Input Climat Scen. Pass.'!$B43,'4B Calcul. Climat Scen.'!O$38:O$59)","v":0},{"$f":"SUMIF('4B Calcul. Climat Scen.'!$J$38:$J$59,'2A Input Climat Scen. Pass.'!$B43,'4B Calcul. Climat Scen.'!P$38:P$59)","v":0},null,{"$f":"Bus","v":"Bus"},null,null,null,null,null,null,{"$f":"Bus","v":"Bus"},{"$f":"SUMIF('4B Calcul. Climat Scen.'!$J$89:$J$110,'2A Input Climat Scen. Pass.'!$B43,'4B Calcul. Climat Scen.'!M$89:M$110)","v":0},{"$f":"SUMIF('4B Calcul. Climat Scen.'!$J$89:$J$110,'2A Input Climat Scen. Pass.'!$B43,'4B Calcul. Climat Scen.'!N$89:N$110)","v":0},{"$f":"SUMIF('4B Calcul. Climat Scen.'!$J$89:$J$110,'2A Input Climat Scen. Pass.'!$B43,'4B Calcul. Climat Scen.'!O$89:O$110)","v":0},{"$f":"SUMIF('4B Calcul. Climat Scen.'!$J$89:$J$110,'2A Input Climat Scen. Pass.'!$B43,'4B Calcul. Climat Scen.'!P$89:P$110)","v":0},{"$f":"SUMIF('4B Calcul. Climat Scen.'!$J$89:$J$110,'2A Input Climat Scen. Pass.'!$B43,'4B Calcul. Climat Scen.'!Q$89:Q$110)","v":0}]
[null,{"$f":"BRT","v":"BRT"},{"$f":"SUMIF('4B Calcul. Climat Scen.'!$J$38:$J$59,'2A Input Climat Scen. Pass.'!$B44,'4B Calcul. Climat Scen.'!L$38:L$59)","v":0},{"$f":"SUMIF('4B Calcul. Climat Scen.'!$J$38:$J$59,'2A Input Climat Scen. Pass.'!$B44,'4B Calcul. Climat Scen.'!M$38:M$59)","v":0},{"$f":"SUMIF('4B Calcul. Climat Scen.'!$J$38:$J$59,'2A Input Climat Scen. Pass.'!$B44,'4B Calcul. Climat Scen.'!N$38:N$59)","v":0},{"$f":"SUMIF('4B Calcul. Climat Scen.'!$J$38:$J$59,'2A Input Climat Scen. Pass.'!$B44,'4B Calcul. Climat Scen.'!O$38:O$59)","v":0},{"$f":"SUMIF('4B Calcul. Climat Scen.'!$J$38:$J$59,'2A Input Climat Scen. Pass.'!$B44,'4B Calcul. Climat Scen.'!P$38:P$59)","v":0},null,{"$f":"BRT","v":"BRT"},null,null,null,null,null,null,{"$f":"BRT","v":"BRT"},{"$f":"SUMIF('4B Calcul. Climat Scen.'!$J$89:$J$110,'2A Input Climat Scen. Pass.'!$B44,'4B Calcul. Climat Scen.'!M$89:M$110)","v":0},{"$f":"SUMIF('4B Calcul. Climat Scen.'!$J$89:$J$110,'2A Input Climat Scen. Pass.'!$B44,'4B Calcul. Climat Scen.'!N$89:N$110)","v":0},{"$f":"SUMIF('4B Calcul. Climat Scen.'!$J$89:$J$110,'2A Input Climat Scen. Pass.'!$B44,'4B Calcul. Climat Scen.'!O$89:O$110)","v":0},{"$f":"SUMIF('4B Calcul. Climat Scen.'!$J$89:$J$110,'2A Input Climat Scen. Pass.'!$B44,'4B Calcul. Climat Scen.'!P$89:P$110)","v":0},{"$f":"SUMIF('4B Calcul. Climat Scen.'!$J$89:$J$110,'2A Input Climat Scen. Pass.'!$B44,'4B Calcul. Climat Scen.'!Q$89:Q$110)","v":0}]
[null,{"$f":"Train","v":"Long distance train"},{"$f":"SUMIF('4B Calcul. Climat Scen.'!$J$38:$J$59,'2A Input Climat Scen. Pass.'!$B45,'4B Calcul. Climat Scen.'!L$38:L$59)","v":0},{"$f":"SUMIF('4B Calcul. Climat Scen.'!$J$38:$J$59,'2A Input Climat Scen. Pass.'!$B45,'4B Calcul. Climat Scen.'!M$38:M$59)","v":0},{"$f":"SUMIF('4B Calcul. Climat Scen.'!$J$38:$J$59,'2A Input Climat Scen. Pass.'!$B45,'4B Calcul. Climat Scen.'!N$38:N$59)","v":0},{"$f":"SUMIF('4B Calcul. Climat Scen.'!$J$38:$J$59,'2A Input Climat Scen. Pass.'!$B45,'4B Calcul. Climat Scen.'!O$38:O$59)","v":0},{"$f":"SUMIF('4B Calcul. Climat Scen.'!$J$38:$J$59,'2A Input Climat Scen. Pass.'!$B45,'4B Calcul. Climat Scen.'!P$38:P$59)","v":0},null,{"$f":"Train","v":"Long distance train"},null,null,null,null,null,null,{"$f":"Train","v":"Long distance train"},{"$f":"SUMIF('4B Calcul. Climat Scen.'!$J$89:$J$110,'2A Input Climat Scen. Pass.'!$B45,'4B Calcul. Climat Scen.'!M$89:M$110)","v":0},{"$f":"SUMIF('4B Calcul. Climat Scen.'!$J$89:$J$110,'2A Input Climat Scen. Pass.'!$B45,'4B Calcul. Climat Scen.'!N$89:N$110)","v":0},{"$f":"SUMIF('4B Calcul. Climat Scen.'!$J$89:$J$110,'2A Input Climat Scen. Pass.'!$B45,'4B Calcul. Climat Scen.'!O$89:O$110)","v":0},{"$f":"SUMIF('4B Calcul. Climat Scen.'!$J$89:$J$110,'2A Input Climat Scen. Pass.'!$B45,'4B Calcul. Climat Scen.'!P$89:P$110)","v":0},{"$f":"SUMIF('4B Calcul. Climat Scen.'!$J$89:$J$110,'2A Input Climat Scen. Pass.'!$B45,'4B Calcul. Climat Scen.'!Q$89:Q$110)","v":0}]
[null,{"$f":"Utrain","v":"Urban train"},{"$f":"SUMIF('4B Calcul. Climat Scen.'!$J$38:$J$59,'2A Input Climat Scen. Pass.'!$B46,'4B Calcul. Climat Scen.'!L$38:L$59)","v":0},{"$f":"SUMIF('4B Calcul. Climat Scen.'!$J$38:$J$59,'2A Input Climat Scen. Pass.'!$B46,'4B Calcul. Climat Scen.'!M$38:M$59)","v":0},{"$f":"SUMIF('4B Calcul. Climat Scen.'!$J$38:$J$59,'2A Input Climat Scen. Pass.'!$B46,'4B Calcul. Climat Scen.'!N$38:N$59)","v":0},{"$f":"SUMIF('4B Calcul. Climat Scen.'!$J$38:$J$59,'2A Input Climat Scen. Pass.'!$B46,'4B Calcul. Climat Scen.'!O$38:O$59)","v":0},{"$f":"SUMIF('4B Calcul. Climat Scen.'!$J$38:$J$59,'2A Input Climat Scen. Pass.'!$B46,'4B Calcul. Climat Scen.'!P$38:P$59)","v":0},null,{"$f":"Utrain","v":"Urban train"},null,null,null,null,null,null,{"$f":"Utrain","v":"Urban train"},{"$f":"SUMIF('4B Calcul. Climat Scen.'!$J$89:$J$110,'2A Input Climat Scen. Pass.'!$B46,'4B Calcul. Climat Scen.'!M$89:M$110)","v":0},{"$f":"SUMIF('4B Calcul. Climat Scen.'!$J$89:$J$110,'2A Input Climat Scen. Pass.'!$B46,'4B Calcul. Climat Scen.'!N$89:N$110)","v":0},{"$f":"SUMIF('4B Calcul. Climat Scen.'!$J$89:$J$110,'2A Input Climat Scen. Pass.'!$B46,'4B Calcul. Climat Scen.'!O$89:O$110)","v":0},{"$f":"SUMIF('4B Calcul. Climat Scen.'!$J$89:$J$110,'2A Input Climat Scen. Pass.'!$B46,'4B Calcul. Climat Scen.'!P$89:P$110)","v":0},{"$f":"SUMIF('4B Calcul. Climat Scen.'!$J$89:$J$110,'2A Input Climat Scen. Pass.'!$B46,'4B Calcul. Climat Scen.'!Q$89:Q$110)","v":0}]
[null,{"$f":"Metro","v":"Metro"},{"$f":"SUMIF('4B Calcul. Climat Scen.'!$J$38:$J$59,'2A Input Climat Scen. Pass.'!$B47,'4B Calcul. Climat Scen.'!L$38:L$59)","v":0},{"$f":"SUMIF('4B Calcul. Climat Scen.'!$J$38:$J$59,'2A Input Climat Scen. Pass.'!$B47,'4B Calcul. Climat Scen.'!M$38:M$59)","v":0},{"$f":"SUMIF('4B Calcul. Climat Scen.'!$J$38:$J$59,'2A Input Climat Scen. Pass.'!$B47,'4B Calcul. Climat Scen.'!N$38:N$59)","v":0},{"$f":"SUMIF('4B Calcul. Climat Scen.'!$J$38:$J$59,'2A Input Climat Scen. Pass.'!$B47,'4B Calcul. Climat Scen.'!O$38:O$59)","v":0},{"$f":"SUMIF('4B Calcul. Climat Scen.'!$J$38:$J$59,'2A Input Climat Scen. Pass.'!$B47,'4B Calcul. Climat Scen.'!P$38:P$59)","v":0},null,{"$f":"Metro","v":"Metro"},null,null,null,null,null,null,{"$f":"Metro","v":"Metro"},{"$f":"SUMIF('4B Calcul. Climat Scen.'!$J$89:$J$110,'2A Input Climat Scen. Pass.'!$B47,'4B Calcul. Climat Scen.'!M$89:M$110)","v":0},{"$f":"SUMIF('4B Calcul. Climat Scen.'!$J$89:$J$110,'2A Input Climat Scen. Pass.'!$B47,'4B Calcul. Climat Scen.'!N$89:N$110)","v":0},{"$f":"SUMIF('4B Calcul. Climat Scen.'!$J$89:$J$110,'2A Input Climat Scen. Pass.'!$B47,'4B Calcul. Climat Scen.'!O$89:O$110)","v":0},{"$f":"SUMIF('4B Calcul. Climat Scen.'!$J$89:$J$110,'2A Input Climat Scen. Pass.'!$B47,'4B Calcul. Climat Scen.'!P$89:P$110)","v":0},{"$f":"SUMIF('4B Calcul. Climat Scen.'!$J$89:$J$110,'2A Input Climat Scen. Pass.'!$B47,'4B Calcul. Climat Scen.'!Q$89:Q$110)","v":0}]
[null,{"$f":"Total","v":"Sum"},{"$f":"SUM(C38:C47)","v":0},{"$f":"SUM(D38:D47)","v":0},{"$f":"SUM(E38:E47)","v":0},{"$f":"SUM(F38:F47)","v":0},{"$f":"SUM(G38:G47)","v":0},null,null,null,null,null,null,null,null,{"$f":"Total","v":"Sum"},{"$f":"SUM(Q38:Q47)","v":0},{"$f":"SUM(R38:R47)","v":0},{"$f":"SUM(S38:S47)","v":0},{"$f":"SUM(T38:T47)","v":0},{"$f":"SUM(U38:U47)","v":0}]
[]
[]
[{"$f":"Descri36","v":"2) Shift: Shift of transport from the current to public transport modes"}]
[{"$f":"Description","v":"Description"},{"$f":"Descri37","v":"The Shift measures follow a three step approach: 1. give the potential additional vehicle kilometers  for the vehicle categories below (public transport) if more vehicle kilometers are expected as a result of the planned measures for the corresponding year \nExample of measure: Extension of the bus network (e.g. increase in frequency) in 2025. "}]
[null,{"$f":"Descri38","v":"2. please adjust the occupancy rate if the number of passenger per vehicle is expected to be impacted by the planned measures for the corresponding year\nExample: decrease of train ticket price would increase the number of passenger per train in 2020\n "}]
[null,{"$f":"Descri40","v":" 3. If one of the two parameters (vehicle kilometer or occupancy) are impacted it is mandatory to specify the source of this new trips or vehicle kilometers in the table \"original mode of the public transport shifted trip\" for the corresponding year and for each \"goal vehicle category\" i.e. the catgeories for which kilometers or occupancy have been changed \nExample: the goal categories are buses and train. Based on a survey, the users of the new bus line were previously for 50% of them car users, 30% NMT users and 20% is induced in 2025. Concerning the train the new users are coming for 50% of them from the bus, 25% from cars and 25% from motorcycle in 2020\n"}]
[]
[null,{"$f":"Category","v":"Category"},{"$f":"vktbase","v":"Base vkt [Mio. km]"}]
[null,{"$f":"Subcategory","v":"Subcategory"},2020,2025,2030,2040,2050]
[null,{"$f":"NMT","v":"NMT"},{"$f":"SUMIF('4B Calcul. Climat Scen.'!$J$89:$J$99,'2A Input Climat Scen. Pass.'!$B58,'4B Calcul. Climat Scen.'!M$89:M$99)","v":0},{"$f":"SUMIF('4B Calcul. Climat Scen.'!$J$89:$J$99,'2A Input Climat Scen. Pass.'!$B58,'4B Calcul. Climat Scen.'!N$89:N$99)","v":0},{"$f":"SUMIF('4B Calcul. Climat Scen.'!$J$89:$J$99,'2A Input Climat Scen. Pass.'!$B58,'4B Calcul. Climat Scen.'!O$89:O$99)","v":0},{"$f":"SUMIF('4B Calcul. Climat Scen.'!$J$89:$J$99,'2A Input Climat Scen. Pass.'!$B58,'4B Calcul. Climat Scen.'!P$89:P$99)","v":0},{"$f":"SUMIF('4B Calcul. Climat Scen.'!$J$89:$J$99,'2A Input Climat Scen. Pass.'!$B58,'4B Calcul. Climat Scen.'!Q$89:Q$99)","v":0}]
[null,{"$f":"Minibus","v":"Minibus"},{"$f":"SUMIF('4B Calcul. Climat Scen.'!$J$89:$J$99,'2A Input Climat Scen. Pass.'!$B59,'4B Calcul. Climat Scen.'!M$89:M$99)","v":0},{"$f":"SUMIF('4B Calcul. Climat Scen.'!$J$89:$J$99,'2A Input Climat Scen. Pass.'!$B59,'4B Calcul. Climat Scen.'!N$89:N$99)","v":0},{"$f":"SUMIF('4B Calcul. Climat Scen.'!$J$89:$J$99,'2A Input Climat Scen. Pass.'!$B59,'4B Calcul. Climat Scen.'!O$89:O$99)","v":0},{"$f":"SUMIF('4B Calcul. Climat Scen.'!$J$89:$J$99,'2A Input Climat Scen. Pass.'!$B59,'4B Calcul. Climat Scen.'!P$89:P$99)","v":0},{"$f":"SUMIF('4B Calcul. Climat Scen.'!$J$89:$J$99,'2A Input Climat Scen. Pass.'!$B59,'4B Calcul. Climat Scen.'!Q$89:Q$99)","v":0}]
[null,{"$f":"Bus","v":"Bus"},{"$f":"SUMIF('4B Calcul. Climat Scen.'!$J$89:$J$99,'2A Input Climat Scen. Pass.'!$B60,'4B Calcul. Climat Scen.'!M$89:M$99)","v":0},{"$f":"SUMIF('4B Calcul. Climat Scen.'!$J$89:$J$99,'2A Input Climat Scen. Pass.'!$B60,'4B Calcul. Climat Scen.'!N$89:N$99)","v":0},{"$f":"SUMIF('4B Calcul. Climat Scen.'!$J$89:$J$99,'2A Input Climat Scen. Pass.'!$B60,'4B Calcul. Climat Scen.'!O$89:O$99)","v":0},{"$f":"SUMIF('4B Calcul. Climat Scen.'!$J$89:$J$99,'2A Input Climat Scen. Pass.'!$B60,'4B Calcul. Climat Scen.'!P$89:P$99)","v":0},{"$f":"SUMIF('4B Calcul. Climat Scen.'!$J$89:$J$99,'2A Input Climat Scen. Pass.'!$B60,'4B Calcul. Climat Scen.'!Q$89:Q$99)","v":0}]
[null,{"$f":"BRT","v":"BRT"},{"$f":"SUMIF('4B Calcul. Climat Scen.'!$J$89:$J$99,'2A Input Climat Scen. Pass.'!$B61,'4B Calcul. Climat Scen.'!M$89:M$99)","v":0},{"$f":"SUMIF('4B Calcul. Climat Scen.'!$J$89:$J$99,'2A Input Climat Scen. Pass.'!$B61,'4B Calcul. Climat Scen.'!N$89:N$99)","v":0},{"$f":"SUMIF('4B Calcul. Climat Scen.'!$J$89:$J$99,'2A Input Climat Scen. Pass.'!$B61,'4B Calcul. Climat Scen.'!O$89:O$99)","v":0},{"$f":"SUMIF('4B Calcul. Climat Scen.'!$J$89:$J$99,'2A Input Climat Scen. Pass.'!$B61,'4B Calcul. Climat Scen.'!P$89:P$99)","v":0},{"$f":"SUMIF('4B Calcul. Climat Scen.'!$J$89:$J$99,'2A Input Climat Scen. Pass.'!$B61,'4B Calcul. Climat Scen.'!Q$89:Q$99)","v":0}]
[null,{"$f":"Train","v":"Long distance train"},{"$f":"SUMIF('4B Calcul. Climat Scen.'!$J$89:$J$99,'2A Input Climat Scen. Pass.'!$B62,'4B Calcul. Climat Scen.'!M$89:M$99)","v":0},{"$f":"SUMIF('4B Calcul. Climat Scen.'!$J$89:$J$99,'2A Input Climat Scen. Pass.'!$B62,'4B Calcul. Climat Scen.'!N$89:N$99)","v":0},{"$f":"SUMIF('4B Calcul. Climat Scen.'!$J$89:$J$99,'2A Input Climat Scen. Pass.'!$B62,'4B Calcul. Climat Scen.'!O$89:O$99)","v":0},{"$f":"SUMIF('4B Calcul. Climat Scen.'!$J$89:$J$99,'2A Input Climat Scen. Pass.'!$B62,'4B Calcul. Climat Scen.'!P$89:P$99)","v":0},{"$f":"SUMIF('4B Calcul. Climat Scen.'!$J$89:$J$99,'2A Input Climat Scen. Pass.'!$B62,'4B Calcul. Climat Scen.'!Q$89:Q$99)","v":0}]
[null,{"$f":"Utrain","v":"Urban train"},{"$f":"SUMIF('4B Calcul. Climat Scen.'!$J$89:$J$99,'2A Input Climat Scen. Pass.'!$B63,'4B Calcul. Climat Scen.'!M$89:M$99)","v":0},{"$f":"SUMIF('4B Calcul. Climat Scen.'!$J$89:$J$99,'2A Input Climat Scen. Pass.'!$B63,'4B Calcul. Climat Scen.'!N$89:N$99)","v":0},{"$f":"SUMIF('4B Calcul. Climat Scen.'!$J$89:$J$99,'2A Input Climat Scen. Pass.'!$B63,'4B Calcul. Climat Scen.'!O$89:O$99)","v":0},{"$f":"SUMIF('4B Calcul. Climat Scen.'!$J$89:$J$99,'2A Input Climat Scen. Pass.'!$B63,'4B Calcul. Climat Scen.'!P$89:P$99)","v":0},{"$f":"SUMIF('4B Calcul. Climat Scen.'!$J$89:$J$99,'2A Input Climat Scen. Pass.'!$B63,'4B Calcul. Climat Scen.'!Q$89:Q$99)","v":0}]
[null,{"$f":"Metro","v":"Metro"},{"$f":"SUMIF('4B Calcul. Climat Scen.'!$J$89:$J$99,'2A Input Climat Scen. Pass.'!$B64,'4B Calcul. Climat Scen.'!M$89:M$99)","v":0},{"$f":"SUMIF('4B Calcul. Climat Scen.'!$J$89:$J$99,'2A Input Climat Scen. Pass.'!$B64,'4B Calcul. Climat Scen.'!N$89:N$99)","v":0},{"$f":"SUMIF('4B Calcul. Climat Scen.'!$J$89:$J$99,'2A Input Climat Scen. Pass.'!$B64,'4B Calcul. Climat Scen.'!O$89:O$99)","v":0},{"$f":"SUMIF('4B Calcul. Climat Scen.'!$J$89:$J$99,'2A Input Climat Scen. Pass.'!$B64,'4B Calcul. Climat Scen.'!P$89:P$99)","v":0},{"$f":"SUMIF('4B Calcul. Climat Scen.'!$J$89:$J$99,'2A Input Climat Scen. Pass.'!$B64,'4B Calcul. Climat Scen.'!Q$89:Q$99)","v":0}]
[]
[2.1,{"$f":"Category","v":"Category"},{"$f":"addmileage","v":"Additional vkt [Mio. km]"}]
[null,{"$f":"goaltransportmode","v":"Goal transport mode (above categories)/sourced from (below categories)"},2020,2025,2030,2040,2050]
[null,{"$f":"NMT","v":"NMT"}]
[null,{"$f":"Minibus","v":"Minibus"}]
[null,{"$f":"Bus","v":"Bus"}]
[null,{"$f":"BRT","v":"BRT"}]
[null,{"$f":"Train","v":"Long distance train"}]
[null,{"$f":"Utrain","v":"Urban train"}]
[null,{"$f":"Metro","v":"Metro"}]
[]
[2.2000000000000002,{"$f":"Category","v":"Category"},{"$f":"Occupancyratescen","v":"Occupancy rate [Passengers/vehicle]"}]
[null,{"$f":"goaltransportmode","v":"Goal transport mode (above categories)/sourced from (below categories)"},{"$f":"B4","v":0},2020,2025,2030,2040,2050]
[null,{"$f":"NMT","v":"NMT"},{"$f":"SUMIF('1A Input Base and BAU'!$B$74:$B$84,'2A Input Climat Scen. Pass.'!B78,'1A Input Base and BAU'!$D$74:$D$84)","v":1},1,1,1,1,1]
[null,{"$f":"Minibus","v":"Minibus"},{"$f":"SUMIF('1A Input Base and BAU'!$B$74:$B$84,'2A Input Climat Scen. Pass.'!B79,'1A Input Base and BAU'!$D$74:$D$84)","v":0}]
[null,{"$f":"Bus","v":"Bus"},{"$f":"SUMIF('1A Input Base and BAU'!$B$74:$B$84,'2A Input Climat Scen. Pass.'!B80,'1A Input Base and BAU'!$D$74:$D$84)","v":0}]
[null,{"$f":"BRT","v":"BRT"},{"$f":"SUMIF('1A Input Base and BAU'!$B$74:$B$84,'2A Input Climat Scen. Pass.'!B81,'1A Input Base and BAU'!$D$74:$D$84)","v":0}]
[null,{"$f":"Train","v":"Long distance train"},{"$f":"SUMIF('1A Input Base and BAU'!$B$74:$B$84,'2A Input Climat Scen. Pass.'!B82,'1A Input Base and BAU'!$D$74:$D$84)","v":0}]
[null,{"$f":"Utrain","v":"Urban train"},{"$f":"SUMIF('1A Input Base and BAU'!$B$74:$B$84,'2A Input Climat Scen. Pass.'!B83,'1A Input Base and BAU'!$D$74:$D$84)","v":0}]
[null,{"$f":"Metro","v":"Metro"},{"$f":"SUMIF('1A Input Base and BAU'!$B$74:$B$84,'2A Input Climat Scen. Pass.'!B84,'1A Input Base and BAU'!$D$74:$D$84)","v":0}]
[]
[2.2999999999999998,{"$f":"Subcategory","v":"Subcategory"},null,{"$f":"originmode","v":"Origin mode of transportation of new PT passengers [% of the trips]"}]
[null,{"$f":"goaltransportmode","v":"Goal transport mode (above categories)/sourced from (below categories)"},{"$f":"avtriplength","v":"Av. BAU trip length (km)"},2020,2025,2030,2040,2050]
[null,{"$f":"NMT","v":"NMT"},null,{"$f":"IF(C68<>\"\",SUM(D89:D99),\"-\")","v":"-"},{"$f":"IF(D68<>\"\",SUM(E89:E99),\"-\")","v":"-"},{"$f":"IF(E68<>\"\",SUM(F89:F99),\"-\")","v":"-"},{"$f":"IF(F68<>\"\",SUM(G89:G99),\"-\")","v":"-"},{"$f":"IF(G68<>\"\",SUM(H89:H99),\"-\")","v":"-"}]
[null,{"$f":"Pcar","v":"Private car"},{"$f":"SUMIF('1A Input Base and BAU'!$G$74:$G$84,'2A Input Climat Scen. Pass.'!$B89,'1A Input Base and BAU'!$H$74:$H$84)","v":0}]
[null,{"$f":"Itaxi","v":"Individual taxi"},{"$f":"SUMIF('1A Input Base and BAU'!$G$74:$G$84,'2A Input Climat Scen. Pass.'!$B90,'1A Input Base and BAU'!$H$74:$H$84)","v":0}]
[null,{"$f":"Motorcycle","v":"Motorcycle"},{"$f":"SUMIF('1A Input Base and BAU'!$G$74:$G$84,'2A Input Climat Scen. Pass.'!$B91,'1A Input Base and BAU'!$H$74:$H$84)","v":0}]
[null,{"$f":"Mototaxi","v":"Motorcycle taxi"},{"$f":"SUMIF('1A Input Base and BAU'!$G$74:$G$84,'2A Input Climat Scen. Pass.'!$B92,'1A Input Base and BAU'!$H$74:$H$84)","v":0}]
[null,{"$f":"Minibus","v":"Minibus"},{"$f":"SUMIF('1A Input Base and BAU'!$G$74:$G$84,'2A Input Climat Scen. Pass.'!$B93,'1A Input Base and BAU'!$H$74:$H$84)","v":0}]
[null,{"$f":"Bus","v":"Bus"},{"$f":"SUMIF('1A Input Base and BAU'!$G$74:$G$84,'2A Input Climat Scen. Pass.'!$B94,'1A Input Base and BAU'!$H$74:$H$84)","v":0}]
[null,{"$f":"BRT","v":"BRT"},{"$f":"SUMIF('1A Input Base and BAU'!$G$74:$G$84,'2A Input Climat Scen. Pass.'!$B95,'1A Input Base and BAU'!$H$74:$H$84)","v":0}]
[null,{"$f":"Train","v":"Long distance train"},{"$f":"SUMIF('1A Input Base and BAU'!$G$74:$G$84,'2A Input Climat Scen. Pass.'!$B96,'1A Input Base and BAU'!$H$74:$H$84)","v":0}]
[null,{"$f":"Utrain","v":"Urban train"},{"$f":"SUMIF('1A Input Base and BAU'!$G$74:$G$84,'2A Input Climat Scen. Pass.'!$B97,'1A Input Base and BAU'!$H$74:$H$84)","v":0}]
[null,{"$f":"Metro","v":"Metro"},{"$f":"SUMIF('1A Input Base and BAU'!$G$74:$G$84,'2A Input Climat Scen. Pass.'!$B98,'1A Input Base and BAU'!$H$74:$H$84)","v":0}]
[null,{"$f":"Inducedtraffic","v":"Induced traffic"}]
[null,{"$f":"Minibus","v":"Minibus"},null,{"$f":"IF(C69<>\"\",SUM(D101:D111),IF(D79<>\"\",SUM(D101:D111),\"-\"))","v":"-"},{"$f":"IF(D69<>\"\",SUM(E101:E111),IF(E79<>\"\",SUM(E101:E111),\"-\"))","v":"-"},{"$f":"IF(E69<>\"\",SUM(F101:F111),IF(F79<>\"\",SUM(F101:F111),\"-\"))","v":"-"},{"$f":"IF(F69<>\"\",SUM(G101:G111),IF(G79<>\"\",SUM(G101:G111),\"-\"))","v":"-"},{"$f":"IF(G69<>\"\",SUM(H101:H111),IF(H79<>\"\",SUM(H101:H111),\"-\"))","v":"-"}]
[null,{"$f":"NMT","v":"NMT"},{"$f":"SUMIF('1A Input Base and BAU'!$G$74:$G$84,'2A Input Climat Scen. Pass.'!$B101,'1A Input Base and BAU'!$H$74:$H$84)","v":0}]
[null,{"$f":"Pcar","v":"Private car"},{"$f":"SUMIF('1A Input Base and BAU'!$G$74:$G$84,'2A Input Climat Scen. Pass.'!$B102,'1A Input Base and BAU'!$H$74:$H$84)","v":0}]
[null,{"$f":"Itaxi","v":"Individual taxi"},{"$f":"SUMIF('1A Input Base and BAU'!$G$74:$G$84,'2A Input Climat Scen. Pass.'!$B103,'1A Input Base and BAU'!$H$74:$H$84)","v":0}]
[null,{"$f":"Motorcycle","v":"Motorcycle"},{"$f":"SUMIF('1A Input Base and BAU'!$G$74:$G$84,'2A Input Climat Scen. Pass.'!$B104,'1A Input Base and BAU'!$H$74:$H$84)","v":0}]
[null,{"$f":"Mototaxi","v":"Motorcycle taxi"},{"$f":"SUMIF('1A Input Base and BAU'!$G$74:$G$84,'2A Input Climat Scen. Pass.'!$B105,'1A Input Base and BAU'!$H$74:$H$84)","v":0}]
[null,{"$f":"Bus","v":"Bus"},{"$f":"SUMIF('1A Input Base and BAU'!$G$74:$G$84,'2A Input Climat Scen. Pass.'!$B106,'1A Input Base and BAU'!$H$74:$H$84)","v":0}]
[null,{"$f":"BRT","v":"BRT"},{"$f":"SUMIF('1A Input Base and BAU'!$G$74:$G$84,'2A Input Climat Scen. Pass.'!$B107,'1A Input Base and BAU'!$H$74:$H$84)","v":0}]
[null,{"$f":"Train","v":"Long distance train"},{"$f":"SUMIF('1A Input Base and BAU'!$G$74:$G$84,'2A Input Climat Scen. Pass.'!$B108,'1A Input Base and BAU'!$H$74:$H$84)","v":0}]
[null,{"$f":"Utrain","v":"Urban train"},{"$f":"SUMIF('1A Input Base and BAU'!$G$74:$G$84,'2A Input Climat Scen. Pass.'!$B109,'1A Input Base and BAU'!$H$74:$H$84)","v":0}]
[null,{"$f":"Metro","v":"Metro"},{"$f":"SUMIF('1A Input Base and BAU'!$G$74:$G$84,'2A Input Climat Scen. Pass.'!$B110,'1A Input Base and BAU'!$H$74:$H$84)","v":0}]
[null,{"$f":"Inducedtraffic","v":"Induced traffic"}]
[null,{"$f":"Bus","v":"Bus"},null,{"$f":"IF(C70<>\"\",SUM(D113:D123),IF(D80<>\"\",SUM(D113:D123),\"-\"))","v":"-"},{"$f":"IF(D70<>\"\",SUM(E113:E123),IF(E80<>\"\",SUM(E113:E123),\"-\"))","v":"-"},{"$f":"IF(E70<>\"\",SUM(F113:F123),IF(F80<>\"\",SUM(F113:F123),\"-\"))","v":"-"},{"$f":"IF(F70<>\"\",SUM(G113:G123),IF(G80<>\"\",SUM(G113:G123),\"-\"))","v":"-"},{"$f":"IF(G70<>\"\",SUM(H113:H123),IF(H80<>\"\",SUM(H113:H123),\"-\"))","v":"-"}]
[null,{"$f":"NMT","v":"NMT"},{"$f":"SUMIF('1A Input Base and BAU'!$G$74:$G$84,'2A Input Climat Scen. Pass.'!$B113,'1A Input Base and BAU'!$H$74:$H$84)","v":0}]
[null,{"$f":"Pcar","v":"Private car"},{"$f":"SUMIF('1A Input Base and BAU'!$G$74:$G$84,'2A Input Climat Scen. Pass.'!$B114,'1A Input Base and BAU'!$H$74:$H$84)","v":0}]
[null,{"$f":"Itaxi","v":"Individual taxi"},{"$f":"SUMIF('1A Input Base and BAU'!$G$74:$G$84,'2A Input Climat Scen. Pass.'!$B115,'1A Input Base and BAU'!$H$74:$H$84)","v":0}]
[null,{"$f":"Motorcycle","v":"Motorcycle"},{"$f":"SUMIF('1A Input Base and BAU'!$G$74:$G$84,'2A Input Climat Scen. Pass.'!$B116,'1A Input Base and BAU'!$H$74:$H$84)","v":0}]
[null,{"$f":"Mototaxi","v":"Motorcycle taxi"},{"$f":"SUMIF('1A Input Base and BAU'!$G$74:$G$84,'2A Input Climat Scen. Pass.'!$B117,'1A Input Base and BAU'!$H$74:$H$84)","v":0}]
[null,{"$f":"Minibus","v":"Minibus"},{"$f":"SUMIF('1A Input Base and BAU'!$G$74:$G$84,'2A Input Climat Scen. Pass.'!$B118,'1A Input Base and BAU'!$H$74:$H$84)","v":0}]
[null,{"$f":"BRT","v":"BRT"},{"$f":"SUMIF('1A Input Base and BAU'!$G$74:$G$84,'2A Input Climat Scen. Pass.'!$B119,'1A Input Base and BAU'!$H$74:$H$84)","v":0}]
[null,{"$f":"Train","v":"Long distance train"},{"$f":"SUMIF('1A Input Base and BAU'!$G$74:$G$84,'2A Input Climat Scen. Pass.'!$B120,'1A Input Base and BAU'!$H$74:$H$84)","v":0}]
[null,{"$f":"Utrain","v":"Urban train"},{"$f":"SUMIF('1A Input Base and BAU'!$G$74:$G$84,'2A Input Climat Scen. Pass.'!$B121,'1A Input Base and BAU'!$H$74:$H$84)","v":0}]
[null,{"$f":"Metro","v":"Metro"},{"$f":"SUMIF('1A Input Base and BAU'!$G$74:$G$84,'2A Input Climat Scen. Pass.'!$B122,'1A Input Base and BAU'!$H$74:$H$84)","v":0}]
[null,{"$f":"Inducedtraffic","v":"Induced traffic"}]
[null,{"$f":"BRT","v":"BRT"},null,{"$f":"IF(C71<>\"\",SUM(D125:D135),IF(D81<>\"\",SUM(D125:D135),\"-\"))","v":"-"},{"$f":"IF(D71<>\"\",SUM(E125:E135),IF(E81<>\"\",SUM(E125:E135),\"-\"))","v":"-"},{"$f":"IF(E71<>\"\",SUM(F125:F135),IF(F81<>\"\",SUM(F125:F135),\"-\"))","v":"-"},{"$f":"IF(F71<>\"\",SUM(G125:G135),IF(G81<>\"\",SUM(G125:G135),\"-\"))","v":"-"},{"$f":"IF(G71<>\"\",SUM(H125:H135),IF(H81<>\"\",SUM(H125:H135),\"-\"))","v":"-"}]
[null,{"$f":"NMT","v":"NMT"},{"$f":"SUMIF('1A Input Base and BAU'!$G$74:$G$84,'2A Input Climat Scen. Pass.'!$B125,'1A Input Base and BAU'!$H$74:$H$84)","v":0}]
[null,{"$f":"Pcar","v":"Private car"},{"$f":"SUMIF('1A Input Base and BAU'!$G$74:$G$84,'2A Input Climat Scen. Pass.'!$B126,'1A Input Base and BAU'!$H$74:$H$84)","v":0}]
[null,{"$f":"Itaxi","v":"Individual taxi"},{"$f":"SUMIF('1A Input Base and BAU'!$G$74:$G$84,'2A Input Climat Scen. Pass.'!$B127,'1A Input Base and BAU'!$H$74:$H$84)","v":0}]
[null,{"$f":"Motorcycle","v":"Motorcycle"},{"$f":"SUMIF('1A Input Base and BAU'!$G$74:$G$84,'2A Input Climat Scen. Pass.'!$B128,'1A Input Base and BAU'!$H$74:$H$84)","v":0}]
[null,{"$f":"Mototaxi","v":"Motorcycle taxi"},{"$f":"SUMIF('1A Input Base and BAU'!$G$74:$G$84,'2A Input Climat Scen. Pass.'!$B129,'1A Input Base and BAU'!$H$74:$H$84)","v":0}]
[null,{"$f":"Minibus","v":"Minibus"},{"$f":"SUMIF('1A Input Base and BAU'!$G$74:$G$84,'2A Input Climat Scen. Pass.'!$B130,'1A Input Base and BAU'!$H$74:$H$84)","v":0}]
[null,"Bus",{"$f":"SUMIF('1A Input Base and BAU'!$G$74:$G$84,'2A Input Climat Scen. Pass.'!$B131,'1A Input Base and BAU'!$H$74:$H$84)","v":0}]
[null,{"$f":"Train","v":"Long distance train"},{"$f":"SUMIF('1A Input Base and BAU'!$G$74:$G$84,'2A Input Climat Scen. Pass.'!$B132,'1A Input Base and BAU'!$H$74:$H$84)","v":0}]
[null,{"$f":"Utrain","v":"Urban train"},{"$f":"SUMIF('1A Input Base and BAU'!$G$74:$G$84,'2A Input Climat Scen. Pass.'!$B133,'1A Input Base and BAU'!$H$74:$H$84)","v":0}]
[null,{"$f":"Metro","v":"Metro"},{"$f":"SUMIF('1A Input Base and BAU'!$G$74:$G$84,'2A Input Climat Scen. Pass.'!$B134,'1A Input Base and BAU'!$H$74:$H$84)","v":0}]
[null,{"$f":"Inducedtraffic","v":"Induced traffic"}]
[null,{"$f":"Train","v":"Long distance train"},null,{"$f":"IF(C72<>\"\",SUM(D137:D147),IF(D82<>\"\",SUM(D137:D147),\"-\"))","v":"-"},{"$f":"IF(D72<>\"\",SUM(E137:E147),IF(E82<>\"\",SUM(E137:E147),\"-\"))","v":"-"},{"$f":"IF(E72<>\"\",SUM(F137:F147),IF(F82<>\"\",SUM(F137:F147),\"-\"))","v":"-"},{"$f":"IF(F72<>\"\",SUM(G137:G147),IF(G82<>\"\",SUM(G137:G147),\"-\"))","v":"-"},{"$f":"IF(G72<>\"\",SUM(H137:H147),IF(H82<>\"\",SUM(H137:H147),\"-\"))","v":"-"}]
[null,{"$f":"NMT","v":"NMT"},{"$f":"SUMIF('1A Input Base and BAU'!$G$74:$G$84,'2A Input Climat Scen. Pass.'!$B137,'1A Input Base and BAU'!$H$74:$H$84)","v":0}]
[null,{"$f":"Pcar","v":"Private car"},{"$f":"SUMIF('1A Input Base and BAU'!$G$74:$G$84,'2A Input Climat Scen. Pass.'!$B138,'1A Input Base and BAU'!$H$74:$H$84)","v":0}]
[null,{"$f":"Itaxi","v":"Individual taxi"},{"$f":"SUMIF('1A Input Base and BAU'!$G$74:$G$84,'2A Input Climat Scen. Pass.'!$B139,'1A Input Base and BAU'!$H$74:$H$84)","v":0}]
[null,{"$f":"Motorcycle","v":"Motorcycle"},{"$f":"SUMIF('1A Input Base and BAU'!$G$74:$G$84,'2A Input Climat Scen. Pass.'!$B140,'1A Input Base and BAU'!$H$74:$H$84)","v":0}]
[null,{"$f":"Mototaxi","v":"Motorcycle taxi"},{"$f":"SUMIF('1A Input Base and BAU'!$G$74:$G$84,'2A Input Climat Scen. Pass.'!$B141,'1A Input Base and BAU'!$H$74:$H$84)","v":0}]
[null,{"$f":"Minibus","v":"Minibus"},{"$f":"SUMIF('1A Input Base and BAU'!$G$74:$G$84,'2A Input Climat Scen. Pass.'!$B142,'1A Input Base and BAU'!$H$74:$H$84)","v":0}]
[null,"Bus",{"$f":"SUMIF('1A Input Base and BAU'!$G$74:$G$84,'2A Input Climat Scen. Pass.'!$B143,'1A Input Base and BAU'!$H$74:$H$84)","v":0}]
[null,"BRT",{"$f":"SUMIF('1A Input Base and BAU'!$G$74:$G$84,'2A Input Climat Scen. Pass.'!$B144,'1A Input Base and BAU'!$H$74:$H$84)","v":0}]
[null,{"$f":"Utrain","v":"Urban train"},{"$f":"SUMIF('1A Input Base and BAU'!$G$74:$G$84,'2A Input Climat Scen. Pass.'!$B145,'1A Input Base and BAU'!$H$74:$H$84)","v":0}]
[null,{"$f":"Metro","v":"Metro"},{"$f":"SUMIF('1A Input Base and BAU'!$G$74:$G$84,'2A Input Climat Scen. Pass.'!$B146,'1A Input Base and BAU'!$H$74:$H$84)","v":0}]
[null,{"$f":"Inducedtraffic","v":"Induced traffic"}]
[null,{"$f":"Utrain","v":"Urban train"},null,{"$f":"IF(C73<>\"\",SUM(D149:D159),IF(D83<>\"\",SUM(D149:D159),\"-\"))","v":"-"},{"$f":"IF(D73<>\"\",SUM(E149:E159),IF(E83<>\"\",SUM(E149:E159),\"-\"))","v":"-"},{"$f":"IF(E73<>\"\",SUM(F149:F159),IF(F83<>\"\",SUM(F149:F159),\"-\"))","v":"-"},{"$f":"IF(F73<>\"\",SUM(G149:G159),IF(G83<>\"\",SUM(G149:G159),\"-\"))","v":"-"},{"$f":"IF(G73<>\"\",SUM(H149:H159),IF(H83<>\"\",SUM(H149:H159),\"-\"))","v":"-"}]
[null,{"$f":"NMT","v":"NMT"},{"$f":"SUMIF('1A Input Base and BAU'!$G$74:$G$84,'2A Input Climat Scen. Pass.'!$B149,'1A Input Base and BAU'!$H$74:$H$84)","v":0}]
[null,{"$f":"Pcar","v":"Private car"},{"$f":"SUMIF('1A Input Base and BAU'!$G$74:$G$84,'2A Input Climat Scen. Pass.'!$B150,'1A Input Base and BAU'!$H$74:$H$84)","v":0}]
[null,{"$f":"Itaxi","v":"Individual taxi"},{"$f":"SUMIF('1A Input Base and BAU'!$G$74:$G$84,'2A Input Climat Scen. Pass.'!$B151,'1A Input Base and BAU'!$H$74:$H$84)","v":0}]
[null,{"$f":"Motorcycle","v":"Motorcycle"},{"$f":"SUMIF('1A Input Base and BAU'!$G$74:$G$84,'2A Input Climat Scen. Pass.'!$B152,'1A Input Base and BAU'!$H$74:$H$84)","v":0}]
[null,{"$f":"Mototaxi","v":"Motorcycle taxi"},{"$f":"SUMIF('1A Input Base and BAU'!$G$74:$G$84,'2A Input Climat Scen. Pass.'!$B153,'1A Input Base and BAU'!$H$74:$H$84)","v":0}]
[null,{"$f":"Minibus","v":"Minibus"},{"$f":"SUMIF('1A Input Base and BAU'!$G$74:$G$84,'2A Input Climat Scen. Pass.'!$B154,'1A Input Base and BAU'!$H$74:$H$84)","v":0}]
[null,"Bus",{"$f":"SUMIF('1A Input Base and BAU'!$G$74:$G$84,'2A Input Climat Scen. Pass.'!$B155,'1A Input Base and BAU'!$H$74:$H$84)","v":0}]
[null,"BRT",{"$f":"SUMIF('1A Input Base and BAU'!$G$74:$G$84,'2A Input Climat Scen. Pass.'!$B156,'1A Input Base and BAU'!$H$74:$H$84)","v":0}]
[null,{"$f":"Train","v":"Long distance train"},{"$f":"SUMIF('1A Input Base and BAU'!$G$74:$G$84,'2A Input Climat Scen. Pass.'!$B157,'1A Input Base and BAU'!$H$74:$H$84)","v":0}]
[null,{"$f":"Metro","v":"Metro"},{"$f":"SUMIF('1A Input Base and BAU'!$G$74:$G$84,'2A Input Climat Scen. Pass.'!$B158,'1A Input Base and BAU'!$H$74:$H$84)","v":0}]
[null,{"$f":"Inducedtraffic","v":"Induced traffic"}]
[null,{"$f":"Metro","v":"Metro"},null,{"$f":"IF(C74<>\"\",SUM(D161:D171),IF(D84<>\"\",SUM(D161:D171),\"-\"))","v":"-"},{"$f":"IF(D74<>\"\",SUM(E161:E171),IF(E84<>\"\",SUM(E161:E171),\"-\"))","v":"-"},{"$f":"IF(E74<>\"\",SUM(F161:F171),IF(F84<>\"\",SUM(F161:F171),\"-\"))","v":"-"},{"$f":"IF(F74<>\"\",SUM(G161:G171),IF(G84<>\"\",SUM(G161:G171),\"-\"))","v":"-"},{"$f":"IF(G74<>\"\",SUM(H161:H171),IF(H84<>\"\",SUM(H161:H171),\"-\"))","v":"-"}]
[null,{"$f":"NMT","v":"NMT"},{"$f":"SUMIF('1A Input Base and BAU'!$G$74:$G$84,'2A Input Climat Scen. Pass.'!$B161,'1A Input Base and BAU'!$H$74:$H$84)","v":0}]
[null,{"$f":"Pcar","v":"Private car"},{"$f":"SUMIF('1A Input Base and BAU'!$G$74:$G$84,'2A Input Climat Scen. Pass.'!$B162,'1A Input Base and BAU'!$H$74:$H$84)","v":0}]
[null,{"$f":"Itaxi","v":"Individual taxi"},{"$f":"SUMIF('1A Input Base and BAU'!$G$74:$G$84,'2A Input Climat Scen. Pass.'!$B163,'1A Input Base and BAU'!$H$74:$H$84)","v":0}]
[null,{"$f":"Motorcycle","v":"Motorcycle"},{"$f":"SUMIF('1A Input Base and BAU'!$G$74:$G$84,'2A Input Climat Scen. Pass.'!$B164,'1A Input Base and BAU'!$H$74:$H$84)","v":0}]
[null,{"$f":"Mototaxi","v":"Motorcycle taxi"},{"$f":"SUMIF('1A Input Base and BAU'!$G$74:$G$84,'2A Input Climat Scen. Pass.'!$B165,'1A Input Base and BAU'!$H$74:$H$84)","v":0}]
[null,{"$f":"Minibus","v":"Minibus"},{"$f":"SUMIF('1A Input Base and BAU'!$G$74:$G$84,'2A Input Climat Scen. Pass.'!$B166,'1A Input Base and BAU'!$H$74:$H$84)","v":0}]
[null,{"$f":"Bus","v":"Bus"},{"$f":"SUMIF('1A Input Base and BAU'!$G$74:$G$84,'2A Input Climat Scen. Pass.'!$B167,'1A Input Base and BAU'!$H$74:$H$84)","v":0}]
[null,{"$f":"BRT","v":"BRT"},{"$f":"SUMIF('1A Input Base and BAU'!$G$74:$G$84,'2A Input Climat Scen. Pass.'!$B168,'1A Input Base and BAU'!$H$74:$H$84)","v":0}]
[null,{"$f":"Train","v":"Long distance train"},{"$f":"SUMIF('1A Input Base and BAU'!$G$74:$G$84,'2A Input Climat Scen. Pass.'!$B169,'1A Input Base and BAU'!$H$74:$H$84)","v":0}]
[null,{"$f":"Utrain","v":"Urban train"},{"$f":"SUMIF('1A Input Base and BAU'!$G$74:$G$84,'2A Input Climat Scen. Pass.'!$B170,'1A Input Base and BAU'!$H$74:$H$84)","v":0}]
[null,{"$f":"Inducedtraffic","v":"Induced traffic"}]
[]
[]
[{"$f":"resultstrans","v":"Results of the transport demand measures"}]
[null,{"$f":"Category","v":"Category"},null,{"$f":"scenariovkt","v":"Scenario vkt [Mio. km]"},null,null,null,null,null,{"$f":"Category","v":"Category"},null,{"$f":"Transportperf","v":"Transport performance [Mio. Pkm]"}]
[null,{"$f":"Category","v":"Category"},null,2020,2025,2030,2040,2050,null,{"$f":"Category","v":"Category"},null,2020,2025,2030,2040,2050]
[null,{"$f":"NMT","v":"NMT"},{"$f":"Scen2","v":"Scenario 2)"},{"$f":"SUMIF('4B Calcul. Climat Scen.'!$C$225:$C$240,'2A Input Climat Scen. Pass.'!$B177,'4B Calcul. Climat Scen.'!AJ$225:AJ$235)","v":0},{"$f":"SUMIF('4B Calcul. Climat Scen.'!$C$225:$C$240,'2A Input Climat Scen. Pass.'!$B177,'4B Calcul. Climat Scen.'!AK$225:AK$235)","v":0},{"$f":"SUMIF('4B Calcul. Climat Scen.'!$C$225:$C$240,'2A Input Climat Scen. Pass.'!$B177,'4B Calcul. Climat Scen.'!AL$225:AL$235)","v":0},{"$f":"SUMIF('4B Calcul. Climat Scen.'!$C$225:$C$240,'2A Input Climat Scen. Pass.'!$B177,'4B Calcul. Climat Scen.'!AM$225:AM$235)","v":0},{"$f":"SUMIF('4B Calcul. Climat Scen.'!$C$225:$C$240,'2A Input Climat Scen. Pass.'!$B177,'4B Calcul. Climat Scen.'!AN$225:AN$235)","v":0},null,{"$f":"NMT","v":"NMT"},{"$f":"Scen2","v":"Scenario 2)"},{"$f":"SUMIF('4B Calcul. Climat Scen.'!$C$225:$C$235,'2A Input Climat Scen. Pass.'!$J177,'4B Calcul. Climat Scen.'!G$225:G$235)","v":0},{"$f":"SUMIF('4B Calcul. Climat Scen.'!$C$225:$C$235,'2A Input Climat Scen. Pass.'!$J177,'4B Calcul. Climat Scen.'!H$225:H$235)","v":0},{"$f":"SUMIF('4B Calcul. Climat Scen.'!$C$225:$C$235,'2A Input Climat Scen. Pass.'!$J177,'4B Calcul. Climat Scen.'!I$225:I$235)","v":0},{"$f":"SUMIF('4B Calcul. Climat Scen.'!$C$225:$C$235,'2A Input Climat Scen. Pass.'!$J177,'4B Calcul. Climat Scen.'!J$225:J$235)","v":0},{"$f":"SUMIF('4B Calcul. Climat Scen.'!$C$225:$C$235,'2A Input Climat Scen. Pass.'!$J177,'4B Calcul. Climat Scen.'!K$225:K$235)","v":0}]
[null,{"$f":"Pcar","v":"Private car"},"Scenario 2)",{"$f":"SUMIF('4B Calcul. Climat Scen.'!$C$225:$C$240,'2A Input Climat Scen. Pass.'!$B178,'4B Calcul. Climat Scen.'!AJ$225:AJ$235)","v":0},{"$f":"SUMIF('4B Calcul. Climat Scen.'!$C$225:$C$240,'2A Input Climat Scen. Pass.'!$B178,'4B Calcul. Climat Scen.'!AK$225:AK$235)","v":0},{"$f":"SUMIF('4B Calcul. Climat Scen.'!$C$225:$C$240,'2A Input Climat Scen. Pass.'!$B178,'4B Calcul. Climat Scen.'!AL$225:AL$235)","v":0},{"$f":"SUMIF('4B Calcul. Climat Scen.'!$C$225:$C$240,'2A Input Climat Scen. Pass.'!$B178,'4B Calcul. Climat Scen.'!AM$225:AM$235)","v":0},{"$f":"SUMIF('4B Calcul. Climat Scen.'!$C$225:$C$240,'2A Input Climat Scen. Pass.'!$B178,'4B Calcul. Climat Scen.'!AN$225:AN$235)","v":0},null,{"$f":"Pcar","v":"Private car"},"Scenario 2)",{"$f":"SUMIF('4B Calcul. Climat Scen.'!$C$225:$C$235,'2A Input Climat Scen. Pass.'!$J178,'4B Calcul. Climat Scen.'!G$225:G$235)","v":0},{"$f":"SUMIF('4B Calcul. Climat Scen.'!$C$225:$C$235,'2A Input Climat Scen. Pass.'!$J178,'4B Calcul. Climat Scen.'!H$225:H$235)","v":0},{"$f":"SUMIF('4B Calcul. Climat Scen.'!$C$225:$C$235,'2A Input Climat Scen. Pass.'!$J178,'4B Calcul. Climat Scen.'!I$225:I$235)","v":0},{"$f":"SUMIF('4B Calcul. Climat Scen.'!$C$225:$C$235,'2A Input Climat Scen. Pass.'!$J178,'4B Calcul. Climat Scen.'!J$225:J$235)","v":0},{"$f":"SUMIF('4B Calcul. Climat Scen.'!$C$225:$C$235,'2A Input Climat Scen. Pass.'!$J178,'4B Calcul. Climat Scen.'!K$225:K$235)","v":0}]
[null,{"$f":"Itaxi","v":"Individual taxi"},"Scenario 2)",{"$f":"SUMIF('4B Calcul. Climat Scen.'!$C$225:$C$240,'2A Input Climat Scen. Pass.'!$B179,'4B Calcul. Climat Scen.'!AJ$225:AJ$235)","v":0},{"$f":"SUMIF('4B Calcul. Climat Scen.'!$C$225:$C$240,'2A Input Climat Scen. Pass.'!$B179,'4B Calcul. Climat Scen.'!AK$225:AK$235)","v":0},{"$f":"SUMIF('4B Calcul. Climat Scen.'!$C$225:$C$240,'2A Input Climat Scen. Pass.'!$B179,'4B Calcul. Climat Scen.'!AL$225:AL$235)","v":0},{"$f":"SUMIF('4B Calcul. Climat Scen.'!$C$225:$C$240,'2A Input Climat Scen. Pass.'!$B179,'4B Calcul. Climat Scen.'!AM$225:AM$235)","v":0},{"$f":"SUMIF('4B Calcul. Climat Scen.'!$C$225:$C$240,'2A Input Climat Scen. Pass.'!$B179,'4B Calcul. Climat Scen.'!AN$225:AN$235)","v":0},null,{"$f":"Itaxi","v":"Individual taxi"},"Scenario 2)",{"$f":"SUMIF('4B Calcul. Climat Scen.'!$C$225:$C$235,'2A Input Climat Scen. Pass.'!$J179,'4B Calcul. Climat Scen.'!G$225:G$235)","v":0},{"$f":"SUMIF('4B Calcul. Climat Scen.'!$C$225:$C$235,'2A Input Climat Scen. Pass.'!$J179,'4B Calcul. Climat Scen.'!H$225:H$235)","v":0},{"$f":"SUMIF('4B Calcul. Climat Scen.'!$C$225:$C$235,'2A Input Climat Scen. Pass.'!$J179,'4B Calcul. Climat Scen.'!I$225:I$235)","v":0},{"$f":"SUMIF('4B Calcul. Climat Scen.'!$C$225:$C$235,'2A Input Climat Scen. Pass.'!$J179,'4B Calcul. Climat Scen.'!J$225:J$235)","v":0},{"$f":"SUMIF('4B Calcul. Climat Scen.'!$C$225:$C$235,'2A Input Climat Scen. Pass.'!$J179,'4B Calcul. Climat Scen.'!K$225:K$235)","v":0}]
[null,{"$f":"Motorcycle","v":"Motorcycle"},"Scenario 2)",{"$f":"SUMIF('4B Calcul. Climat Scen.'!$C$225:$C$240,'2A Input Climat Scen. Pass.'!$B180,'4B Calcul. Climat Scen.'!AJ$225:AJ$235)","v":0},{"$f":"SUMIF('4B Calcul. Climat Scen.'!$C$225:$C$240,'2A Input Climat Scen. Pass.'!$B180,'4B Calcul. Climat Scen.'!AK$225:AK$235)","v":0},{"$f":"SUMIF('4B Calcul. Climat Scen.'!$C$225:$C$240,'2A Input Climat Scen. Pass.'!$B180,'4B Calcul. Climat Scen.'!AL$225:AL$235)","v":0},{"$f":"SUMIF('4B Calcul. Climat Scen.'!$C$225:$C$240,'2A Input Climat Scen. Pass.'!$B180,'4B Calcul. Climat Scen.'!AM$225:AM$235)","v":0},{"$f":"SUMIF('4B Calcul. Climat Scen.'!$C$225:$C$240,'2A Input Climat Scen. Pass.'!$B180,'4B Calcul. Climat Scen.'!AN$225:AN$235)","v":0},null,{"$f":"Motorcycle","v":"Motorcycle"},"Scenario 2)",{"$f":"SUMIF('4B Calcul. Climat Scen.'!$C$225:$C$235,'2A Input Climat Scen. Pass.'!$J180,'4B Calcul. Climat Scen.'!G$225:G$235)","v":0},{"$f":"SUMIF('4B Calcul. Climat Scen.'!$C$225:$C$235,'2A Input Climat Scen. Pass.'!$J180,'4B Calcul. Climat Scen.'!H$225:H$235)","v":0},{"$f":"SUMIF('4B Calcul. Climat Scen.'!$C$225:$C$235,'2A Input Climat Scen. Pass.'!$J180,'4B Calcul. Climat Scen.'!I$225:I$235)","v":0},{"$f":"SUMIF('4B Calcul. Climat Scen.'!$C$225:$C$235,'2A Input Climat Scen. Pass.'!$J180,'4B Calcul. Climat Scen.'!J$225:J$235)","v":0},{"$f":"SUMIF('4B Calcul. Climat Scen.'!$C$225:$C$235,'2A Input Climat Scen. Pass.'!$J180,'4B Calcul. Climat Scen.'!K$225:K$235)","v":0}]
[null,{"$f":"Mototaxi","v":"Motorcycle taxi"},"Scenario 2)",{"$f":"SUMIF('4B Calcul. Climat Scen.'!$C$225:$C$240,'2A Input Climat Scen. Pass.'!$B181,'4B Calcul. Climat Scen.'!AJ$225:AJ$235)","v":0},{"$f":"SUMIF('4B Calcul. Climat Scen.'!$C$225:$C$240,'2A Input Climat Scen. Pass.'!$B181,'4B Calcul. Climat Scen.'!AK$225:AK$235)","v":0},{"$f":"SUMIF('4B Calcul. Climat Scen.'!$C$225:$C$240,'2A Input Climat Scen. Pass.'!$B181,'4B Calcul. Climat Scen.'!AL$225:AL$235)","v":0},{"$f":"SUMIF('4B Calcul. Climat Scen.'!$C$225:$C$240,'2A Input Climat Scen. Pass.'!$B181,'4B Calcul. Climat Scen.'!AM$225:AM$235)","v":0},{"$f":"SUMIF('4B Calcul. Climat Scen.'!$C$225:$C$240,'2A Input Climat Scen. Pass.'!$B181,'4B Calcul. Climat Scen.'!AN$225:AN$235)","v":0},null,{"$f":"Mototaxi","v":"Motorcycle taxi"},"Scenario 2)",{"$f":"SUMIF('4B Calcul. Climat Scen.'!$C$225:$C$235,'2A Input Climat Scen. Pass.'!$J181,'4B Calcul. Climat Scen.'!G$225:G$235)","v":0},{"$f":"SUMIF('4B Calcul. Climat Scen.'!$C$225:$C$235,'2A Input Climat Scen. Pass.'!$J181,'4B Calcul. Climat Scen.'!H$225:H$235)","v":0},{"$f":"SUMIF('4B Calcul. Climat Scen.'!$C$225:$C$235,'2A Input Climat Scen. Pass.'!$J181,'4B Calcul. Climat Scen.'!I$225:I$235)","v":0},{"$f":"SUMIF('4B Calcul. Climat Scen.'!$C$225:$C$235,'2A Input Climat Scen. Pass.'!$J181,'4B Calcul. Climat Scen.'!J$225:J$235)","v":0},{"$f":"SUMIF('4B Calcul. Climat Scen.'!$C$225:$C$235,'2A Input Climat Scen. Pass.'!$J181,'4B Calcul. Climat Scen.'!K$225:K$235)","v":0}]
[null,{"$f":"Minibus","v":"Minibus"},"Scenario 2)",{"$f":"SUMIF('4B Calcul. Climat Scen.'!$C$225:$C$240,'2A Input Climat Scen. Pass.'!$B182,'4B Calcul. Climat Scen.'!AJ$225:AJ$235)","v":0},{"$f":"SUMIF('4B Calcul. Climat Scen.'!$C$225:$C$240,'2A Input Climat Scen. Pass.'!$B182,'4B Calcul. Climat Scen.'!AK$225:AK$235)","v":0},{"$f":"SUMIF('4B Calcul. Climat Scen.'!$C$225:$C$240,'2A Input Climat Scen. Pass.'!$B182,'4B Calcul. Climat Scen.'!AL$225:AL$235)","v":0},{"$f":"SUMIF('4B Calcul. Climat Scen.'!$C$225:$C$240,'2A Input Climat Scen. Pass.'!$B182,'4B Calcul. Climat Scen.'!AM$225:AM$235)","v":0},{"$f":"SUMIF('4B Calcul. Climat Scen.'!$C$225:$C$240,'2A Input Climat Scen. Pass.'!$B182,'4B Calcul. Climat Scen.'!AN$225:AN$235)","v":0},null,{"$f":"Minibus","v":"Minibus"},"Scenario 2)",{"$f":"SUMIF('4B Calcul. Climat Scen.'!$C$225:$C$235,'2A Input Climat Scen. Pass.'!$J182,'4B Calcul. Climat Scen.'!G$225:G$235)","v":0},{"$f":"SUMIF('4B Calcul. Climat Scen.'!$C$225:$C$235,'2A Input Climat Scen. Pass.'!$J182,'4B Calcul. Climat Scen.'!H$225:H$235)","v":0},{"$f":"SUMIF('4B Calcul. Climat Scen.'!$C$225:$C$235,'2A Input Climat Scen. Pass.'!$J182,'4B Calcul. Climat Scen.'!I$225:I$235)","v":0},{"$f":"SUMIF('4B Calcul. Climat Scen.'!$C$225:$C$235,'2A Input Climat Scen. Pass.'!$J182,'4B Calcul. Climat Scen.'!J$225:J$235)","v":0},{"$f":"SUMIF('4B Calcul. Climat Scen.'!$C$225:$C$235,'2A Input Climat Scen. Pass.'!$J182,'4B Calcul. Climat Scen.'!K$225:K$235)","v":0}]
[null,{"$f":"Bus","v":"Bus"},"Scenario 2)",{"$f":"SUMIF('4B Calcul. Climat Scen.'!$C$225:$C$240,'2A Input Climat Scen. Pass.'!$B183,'4B Calcul. Climat Scen.'!AJ$225:AJ$235)","v":0},{"$f":"SUMIF('4B Calcul. Climat Scen.'!$C$225:$C$240,'2A Input Climat Scen. Pass.'!$B183,'4B Calcul. Climat Scen.'!AK$225:AK$235)","v":0},{"$f":"SUMIF('4B Calcul. Climat Scen.'!$C$225:$C$240,'2A Input Climat Scen. Pass.'!$B183,'4B Calcul. Climat Scen.'!AL$225:AL$235)","v":0},{"$f":"SUMIF('4B Calcul. Climat Scen.'!$C$225:$C$240,'2A Input Climat Scen. Pass.'!$B183,'4B Calcul. Climat Scen.'!AM$225:AM$235)","v":0},{"$f":"SUMIF('4B Calcul. Climat Scen.'!$C$225:$C$240,'2A Input Climat Scen. Pass.'!$B183,'4B Calcul. Climat Scen.'!AN$225:AN$235)","v":0},null,{"$f":"Bus","v":"Bus"},"Scenario 2)",{"$f":"SUMIF('4B Calcul. Climat Scen.'!$C$225:$C$235,'2A Input Climat Scen. Pass.'!$J183,'4B Calcul. Climat Scen.'!G$225:G$235)","v":0},{"$f":"SUMIF('4B Calcul. Climat Scen.'!$C$225:$C$235,'2A Input Climat Scen. Pass.'!$J183,'4B Calcul. Climat Scen.'!H$225:H$235)","v":0},{"$f":"SUMIF('4B Calcul. Climat Scen.'!$C$225:$C$235,'2A Input Climat Scen. Pass.'!$J183,'4B Calcul. Climat Scen.'!I$225:I$235)","v":0},{"$f":"SUMIF('4B Calcul. Climat Scen.'!$C$225:$C$235,'2A Input Climat Scen. Pass.'!$J183,'4B Calcul. Climat Scen.'!J$225:J$235)","v":0},{"$f":"SUMIF('4B Calcul. Climat Scen.'!$C$225:$C$235,'2A Input Climat Scen. Pass.'!$J183,'4B Calcul. Climat Scen.'!K$225:K$235)","v":0}]
[null,{"$f":"BRT","v":"BRT"},"Scenario 2)",{"$f":"SUMIF('4B Calcul. Climat Scen.'!$C$225:$C$240,'2A Input Climat Scen. Pass.'!$B184,'4B Calcul. Climat Scen.'!AJ$225:AJ$235)","v":0},{"$f":"SUMIF('4B Calcul. Climat Scen.'!$C$225:$C$240,'2A Input Climat Scen. Pass.'!$B184,'4B Calcul. Climat Scen.'!AK$225:AK$235)","v":0},{"$f":"SUMIF('4B Calcul. Climat Scen.'!$C$225:$C$240,'2A Input Climat Scen. Pass.'!$B184,'4B Calcul. Climat Scen.'!AL$225:AL$235)","v":0},{"$f":"SUMIF('4B Calcul. Climat Scen.'!$C$225:$C$240,'2A Input Climat Scen. Pass.'!$B184,'4B Calcul. Climat Scen.'!AM$225:AM$235)","v":0},{"$f":"SUMIF('4B Calcul. Climat Scen.'!$C$225:$C$240,'2A Input Climat Scen. Pass.'!$B184,'4B Calcul. Climat Scen.'!AN$225:AN$235)","v":0},null,{"$f":"BRT","v":"BRT"},"Scenario 2)",{"$f":"SUMIF('4B Calcul. Climat Scen.'!$C$225:$C$235,'2A Input Climat Scen. Pass.'!$J184,'4B Calcul. Climat Scen.'!G$225:G$235)","v":0},{"$f":"SUMIF('4B Calcul. Climat Scen.'!$C$225:$C$235,'2A Input Climat Scen. Pass.'!$J184,'4B Calcul. Climat Scen.'!H$225:H$235)","v":0},{"$f":"SUMIF('4B Calcul. Climat Scen.'!$C$225:$C$235,'2A Input Climat Scen. Pass.'!$J184,'4B Calcul. Climat Scen.'!I$225:I$235)","v":0},{"$f":"SUMIF('4B Calcul. Climat Scen.'!$C$225:$C$235,'2A Input Climat Scen. Pass.'!$J184,'4B Calcul. Climat Scen.'!J$225:J$235)","v":0},{"$f":"SUMIF('4B Calcul. Climat Scen.'!$C$225:$C$235,'2A Input Climat Scen. Pass.'!$J184,'4B Calcul. Climat Scen.'!K$225:K$235)","v":0}]
[null,{"$f":"Train","v":"Long distance train"},"Scenario 2)",{"$f":"SUMIF('4B Calcul. Climat Scen.'!$C$225:$C$240,'2A Input Climat Scen. Pass.'!$B185,'4B Calcul. Climat Scen.'!AJ$225:AJ$235)","v":0},{"$f":"SUMIF('4B Calcul. Climat Scen.'!$C$225:$C$240,'2A Input Climat Scen. Pass.'!$B185,'4B Calcul. Climat Scen.'!AK$225:AK$235)","v":0},{"$f":"SUMIF('4B Calcul. Climat Scen.'!$C$225:$C$240,'2A Input Climat Scen. Pass.'!$B185,'4B Calcul. Climat Scen.'!AL$225:AL$235)","v":0},{"$f":"SUMIF('4B Calcul. Climat Scen.'!$C$225:$C$240,'2A Input Climat Scen. Pass.'!$B185,'4B Calcul. Climat Scen.'!AM$225:AM$235)","v":0},{"$f":"SUMIF('4B Calcul. Climat Scen.'!$C$225:$C$240,'2A Input Climat Scen. Pass.'!$B185,'4B Calcul. Climat Scen.'!AN$225:AN$235)","v":0},null,{"$f":"Train","v":"Long distance train"},"Scenario 2)",{"$f":"SUMIF('4B Calcul. Climat Scen.'!$C$225:$C$235,'2A Input Climat Scen. Pass.'!$J185,'4B Calcul. Climat Scen.'!G$225:G$235)","v":0},{"$f":"SUMIF('4B Calcul. Climat Scen.'!$C$225:$C$235,'2A Input Climat Scen. Pass.'!$J185,'4B Calcul. Climat Scen.'!H$225:H$235)","v":0},{"$f":"SUMIF('4B Calcul. Climat Scen.'!$C$225:$C$235,'2A Input Climat Scen. Pass.'!$J185,'4B Calcul. Climat Scen.'!I$225:I$235)","v":0},{"$f":"SUMIF('4B Calcul. Climat Scen.'!$C$225:$C$235,'2A Input Climat Scen. Pass.'!$J185,'4B Calcul. Climat Scen.'!J$225:J$235)","v":0},{"$f":"SUMIF('4B Calcul. Climat Scen.'!$C$225:$C$235,'2A Input Climat Scen. Pass.'!$J185,'4B Calcul. Climat Scen.'!K$225:K$235)","v":0}]
[null,{"$f":"Utrain","v":"Urban train"},"Scenario 2)",{"$f":"SUMIF('4B Calcul. Climat Scen.'!$C$225:$C$240,'2A Input Climat Scen. Pass.'!$B186,'4B Calcul. Climat Scen.'!AJ$225:AJ$235)","v":0},{"$f":"SUMIF('4B Calcul. Climat Scen.'!$C$225:$C$240,'2A Input Climat Scen. Pass.'!$B186,'4B Calcul. Climat Scen.'!AK$225:AK$235)","v":0},{"$f":"SUMIF('4B Calcul. Climat Scen.'!$C$225:$C$240,'2A Input Climat Scen. Pass.'!$B186,'4B Calcul. Climat Scen.'!AL$225:AL$235)","v":0},{"$f":"SUMIF('4B Calcul. Climat Scen.'!$C$225:$C$240,'2A Input Climat Scen. Pass.'!$B186,'4B Calcul. Climat Scen.'!AM$225:AM$235)","v":0},{"$f":"SUMIF('4B Calcul. Climat Scen.'!$C$225:$C$240,'2A Input Climat Scen. Pass.'!$B186,'4B Calcul. Climat Scen.'!AN$225:AN$235)","v":0},null,{"$f":"Utrain","v":"Urban train"},"Scenario 2)",{"$f":"SUMIF('4B Calcul. Climat Scen.'!$C$225:$C$235,'2A Input Climat Scen. Pass.'!$J186,'4B Calcul. Climat Scen.'!G$225:G$235)","v":0},{"$f":"SUMIF('4B Calcul. Climat Scen.'!$C$225:$C$235,'2A Input Climat Scen. Pass.'!$J186,'4B Calcul. Climat Scen.'!H$225:H$235)","v":0},{"$f":"SUMIF('4B Calcul. Climat Scen.'!$C$225:$C$235,'2A Input Climat Scen. Pass.'!$J186,'4B Calcul. Climat Scen.'!I$225:I$235)","v":0},{"$f":"SUMIF('4B Calcul. Climat Scen.'!$C$225:$C$235,'2A Input Climat Scen. Pass.'!$J186,'4B Calcul. Climat Scen.'!J$225:J$235)","v":0},{"$f":"SUMIF('4B Calcul. Climat Scen.'!$C$225:$C$235,'2A Input Climat Scen. Pass.'!$J186,'4B Calcul. Climat Scen.'!K$225:K$235)","v":0}]
[null,{"$f":"Metro","v":"Metro"},"Scenario 2)",{"$f":"SUMIF('4B Calcul. Climat Scen.'!$C$225:$C$240,'2A Input Climat Scen. Pass.'!$B187,'4B Calcul. Climat Scen.'!AJ$225:AJ$235)","v":0},{"$f":"SUMIF('4B Calcul. Climat Scen.'!$C$225:$C$240,'2A Input Climat Scen. Pass.'!$B187,'4B Calcul. Climat Scen.'!AK$225:AK$235)","v":0},{"$f":"SUMIF('4B Calcul. Climat Scen.'!$C$225:$C$240,'2A Input Climat Scen. Pass.'!$B187,'4B Calcul. Climat Scen.'!AL$225:AL$235)","v":0},{"$f":"SUMIF('4B Calcul. Climat Scen.'!$C$225:$C$240,'2A Input Climat Scen. Pass.'!$B187,'4B Calcul. Climat Scen.'!AM$225:AM$235)","v":0},{"$f":"SUMIF('4B Calcul. Climat Scen.'!$C$225:$C$240,'2A Input Climat Scen. Pass.'!$B187,'4B Calcul. Climat Scen.'!AN$225:AN$235)","v":0},null,{"$f":"Metro","v":"Metro"},"Scenario 2)",{"$f":"SUMIF('4B Calcul. Climat Scen.'!$C$225:$C$235,'2A Input Climat Scen. Pass.'!$J187,'4B Calcul. Climat Scen.'!G$225:G$235)","v":0},{"$f":"SUMIF('4B Calcul. Climat Scen.'!$C$225:$C$235,'2A Input Climat Scen. Pass.'!$J187,'4B Calcul. Climat Scen.'!H$225:H$235)","v":0},{"$f":"SUMIF('4B Calcul. Climat Scen.'!$C$225:$C$235,'2A Input Climat Scen. Pass.'!$J187,'4B Calcul. Climat Scen.'!I$225:I$235)","v":0},{"$f":"SUMIF('4B Calcul. Climat Scen.'!$C$225:$C$235,'2A Input Climat Scen. Pass.'!$J187,'4B Calcul. Climat Scen.'!J$225:J$235)","v":0},{"$f":"SUMIF('4B Calcul. Climat Scen.'!$C$225:$C$235,'2A Input Climat Scen. Pass.'!$J187,'4B Calcul. Climat Scen.'!K$225:K$235)","v":0}]
[null,{"$f":"Total","v":"Sum"},"Scenario 2)",{"$f":"SUM(D177:D187)","v":0},{"$f":"SUM(E177:E187)","v":0},{"$f":"SUM(F177:F187)","v":0},{"$f":"SUM(G177:G187)","v":0},{"$f":"SUM(H177:H187)","v":0},null,{"$f":"Total","v":"Sum"},"Scenario 2)",{"$f":"SUM(L177:L187)","v":0},{"$f":"SUM(M177:M187)","v":0},{"$f":"SUM(N177:N187)","v":0},{"$f":"SUM(O177:O187)","v":0},{"$f":"SUM(P177:P187)","v":0}]
[]
[]
[{"$f":"Perfaltern","v":"3) Improve: Penetration of alternative energies"}]
[{"$f":"Description","v":"Description"},{"$f":"Descri43","v":"Please give the share of the vehicule kilomegters driven per fuel type for each vehicle category and year. The sum for each vehicle category must reach 100%. If there is no change compared to the BAU, you do not have to enter new shares."}]
[null,{"$f":"Descri44","v":"Example of measure: a funding project leading to the renewal of truck fleet and increasing then the number of kilometers driven by alternative fuel vehicles"}]
[null,{"$f":"Category","v":"Category"},null,{"$f":"MileageshareBAU","v":"Vkt share by fuel for BAU scenario [%]"},null,null,null,null,null,{"$f":"Mileageshareclimate","v":"Vkt share by fuel for Climate scenario [%]"},null,null,null,null,null,{"$f":"mileageclimatescen","v":"Vkt by fuel climate scenario [Mio. km]"}]
[null,{"$f":"Subcategory","v":"Subcategory"},{"$f":"Fuel","v":"Fuel type"},2020,2025,2030,2040,2050,null,2020,2025,2030,2040,2050,null,2020,2025,2030,2040,2050]
[null,{"$f":"Pcar","v":"Private car"},{"$f":"all","v":"all"},{"$f":"+SUM(D197:D202)","v":0},{"$f":"+SUM(E197:E202)","v":0},{"$f":"+SUM(F197:F202)","v":0},{"$f":"+SUM(G197:G202)","v":0},{"$f":"+SUM(H197:H202)","v":0},null,{"$f":"IF(SUM(J197:J202)>0,SUM(J197:J202),\"-\")","v":"-"},{"$f":"IF(SUM(K197:K202)>0,SUM(K197:K202),\"-\")","v":"-"},"-","-","-",null,{"$f":"SUM(P197:P202)","v":0},{"$f":"SUM(Q197:Q202)","v":0},{"$f":"SUM(R197:R202)","v":0},{"$f":"SUM(S197:S202)","v":0},{"$f":"SUM(T197:T202)","v":0}]
[null,"Private car",{"$f":"Gasoline","v":"Gasoline"},{"$f":"IFERROR(+SUMIFS('4A Calcul. BAU city'!H:H,'4A Calcul. BAU city'!$C:$C,$B197,'4A Calcul. BAU city'!$E:$E,$C197)/SUMIFS('4A Calcul. BAU city'!G:G,'4A Calcul. BAU city'!$C:$C,$B197),0)","v":0},{"$f":"IFERROR(+SUMIFS('4A Calcul. BAU city'!I:I,'4A Calcul. BAU city'!$C:$C,$B197,'4A Calcul. BAU city'!$E:$E,$C197)/SUMIFS('4A Calcul. BAU city'!H:H,'4A Calcul. BAU city'!$C:$C,$B197),0)","v":0},{"$f":"IFERROR(+SUMIFS('4A Calcul. BAU city'!J:J,'4A Calcul. BAU city'!$C:$C,$B197,'4A Calcul. BAU city'!$E:$E,$C197)/SUMIFS('4A Calcul. BAU city'!I:I,'4A Calcul. BAU city'!$C:$C,$B197),0)","v":0},{"$f":"IFERROR(+SUMIFS('4A Calcul. BAU city'!K:K,'4A Calcul. BAU city'!$C:$C,$B197,'4A Calcul. BAU city'!$E:$E,$C197)/SUMIFS('4A Calcul. BAU city'!J:J,'4A Calcul. BAU city'!$C:$C,$B197),0)","v":0},{"$f":"IFERROR(+SUMIFS('4A Calcul. BAU city'!L:L,'4A Calcul. BAU city'!$C:$C,$B197,'4A Calcul. BAU city'!$E:$E,$C197)/SUMIFS('4A Calcul. BAU city'!K:K,'4A Calcul. BAU city'!$C:$C,$B197),0)","v":0},null,null,null,null,null,null,null,{"$f":"SUMIFS('4B Calcul. Climat Scen.'!N$314:N$361,'4B Calcul. Climat Scen.'!$C$314:$C$361,'2A Input Climat Scen. Pass.'!$B197,'4B Calcul. Climat Scen.'!$E$314:$E$361,'2A Input Climat Scen. Pass.'!$C197)","v":0},{"$f":"SUMIFS('4B Calcul. Climat Scen.'!O$314:O$361,'4B Calcul. Climat Scen.'!$C$314:$C$361,'2A Input Climat Scen. Pass.'!$B197,'4B Calcul. Climat Scen.'!$E$314:$E$361,'2A Input Climat Scen. Pass.'!$C197)","v":0},{"$f":"SUMIFS('4B Calcul. Climat Scen.'!P$314:P$361,'4B Calcul. Climat Scen.'!$C$314:$C$361,'2A Input Climat Scen. Pass.'!$B197,'4B Calcul. Climat Scen.'!$E$314:$E$361,'2A Input Climat Scen. Pass.'!$C197)","v":0},{"$f":"SUMIFS('4B Calcul. Climat Scen.'!Q$314:Q$361,'4B Calcul. Climat Scen.'!$C$314:$C$361,'2A Input Climat Scen. Pass.'!$B197,'4B Calcul. Climat Scen.'!$E$314:$E$361,'2A Input Climat Scen. Pass.'!$C197)","v":0},{"$f":"SUMIFS('4B Calcul. Climat Scen.'!R$314:R$361,'4B Calcul. Climat Scen.'!$C$314:$C$361,'2A Input Climat Scen. Pass.'!$B197,'4B Calcul. Climat Scen.'!$E$314:$E$361,'2A Input Climat Scen. Pass.'!$C197)","v":0}]
[null,"Private car",{"$f":"Diesel","v":"Diesel"},{"$f":"IFERROR(+SUMIFS('4A Calcul. BAU city'!H:H,'4A Calcul. BAU city'!$C:$C,$B198,'4A Calcul. BAU city'!$E:$E,$C198)/SUMIFS('4A Calcul. BAU city'!G:G,'4A Calcul. BAU city'!$C:$C,$B198),0)","v":0},{"$f":"IFERROR(+SUMIFS('4A Calcul. BAU city'!I:I,'4A Calcul. BAU city'!$C:$C,$B198,'4A Calcul. BAU city'!$E:$E,$C198)/SUMIFS('4A Calcul. BAU city'!H:H,'4A Calcul. BAU city'!$C:$C,$B198),0)","v":0},{"$f":"IFERROR(+SUMIFS('4A Calcul. BAU city'!J:J,'4A Calcul. BAU city'!$C:$C,$B198,'4A Calcul. BAU city'!$E:$E,$C198)/SUMIFS('4A Calcul. BAU city'!I:I,'4A Calcul. BAU city'!$C:$C,$B198),0)","v":0},{"$f":"IFERROR(+SUMIFS('4A Calcul. BAU city'!K:K,'4A Calcul. BAU city'!$C:$C,$B198,'4A Calcul. BAU city'!$E:$E,$C198)/SUMIFS('4A Calcul. BAU city'!J:J,'4A Calcul. BAU city'!$C:$C,$B198),0)","v":0},{"$f":"IFERROR(+SUMIFS('4A Calcul. BAU city'!L:L,'4A Calcul. BAU city'!$C:$C,$B198,'4A Calcul. BAU city'!$E:$E,$C198)/SUMIFS('4A Calcul. BAU city'!K:K,'4A Calcul. BAU city'!$C:$C,$B198),0)","v":0},null,null,null,null,null,null,null,{"$f":"SUMIFS('4B Calcul. Climat Scen.'!N$314:N$361,'4B Calcul. Climat Scen.'!$C$314:$C$361,'2A Input Climat Scen. Pass.'!$B198,'4B Calcul. Climat Scen.'!$E$314:$E$361,'2A Input Climat Scen. Pass.'!$C198)","v":0},{"$f":"SUMIFS('4B Calcul. Climat Scen.'!O$314:O$361,'4B Calcul. Climat Scen.'!$C$314:$C$361,'2A Input Climat Scen. Pass.'!$B198,'4B Calcul. Climat Scen.'!$E$314:$E$361,'2A Input Climat Scen. Pass.'!$C198)","v":0},{"$f":"SUMIFS('4B Calcul. Climat Scen.'!P$314:P$361,'4B Calcul. Climat Scen.'!$C$314:$C$361,'2A Input Climat Scen. Pass.'!$B198,'4B Calcul. Climat Scen.'!$E$314:$E$361,'2A Input Climat Scen. Pass.'!$C198)","v":0},{"$f":"SUMIFS('4B Calcul. Climat Scen.'!Q$314:Q$361,'4B Calcul. Climat Scen.'!$C$314:$C$361,'2A Input Climat Scen. Pass.'!$B198,'4B Calcul. Climat Scen.'!$E$314:$E$361,'2A Input Climat Scen. Pass.'!$C198)","v":0},{"$f":"SUMIFS('4B Calcul. Climat Scen.'!R$314:R$361,'4B Calcul. Climat Scen.'!$C$314:$C$361,'2A Input Climat Scen. Pass.'!$B198,'4B Calcul. Climat Scen.'!$E$314:$E$361,'2A Input Climat Scen. Pass.'!$C198)","v":0}]
[null,"Private car",{"$f":"LPG","v":"LPG"},{"$f":"IFERROR(+SUMIFS('4A Calcul. BAU city'!H:H,'4A Calcul. BAU city'!$C:$C,$B199,'4A Calcul. BAU city'!$E:$E,$C199)/SUMIFS('4A Calcul. BAU city'!G:G,'4A Calcul. BAU city'!$C:$C,$B199),0)","v":0},{"$f":"IFERROR(+SUMIFS('4A Calcul. BAU city'!I:I,'4A Calcul. BAU city'!$C:$C,$B199,'4A Calcul. BAU city'!$E:$E,$C199)/SUMIFS('4A Calcul. BAU city'!H:H,'4A Calcul. BAU city'!$C:$C,$B199),0)","v":0},{"$f":"IFERROR(+SUMIFS('4A Calcul. BAU city'!J:J,'4A Calcul. BAU city'!$C:$C,$B199,'4A Calcul. BAU city'!$E:$E,$C199)/SUMIFS('4A Calcul. BAU city'!I:I,'4A Calcul. BAU city'!$C:$C,$B199),0)","v":0},{"$f":"IFERROR(+SUMIFS('4A Calcul. BAU city'!K:K,'4A Calcul. BAU city'!$C:$C,$B199,'4A Calcul. BAU city'!$E:$E,$C199)/SUMIFS('4A Calcul. BAU city'!J:J,'4A Calcul. BAU city'!$C:$C,$B199),0)","v":0},{"$f":"IFERROR(+SUMIFS('4A Calcul. BAU city'!L:L,'4A Calcul. BAU city'!$C:$C,$B199,'4A Calcul. BAU city'!$E:$E,$C199)/SUMIFS('4A Calcul. BAU city'!K:K,'4A Calcul. BAU city'!$C:$C,$B199),0)","v":0},null,null,null,null,null,null,null,{"$f":"SUMIFS('4B Calcul. Climat Scen.'!N$314:N$361,'4B Calcul. Climat Scen.'!$C$314:$C$361,'2A Input Climat Scen. Pass.'!$B199,'4B Calcul. Climat Scen.'!$E$314:$E$361,'2A Input Climat Scen. Pass.'!$C199)","v":0},{"$f":"SUMIFS('4B Calcul. Climat Scen.'!O$314:O$361,'4B Calcul. Climat Scen.'!$C$314:$C$361,'2A Input Climat Scen. Pass.'!$B199,'4B Calcul. Climat Scen.'!$E$314:$E$361,'2A Input Climat Scen. Pass.'!$C199)","v":0},{"$f":"SUMIFS('4B Calcul. Climat Scen.'!P$314:P$361,'4B Calcul. Climat Scen.'!$C$314:$C$361,'2A Input Climat Scen. Pass.'!$B199,'4B Calcul. Climat Scen.'!$E$314:$E$361,'2A Input Climat Scen. Pass.'!$C199)","v":0},{"$f":"SUMIFS('4B Calcul. Climat Scen.'!Q$314:Q$361,'4B Calcul. Climat Scen.'!$C$314:$C$361,'2A Input Climat Scen. Pass.'!$B199,'4B Calcul. Climat Scen.'!$E$314:$E$361,'2A Input Climat Scen. Pass.'!$C199)","v":0},{"$f":"SUMIFS('4B Calcul. Climat Scen.'!R$314:R$361,'4B Calcul. Climat Scen.'!$C$314:$C$361,'2A Input Climat Scen. Pass.'!$B199,'4B Calcul. Climat Scen.'!$E$314:$E$361,'2A Input Climat Scen. Pass.'!$C199)","v":0}]
[null,"Private car",{"$f":"NG","v":"NG"},{"$f":"IFERROR(+SUMIFS('4A Calcul. BAU city'!H:H,'4A Calcul. BAU city'!$C:$C,$B200,'4A Calcul. BAU city'!$E:$E,$C200)/SUMIFS('4A Calcul. BAU city'!G:G,'4A Calcul. BAU city'!$C:$C,$B200),0)","v":0},{"$f":"IFERROR(+SUMIFS('4A Calcul. BAU city'!I:I,'4A Calcul. BAU city'!$C:$C,$B200,'4A Calcul. BAU city'!$E:$E,$C200)/SUMIFS('4A Calcul. BAU city'!H:H,'4A Calcul. BAU city'!$C:$C,$B200),0)","v":0},{"$f":"IFERROR(+SUMIFS('4A Calcul. BAU city'!J:J,'4A Calcul. BAU city'!$C:$C,$B200,'4A Calcul. BAU city'!$E:$E,$C200)/SUMIFS('4A Calcul. BAU city'!I:I,'4A Calcul. BAU city'!$C:$C,$B200),0)","v":0},{"$f":"IFERROR(+SUMIFS('4A Calcul. BAU city'!K:K,'4A Calcul. BAU city'!$C:$C,$B200,'4A Calcul. BAU city'!$E:$E,$C200)/SUMIFS('4A Calcul. BAU city'!J:J,'4A Calcul. BAU city'!$C:$C,$B200),0)","v":0},{"$f":"IFERROR(+SUMIFS('4A Calcul. BAU city'!L:L,'4A Calcul. BAU city'!$C:$C,$B200,'4A Calcul. BAU city'!$E:$E,$C200)/SUMIFS('4A Calcul. BAU city'!K:K,'4A Calcul. BAU city'!$C:$C,$B200),0)","v":0},null,null,null,null,null,null,null,{"$f":"SUMIFS('4B Calcul. Climat Scen.'!N$314:N$361,'4B Calcul. Climat Scen.'!$C$314:$C$361,'2A Input Climat Scen. Pass.'!$B200,'4B Calcul. Climat Scen.'!$E$314:$E$361,'2A Input Climat Scen. Pass.'!$C200)","v":0},{"$f":"SUMIFS('4B Calcul. Climat Scen.'!O$314:O$361,'4B Calcul. Climat Scen.'!$C$314:$C$361,'2A Input Climat Scen. Pass.'!$B200,'4B Calcul. Climat Scen.'!$E$314:$E$361,'2A Input Climat Scen. Pass.'!$C200)","v":0},{"$f":"SUMIFS('4B Calcul. Climat Scen.'!P$314:P$361,'4B Calcul. Climat Scen.'!$C$314:$C$361,'2A Input Climat Scen. Pass.'!$B200,'4B Calcul. Climat Scen.'!$E$314:$E$361,'2A Input Climat Scen. Pass.'!$C200)","v":0},{"$f":"SUMIFS('4B Calcul. Climat Scen.'!Q$314:Q$361,'4B Calcul. Climat Scen.'!$C$314:$C$361,'2A Input Climat Scen. Pass.'!$B200,'4B Calcul. Climat Scen.'!$E$314:$E$361,'2A Input Climat Scen. Pass.'!$C200)","v":0},{"$f":"SUMIFS('4B Calcul. Climat Scen.'!R$314:R$361,'4B Calcul. Climat Scen.'!$C$314:$C$361,'2A Input Climat Scen. Pass.'!$B200,'4B Calcul. Climat Scen.'!$E$314:$E$361,'2A Input Climat Scen. Pass.'!$C200)","v":0}]
[null,"Private car",{"$f":"Hybrid","v":"Hybrid"},{"$f":"IFERROR(+SUMIFS('4A Calcul. BAU city'!H:H,'4A Calcul. BAU city'!$C:$C,$B201,'4A Calcul. BAU city'!$E:$E,$C201)/SUMIFS('4A Calcul. BAU city'!G:G,'4A Calcul. BAU city'!$C:$C,$B201),0)","v":0},{"$f":"IFERROR(+SUMIFS('4A Calcul. BAU city'!I:I,'4A Calcul. BAU city'!$C:$C,$B201,'4A Calcul. BAU city'!$E:$E,$C201)/SUMIFS('4A Calcul. BAU city'!H:H,'4A Calcul. BAU city'!$C:$C,$B201),0)","v":0},{"$f":"IFERROR(+SUMIFS('4A Calcul. BAU city'!J:J,'4A Calcul. BAU city'!$C:$C,$B201,'4A Calcul. BAU city'!$E:$E,$C201)/SUMIFS('4A Calcul. BAU city'!I:I,'4A Calcul. BAU city'!$C:$C,$B201),0)","v":0},{"$f":"IFERROR(+SUMIFS('4A Calcul. BAU city'!K:K,'4A Calcul. BAU city'!$C:$C,$B201,'4A Calcul. BAU city'!$E:$E,$C201)/SUMIFS('4A Calcul. BAU city'!J:J,'4A Calcul. BAU city'!$C:$C,$B201),0)","v":0},{"$f":"IFERROR(+SUMIFS('4A Calcul. BAU city'!L:L,'4A Calcul. BAU city'!$C:$C,$B201,'4A Calcul. BAU city'!$E:$E,$C201)/SUMIFS('4A Calcul. BAU city'!K:K,'4A Calcul. BAU city'!$C:$C,$B201),0)","v":0},null,null,null,null,null,null,null,{"$f":"SUMIFS('4B Calcul. Climat Scen.'!N$314:N$361,'4B Calcul. Climat Scen.'!$C$314:$C$361,'2A Input Climat Scen. Pass.'!$B201,'4B Calcul. Climat Scen.'!$E$314:$E$361,'2A Input Climat Scen. Pass.'!$C201)","v":0},{"$f":"SUMIFS('4B Calcul. Climat Scen.'!O$314:O$361,'4B Calcul. Climat Scen.'!$C$314:$C$361,'2A Input Climat Scen. Pass.'!$B201,'4B Calcul. Climat Scen.'!$E$314:$E$361,'2A Input Climat Scen. Pass.'!$C201)","v":0},{"$f":"SUMIFS('4B Calcul. Climat Scen.'!P$314:P$361,'4B Calcul. Climat Scen.'!$C$314:$C$361,'2A Input Climat Scen. Pass.'!$B201,'4B Calcul. Climat Scen.'!$E$314:$E$361,'2A Input Climat Scen. Pass.'!$C201)","v":0},{"$f":"SUMIFS('4B Calcul. Climat Scen.'!Q$314:Q$361,'4B Calcul. Climat Scen.'!$C$314:$C$361,'2A Input Climat Scen. Pass.'!$B201,'4B Calcul. Climat Scen.'!$E$314:$E$361,'2A Input Climat Scen. Pass.'!$C201)","v":0},{"$f":"SUMIFS('4B Calcul. Climat Scen.'!R$314:R$361,'4B Calcul. Climat Scen.'!$C$314:$C$361,'2A Input Climat Scen. Pass.'!$B201,'4B Calcul. Climat Scen.'!$E$314:$E$361,'2A Input Climat Scen. Pass.'!$C201)","v":0}]
[null,"Private car",{"$f":"Electric","v":"Electric"},{"$f":"IFERROR(+SUMIFS('4A Calcul. BAU city'!H:H,'4A Calcul. BAU city'!$C:$C,$B202,'4A Calcul. BAU city'!$E:$E,$C202)/SUMIFS('4A Calcul. BAU city'!G:G,'4A Calcul. BAU city'!$C:$C,$B202),0)","v":0},{"$f":"IFERROR(+SUMIFS('4A Calcul. BAU city'!I:I,'4A Calcul. BAU city'!$C:$C,$B202,'4A Calcul. BAU city'!$E:$E,$C202)/SUMIFS('4A Calcul. BAU city'!H:H,'4A Calcul. BAU city'!$C:$C,$B202),0)","v":0},{"$f":"IFERROR(+SUMIFS('4A Calcul. BAU city'!J:J,'4A Calcul. BAU city'!$C:$C,$B202,'4A Calcul. BAU city'!$E:$E,$C202)/SUMIFS('4A Calcul. BAU city'!I:I,'4A Calcul. BAU city'!$C:$C,$B202),0)","v":0},{"$f":"IFERROR(+SUMIFS('4A Calcul. BAU city'!K:K,'4A Calcul. BAU city'!$C:$C,$B202,'4A Calcul. BAU city'!$E:$E,$C202)/SUMIFS('4A Calcul. BAU city'!J:J,'4A Calcul. BAU city'!$C:$C,$B202),0)","v":0},{"$f":"IFERROR(+SUMIFS('4A Calcul. BAU city'!L:L,'4A Calcul. BAU city'!$C:$C,$B202,'4A Calcul. BAU city'!$E:$E,$C202)/SUMIFS('4A Calcul. BAU city'!K:K,'4A Calcul. BAU city'!$C:$C,$B202),0)","v":0},null,null,null,null,null,null,null,{"$f":"SUMIFS('4B Calcul. Climat Scen.'!N$314:N$361,'4B Calcul. Climat Scen.'!$C$314:$C$361,'2A Input Climat Scen. Pass.'!$B202,'4B Calcul. Climat Scen.'!$E$314:$E$361,'2A Input Climat Scen. Pass.'!$C202)","v":0},{"$f":"SUMIFS('4B Calcul. Climat Scen.'!O$314:O$361,'4B Calcul. Climat Scen.'!$C$314:$C$361,'2A Input Climat Scen. Pass.'!$B202,'4B Calcul. Climat Scen.'!$E$314:$E$361,'2A Input Climat Scen. Pass.'!$C202)","v":0},{"$f":"SUMIFS('4B Calcul. Climat Scen.'!P$314:P$361,'4B Calcul. Climat Scen.'!$C$314:$C$361,'2A Input Climat Scen. Pass.'!$B202,'4B Calcul. Climat Scen.'!$E$314:$E$361,'2A Input Climat Scen. Pass.'!$C202)","v":0},{"$f":"SUMIFS('4B Calcul. Climat Scen.'!Q$314:Q$361,'4B Calcul. Climat Scen.'!$C$314:$C$361,'2A Input Climat Scen. Pass.'!$B202,'4B Calcul. Climat Scen.'!$E$314:$E$361,'2A Input Climat Scen. Pass.'!$C202)","v":0},{"$f":"SUMIFS('4B Calcul. Climat Scen.'!R$314:R$361,'4B Calcul. Climat Scen.'!$C$314:$C$361,'2A Input Climat Scen. Pass.'!$B202,'4B Calcul. Climat Scen.'!$E$314:$E$361,'2A Input Climat Scen. Pass.'!$C202)","v":0}]
[null,{"$f":"Itaxi","v":"Individual taxi"},{"$f":"all","v":"all"},{"$f":"+SUM(D204:D209)","v":0},{"$f":"+SUM(E204:E209)","v":0},{"$f":"+SUM(F204:F209)","v":0},{"$f":"+SUM(G204:G209)","v":0},{"$f":"+SUM(H204:H209)","v":0},null,{"$f":"IF(SUM(J204:J209)>0,SUM(J204:J209),\"-\")","v":"-"},{"$f":"IF(SUM(K204:K209)>0,SUM(K204:K209),\"-\")","v":"-"},{"$f":"IF(SUM(L204:L209)>0,SUM(L204:L209),\"-\")","v":"-"},{"$f":"IF(SUM(M204:M209)>0,SUM(M204:M209),\"-\")","v":"-"},{"$f":"IF(SUM(N204:N209)>0,SUM(N204:N209),\"-\")","v":"-"},null,{"$f":"SUM(P204:P209)","v":0},{"$f":"SUM(Q204:Q209)","v":0},{"$f":"SUM(R204:R209)","v":0},{"$f":"SUM(S204:S209)","v":0},{"$f":"SUM(T204:T209)","v":0}]
[null,"Individual taxi",{"$f":"Gasoline","v":"Gasoline"},{"$f":"IFERROR(+SUMIFS('4A Calcul. BAU city'!H:H,'4A Calcul. BAU city'!$C:$C,$B204,'4A Calcul. BAU city'!$E:$E,$C204)/SUMIFS('4A Calcul. BAU city'!G:G,'4A Calcul. BAU city'!$C:$C,$B204),0)","v":0},{"$f":"IFERROR(+SUMIFS('4A Calcul. BAU city'!I:I,'4A Calcul. BAU city'!$C:$C,$B204,'4A Calcul. BAU city'!$E:$E,$C204)/SUMIFS('4A Calcul. BAU city'!H:H,'4A Calcul. BAU city'!$C:$C,$B204),0)","v":0},{"$f":"IFERROR(+SUMIFS('4A Calcul. BAU city'!J:J,'4A Calcul. BAU city'!$C:$C,$B204,'4A Calcul. BAU city'!$E:$E,$C204)/SUMIFS('4A Calcul. BAU city'!I:I,'4A Calcul. BAU city'!$C:$C,$B204),0)","v":0},{"$f":"IFERROR(+SUMIFS('4A Calcul. BAU city'!K:K,'4A Calcul. BAU city'!$C:$C,$B204,'4A Calcul. BAU city'!$E:$E,$C204)/SUMIFS('4A Calcul. BAU city'!J:J,'4A Calcul. BAU city'!$C:$C,$B204),0)","v":0},{"$f":"IFERROR(+SUMIFS('4A Calcul. BAU city'!L:L,'4A Calcul. BAU city'!$C:$C,$B204,'4A Calcul. BAU city'!$E:$E,$C204)/SUMIFS('4A Calcul. BAU city'!K:K,'4A Calcul. BAU city'!$C:$C,$B204),0)","v":0},null,null,null,null,null,null,null,{"$f":"SUMIFS('4B Calcul. Climat Scen.'!N$314:N$361,'4B Calcul. Climat Scen.'!$C$314:$C$361,'2A Input Climat Scen. Pass.'!$B204,'4B Calcul. Climat Scen.'!$E$314:$E$361,'2A Input Climat Scen. Pass.'!$C204)","v":0},{"$f":"SUMIFS('4B Calcul. Climat Scen.'!O$314:O$361,'4B Calcul. Climat Scen.'!$C$314:$C$361,'2A Input Climat Scen. Pass.'!$B204,'4B Calcul. Climat Scen.'!$E$314:$E$361,'2A Input Climat Scen. Pass.'!$C204)","v":0},{"$f":"SUMIFS('4B Calcul. Climat Scen.'!P$314:P$361,'4B Calcul. Climat Scen.'!$C$314:$C$361,'2A Input Climat Scen. Pass.'!$B204,'4B Calcul. Climat Scen.'!$E$314:$E$361,'2A Input Climat Scen. Pass.'!$C204)","v":0},{"$f":"SUMIFS('4B Calcul. Climat Scen.'!Q$314:Q$361,'4B Calcul. Climat Scen.'!$C$314:$C$361,'2A Input Climat Scen. Pass.'!$B204,'4B Calcul. Climat Scen.'!$E$314:$E$361,'2A Input Climat Scen. Pass.'!$C204)","v":0},{"$f":"SUMIFS('4B Calcul. Climat Scen.'!R$314:R$361,'4B Calcul. Climat Scen.'!$C$314:$C$361,'2A Input Climat Scen. Pass.'!$B204,'4B Calcul. Climat Scen.'!$E$314:$E$361,'2A Input Climat Scen. Pass.'!$C204)","v":0}]
[null,"Individual taxi",{"$f":"Diesel","v":"Diesel"},{"$f":"IFERROR(+SUMIFS('4A Calcul. BAU city'!H:H,'4A Calcul. BAU city'!$C:$C,$B205,'4A Calcul. BAU city'!$E:$E,$C205)/SUMIFS('4A Calcul. BAU city'!G:G,'4A Calcul. BAU city'!$C:$C,$B205),0)","v":0},{"$f":"IFERROR(+SUMIFS('4A Calcul. BAU city'!I:I,'4A Calcul. BAU city'!$C:$C,$B205,'4A Calcul. BAU city'!$E:$E,$C205)/SUMIFS('4A Calcul. BAU city'!H:H,'4A Calcul. BAU city'!$C:$C,$B205),0)","v":0},{"$f":"IFERROR(+SUMIFS('4A Calcul. BAU city'!J:J,'4A Calcul. BAU city'!$C:$C,$B205,'4A Calcul. BAU city'!$E:$E,$C205)/SUMIFS('4A Calcul. BAU city'!I:I,'4A Calcul. BAU city'!$C:$C,$B205),0)","v":0},{"$f":"IFERROR(+SUMIFS('4A Calcul. BAU city'!K:K,'4A Calcul. BAU city'!$C:$C,$B205,'4A Calcul. BAU city'!$E:$E,$C205)/SUMIFS('4A Calcul. BAU city'!J:J,'4A Calcul. BAU city'!$C:$C,$B205),0)","v":0},{"$f":"IFERROR(+SUMIFS('4A Calcul. BAU city'!L:L,'4A Calcul. BAU city'!$C:$C,$B205,'4A Calcul. BAU city'!$E:$E,$C205)/SUMIFS('4A Calcul. BAU city'!K:K,'4A Calcul. BAU city'!$C:$C,$B205),0)","v":0},null,null,null,null,null,null,null,{"$f":"SUMIFS('4B Calcul. Climat Scen.'!N$314:N$361,'4B Calcul. Climat Scen.'!$C$314:$C$361,'2A Input Climat Scen. Pass.'!$B205,'4B Calcul. Climat Scen.'!$E$314:$E$361,'2A Input Climat Scen. Pass.'!$C205)","v":0},{"$f":"SUMIFS('4B Calcul. Climat Scen.'!O$314:O$361,'4B Calcul. Climat Scen.'!$C$314:$C$361,'2A Input Climat Scen. Pass.'!$B205,'4B Calcul. Climat Scen.'!$E$314:$E$361,'2A Input Climat Scen. Pass.'!$C205)","v":0},{"$f":"SUMIFS('4B Calcul. Climat Scen.'!P$314:P$361,'4B Calcul. Climat Scen.'!$C$314:$C$361,'2A Input Climat Scen. Pass.'!$B205,'4B Calcul. Climat Scen.'!$E$314:$E$361,'2A Input Climat Scen. Pass.'!$C205)","v":0},{"$f":"SUMIFS('4B Calcul. Climat Scen.'!Q$314:Q$361,'4B Calcul. Climat Scen.'!$C$314:$C$361,'2A Input Climat Scen. Pass.'!$B205,'4B Calcul. Climat Scen.'!$E$314:$E$361,'2A Input Climat Scen. Pass.'!$C205)","v":0},{"$f":"SUMIFS('4B Calcul. Climat Scen.'!R$314:R$361,'4B Calcul. Climat Scen.'!$C$314:$C$361,'2A Input Climat Scen. Pass.'!$B205,'4B Calcul. Climat Scen.'!$E$314:$E$361,'2A Input Climat Scen. Pass.'!$C205)","v":0}]
[null,"Individual taxi",{"$f":"LPG","v":"LPG"},{"$f":"IFERROR(+SUMIFS('4A Calcul. BAU city'!H:H,'4A Calcul. BAU city'!$C:$C,$B206,'4A Calcul. BAU city'!$E:$E,$C206)/SUMIFS('4A Calcul. BAU city'!G:G,'4A Calcul. BAU city'!$C:$C,$B206),0)","v":0},{"$f":"IFERROR(+SUMIFS('4A Calcul. BAU city'!I:I,'4A Calcul. BAU city'!$C:$C,$B206,'4A Calcul. BAU city'!$E:$E,$C206)/SUMIFS('4A Calcul. BAU city'!H:H,'4A Calcul. BAU city'!$C:$C,$B206),0)","v":0},{"$f":"IFERROR(+SUMIFS('4A Calcul. BAU city'!J:J,'4A Calcul. BAU city'!$C:$C,$B206,'4A Calcul. BAU city'!$E:$E,$C206)/SUMIFS('4A Calcul. BAU city'!I:I,'4A Calcul. BAU city'!$C:$C,$B206),0)","v":0},{"$f":"IFERROR(+SUMIFS('4A Calcul. BAU city'!K:K,'4A Calcul. BAU city'!$C:$C,$B206,'4A Calcul. BAU city'!$E:$E,$C206)/SUMIFS('4A Calcul. BAU city'!J:J,'4A Calcul. BAU city'!$C:$C,$B206),0)","v":0},{"$f":"IFERROR(+SUMIFS('4A Calcul. BAU city'!L:L,'4A Calcul. BAU city'!$C:$C,$B206,'4A Calcul. BAU city'!$E:$E,$C206)/SUMIFS('4A Calcul. BAU city'!K:K,'4A Calcul. BAU city'!$C:$C,$B206),0)","v":0},null,null,null,null,null,null,null,{"$f":"SUMIFS('4B Calcul. Climat Scen.'!N$314:N$361,'4B Calcul. Climat Scen.'!$C$314:$C$361,'2A Input Climat Scen. Pass.'!$B206,'4B Calcul. Climat Scen.'!$E$314:$E$361,'2A Input Climat Scen. Pass.'!$C206)","v":0},{"$f":"SUMIFS('4B Calcul. Climat Scen.'!O$314:O$361,'4B Calcul. Climat Scen.'!$C$314:$C$361,'2A Input Climat Scen. Pass.'!$B206,'4B Calcul. Climat Scen.'!$E$314:$E$361,'2A Input Climat Scen. Pass.'!$C206)","v":0},{"$f":"SUMIFS('4B Calcul. Climat Scen.'!P$314:P$361,'4B Calcul. Climat Scen.'!$C$314:$C$361,'2A Input Climat Scen. Pass.'!$B206,'4B Calcul. Climat Scen.'!$E$314:$E$361,'2A Input Climat Scen. Pass.'!$C206)","v":0},{"$f":"SUMIFS('4B Calcul. Climat Scen.'!Q$314:Q$361,'4B Calcul. Climat Scen.'!$C$314:$C$361,'2A Input Climat Scen. Pass.'!$B206,'4B Calcul. Climat Scen.'!$E$314:$E$361,'2A Input Climat Scen. Pass.'!$C206)","v":0},{"$f":"SUMIFS('4B Calcul. Climat Scen.'!R$314:R$361,'4B Calcul. Climat Scen.'!$C$314:$C$361,'2A Input Climat Scen. Pass.'!$B206,'4B Calcul. Climat Scen.'!$E$314:$E$361,'2A Input Climat Scen. Pass.'!$C206)","v":0}]
[null,"Individual taxi",{"$f":"NG","v":"NG"},{"$f":"IFERROR(+SUMIFS('4A Calcul. BAU city'!H:H,'4A Calcul. BAU city'!$C:$C,$B207,'4A Calcul. BAU city'!$E:$E,$C207)/SUMIFS('4A Calcul. BAU city'!G:G,'4A Calcul. BAU city'!$C:$C,$B207),0)","v":0},{"$f":"IFERROR(+SUMIFS('4A Calcul. BAU city'!I:I,'4A Calcul. BAU city'!$C:$C,$B207,'4A Calcul. BAU city'!$E:$E,$C207)/SUMIFS('4A Calcul. BAU city'!H:H,'4A Calcul. BAU city'!$C:$C,$B207),0)","v":0},{"$f":"IFERROR(+SUMIFS('4A Calcul. BAU city'!J:J,'4A Calcul. BAU city'!$C:$C,$B207,'4A Calcul. BAU city'!$E:$E,$C207)/SUMIFS('4A Calcul. BAU city'!I:I,'4A Calcul. BAU city'!$C:$C,$B207),0)","v":0},{"$f":"IFERROR(+SUMIFS('4A Calcul. BAU city'!K:K,'4A Calcul. BAU city'!$C:$C,$B207,'4A Calcul. BAU city'!$E:$E,$C207)/SUMIFS('4A Calcul. BAU city'!J:J,'4A Calcul. BAU city'!$C:$C,$B207),0)","v":0},{"$f":"IFERROR(+SUMIFS('4A Calcul. BAU city'!L:L,'4A Calcul. BAU city'!$C:$C,$B207,'4A Calcul. BAU city'!$E:$E,$C207)/SUMIFS('4A Calcul. BAU city'!K:K,'4A Calcul. BAU city'!$C:$C,$B207),0)","v":0},null,null,null,null,null,null,null,{"$f":"SUMIFS('4B Calcul. Climat Scen.'!N$314:N$361,'4B Calcul. Climat Scen.'!$C$314:$C$361,'2A Input Climat Scen. Pass.'!$B207,'4B Calcul. Climat Scen.'!$E$314:$E$361,'2A Input Climat Scen. Pass.'!$C207)","v":0},{"$f":"SUMIFS('4B Calcul. Climat Scen.'!O$314:O$361,'4B Calcul. Climat Scen.'!$C$314:$C$361,'2A Input Climat Scen. Pass.'!$B207,'4B Calcul. Climat Scen.'!$E$314:$E$361,'2A Input Climat Scen. Pass.'!$C207)","v":0},{"$f":"SUMIFS('4B Calcul. Climat Scen.'!P$314:P$361,'4B Calcul. Climat Scen.'!$C$314:$C$361,'2A Input Climat Scen. Pass.'!$B207,'4B Calcul. Climat Scen.'!$E$314:$E$361,'2A Input Climat Scen. Pass.'!$C207)","v":0},{"$f":"SUMIFS('4B Calcul. Climat Scen.'!Q$314:Q$361,'4B Calcul. Climat Scen.'!$C$314:$C$361,'2A Input Climat Scen. Pass.'!$B207,'4B Calcul. Climat Scen.'!$E$314:$E$361,'2A Input Climat Scen. Pass.'!$C207)","v":0},{"$f":"SUMIFS('4B Calcul. Climat Scen.'!R$314:R$361,'4B Calcul. Climat Scen.'!$C$314:$C$361,'2A Input Climat Scen. Pass.'!$B207,'4B Calcul. Climat Scen.'!$E$314:$E$361,'2A Input Climat Scen. Pass.'!$C207)","v":0}]
[null,"Individual taxi",{"$f":"Hybrid","v":"Hybrid"},{"$f":"IFERROR(+SUMIFS('4A Calcul. BAU city'!H:H,'4A Calcul. BAU city'!$C:$C,$B208,'4A Calcul. BAU city'!$E:$E,$C208)/SUMIFS('4A Calcul. BAU city'!G:G,'4A Calcul. BAU city'!$C:$C,$B208),0)","v":0},{"$f":"IFERROR(+SUMIFS('4A Calcul. BAU city'!I:I,'4A Calcul. BAU city'!$C:$C,$B208,'4A Calcul. BAU city'!$E:$E,$C208)/SUMIFS('4A Calcul. BAU city'!H:H,'4A Calcul. BAU city'!$C:$C,$B208),0)","v":0},{"$f":"IFERROR(+SUMIFS('4A Calcul. BAU city'!J:J,'4A Calcul. BAU city'!$C:$C,$B208,'4A Calcul. BAU city'!$E:$E,$C208)/SUMIFS('4A Calcul. BAU city'!I:I,'4A Calcul. BAU city'!$C:$C,$B208),0)","v":0},{"$f":"IFERROR(+SUMIFS('4A Calcul. BAU city'!K:K,'4A Calcul. BAU city'!$C:$C,$B208,'4A Calcul. BAU city'!$E:$E,$C208)/SUMIFS('4A Calcul. BAU city'!J:J,'4A Calcul. BAU city'!$C:$C,$B208),0)","v":0},{"$f":"IFERROR(+SUMIFS('4A Calcul. BAU city'!L:L,'4A Calcul. BAU city'!$C:$C,$B208,'4A Calcul. BAU city'!$E:$E,$C208)/SUMIFS('4A Calcul. BAU city'!K:K,'4A Calcul. BAU city'!$C:$C,$B208),0)","v":0},null,null,null,null,null,null,null,{"$f":"SUMIFS('4B Calcul. Climat Scen.'!N$314:N$361,'4B Calcul. Climat Scen.'!$C$314:$C$361,'2A Input Climat Scen. Pass.'!$B208,'4B Calcul. Climat Scen.'!$E$314:$E$361,'2A Input Climat Scen. Pass.'!$C208)","v":0},{"$f":"SUMIFS('4B Calcul. Climat Scen.'!O$314:O$361,'4B Calcul. Climat Scen.'!$C$314:$C$361,'2A Input Climat Scen. Pass.'!$B208,'4B Calcul. Climat Scen.'!$E$314:$E$361,'2A Input Climat Scen. Pass.'!$C208)","v":0},{"$f":"SUMIFS('4B Calcul. Climat Scen.'!P$314:P$361,'4B Calcul. Climat Scen.'!$C$314:$C$361,'2A Input Climat Scen. Pass.'!$B208,'4B Calcul. Climat Scen.'!$E$314:$E$361,'2A Input Climat Scen. Pass.'!$C208)","v":0},{"$f":"SUMIFS('4B Calcul. Climat Scen.'!Q$314:Q$361,'4B Calcul. Climat Scen.'!$C$314:$C$361,'2A Input Climat Scen. Pass.'!$B208,'4B Calcul. Climat Scen.'!$E$314:$E$361,'2A Input Climat Scen. Pass.'!$C208)","v":0},{"$f":"SUMIFS('4B Calcul. Climat Scen.'!R$314:R$361,'4B Calcul. Climat Scen.'!$C$314:$C$361,'2A Input Climat Scen. Pass.'!$B208,'4B Calcul. Climat Scen.'!$E$314:$E$361,'2A Input Climat Scen. Pass.'!$C208)","v":0}]
[null,"Individual taxi",{"$f":"Electric","v":"Electric"},{"$f":"IFERROR(+SUMIFS('4A Calcul. BAU city'!H:H,'4A Calcul. BAU city'!$C:$C,$B209,'4A Calcul. BAU city'!$E:$E,$C209)/SUMIFS('4A Calcul. BAU city'!G:G,'4A Calcul. BAU city'!$C:$C,$B209),0)","v":0},{"$f":"IFERROR(+SUMIFS('4A Calcul. BAU city'!I:I,'4A Calcul. BAU city'!$C:$C,$B209,'4A Calcul. BAU city'!$E:$E,$C209)/SUMIFS('4A Calcul. BAU city'!H:H,'4A Calcul. BAU city'!$C:$C,$B209),0)","v":0},{"$f":"IFERROR(+SUMIFS('4A Calcul. BAU city'!J:J,'4A Calcul. BAU city'!$C:$C,$B209,'4A Calcul. BAU city'!$E:$E,$C209)/SUMIFS('4A Calcul. BAU city'!I:I,'4A Calcul. BAU city'!$C:$C,$B209),0)","v":0},{"$f":"IFERROR(+SUMIFS('4A Calcul. BAU city'!K:K,'4A Calcul. BAU city'!$C:$C,$B209,'4A Calcul. BAU city'!$E:$E,$C209)/SUMIFS('4A Calcul. BAU city'!J:J,'4A Calcul. BAU city'!$C:$C,$B209),0)","v":0},{"$f":"IFERROR(+SUMIFS('4A Calcul. BAU city'!L:L,'4A Calcul. BAU city'!$C:$C,$B209,'4A Calcul. BAU city'!$E:$E,$C209)/SUMIFS('4A Calcul. BAU city'!K:K,'4A Calcul. BAU city'!$C:$C,$B209),0)","v":0},null,null,null,null,null,null,null,{"$f":"SUMIFS('4B Calcul. Climat Scen.'!N$314:N$361,'4B Calcul. Climat Scen.'!$C$314:$C$361,'2A Input Climat Scen. Pass.'!$B209,'4B Calcul. Climat Scen.'!$E$314:$E$361,'2A Input Climat Scen. Pass.'!$C209)","v":0},{"$f":"SUMIFS('4B Calcul. Climat Scen.'!O$314:O$361,'4B Calcul. Climat Scen.'!$C$314:$C$361,'2A Input Climat Scen. Pass.'!$B209,'4B Calcul. Climat Scen.'!$E$314:$E$361,'2A Input Climat Scen. Pass.'!$C209)","v":0},{"$f":"SUMIFS('4B Calcul. Climat Scen.'!P$314:P$361,'4B Calcul. Climat Scen.'!$C$314:$C$361,'2A Input Climat Scen. Pass.'!$B209,'4B Calcul. Climat Scen.'!$E$314:$E$361,'2A Input Climat Scen. Pass.'!$C209)","v":0},{"$f":"SUMIFS('4B Calcul. Climat Scen.'!Q$314:Q$361,'4B Calcul. Climat Scen.'!$C$314:$C$361,'2A Input Climat Scen. Pass.'!$B209,'4B Calcul. Climat Scen.'!$E$314:$E$361,'2A Input Climat Scen. Pass.'!$C209)","v":0},{"$f":"SUMIFS('4B Calcul. Climat Scen.'!R$314:R$361,'4B Calcul. Climat Scen.'!$C$314:$C$361,'2A Input Climat Scen. Pass.'!$B209,'4B Calcul. Climat Scen.'!$E$314:$E$361,'2A Input Climat Scen. Pass.'!$C209)","v":0}]
[null,{"$f":"Motorcycle","v":"Motorcycle"},{"$f":"all","v":"all"},{"$f":"+SUM(D211:D212)","v":0},{"$f":"+SUM(E211:E212)","v":0},{"$f":"+SUM(F211:F212)","v":0},{"$f":"+SUM(G211:G212)","v":0},{"$f":"+SUM(H211:H212)","v":0},null,{"$f":"IF(SUM(J211:J212)>0,SUM(J211:J212),\"-\")","v":"-"},{"$f":"IF(SUM(K211:K212)>0,SUM(K211:K212),\"-\")","v":"-"},{"$f":"IF(SUM(L211:L212)>0,SUM(L211:L212),\"-\")","v":"-"},{"$f":"IF(SUM(M211:M212)>0,SUM(M211:M212),\"-\")","v":"-"},{"$f":"IF(SUM(N211:N212)>0,SUM(N211:N212),\"-\")","v":"-"},null,{"$f":"SUM(P211:P212)","v":0},{"$f":"SUM(Q211:Q212)","v":0},{"$f":"SUM(R211:R212)","v":0},{"$f":"SUM(S211:S212)","v":0},{"$f":"SUM(T211:T212)","v":0}]
[null,{"$f":"Motorcycle","v":"Motorcycle"},{"$f":"Gasoline","v":"Gasoline"},{"$f":"IFERROR(+SUMIFS('4A Calcul. BAU city'!H:H,'4A Calcul. BAU city'!$C:$C,$B211,'4A Calcul. BAU city'!$E:$E,$C211)/SUMIFS('4A Calcul. BAU city'!G:G,'4A Calcul. BAU city'!$C:$C,$B211),0)","v":0},{"$f":"IFERROR(+SUMIFS('4A Calcul. BAU city'!I:I,'4A Calcul. BAU city'!$C:$C,$B211,'4A Calcul. BAU city'!$E:$E,$C211)/SUMIFS('4A Calcul. BAU city'!H:H,'4A Calcul. BAU city'!$C:$C,$B211),0)","v":0},{"$f":"IFERROR(+SUMIFS('4A Calcul. BAU city'!J:J,'4A Calcul. BAU city'!$C:$C,$B211,'4A Calcul. BAU city'!$E:$E,$C211)/SUMIFS('4A Calcul. BAU city'!I:I,'4A Calcul. BAU city'!$C:$C,$B211),0)","v":0},{"$f":"IFERROR(+SUMIFS('4A Calcul. BAU city'!K:K,'4A Calcul. BAU city'!$C:$C,$B211,'4A Calcul. BAU city'!$E:$E,$C211)/SUMIFS('4A Calcul. BAU city'!J:J,'4A Calcul. BAU city'!$C:$C,$B211),0)","v":0},{"$f":"IFERROR(+SUMIFS('4A Calcul. BAU city'!L:L,'4A Calcul. BAU city'!$C:$C,$B211,'4A Calcul. BAU city'!$E:$E,$C211)/SUMIFS('4A Calcul. BAU city'!K:K,'4A Calcul. BAU city'!$C:$C,$B211),0)","v":0},null,null,null,null,null,null,null,{"$f":"SUMIFS('4B Calcul. Climat Scen.'!N$314:N$361,'4B Calcul. Climat Scen.'!$C$314:$C$361,'2A Input Climat Scen. Pass.'!$B211,'4B Calcul. Climat Scen.'!$E$314:$E$361,'2A Input Climat Scen. Pass.'!$C211)","v":0},{"$f":"SUMIFS('4B Calcul. Climat Scen.'!O$314:O$361,'4B Calcul. Climat Scen.'!$C$314:$C$361,'2A Input Climat Scen. Pass.'!$B211,'4B Calcul. Climat Scen.'!$E$314:$E$361,'2A Input Climat Scen. Pass.'!$C211)","v":0},{"$f":"SUMIFS('4B Calcul. Climat Scen.'!P$314:P$361,'4B Calcul. Climat Scen.'!$C$314:$C$361,'2A Input Climat Scen. Pass.'!$B211,'4B Calcul. Climat Scen.'!$E$314:$E$361,'2A Input Climat Scen. Pass.'!$C211)","v":0},{"$f":"SUMIFS('4B Calcul. Climat Scen.'!Q$314:Q$361,'4B Calcul. Climat Scen.'!$C$314:$C$361,'2A Input Climat Scen. Pass.'!$B211,'4B Calcul. Climat Scen.'!$E$314:$E$361,'2A Input Climat Scen. Pass.'!$C211)","v":0},{"$f":"SUMIFS('4B Calcul. Climat Scen.'!R$314:R$361,'4B Calcul. Climat Scen.'!$C$314:$C$361,'2A Input Climat Scen. Pass.'!$B211,'4B Calcul. Climat Scen.'!$E$314:$E$361,'2A Input Climat Scen. Pass.'!$C211)","v":0}]
[null,{"$f":"Motorcycle","v":"Motorcycle"},{"$f":"Electric","v":"Electric"},{"$f":"IFERROR(+SUMIFS('4A Calcul. BAU city'!H:H,'4A Calcul. BAU city'!$C:$C,$B212,'4A Calcul. BAU city'!$E:$E,$C212)/SUMIFS('4A Calcul. BAU city'!G:G,'4A Calcul. BAU city'!$C:$C,$B212),0)","v":0},{"$f":"IFERROR(+SUMIFS('4A Calcul. BAU city'!I:I,'4A Calcul. BAU city'!$C:$C,$B212,'4A Calcul. BAU city'!$E:$E,$C212)/SUMIFS('4A Calcul. BAU city'!H:H,'4A Calcul. BAU city'!$C:$C,$B212),0)","v":0},{"$f":"IFERROR(+SUMIFS('4A Calcul. BAU city'!J:J,'4A Calcul. BAU city'!$C:$C,$B212,'4A Calcul. BAU city'!$E:$E,$C212)/SUMIFS('4A Calcul. BAU city'!I:I,'4A Calcul. BAU city'!$C:$C,$B212),0)","v":0},{"$f":"IFERROR(+SUMIFS('4A Calcul. BAU city'!K:K,'4A Calcul. BAU city'!$C:$C,$B212,'4A Calcul. BAU city'!$E:$E,$C212)/SUMIFS('4A Calcul. BAU city'!J:J,'4A Calcul. BAU city'!$C:$C,$B212),0)","v":0},{"$f":"IFERROR(+SUMIFS('4A Calcul. BAU city'!L:L,'4A Calcul. BAU city'!$C:$C,$B212,'4A Calcul. BAU city'!$E:$E,$C212)/SUMIFS('4A Calcul. BAU city'!K:K,'4A Calcul. BAU city'!$C:$C,$B212),0)","v":0},null,null,null,null,null,null,null,{"$f":"SUMIFS('4B Calcul. Climat Scen.'!N$314:N$361,'4B Calcul. Climat Scen.'!$C$314:$C$361,'2A Input Climat Scen. Pass.'!$B212,'4B Calcul. Climat Scen.'!$E$314:$E$361,'2A Input Climat Scen. Pass.'!$C212)","v":0},{"$f":"SUMIFS('4B Calcul. Climat Scen.'!O$314:O$361,'4B Calcul. Climat Scen.'!$C$314:$C$361,'2A Input Climat Scen. Pass.'!$B212,'4B Calcul. Climat Scen.'!$E$314:$E$361,'2A Input Climat Scen. Pass.'!$C212)","v":0},{"$f":"SUMIFS('4B Calcul. Climat Scen.'!P$314:P$361,'4B Calcul. Climat Scen.'!$C$314:$C$361,'2A Input Climat Scen. Pass.'!$B212,'4B Calcul. Climat Scen.'!$E$314:$E$361,'2A Input Climat Scen. Pass.'!$C212)","v":0},{"$f":"SUMIFS('4B Calcul. Climat Scen.'!Q$314:Q$361,'4B Calcul. Climat Scen.'!$C$314:$C$361,'2A Input Climat Scen. Pass.'!$B212,'4B Calcul. Climat Scen.'!$E$314:$E$361,'2A Input Climat Scen. Pass.'!$C212)","v":0},{"$f":"SUMIFS('4B Calcul. Climat Scen.'!R$314:R$361,'4B Calcul. Climat Scen.'!$C$314:$C$361,'2A Input Climat Scen. Pass.'!$B212,'4B Calcul. Climat Scen.'!$E$314:$E$361,'2A Input Climat Scen. Pass.'!$C212)","v":0}]
[null,{"$f":"Mototaxi","v":"Motorcycle taxi"},{"$f":"all","v":"all"},{"$f":"+SUM(D214:D215)","v":0},{"$f":"+SUM(E214:E215)","v":0},{"$f":"+SUM(F214:F215)","v":0},{"$f":"+SUM(G214:G215)","v":0},{"$f":"+SUM(H214:H215)","v":0},null,{"$f":"IF(SUM(J214:J215)>0,SUM(J214:J215),\"-\")","v":"-"},{"$f":"IF(SUM(K214:K215)>0,SUM(K214:K215),\"-\")","v":"-"},{"$f":"IF(SUM(L214:L215)>0,SUM(L214:L215),\"-\")","v":"-"},{"$f":"IF(SUM(M214:M215)>0,SUM(M214:M215),\"-\")","v":"-"},{"$f":"IF(SUM(N214:N215)>0,SUM(N214:N215),\"-\")","v":"-"},null,{"$f":"SUM(P214:P215)","v":0},{"$f":"SUM(Q214:Q215)","v":0},{"$f":"SUM(R214:R215)","v":0},{"$f":"SUM(S214:S215)","v":0},{"$f":"SUM(T214:T215)","v":0}]
[null,{"$f":"Mototaxi","v":"Motorcycle taxi"},{"$f":"Gasoline","v":"Gasoline"},{"$f":"IFERROR(+SUMIFS('4A Calcul. BAU city'!H:H,'4A Calcul. BAU city'!$C:$C,$B214,'4A Calcul. BAU city'!$E:$E,$C214)/SUMIFS('4A Calcul. BAU city'!G:G,'4A Calcul. BAU city'!$C:$C,$B214),0)","v":0},{"$f":"IFERROR(+SUMIFS('4A Calcul. BAU city'!I:I,'4A Calcul. BAU city'!$C:$C,$B214,'4A Calcul. BAU city'!$E:$E,$C214)/SUMIFS('4A Calcul. BAU city'!H:H,'4A Calcul. BAU city'!$C:$C,$B214),0)","v":0},{"$f":"IFERROR(+SUMIFS('4A Calcul. BAU city'!J:J,'4A Calcul. BAU city'!$C:$C,$B214,'4A Calcul. BAU city'!$E:$E,$C214)/SUMIFS('4A Calcul. BAU city'!I:I,'4A Calcul. BAU city'!$C:$C,$B214),0)","v":0},{"$f":"IFERROR(+SUMIFS('4A Calcul. BAU city'!K:K,'4A Calcul. BAU city'!$C:$C,$B214,'4A Calcul. BAU city'!$E:$E,$C214)/SUMIFS('4A Calcul. BAU city'!J:J,'4A Calcul. BAU city'!$C:$C,$B214),0)","v":0},{"$f":"IFERROR(+SUMIFS('4A Calcul. BAU city'!L:L,'4A Calcul. BAU city'!$C:$C,$B214,'4A Calcul. BAU city'!$E:$E,$C214)/SUMIFS('4A Calcul. BAU city'!K:K,'4A Calcul. BAU city'!$C:$C,$B214),0)","v":0},null,null,null,null,null,null,null,{"$f":"SUMIFS('4B Calcul. Climat Scen.'!N$314:N$361,'4B Calcul. Climat Scen.'!$C$314:$C$361,'2A Input Climat Scen. Pass.'!$B214,'4B Calcul. Climat Scen.'!$E$314:$E$361,'2A Input Climat Scen. Pass.'!$C214)","v":0},{"$f":"SUMIFS('4B Calcul. Climat Scen.'!O$314:O$361,'4B Calcul. Climat Scen.'!$C$314:$C$361,'2A Input Climat Scen. Pass.'!$B214,'4B Calcul. Climat Scen.'!$E$314:$E$361,'2A Input Climat Scen. Pass.'!$C214)","v":0},{"$f":"SUMIFS('4B Calcul. Climat Scen.'!P$314:P$361,'4B Calcul. Climat Scen.'!$C$314:$C$361,'2A Input Climat Scen. Pass.'!$B214,'4B Calcul. Climat Scen.'!$E$314:$E$361,'2A Input Climat Scen. Pass.'!$C214)","v":0},{"$f":"SUMIFS('4B Calcul. Climat Scen.'!Q$314:Q$361,'4B Calcul. Climat Scen.'!$C$314:$C$361,'2A Input Climat Scen. Pass.'!$B214,'4B Calcul. Climat Scen.'!$E$314:$E$361,'2A Input Climat Scen. Pass.'!$C214)","v":0},{"$f":"SUMIFS('4B Calcul. Climat Scen.'!R$314:R$361,'4B Calcul. Climat Scen.'!$C$314:$C$361,'2A Input Climat Scen. Pass.'!$B214,'4B Calcul. Climat Scen.'!$E$314:$E$361,'2A Input Climat Scen. Pass.'!$C214)","v":0}]
[null,{"$f":"Mototaxi","v":"Motorcycle taxi"},{"$f":"Electric","v":"Electric"},{"$f":"IFERROR(+SUMIFS('4A Calcul. BAU city'!H:H,'4A Calcul. BAU city'!$C:$C,$B215,'4A Calcul. BAU city'!$E:$E,$C215)/SUMIFS('4A Calcul. BAU city'!G:G,'4A Calcul. BAU city'!$C:$C,$B215),0)","v":0},{"$f":"IFERROR(+SUMIFS('4A Calcul. BAU city'!I:I,'4A Calcul. BAU city'!$C:$C,$B215,'4A Calcul. BAU city'!$E:$E,$C215)/SUMIFS('4A Calcul. BAU city'!H:H,'4A Calcul. BAU city'!$C:$C,$B215),0)","v":0},{"$f":"IFERROR(+SUMIFS('4A Calcul. BAU city'!J:J,'4A Calcul. BAU city'!$C:$C,$B215,'4A Calcul. BAU city'!$E:$E,$C215)/SUMIFS('4A Calcul. BAU city'!I:I,'4A Calcul. BAU city'!$C:$C,$B215),0)","v":0},{"$f":"IFERROR(+SUMIFS('4A Calcul. BAU city'!K:K,'4A Calcul. BAU city'!$C:$C,$B215,'4A Calcul. BAU city'!$E:$E,$C215)/SUMIFS('4A Calcul. BAU city'!J:J,'4A Calcul. BAU city'!$C:$C,$B215),0)","v":0},{"$f":"IFERROR(+SUMIFS('4A Calcul. BAU city'!L:L,'4A Calcul. BAU city'!$C:$C,$B215,'4A Calcul. BAU city'!$E:$E,$C215)/SUMIFS('4A Calcul. BAU city'!K:K,'4A Calcul. BAU city'!$C:$C,$B215),0)","v":0},null,null,null,null,null,null,null,{"$f":"SUMIFS('4B Calcul. Climat Scen.'!N$314:N$361,'4B Calcul. Climat Scen.'!$C$314:$C$361,'2A Input Climat Scen. Pass.'!$B215,'4B Calcul. Climat Scen.'!$E$314:$E$361,'2A Input Climat Scen. Pass.'!$C215)","v":0},{"$f":"SUMIFS('4B Calcul. Climat Scen.'!O$314:O$361,'4B Calcul. Climat Scen.'!$C$314:$C$361,'2A Input Climat Scen. Pass.'!$B215,'4B Calcul. Climat Scen.'!$E$314:$E$361,'2A Input Climat Scen. Pass.'!$C215)","v":0},{"$f":"SUMIFS('4B Calcul. Climat Scen.'!P$314:P$361,'4B Calcul. Climat Scen.'!$C$314:$C$361,'2A Input Climat Scen. Pass.'!$B215,'4B Calcul. Climat Scen.'!$E$314:$E$361,'2A Input Climat Scen. Pass.'!$C215)","v":0},{"$f":"SUMIFS('4B Calcul. Climat Scen.'!Q$314:Q$361,'4B Calcul. Climat Scen.'!$C$314:$C$361,'2A Input Climat Scen. Pass.'!$B215,'4B Calcul. Climat Scen.'!$E$314:$E$361,'2A Input Climat Scen. Pass.'!$C215)","v":0},{"$f":"SUMIFS('4B Calcul. Climat Scen.'!R$314:R$361,'4B Calcul. Climat Scen.'!$C$314:$C$361,'2A Input Climat Scen. Pass.'!$B215,'4B Calcul. Climat Scen.'!$E$314:$E$361,'2A Input Climat Scen. Pass.'!$C215)","v":0}]
[null,{"$f":"Minibus","v":"Minibus"},{"$f":"all","v":"all"},{"$f":"+SUM(D217:D222)","v":0},{"$f":"+SUM(E217:E222)","v":0},{"$f":"+SUM(F217:F222)","v":0},{"$f":"+SUM(G217:G222)","v":0},{"$f":"+SUM(H217:H222)","v":0},null,{"$f":"IF(SUM(J217:J222)>0,SUM(J217:J222),\"-\")","v":"-"},{"$f":"IF(SUM(K217:K222)>0,SUM(K217:K222),\"-\")","v":"-"},{"$f":"IF(SUM(L217:L222)>0,SUM(L217:L222),\"-\")","v":"-"},{"$f":"IF(SUM(M217:M222)>0,SUM(M217:M222),\"-\")","v":"-"},{"$f":"IF(SUM(N217:N222)>0,SUM(N217:N222),\"-\")","v":"-"},null,{"$f":"SUM(P217:P222)","v":0},{"$f":"SUM(Q217:Q222)","v":0},{"$f":"SUM(R217:R222)","v":0},{"$f":"SUM(S217:S222)","v":0},{"$f":"SUM(T217:T222)","v":0}]
[null,"Minibus",{"$f":"Gasoline","v":"Gasoline"},{"$f":"IFERROR(+SUMIFS('4A Calcul. BAU city'!H:H,'4A Calcul. BAU city'!$C:$C,$B217,'4A Calcul. BAU city'!$E:$E,$C217)/SUMIFS('4A Calcul. BAU city'!G:G,'4A Calcul. BAU city'!$C:$C,$B217),0)","v":0},{"$f":"IFERROR(+SUMIFS('4A Calcul. BAU city'!I:I,'4A Calcul. BAU city'!$C:$C,$B217,'4A Calcul. BAU city'!$E:$E,$C217)/SUMIFS('4A Calcul. BAU city'!H:H,'4A Calcul. BAU city'!$C:$C,$B217),0)","v":0},{"$f":"IFERROR(+SUMIFS('4A Calcul. BAU city'!J:J,'4A Calcul. BAU city'!$C:$C,$B217,'4A Calcul. BAU city'!$E:$E,$C217)/SUMIFS('4A Calcul. BAU city'!I:I,'4A Calcul. BAU city'!$C:$C,$B217),0)","v":0},{"$f":"IFERROR(+SUMIFS('4A Calcul. BAU city'!K:K,'4A Calcul. BAU city'!$C:$C,$B217,'4A Calcul. BAU city'!$E:$E,$C217)/SUMIFS('4A Calcul. BAU city'!J:J,'4A Calcul. BAU city'!$C:$C,$B217),0)","v":0},{"$f":"IFERROR(+SUMIFS('4A Calcul. BAU city'!L:L,'4A Calcul. BAU city'!$C:$C,$B217,'4A Calcul. BAU city'!$E:$E,$C217)/SUMIFS('4A Calcul. BAU city'!K:K,'4A Calcul. BAU city'!$C:$C,$B217),0)","v":0},null,null,null,null,null,null,null,{"$f":"SUMIFS('4B Calcul. Climat Scen.'!N$314:N$361,'4B Calcul. Climat Scen.'!$C$314:$C$361,'2A Input Climat Scen. Pass.'!$B217,'4B Calcul. Climat Scen.'!$E$314:$E$361,'2A Input Climat Scen. Pass.'!$C217)","v":0},{"$f":"SUMIFS('4B Calcul. Climat Scen.'!O$314:O$361,'4B Calcul. Climat Scen.'!$C$314:$C$361,'2A Input Climat Scen. Pass.'!$B217,'4B Calcul. Climat Scen.'!$E$314:$E$361,'2A Input Climat Scen. Pass.'!$C217)","v":0},{"$f":"SUMIFS('4B Calcul. Climat Scen.'!P$314:P$361,'4B Calcul. Climat Scen.'!$C$314:$C$361,'2A Input Climat Scen. Pass.'!$B217,'4B Calcul. Climat Scen.'!$E$314:$E$361,'2A Input Climat Scen. Pass.'!$C217)","v":0},{"$f":"SUMIFS('4B Calcul. Climat Scen.'!Q$314:Q$361,'4B Calcul. Climat Scen.'!$C$314:$C$361,'2A Input Climat Scen. Pass.'!$B217,'4B Calcul. Climat Scen.'!$E$314:$E$361,'2A Input Climat Scen. Pass.'!$C217)","v":0},{"$f":"SUMIFS('4B Calcul. Climat Scen.'!R$314:R$361,'4B Calcul. Climat Scen.'!$C$314:$C$361,'2A Input Climat Scen. Pass.'!$B217,'4B Calcul. Climat Scen.'!$E$314:$E$361,'2A Input Climat Scen. Pass.'!$C217)","v":0}]
[null,"Minibus",{"$f":"Diesel","v":"Diesel"},{"$f":"IFERROR(+SUMIFS('4A Calcul. BAU city'!H:H,'4A Calcul. BAU city'!$C:$C,$B218,'4A Calcul. BAU city'!$E:$E,$C218)/SUMIFS('4A Calcul. BAU city'!G:G,'4A Calcul. BAU city'!$C:$C,$B218),0)","v":0},{"$f":"IFERROR(+SUMIFS('4A Calcul. BAU city'!I:I,'4A Calcul. BAU city'!$C:$C,$B218,'4A Calcul. BAU city'!$E:$E,$C218)/SUMIFS('4A Calcul. BAU city'!H:H,'4A Calcul. BAU city'!$C:$C,$B218),0)","v":0},{"$f":"IFERROR(+SUMIFS('4A Calcul. BAU city'!J:J,'4A Calcul. BAU city'!$C:$C,$B218,'4A Calcul. BAU city'!$E:$E,$C218)/SUMIFS('4A Calcul. BAU city'!I:I,'4A Calcul. BAU city'!$C:$C,$B218),0)","v":0},{"$f":"IFERROR(+SUMIFS('4A Calcul. BAU city'!K:K,'4A Calcul. BAU city'!$C:$C,$B218,'4A Calcul. BAU city'!$E:$E,$C218)/SUMIFS('4A Calcul. BAU city'!J:J,'4A Calcul. BAU city'!$C:$C,$B218),0)","v":0},{"$f":"IFERROR(+SUMIFS('4A Calcul. BAU city'!L:L,'4A Calcul. BAU city'!$C:$C,$B218,'4A Calcul. BAU city'!$E:$E,$C218)/SUMIFS('4A Calcul. BAU city'!K:K,'4A Calcul. BAU city'!$C:$C,$B218),0)","v":0},null,null,null,null,null,null,null,{"$f":"SUMIFS('4B Calcul. Climat Scen.'!N$314:N$361,'4B Calcul. Climat Scen.'!$C$314:$C$361,'2A Input Climat Scen. Pass.'!$B218,'4B Calcul. Climat Scen.'!$E$314:$E$361,'2A Input Climat Scen. Pass.'!$C218)","v":0},{"$f":"SUMIFS('4B Calcul. Climat Scen.'!O$314:O$361,'4B Calcul. Climat Scen.'!$C$314:$C$361,'2A Input Climat Scen. Pass.'!$B218,'4B Calcul. Climat Scen.'!$E$314:$E$361,'2A Input Climat Scen. Pass.'!$C218)","v":0},{"$f":"SUMIFS('4B Calcul. Climat Scen.'!P$314:P$361,'4B Calcul. Climat Scen.'!$C$314:$C$361,'2A Input Climat Scen. Pass.'!$B218,'4B Calcul. Climat Scen.'!$E$314:$E$361,'2A Input Climat Scen. Pass.'!$C218)","v":0},{"$f":"SUMIFS('4B Calcul. Climat Scen.'!Q$314:Q$361,'4B Calcul. Climat Scen.'!$C$314:$C$361,'2A Input Climat Scen. Pass.'!$B218,'4B Calcul. Climat Scen.'!$E$314:$E$361,'2A Input Climat Scen. Pass.'!$C218)","v":0},{"$f":"SUMIFS('4B Calcul. Climat Scen.'!R$314:R$361,'4B Calcul. Climat Scen.'!$C$314:$C$361,'2A Input Climat Scen. Pass.'!$B218,'4B Calcul. Climat Scen.'!$E$314:$E$361,'2A Input Climat Scen. Pass.'!$C218)","v":0}]
[null,"Minibus",{"$f":"LPG","v":"LPG"},{"$f":"IFERROR(+SUMIFS('4A Calcul. BAU city'!H:H,'4A Calcul. BAU city'!$C:$C,$B219,'4A Calcul. BAU city'!$E:$E,$C219)/SUMIFS('4A Calcul. BAU city'!G:G,'4A Calcul. BAU city'!$C:$C,$B219),0)","v":0},{"$f":"IFERROR(+SUMIFS('4A Calcul. BAU city'!I:I,'4A Calcul. BAU city'!$C:$C,$B219,'4A Calcul. BAU city'!$E:$E,$C219)/SUMIFS('4A Calcul. BAU city'!H:H,'4A Calcul. BAU city'!$C:$C,$B219),0)","v":0},{"$f":"IFERROR(+SUMIFS('4A Calcul. BAU city'!J:J,'4A Calcul. BAU city'!$C:$C,$B219,'4A Calcul. BAU city'!$E:$E,$C219)/SUMIFS('4A Calcul. BAU city'!I:I,'4A Calcul. BAU city'!$C:$C,$B219),0)","v":0},{"$f":"IFERROR(+SUMIFS('4A Calcul. BAU city'!K:K,'4A Calcul. BAU city'!$C:$C,$B219,'4A Calcul. BAU city'!$E:$E,$C219)/SUMIFS('4A Calcul. BAU city'!J:J,'4A Calcul. BAU city'!$C:$C,$B219),0)","v":0},{"$f":"IFERROR(+SUMIFS('4A Calcul. BAU city'!L:L,'4A Calcul. BAU city'!$C:$C,$B219,'4A Calcul. BAU city'!$E:$E,$C219)/SUMIFS('4A Calcul. BAU city'!K:K,'4A Calcul. BAU city'!$C:$C,$B219),0)","v":0},null,null,null,null,null,null,null,{"$f":"SUMIFS('4B Calcul. Climat Scen.'!N$314:N$361,'4B Calcul. Climat Scen.'!$C$314:$C$361,'2A Input Climat Scen. Pass.'!$B219,'4B Calcul. Climat Scen.'!$E$314:$E$361,'2A Input Climat Scen. Pass.'!$C219)","v":0},{"$f":"SUMIFS('4B Calcul. Climat Scen.'!O$314:O$361,'4B Calcul. Climat Scen.'!$C$314:$C$361,'2A Input Climat Scen. Pass.'!$B219,'4B Calcul. Climat Scen.'!$E$314:$E$361,'2A Input Climat Scen. Pass.'!$C219)","v":0},{"$f":"SUMIFS('4B Calcul. Climat Scen.'!P$314:P$361,'4B Calcul. Climat Scen.'!$C$314:$C$361,'2A Input Climat Scen. Pass.'!$B219,'4B Calcul. Climat Scen.'!$E$314:$E$361,'2A Input Climat Scen. Pass.'!$C219)","v":0},{"$f":"SUMIFS('4B Calcul. Climat Scen.'!Q$314:Q$361,'4B Calcul. Climat Scen.'!$C$314:$C$361,'2A Input Climat Scen. Pass.'!$B219,'4B Calcul. Climat Scen.'!$E$314:$E$361,'2A Input Climat Scen. Pass.'!$C219)","v":0},{"$f":"SUMIFS('4B Calcul. Climat Scen.'!R$314:R$361,'4B Calcul. Climat Scen.'!$C$314:$C$361,'2A Input Climat Scen. Pass.'!$B219,'4B Calcul. Climat Scen.'!$E$314:$E$361,'2A Input Climat Scen. Pass.'!$C219)","v":0}]
[null,"Minibus",{"$f":"MG","v":"NG"},{"$f":"IFERROR(+SUMIFS('4A Calcul. BAU city'!H:H,'4A Calcul. BAU city'!$C:$C,$B220,'4A Calcul. BAU city'!$E:$E,$C220)/SUMIFS('4A Calcul. BAU city'!G:G,'4A Calcul. BAU city'!$C:$C,$B220),0)","v":0},{"$f":"IFERROR(+SUMIFS('4A Calcul. BAU city'!I:I,'4A Calcul. BAU city'!$C:$C,$B220,'4A Calcul. BAU city'!$E:$E,$C220)/SUMIFS('4A Calcul. BAU city'!H:H,'4A Calcul. BAU city'!$C:$C,$B220),0)","v":0},{"$f":"IFERROR(+SUMIFS('4A Calcul. BAU city'!J:J,'4A Calcul. BAU city'!$C:$C,$B220,'4A Calcul. BAU city'!$E:$E,$C220)/SUMIFS('4A Calcul. BAU city'!I:I,'4A Calcul. BAU city'!$C:$C,$B220),0)","v":0},{"$f":"IFERROR(+SUMIFS('4A Calcul. BAU city'!K:K,'4A Calcul. BAU city'!$C:$C,$B220,'4A Calcul. BAU city'!$E:$E,$C220)/SUMIFS('4A Calcul. BAU city'!J:J,'4A Calcul. BAU city'!$C:$C,$B220),0)","v":0},{"$f":"IFERROR(+SUMIFS('4A Calcul. BAU city'!L:L,'4A Calcul. BAU city'!$C:$C,$B220,'4A Calcul. BAU city'!$E:$E,$C220)/SUMIFS('4A Calcul. BAU city'!K:K,'4A Calcul. BAU city'!$C:$C,$B220),0)","v":0},null,null,null,null,null,null,null,{"$f":"SUMIFS('4B Calcul. Climat Scen.'!N$314:N$361,'4B Calcul. Climat Scen.'!$C$314:$C$361,'2A Input Climat Scen. Pass.'!$B220,'4B Calcul. Climat Scen.'!$E$314:$E$361,'2A Input Climat Scen. Pass.'!$C220)","v":0},{"$f":"SUMIFS('4B Calcul. Climat Scen.'!O$314:O$361,'4B Calcul. Climat Scen.'!$C$314:$C$361,'2A Input Climat Scen. Pass.'!$B220,'4B Calcul. Climat Scen.'!$E$314:$E$361,'2A Input Climat Scen. Pass.'!$C220)","v":0},{"$f":"SUMIFS('4B Calcul. Climat Scen.'!P$314:P$361,'4B Calcul. Climat Scen.'!$C$314:$C$361,'2A Input Climat Scen. Pass.'!$B220,'4B Calcul. Climat Scen.'!$E$314:$E$361,'2A Input Climat Scen. Pass.'!$C220)","v":0},{"$f":"SUMIFS('4B Calcul. Climat Scen.'!Q$314:Q$361,'4B Calcul. Climat Scen.'!$C$314:$C$361,'2A Input Climat Scen. Pass.'!$B220,'4B Calcul. Climat Scen.'!$E$314:$E$361,'2A Input Climat Scen. Pass.'!$C220)","v":0},{"$f":"SUMIFS('4B Calcul. Climat Scen.'!R$314:R$361,'4B Calcul. Climat Scen.'!$C$314:$C$361,'2A Input Climat Scen. Pass.'!$B220,'4B Calcul. Climat Scen.'!$E$314:$E$361,'2A Input Climat Scen. Pass.'!$C220)","v":0}]
[null,"Minibus",{"$f":"Hybrid","v":"Hybrid"},{"$f":"IFERROR(+SUMIFS('4A Calcul. BAU city'!H:H,'4A Calcul. BAU city'!$C:$C,$B221,'4A Calcul. BAU city'!$E:$E,$C221)/SUMIFS('4A Calcul. BAU city'!G:G,'4A Calcul. BAU city'!$C:$C,$B221),0)","v":0},{"$f":"IFERROR(+SUMIFS('4A Calcul. BAU city'!I:I,'4A Calcul. BAU city'!$C:$C,$B221,'4A Calcul. BAU city'!$E:$E,$C221)/SUMIFS('4A Calcul. BAU city'!H:H,'4A Calcul. BAU city'!$C:$C,$B221),0)","v":0},{"$f":"IFERROR(+SUMIFS('4A Calcul. BAU city'!J:J,'4A Calcul. BAU city'!$C:$C,$B221,'4A Calcul. BAU city'!$E:$E,$C221)/SUMIFS('4A Calcul. BAU city'!I:I,'4A Calcul. BAU city'!$C:$C,$B221),0)","v":0},{"$f":"IFERROR(+SUMIFS('4A Calcul. BAU city'!K:K,'4A Calcul. BAU city'!$C:$C,$B221,'4A Calcul. BAU city'!$E:$E,$C221)/SUMIFS('4A Calcul. BAU city'!J:J,'4A Calcul. BAU city'!$C:$C,$B221),0)","v":0},{"$f":"IFERROR(+SUMIFS('4A Calcul. BAU city'!L:L,'4A Calcul. BAU city'!$C:$C,$B221,'4A Calcul. BAU city'!$E:$E,$C221)/SUMIFS('4A Calcul. BAU city'!K:K,'4A Calcul. BAU city'!$C:$C,$B221),0)","v":0},null,null,null,null,null,null,null,{"$f":"SUMIFS('4B Calcul. Climat Scen.'!N$314:N$361,'4B Calcul. Climat Scen.'!$C$314:$C$361,'2A Input Climat Scen. Pass.'!$B221,'4B Calcul. Climat Scen.'!$E$314:$E$361,'2A Input Climat Scen. Pass.'!$C221)","v":0},{"$f":"SUMIFS('4B Calcul. Climat Scen.'!O$314:O$361,'4B Calcul. Climat Scen.'!$C$314:$C$361,'2A Input Climat Scen. Pass.'!$B221,'4B Calcul. Climat Scen.'!$E$314:$E$361,'2A Input Climat Scen. Pass.'!$C221)","v":0},{"$f":"SUMIFS('4B Calcul. Climat Scen.'!P$314:P$361,'4B Calcul. Climat Scen.'!$C$314:$C$361,'2A Input Climat Scen. Pass.'!$B221,'4B Calcul. Climat Scen.'!$E$314:$E$361,'2A Input Climat Scen. Pass.'!$C221)","v":0},{"$f":"SUMIFS('4B Calcul. Climat Scen.'!Q$314:Q$361,'4B Calcul. Climat Scen.'!$C$314:$C$361,'2A Input Climat Scen. Pass.'!$B221,'4B Calcul. Climat Scen.'!$E$314:$E$361,'2A Input Climat Scen. Pass.'!$C221)","v":0},{"$f":"SUMIFS('4B Calcul. Climat Scen.'!R$314:R$361,'4B Calcul. Climat Scen.'!$C$314:$C$361,'2A Input Climat Scen. Pass.'!$B221,'4B Calcul. Climat Scen.'!$E$314:$E$361,'2A Input Climat Scen. Pass.'!$C221)","v":0}]
[null,"Minibus",{"$f":"Electric","v":"Electric"},{"$f":"IFERROR(+SUMIFS('4A Calcul. BAU city'!H:H,'4A Calcul. BAU city'!$C:$C,$B222,'4A Calcul. BAU city'!$E:$E,$C222)/SUMIFS('4A Calcul. BAU city'!G:G,'4A Calcul. BAU city'!$C:$C,$B222),0)","v":0},{"$f":"IFERROR(+SUMIFS('4A Calcul. BAU city'!I:I,'4A Calcul. BAU city'!$C:$C,$B222,'4A Calcul. BAU city'!$E:$E,$C222)/SUMIFS('4A Calcul. BAU city'!H:H,'4A Calcul. BAU city'!$C:$C,$B222),0)","v":0},{"$f":"IFERROR(+SUMIFS('4A Calcul. BAU city'!J:J,'4A Calcul. BAU city'!$C:$C,$B222,'4A Calcul. BAU city'!$E:$E,$C222)/SUMIFS('4A Calcul. BAU city'!I:I,'4A Calcul. BAU city'!$C:$C,$B222),0)","v":0},{"$f":"IFERROR(+SUMIFS('4A Calcul. BAU city'!K:K,'4A Calcul. BAU city'!$C:$C,$B222,'4A Calcul. BAU city'!$E:$E,$C222)/SUMIFS('4A Calcul. BAU city'!J:J,'4A Calcul. BAU city'!$C:$C,$B222),0)","v":0},{"$f":"IFERROR(+SUMIFS('4A Calcul. BAU city'!L:L,'4A Calcul. BAU city'!$C:$C,$B222,'4A Calcul. BAU city'!$E:$E,$C222)/SUMIFS('4A Calcul. BAU city'!K:K,'4A Calcul. BAU city'!$C:$C,$B222),0)","v":0},null,null,null,null,null,null,null,{"$f":"SUMIFS('4B Calcul. Climat Scen.'!N$314:N$361,'4B Calcul. Climat Scen.'!$C$314:$C$361,'2A Input Climat Scen. Pass.'!$B222,'4B Calcul. Climat Scen.'!$E$314:$E$361,'2A Input Climat Scen. Pass.'!$C222)","v":0},{"$f":"SUMIFS('4B Calcul. Climat Scen.'!O$314:O$361,'4B Calcul. Climat Scen.'!$C$314:$C$361,'2A Input Climat Scen. Pass.'!$B222,'4B Calcul. Climat Scen.'!$E$314:$E$361,'2A Input Climat Scen. Pass.'!$C222)","v":0},{"$f":"SUMIFS('4B Calcul. Climat Scen.'!P$314:P$361,'4B Calcul. Climat Scen.'!$C$314:$C$361,'2A Input Climat Scen. Pass.'!$B222,'4B Calcul. Climat Scen.'!$E$314:$E$361,'2A Input Climat Scen. Pass.'!$C222)","v":0},{"$f":"SUMIFS('4B Calcul. Climat Scen.'!Q$314:Q$361,'4B Calcul. Climat Scen.'!$C$314:$C$361,'2A Input Climat Scen. Pass.'!$B222,'4B Calcul. Climat Scen.'!$E$314:$E$361,'2A Input Climat Scen. Pass.'!$C222)","v":0},{"$f":"SUMIFS('4B Calcul. Climat Scen.'!R$314:R$361,'4B Calcul. Climat Scen.'!$C$314:$C$361,'2A Input Climat Scen. Pass.'!$B222,'4B Calcul. Climat Scen.'!$E$314:$E$361,'2A Input Climat Scen. Pass.'!$C222)","v":0}]
[null,{"$f":"Bus","v":"Bus"},{"$f":"all","v":"all"},{"$f":"+SUM(D224:D227)","v":0},{"$f":"+SUM(E224:E227)","v":0},{"$f":"+SUM(F224:F227)","v":0},{"$f":"+SUM(G224:G227)","v":0},{"$f":"+SUM(H224:H227)","v":0},null,{"$f":"IF(SUM(J224:J227)>0,SUM(J224:J227),\"-\")","v":"-"},{"$f":"IF(SUM(K224:K227)>0,SUM(K224:K227),\"-\")","v":"-"},{"$f":"IF(SUM(L224:L227)>0,SUM(L224:L227),\"-\")","v":"-"},{"$f":"IF(SUM(M224:M227)>0,SUM(M224:M227),\"-\")","v":"-"},{"$f":"IF(SUM(N224:N227)>0,SUM(N224:N227),\"-\")","v":"-"},null,{"$f":"SUM(P224:P227)","v":0},{"$f":"SUM(Q224:Q227)","v":0},{"$f":"SUM(R224:R227)","v":0},{"$f":"SUM(S224:S227)","v":0},{"$f":"SUM(T224:T227)","v":0}]
[null,{"$f":"Bus","v":"Bus"},{"$f":"Diesel","v":"Diesel"},{"$f":"IFERROR(+SUMIFS('4A Calcul. BAU city'!H:H,'4A Calcul. BAU city'!$C:$C,$B224,'4A Calcul. BAU city'!$E:$E,$C224)/SUMIFS('4A Calcul. BAU city'!G:G,'4A Calcul. BAU city'!$C:$C,$B224),0)","v":0},{"$f":"IFERROR(+SUMIFS('4A Calcul. BAU city'!I:I,'4A Calcul. BAU city'!$C:$C,$B224,'4A Calcul. BAU city'!$E:$E,$C224)/SUMIFS('4A Calcul. BAU city'!H:H,'4A Calcul. BAU city'!$C:$C,$B224),0)","v":0},{"$f":"IFERROR(+SUMIFS('4A Calcul. BAU city'!J:J,'4A Calcul. BAU city'!$C:$C,$B224,'4A Calcul. BAU city'!$E:$E,$C224)/SUMIFS('4A Calcul. BAU city'!I:I,'4A Calcul. BAU city'!$C:$C,$B224),0)","v":0},{"$f":"IFERROR(+SUMIFS('4A Calcul. BAU city'!K:K,'4A Calcul. BAU city'!$C:$C,$B224,'4A Calcul. BAU city'!$E:$E,$C224)/SUMIFS('4A Calcul. BAU city'!J:J,'4A Calcul. BAU city'!$C:$C,$B224),0)","v":0},{"$f":"IFERROR(+SUMIFS('4A Calcul. BAU city'!L:L,'4A Calcul. BAU city'!$C:$C,$B224,'4A Calcul. BAU city'!$E:$E,$C224)/SUMIFS('4A Calcul. BAU city'!K:K,'4A Calcul. BAU city'!$C:$C,$B224),0)","v":0},null,null,null,null,null,null,null,{"$f":"SUMIFS('4B Calcul. Climat Scen.'!N$314:N$361,'4B Calcul. Climat Scen.'!$C$314:$C$361,'2A Input Climat Scen. Pass.'!$B224,'4B Calcul. Climat Scen.'!$E$314:$E$361,'2A Input Climat Scen. Pass.'!$C224)","v":0},{"$f":"SUMIFS('4B Calcul. Climat Scen.'!O$314:O$361,'4B Calcul. Climat Scen.'!$C$314:$C$361,'2A Input Climat Scen. Pass.'!$B224,'4B Calcul. Climat Scen.'!$E$314:$E$361,'2A Input Climat Scen. Pass.'!$C224)","v":0},{"$f":"SUMIFS('4B Calcul. Climat Scen.'!P$314:P$361,'4B Calcul. Climat Scen.'!$C$314:$C$361,'2A Input Climat Scen. Pass.'!$B224,'4B Calcul. Climat Scen.'!$E$314:$E$361,'2A Input Climat Scen. Pass.'!$C224)","v":0},{"$f":"SUMIFS('4B Calcul. Climat Scen.'!Q$314:Q$361,'4B Calcul. Climat Scen.'!$C$314:$C$361,'2A Input Climat Scen. Pass.'!$B224,'4B Calcul. Climat Scen.'!$E$314:$E$361,'2A Input Climat Scen. Pass.'!$C224)","v":0},{"$f":"SUMIFS('4B Calcul. Climat Scen.'!R$314:R$361,'4B Calcul. Climat Scen.'!$C$314:$C$361,'2A Input Climat Scen. Pass.'!$B224,'4B Calcul. Climat Scen.'!$E$314:$E$361,'2A Input Climat Scen. Pass.'!$C224)","v":0}]
[null,{"$f":"Bus","v":"Bus"},{"$f":"NG","v":"NG"},{"$f":"IFERROR(+SUMIFS('4A Calcul. BAU city'!H:H,'4A Calcul. BAU city'!$C:$C,$B225,'4A Calcul. BAU city'!$E:$E,$C225)/SUMIFS('4A Calcul. BAU city'!G:G,'4A Calcul. BAU city'!$C:$C,$B225),0)","v":0},{"$f":"IFERROR(+SUMIFS('4A Calcul. BAU city'!I:I,'4A Calcul. BAU city'!$C:$C,$B225,'4A Calcul. BAU city'!$E:$E,$C225)/SUMIFS('4A Calcul. BAU city'!H:H,'4A Calcul. BAU city'!$C:$C,$B225),0)","v":0},{"$f":"IFERROR(+SUMIFS('4A Calcul. BAU city'!J:J,'4A Calcul. BAU city'!$C:$C,$B225,'4A Calcul. BAU city'!$E:$E,$C225)/SUMIFS('4A Calcul. BAU city'!I:I,'4A Calcul. BAU city'!$C:$C,$B225),0)","v":0},{"$f":"IFERROR(+SUMIFS('4A Calcul. BAU city'!K:K,'4A Calcul. BAU city'!$C:$C,$B225,'4A Calcul. BAU city'!$E:$E,$C225)/SUMIFS('4A Calcul. BAU city'!J:J,'4A Calcul. BAU city'!$C:$C,$B225),0)","v":0},{"$f":"IFERROR(+SUMIFS('4A Calcul. BAU city'!L:L,'4A Calcul. BAU city'!$C:$C,$B225,'4A Calcul. BAU city'!$E:$E,$C225)/SUMIFS('4A Calcul. BAU city'!K:K,'4A Calcul. BAU city'!$C:$C,$B225),0)","v":0},null,null,null,null,null,null,null,{"$f":"SUMIFS('4B Calcul. Climat Scen.'!N$314:N$361,'4B Calcul. Climat Scen.'!$C$314:$C$361,'2A Input Climat Scen. Pass.'!$B225,'4B Calcul. Climat Scen.'!$E$314:$E$361,'2A Input Climat Scen. Pass.'!$C225)","v":0},{"$f":"SUMIFS('4B Calcul. Climat Scen.'!O$314:O$361,'4B Calcul. Climat Scen.'!$C$314:$C$361,'2A Input Climat Scen. Pass.'!$B225,'4B Calcul. Climat Scen.'!$E$314:$E$361,'2A Input Climat Scen. Pass.'!$C225)","v":0},{"$f":"SUMIFS('4B Calcul. Climat Scen.'!P$314:P$361,'4B Calcul. Climat Scen.'!$C$314:$C$361,'2A Input Climat Scen. Pass.'!$B225,'4B Calcul. Climat Scen.'!$E$314:$E$361,'2A Input Climat Scen. Pass.'!$C225)","v":0},{"$f":"SUMIFS('4B Calcul. Climat Scen.'!Q$314:Q$361,'4B Calcul. Climat Scen.'!$C$314:$C$361,'2A Input Climat Scen. Pass.'!$B225,'4B Calcul. Climat Scen.'!$E$314:$E$361,'2A Input Climat Scen. Pass.'!$C225)","v":0},{"$f":"SUMIFS('4B Calcul. Climat Scen.'!R$314:R$361,'4B Calcul. Climat Scen.'!$C$314:$C$361,'2A Input Climat Scen. Pass.'!$B225,'4B Calcul. Climat Scen.'!$E$314:$E$361,'2A Input Climat Scen. Pass.'!$C225)","v":0}]
[null,{"$f":"Bus","v":"Bus"},{"$f":"Hybrid","v":"Hybrid"},{"$f":"IFERROR(+SUMIFS('4A Calcul. BAU city'!H:H,'4A Calcul. BAU city'!$C:$C,$B226,'4A Calcul. BAU city'!$E:$E,$C226)/SUMIFS('4A Calcul. BAU city'!G:G,'4A Calcul. BAU city'!$C:$C,$B226),0)","v":0},{"$f":"IFERROR(+SUMIFS('4A Calcul. BAU city'!I:I,'4A Calcul. BAU city'!$C:$C,$B226,'4A Calcul. BAU city'!$E:$E,$C226)/SUMIFS('4A Calcul. BAU city'!H:H,'4A Calcul. BAU city'!$C:$C,$B226),0)","v":0},{"$f":"IFERROR(+SUMIFS('4A Calcul. BAU city'!J:J,'4A Calcul. BAU city'!$C:$C,$B226,'4A Calcul. BAU city'!$E:$E,$C226)/SUMIFS('4A Calcul. BAU city'!I:I,'4A Calcul. BAU city'!$C:$C,$B226),0)","v":0},{"$f":"IFERROR(+SUMIFS('4A Calcul. BAU city'!K:K,'4A Calcul. BAU city'!$C:$C,$B226,'4A Calcul. BAU city'!$E:$E,$C226)/SUMIFS('4A Calcul. BAU city'!J:J,'4A Calcul. BAU city'!$C:$C,$B226),0)","v":0},{"$f":"IFERROR(+SUMIFS('4A Calcul. BAU city'!L:L,'4A Calcul. BAU city'!$C:$C,$B226,'4A Calcul. BAU city'!$E:$E,$C226)/SUMIFS('4A Calcul. BAU city'!K:K,'4A Calcul. BAU city'!$C:$C,$B226),0)","v":0},null,null,null,null,null,null,null,{"$f":"SUMIFS('4B Calcul. Climat Scen.'!N$314:N$361,'4B Calcul. Climat Scen.'!$C$314:$C$361,'2A Input Climat Scen. Pass.'!$B226,'4B Calcul. Climat Scen.'!$E$314:$E$361,'2A Input Climat Scen. Pass.'!$C226)","v":0},{"$f":"SUMIFS('4B Calcul. Climat Scen.'!O$314:O$361,'4B Calcul. Climat Scen.'!$C$314:$C$361,'2A Input Climat Scen. Pass.'!$B226,'4B Calcul. Climat Scen.'!$E$314:$E$361,'2A Input Climat Scen. Pass.'!$C226)","v":0},{"$f":"SUMIFS('4B Calcul. Climat Scen.'!P$314:P$361,'4B Calcul. Climat Scen.'!$C$314:$C$361,'2A Input Climat Scen. Pass.'!$B226,'4B Calcul. Climat Scen.'!$E$314:$E$361,'2A Input Climat Scen. Pass.'!$C226)","v":0},{"$f":"SUMIFS('4B Calcul. Climat Scen.'!Q$314:Q$361,'4B Calcul. Climat Scen.'!$C$314:$C$361,'2A Input Climat Scen. Pass.'!$B226,'4B Calcul. Climat Scen.'!$E$314:$E$361,'2A Input Climat Scen. Pass.'!$C226)","v":0},{"$f":"SUMIFS('4B Calcul. Climat Scen.'!R$314:R$361,'4B Calcul. Climat Scen.'!$C$314:$C$361,'2A Input Climat Scen. Pass.'!$B226,'4B Calcul. Climat Scen.'!$E$314:$E$361,'2A Input Climat Scen. Pass.'!$C226)","v":0}]
[null,{"$f":"Bus","v":"Bus"},{"$f":"Electric","v":"Electric"},{"$f":"IFERROR(+SUMIFS('4A Calcul. BAU city'!H:H,'4A Calcul. BAU city'!$C:$C,$B227,'4A Calcul. BAU city'!$E:$E,$C227)/SUMIFS('4A Calcul. BAU city'!G:G,'4A Calcul. BAU city'!$C:$C,$B227),0)","v":0},{"$f":"IFERROR(+SUMIFS('4A Calcul. BAU city'!I:I,'4A Calcul. BAU city'!$C:$C,$B227,'4A Calcul. BAU city'!$E:$E,$C227)/SUMIFS('4A Calcul. BAU city'!H:H,'4A Calcul. BAU city'!$C:$C,$B227),0)","v":0},{"$f":"IFERROR(+SUMIFS('4A Calcul. BAU city'!J:J,'4A Calcul. BAU city'!$C:$C,$B227,'4A Calcul. BAU city'!$E:$E,$C227)/SUMIFS('4A Calcul. BAU city'!I:I,'4A Calcul. BAU city'!$C:$C,$B227),0)","v":0},{"$f":"IFERROR(+SUMIFS('4A Calcul. BAU city'!K:K,'4A Calcul. BAU city'!$C:$C,$B227,'4A Calcul. BAU city'!$E:$E,$C227)/SUMIFS('4A Calcul. BAU city'!J:J,'4A Calcul. BAU city'!$C:$C,$B227),0)","v":0},{"$f":"IFERROR(+SUMIFS('4A Calcul. BAU city'!L:L,'4A Calcul. BAU city'!$C:$C,$B227,'4A Calcul. BAU city'!$E:$E,$C227)/SUMIFS('4A Calcul. BAU city'!K:K,'4A Calcul. BAU city'!$C:$C,$B227),0)","v":0},null,null,null,null,null,null,null,{"$f":"SUMIFS('4B Calcul. Climat Scen.'!N$314:N$361,'4B Calcul. Climat Scen.'!$C$314:$C$361,'2A Input Climat Scen. Pass.'!$B227,'4B Calcul. Climat Scen.'!$E$314:$E$361,'2A Input Climat Scen. Pass.'!$C227)","v":0},{"$f":"SUMIFS('4B Calcul. Climat Scen.'!O$314:O$361,'4B Calcul. Climat Scen.'!$C$314:$C$361,'2A Input Climat Scen. Pass.'!$B227,'4B Calcul. Climat Scen.'!$E$314:$E$361,'2A Input Climat Scen. Pass.'!$C227)","v":0},{"$f":"SUMIFS('4B Calcul. Climat Scen.'!P$314:P$361,'4B Calcul. Climat Scen.'!$C$314:$C$361,'2A Input Climat Scen. Pass.'!$B227,'4B Calcul. Climat Scen.'!$E$314:$E$361,'2A Input Climat Scen. Pass.'!$C227)","v":0},{"$f":"SUMIFS('4B Calcul. Climat Scen.'!Q$314:Q$361,'4B Calcul. Climat Scen.'!$C$314:$C$361,'2A Input Climat Scen. Pass.'!$B227,'4B Calcul. Climat Scen.'!$E$314:$E$361,'2A Input Climat Scen. Pass.'!$C227)","v":0},{"$f":"SUMIFS('4B Calcul. Climat Scen.'!R$314:R$361,'4B Calcul. Climat Scen.'!$C$314:$C$361,'2A Input Climat Scen. Pass.'!$B227,'4B Calcul. Climat Scen.'!$E$314:$E$361,'2A Input Climat Scen. Pass.'!$C227)","v":0}]
[null,{"$f":"BRT","v":"BRT"},{"$f":"all","v":"all"},{"$f":"+SUM(D229:D232)","v":0},{"$f":"+SUM(E229:E232)","v":0},{"$f":"+SUM(F229:F232)","v":0},{"$f":"+SUM(G229:G232)","v":0},{"$f":"+SUM(H229:H232)","v":0},null,{"$f":"IF(SUM(J229:J232)>0,SUM(J229:J232),\"-\")","v":"-"},{"$f":"IF(SUM(K229:K232)>0,SUM(K229:K232),\"-\")","v":"-"},{"$f":"IF(SUM(L229:L232)>0,SUM(L229:L232),\"-\")","v":"-"},{"$f":"IF(SUM(M229:M232)>0,SUM(M229:M232),\"-\")","v":"-"},{"$f":"IF(SUM(N229:N232)>0,SUM(N229:N232),\"-\")","v":"-"},null,{"$f":"SUM(P229:P232)","v":0},{"$f":"SUM(Q229:Q232)","v":0},{"$f":"SUM(R229:R232)","v":0},{"$f":"SUM(S229:S232)","v":0},{"$f":"SUM(T229:T232)","v":0}]
[null,{"$f":"BRT","v":"BRT"},{"$f":"Diesel","v":"Diesel"},{"$f":"IFERROR(+SUMIFS('4A Calcul. BAU city'!H:H,'4A Calcul. BAU city'!$C:$C,$B229,'4A Calcul. BAU city'!$E:$E,$C229)/SUMIFS('4A Calcul. BAU city'!G:G,'4A Calcul. BAU city'!$C:$C,$B229),0)","v":0},{"$f":"IFERROR(+SUMIFS('4A Calcul. BAU city'!I:I,'4A Calcul. BAU city'!$C:$C,$B229,'4A Calcul. BAU city'!$E:$E,$C229)/SUMIFS('4A Calcul. BAU city'!H:H,'4A Calcul. BAU city'!$C:$C,$B229),0)","v":0},{"$f":"IFERROR(+SUMIFS('4A Calcul. BAU city'!J:J,'4A Calcul. BAU city'!$C:$C,$B229,'4A Calcul. BAU city'!$E:$E,$C229)/SUMIFS('4A Calcul. BAU city'!I:I,'4A Calcul. BAU city'!$C:$C,$B229),0)","v":0},{"$f":"IFERROR(+SUMIFS('4A Calcul. BAU city'!K:K,'4A Calcul. BAU city'!$C:$C,$B229,'4A Calcul. BAU city'!$E:$E,$C229)/SUMIFS('4A Calcul. BAU city'!J:J,'4A Calcul. BAU city'!$C:$C,$B229),0)","v":0},{"$f":"IFERROR(+SUMIFS('4A Calcul. BAU city'!L:L,'4A Calcul. BAU city'!$C:$C,$B229,'4A Calcul. BAU city'!$E:$E,$C229)/SUMIFS('4A Calcul. BAU city'!K:K,'4A Calcul. BAU city'!$C:$C,$B229),0)","v":0},null,null,null,null,null,null,null,{"$f":"SUMIFS('4B Calcul. Climat Scen.'!N$314:N$361,'4B Calcul. Climat Scen.'!$C$314:$C$361,'2A Input Climat Scen. Pass.'!$B229,'4B Calcul. Climat Scen.'!$E$314:$E$361,'2A Input Climat Scen. Pass.'!$C229)","v":0},{"$f":"SUMIFS('4B Calcul. Climat Scen.'!O$314:O$361,'4B Calcul. Climat Scen.'!$C$314:$C$361,'2A Input Climat Scen. Pass.'!$B229,'4B Calcul. Climat Scen.'!$E$314:$E$361,'2A Input Climat Scen. Pass.'!$C229)","v":0},{"$f":"SUMIFS('4B Calcul. Climat Scen.'!P$314:P$361,'4B Calcul. Climat Scen.'!$C$314:$C$361,'2A Input Climat Scen. Pass.'!$B229,'4B Calcul. Climat Scen.'!$E$314:$E$361,'2A Input Climat Scen. Pass.'!$C229)","v":0},{"$f":"SUMIFS('4B Calcul. Climat Scen.'!Q$314:Q$361,'4B Calcul. Climat Scen.'!$C$314:$C$361,'2A Input Climat Scen. Pass.'!$B229,'4B Calcul. Climat Scen.'!$E$314:$E$361,'2A Input Climat Scen. Pass.'!$C229)","v":0},{"$f":"SUMIFS('4B Calcul. Climat Scen.'!R$314:R$361,'4B Calcul. Climat Scen.'!$C$314:$C$361,'2A Input Climat Scen. Pass.'!$B229,'4B Calcul. Climat Scen.'!$E$314:$E$361,'2A Input Climat Scen. Pass.'!$C229)","v":0}]
[null,{"$f":"BRT","v":"BRT"},{"$f":"NG","v":"NG"},{"$f":"IFERROR(+SUMIFS('4A Calcul. BAU city'!H:H,'4A Calcul. BAU city'!$C:$C,$B230,'4A Calcul. BAU city'!$E:$E,$C230)/SUMIFS('4A Calcul. BAU city'!G:G,'4A Calcul. BAU city'!$C:$C,$B230),0)","v":0},{"$f":"IFERROR(+SUMIFS('4A Calcul. BAU city'!I:I,'4A Calcul. BAU city'!$C:$C,$B230,'4A Calcul. BAU city'!$E:$E,$C230)/SUMIFS('4A Calcul. BAU city'!H:H,'4A Calcul. BAU city'!$C:$C,$B230),0)","v":0},{"$f":"IFERROR(+SUMIFS('4A Calcul. BAU city'!J:J,'4A Calcul. BAU city'!$C:$C,$B230,'4A Calcul. BAU city'!$E:$E,$C230)/SUMIFS('4A Calcul. BAU city'!I:I,'4A Calcul. BAU city'!$C:$C,$B230),0)","v":0},{"$f":"IFERROR(+SUMIFS('4A Calcul. BAU city'!K:K,'4A Calcul. BAU city'!$C:$C,$B230,'4A Calcul. BAU city'!$E:$E,$C230)/SUMIFS('4A Calcul. BAU city'!J:J,'4A Calcul. BAU city'!$C:$C,$B230),0)","v":0},{"$f":"IFERROR(+SUMIFS('4A Calcul. BAU city'!L:L,'4A Calcul. BAU city'!$C:$C,$B230,'4A Calcul. BAU city'!$E:$E,$C230)/SUMIFS('4A Calcul. BAU city'!K:K,'4A Calcul. BAU city'!$C:$C,$B230),0)","v":0},null,null,null,null,null,null,null,{"$f":"SUMIFS('4B Calcul. Climat Scen.'!N$314:N$361,'4B Calcul. Climat Scen.'!$C$314:$C$361,'2A Input Climat Scen. Pass.'!$B230,'4B Calcul. Climat Scen.'!$E$314:$E$361,'2A Input Climat Scen. Pass.'!$C230)","v":0},{"$f":"SUMIFS('4B Calcul. Climat Scen.'!O$314:O$361,'4B Calcul. Climat Scen.'!$C$314:$C$361,'2A Input Climat Scen. Pass.'!$B230,'4B Calcul. Climat Scen.'!$E$314:$E$361,'2A Input Climat Scen. Pass.'!$C230)","v":0},{"$f":"SUMIFS('4B Calcul. Climat Scen.'!P$314:P$361,'4B Calcul. Climat Scen.'!$C$314:$C$361,'2A Input Climat Scen. Pass.'!$B230,'4B Calcul. Climat Scen.'!$E$314:$E$361,'2A Input Climat Scen. Pass.'!$C230)","v":0},{"$f":"SUMIFS('4B Calcul. Climat Scen.'!Q$314:Q$361,'4B Calcul. Climat Scen.'!$C$314:$C$361,'2A Input Climat Scen. Pass.'!$B230,'4B Calcul. Climat Scen.'!$E$314:$E$361,'2A Input Climat Scen. Pass.'!$C230)","v":0},{"$f":"SUMIFS('4B Calcul. Climat Scen.'!R$314:R$361,'4B Calcul. Climat Scen.'!$C$314:$C$361,'2A Input Climat Scen. Pass.'!$B230,'4B Calcul. Climat Scen.'!$E$314:$E$361,'2A Input Climat Scen. Pass.'!$C230)","v":0}]
[null,{"$f":"BRT","v":"BRT"},{"$f":"Hybrid","v":"Hybrid"},{"$f":"IFERROR(+SUMIFS('4A Calcul. BAU city'!H:H,'4A Calcul. BAU city'!$C:$C,$B231,'4A Calcul. BAU city'!$E:$E,$C231)/SUMIFS('4A Calcul. BAU city'!G:G,'4A Calcul. BAU city'!$C:$C,$B231),0)","v":0},{"$f":"IFERROR(+SUMIFS('4A Calcul. BAU city'!I:I,'4A Calcul. BAU city'!$C:$C,$B231,'4A Calcul. BAU city'!$E:$E,$C231)/SUMIFS('4A Calcul. BAU city'!H:H,'4A Calcul. BAU city'!$C:$C,$B231),0)","v":0},{"$f":"IFERROR(+SUMIFS('4A Calcul. BAU city'!J:J,'4A Calcul. BAU city'!$C:$C,$B231,'4A Calcul. BAU city'!$E:$E,$C231)/SUMIFS('4A Calcul. BAU city'!I:I,'4A Calcul. BAU city'!$C:$C,$B231),0)","v":0},{"$f":"IFERROR(+SUMIFS('4A Calcul. BAU city'!K:K,'4A Calcul. BAU city'!$C:$C,$B231,'4A Calcul. BAU city'!$E:$E,$C231)/SUMIFS('4A Calcul. BAU city'!J:J,'4A Calcul. BAU city'!$C:$C,$B231),0)","v":0},{"$f":"IFERROR(+SUMIFS('4A Calcul. BAU city'!L:L,'4A Calcul. BAU city'!$C:$C,$B231,'4A Calcul. BAU city'!$E:$E,$C231)/SUMIFS('4A Calcul. BAU city'!K:K,'4A Calcul. BAU city'!$C:$C,$B231),0)","v":0},null,null,null,null,null,null,null,{"$f":"SUMIFS('4B Calcul. Climat Scen.'!N$314:N$361,'4B Calcul. Climat Scen.'!$C$314:$C$361,'2A Input Climat Scen. Pass.'!$B231,'4B Calcul. Climat Scen.'!$E$314:$E$361,'2A Input Climat Scen. Pass.'!$C231)","v":0},{"$f":"SUMIFS('4B Calcul. Climat Scen.'!O$314:O$361,'4B Calcul. Climat Scen.'!$C$314:$C$361,'2A Input Climat Scen. Pass.'!$B231,'4B Calcul. Climat Scen.'!$E$314:$E$361,'2A Input Climat Scen. Pass.'!$C231)","v":0},{"$f":"SUMIFS('4B Calcul. Climat Scen.'!P$314:P$361,'4B Calcul. Climat Scen.'!$C$314:$C$361,'2A Input Climat Scen. Pass.'!$B231,'4B Calcul. Climat Scen.'!$E$314:$E$361,'2A Input Climat Scen. Pass.'!$C231)","v":0},{"$f":"SUMIFS('4B Calcul. Climat Scen.'!Q$314:Q$361,'4B Calcul. Climat Scen.'!$C$314:$C$361,'2A Input Climat Scen. Pass.'!$B231,'4B Calcul. Climat Scen.'!$E$314:$E$361,'2A Input Climat Scen. Pass.'!$C231)","v":0},{"$f":"SUMIFS('4B Calcul. Climat Scen.'!R$314:R$361,'4B Calcul. Climat Scen.'!$C$314:$C$361,'2A Input Climat Scen. Pass.'!$B231,'4B Calcul. Climat Scen.'!$E$314:$E$361,'2A Input Climat Scen. Pass.'!$C231)","v":0}]
[null,{"$f":"BRT","v":"BRT"},{"$f":"Electric","v":"Electric"},{"$f":"IFERROR(+SUMIFS('4A Calcul. BAU city'!H:H,'4A Calcul. BAU city'!$C:$C,$B232,'4A Calcul. BAU city'!$E:$E,$C232)/SUMIFS('4A Calcul. BAU city'!G:G,'4A Calcul. BAU city'!$C:$C,$B232),0)","v":0},{"$f":"IFERROR(+SUMIFS('4A Calcul. BAU city'!I:I,'4A Calcul. BAU city'!$C:$C,$B232,'4A Calcul. BAU city'!$E:$E,$C232)/SUMIFS('4A Calcul. BAU city'!H:H,'4A Calcul. BAU city'!$C:$C,$B232),0)","v":0},{"$f":"IFERROR(+SUMIFS('4A Calcul. BAU city'!J:J,'4A Calcul. BAU city'!$C:$C,$B232,'4A Calcul. BAU city'!$E:$E,$C232)/SUMIFS('4A Calcul. BAU city'!I:I,'4A Calcul. BAU city'!$C:$C,$B232),0)","v":0},{"$f":"IFERROR(+SUMIFS('4A Calcul. BAU city'!K:K,'4A Calcul. BAU city'!$C:$C,$B232,'4A Calcul. BAU city'!$E:$E,$C232)/SUMIFS('4A Calcul. BAU city'!J:J,'4A Calcul. BAU city'!$C:$C,$B232),0)","v":0},{"$f":"IFERROR(+SUMIFS('4A Calcul. BAU city'!L:L,'4A Calcul. BAU city'!$C:$C,$B232,'4A Calcul. BAU city'!$E:$E,$C232)/SUMIFS('4A Calcul. BAU city'!K:K,'4A Calcul. BAU city'!$C:$C,$B232),0)","v":0},null,null,null,null,null,null,null,{"$f":"SUMIFS('4B Calcul. Climat Scen.'!N$314:N$361,'4B Calcul. Climat Scen.'!$C$314:$C$361,'2A Input Climat Scen. Pass.'!$B232,'4B Calcul. Climat Scen.'!$E$314:$E$361,'2A Input Climat Scen. Pass.'!$C232)","v":0},{"$f":"SUMIFS('4B Calcul. Climat Scen.'!O$314:O$361,'4B Calcul. Climat Scen.'!$C$314:$C$361,'2A Input Climat Scen. Pass.'!$B232,'4B Calcul. Climat Scen.'!$E$314:$E$361,'2A Input Climat Scen. Pass.'!$C232)","v":0},{"$f":"SUMIFS('4B Calcul. Climat Scen.'!P$314:P$361,'4B Calcul. Climat Scen.'!$C$314:$C$361,'2A Input Climat Scen. Pass.'!$B232,'4B Calcul. Climat Scen.'!$E$314:$E$361,'2A Input Climat Scen. Pass.'!$C232)","v":0},{"$f":"SUMIFS('4B Calcul. Climat Scen.'!Q$314:Q$361,'4B Calcul. Climat Scen.'!$C$314:$C$361,'2A Input Climat Scen. Pass.'!$B232,'4B Calcul. Climat Scen.'!$E$314:$E$361,'2A Input Climat Scen. Pass.'!$C232)","v":0},{"$f":"SUMIFS('4B Calcul. Climat Scen.'!R$314:R$361,'4B Calcul. Climat Scen.'!$C$314:$C$361,'2A Input Climat Scen. Pass.'!$B232,'4B Calcul. Climat Scen.'!$E$314:$E$361,'2A Input Climat Scen. Pass.'!$C232)","v":0}]
[null,{"$f":"Train","v":"Long distance train"},{"$f":"all","v":"all"},{"$f":"+SUM(D234:D235)","v":0},{"$f":"+SUM(E234:E235)","v":0},{"$f":"+SUM(F234:F235)","v":0},{"$f":"+SUM(G234:G235)","v":0},{"$f":"+SUM(H234:H235)","v":0},null,{"$f":"IF(SUM(J234:J235)>0,SUM(J234:J235),\"-\")","v":"-"},{"$f":"IF(SUM(K234:K235)>0,SUM(K234:K235),\"-\")","v":"-"},{"$f":"IF(SUM(L234:L235)>0,SUM(L234:L235),\"-\")","v":"-"},{"$f":"IF(SUM(M234:M235)>0,SUM(M234:M235),\"-\")","v":"-"},{"$f":"IF(SUM(N234:N235)>0,SUM(N234:N235),\"-\")","v":"-"},null,{"$f":"SUM(P234:P235)","v":0},{"$f":"SUM(Q234:Q235)","v":0},{"$f":"SUM(R234:R235)","v":0},{"$f":"SUM(S234:S235)","v":0},{"$f":"SUM(T234:T235)","v":0}]
[null,{"$f":"Train","v":"Long distance train"},{"$f":"Diesel","v":"Diesel"},{"$f":"IFERROR(+SUMIFS('4A Calcul. BAU city'!H:H,'4A Calcul. BAU city'!$C:$C,$B234,'4A Calcul. BAU city'!$E:$E,$C234)/SUMIFS('4A Calcul. BAU city'!G:G,'4A Calcul. BAU city'!$C:$C,$B234),0)","v":0},{"$f":"IFERROR(+SUMIFS('4A Calcul. BAU city'!I:I,'4A Calcul. BAU city'!$C:$C,$B234,'4A Calcul. BAU city'!$E:$E,$C234)/SUMIFS('4A Calcul. BAU city'!H:H,'4A Calcul. BAU city'!$C:$C,$B234),0)","v":0},{"$f":"IFERROR(+SUMIFS('4A Calcul. BAU city'!J:J,'4A Calcul. BAU city'!$C:$C,$B234,'4A Calcul. BAU city'!$E:$E,$C234)/SUMIFS('4A Calcul. BAU city'!I:I,'4A Calcul. BAU city'!$C:$C,$B234),0)","v":0},{"$f":"IFERROR(+SUMIFS('4A Calcul. BAU city'!K:K,'4A Calcul. BAU city'!$C:$C,$B234,'4A Calcul. BAU city'!$E:$E,$C234)/SUMIFS('4A Calcul. BAU city'!J:J,'4A Calcul. BAU city'!$C:$C,$B234),0)","v":0},{"$f":"IFERROR(+SUMIFS('4A Calcul. BAU city'!L:L,'4A Calcul. BAU city'!$C:$C,$B234,'4A Calcul. BAU city'!$E:$E,$C234)/SUMIFS('4A Calcul. BAU city'!K:K,'4A Calcul. BAU city'!$C:$C,$B234),0)","v":0},null,null,null,null,null,null,null,{"$f":"SUMIFS('4B Calcul. Climat Scen.'!N$314:N$361,'4B Calcul. Climat Scen.'!$C$314:$C$361,'2A Input Climat Scen. Pass.'!$B234,'4B Calcul. Climat Scen.'!$E$314:$E$361,'2A Input Climat Scen. Pass.'!$C234)","v":0},{"$f":"SUMIFS('4B Calcul. Climat Scen.'!O$314:O$361,'4B Calcul. Climat Scen.'!$C$314:$C$361,'2A Input Climat Scen. Pass.'!$B234,'4B Calcul. Climat Scen.'!$E$314:$E$361,'2A Input Climat Scen. Pass.'!$C234)","v":0},{"$f":"SUMIFS('4B Calcul. Climat Scen.'!P$314:P$361,'4B Calcul. Climat Scen.'!$C$314:$C$361,'2A Input Climat Scen. Pass.'!$B234,'4B Calcul. Climat Scen.'!$E$314:$E$361,'2A Input Climat Scen. Pass.'!$C234)","v":0},{"$f":"SUMIFS('4B Calcul. Climat Scen.'!Q$314:Q$361,'4B Calcul. Climat Scen.'!$C$314:$C$361,'2A Input Climat Scen. Pass.'!$B234,'4B Calcul. Climat Scen.'!$E$314:$E$361,'2A Input Climat Scen. Pass.'!$C234)","v":0},{"$f":"SUMIFS('4B Calcul. Climat Scen.'!R$314:R$361,'4B Calcul. Climat Scen.'!$C$314:$C$361,'2A Input Climat Scen. Pass.'!$B234,'4B Calcul. Climat Scen.'!$E$314:$E$361,'2A Input Climat Scen. Pass.'!$C234)","v":0}]
[null,{"$f":"Train","v":"Long distance train"},{"$f":"Electric","v":"Electric"},{"$f":"IFERROR(+SUMIFS('4A Calcul. BAU city'!H:H,'4A Calcul. BAU city'!$C:$C,$B235,'4A Calcul. BAU city'!$E:$E,$C235)/SUMIFS('4A Calcul. BAU city'!G:G,'4A Calcul. BAU city'!$C:$C,$B235),0)","v":0},{"$f":"IFERROR(+SUMIFS('4A Calcul. BAU city'!I:I,'4A Calcul. BAU city'!$C:$C,$B235,'4A Calcul. BAU city'!$E:$E,$C235)/SUMIFS('4A Calcul. BAU city'!H:H,'4A Calcul. BAU city'!$C:$C,$B235),0)","v":0},{"$f":"IFERROR(+SUMIFS('4A Calcul. BAU city'!J:J,'4A Calcul. BAU city'!$C:$C,$B235,'4A Calcul. BAU city'!$E:$E,$C235)/SUMIFS('4A Calcul. BAU city'!I:I,'4A Calcul. BAU city'!$C:$C,$B235),0)","v":0},{"$f":"IFERROR(+SUMIFS('4A Calcul. BAU city'!K:K,'4A Calcul. BAU city'!$C:$C,$B235,'4A Calcul. BAU city'!$E:$E,$C235)/SUMIFS('4A Calcul. BAU city'!J:J,'4A Calcul. BAU city'!$C:$C,$B235),0)","v":0},{"$f":"IFERROR(+SUMIFS('4A Calcul. BAU city'!L:L,'4A Calcul. BAU city'!$C:$C,$B235,'4A Calcul. BAU city'!$E:$E,$C235)/SUMIFS('4A Calcul. BAU city'!K:K,'4A Calcul. BAU city'!$C:$C,$B235),0)","v":0},null,null,null,null,null,null,null,{"$f":"SUMIFS('4B Calcul. Climat Scen.'!N$314:N$361,'4B Calcul. Climat Scen.'!$C$314:$C$361,'2A Input Climat Scen. Pass.'!$B235,'4B Calcul. Climat Scen.'!$E$314:$E$361,'2A Input Climat Scen. Pass.'!$C235)","v":0},{"$f":"SUMIFS('4B Calcul. Climat Scen.'!O$314:O$361,'4B Calcul. Climat Scen.'!$C$314:$C$361,'2A Input Climat Scen. Pass.'!$B235,'4B Calcul. Climat Scen.'!$E$314:$E$361,'2A Input Climat Scen. Pass.'!$C235)","v":0},{"$f":"SUMIFS('4B Calcul. Climat Scen.'!P$314:P$361,'4B Calcul. Climat Scen.'!$C$314:$C$361,'2A Input Climat Scen. Pass.'!$B235,'4B Calcul. Climat Scen.'!$E$314:$E$361,'2A Input Climat Scen. Pass.'!$C235)","v":0},{"$f":"SUMIFS('4B Calcul. Climat Scen.'!Q$314:Q$361,'4B Calcul. Climat Scen.'!$C$314:$C$361,'2A Input Climat Scen. Pass.'!$B235,'4B Calcul. Climat Scen.'!$E$314:$E$361,'2A Input Climat Scen. Pass.'!$C235)","v":0},{"$f":"SUMIFS('4B Calcul. Climat Scen.'!R$314:R$361,'4B Calcul. Climat Scen.'!$C$314:$C$361,'2A Input Climat Scen. Pass.'!$B235,'4B Calcul. Climat Scen.'!$E$314:$E$361,'2A Input Climat Scen. Pass.'!$C235)","v":0}]
[null,{"$f":"Utrain","v":"Urban train"},{"$f":"all","v":"all"},{"$f":"+SUM(D237:D237)","v":0},{"$f":"+SUM(E237:E237)","v":0},{"$f":"+SUM(F237:F237)","v":0},{"$f":"+SUM(G237:G237)","v":0},{"$f":"+SUM(H237:H237)","v":0},null,{"$f":"IF(SUM(J237)>0,SUM(J237),\"-\")","v":"-"},{"$f":"IF(SUM(K237)>0,SUM(K237),\"-\")","v":"-"},{"$f":"IF(SUM(L237)>0,SUM(L237),\"-\")","v":"-"},{"$f":"IF(SUM(M237)>0,SUM(M237),\"-\")","v":"-"},{"$f":"IF(SUM(N237)>0,SUM(N237),\"-\")","v":"-"},null,{"$f":"SUM(P237:P237)","v":0},{"$f":"SUM(Q237:Q237)","v":0},{"$f":"SUM(R237:R237)","v":0},{"$f":"SUM(S237:S237)","v":0},{"$f":"SUM(T237:T237)","v":0}]
[null,{"$f":"Utrain","v":"Urban train"},{"$f":"Electric","v":"Electric"},{"$f":"IFERROR(+SUMIFS('4A Calcul. BAU city'!H:H,'4A Calcul. BAU city'!$C:$C,$B237,'4A Calcul. BAU city'!$E:$E,$C237)/SUMIFS('4A Calcul. BAU city'!G:G,'4A Calcul. BAU city'!$C:$C,$B237),0)","v":0},{"$f":"IFERROR(+SUMIFS('4A Calcul. BAU city'!I:I,'4A Calcul. BAU city'!$C:$C,$B237,'4A Calcul. BAU city'!$E:$E,$C237)/SUMIFS('4A Calcul. BAU city'!H:H,'4A Calcul. BAU city'!$C:$C,$B237),0)","v":0},{"$f":"IFERROR(+SUMIFS('4A Calcul. BAU city'!J:J,'4A Calcul. BAU city'!$C:$C,$B237,'4A Calcul. BAU city'!$E:$E,$C237)/SUMIFS('4A Calcul. BAU city'!I:I,'4A Calcul. BAU city'!$C:$C,$B237),0)","v":0},{"$f":"IFERROR(+SUMIFS('4A Calcul. BAU city'!K:K,'4A Calcul. BAU city'!$C:$C,$B237,'4A Calcul. BAU city'!$E:$E,$C237)/SUMIFS('4A Calcul. BAU city'!J:J,'4A Calcul. BAU city'!$C:$C,$B237),0)","v":0},{"$f":"IFERROR(+SUMIFS('4A Calcul. BAU city'!L:L,'4A Calcul. BAU city'!$C:$C,$B237,'4A Calcul. BAU city'!$E:$E,$C237)/SUMIFS('4A Calcul. BAU city'!K:K,'4A Calcul. BAU city'!$C:$C,$B237),0)","v":0},null,null,null,null,null,null,null,{"$f":"SUMIFS('4B Calcul. Climat Scen.'!N$314:N$361,'4B Calcul. Climat Scen.'!$C$314:$C$361,'2A Input Climat Scen. Pass.'!$B237,'4B Calcul. Climat Scen.'!$E$314:$E$361,'2A Input Climat Scen. Pass.'!$C237)","v":0},{"$f":"SUMIFS('4B Calcul. Climat Scen.'!O$314:O$361,'4B Calcul. Climat Scen.'!$C$314:$C$361,'2A Input Climat Scen. Pass.'!$B237,'4B Calcul. Climat Scen.'!$E$314:$E$361,'2A Input Climat Scen. Pass.'!$C237)","v":0},{"$f":"SUMIFS('4B Calcul. Climat Scen.'!P$314:P$361,'4B Calcul. Climat Scen.'!$C$314:$C$361,'2A Input Climat Scen. Pass.'!$B237,'4B Calcul. Climat Scen.'!$E$314:$E$361,'2A Input Climat Scen. Pass.'!$C237)","v":0},{"$f":"SUMIFS('4B Calcul. Climat Scen.'!Q$314:Q$361,'4B Calcul. Climat Scen.'!$C$314:$C$361,'2A Input Climat Scen. Pass.'!$B237,'4B Calcul. Climat Scen.'!$E$314:$E$361,'2A Input Climat Scen. Pass.'!$C237)","v":0},{"$f":"SUMIFS('4B Calcul. Climat Scen.'!R$314:R$361,'4B Calcul. Climat Scen.'!$C$314:$C$361,'2A Input Climat Scen. Pass.'!$B237,'4B Calcul. Climat Scen.'!$E$314:$E$361,'2A Input Climat Scen. Pass.'!$C237)","v":0}]
[null,{"$f":"Metro","v":"Metro"},{"$f":"all","v":"all"},{"$f":"+SUM(D239:D239)","v":0},{"$f":"+SUM(E239:E239)","v":0},{"$f":"+SUM(F239:F239)","v":0},{"$f":"+SUM(G239:G239)","v":0},{"$f":"+SUM(H239:H239)","v":0},null,{"$f":"IF(SUM(J239)>0,SUM(K239:K244),\"-\")","v":"-"},{"$f":"IF(SUM(K239)>0,SUM(K239),\"-\")","v":"-"},{"$f":"IF(SUM(L239)>0,SUM(L239),\"-\")","v":"-"},{"$f":"IF(SUM(M239)>0,SUM(M239),\"-\")","v":"-"},{"$f":"IF(SUM(N239)>0,SUM(N239),\"-\")","v":"-"},null,{"$f":"SUM(P239:P239)","v":0},{"$f":"SUM(Q239:Q239)","v":0},{"$f":"SUM(R239:R239)","v":0},{"$f":"SUM(S239:S239)","v":0},{"$f":"SUM(T239:T239)","v":0}]
[null,{"$f":"Metro","v":"Metro"},{"$f":"Electric","v":"Electric"},{"$f":"IFERROR(+SUMIFS('4A Calcul. BAU city'!H:H,'4A Calcul. BAU city'!$C:$C,$B239,'4A Calcul. BAU city'!$E:$E,$C239)/SUMIFS('4A Calcul. BAU city'!G:G,'4A Calcul. BAU city'!$C:$C,$B239),0)","v":0},{"$f":"IFERROR(+SUMIFS('4A Calcul. BAU city'!I:I,'4A Calcul. BAU city'!$C:$C,$B239,'4A Calcul. BAU city'!$E:$E,$C239)/SUMIFS('4A Calcul. BAU city'!H:H,'4A Calcul. BAU city'!$C:$C,$B239),0)","v":0},{"$f":"IFERROR(+SUMIFS('4A Calcul. BAU city'!J:J,'4A Calcul. BAU city'!$C:$C,$B239,'4A Calcul. BAU city'!$E:$E,$C239)/SUMIFS('4A Calcul. BAU city'!I:I,'4A Calcul. BAU city'!$C:$C,$B239),0)","v":0},{"$f":"IFERROR(+SUMIFS('4A Calcul. BAU city'!K:K,'4A Calcul. BAU city'!$C:$C,$B239,'4A Calcul. BAU city'!$E:$E,$C239)/SUMIFS('4A Calcul. BAU city'!J:J,'4A Calcul. BAU city'!$C:$C,$B239),0)","v":0},{"$f":"IFERROR(+SUMIFS('4A Calcul. BAU city'!L:L,'4A Calcul. BAU city'!$C:$C,$B239,'4A Calcul. BAU city'!$E:$E,$C239)/SUMIFS('4A Calcul. BAU city'!K:K,'4A Calcul. BAU city'!$C:$C,$B239),0)","v":0},null,null,null,null,null,null,null,{"$f":"SUMIFS('4B Calcul. Climat Scen.'!N$314:N$361,'4B Calcul. Climat Scen.'!$C$314:$C$361,'2A Input Climat Scen. Pass.'!$B239,'4B Calcul. Climat Scen.'!$E$314:$E$361,'2A Input Climat Scen. Pass.'!$C239)","v":0},{"$f":"SUMIFS('4B Calcul. Climat Scen.'!O$314:O$361,'4B Calcul. Climat Scen.'!$C$314:$C$361,'2A Input Climat Scen. Pass.'!$B239,'4B Calcul. Climat Scen.'!$E$314:$E$361,'2A Input Climat Scen. Pass.'!$C239)","v":0},{"$f":"SUMIFS('4B Calcul. Climat Scen.'!P$314:P$361,'4B Calcul. Climat Scen.'!$C$314:$C$361,'2A Input Climat Scen. Pass.'!$B239,'4B Calcul. Climat Scen.'!$E$314:$E$361,'2A Input Climat Scen. Pass.'!$C239)","v":0},{"$f":"SUMIFS('4B Calcul. Climat Scen.'!Q$314:Q$361,'4B Calcul. Climat Scen.'!$C$314:$C$361,'2A Input Climat Scen. Pass.'!$B239,'4B Calcul. Climat Scen.'!$E$314:$E$361,'2A Input Climat Scen. Pass.'!$C239)","v":0},{"$f":"SUMIFS('4B Calcul. Climat Scen.'!R$314:R$361,'4B Calcul. Climat Scen.'!$C$314:$C$361,'2A Input Climat Scen. Pass.'!$B239,'4B Calcul. Climat Scen.'!$E$314:$E$361,'2A Input Climat Scen. Pass.'!$C239)","v":0}]
[null,{"$f":"Total","v":"Sum"},null,null,null,null,null,null,null,null,null,null,null,null,null,{"$f":"SUM(P196,P203,P210,P213,P216,P223,P228,P233,P236,P238)","v":0},{"$f":"SUM(Q196,Q203,Q210,Q213,Q216,Q223,Q228,Q233,Q236,Q238)","v":0},{"$f":"SUM(R196,R203,R210,R213,R216,R223,R228,R233,R236,R238)","v":0},{"$f":"SUM(S196,S203,S210,S213,S216,S223,S228,S233,S236,S238)","v":0},{"$f":"SUM(T196,T203,T210,T213,T216,T223,T228,T233,T236,T238)","v":0}]
[]
[]
[{"$f":"Improvefuelcons","v":"4) Improve: Adjustment of fuel/energy consumption"}]
[{"$f":"Description","v":"Description"},{"$f":"Descri45","v":"Please adjust the specific fuel consumption (please pay attention to the units) for each vehicle category and date. DO NOT FORGET TO ALSO GIVE FUEL CONSUMPTIONS for the vehicles you DID NOT HAVE in the Inventory or BAU."},null,null,null,null,null,null,null,null,null,null,null,null,null,null,null,null,null,null,null,null,null,null,null,null,null,null,null,null,null,null,null,null,null,null,null,null,null,null,null,0,0]
[null,{"$f":"Descri46","v":"Example: Speed limit of 30 km/h in cities or/and 100 km/h on national highways lead to a lower specific fuel/energy consumption."}]
[null,{"$f":"Category","v":"Category"},null,{"$f":"FuelconsBAU","v":"Specific fuel/energy consumption for BAU scenario "},null,null,null,null,null,{"$f":"Fuelconsclimate","v":"Specific fuel/energy consumption for climate scenario "},null,null,null,null,null,{"$f":"Totalfuelconsclim","v":"TOTAL energy consumption of vehicles climate scenario [TJ]"}]
[null,{"$f":"Subcategory","v":"Subcategory"},{"$f":"Fuel","v":"Fuel type"},2020,2025,2030,2040,2050,null,2020,2025,2030,2040,2050,null,2020,2025,2030,2040,2050]
[null,{"$f":"Pcar","v":"Private car"},null,null,null,null,null,null,null,null,null,null,null,null,null,{"$f":"SUM(P249:P254)","v":0},{"$f":"SUM(Q249:Q254)","v":0},{"$f":"SUM(R249:R254)","v":0},{"$f":"SUM(S249:S254)","v":0},{"$f":"SUM(T249:T254)","v":0}]
[null,"Private car",{"$f":"Gasoline","v":"Gasoline"},{"$f":"SUMIFS('4A Calcul. BAU city'!P$13:P$61,'4A Calcul. BAU city'!$C$13:$C$61,'2A Input Climat Scen. Pass.'!$B249,'4A Calcul. BAU city'!$E$13:$E$61,'2A Input Climat Scen. Pass.'!$C249)","v":0},{"$f":"SUMIFS('4A Calcul. BAU city'!Q$13:Q$61,'4A Calcul. BAU city'!$C$13:$C$61,'2A Input Climat Scen. Pass.'!$B249,'4A Calcul. BAU city'!$E$13:$E$61,'2A Input Climat Scen. Pass.'!$C249)","v":0},{"$f":"SUMIFS('4A Calcul. BAU city'!R$13:R$61,'4A Calcul. BAU city'!$C$13:$C$61,'2A Input Climat Scen. Pass.'!$B249,'4A Calcul. BAU city'!$E$13:$E$61,'2A Input Climat Scen. Pass.'!$C249)","v":0},{"$f":"SUMIFS('4A Calcul. BAU city'!S$13:S$61,'4A Calcul. BAU city'!$C$13:$C$61,'2A Input Climat Scen. Pass.'!$B249,'4A Calcul. BAU city'!$E$13:$E$61,'2A Input Climat Scen. Pass.'!$C249)","v":0},{"$f":"SUMIFS('4A Calcul. BAU city'!T$13:T$61,'4A Calcul. BAU city'!$C$13:$C$61,'2A Input Climat Scen. Pass.'!$B249,'4A Calcul. BAU city'!$E$13:$E$61,'2A Input Climat Scen. Pass.'!$C249)","v":0},null,null,null,null,null,null,null,{"$f":"SUMIFS('4B Calcul. Climat Scen.'!AB$375:AB$424,'4B Calcul. Climat Scen.'!$C$375:$C$424,'2A Input Climat Scen. Pass.'!$B249,'4B Calcul. Climat Scen.'!$E$375:$E$424,'2A Input Climat Scen. Pass.'!$C249)","v":0},{"$f":"SUMIFS('4B Calcul. Climat Scen.'!AC$375:AC$424,'4B Calcul. Climat Scen.'!$C$375:$C$424,'2A Input Climat Scen. Pass.'!$B249,'4B Calcul. Climat Scen.'!$E$375:$E$424,'2A Input Climat Scen. Pass.'!$C249)","v":0},{"$f":"SUMIFS('4B Calcul. Climat Scen.'!AD$375:AD$424,'4B Calcul. Climat Scen.'!$C$375:$C$424,'2A Input Climat Scen. Pass.'!$B249,'4B Calcul. Climat Scen.'!$E$375:$E$424,'2A Input Climat Scen. Pass.'!$C249)","v":0},{"$f":"SUMIFS('4B Calcul. Climat Scen.'!AE$375:AE$424,'4B Calcul. Climat Scen.'!$C$375:$C$424,'2A Input Climat Scen. Pass.'!$B249,'4B Calcul. Climat Scen.'!$E$375:$E$424,'2A Input Climat Scen. Pass.'!$C249)","v":0},{"$f":"SUMIFS('4B Calcul. Climat Scen.'!AF$375:AF$424,'4B Calcul. Climat Scen.'!$C$375:$C$424,'2A Input Climat Scen. Pass.'!$B249,'4B Calcul. Climat Scen.'!$E$375:$E$424,'2A Input Climat Scen. Pass.'!$C249)","v":0}]
[null,"Private car",{"$f":"Diesel","v":"Diesel"},{"$f":"SUMIFS('4A Calcul. BAU city'!P$13:P$61,'4A Calcul. BAU city'!$C$13:$C$61,'2A Input Climat Scen. Pass.'!$B250,'4A Calcul. BAU city'!$E$13:$E$61,'2A Input Climat Scen. Pass.'!$C250)","v":0},{"$f":"SUMIFS('4A Calcul. BAU city'!Q$13:Q$61,'4A Calcul. BAU city'!$C$13:$C$61,'2A Input Climat Scen. Pass.'!$B250,'4A Calcul. BAU city'!$E$13:$E$61,'2A Input Climat Scen. Pass.'!$C250)","v":0},{"$f":"SUMIFS('4A Calcul. BAU city'!R$13:R$61,'4A Calcul. BAU city'!$C$13:$C$61,'2A Input Climat Scen. Pass.'!$B250,'4A Calcul. BAU city'!$E$13:$E$61,'2A Input Climat Scen. Pass.'!$C250)","v":0},{"$f":"SUMIFS('4A Calcul. BAU city'!S$13:S$61,'4A Calcul. BAU city'!$C$13:$C$61,'2A Input Climat Scen. Pass.'!$B250,'4A Calcul. BAU city'!$E$13:$E$61,'2A Input Climat Scen. Pass.'!$C250)","v":0},{"$f":"SUMIFS('4A Calcul. BAU city'!T$13:T$61,'4A Calcul. BAU city'!$C$13:$C$61,'2A Input Climat Scen. Pass.'!$B250,'4A Calcul. BAU city'!$E$13:$E$61,'2A Input Climat Scen. Pass.'!$C250)","v":0},null,null,null,null,null,null,null,{"$f":"SUMIFS('4B Calcul. Climat Scen.'!AB$375:AB$424,'4B Calcul. Climat Scen.'!$C$375:$C$424,'2A Input Climat Scen. Pass.'!$B250,'4B Calcul. Climat Scen.'!$E$375:$E$424,'2A Input Climat Scen. Pass.'!$C250)","v":0},{"$f":"SUMIFS('4B Calcul. Climat Scen.'!AC$375:AC$424,'4B Calcul. Climat Scen.'!$C$375:$C$424,'2A Input Climat Scen. Pass.'!$B250,'4B Calcul. Climat Scen.'!$E$375:$E$424,'2A Input Climat Scen. Pass.'!$C250)","v":0},{"$f":"SUMIFS('4B Calcul. Climat Scen.'!AD$375:AD$424,'4B Calcul. Climat Scen.'!$C$375:$C$424,'2A Input Climat Scen. Pass.'!$B250,'4B Calcul. Climat Scen.'!$E$375:$E$424,'2A Input Climat Scen. Pass.'!$C250)","v":0},{"$f":"SUMIFS('4B Calcul. Climat Scen.'!AE$375:AE$424,'4B Calcul. Climat Scen.'!$C$375:$C$424,'2A Input Climat Scen. Pass.'!$B250,'4B Calcul. Climat Scen.'!$E$375:$E$424,'2A Input Climat Scen. Pass.'!$C250)","v":0},{"$f":"SUMIFS('4B Calcul. Climat Scen.'!AF$375:AF$424,'4B Calcul. Climat Scen.'!$C$375:$C$424,'2A Input Climat Scen. Pass.'!$B250,'4B Calcul. Climat Scen.'!$E$375:$E$424,'2A Input Climat Scen. Pass.'!$C250)","v":0}]
[null,"Private car",{"$f":"LPG","v":"LPG"},{"$f":"SUMIFS('4A Calcul. BAU city'!P$13:P$61,'4A Calcul. BAU city'!$C$13:$C$61,'2A Input Climat Scen. Pass.'!$B251,'4A Calcul. BAU city'!$E$13:$E$61,'2A Input Climat Scen. Pass.'!$C251)","v":0},{"$f":"SUMIFS('4A Calcul. BAU city'!Q$13:Q$61,'4A Calcul. BAU city'!$C$13:$C$61,'2A Input Climat Scen. Pass.'!$B251,'4A Calcul. BAU city'!$E$13:$E$61,'2A Input Climat Scen. Pass.'!$C251)","v":0},{"$f":"SUMIFS('4A Calcul. BAU city'!R$13:R$61,'4A Calcul. BAU city'!$C$13:$C$61,'2A Input Climat Scen. Pass.'!$B251,'4A Calcul. BAU city'!$E$13:$E$61,'2A Input Climat Scen. Pass.'!$C251)","v":0},{"$f":"SUMIFS('4A Calcul. BAU city'!S$13:S$61,'4A Calcul. BAU city'!$C$13:$C$61,'2A Input Climat Scen. Pass.'!$B251,'4A Calcul. BAU city'!$E$13:$E$61,'2A Input Climat Scen. Pass.'!$C251)","v":0},{"$f":"SUMIFS('4A Calcul. BAU city'!T$13:T$61,'4A Calcul. BAU city'!$C$13:$C$61,'2A Input Climat Scen. Pass.'!$B251,'4A Calcul. BAU city'!$E$13:$E$61,'2A Input Climat Scen. Pass.'!$C251)","v":0},null,null,null,null,null,null,null,{"$f":"SUMIFS('4B Calcul. Climat Scen.'!AB$375:AB$424,'4B Calcul. Climat Scen.'!$C$375:$C$424,'2A Input Climat Scen. Pass.'!$B251,'4B Calcul. Climat Scen.'!$E$375:$E$424,'2A Input Climat Scen. Pass.'!$C251)","v":0},{"$f":"SUMIFS('4B Calcul. Climat Scen.'!AC$375:AC$424,'4B Calcul. Climat Scen.'!$C$375:$C$424,'2A Input Climat Scen. Pass.'!$B251,'4B Calcul. Climat Scen.'!$E$375:$E$424,'2A Input Climat Scen. Pass.'!$C251)","v":0},{"$f":"SUMIFS('4B Calcul. Climat Scen.'!AD$375:AD$424,'4B Calcul. Climat Scen.'!$C$375:$C$424,'2A Input Climat Scen. Pass.'!$B251,'4B Calcul. Climat Scen.'!$E$375:$E$424,'2A Input Climat Scen. Pass.'!$C251)","v":0},{"$f":"SUMIFS('4B Calcul. Climat Scen.'!AE$375:AE$424,'4B Calcul. Climat Scen.'!$C$375:$C$424,'2A Input Climat Scen. Pass.'!$B251,'4B Calcul. Climat Scen.'!$E$375:$E$424,'2A Input Climat Scen. Pass.'!$C251)","v":0},{"$f":"SUMIFS('4B Calcul. Climat Scen.'!AF$375:AF$424,'4B Calcul. Climat Scen.'!$C$375:$C$424,'2A Input Climat Scen. Pass.'!$B251,'4B Calcul. Climat Scen.'!$E$375:$E$424,'2A Input Climat Scen. Pass.'!$C251)","v":0}]
[null,"Private car",{"$f":"NG","v":"NG"},{"$f":"SUMIFS('4A Calcul. BAU city'!P$13:P$61,'4A Calcul. BAU city'!$C$13:$C$61,'2A Input Climat Scen. Pass.'!$B252,'4A Calcul. BAU city'!$E$13:$E$61,'2A Input Climat Scen. Pass.'!$C252)","v":0},{"$f":"SUMIFS('4A Calcul. BAU city'!Q$13:Q$61,'4A Calcul. BAU city'!$C$13:$C$61,'2A Input Climat Scen. Pass.'!$B252,'4A Calcul. BAU city'!$E$13:$E$61,'2A Input Climat Scen. Pass.'!$C252)","v":0},{"$f":"SUMIFS('4A Calcul. BAU city'!R$13:R$61,'4A Calcul. BAU city'!$C$13:$C$61,'2A Input Climat Scen. Pass.'!$B252,'4A Calcul. BAU city'!$E$13:$E$61,'2A Input Climat Scen. Pass.'!$C252)","v":0},{"$f":"SUMIFS('4A Calcul. BAU city'!S$13:S$61,'4A Calcul. BAU city'!$C$13:$C$61,'2A Input Climat Scen. Pass.'!$B252,'4A Calcul. BAU city'!$E$13:$E$61,'2A Input Climat Scen. Pass.'!$C252)","v":0},{"$f":"SUMIFS('4A Calcul. BAU city'!T$13:T$61,'4A Calcul. BAU city'!$C$13:$C$61,'2A Input Climat Scen. Pass.'!$B252,'4A Calcul. BAU city'!$E$13:$E$61,'2A Input Climat Scen. Pass.'!$C252)","v":0},null,null,null,null,null,null,null,{"$f":"SUMIFS('4B Calcul. Climat Scen.'!AB$375:AB$424,'4B Calcul. Climat Scen.'!$C$375:$C$424,'2A Input Climat Scen. Pass.'!$B252,'4B Calcul. Climat Scen.'!$E$375:$E$424,'2A Input Climat Scen. Pass.'!$C252)","v":0},{"$f":"SUMIFS('4B Calcul. Climat Scen.'!AC$375:AC$424,'4B Calcul. Climat Scen.'!$C$375:$C$424,'2A Input Climat Scen. Pass.'!$B252,'4B Calcul. Climat Scen.'!$E$375:$E$424,'2A Input Climat Scen. Pass.'!$C252)","v":0},{"$f":"SUMIFS('4B Calcul. Climat Scen.'!AD$375:AD$424,'4B Calcul. Climat Scen.'!$C$375:$C$424,'2A Input Climat Scen. Pass.'!$B252,'4B Calcul. Climat Scen.'!$E$375:$E$424,'2A Input Climat Scen. Pass.'!$C252)","v":0},{"$f":"SUMIFS('4B Calcul. Climat Scen.'!AE$375:AE$424,'4B Calcul. Climat Scen.'!$C$375:$C$424,'2A Input Climat Scen. Pass.'!$B252,'4B Calcul. Climat Scen.'!$E$375:$E$424,'2A Input Climat Scen. Pass.'!$C252)","v":0},{"$f":"SUMIFS('4B Calcul. Climat Scen.'!AF$375:AF$424,'4B Calcul. Climat Scen.'!$C$375:$C$424,'2A Input Climat Scen. Pass.'!$B252,'4B Calcul. Climat Scen.'!$E$375:$E$424,'2A Input Climat Scen. Pass.'!$C252)","v":0}]
[null,"Private car",{"$f":"Hybrid","v":"Hybrid"},{"$f":"SUMIFS('4A Calcul. BAU city'!P$13:P$61,'4A Calcul. BAU city'!$C$13:$C$61,'2A Input Climat Scen. Pass.'!$B253,'4A Calcul. BAU city'!$E$13:$E$61,'2A Input Climat Scen. Pass.'!$C253)","v":0},{"$f":"SUMIFS('4A Calcul. BAU city'!Q$13:Q$61,'4A Calcul. BAU city'!$C$13:$C$61,'2A Input Climat Scen. Pass.'!$B253,'4A Calcul. BAU city'!$E$13:$E$61,'2A Input Climat Scen. Pass.'!$C253)","v":0},{"$f":"SUMIFS('4A Calcul. BAU city'!R$13:R$61,'4A Calcul. BAU city'!$C$13:$C$61,'2A Input Climat Scen. Pass.'!$B253,'4A Calcul. BAU city'!$E$13:$E$61,'2A Input Climat Scen. Pass.'!$C253)","v":0},{"$f":"SUMIFS('4A Calcul. BAU city'!S$13:S$61,'4A Calcul. BAU city'!$C$13:$C$61,'2A Input Climat Scen. Pass.'!$B253,'4A Calcul. BAU city'!$E$13:$E$61,'2A Input Climat Scen. Pass.'!$C253)","v":0},{"$f":"SUMIFS('4A Calcul. BAU city'!T$13:T$61,'4A Calcul. BAU city'!$C$13:$C$61,'2A Input Climat Scen. Pass.'!$B253,'4A Calcul. BAU city'!$E$13:$E$61,'2A Input Climat Scen. Pass.'!$C253)","v":0},null,null,null,null,null,null,null,{"$f":"SUMIFS('4B Calcul. Climat Scen.'!AB$375:AB$424,'4B Calcul. Climat Scen.'!$C$375:$C$424,'2A Input Climat Scen. Pass.'!$B253,'4B Calcul. Climat Scen.'!$E$375:$E$424,'2A Input Climat Scen. Pass.'!$C253)","v":0},{"$f":"SUMIFS('4B Calcul. Climat Scen.'!AC$375:AC$424,'4B Calcul. Climat Scen.'!$C$375:$C$424,'2A Input Climat Scen. Pass.'!$B253,'4B Calcul. Climat Scen.'!$E$375:$E$424,'2A Input Climat Scen. Pass.'!$C253)","v":0},{"$f":"SUMIFS('4B Calcul. Climat Scen.'!AD$375:AD$424,'4B Calcul. Climat Scen.'!$C$375:$C$424,'2A Input Climat Scen. Pass.'!$B253,'4B Calcul. Climat Scen.'!$E$375:$E$424,'2A Input Climat Scen. Pass.'!$C253)","v":0},{"$f":"SUMIFS('4B Calcul. Climat Scen.'!AE$375:AE$424,'4B Calcul. Climat Scen.'!$C$375:$C$424,'2A Input Climat Scen. Pass.'!$B253,'4B Calcul. Climat Scen.'!$E$375:$E$424,'2A Input Climat Scen. Pass.'!$C253)","v":0},{"$f":"SUMIFS('4B Calcul. Climat Scen.'!AF$375:AF$424,'4B Calcul. Climat Scen.'!$C$375:$C$424,'2A Input Climat Scen. Pass.'!$B253,'4B Calcul. Climat Scen.'!$E$375:$E$424,'2A Input Climat Scen. Pass.'!$C253)","v":0}]
[null,"Private car",{"$f":"Electric","v":"Electric"},{"$f":"SUMIFS('4A Calcul. BAU city'!P$13:P$61,'4A Calcul. BAU city'!$C$13:$C$61,'2A Input Climat Scen. Pass.'!$B254,'4A Calcul. BAU city'!$E$13:$E$61,'2A Input Climat Scen. Pass.'!$C254)","v":0},{"$f":"SUMIFS('4A Calcul. BAU city'!Q$13:Q$61,'4A Calcul. BAU city'!$C$13:$C$61,'2A Input Climat Scen. Pass.'!$B254,'4A Calcul. BAU city'!$E$13:$E$61,'2A Input Climat Scen. Pass.'!$C254)","v":0},{"$f":"SUMIFS('4A Calcul. BAU city'!R$13:R$61,'4A Calcul. BAU city'!$C$13:$C$61,'2A Input Climat Scen. Pass.'!$B254,'4A Calcul. BAU city'!$E$13:$E$61,'2A Input Climat Scen. Pass.'!$C254)","v":0},{"$f":"SUMIFS('4A Calcul. BAU city'!S$13:S$61,'4A Calcul. BAU city'!$C$13:$C$61,'2A Input Climat Scen. Pass.'!$B254,'4A Calcul. BAU city'!$E$13:$E$61,'2A Input Climat Scen. Pass.'!$C254)","v":0},{"$f":"SUMIFS('4A Calcul. BAU city'!T$13:T$61,'4A Calcul. BAU city'!$C$13:$C$61,'2A Input Climat Scen. Pass.'!$B254,'4A Calcul. BAU city'!$E$13:$E$61,'2A Input Climat Scen. Pass.'!$C254)","v":0},null,null,null,null,null,null,null,{"$f":"SUMIFS('4B Calcul. Climat Scen.'!AB$375:AB$424,'4B Calcul. Climat Scen.'!$C$375:$C$424,'2A Input Climat Scen. Pass.'!$B254,'4B Calcul. Climat Scen.'!$E$375:$E$424,'2A Input Climat Scen. Pass.'!$C254)","v":0},{"$f":"SUMIFS('4B Calcul. Climat Scen.'!AC$375:AC$424,'4B Calcul. Climat Scen.'!$C$375:$C$424,'2A Input Climat Scen. Pass.'!$B254,'4B Calcul. Climat Scen.'!$E$375:$E$424,'2A Input Climat Scen. Pass.'!$C254)","v":0},{"$f":"SUMIFS('4B Calcul. Climat Scen.'!AD$375:AD$424,'4B Calcul. Climat Scen.'!$C$375:$C$424,'2A Input Climat Scen. Pass.'!$B254,'4B Calcul. Climat Scen.'!$E$375:$E$424,'2A Input Climat Scen. Pass.'!$C254)","v":0},{"$f":"SUMIFS('4B Calcul. Climat Scen.'!AE$375:AE$424,'4B Calcul. Climat Scen.'!$C$375:$C$424,'2A Input Climat Scen. Pass.'!$B254,'4B Calcul. Climat Scen.'!$E$375:$E$424,'2A Input Climat Scen. Pass.'!$C254)","v":0},{"$f":"SUMIFS('4B Calcul. Climat Scen.'!AF$375:AF$424,'4B Calcul. Climat Scen.'!$C$375:$C$424,'2A Input Climat Scen. Pass.'!$B254,'4B Calcul. Climat Scen.'!$E$375:$E$424,'2A Input Climat Scen. Pass.'!$C254)","v":0}]
[null,{"$f":"Itaxi","v":"Individual taxi"},null,null,null,null,null,null,null,null,null,null,null,null,null,{"$f":"SUM(P256:P261)","v":0},{"$f":"SUM(Q256:Q261)","v":0},{"$f":"SUM(R256:R261)","v":0},{"$f":"SUM(S256:S261)","v":0},{"$f":"SUM(T256:T261)","v":0}]
[null,"Individual taxi",{"$f":"Gasoline","v":"Gasoline"},{"$f":"SUMIFS('4A Calcul. BAU city'!P$13:P$61,'4A Calcul. BAU city'!$C$13:$C$61,'2A Input Climat Scen. Pass.'!$B256,'4A Calcul. BAU city'!$E$13:$E$61,'2A Input Climat Scen. Pass.'!$C256)","v":0},{"$f":"SUMIFS('4A Calcul. BAU city'!Q$13:Q$61,'4A Calcul. BAU city'!$C$13:$C$61,'2A Input Climat Scen. Pass.'!$B256,'4A Calcul. BAU city'!$E$13:$E$61,'2A Input Climat Scen. Pass.'!$C256)","v":0},{"$f":"SUMIFS('4A Calcul. BAU city'!R$13:R$61,'4A Calcul. BAU city'!$C$13:$C$61,'2A Input Climat Scen. Pass.'!$B256,'4A Calcul. BAU city'!$E$13:$E$61,'2A Input Climat Scen. Pass.'!$C256)","v":0},{"$f":"SUMIFS('4A Calcul. BAU city'!S$13:S$61,'4A Calcul. BAU city'!$C$13:$C$61,'2A Input Climat Scen. Pass.'!$B256,'4A Calcul. BAU city'!$E$13:$E$61,'2A Input Climat Scen. Pass.'!$C256)","v":0},{"$f":"SUMIFS('4A Calcul. BAU city'!T$13:T$61,'4A Calcul. BAU city'!$C$13:$C$61,'2A Input Climat Scen. Pass.'!$B256,'4A Calcul. BAU city'!$E$13:$E$61,'2A Input Climat Scen. Pass.'!$C256)","v":0},null,null,null,null,null,null,null,{"$f":"SUMIFS('4B Calcul. Climat Scen.'!AB$375:AB$424,'4B Calcul. Climat Scen.'!$C$375:$C$424,'2A Input Climat Scen. Pass.'!$B256,'4B Calcul. Climat Scen.'!$E$375:$E$424,'2A Input Climat Scen. Pass.'!$C256)","v":0},{"$f":"SUMIFS('4B Calcul. Climat Scen.'!AC$375:AC$424,'4B Calcul. Climat Scen.'!$C$375:$C$424,'2A Input Climat Scen. Pass.'!$B256,'4B Calcul. Climat Scen.'!$E$375:$E$424,'2A Input Climat Scen. Pass.'!$C256)","v":0},{"$f":"SUMIFS('4B Calcul. Climat Scen.'!AD$375:AD$424,'4B Calcul. Climat Scen.'!$C$375:$C$424,'2A Input Climat Scen. Pass.'!$B256,'4B Calcul. Climat Scen.'!$E$375:$E$424,'2A Input Climat Scen. Pass.'!$C256)","v":0},{"$f":"SUMIFS('4B Calcul. Climat Scen.'!AE$375:AE$424,'4B Calcul. Climat Scen.'!$C$375:$C$424,'2A Input Climat Scen. Pass.'!$B256,'4B Calcul. Climat Scen.'!$E$375:$E$424,'2A Input Climat Scen. Pass.'!$C256)","v":0},{"$f":"SUMIFS('4B Calcul. Climat Scen.'!AF$375:AF$424,'4B Calcul. Climat Scen.'!$C$375:$C$424,'2A Input Climat Scen. Pass.'!$B256,'4B Calcul. Climat Scen.'!$E$375:$E$424,'2A Input Climat Scen. Pass.'!$C256)","v":0}]
[null,"Individual taxi",{"$f":"Diesel","v":"Diesel"},{"$f":"SUMIFS('4A Calcul. BAU city'!P$13:P$61,'4A Calcul. BAU city'!$C$13:$C$61,'2A Input Climat Scen. Pass.'!$B257,'4A Calcul. BAU city'!$E$13:$E$61,'2A Input Climat Scen. Pass.'!$C257)","v":0},{"$f":"SUMIFS('4A Calcul. BAU city'!Q$13:Q$61,'4A Calcul. BAU city'!$C$13:$C$61,'2A Input Climat Scen. Pass.'!$B257,'4A Calcul. BAU city'!$E$13:$E$61,'2A Input Climat Scen. Pass.'!$C257)","v":0},{"$f":"SUMIFS('4A Calcul. BAU city'!R$13:R$61,'4A Calcul. BAU city'!$C$13:$C$61,'2A Input Climat Scen. Pass.'!$B257,'4A Calcul. BAU city'!$E$13:$E$61,'2A Input Climat Scen. Pass.'!$C257)","v":0},{"$f":"SUMIFS('4A Calcul. BAU city'!S$13:S$61,'4A Calcul. BAU city'!$C$13:$C$61,'2A Input Climat Scen. Pass.'!$B257,'4A Calcul. BAU city'!$E$13:$E$61,'2A Input Climat Scen. Pass.'!$C257)","v":0},{"$f":"SUMIFS('4A Calcul. BAU city'!T$13:T$61,'4A Calcul. BAU city'!$C$13:$C$61,'2A Input Climat Scen. Pass.'!$B257,'4A Calcul. BAU city'!$E$13:$E$61,'2A Input Climat Scen. Pass.'!$C257)","v":0},null,null,null,null,null,null,null,{"$f":"SUMIFS('4B Calcul. Climat Scen.'!AB$375:AB$424,'4B Calcul. Climat Scen.'!$C$375:$C$424,'2A Input Climat Scen. Pass.'!$B257,'4B Calcul. Climat Scen.'!$E$375:$E$424,'2A Input Climat Scen. Pass.'!$C257)","v":0},{"$f":"SUMIFS('4B Calcul. Climat Scen.'!AC$375:AC$424,'4B Calcul. Climat Scen.'!$C$375:$C$424,'2A Input Climat Scen. Pass.'!$B257,'4B Calcul. Climat Scen.'!$E$375:$E$424,'2A Input Climat Scen. Pass.'!$C257)","v":0},{"$f":"SUMIFS('4B Calcul. Climat Scen.'!AD$375:AD$424,'4B Calcul. Climat Scen.'!$C$375:$C$424,'2A Input Climat Scen. Pass.'!$B257,'4B Calcul. Climat Scen.'!$E$375:$E$424,'2A Input Climat Scen. Pass.'!$C257)","v":0},{"$f":"SUMIFS('4B Calcul. Climat Scen.'!AE$375:AE$424,'4B Calcul. Climat Scen.'!$C$375:$C$424,'2A Input Climat Scen. Pass.'!$B257,'4B Calcul. Climat Scen.'!$E$375:$E$424,'2A Input Climat Scen. Pass.'!$C257)","v":0},{"$f":"SUMIFS('4B Calcul. Climat Scen.'!AF$375:AF$424,'4B Calcul. Climat Scen.'!$C$375:$C$424,'2A Input Climat Scen. Pass.'!$B257,'4B Calcul. Climat Scen.'!$E$375:$E$424,'2A Input Climat Scen. Pass.'!$C257)","v":0}]
[null,"Individual taxi",{"$f":"LPG","v":"LPG"},{"$f":"SUMIFS('4A Calcul. BAU city'!P$13:P$61,'4A Calcul. BAU city'!$C$13:$C$61,'2A Input Climat Scen. Pass.'!$B258,'4A Calcul. BAU city'!$E$13:$E$61,'2A Input Climat Scen. Pass.'!$C258)","v":0},{"$f":"SUMIFS('4A Calcul. BAU city'!Q$13:Q$61,'4A Calcul. BAU city'!$C$13:$C$61,'2A Input Climat Scen. Pass.'!$B258,'4A Calcul. BAU city'!$E$13:$E$61,'2A Input Climat Scen. Pass.'!$C258)","v":0},{"$f":"SUMIFS('4A Calcul. BAU city'!R$13:R$61,'4A Calcul. BAU city'!$C$13:$C$61,'2A Input Climat Scen. Pass.'!$B258,'4A Calcul. BAU city'!$E$13:$E$61,'2A Input Climat Scen. Pass.'!$C258)","v":0},{"$f":"SUMIFS('4A Calcul. BAU city'!S$13:S$61,'4A Calcul. BAU city'!$C$13:$C$61,'2A Input Climat Scen. Pass.'!$B258,'4A Calcul. BAU city'!$E$13:$E$61,'2A Input Climat Scen. Pass.'!$C258)","v":0},{"$f":"SUMIFS('4A Calcul. BAU city'!T$13:T$61,'4A Calcul. BAU city'!$C$13:$C$61,'2A Input Climat Scen. Pass.'!$B258,'4A Calcul. BAU city'!$E$13:$E$61,'2A Input Climat Scen. Pass.'!$C258)","v":0},null,null,null,null,null,null,null,{"$f":"SUMIFS('4B Calcul. Climat Scen.'!AB$375:AB$424,'4B Calcul. Climat Scen.'!$C$375:$C$424,'2A Input Climat Scen. Pass.'!$B258,'4B Calcul. Climat Scen.'!$E$375:$E$424,'2A Input Climat Scen. Pass.'!$C258)","v":0},{"$f":"SUMIFS('4B Calcul. Climat Scen.'!AC$375:AC$424,'4B Calcul. Climat Scen.'!$C$375:$C$424,'2A Input Climat Scen. Pass.'!$B258,'4B Calcul. Climat Scen.'!$E$375:$E$424,'2A Input Climat Scen. Pass.'!$C258)","v":0},{"$f":"SUMIFS('4B Calcul. Climat Scen.'!AD$375:AD$424,'4B Calcul. Climat Scen.'!$C$375:$C$424,'2A Input Climat Scen. Pass.'!$B258,'4B Calcul. Climat Scen.'!$E$375:$E$424,'2A Input Climat Scen. Pass.'!$C258)","v":0},{"$f":"SUMIFS('4B Calcul. Climat Scen.'!AE$375:AE$424,'4B Calcul. Climat Scen.'!$C$375:$C$424,'2A Input Climat Scen. Pass.'!$B258,'4B Calcul. Climat Scen.'!$E$375:$E$424,'2A Input Climat Scen. Pass.'!$C258)","v":0},{"$f":"SUMIFS('4B Calcul. Climat Scen.'!AF$375:AF$424,'4B Calcul. Climat Scen.'!$C$375:$C$424,'2A Input Climat Scen. Pass.'!$B258,'4B Calcul. Climat Scen.'!$E$375:$E$424,'2A Input Climat Scen. Pass.'!$C258)","v":0}]
[null,"Individual taxi",{"$f":"NG","v":"NG"},{"$f":"SUMIFS('4A Calcul. BAU city'!P$13:P$61,'4A Calcul. BAU city'!$C$13:$C$61,'2A Input Climat Scen. Pass.'!$B259,'4A Calcul. BAU city'!$E$13:$E$61,'2A Input Climat Scen. Pass.'!$C259)","v":0},{"$f":"SUMIFS('4A Calcul. BAU city'!Q$13:Q$61,'4A Calcul. BAU city'!$C$13:$C$61,'2A Input Climat Scen. Pass.'!$B259,'4A Calcul. BAU city'!$E$13:$E$61,'2A Input Climat Scen. Pass.'!$C259)","v":0},{"$f":"SUMIFS('4A Calcul. BAU city'!R$13:R$61,'4A Calcul. BAU city'!$C$13:$C$61,'2A Input Climat Scen. Pass.'!$B259,'4A Calcul. BAU city'!$E$13:$E$61,'2A Input Climat Scen. Pass.'!$C259)","v":0},{"$f":"SUMIFS('4A Calcul. BAU city'!S$13:S$61,'4A Calcul. BAU city'!$C$13:$C$61,'2A Input Climat Scen. Pass.'!$B259,'4A Calcul. BAU city'!$E$13:$E$61,'2A Input Climat Scen. Pass.'!$C259)","v":0},{"$f":"SUMIFS('4A Calcul. BAU city'!T$13:T$61,'4A Calcul. BAU city'!$C$13:$C$61,'2A Input Climat Scen. Pass.'!$B259,'4A Calcul. BAU city'!$E$13:$E$61,'2A Input Climat Scen. Pass.'!$C259)","v":0},null,null,null,null,null,null,null,{"$f":"SUMIFS('4B Calcul. Climat Scen.'!AB$375:AB$424,'4B Calcul. Climat Scen.'!$C$375:$C$424,'2A Input Climat Scen. Pass.'!$B259,'4B Calcul. Climat Scen.'!$E$375:$E$424,'2A Input Climat Scen. Pass.'!$C259)","v":0},{"$f":"SUMIFS('4B Calcul. Climat Scen.'!AC$375:AC$424,'4B Calcul. Climat Scen.'!$C$375:$C$424,'2A Input Climat Scen. Pass.'!$B259,'4B Calcul. Climat Scen.'!$E$375:$E$424,'2A Input Climat Scen. Pass.'!$C259)","v":0},{"$f":"SUMIFS('4B Calcul. Climat Scen.'!AD$375:AD$424,'4B Calcul. Climat Scen.'!$C$375:$C$424,'2A Input Climat Scen. Pass.'!$B259,'4B Calcul. Climat Scen.'!$E$375:$E$424,'2A Input Climat Scen. Pass.'!$C259)","v":0},{"$f":"SUMIFS('4B Calcul. Climat Scen.'!AE$375:AE$424,'4B Calcul. Climat Scen.'!$C$375:$C$424,'2A Input Climat Scen. Pass.'!$B259,'4B Calcul. Climat Scen.'!$E$375:$E$424,'2A Input Climat Scen. Pass.'!$C259)","v":0},{"$f":"SUMIFS('4B Calcul. Climat Scen.'!AF$375:AF$424,'4B Calcul. Climat Scen.'!$C$375:$C$424,'2A Input Climat Scen. Pass.'!$B259,'4B Calcul. Climat Scen.'!$E$375:$E$424,'2A Input Climat Scen. Pass.'!$C259)","v":0}]
[null,"Individual taxi",{"$f":"Hybrid","v":"Hybrid"},{"$f":"SUMIFS('4A Calcul. BAU city'!P$13:P$61,'4A Calcul. BAU city'!$C$13:$C$61,'2A Input Climat Scen. Pass.'!$B260,'4A Calcul. BAU city'!$E$13:$E$61,'2A Input Climat Scen. Pass.'!$C260)","v":0},{"$f":"SUMIFS('4A Calcul. BAU city'!Q$13:Q$61,'4A Calcul. BAU city'!$C$13:$C$61,'2A Input Climat Scen. Pass.'!$B260,'4A Calcul. BAU city'!$E$13:$E$61,'2A Input Climat Scen. Pass.'!$C260)","v":0},{"$f":"SUMIFS('4A Calcul. BAU city'!R$13:R$61,'4A Calcul. BAU city'!$C$13:$C$61,'2A Input Climat Scen. Pass.'!$B260,'4A Calcul. BAU city'!$E$13:$E$61,'2A Input Climat Scen. Pass.'!$C260)","v":0},{"$f":"SUMIFS('4A Calcul. BAU city'!S$13:S$61,'4A Calcul. BAU city'!$C$13:$C$61,'2A Input Climat Scen. Pass.'!$B260,'4A Calcul. BAU city'!$E$13:$E$61,'2A Input Climat Scen. Pass.'!$C260)","v":0},{"$f":"SUMIFS('4A Calcul. BAU city'!T$13:T$61,'4A Calcul. BAU city'!$C$13:$C$61,'2A Input Climat Scen. Pass.'!$B260,'4A Calcul. BAU city'!$E$13:$E$61,'2A Input Climat Scen. Pass.'!$C260)","v":0},null,null,null,null,null,null,null,{"$f":"SUMIFS('4B Calcul. Climat Scen.'!AB$375:AB$424,'4B Calcul. Climat Scen.'!$C$375:$C$424,'2A Input Climat Scen. Pass.'!$B260,'4B Calcul. Climat Scen.'!$E$375:$E$424,'2A Input Climat Scen. Pass.'!$C260)","v":0},{"$f":"SUMIFS('4B Calcul. Climat Scen.'!AC$375:AC$424,'4B Calcul. Climat Scen.'!$C$375:$C$424,'2A Input Climat Scen. Pass.'!$B260,'4B Calcul. Climat Scen.'!$E$375:$E$424,'2A Input Climat Scen. Pass.'!$C260)","v":0},{"$f":"SUMIFS('4B Calcul. Climat Scen.'!AD$375:AD$424,'4B Calcul. Climat Scen.'!$C$375:$C$424,'2A Input Climat Scen. Pass.'!$B260,'4B Calcul. Climat Scen.'!$E$375:$E$424,'2A Input Climat Scen. Pass.'!$C260)","v":0},{"$f":"SUMIFS('4B Calcul. Climat Scen.'!AE$375:AE$424,'4B Calcul. Climat Scen.'!$C$375:$C$424,'2A Input Climat Scen. Pass.'!$B260,'4B Calcul. Climat Scen.'!$E$375:$E$424,'2A Input Climat Scen. Pass.'!$C260)","v":0},{"$f":"SUMIFS('4B Calcul. Climat Scen.'!AF$375:AF$424,'4B Calcul. Climat Scen.'!$C$375:$C$424,'2A Input Climat Scen. Pass.'!$B260,'4B Calcul. Climat Scen.'!$E$375:$E$424,'2A Input Climat Scen. Pass.'!$C260)","v":0}]
[null,"Individual taxi",{"$f":"Electric","v":"Electric"},{"$f":"SUMIFS('4A Calcul. BAU city'!P$13:P$61,'4A Calcul. BAU city'!$C$13:$C$61,'2A Input Climat Scen. Pass.'!$B261,'4A Calcul. BAU city'!$E$13:$E$61,'2A Input Climat Scen. Pass.'!$C261)","v":0},{"$f":"SUMIFS('4A Calcul. BAU city'!Q$13:Q$61,'4A Calcul. BAU city'!$C$13:$C$61,'2A Input Climat Scen. Pass.'!$B261,'4A Calcul. BAU city'!$E$13:$E$61,'2A Input Climat Scen. Pass.'!$C261)","v":0},{"$f":"SUMIFS('4A Calcul. BAU city'!R$13:R$61,'4A Calcul. BAU city'!$C$13:$C$61,'2A Input Climat Scen. Pass.'!$B261,'4A Calcul. BAU city'!$E$13:$E$61,'2A Input Climat Scen. Pass.'!$C261)","v":0},{"$f":"SUMIFS('4A Calcul. BAU city'!S$13:S$61,'4A Calcul. BAU city'!$C$13:$C$61,'2A Input Climat Scen. Pass.'!$B261,'4A Calcul. BAU city'!$E$13:$E$61,'2A Input Climat Scen. Pass.'!$C261)","v":0},{"$f":"SUMIFS('4A Calcul. BAU city'!T$13:T$61,'4A Calcul. BAU city'!$C$13:$C$61,'2A Input Climat Scen. Pass.'!$B261,'4A Calcul. BAU city'!$E$13:$E$61,'2A Input Climat Scen. Pass.'!$C261)","v":0},null,null,null,null,null,null,null,{"$f":"SUMIFS('4B Calcul. Climat Scen.'!AB$375:AB$424,'4B Calcul. Climat Scen.'!$C$375:$C$424,'2A Input Climat Scen. Pass.'!$B261,'4B Calcul. Climat Scen.'!$E$375:$E$424,'2A Input Climat Scen. Pass.'!$C261)","v":0},{"$f":"SUMIFS('4B Calcul. Climat Scen.'!AC$375:AC$424,'4B Calcul. Climat Scen.'!$C$375:$C$424,'2A Input Climat Scen. Pass.'!$B261,'4B Calcul. Climat Scen.'!$E$375:$E$424,'2A Input Climat Scen. Pass.'!$C261)","v":0},{"$f":"SUMIFS('4B Calcul. Climat Scen.'!AD$375:AD$424,'4B Calcul. Climat Scen.'!$C$375:$C$424,'2A Input Climat Scen. Pass.'!$B261,'4B Calcul. Climat Scen.'!$E$375:$E$424,'2A Input Climat Scen. Pass.'!$C261)","v":0},{"$f":"SUMIFS('4B Calcul. Climat Scen.'!AE$375:AE$424,'4B Calcul. Climat Scen.'!$C$375:$C$424,'2A Input Climat Scen. Pass.'!$B261,'4B Calcul. Climat Scen.'!$E$375:$E$424,'2A Input Climat Scen. Pass.'!$C261)","v":0},{"$f":"SUMIFS('4B Calcul. Climat Scen.'!AF$375:AF$424,'4B Calcul. Climat Scen.'!$C$375:$C$424,'2A Input Climat Scen. Pass.'!$B261,'4B Calcul. Climat Scen.'!$E$375:$E$424,'2A Input Climat Scen. Pass.'!$C261)","v":0}]
[null,{"$f":"Motorcycle","v":"Motorcycle"},null,null,null,null,null,null,null,null,null,null,null,null,null,{"$f":"SUM(P263:P264)","v":0},{"$f":"SUM(Q263:Q264)","v":0},{"$f":"SUM(R263:R264)","v":0},{"$f":"SUM(S263:S264)","v":0},{"$f":"SUM(T263:T264)","v":0}]
[null,{"$f":"Motorcycle","v":"Motorcycle"},{"$f":"Gasoline","v":"Gasoline"},{"$f":"SUMIFS('4A Calcul. BAU city'!P$13:P$61,'4A Calcul. BAU city'!$C$13:$C$61,'2A Input Climat Scen. Pass.'!$B263,'4A Calcul. BAU city'!$E$13:$E$61,'2A Input Climat Scen. Pass.'!$C263)","v":0},{"$f":"SUMIFS('4A Calcul. BAU city'!Q$13:Q$61,'4A Calcul. BAU city'!$C$13:$C$61,'2A Input Climat Scen. Pass.'!$B263,'4A Calcul. BAU city'!$E$13:$E$61,'2A Input Climat Scen. Pass.'!$C263)","v":0},{"$f":"SUMIFS('4A Calcul. BAU city'!R$13:R$61,'4A Calcul. BAU city'!$C$13:$C$61,'2A Input Climat Scen. Pass.'!$B263,'4A Calcul. BAU city'!$E$13:$E$61,'2A Input Climat Scen. Pass.'!$C263)","v":0},{"$f":"SUMIFS('4A Calcul. BAU city'!S$13:S$61,'4A Calcul. BAU city'!$C$13:$C$61,'2A Input Climat Scen. Pass.'!$B263,'4A Calcul. BAU city'!$E$13:$E$61,'2A Input Climat Scen. Pass.'!$C263)","v":0},{"$f":"SUMIFS('4A Calcul. BAU city'!T$13:T$61,'4A Calcul. BAU city'!$C$13:$C$61,'2A Input Climat Scen. Pass.'!$B263,'4A Calcul. BAU city'!$E$13:$E$61,'2A Input Climat Scen. Pass.'!$C263)","v":0},null,null,null,null,null,null,null,{"$f":"SUMIFS('4B Calcul. Climat Scen.'!AB$375:AB$424,'4B Calcul. Climat Scen.'!$C$375:$C$424,'2A Input Climat Scen. Pass.'!$B263,'4B Calcul. Climat Scen.'!$E$375:$E$424,'2A Input Climat Scen. Pass.'!$C263)","v":0},{"$f":"SUMIFS('4B Calcul. Climat Scen.'!AC$375:AC$424,'4B Calcul. Climat Scen.'!$C$375:$C$424,'2A Input Climat Scen. Pass.'!$B263,'4B Calcul. Climat Scen.'!$E$375:$E$424,'2A Input Climat Scen. Pass.'!$C263)","v":0},{"$f":"SUMIFS('4B Calcul. Climat Scen.'!AD$375:AD$424,'4B Calcul. Climat Scen.'!$C$375:$C$424,'2A Input Climat Scen. Pass.'!$B263,'4B Calcul. Climat Scen.'!$E$375:$E$424,'2A Input Climat Scen. Pass.'!$C263)","v":0},{"$f":"SUMIFS('4B Calcul. Climat Scen.'!AE$375:AE$424,'4B Calcul. Climat Scen.'!$C$375:$C$424,'2A Input Climat Scen. Pass.'!$B263,'4B Calcul. Climat Scen.'!$E$375:$E$424,'2A Input Climat Scen. Pass.'!$C263)","v":0},{"$f":"SUMIFS('4B Calcul. Climat Scen.'!AF$375:AF$424,'4B Calcul. Climat Scen.'!$C$375:$C$424,'2A Input Climat Scen. Pass.'!$B263,'4B Calcul. Climat Scen.'!$E$375:$E$424,'2A Input Climat Scen. Pass.'!$C263)","v":0}]
[null,{"$f":"Motorcycle","v":"Motorcycle"},{"$f":"Electric","v":"Electric"},{"$f":"SUMIFS('4A Calcul. BAU city'!P$13:P$61,'4A Calcul. BAU city'!$C$13:$C$61,'2A Input Climat Scen. Pass.'!$B264,'4A Calcul. BAU city'!$E$13:$E$61,'2A Input Climat Scen. Pass.'!$C264)","v":0},{"$f":"SUMIFS('4A Calcul. BAU city'!Q$13:Q$61,'4A Calcul. BAU city'!$C$13:$C$61,'2A Input Climat Scen. Pass.'!$B264,'4A Calcul. BAU city'!$E$13:$E$61,'2A Input Climat Scen. Pass.'!$C264)","v":0},{"$f":"SUMIFS('4A Calcul. BAU city'!R$13:R$61,'4A Calcul. BAU city'!$C$13:$C$61,'2A Input Climat Scen. Pass.'!$B264,'4A Calcul. BAU city'!$E$13:$E$61,'2A Input Climat Scen. Pass.'!$C264)","v":0},{"$f":"SUMIFS('4A Calcul. BAU city'!S$13:S$61,'4A Calcul. BAU city'!$C$13:$C$61,'2A Input Climat Scen. Pass.'!$B264,'4A Calcul. BAU city'!$E$13:$E$61,'2A Input Climat Scen. Pass.'!$C264)","v":0},{"$f":"SUMIFS('4A Calcul. BAU city'!T$13:T$61,'4A Calcul. BAU city'!$C$13:$C$61,'2A Input Climat Scen. Pass.'!$B264,'4A Calcul. BAU city'!$E$13:$E$61,'2A Input Climat Scen. Pass.'!$C264)","v":0},null,null,null,null,null,null,null,{"$f":"SUMIFS('4B Calcul. Climat Scen.'!AB$375:AB$424,'4B Calcul. Climat Scen.'!$C$375:$C$424,'2A Input Climat Scen. Pass.'!$B264,'4B Calcul. Climat Scen.'!$E$375:$E$424,'2A Input Climat Scen. Pass.'!$C264)","v":0},{"$f":"SUMIFS('4B Calcul. Climat Scen.'!AC$375:AC$424,'4B Calcul. Climat Scen.'!$C$375:$C$424,'2A Input Climat Scen. Pass.'!$B264,'4B Calcul. Climat Scen.'!$E$375:$E$424,'2A Input Climat Scen. Pass.'!$C264)","v":0},{"$f":"SUMIFS('4B Calcul. Climat Scen.'!AD$375:AD$424,'4B Calcul. Climat Scen.'!$C$375:$C$424,'2A Input Climat Scen. Pass.'!$B264,'4B Calcul. Climat Scen.'!$E$375:$E$424,'2A Input Climat Scen. Pass.'!$C264)","v":0},{"$f":"SUMIFS('4B Calcul. Climat Scen.'!AE$375:AE$424,'4B Calcul. Climat Scen.'!$C$375:$C$424,'2A Input Climat Scen. Pass.'!$B264,'4B Calcul. Climat Scen.'!$E$375:$E$424,'2A Input Climat Scen. Pass.'!$C264)","v":0},{"$f":"SUMIFS('4B Calcul. Climat Scen.'!AF$375:AF$424,'4B Calcul. Climat Scen.'!$C$375:$C$424,'2A Input Climat Scen. Pass.'!$B264,'4B Calcul. Climat Scen.'!$E$375:$E$424,'2A Input Climat Scen. Pass.'!$C264)","v":0}]
[null,{"$f":"Mototaxi","v":"Motorcycle taxi"},null,null,null,null,null,null,null,null,null,null,null,null,null,{"$f":"SUM(P266:P267)","v":0},{"$f":"SUM(Q266:Q267)","v":0},{"$f":"SUM(R266:R267)","v":0},{"$f":"SUM(S266:S267)","v":0},{"$f":"SUM(T266:T267)","v":0}]
[null,{"$f":"Mototaxi","v":"Motorcycle taxi"},{"$f":"Gasoline","v":"Gasoline"},{"$f":"SUMIFS('4A Calcul. BAU city'!P$13:P$61,'4A Calcul. BAU city'!$C$13:$C$61,'2A Input Climat Scen. Pass.'!$B266,'4A Calcul. BAU city'!$E$13:$E$61,'2A Input Climat Scen. Pass.'!$C266)","v":0},{"$f":"SUMIFS('4A Calcul. BAU city'!Q$13:Q$61,'4A Calcul. BAU city'!$C$13:$C$61,'2A Input Climat Scen. Pass.'!$B266,'4A Calcul. BAU city'!$E$13:$E$61,'2A Input Climat Scen. Pass.'!$C266)","v":0},{"$f":"SUMIFS('4A Calcul. BAU city'!R$13:R$61,'4A Calcul. BAU city'!$C$13:$C$61,'2A Input Climat Scen. Pass.'!$B266,'4A Calcul. BAU city'!$E$13:$E$61,'2A Input Climat Scen. Pass.'!$C266)","v":0},{"$f":"SUMIFS('4A Calcul. BAU city'!S$13:S$61,'4A Calcul. BAU city'!$C$13:$C$61,'2A Input Climat Scen. Pass.'!$B266,'4A Calcul. BAU city'!$E$13:$E$61,'2A Input Climat Scen. Pass.'!$C266)","v":0},{"$f":"SUMIFS('4A Calcul. BAU city'!T$13:T$61,'4A Calcul. BAU city'!$C$13:$C$61,'2A Input Climat Scen. Pass.'!$B266,'4A Calcul. BAU city'!$E$13:$E$61,'2A Input Climat Scen. Pass.'!$C266)","v":0},null,null,null,null,null,null,null,{"$f":"SUMIFS('4B Calcul. Climat Scen.'!AB$375:AB$424,'4B Calcul. Climat Scen.'!$C$375:$C$424,'2A Input Climat Scen. Pass.'!$B266,'4B Calcul. Climat Scen.'!$E$375:$E$424,'2A Input Climat Scen. Pass.'!$C266)","v":0},{"$f":"SUMIFS('4B Calcul. Climat Scen.'!AC$375:AC$424,'4B Calcul. Climat Scen.'!$C$375:$C$424,'2A Input Climat Scen. Pass.'!$B266,'4B Calcul. Climat Scen.'!$E$375:$E$424,'2A Input Climat Scen. Pass.'!$C266)","v":0},{"$f":"SUMIFS('4B Calcul. Climat Scen.'!AD$375:AD$424,'4B Calcul. Climat Scen.'!$C$375:$C$424,'2A Input Climat Scen. Pass.'!$B266,'4B Calcul. Climat Scen.'!$E$375:$E$424,'2A Input Climat Scen. Pass.'!$C266)","v":0},{"$f":"SUMIFS('4B Calcul. Climat Scen.'!AE$375:AE$424,'4B Calcul. Climat Scen.'!$C$375:$C$424,'2A Input Climat Scen. Pass.'!$B266,'4B Calcul. Climat Scen.'!$E$375:$E$424,'2A Input Climat Scen. Pass.'!$C266)","v":0},{"$f":"SUMIFS('4B Calcul. Climat Scen.'!AF$375:AF$424,'4B Calcul. Climat Scen.'!$C$375:$C$424,'2A Input Climat Scen. Pass.'!$B266,'4B Calcul. Climat Scen.'!$E$375:$E$424,'2A Input Climat Scen. Pass.'!$C266)","v":0}]
[null,{"$f":"Mototaxi","v":"Motorcycle taxi"},{"$f":"Electric","v":"Electric"},{"$f":"SUMIFS('4A Calcul. BAU city'!P$13:P$61,'4A Calcul. BAU city'!$C$13:$C$61,'2A Input Climat Scen. Pass.'!$B267,'4A Calcul. BAU city'!$E$13:$E$61,'2A Input Climat Scen. Pass.'!$C267)","v":0},{"$f":"SUMIFS('4A Calcul. BAU city'!Q$13:Q$61,'4A Calcul. BAU city'!$C$13:$C$61,'2A Input Climat Scen. Pass.'!$B267,'4A Calcul. BAU city'!$E$13:$E$61,'2A Input Climat Scen. Pass.'!$C267)","v":0},{"$f":"SUMIFS('4A Calcul. BAU city'!R$13:R$61,'4A Calcul. BAU city'!$C$13:$C$61,'2A Input Climat Scen. Pass.'!$B267,'4A Calcul. BAU city'!$E$13:$E$61,'2A Input Climat Scen. Pass.'!$C267)","v":0},{"$f":"SUMIFS('4A Calcul. BAU city'!S$13:S$61,'4A Calcul. BAU city'!$C$13:$C$61,'2A Input Climat Scen. Pass.'!$B267,'4A Calcul. BAU city'!$E$13:$E$61,'2A Input Climat Scen. Pass.'!$C267)","v":0},{"$f":"SUMIFS('4A Calcul. BAU city'!T$13:T$61,'4A Calcul. BAU city'!$C$13:$C$61,'2A Input Climat Scen. Pass.'!$B267,'4A Calcul. BAU city'!$E$13:$E$61,'2A Input Climat Scen. Pass.'!$C267)","v":0},null,null,null,null,null,null,null,{"$f":"SUMIFS('4B Calcul. Climat Scen.'!AB$375:AB$424,'4B Calcul. Climat Scen.'!$C$375:$C$424,'2A Input Climat Scen. Pass.'!$B267,'4B Calcul. Climat Scen.'!$E$375:$E$424,'2A Input Climat Scen. Pass.'!$C267)","v":0},{"$f":"SUMIFS('4B Calcul. Climat Scen.'!AC$375:AC$424,'4B Calcul. Climat Scen.'!$C$375:$C$424,'2A Input Climat Scen. Pass.'!$B267,'4B Calcul. Climat Scen.'!$E$375:$E$424,'2A Input Climat Scen. Pass.'!$C267)","v":0},{"$f":"SUMIFS('4B Calcul. Climat Scen.'!AD$375:AD$424,'4B Calcul. Climat Scen.'!$C$375:$C$424,'2A Input Climat Scen. Pass.'!$B267,'4B Calcul. Climat Scen.'!$E$375:$E$424,'2A Input Climat Scen. Pass.'!$C267)","v":0},{"$f":"SUMIFS('4B Calcul. Climat Scen.'!AE$375:AE$424,'4B Calcul. Climat Scen.'!$C$375:$C$424,'2A Input Climat Scen. Pass.'!$B267,'4B Calcul. Climat Scen.'!$E$375:$E$424,'2A Input Climat Scen. Pass.'!$C267)","v":0},{"$f":"SUMIFS('4B Calcul. Climat Scen.'!AF$375:AF$424,'4B Calcul. Climat Scen.'!$C$375:$C$424,'2A Input Climat Scen. Pass.'!$B267,'4B Calcul. Climat Scen.'!$E$375:$E$424,'2A Input Climat Scen. Pass.'!$C267)","v":0}]
[null,{"$f":"Minibus","v":"Minibus"},null,null,null,null,null,null,null,null,null,null,null,null,null,{"$f":"SUM(P269:P274)","v":0},{"$f":"SUM(Q269:Q274)","v":0},{"$f":"SUM(R269:R274)","v":0},{"$f":"SUM(S269:S274)","v":0},{"$f":"SUM(T269:T274)","v":0}]
[null,"Minibus",{"$f":"Gasoline","v":"Gasoline"},{"$f":"SUMIFS('4A Calcul. BAU city'!P$13:P$61,'4A Calcul. BAU city'!$C$13:$C$61,'2A Input Climat Scen. Pass.'!$B269,'4A Calcul. BAU city'!$E$13:$E$61,'2A Input Climat Scen. Pass.'!$C269)","v":0},{"$f":"SUMIFS('4A Calcul. BAU city'!Q$13:Q$61,'4A Calcul. BAU city'!$C$13:$C$61,'2A Input Climat Scen. Pass.'!$B269,'4A Calcul. BAU city'!$E$13:$E$61,'2A Input Climat Scen. Pass.'!$C269)","v":0},{"$f":"SUMIFS('4A Calcul. BAU city'!R$13:R$61,'4A Calcul. BAU city'!$C$13:$C$61,'2A Input Climat Scen. Pass.'!$B269,'4A Calcul. BAU city'!$E$13:$E$61,'2A Input Climat Scen. Pass.'!$C269)","v":0},{"$f":"SUMIFS('4A Calcul. BAU city'!S$13:S$61,'4A Calcul. BAU city'!$C$13:$C$61,'2A Input Climat Scen. Pass.'!$B269,'4A Calcul. BAU city'!$E$13:$E$61,'2A Input Climat Scen. Pass.'!$C269)","v":0},{"$f":"SUMIFS('4A Calcul. BAU city'!T$13:T$61,'4A Calcul. BAU city'!$C$13:$C$61,'2A Input Climat Scen. Pass.'!$B269,'4A Calcul. BAU city'!$E$13:$E$61,'2A Input Climat Scen. Pass.'!$C269)","v":0},null,null,null,null,null,null,null,{"$f":"SUMIFS('4B Calcul. Climat Scen.'!AB$375:AB$424,'4B Calcul. Climat Scen.'!$C$375:$C$424,'2A Input Climat Scen. Pass.'!$B269,'4B Calcul. Climat Scen.'!$E$375:$E$424,'2A Input Climat Scen. Pass.'!$C269)","v":0},{"$f":"SUMIFS('4B Calcul. Climat Scen.'!AC$375:AC$424,'4B Calcul. Climat Scen.'!$C$375:$C$424,'2A Input Climat Scen. Pass.'!$B269,'4B Calcul. Climat Scen.'!$E$375:$E$424,'2A Input Climat Scen. Pass.'!$C269)","v":0},{"$f":"SUMIFS('4B Calcul. Climat Scen.'!AD$375:AD$424,'4B Calcul. Climat Scen.'!$C$375:$C$424,'2A Input Climat Scen. Pass.'!$B269,'4B Calcul. Climat Scen.'!$E$375:$E$424,'2A Input Climat Scen. Pass.'!$C269)","v":0},{"$f":"SUMIFS('4B Calcul. Climat Scen.'!AE$375:AE$424,'4B Calcul. Climat Scen.'!$C$375:$C$424,'2A Input Climat Scen. Pass.'!$B269,'4B Calcul. Climat Scen.'!$E$375:$E$424,'2A Input Climat Scen. Pass.'!$C269)","v":0},{"$f":"SUMIFS('4B Calcul. Climat Scen.'!AF$375:AF$424,'4B Calcul. Climat Scen.'!$C$375:$C$424,'2A Input Climat Scen. Pass.'!$B269,'4B Calcul. Climat Scen.'!$E$375:$E$424,'2A Input Climat Scen. Pass.'!$C269)","v":0}]
[null,"Minibus",{"$f":"Diesel","v":"Diesel"},{"$f":"SUMIFS('4A Calcul. BAU city'!P$13:P$61,'4A Calcul. BAU city'!$C$13:$C$61,'2A Input Climat Scen. Pass.'!$B270,'4A Calcul. BAU city'!$E$13:$E$61,'2A Input Climat Scen. Pass.'!$C270)","v":0},{"$f":"SUMIFS('4A Calcul. BAU city'!Q$13:Q$61,'4A Calcul. BAU city'!$C$13:$C$61,'2A Input Climat Scen. Pass.'!$B270,'4A Calcul. BAU city'!$E$13:$E$61,'2A Input Climat Scen. Pass.'!$C270)","v":0},{"$f":"SUMIFS('4A Calcul. BAU city'!R$13:R$61,'4A Calcul. BAU city'!$C$13:$C$61,'2A Input Climat Scen. Pass.'!$B270,'4A Calcul. BAU city'!$E$13:$E$61,'2A Input Climat Scen. Pass.'!$C270)","v":0},{"$f":"SUMIFS('4A Calcul. BAU city'!S$13:S$61,'4A Calcul. BAU city'!$C$13:$C$61,'2A Input Climat Scen. Pass.'!$B270,'4A Calcul. BAU city'!$E$13:$E$61,'2A Input Climat Scen. Pass.'!$C270)","v":0},{"$f":"SUMIFS('4A Calcul. BAU city'!T$13:T$61,'4A Calcul. BAU city'!$C$13:$C$61,'2A Input Climat Scen. Pass.'!$B270,'4A Calcul. BAU city'!$E$13:$E$61,'2A Input Climat Scen. Pass.'!$C270)","v":0},null,null,null,null,null,null,null,{"$f":"SUMIFS('4B Calcul. Climat Scen.'!AB$375:AB$424,'4B Calcul. Climat Scen.'!$C$375:$C$424,'2A Input Climat Scen. Pass.'!$B270,'4B Calcul. Climat Scen.'!$E$375:$E$424,'2A Input Climat Scen. Pass.'!$C270)","v":0},{"$f":"SUMIFS('4B Calcul. Climat Scen.'!AC$375:AC$424,'4B Calcul. Climat Scen.'!$C$375:$C$424,'2A Input Climat Scen. Pass.'!$B270,'4B Calcul. Climat Scen.'!$E$375:$E$424,'2A Input Climat Scen. Pass.'!$C270)","v":0},{"$f":"SUMIFS('4B Calcul. Climat Scen.'!AD$375:AD$424,'4B Calcul. Climat Scen.'!$C$375:$C$424,'2A Input Climat Scen. Pass.'!$B270,'4B Calcul. Climat Scen.'!$E$375:$E$424,'2A Input Climat Scen. Pass.'!$C270)","v":0},{"$f":"SUMIFS('4B Calcul. Climat Scen.'!AE$375:AE$424,'4B Calcul. Climat Scen.'!$C$375:$C$424,'2A Input Climat Scen. Pass.'!$B270,'4B Calcul. Climat Scen.'!$E$375:$E$424,'2A Input Climat Scen. Pass.'!$C270)","v":0},{"$f":"SUMIFS('4B Calcul. Climat Scen.'!AF$375:AF$424,'4B Calcul. Climat Scen.'!$C$375:$C$424,'2A Input Climat Scen. Pass.'!$B270,'4B Calcul. Climat Scen.'!$E$375:$E$424,'2A Input Climat Scen. Pass.'!$C270)","v":0}]
[null,"Minibus",{"$f":"LPG","v":"LPG"},{"$f":"SUMIFS('4A Calcul. BAU city'!P$13:P$61,'4A Calcul. BAU city'!$C$13:$C$61,'2A Input Climat Scen. Pass.'!$B271,'4A Calcul. BAU city'!$E$13:$E$61,'2A Input Climat Scen. Pass.'!$C271)","v":0},{"$f":"SUMIFS('4A Calcul. BAU city'!Q$13:Q$61,'4A Calcul. BAU city'!$C$13:$C$61,'2A Input Climat Scen. Pass.'!$B271,'4A Calcul. BAU city'!$E$13:$E$61,'2A Input Climat Scen. Pass.'!$C271)","v":0},{"$f":"SUMIFS('4A Calcul. BAU city'!R$13:R$61,'4A Calcul. BAU city'!$C$13:$C$61,'2A Input Climat Scen. Pass.'!$B271,'4A Calcul. BAU city'!$E$13:$E$61,'2A Input Climat Scen. Pass.'!$C271)","v":0},{"$f":"SUMIFS('4A Calcul. BAU city'!S$13:S$61,'4A Calcul. BAU city'!$C$13:$C$61,'2A Input Climat Scen. Pass.'!$B271,'4A Calcul. BAU city'!$E$13:$E$61,'2A Input Climat Scen. Pass.'!$C271)","v":0},{"$f":"SUMIFS('4A Calcul. BAU city'!T$13:T$61,'4A Calcul. BAU city'!$C$13:$C$61,'2A Input Climat Scen. Pass.'!$B271,'4A Calcul. BAU city'!$E$13:$E$61,'2A Input Climat Scen. Pass.'!$C271)","v":0},null,null,null,null,null,null,null,{"$f":"SUMIFS('4B Calcul. Climat Scen.'!AB$375:AB$424,'4B Calcul. Climat Scen.'!$C$375:$C$424,'2A Input Climat Scen. Pass.'!$B271,'4B Calcul. Climat Scen.'!$E$375:$E$424,'2A Input Climat Scen. Pass.'!$C271)","v":0},{"$f":"SUMIFS('4B Calcul. Climat Scen.'!AC$375:AC$424,'4B Calcul. Climat Scen.'!$C$375:$C$424,'2A Input Climat Scen. Pass.'!$B271,'4B Calcul. Climat Scen.'!$E$375:$E$424,'2A Input Climat Scen. Pass.'!$C271)","v":0},{"$f":"SUMIFS('4B Calcul. Climat Scen.'!AD$375:AD$424,'4B Calcul. Climat Scen.'!$C$375:$C$424,'2A Input Climat Scen. Pass.'!$B271,'4B Calcul. Climat Scen.'!$E$375:$E$424,'2A Input Climat Scen. Pass.'!$C271)","v":0},{"$f":"SUMIFS('4B Calcul. Climat Scen.'!AE$375:AE$424,'4B Calcul. Climat Scen.'!$C$375:$C$424,'2A Input Climat Scen. Pass.'!$B271,'4B Calcul. Climat Scen.'!$E$375:$E$424,'2A Input Climat Scen. Pass.'!$C271)","v":0},{"$f":"SUMIFS('4B Calcul. Climat Scen.'!AF$375:AF$424,'4B Calcul. Climat Scen.'!$C$375:$C$424,'2A Input Climat Scen. Pass.'!$B271,'4B Calcul. Climat Scen.'!$E$375:$E$424,'2A Input Climat Scen. Pass.'!$C271)","v":0}]
[null,"Minibus",{"$f":"MG","v":"NG"},{"$f":"SUMIFS('4A Calcul. BAU city'!P$13:P$61,'4A Calcul. BAU city'!$C$13:$C$61,'2A Input Climat Scen. Pass.'!$B272,'4A Calcul. BAU city'!$E$13:$E$61,'2A Input Climat Scen. Pass.'!$C272)","v":0},{"$f":"SUMIFS('4A Calcul. BAU city'!Q$13:Q$61,'4A Calcul. BAU city'!$C$13:$C$61,'2A Input Climat Scen. Pass.'!$B272,'4A Calcul. BAU city'!$E$13:$E$61,'2A Input Climat Scen. Pass.'!$C272)","v":0},{"$f":"SUMIFS('4A Calcul. BAU city'!R$13:R$61,'4A Calcul. BAU city'!$C$13:$C$61,'2A Input Climat Scen. Pass.'!$B272,'4A Calcul. BAU city'!$E$13:$E$61,'2A Input Climat Scen. Pass.'!$C272)","v":0},{"$f":"SUMIFS('4A Calcul. BAU city'!S$13:S$61,'4A Calcul. BAU city'!$C$13:$C$61,'2A Input Climat Scen. Pass.'!$B272,'4A Calcul. BAU city'!$E$13:$E$61,'2A Input Climat Scen. Pass.'!$C272)","v":0},{"$f":"SUMIFS('4A Calcul. BAU city'!T$13:T$61,'4A Calcul. BAU city'!$C$13:$C$61,'2A Input Climat Scen. Pass.'!$B272,'4A Calcul. BAU city'!$E$13:$E$61,'2A Input Climat Scen. Pass.'!$C272)","v":0},null,null,null,null,null,null,null,{"$f":"SUMIFS('4B Calcul. Climat Scen.'!AB$375:AB$424,'4B Calcul. Climat Scen.'!$C$375:$C$424,'2A Input Climat Scen. Pass.'!$B272,'4B Calcul. Climat Scen.'!$E$375:$E$424,'2A Input Climat Scen. Pass.'!$C272)","v":0},{"$f":"SUMIFS('4B Calcul. Climat Scen.'!AC$375:AC$424,'4B Calcul. Climat Scen.'!$C$375:$C$424,'2A Input Climat Scen. Pass.'!$B272,'4B Calcul. Climat Scen.'!$E$375:$E$424,'2A Input Climat Scen. Pass.'!$C272)","v":0},{"$f":"SUMIFS('4B Calcul. Climat Scen.'!AD$375:AD$424,'4B Calcul. Climat Scen.'!$C$375:$C$424,'2A Input Climat Scen. Pass.'!$B272,'4B Calcul. Climat Scen.'!$E$375:$E$424,'2A Input Climat Scen. Pass.'!$C272)","v":0},{"$f":"SUMIFS('4B Calcul. Climat Scen.'!AE$375:AE$424,'4B Calcul. Climat Scen.'!$C$375:$C$424,'2A Input Climat Scen. Pass.'!$B272,'4B Calcul. Climat Scen.'!$E$375:$E$424,'2A Input Climat Scen. Pass.'!$C272)","v":0},{"$f":"SUMIFS('4B Calcul. Climat Scen.'!AF$375:AF$424,'4B Calcul. Climat Scen.'!$C$375:$C$424,'2A Input Climat Scen. Pass.'!$B272,'4B Calcul. Climat Scen.'!$E$375:$E$424,'2A Input Climat Scen. Pass.'!$C272)","v":0}]
[null,"Minibus",{"$f":"Hybrid","v":"Hybrid"},{"$f":"SUMIFS('4A Calcul. BAU city'!P$13:P$61,'4A Calcul. BAU city'!$C$13:$C$61,'2A Input Climat Scen. Pass.'!$B273,'4A Calcul. BAU city'!$E$13:$E$61,'2A Input Climat Scen. Pass.'!$C273)","v":0},{"$f":"SUMIFS('4A Calcul. BAU city'!Q$13:Q$61,'4A Calcul. BAU city'!$C$13:$C$61,'2A Input Climat Scen. Pass.'!$B273,'4A Calcul. BAU city'!$E$13:$E$61,'2A Input Climat Scen. Pass.'!$C273)","v":0},{"$f":"SUMIFS('4A Calcul. BAU city'!R$13:R$61,'4A Calcul. BAU city'!$C$13:$C$61,'2A Input Climat Scen. Pass.'!$B273,'4A Calcul. BAU city'!$E$13:$E$61,'2A Input Climat Scen. Pass.'!$C273)","v":0},{"$f":"SUMIFS('4A Calcul. BAU city'!S$13:S$61,'4A Calcul. BAU city'!$C$13:$C$61,'2A Input Climat Scen. Pass.'!$B273,'4A Calcul. BAU city'!$E$13:$E$61,'2A Input Climat Scen. Pass.'!$C273)","v":0},{"$f":"SUMIFS('4A Calcul. BAU city'!T$13:T$61,'4A Calcul. BAU city'!$C$13:$C$61,'2A Input Climat Scen. Pass.'!$B273,'4A Calcul. BAU city'!$E$13:$E$61,'2A Input Climat Scen. Pass.'!$C273)","v":0},null,null,null,null,null,null,null,{"$f":"SUMIFS('4B Calcul. Climat Scen.'!AB$375:AB$424,'4B Calcul. Climat Scen.'!$C$375:$C$424,'2A Input Climat Scen. Pass.'!$B273,'4B Calcul. Climat Scen.'!$E$375:$E$424,'2A Input Climat Scen. Pass.'!$C273)","v":0},{"$f":"SUMIFS('4B Calcul. Climat Scen.'!AC$375:AC$424,'4B Calcul. Climat Scen.'!$C$375:$C$424,'2A Input Climat Scen. Pass.'!$B273,'4B Calcul. Climat Scen.'!$E$375:$E$424,'2A Input Climat Scen. Pass.'!$C273)","v":0},{"$f":"SUMIFS('4B Calcul. Climat Scen.'!AD$375:AD$424,'4B Calcul. Climat Scen.'!$C$375:$C$424,'2A Input Climat Scen. Pass.'!$B273,'4B Calcul. Climat Scen.'!$E$375:$E$424,'2A Input Climat Scen. Pass.'!$C273)","v":0},{"$f":"SUMIFS('4B Calcul. Climat Scen.'!AE$375:AE$424,'4B Calcul. Climat Scen.'!$C$375:$C$424,'2A Input Climat Scen. Pass.'!$B273,'4B Calcul. Climat Scen.'!$E$375:$E$424,'2A Input Climat Scen. Pass.'!$C273)","v":0},{"$f":"SUMIFS('4B Calcul. Climat Scen.'!AF$375:AF$424,'4B Calcul. Climat Scen.'!$C$375:$C$424,'2A Input Climat Scen. Pass.'!$B273,'4B Calcul. Climat Scen.'!$E$375:$E$424,'2A Input Climat Scen. Pass.'!$C273)","v":0}]
[null,"Minibus",{"$f":"Electric","v":"Electric"},{"$f":"SUMIFS('4A Calcul. BAU city'!P$13:P$61,'4A Calcul. BAU city'!$C$13:$C$61,'2A Input Climat Scen. Pass.'!$B274,'4A Calcul. BAU city'!$E$13:$E$61,'2A Input Climat Scen. Pass.'!$C274)","v":0},{"$f":"SUMIFS('4A Calcul. BAU city'!Q$13:Q$61,'4A Calcul. BAU city'!$C$13:$C$61,'2A Input Climat Scen. Pass.'!$B274,'4A Calcul. BAU city'!$E$13:$E$61,'2A Input Climat Scen. Pass.'!$C274)","v":0},{"$f":"SUMIFS('4A Calcul. BAU city'!R$13:R$61,'4A Calcul. BAU city'!$C$13:$C$61,'2A Input Climat Scen. Pass.'!$B274,'4A Calcul. BAU city'!$E$13:$E$61,'2A Input Climat Scen. Pass.'!$C274)","v":0},{"$f":"SUMIFS('4A Calcul. BAU city'!S$13:S$61,'4A Calcul. BAU city'!$C$13:$C$61,'2A Input Climat Scen. Pass.'!$B274,'4A Calcul. BAU city'!$E$13:$E$61,'2A Input Climat Scen. Pass.'!$C274)","v":0},{"$f":"SUMIFS('4A Calcul. BAU city'!T$13:T$61,'4A Calcul. BAU city'!$C$13:$C$61,'2A Input Climat Scen. Pass.'!$B274,'4A Calcul. BAU city'!$E$13:$E$61,'2A Input Climat Scen. Pass.'!$C274)","v":0},null,null,null,null,null,null,null,{"$f":"SUMIFS('4B Calcul. Climat Scen.'!AB$375:AB$424,'4B Calcul. Climat Scen.'!$C$375:$C$424,'2A Input Climat Scen. Pass.'!$B274,'4B Calcul. Climat Scen.'!$E$375:$E$424,'2A Input Climat Scen. Pass.'!$C274)","v":0},{"$f":"SUMIFS('4B Calcul. Climat Scen.'!AC$375:AC$424,'4B Calcul. Climat Scen.'!$C$375:$C$424,'2A Input Climat Scen. Pass.'!$B274,'4B Calcul. Climat Scen.'!$E$375:$E$424,'2A Input Climat Scen. Pass.'!$C274)","v":0},{"$f":"SUMIFS('4B Calcul. Climat Scen.'!AD$375:AD$424,'4B Calcul. Climat Scen.'!$C$375:$C$424,'2A Input Climat Scen. Pass.'!$B274,'4B Calcul. Climat Scen.'!$E$375:$E$424,'2A Input Climat Scen. Pass.'!$C274)","v":0},{"$f":"SUMIFS('4B Calcul. Climat Scen.'!AE$375:AE$424,'4B Calcul. Climat Scen.'!$C$375:$C$424,'2A Input Climat Scen. Pass.'!$B274,'4B Calcul. Climat Scen.'!$E$375:$E$424,'2A Input Climat Scen. Pass.'!$C274)","v":0},{"$f":"SUMIFS('4B Calcul. Climat Scen.'!AF$375:AF$424,'4B Calcul. Climat Scen.'!$C$375:$C$424,'2A Input Climat Scen. Pass.'!$B274,'4B Calcul. Climat Scen.'!$E$375:$E$424,'2A Input Climat Scen. Pass.'!$C274)","v":0}]
[null,{"$f":"Bus","v":"Bus"},null,null,null,null,null,null,null,null,null,null,null,null,null,{"$f":"SUM(P276:P279)","v":0},{"$f":"SUM(Q276:Q279)","v":0},{"$f":"SUM(R276:R279)","v":0},{"$f":"SUM(S276:S279)","v":0},{"$f":"SUM(T276:T279)","v":0}]
[null,{"$f":"Bus","v":"Bus"},{"$f":"Diesel","v":"Diesel"},{"$f":"SUMIFS('4A Calcul. BAU city'!P$13:P$61,'4A Calcul. BAU city'!$C$13:$C$61,'2A Input Climat Scen. Pass.'!$B276,'4A Calcul. BAU city'!$E$13:$E$61,'2A Input Climat Scen. Pass.'!$C276)","v":0},{"$f":"SUMIFS('4A Calcul. BAU city'!Q$13:Q$61,'4A Calcul. BAU city'!$C$13:$C$61,'2A Input Climat Scen. Pass.'!$B276,'4A Calcul. BAU city'!$E$13:$E$61,'2A Input Climat Scen. Pass.'!$C276)","v":0},{"$f":"SUMIFS('4A Calcul. BAU city'!R$13:R$61,'4A Calcul. BAU city'!$C$13:$C$61,'2A Input Climat Scen. Pass.'!$B276,'4A Calcul. BAU city'!$E$13:$E$61,'2A Input Climat Scen. Pass.'!$C276)","v":0},{"$f":"SUMIFS('4A Calcul. BAU city'!S$13:S$61,'4A Calcul. BAU city'!$C$13:$C$61,'2A Input Climat Scen. Pass.'!$B276,'4A Calcul. BAU city'!$E$13:$E$61,'2A Input Climat Scen. Pass.'!$C276)","v":0},{"$f":"SUMIFS('4A Calcul. BAU city'!T$13:T$61,'4A Calcul. BAU city'!$C$13:$C$61,'2A Input Climat Scen. Pass.'!$B276,'4A Calcul. BAU city'!$E$13:$E$61,'2A Input Climat Scen. Pass.'!$C276)","v":0},null,null,null,null,null,null,null,{"$f":"SUMIFS('4B Calcul. Climat Scen.'!AB$375:AB$424,'4B Calcul. Climat Scen.'!$C$375:$C$424,'2A Input Climat Scen. Pass.'!$B276,'4B Calcul. Climat Scen.'!$E$375:$E$424,'2A Input Climat Scen. Pass.'!$C276)","v":0},{"$f":"SUMIFS('4B Calcul. Climat Scen.'!AC$375:AC$424,'4B Calcul. Climat Scen.'!$C$375:$C$424,'2A Input Climat Scen. Pass.'!$B276,'4B Calcul. Climat Scen.'!$E$375:$E$424,'2A Input Climat Scen. Pass.'!$C276)","v":0},{"$f":"SUMIFS('4B Calcul. Climat Scen.'!AD$375:AD$424,'4B Calcul. Climat Scen.'!$C$375:$C$424,'2A Input Climat Scen. Pass.'!$B276,'4B Calcul. Climat Scen.'!$E$375:$E$424,'2A Input Climat Scen. Pass.'!$C276)","v":0},{"$f":"SUMIFS('4B Calcul. Climat Scen.'!AE$375:AE$424,'4B Calcul. Climat Scen.'!$C$375:$C$424,'2A Input Climat Scen. Pass.'!$B276,'4B Calcul. Climat Scen.'!$E$375:$E$424,'2A Input Climat Scen. Pass.'!$C276)","v":0},{"$f":"SUMIFS('4B Calcul. Climat Scen.'!AF$375:AF$424,'4B Calcul. Climat Scen.'!$C$375:$C$424,'2A Input Climat Scen. Pass.'!$B276,'4B Calcul. Climat Scen.'!$E$375:$E$424,'2A Input Climat Scen. Pass.'!$C276)","v":0}]
[null,{"$f":"Bus","v":"Bus"},{"$f":"NG","v":"NG"},{"$f":"SUMIFS('4A Calcul. BAU city'!P$13:P$61,'4A Calcul. BAU city'!$C$13:$C$61,'2A Input Climat Scen. Pass.'!$B277,'4A Calcul. BAU city'!$E$13:$E$61,'2A Input Climat Scen. Pass.'!$C277)","v":0},{"$f":"SUMIFS('4A Calcul. BAU city'!Q$13:Q$61,'4A Calcul. BAU city'!$C$13:$C$61,'2A Input Climat Scen. Pass.'!$B277,'4A Calcul. BAU city'!$E$13:$E$61,'2A Input Climat Scen. Pass.'!$C277)","v":0},{"$f":"SUMIFS('4A Calcul. BAU city'!R$13:R$61,'4A Calcul. BAU city'!$C$13:$C$61,'2A Input Climat Scen. Pass.'!$B277,'4A Calcul. BAU city'!$E$13:$E$61,'2A Input Climat Scen. Pass.'!$C277)","v":0},{"$f":"SUMIFS('4A Calcul. BAU city'!S$13:S$61,'4A Calcul. BAU city'!$C$13:$C$61,'2A Input Climat Scen. Pass.'!$B277,'4A Calcul. BAU city'!$E$13:$E$61,'2A Input Climat Scen. Pass.'!$C277)","v":0},{"$f":"SUMIFS('4A Calcul. BAU city'!T$13:T$61,'4A Calcul. BAU city'!$C$13:$C$61,'2A Input Climat Scen. Pass.'!$B277,'4A Calcul. BAU city'!$E$13:$E$61,'2A Input Climat Scen. Pass.'!$C277)","v":0},null,null,null,null,null,null,null,{"$f":"SUMIFS('4B Calcul. Climat Scen.'!AB$375:AB$424,'4B Calcul. Climat Scen.'!$C$375:$C$424,'2A Input Climat Scen. Pass.'!$B277,'4B Calcul. Climat Scen.'!$E$375:$E$424,'2A Input Climat Scen. Pass.'!$C277)","v":0},{"$f":"SUMIFS('4B Calcul. Climat Scen.'!AC$375:AC$424,'4B Calcul. Climat Scen.'!$C$375:$C$424,'2A Input Climat Scen. Pass.'!$B277,'4B Calcul. Climat Scen.'!$E$375:$E$424,'2A Input Climat Scen. Pass.'!$C277)","v":0},{"$f":"SUMIFS('4B Calcul. Climat Scen.'!AD$375:AD$424,'4B Calcul. Climat Scen.'!$C$375:$C$424,'2A Input Climat Scen. Pass.'!$B277,'4B Calcul. Climat Scen.'!$E$375:$E$424,'2A Input Climat Scen. Pass.'!$C277)","v":0},{"$f":"SUMIFS('4B Calcul. Climat Scen.'!AE$375:AE$424,'4B Calcul. Climat Scen.'!$C$375:$C$424,'2A Input Climat Scen. Pass.'!$B277,'4B Calcul. Climat Scen.'!$E$375:$E$424,'2A Input Climat Scen. Pass.'!$C277)","v":0},{"$f":"SUMIFS('4B Calcul. Climat Scen.'!AF$375:AF$424,'4B Calcul. Climat Scen.'!$C$375:$C$424,'2A Input Climat Scen. Pass.'!$B277,'4B Calcul. Climat Scen.'!$E$375:$E$424,'2A Input Climat Scen. Pass.'!$C277)","v":0}]
[null,{"$f":"Bus","v":"Bus"},{"$f":"Hybrid","v":"Hybrid"},{"$f":"SUMIFS('4A Calcul. BAU city'!P$13:P$61,'4A Calcul. BAU city'!$C$13:$C$61,'2A Input Climat Scen. Pass.'!$B278,'4A Calcul. BAU city'!$E$13:$E$61,'2A Input Climat Scen. Pass.'!$C278)","v":0},{"$f":"SUMIFS('4A Calcul. BAU city'!Q$13:Q$61,'4A Calcul. BAU city'!$C$13:$C$61,'2A Input Climat Scen. Pass.'!$B278,'4A Calcul. BAU city'!$E$13:$E$61,'2A Input Climat Scen. Pass.'!$C278)","v":0},{"$f":"SUMIFS('4A Calcul. BAU city'!R$13:R$61,'4A Calcul. BAU city'!$C$13:$C$61,'2A Input Climat Scen. Pass.'!$B278,'4A Calcul. BAU city'!$E$13:$E$61,'2A Input Climat Scen. Pass.'!$C278)","v":0},{"$f":"SUMIFS('4A Calcul. BAU city'!S$13:S$61,'4A Calcul. BAU city'!$C$13:$C$61,'2A Input Climat Scen. Pass.'!$B278,'4A Calcul. BAU city'!$E$13:$E$61,'2A Input Climat Scen. Pass.'!$C278)","v":0},{"$f":"SUMIFS('4A Calcul. BAU city'!T$13:T$61,'4A Calcul. BAU city'!$C$13:$C$61,'2A Input Climat Scen. Pass.'!$B278,'4A Calcul. BAU city'!$E$13:$E$61,'2A Input Climat Scen. Pass.'!$C278)","v":0},null,null,null,null,null,null,null,{"$f":"SUMIFS('4B Calcul. Climat Scen.'!AB$375:AB$424,'4B Calcul. Climat Scen.'!$C$375:$C$424,'2A Input Climat Scen. Pass.'!$B278,'4B Calcul. Climat Scen.'!$E$375:$E$424,'2A Input Climat Scen. Pass.'!$C278)","v":0},{"$f":"SUMIFS('4B Calcul. Climat Scen.'!AC$375:AC$424,'4B Calcul. Climat Scen.'!$C$375:$C$424,'2A Input Climat Scen. Pass.'!$B278,'4B Calcul. Climat Scen.'!$E$375:$E$424,'2A Input Climat Scen. Pass.'!$C278)","v":0},{"$f":"SUMIFS('4B Calcul. Climat Scen.'!AD$375:AD$424,'4B Calcul. Climat Scen.'!$C$375:$C$424,'2A Input Climat Scen. Pass.'!$B278,'4B Calcul. Climat Scen.'!$E$375:$E$424,'2A Input Climat Scen. Pass.'!$C278)","v":0},{"$f":"SUMIFS('4B Calcul. Climat Scen.'!AE$375:AE$424,'4B Calcul. Climat Scen.'!$C$375:$C$424,'2A Input Climat Scen. Pass.'!$B278,'4B Calcul. Climat Scen.'!$E$375:$E$424,'2A Input Climat Scen. Pass.'!$C278)","v":0},{"$f":"SUMIFS('4B Calcul. Climat Scen.'!AF$375:AF$424,'4B Calcul. Climat Scen.'!$C$375:$C$424,'2A Input Climat Scen. Pass.'!$B278,'4B Calcul. Climat Scen.'!$E$375:$E$424,'2A Input Climat Scen. Pass.'!$C278)","v":0}]
[null,{"$f":"Bus","v":"Bus"},{"$f":"Electric","v":"Electric"},{"$f":"SUMIFS('4A Calcul. BAU city'!P$13:P$61,'4A Calcul. BAU city'!$C$13:$C$61,'2A Input Climat Scen. Pass.'!$B279,'4A Calcul. BAU city'!$E$13:$E$61,'2A Input Climat Scen. Pass.'!$C279)","v":0},{"$f":"SUMIFS('4A Calcul. BAU city'!Q$13:Q$61,'4A Calcul. BAU city'!$C$13:$C$61,'2A Input Climat Scen. Pass.'!$B279,'4A Calcul. BAU city'!$E$13:$E$61,'2A Input Climat Scen. Pass.'!$C279)","v":0},{"$f":"SUMIFS('4A Calcul. BAU city'!R$13:R$61,'4A Calcul. BAU city'!$C$13:$C$61,'2A Input Climat Scen. Pass.'!$B279,'4A Calcul. BAU city'!$E$13:$E$61,'2A Input Climat Scen. Pass.'!$C279)","v":0},{"$f":"SUMIFS('4A Calcul. BAU city'!S$13:S$61,'4A Calcul. BAU city'!$C$13:$C$61,'2A Input Climat Scen. Pass.'!$B279,'4A Calcul. BAU city'!$E$13:$E$61,'2A Input Climat Scen. Pass.'!$C279)","v":0},{"$f":"SUMIFS('4A Calcul. BAU city'!T$13:T$61,'4A Calcul. BAU city'!$C$13:$C$61,'2A Input Climat Scen. Pass.'!$B279,'4A Calcul. BAU city'!$E$13:$E$61,'2A Input Climat Scen. Pass.'!$C279)","v":0},null,null,null,null,null,null,null,{"$f":"SUMIFS('4B Calcul. Climat Scen.'!AB$375:AB$424,'4B Calcul. Climat Scen.'!$C$375:$C$424,'2A Input Climat Scen. Pass.'!$B279,'4B Calcul. Climat Scen.'!$E$375:$E$424,'2A Input Climat Scen. Pass.'!$C279)","v":0},{"$f":"SUMIFS('4B Calcul. Climat Scen.'!AC$375:AC$424,'4B Calcul. Climat Scen.'!$C$375:$C$424,'2A Input Climat Scen. Pass.'!$B279,'4B Calcul. Climat Scen.'!$E$375:$E$424,'2A Input Climat Scen. Pass.'!$C279)","v":0},{"$f":"SUMIFS('4B Calcul. Climat Scen.'!AD$375:AD$424,'4B Calcul. Climat Scen.'!$C$375:$C$424,'2A Input Climat Scen. Pass.'!$B279,'4B Calcul. Climat Scen.'!$E$375:$E$424,'2A Input Climat Scen. Pass.'!$C279)","v":0},{"$f":"SUMIFS('4B Calcul. Climat Scen.'!AE$375:AE$424,'4B Calcul. Climat Scen.'!$C$375:$C$424,'2A Input Climat Scen. Pass.'!$B279,'4B Calcul. Climat Scen.'!$E$375:$E$424,'2A Input Climat Scen. Pass.'!$C279)","v":0},{"$f":"SUMIFS('4B Calcul. Climat Scen.'!AF$375:AF$424,'4B Calcul. Climat Scen.'!$C$375:$C$424,'2A Input Climat Scen. Pass.'!$B279,'4B Calcul. Climat Scen.'!$E$375:$E$424,'2A Input Climat Scen. Pass.'!$C279)","v":0}]
[null,{"$f":"BRT","v":"BRT"},null,null,null,null,null,null,null,null,null,null,null,null,null,{"$f":"SUM(P281:P284)","v":0},{"$f":"SUM(Q281:Q284)","v":0},{"$f":"SUM(R281:R284)","v":0},{"$f":"SUM(S281:S284)","v":0},{"$f":"SUM(T281:T284)","v":0}]
[null,{"$f":"BRT","v":"BRT"},{"$f":"Diesel","v":"Diesel"},{"$f":"SUMIFS('4A Calcul. BAU city'!P$13:P$61,'4A Calcul. BAU city'!$C$13:$C$61,'2A Input Climat Scen. Pass.'!$B281,'4A Calcul. BAU city'!$E$13:$E$61,'2A Input Climat Scen. Pass.'!$C281)","v":0},{"$f":"SUMIFS('4A Calcul. BAU city'!Q$13:Q$61,'4A Calcul. BAU city'!$C$13:$C$61,'2A Input Climat Scen. Pass.'!$B281,'4A Calcul. BAU city'!$E$13:$E$61,'2A Input Climat Scen. Pass.'!$C281)","v":0},{"$f":"SUMIFS('4A Calcul. BAU city'!R$13:R$61,'4A Calcul. BAU city'!$C$13:$C$61,'2A Input Climat Scen. Pass.'!$B281,'4A Calcul. BAU city'!$E$13:$E$61,'2A Input Climat Scen. Pass.'!$C281)","v":0},{"$f":"SUMIFS('4A Calcul. BAU city'!S$13:S$61,'4A Calcul. BAU city'!$C$13:$C$61,'2A Input Climat Scen. Pass.'!$B281,'4A Calcul. BAU city'!$E$13:$E$61,'2A Input Climat Scen. Pass.'!$C281)","v":0},{"$f":"SUMIFS('4A Calcul. BAU city'!T$13:T$61,'4A Calcul. BAU city'!$C$13:$C$61,'2A Input Climat Scen. Pass.'!$B281,'4A Calcul. BAU city'!$E$13:$E$61,'2A Input Climat Scen. Pass.'!$C281)","v":0},null,null,null,null,null,null,null,{"$f":"SUMIFS('4B Calcul. Climat Scen.'!AB$375:AB$424,'4B Calcul. Climat Scen.'!$C$375:$C$424,'2A Input Climat Scen. Pass.'!$B281,'4B Calcul. Climat Scen.'!$E$375:$E$424,'2A Input Climat Scen. Pass.'!$C281)","v":0},{"$f":"SUMIFS('4B Calcul. Climat Scen.'!AC$375:AC$424,'4B Calcul. Climat Scen.'!$C$375:$C$424,'2A Input Climat Scen. Pass.'!$B281,'4B Calcul. Climat Scen.'!$E$375:$E$424,'2A Input Climat Scen. Pass.'!$C281)","v":0},{"$f":"SUMIFS('4B Calcul. Climat Scen.'!AD$375:AD$424,'4B Calcul. Climat Scen.'!$C$375:$C$424,'2A Input Climat Scen. Pass.'!$B281,'4B Calcul. Climat Scen.'!$E$375:$E$424,'2A Input Climat Scen. Pass.'!$C281)","v":0},{"$f":"SUMIFS('4B Calcul. Climat Scen.'!AE$375:AE$424,'4B Calcul. Climat Scen.'!$C$375:$C$424,'2A Input Climat Scen. Pass.'!$B281,'4B Calcul. Climat Scen.'!$E$375:$E$424,'2A Input Climat Scen. Pass.'!$C281)","v":0},{"$f":"SUMIFS('4B Calcul. Climat Scen.'!AF$375:AF$424,'4B Calcul. Climat Scen.'!$C$375:$C$424,'2A Input Climat Scen. Pass.'!$B281,'4B Calcul. Climat Scen.'!$E$375:$E$424,'2A Input Climat Scen. Pass.'!$C281)","v":0}]
[null,{"$f":"BRT","v":"BRT"},{"$f":"NG","v":"NG"},{"$f":"SUMIFS('4A Calcul. BAU city'!P$13:P$61,'4A Calcul. BAU city'!$C$13:$C$61,'2A Input Climat Scen. Pass.'!$B282,'4A Calcul. BAU city'!$E$13:$E$61,'2A Input Climat Scen. Pass.'!$C282)","v":0},{"$f":"SUMIFS('4A Calcul. BAU city'!Q$13:Q$61,'4A Calcul. BAU city'!$C$13:$C$61,'2A Input Climat Scen. Pass.'!$B282,'4A Calcul. BAU city'!$E$13:$E$61,'2A Input Climat Scen. Pass.'!$C282)","v":0},{"$f":"SUMIFS('4A Calcul. BAU city'!R$13:R$61,'4A Calcul. BAU city'!$C$13:$C$61,'2A Input Climat Scen. Pass.'!$B282,'4A Calcul. BAU city'!$E$13:$E$61,'2A Input Climat Scen. Pass.'!$C282)","v":0},{"$f":"SUMIFS('4A Calcul. BAU city'!S$13:S$61,'4A Calcul. BAU city'!$C$13:$C$61,'2A Input Climat Scen. Pass.'!$B282,'4A Calcul. BAU city'!$E$13:$E$61,'2A Input Climat Scen. Pass.'!$C282)","v":0},{"$f":"SUMIFS('4A Calcul. BAU city'!T$13:T$61,'4A Calcul. BAU city'!$C$13:$C$61,'2A Input Climat Scen. Pass.'!$B282,'4A Calcul. BAU city'!$E$13:$E$61,'2A Input Climat Scen. Pass.'!$C282)","v":0},null,null,null,null,null,null,null,{"$f":"SUMIFS('4B Calcul. Climat Scen.'!AB$375:AB$424,'4B Calcul. Climat Scen.'!$C$375:$C$424,'2A Input Climat Scen. Pass.'!$B282,'4B Calcul. Climat Scen.'!$E$375:$E$424,'2A Input Climat Scen. Pass.'!$C282)","v":0},{"$f":"SUMIFS('4B Calcul. Climat Scen.'!AC$375:AC$424,'4B Calcul. Climat Scen.'!$C$375:$C$424,'2A Input Climat Scen. Pass.'!$B282,'4B Calcul. Climat Scen.'!$E$375:$E$424,'2A Input Climat Scen. Pass.'!$C282)","v":0},{"$f":"SUMIFS('4B Calcul. Climat Scen.'!AD$375:AD$424,'4B Calcul. Climat Scen.'!$C$375:$C$424,'2A Input Climat Scen. Pass.'!$B282,'4B Calcul. Climat Scen.'!$E$375:$E$424,'2A Input Climat Scen. Pass.'!$C282)","v":0},{"$f":"SUMIFS('4B Calcul. Climat Scen.'!AE$375:AE$424,'4B Calcul. Climat Scen.'!$C$375:$C$424,'2A Input Climat Scen. Pass.'!$B282,'4B Calcul. Climat Scen.'!$E$375:$E$424,'2A Input Climat Scen. Pass.'!$C282)","v":0},{"$f":"SUMIFS('4B Calcul. Climat Scen.'!AF$375:AF$424,'4B Calcul. Climat Scen.'!$C$375:$C$424,'2A Input Climat Scen. Pass.'!$B282,'4B Calcul. Climat Scen.'!$E$375:$E$424,'2A Input Climat Scen. Pass.'!$C282)","v":0}]
[null,{"$f":"BRT","v":"BRT"},{"$f":"Hybrid","v":"Hybrid"},{"$f":"SUMIFS('4A Calcul. BAU city'!P$13:P$61,'4A Calcul. BAU city'!$C$13:$C$61,'2A Input Climat Scen. Pass.'!$B283,'4A Calcul. BAU city'!$E$13:$E$61,'2A Input Climat Scen. Pass.'!$C283)","v":0},{"$f":"SUMIFS('4A Calcul. BAU city'!Q$13:Q$61,'4A Calcul. BAU city'!$C$13:$C$61,'2A Input Climat Scen. Pass.'!$B283,'4A Calcul. BAU city'!$E$13:$E$61,'2A Input Climat Scen. Pass.'!$C283)","v":0},{"$f":"SUMIFS('4A Calcul. BAU city'!R$13:R$61,'4A Calcul. BAU city'!$C$13:$C$61,'2A Input Climat Scen. Pass.'!$B283,'4A Calcul. BAU city'!$E$13:$E$61,'2A Input Climat Scen. Pass.'!$C283)","v":0},{"$f":"SUMIFS('4A Calcul. BAU city'!S$13:S$61,'4A Calcul. BAU city'!$C$13:$C$61,'2A Input Climat Scen. Pass.'!$B283,'4A Calcul. BAU city'!$E$13:$E$61,'2A Input Climat Scen. Pass.'!$C283)","v":0},{"$f":"SUMIFS('4A Calcul. BAU city'!T$13:T$61,'4A Calcul. BAU city'!$C$13:$C$61,'2A Input Climat Scen. Pass.'!$B283,'4A Calcul. BAU city'!$E$13:$E$61,'2A Input Climat Scen. Pass.'!$C283)","v":0},null,null,null,null,null,null,null,{"$f":"SUMIFS('4B Calcul. Climat Scen.'!AB$375:AB$424,'4B Calcul. Climat Scen.'!$C$375:$C$424,'2A Input Climat Scen. Pass.'!$B283,'4B Calcul. Climat Scen.'!$E$375:$E$424,'2A Input Climat Scen. Pass.'!$C283)","v":0},{"$f":"SUMIFS('4B Calcul. Climat Scen.'!AC$375:AC$424,'4B Calcul. Climat Scen.'!$C$375:$C$424,'2A Input Climat Scen. Pass.'!$B283,'4B Calcul. Climat Scen.'!$E$375:$E$424,'2A Input Climat Scen. Pass.'!$C283)","v":0},{"$f":"SUMIFS('4B Calcul. Climat Scen.'!AD$375:AD$424,'4B Calcul. Climat Scen.'!$C$375:$C$424,'2A Input Climat Scen. Pass.'!$B283,'4B Calcul. Climat Scen.'!$E$375:$E$424,'2A Input Climat Scen. Pass.'!$C283)","v":0},{"$f":"SUMIFS('4B Calcul. Climat Scen.'!AE$375:AE$424,'4B Calcul. Climat Scen.'!$C$375:$C$424,'2A Input Climat Scen. Pass.'!$B283,'4B Calcul. Climat Scen.'!$E$375:$E$424,'2A Input Climat Scen. Pass.'!$C283)","v":0},{"$f":"SUMIFS('4B Calcul. Climat Scen.'!AF$375:AF$424,'4B Calcul. Climat Scen.'!$C$375:$C$424,'2A Input Climat Scen. Pass.'!$B283,'4B Calcul. Climat Scen.'!$E$375:$E$424,'2A Input Climat Scen. Pass.'!$C283)","v":0}]
[null,{"$f":"BRT","v":"BRT"},{"$f":"Electric","v":"Electric"},{"$f":"SUMIFS('4A Calcul. BAU city'!P$13:P$61,'4A Calcul. BAU city'!$C$13:$C$61,'2A Input Climat Scen. Pass.'!$B284,'4A Calcul. BAU city'!$E$13:$E$61,'2A Input Climat Scen. Pass.'!$C284)","v":0},{"$f":"SUMIFS('4A Calcul. BAU city'!Q$13:Q$61,'4A Calcul. BAU city'!$C$13:$C$61,'2A Input Climat Scen. Pass.'!$B284,'4A Calcul. BAU city'!$E$13:$E$61,'2A Input Climat Scen. Pass.'!$C284)","v":0},{"$f":"SUMIFS('4A Calcul. BAU city'!R$13:R$61,'4A Calcul. BAU city'!$C$13:$C$61,'2A Input Climat Scen. Pass.'!$B284,'4A Calcul. BAU city'!$E$13:$E$61,'2A Input Climat Scen. Pass.'!$C284)","v":0},{"$f":"SUMIFS('4A Calcul. BAU city'!S$13:S$61,'4A Calcul. BAU city'!$C$13:$C$61,'2A Input Climat Scen. Pass.'!$B284,'4A Calcul. BAU city'!$E$13:$E$61,'2A Input Climat Scen. Pass.'!$C284)","v":0},{"$f":"SUMIFS('4A Calcul. BAU city'!T$13:T$61,'4A Calcul. BAU city'!$C$13:$C$61,'2A Input Climat Scen. Pass.'!$B284,'4A Calcul. BAU city'!$E$13:$E$61,'2A Input Climat Scen. Pass.'!$C284)","v":0},null,null,null,null,null,null,null,{"$f":"SUMIFS('4B Calcul. Climat Scen.'!AB$375:AB$424,'4B Calcul. Climat Scen.'!$C$375:$C$424,'2A Input Climat Scen. Pass.'!$B284,'4B Calcul. Climat Scen.'!$E$375:$E$424,'2A Input Climat Scen. Pass.'!$C284)","v":0},{"$f":"SUMIFS('4B Calcul. Climat Scen.'!AC$375:AC$424,'4B Calcul. Climat Scen.'!$C$375:$C$424,'2A Input Climat Scen. Pass.'!$B284,'4B Calcul. Climat Scen.'!$E$375:$E$424,'2A Input Climat Scen. Pass.'!$C284)","v":0},{"$f":"SUMIFS('4B Calcul. Climat Scen.'!AD$375:AD$424,'4B Calcul. Climat Scen.'!$C$375:$C$424,'2A Input Climat Scen. Pass.'!$B284,'4B Calcul. Climat Scen.'!$E$375:$E$424,'2A Input Climat Scen. Pass.'!$C284)","v":0},{"$f":"SUMIFS('4B Calcul. Climat Scen.'!AE$375:AE$424,'4B Calcul. Climat Scen.'!$C$375:$C$424,'2A Input Climat Scen. Pass.'!$B284,'4B Calcul. Climat Scen.'!$E$375:$E$424,'2A Input Climat Scen. Pass.'!$C284)","v":0},{"$f":"SUMIFS('4B Calcul. Climat Scen.'!AF$375:AF$424,'4B Calcul. Climat Scen.'!$C$375:$C$424,'2A Input Climat Scen. Pass.'!$B284,'4B Calcul. Climat Scen.'!$E$375:$E$424,'2A Input Climat Scen. Pass.'!$C284)","v":0}]
[null,{"$f":"Train","v":"Long distance train"},null,null,null,null,null,null,null,null,null,null,null,null,null,{"$f":"SUM(P286:P287)","v":0},{"$f":"SUM(Q286:Q287)","v":0},{"$f":"SUM(R286:R287)","v":0},{"$f":"SUM(S286:S287)","v":0},{"$f":"SUM(T286:T287)","v":0}]
[null,{"$f":"Train","v":"Long distance train"},{"$f":"Diesel","v":"Diesel"},{"$f":"SUMIFS('4A Calcul. BAU city'!P$13:P$61,'4A Calcul. BAU city'!$C$13:$C$61,'2A Input Climat Scen. Pass.'!$B286,'4A Calcul. BAU city'!$E$13:$E$61,'2A Input Climat Scen. Pass.'!$C286)","v":0},{"$f":"SUMIFS('4A Calcul. BAU city'!Q$13:Q$61,'4A Calcul. BAU city'!$C$13:$C$61,'2A Input Climat Scen. Pass.'!$B286,'4A Calcul. BAU city'!$E$13:$E$61,'2A Input Climat Scen. Pass.'!$C286)","v":0},{"$f":"SUMIFS('4A Calcul. BAU city'!R$13:R$61,'4A Calcul. BAU city'!$C$13:$C$61,'2A Input Climat Scen. Pass.'!$B286,'4A Calcul. BAU city'!$E$13:$E$61,'2A Input Climat Scen. Pass.'!$C286)","v":0},{"$f":"SUMIFS('4A Calcul. BAU city'!S$13:S$61,'4A Calcul. BAU city'!$C$13:$C$61,'2A Input Climat Scen. Pass.'!$B286,'4A Calcul. BAU city'!$E$13:$E$61,'2A Input Climat Scen. Pass.'!$C286)","v":0},{"$f":"SUMIFS('4A Calcul. BAU city'!T$13:T$61,'4A Calcul. BAU city'!$C$13:$C$61,'2A Input Climat Scen. Pass.'!$B286,'4A Calcul. BAU city'!$E$13:$E$61,'2A Input Climat Scen. Pass.'!$C286)","v":0},null,null,null,null,null,null,null,{"$f":"SUMIFS('4B Calcul. Climat Scen.'!AB$375:AB$424,'4B Calcul. Climat Scen.'!$C$375:$C$424,'2A Input Climat Scen. Pass.'!$B286,'4B Calcul. Climat Scen.'!$E$375:$E$424,'2A Input Climat Scen. Pass.'!$C286)","v":0},{"$f":"SUMIFS('4B Calcul. Climat Scen.'!AC$375:AC$424,'4B Calcul. Climat Scen.'!$C$375:$C$424,'2A Input Climat Scen. Pass.'!$B286,'4B Calcul. Climat Scen.'!$E$375:$E$424,'2A Input Climat Scen. Pass.'!$C286)","v":0},{"$f":"SUMIFS('4B Calcul. Climat Scen.'!AD$375:AD$424,'4B Calcul. Climat Scen.'!$C$375:$C$424,'2A Input Climat Scen. Pass.'!$B286,'4B Calcul. Climat Scen.'!$E$375:$E$424,'2A Input Climat Scen. Pass.'!$C286)","v":0},{"$f":"SUMIFS('4B Calcul. Climat Scen.'!AE$375:AE$424,'4B Calcul. Climat Scen.'!$C$375:$C$424,'2A Input Climat Scen. Pass.'!$B286,'4B Calcul. Climat Scen.'!$E$375:$E$424,'2A Input Climat Scen. Pass.'!$C286)","v":0},{"$f":"SUMIFS('4B Calcul. Climat Scen.'!AF$375:AF$424,'4B Calcul. Climat Scen.'!$C$375:$C$424,'2A Input Climat Scen. Pass.'!$B286,'4B Calcul. Climat Scen.'!$E$375:$E$424,'2A Input Climat Scen. Pass.'!$C286)","v":0}]
[null,{"$f":"Train","v":"Long distance train"},{"$f":"Electric","v":"Electric"},{"$f":"SUMIFS('4A Calcul. BAU city'!P$13:P$61,'4A Calcul. BAU city'!$C$13:$C$61,'2A Input Climat Scen. Pass.'!$B287,'4A Calcul. BAU city'!$E$13:$E$61,'2A Input Climat Scen. Pass.'!$C287)","v":0},{"$f":"SUMIFS('4A Calcul. BAU city'!Q$13:Q$61,'4A Calcul. BAU city'!$C$13:$C$61,'2A Input Climat Scen. Pass.'!$B287,'4A Calcul. BAU city'!$E$13:$E$61,'2A Input Climat Scen. Pass.'!$C287)","v":0},{"$f":"SUMIFS('4A Calcul. BAU city'!R$13:R$61,'4A Calcul. BAU city'!$C$13:$C$61,'2A Input Climat Scen. Pass.'!$B287,'4A Calcul. BAU city'!$E$13:$E$61,'2A Input Climat Scen. Pass.'!$C287)","v":0},{"$f":"SUMIFS('4A Calcul. BAU city'!S$13:S$61,'4A Calcul. BAU city'!$C$13:$C$61,'2A Input Climat Scen. Pass.'!$B287,'4A Calcul. BAU city'!$E$13:$E$61,'2A Input Climat Scen. Pass.'!$C287)","v":0},{"$f":"SUMIFS('4A Calcul. BAU city'!T$13:T$61,'4A Calcul. BAU city'!$C$13:$C$61,'2A Input Climat Scen. Pass.'!$B287,'4A Calcul. BAU city'!$E$13:$E$61,'2A Input Climat Scen. Pass.'!$C287)","v":0},null,null,null,null,null,null,null,{"$f":"SUMIFS('4B Calcul. Climat Scen.'!AB$375:AB$424,'4B Calcul. Climat Scen.'!$C$375:$C$424,'2A Input Climat Scen. Pass.'!$B287,'4B Calcul. Climat Scen.'!$E$375:$E$424,'2A Input Climat Scen. Pass.'!$C287)","v":0},{"$f":"SUMIFS('4B Calcul. Climat Scen.'!AC$375:AC$424,'4B Calcul. Climat Scen.'!$C$375:$C$424,'2A Input Climat Scen. Pass.'!$B287,'4B Calcul. Climat Scen.'!$E$375:$E$424,'2A Input Climat Scen. Pass.'!$C287)","v":0},{"$f":"SUMIFS('4B Calcul. Climat Scen.'!AD$375:AD$424,'4B Calcul. Climat Scen.'!$C$375:$C$424,'2A Input Climat Scen. Pass.'!$B287,'4B Calcul. Climat Scen.'!$E$375:$E$424,'2A Input Climat Scen. Pass.'!$C287)","v":0},{"$f":"SUMIFS('4B Calcul. Climat Scen.'!AE$375:AE$424,'4B Calcul. Climat Scen.'!$C$375:$C$424,'2A Input Climat Scen. Pass.'!$B287,'4B Calcul. Climat Scen.'!$E$375:$E$424,'2A Input Climat Scen. Pass.'!$C287)","v":0},{"$f":"SUMIFS('4B Calcul. Climat Scen.'!AF$375:AF$424,'4B Calcul. Climat Scen.'!$C$375:$C$424,'2A Input Climat Scen. Pass.'!$B287,'4B Calcul. Climat Scen.'!$E$375:$E$424,'2A Input Climat Scen. Pass.'!$C287)","v":0}]
[null,{"$f":"Utrain","v":"Urban train"},null,null,null,null,null,null,null,null,null,null,null,null,null,{"$f":"SUM(P289:P289)","v":0},{"$f":"SUM(Q289:Q289)","v":0},{"$f":"SUM(R289:R289)","v":0},{"$f":"SUM(S289:S289)","v":0},{"$f":"SUM(T289:T289)","v":0}]
[null,{"$f":"Utrain","v":"Urban train"},{"$f":"Electric","v":"Electric"},{"$f":"SUMIFS('4A Calcul. BAU city'!P$13:P$61,'4A Calcul. BAU city'!$C$13:$C$61,'2A Input Climat Scen. Pass.'!$B289,'4A Calcul. BAU city'!$E$13:$E$61,'2A Input Climat Scen. Pass.'!$C289)","v":0},{"$f":"SUMIFS('4A Calcul. BAU city'!Q$13:Q$61,'4A Calcul. BAU city'!$C$13:$C$61,'2A Input Climat Scen. Pass.'!$B289,'4A Calcul. BAU city'!$E$13:$E$61,'2A Input Climat Scen. Pass.'!$C289)","v":0},{"$f":"SUMIFS('4A Calcul. BAU city'!R$13:R$61,'4A Calcul. BAU city'!$C$13:$C$61,'2A Input Climat Scen. Pass.'!$B289,'4A Calcul. BAU city'!$E$13:$E$61,'2A Input Climat Scen. Pass.'!$C289)","v":0},{"$f":"SUMIFS('4A Calcul. BAU city'!S$13:S$61,'4A Calcul. BAU city'!$C$13:$C$61,'2A Input Climat Scen. Pass.'!$B289,'4A Calcul. BAU city'!$E$13:$E$61,'2A Input Climat Scen. Pass.'!$C289)","v":0},{"$f":"SUMIFS('4A Calcul. BAU city'!T$13:T$61,'4A Calcul. BAU city'!$C$13:$C$61,'2A Input Climat Scen. Pass.'!$B289,'4A Calcul. BAU city'!$E$13:$E$61,'2A Input Climat Scen. Pass.'!$C289)","v":0},null,null,null,null,null,null,null,{"$f":"SUMIFS('4B Calcul. Climat Scen.'!AB$375:AB$424,'4B Calcul. Climat Scen.'!$C$375:$C$424,'2A Input Climat Scen. Pass.'!$B289,'4B Calcul. Climat Scen.'!$E$375:$E$424,'2A Input Climat Scen. Pass.'!$C289)","v":0},{"$f":"SUMIFS('4B Calcul. Climat Scen.'!AC$375:AC$424,'4B Calcul. Climat Scen.'!$C$375:$C$424,'2A Input Climat Scen. Pass.'!$B289,'4B Calcul. Climat Scen.'!$E$375:$E$424,'2A Input Climat Scen. Pass.'!$C289)","v":0},{"$f":"SUMIFS('4B Calcul. Climat Scen.'!AD$375:AD$424,'4B Calcul. Climat Scen.'!$C$375:$C$424,'2A Input Climat Scen. Pass.'!$B289,'4B Calcul. Climat Scen.'!$E$375:$E$424,'2A Input Climat Scen. Pass.'!$C289)","v":0},{"$f":"SUMIFS('4B Calcul. Climat Scen.'!AE$375:AE$424,'4B Calcul. Climat Scen.'!$C$375:$C$424,'2A Input Climat Scen. Pass.'!$B289,'4B Calcul. Climat Scen.'!$E$375:$E$424,'2A Input Climat Scen. Pass.'!$C289)","v":0},{"$f":"SUMIFS('4B Calcul. Climat Scen.'!AF$375:AF$424,'4B Calcul. Climat Scen.'!$C$375:$C$424,'2A Input Climat Scen. Pass.'!$B289,'4B Calcul. Climat Scen.'!$E$375:$E$424,'2A Input Climat Scen. Pass.'!$C289)","v":0}]
[null,{"$f":"Metro","v":"Metro"},null,null,null,null,null,null,null,null,null,null,null,null,null,{"$f":"P291","v":0},{"$f":"Q291","v":0},0,0,0]
[null,{"$f":"Metro","v":"Metro"},{"$f":"Electric","v":"Electric"},{"$f":"SUMIFS('4A Calcul. BAU city'!P$13:P$61,'4A Calcul. BAU city'!$C$13:$C$61,'2A Input Climat Scen. Pass.'!$B291,'4A Calcul. BAU city'!$E$13:$E$61,'2A Input Climat Scen. Pass.'!$C291)","v":0},{"$f":"SUMIFS('4A Calcul. BAU city'!Q$13:Q$61,'4A Calcul. BAU city'!$C$13:$C$61,'2A Input Climat Scen. Pass.'!$B291,'4A Calcul. BAU city'!$E$13:$E$61,'2A Input Climat Scen. Pass.'!$C291)","v":0},{"$f":"SUMIFS('4A Calcul. BAU city'!R$13:R$61,'4A Calcul. BAU city'!$C$13:$C$61,'2A Input Climat Scen. Pass.'!$B291,'4A Calcul. BAU city'!$E$13:$E$61,'2A Input Climat Scen. Pass.'!$C291)","v":0},{"$f":"SUMIFS('4A Calcul. BAU city'!S$13:S$61,'4A Calcul. BAU city'!$C$13:$C$61,'2A Input Climat Scen. Pass.'!$B291,'4A Calcul. BAU city'!$E$13:$E$61,'2A Input Climat Scen. Pass.'!$C291)","v":0},{"$f":"SUMIFS('4A Calcul. BAU city'!T$13:T$61,'4A Calcul. BAU city'!$C$13:$C$61,'2A Input Climat Scen. Pass.'!$B291,'4A Calcul. BAU city'!$E$13:$E$61,'2A Input Climat Scen. Pass.'!$C291)","v":0},null,null,null,null,null,null,null,{"$f":"SUMIFS('4B Calcul. Climat Scen.'!AB$375:AB$424,'4B Calcul. Climat Scen.'!$C$375:$C$424,'2A Input Climat Scen. Pass.'!$B291,'4B Calcul. Climat Scen.'!$E$375:$E$424,'2A Input Climat Scen. Pass.'!$C291)","v":0},{"$f":"SUMIFS('4B Calcul. Climat Scen.'!AC$375:AC$424,'4B Calcul. Climat Scen.'!$C$375:$C$424,'2A Input Climat Scen. Pass.'!$B291,'4B Calcul. Climat Scen.'!$E$375:$E$424,'2A Input Climat Scen. Pass.'!$C291)","v":0},{"$f":"SUMIFS('4B Calcul. Climat Scen.'!AD$375:AD$424,'4B Calcul. Climat Scen.'!$C$375:$C$424,'2A Input Climat Scen. Pass.'!$B291,'4B Calcul. Climat Scen.'!$E$375:$E$424,'2A Input Climat Scen. Pass.'!$C291)","v":0},{"$f":"SUMIFS('4B Calcul. Climat Scen.'!AE$375:AE$424,'4B Calcul. Climat Scen.'!$C$375:$C$424,'2A Input Climat Scen. Pass.'!$B291,'4B Calcul. Climat Scen.'!$E$375:$E$424,'2A Input Climat Scen. Pass.'!$C291)","v":0},{"$f":"SUMIFS('4B Calcul. Climat Scen.'!AF$375:AF$424,'4B Calcul. Climat Scen.'!$C$375:$C$424,'2A Input Climat Scen. Pass.'!$B291,'4B Calcul. Climat Scen.'!$E$375:$E$424,'2A Input Climat Scen. Pass.'!$C291)","v":0}]
[null,{"$f":"Total","v":"Sum"},null,null,null,null,null,null,null,null,null,null,null,null,null,{"$f":"SUM(P248+P255+P262+P265+P268+P275+P280+P285+P288+P290)","v":0},{"$f":"SUM(Q248+Q255+Q262+Q265+Q268+Q275+Q280+Q285+Q288+Q290)","v":0},{"$f":"SUM(R248+R255+R262+R265+R268+R275+R280+R285+R288+R290)","v":0},{"$f":"SUM(S248+S255+S262+S265+S268+S275+S280+S285+S288+S290)","v":0},{"$f":"SUM(T248+T255+T262+T265+T268+T275+T280+T285+T288+T290)","v":0}]
[]
[]
[]
[]
[]
[]
[{"$f":"donottouch","v":"Do not touch - for graphic purposes"}]
[]
[null,{"$f":"RedGHGpass","v":"GHG emission reductions - passenger transport"}]
[null,2020,null,null,2025,null,null,2030,null,null,2040,null,null,2050]
[null,{"$f":"BAU","v":"BAU"},null,{"$f":"Climat","v":"Climate"},{"$f":"BAU","v":"BAU"},null,{"$f":"Climat","v":"Climate"},{"$f":"BAU","v":"BAU"},null,{"$f":"Climat","v":"Climate"},{"$f":"BAU","v":"BAU"},null,{"$f":"Climat","v":"Climate"},{"$f":"BAU","v":"BAU"},null,{"$f":"Climat","v":"Climate"}]
[{"$f":"Climatescen","v":"Climate scenario"},null,{"$f":"+SUM(D306:D315)","v":0},null,null,{"$f":"+SUM(G306:G315)","v":0},null,null,{"$f":"+SUM(J306:J315)","v":0},null,null,{"$f":"+SUM(M306:M315)","v":0},null,null,{"$f":"+SUM(P306:P315)","v":0}]
[null,null,{"$f":"+SUM(B306:B315)-SUM(D306:D315)","v":0},null,null,{"$f":"+SUM(E306:E315)-SUM(G306:G315)","v":0},null,null,{"$f":"+SUM(H306:H315)-SUM(J306:J315)","v":0},null,null,{"$f":"+SUM(K306:K315)-SUM(M306:M315)","v":0},null,null,{"$f":"+SUM(N306:N315)-SUM(P306:P315)","v":0}]
[{"$f":"Pcar","v":"Private car"},{"$f":"+SUMIF('4B Calcul. Climat Scen.'!$C$252:$C$285,$A306,'4B Calcul. Climat Scen.'!AI$252:AI$285)","v":0},null,{"$f":"+SUMIF('4B Calcul. Climat Scen.'!$C$375:$C$408,$A306,'4B Calcul. Climat Scen.'!AI$375:AI$408)","v":0},{"$f":"+SUMIF('4B Calcul. Climat Scen.'!$C$252:$C$285,$A306,'4B Calcul. Climat Scen.'!AJ$252:AJ$285)","v":0},null,{"$f":"+SUMIF('4B Calcul. Climat Scen.'!$C$252:$C$306,$A306,'4B Calcul. Climat Scen.'!AJ$375:AJ$408)","v":0},{"$f":"+SUMIF('4B Calcul. Climat Scen.'!$C$252:$C$285,$A306,'4B Calcul. Climat Scen.'!AK$252:AK$285)","v":0},null,{"$f":"+SUMIF('4B Calcul. Climat Scen.'!$C$252:$C$306,$A306,'4B Calcul. Climat Scen.'!AK$375:AK$408)","v":0},{"$f":"+SUMIF('4B Calcul. Climat Scen.'!$C$252:$C$285,$A306,'4B Calcul. Climat Scen.'!AL$252:AL$285)","v":0},null,{"$f":"+SUMIF('4B Calcul. Climat Scen.'!$C$252:$C$306,$A306,'4B Calcul. Climat Scen.'!AL$375:AL$408)","v":0},{"$f":"+SUMIF('4B Calcul. Climat Scen.'!$C$252:$C$285,$A306,'4B Calcul. Climat Scen.'!AM$252:AM$285)","v":0},null,{"$f":"+SUMIF('4B Calcul. Climat Scen.'!$C$252:$C$306,$A306,'4B Calcul. Climat Scen.'!AM$375:AM$408)","v":0}]
[{"$f":"Itaxi","v":"Individual taxi"},{"$f":"+SUMIF('4B Calcul. Climat Scen.'!$C$252:$C$285,$A307,'4B Calcul. Climat Scen.'!AI$252:AI$285)","v":0},null,{"$f":"+SUMIF('4B Calcul. Climat Scen.'!$C$375:$C$408,$A307,'4B Calcul. Climat Scen.'!AI$375:AI$408)","v":0},{"$f":"+SUMIF('4B Calcul. Climat Scen.'!$C$252:$C$285,$A307,'4B Calcul. Climat Scen.'!AJ$252:AJ$285)","v":0},null,{"$f":"+SUMIF('4B Calcul. Climat Scen.'!$C$252:$C$306,$A307,'4B Calcul. Climat Scen.'!AJ$375:AJ$408)","v":0},{"$f":"+SUMIF('4B Calcul. Climat Scen.'!$C$252:$C$285,$A307,'4B Calcul. Climat Scen.'!AK$252:AK$285)","v":0},null,{"$f":"+SUMIF('4B Calcul. Climat Scen.'!$C$252:$C$306,$A307,'4B Calcul. Climat Scen.'!AK$375:AK$408)","v":0},{"$f":"+SUMIF('4B Calcul. Climat Scen.'!$C$252:$C$285,$A307,'4B Calcul. Climat Scen.'!AL$252:AL$285)","v":0},null,{"$f":"+SUMIF('4B Calcul. Climat Scen.'!$C$252:$C$306,$A307,'4B Calcul. Climat Scen.'!AL$375:AL$408)","v":0},{"$f":"+SUMIF('4B Calcul. Climat Scen.'!$C$252:$C$289,$A307,'4B Calcul. Climat Scen.'!AM$252:AM$289)","v":0},null,{"$f":"+SUMIF('4B Calcul. Climat Scen.'!$C$252:$C$306,$A307,'4B Calcul. Climat Scen.'!AM$375:AM$408)","v":0}]
[{"$f":"Motorcycle","v":"Motorcycle"},{"$f":"+SUMIF('4B Calcul. Climat Scen.'!$C$252:$C$285,$A308,'4B Calcul. Climat Scen.'!AI$252:AI$285)","v":0},null,{"$f":"+SUMIF('4B Calcul. Climat Scen.'!$C$375:$C$408,$A308,'4B Calcul. Climat Scen.'!AI$375:AI$408)","v":0},{"$f":"+SUMIF('4B Calcul. Climat Scen.'!$C$252:$C$285,$A308,'4B Calcul. Climat Scen.'!AJ$252:AJ$285)","v":0},null,{"$f":"+SUMIF('4B Calcul. Climat Scen.'!$C$252:$C$306,$A308,'4B Calcul. Climat Scen.'!AJ$375:AJ$408)","v":0},{"$f":"+SUMIF('4B Calcul. Climat Scen.'!$C$252:$C$285,$A308,'4B Calcul. Climat Scen.'!AK$252:AK$285)","v":0},null,{"$f":"+SUMIF('4B Calcul. Climat Scen.'!$C$252:$C$306,$A308,'4B Calcul. Climat Scen.'!AK$375:AK$408)","v":0},{"$f":"+SUMIF('4B Calcul. Climat Scen.'!$C$252:$C$285,$A308,'4B Calcul. Climat Scen.'!AL$252:AL$285)","v":0},null,{"$f":"+SUMIF('4B Calcul. Climat Scen.'!$C$252:$C$306,$A308,'4B Calcul. Climat Scen.'!AL$375:AL$408)","v":0},{"$f":"+SUMIF('4B Calcul. Climat Scen.'!$C$252:$C$289,$A308,'4B Calcul. Climat Scen.'!AM$252:AM$289)","v":0},null,{"$f":"+SUMIF('4B Calcul. Climat Scen.'!$C$252:$C$306,$A308,'4B Calcul. Climat Scen.'!AM$375:AM$408)","v":0}]
[{"$f":"Mototaxi","v":"Motorcycle taxi"},{"$f":"+SUMIF('4B Calcul. Climat Scen.'!$C$252:$C$285,$A309,'4B Calcul. Climat Scen.'!AI$252:AI$285)","v":0},null,{"$f":"+SUMIF('4B Calcul. Climat Scen.'!$C$375:$C$408,$A309,'4B Calcul. Climat Scen.'!AI$375:AI$408)","v":0},{"$f":"+SUMIF('4B Calcul. Climat Scen.'!$C$252:$C$285,$A309,'4B Calcul. Climat Scen.'!AJ$252:AJ$285)","v":0},null,{"$f":"+SUMIF('4B Calcul. Climat Scen.'!$C$252:$C$306,$A309,'4B Calcul. Climat Scen.'!AJ$375:AJ$408)","v":0},{"$f":"+SUMIF('4B Calcul. Climat Scen.'!$C$252:$C$285,$A309,'4B Calcul. Climat Scen.'!AK$252:AK$285)","v":0},null,{"$f":"+SUMIF('4B Calcul. Climat Scen.'!$C$252:$C$306,$A309,'4B Calcul. Climat Scen.'!AK$375:AK$408)","v":0},{"$f":"+SUMIF('4B Calcul. Climat Scen.'!$C$252:$C$285,$A309,'4B Calcul. Climat Scen.'!AL$252:AL$285)","v":0},null,{"$f":"+SUMIF('4B Calcul. Climat Scen.'!$C$252:$C$306,$A309,'4B Calcul. Climat Scen.'!AL$375:AL$408)","v":0},{"$f":"+SUMIF('4B Calcul. Climat Scen.'!$C$252:$C$289,$A309,'4B Calcul. Climat Scen.'!AM$252:AM$289)","v":0},null,{"$f":"+SUMIF('4B Calcul. Climat Scen.'!$C$252:$C$306,$A309,'4B Calcul. Climat Scen.'!AM$375:AM$408)","v":0}]
[{"$f":"Minibus","v":"Minibus"},{"$f":"+SUMIF('4B Calcul. Climat Scen.'!$C$252:$C$285,$A310,'4B Calcul. Climat Scen.'!AI$252:AI$285)","v":0},null,{"$f":"+SUMIF('4B Calcul. Climat Scen.'!$C$375:$C$408,$A310,'4B Calcul. Climat Scen.'!AI$375:AI$408)","v":0},{"$f":"+SUMIF('4B Calcul. Climat Scen.'!$C$252:$C$285,$A310,'4B Calcul. Climat Scen.'!AJ$252:AJ$285)","v":0},null,{"$f":"+SUMIF('4B Calcul. Climat Scen.'!$C$252:$C$306,$A310,'4B Calcul. Climat Scen.'!AJ$375:AJ$408)","v":0},{"$f":"+SUMIF('4B Calcul. Climat Scen.'!$C$252:$C$285,$A310,'4B Calcul. Climat Scen.'!AK$252:AK$285)","v":0},null,{"$f":"+SUMIF('4B Calcul. Climat Scen.'!$C$252:$C$306,$A310,'4B Calcul. Climat Scen.'!AK$375:AK$408)","v":0},{"$f":"+SUMIF('4B Calcul. Climat Scen.'!$C$252:$C$285,$A310,'4B Calcul. Climat Scen.'!AL$252:AL$285)","v":0},null,{"$f":"+SUMIF('4B Calcul. Climat Scen.'!$C$252:$C$306,$A310,'4B Calcul. Climat Scen.'!AL$375:AL$408)","v":0},{"$f":"+SUMIF('4B Calcul. Climat Scen.'!$C$252:$C$289,$A310,'4B Calcul. Climat Scen.'!AM$252:AM$289)","v":0},null,{"$f":"+SUMIF('4B Calcul. Climat Scen.'!$C$252:$C$306,$A310,'4B Calcul. Climat Scen.'!AM$375:AM$408)","v":0}]
[{"$f":"Bus","v":"Bus"},{"$f":"+SUMIF('4B Calcul. Climat Scen.'!$C$252:$C$285,$A311,'4B Calcul. Climat Scen.'!AI$252:AI$285)","v":0},null,{"$f":"+SUMIF('4B Calcul. Climat Scen.'!$C$375:$C$408,$A311,'4B Calcul. Climat Scen.'!AI$375:AI$408)","v":0},{"$f":"+SUMIF('4B Calcul. Climat Scen.'!$C$252:$C$285,$A311,'4B Calcul. Climat Scen.'!AJ$252:AJ$285)","v":0},null,{"$f":"+SUMIF('4B Calcul. Climat Scen.'!$C$252:$C$306,$A311,'4B Calcul. Climat Scen.'!AJ$375:AJ$408)","v":0},{"$f":"+SUMIF('4B Calcul. Climat Scen.'!$C$252:$C$285,$A311,'4B Calcul. Climat Scen.'!AK$252:AK$285)","v":0},null,{"$f":"+SUMIF('4B Calcul. Climat Scen.'!$C$252:$C$306,$A311,'4B Calcul. Climat Scen.'!AK$375:AK$408)","v":0},{"$f":"+SUMIF('4B Calcul. Climat Scen.'!$C$252:$C$285,$A311,'4B Calcul. Climat Scen.'!AL$252:AL$285)","v":0},null,{"$f":"+SUMIF('4B Calcul. Climat Scen.'!$C$252:$C$306,$A311,'4B Calcul. Climat Scen.'!AL$375:AL$408)","v":0},{"$f":"+SUMIF('4B Calcul. Climat Scen.'!$C$252:$C$289,$A311,'4B Calcul. Climat Scen.'!AM$252:AM$289)","v":0},null,{"$f":"+SUMIF('4B Calcul. Climat Scen.'!$C$252:$C$306,$A311,'4B Calcul. Climat Scen.'!AM$375:AM$408)","v":0}]
[{"$f":"BRT","v":"BRT"},{"$f":"+SUMIF('4B Calcul. Climat Scen.'!$C$252:$C$285,$A312,'4B Calcul. Climat Scen.'!AI$252:AI$285)","v":0},null,{"$f":"+SUMIF('4B Calcul. Climat Scen.'!$C$375:$C$408,$A312,'4B Calcul. Climat Scen.'!AI$375:AI$408)","v":0},{"$f":"+SUMIF('4B Calcul. Climat Scen.'!$C$252:$C$285,$A312,'4B Calcul. Climat Scen.'!AJ$252:AJ$285)","v":0},null,{"$f":"+SUMIF('4B Calcul. Climat Scen.'!$C$252:$C$306,$A312,'4B Calcul. Climat Scen.'!AJ$375:AJ$408)","v":0},{"$f":"+SUMIF('4B Calcul. Climat Scen.'!$C$252:$C$285,$A312,'4B Calcul. Climat Scen.'!AK$252:AK$285)","v":0},null,{"$f":"+SUMIF('4B Calcul. Climat Scen.'!$C$252:$C$306,$A312,'4B Calcul. Climat Scen.'!AK$375:AK$408)","v":0},{"$f":"+SUMIF('4B Calcul. Climat Scen.'!$C$252:$C$285,$A312,'4B Calcul. Climat Scen.'!AL$252:AL$285)","v":0},null,{"$f":"+SUMIF('4B Calcul. Climat Scen.'!$C$252:$C$306,$A312,'4B Calcul. Climat Scen.'!AL$375:AL$408)","v":0},{"$f":"+SUMIF('4B Calcul. Climat Scen.'!$C$252:$C$289,$A312,'4B Calcul. Climat Scen.'!AM$252:AM$289)","v":0},null,{"$f":"+SUMIF('4B Calcul. Climat Scen.'!$C$252:$C$306,$A312,'4B Calcul. Climat Scen.'!AM$375:AM$408)","v":0}]
[{"$f":"Train","v":"Long distance train"},{"$f":"+SUMIF('4B Calcul. Climat Scen.'!$C$252:$C$285,$A313,'4B Calcul. Climat Scen.'!AI$252:AI$285)","v":0},null,{"$f":"+SUMIF('4B Calcul. Climat Scen.'!$C$375:$C$408,$A313,'4B Calcul. Climat Scen.'!AI$375:AI$408)","v":0},{"$f":"+SUMIF('4B Calcul. Climat Scen.'!$C$252:$C$285,$A313,'4B Calcul. Climat Scen.'!AJ$252:AJ$285)","v":0},null,{"$f":"+SUMIF('4B Calcul. Climat Scen.'!$C$252:$C$306,$A313,'4B Calcul. Climat Scen.'!AJ$375:AJ$408)","v":0},{"$f":"+SUMIF('4B Calcul. Climat Scen.'!$C$252:$C$285,$A313,'4B Calcul. Climat Scen.'!AK$252:AK$285)","v":0},null,{"$f":"+SUMIF('4B Calcul. Climat Scen.'!$C$252:$C$306,$A313,'4B Calcul. Climat Scen.'!AK$375:AK$408)","v":0},{"$f":"+SUMIF('4B Calcul. Climat Scen.'!$C$252:$C$285,$A313,'4B Calcul. Climat Scen.'!AL$252:AL$285)","v":0},null,{"$f":"+SUMIF('4B Calcul. Climat Scen.'!$C$252:$C$306,$A313,'4B Calcul. Climat Scen.'!AL$375:AL$408)","v":0},{"$f":"+SUMIF('4B Calcul. Climat Scen.'!$C$252:$C$289,$A313,'4B Calcul. Climat Scen.'!AM$252:AM$289)","v":0},null,{"$f":"+SUMIF('4B Calcul. Climat Scen.'!$C$252:$C$306,$A313,'4B Calcul. Climat Scen.'!AM$375:AM$408)","v":0}]
[{"$f":"Utrain","v":"Urban train"},{"$f":"+SUMIF('4B Calcul. Climat Scen.'!$C$252:$C$285,$A314,'4B Calcul. Climat Scen.'!AI$252:AI$285)","v":0},null,{"$f":"+SUMIF('4B Calcul. Climat Scen.'!$C$375:$C$408,$A314,'4B Calcul. Climat Scen.'!AI$375:AI$408)","v":0},{"$f":"+SUMIF('4B Calcul. Climat Scen.'!$C$252:$C$285,$A314,'4B Calcul. Climat Scen.'!AJ$252:AJ$285)","v":0},null,{"$f":"+SUMIF('4B Calcul. Climat Scen.'!$C$252:$C$306,$A314,'4B Calcul. Climat Scen.'!AJ$375:AJ$408)","v":0},{"$f":"+SUMIF('4B Calcul. Climat Scen.'!$C$252:$C$285,$A314,'4B Calcul. Climat Scen.'!AK$252:AK$285)","v":0},null,{"$f":"+SUMIF('4B Calcul. Climat Scen.'!$C$252:$C$306,$A314,'4B Calcul. Climat Scen.'!AK$375:AK$408)","v":0},{"$f":"+SUMIF('4B Calcul. Climat Scen.'!$C$252:$C$285,$A314,'4B Calcul. Climat Scen.'!AL$252:AL$285)","v":0},null,{"$f":"+SUMIF('4B Calcul. Climat Scen.'!$C$252:$C$306,$A314,'4B Calcul. Climat Scen.'!AL$375:AL$408)","v":0},{"$f":"+SUMIF('4B Calcul. Climat Scen.'!$C$252:$C$289,$A314,'4B Calcul. Climat Scen.'!AM$252:AM$289)","v":0},null,{"$f":"+SUMIF('4B Calcul. Climat Scen.'!$C$252:$C$306,$A314,'4B Calcul. Climat Scen.'!AM$375:AM$408)","v":0}]
[{"$f":"Metro","v":"Metro"},{"$f":"+SUMIF('4B Calcul. Climat Scen.'!$C$252:$C$285,$A315,'4B Calcul. Climat Scen.'!AI$252:AI$285)","v":0},null,{"$f":"+SUMIF('4B Calcul. Climat Scen.'!$C$375:$C$408,$A315,'4B Calcul. Climat Scen.'!AI$375:AI$408)","v":0},{"$f":"+SUMIF('4B Calcul. Climat Scen.'!$C$252:$C$285,$A315,'4B Calcul. Climat Scen.'!AJ$252:AJ$285)","v":0},null,{"$f":"+SUMIF('4B Calcul. Climat Scen.'!$C$252:$C$306,$A315,'4B Calcul. Climat Scen.'!AJ$375:AJ$408)","v":0},{"$f":"+SUMIF('4B Calcul. Climat Scen.'!$C$252:$C$285,$A315,'4B Calcul. Climat Scen.'!AK$252:AK$285)","v":0},null,{"$f":"+SUMIF('4B Calcul. Climat Scen.'!$C$252:$C$306,$A315,'4B Calcul. Climat Scen.'!AK$375:AK$408)","v":0},{"$f":"+SUMIF('4B Calcul. Climat Scen.'!$C$252:$C$285,$A315,'4B Calcul. Climat Scen.'!AL$252:AL$285)","v":0},null,{"$f":"+SUMIF('4B Calcul. Climat Scen.'!$C$252:$C$306,$A315,'4B Calcul. Climat Scen.'!AL$375:AL$408)","v":0},{"$f":"+SUMIF('4B Calcul. Climat Scen.'!$C$252:$C$289,$A315,'4B Calcul. Climat Scen.'!AM$252:AM$289)","v":0},null,{"$f":"+SUMIF('4B Calcul. Climat Scen.'!$C$252:$C$306,$A315,'4B Calcul. Climat Scen.'!AM$375:AM$408)","v":0}]
[null,{"$f":"SUM(B306:B315)","v":0},{"$f":"IFERROR(+SUM(D306:D315)/SUM(B306:B315)-1,\"\")","v":""},{"$f":"SUM(D306:D315)","v":0},{"$f":"SUM(E306:E315)","v":0},{"$f":"IFERROR(+SUM(G306:G315)/SUM(E306:E315)-1,\"\")","v":""},{"$f":"SUM(G306:G315)","v":0},{"$f":"SUM(H306:H315)","v":0},{"$f":"IFERROR(+SUM(J306:J315)/SUM(H306:H315)-1,\"\")","v":""},{"$f":"SUM(J306:J315)","v":0},{"$f":"SUM(K306:K315)","v":0},{"$f":"IFERROR(+SUM(M306:M315)/SUM(K306:K315)-1,\"\")","v":""},{"$f":"SUM(M306:M315)","v":0},{"$f":"SUM(N306:N315)","v":0},{"$f":"IFERROR(+SUM(P306:P315)/SUM(N306:N315)-1,\"\")","v":""},{"$f":"SUM(P306:P315)","v":0}]
[{"$f":"Climatescen","v":"Climate scenario"}]
[{"$f":"Graph4","v":"Vkt individual passenger transport [Mio. km]"}]
[{"$f":"BAU","v":"BAU"}]
[{"$f":"Climatescen","v":"Climate scenario"}]
[{"$f":"Graph6","v":"Vkt public transport [Mio. km]"}]
[{"$f":"Miokm","v":"Mio. Km"}]
[{"$f":"Modalsplit","v":"Modal split [pkm]"}]
[]
[{"$f":"scenariovkt","v":"Scenario vkt [Mio. km]"},{"$f":"+totalkm","v":"Total vkt"},{"$f":"+'4A Calcul. BAU city'!H12","v":2020},{"$f":"+'4A Calcul. BAU city'!I12","v":2025},{"$f":"+'4A Calcul. BAU city'!J12","v":2030},{"$f":"+'4A Calcul. BAU city'!K12","v":2040},{"$f":"+'4A Calcul. BAU city'!L12","v":2050}]
[null,{"$f":"+BAU","v":"BAU"},{"$f":"+'4B Calcul. Climat Scen.'!G31-'4B Calcul. Climat Scen.'!G12","v":0},{"$f":"+'4B Calcul. Climat Scen.'!H31-'4B Calcul. Climat Scen.'!H12","v":0},{"$f":"+'4B Calcul. Climat Scen.'!I31-'4B Calcul. Climat Scen.'!I12","v":0},{"$f":"+'4B Calcul. Climat Scen.'!J31-'4B Calcul. Climat Scen.'!J12","v":0},{"$f":"+'4B Calcul. Climat Scen.'!K31-'4B Calcul. Climat Scen.'!K12","v":0}]
[null,{"$f":"+Climat","v":"Climate"},{"$f":"+'4B Calcul. Climat Scen.'!N428","v":0},{"$f":"+'4B Calcul. Climat Scen.'!O428","v":0},{"$f":"+'4B Calcul. Climat Scen.'!P428","v":0},{"$f":"+'4B Calcul. Climat Scen.'!Q428","v":0},{"$f":"+'4B Calcul. Climat Scen.'!R428","v":0}]
[null,"Diff",{"$f":"C327-C326","v":0},{"$f":"D327-D326","v":0},0,0,0]
[]
[null,"Total pkm",{"$f":"C325","v":2020},{"$f":"D325","v":2025},{"$f":"E325","v":2030},{"$f":"F325","v":2040},{"$f":"G325","v":2050}]
[null,{"$f":"+BAU","v":"BAU"},{"$f":"'4B Calcul. Climat Scen.'!AB31","v":0},{"$f":"'4B Calcul. Climat Scen.'!AC31","v":0},{"$f":"'4B Calcul. Climat Scen.'!AD31","v":0},{"$f":"'4B Calcul. Climat Scen.'!AE31","v":0},{"$f":"'4B Calcul. Climat Scen.'!AF31","v":0}]
[null,{"$f":"+Climat","v":"Climate"},{"$f":"'4B Calcul. Climat Scen.'!G244","v":0},{"$f":"'4B Calcul. Climat Scen.'!H244","v":0},{"$f":"'4B Calcul. Climat Scen.'!I244","v":0},{"$f":"'4B Calcul. Climat Scen.'!J244","v":0},{"$f":"'4B Calcul. Climat Scen.'!K244","v":0}]
[null,"Diff",{"$f":"C332-C331","v":0},{"$f":"D332-D331","v":0},{"$f":"E332-E331","v":0},{"$f":"F332-F331","v":0},{"$f":"G332-G331","v":0}]
[]
[]
[]
[null,"GHG BAU",{"$f":"'4B Calcul. Climat Scen.'!AO11","v":0},{"$f":"'4B Calcul. Climat Scen.'!AP11","v":2020},{"$f":"'4B Calcul. Climat Scen.'!AQ11","v":2025},{"$f":"'4B Calcul. Climat Scen.'!AR11","v":2030},{"$f":"'4B Calcul. Climat Scen.'!AS11","v":2040},{"$f":"'4B Calcul. Climat Scen.'!AT11","v":2050},null,"GHG Climate",{"$f":"C337","v":0},{"$f":"D337","v":2020},2025,2030,2040,2050,null,"GHG Climate-Bau",{"$f":"C337","v":0},2020,2025,2030,2040,2050,null,{"$f":"S337","v":0},2020,2025,2030,2040,2050]
[null,{"$f":"'4B Calcul. Climat Scen.'!C12","v":"NMT"},{"$f":"'4B Calcul. Climat Scen.'!AO12","v":0},{"$f":"'4B Calcul. Climat Scen.'!AP12","v":0},{"$f":"'4B Calcul. Climat Scen.'!AQ12","v":0},{"$f":"'4B Calcul. Climat Scen.'!AR12","v":0},{"$f":"'4B Calcul. Climat Scen.'!AS12","v":0},{"$f":"'4B Calcul. Climat Scen.'!AT12","v":0},null,{"$f":"B338","v":"NMT"},{"$f":"'4B Calcul. Climat Scen.'!AP225","v":0},{"$f":"'4B Calcul. Climat Scen.'!AQ225","v":0},{"$f":"'4B Calcul. Climat Scen.'!AR225","v":0},{"$f":"'4B Calcul. Climat Scen.'!AS225","v":0},{"$f":"'4B Calcul. Climat Scen.'!AT225","v":0},{"$f":"'4B Calcul. Climat Scen.'!AU225","v":0},null,{"$f":"B338","v":"NMT"},{"$f":"K338-C338","v":0},{"$f":"L338-D338","v":0},{"$f":"M338-E338","v":0},{"$f":"N338-F338","v":0},{"$f":"O338-G338","v":0},{"$f":"P338-H338","v":0},null,{"$f":"K338/C338","v":{"$error":"#DIV/0!"}},{"$f":"L338/D338","v":{"$error":"#DIV/0!"}},{"$error":"#DIV/0!"},{"$error":"#DIV/0!"},{"$error":"#DIV/0!"},{"$error":"#DIV/0!"}]
[null,{"$f":"'4B Calcul. Climat Scen.'!C13","v":"Private car"},{"$f":"'4B Calcul. Climat Scen.'!AO13","v":0},{"$f":"'4B Calcul. Climat Scen.'!AP13","v":0},{"$f":"'4B Calcul. Climat Scen.'!AQ13","v":0},{"$f":"'4B Calcul. Climat Scen.'!AR13","v":0},{"$f":"'4B Calcul. Climat Scen.'!AS13","v":0},{"$f":"'4B Calcul. Climat Scen.'!AT13","v":0},null,{"$f":"B339","v":"Private car"},{"$f":"'4B Calcul. Climat Scen.'!AP226","v":0},{"$f":"'4B Calcul. Climat Scen.'!AQ226","v":0},{"$f":"'4B Calcul. Climat Scen.'!AR226","v":0},{"$f":"'4B Calcul. Climat Scen.'!AS226","v":0},{"$f":"'4B Calcul. Climat Scen.'!AT226","v":0},{"$f":"'4B Calcul. Climat Scen.'!AU226","v":0},null,"Private car",0,0,0,0,0,0,null,{"$f":"K339/C339","v":{"$error":"#DIV/0!"}},{"$f":"L339/D339","v":{"$error":"#DIV/0!"}},{"$f":"M339/E339","v":{"$error":"#DIV/0!"}},{"$f":"N339/F339","v":{"$error":"#DIV/0!"}},{"$f":"O339/G339","v":{"$error":"#DIV/0!"}},{"$f":"P339/H339","v":{"$error":"#DIV/0!"}}]
[null,{"$f":"'4B Calcul. Climat Scen.'!C14","v":"Individual taxi"},{"$f":"'4B Calcul. Climat Scen.'!AO14","v":0},{"$f":"'4B Calcul. Climat Scen.'!AP14","v":0},{"$f":"'4B Calcul. Climat Scen.'!AQ14","v":0},{"$f":"'4B Calcul. Climat Scen.'!AR14","v":0},{"$f":"'4B Calcul. Climat Scen.'!AS14","v":0},{"$f":"'4B Calcul. Climat Scen.'!AT14","v":0},null,"Individual taxi",{"$f":"'4B Calcul. Climat Scen.'!AP227","v":0},{"$f":"'4B Calcul. Climat Scen.'!AQ227","v":0},{"$f":"'4B Calcul. Climat Scen.'!AR227","v":0},{"$f":"'4B Calcul. Climat Scen.'!AS227","v":0},{"$f":"'4B Calcul. Climat Scen.'!AT227","v":0},{"$f":"'4B Calcul. Climat Scen.'!AU227","v":0},null,"Individual taxi",0,0,0,0,0,0,null,{"$error":"#DIV/0!"},{"$error":"#DIV/0!"},{"$error":"#DIV/0!"},{"$error":"#DIV/0!"},{"$error":"#DIV/0!"},{"$error":"#DIV/0!"}]
[null,{"$f":"'4B Calcul. Climat Scen.'!C15","v":"Motorcycle"},{"$f":"'4B Calcul. Climat Scen.'!AO15","v":0},{"$f":"'4B Calcul. Climat Scen.'!AP15","v":0},{"$f":"'4B Calcul. Climat Scen.'!AQ15","v":0},{"$f":"'4B Calcul. Climat Scen.'!AR15","v":0},{"$f":"'4B Calcul. Climat Scen.'!AS15","v":0},{"$f":"'4B Calcul. Climat Scen.'!AT15","v":0},null,"Motorcycle",{"$f":"'4B Calcul. Climat Scen.'!AP228","v":0},{"$f":"'4B Calcul. Climat Scen.'!AQ228","v":0},{"$f":"'4B Calcul. Climat Scen.'!AR228","v":0},{"$f":"'4B Calcul. Climat Scen.'!AS228","v":0},{"$f":"'4B Calcul. Climat Scen.'!AT228","v":0},{"$f":"'4B Calcul. Climat Scen.'!AU228","v":0},null,"Motorcycle",0,0,0,0,0,0,null,{"$error":"#DIV/0!"},{"$error":"#DIV/0!"},{"$error":"#DIV/0!"},{"$error":"#DIV/0!"},{"$error":"#DIV/0!"},{"$error":"#DIV/0!"}]
[null,{"$f":"'4B Calcul. Climat Scen.'!C16","v":"Motorcycle taxi"},{"$f":"'4B Calcul. Climat Scen.'!AO16","v":0},{"$f":"'4B Calcul. Climat Scen.'!AP16","v":0},{"$f":"'4B Calcul. Climat Scen.'!AQ16","v":0},{"$f":"'4B Calcul. Climat Scen.'!AR16","v":0},{"$f":"'4B Calcul. Climat Scen.'!AS16","v":0},{"$f":"'4B Calcul. Climat Scen.'!AT16","v":0},null,"Motorcycle taxi",{"$f":"'4B Calcul. Climat Scen.'!AP229","v":0},{"$f":"'4B Calcul. Climat Scen.'!AQ229","v":0},{"$f":"'4B Calcul. Climat Scen.'!AR229","v":0},{"$f":"'4B Calcul. Climat Scen.'!AS229","v":0},{"$f":"'4B Calcul. Climat Scen.'!AT229","v":0},{"$f":"'4B Calcul. Climat Scen.'!AU229","v":0},null,"Motorcycle taxi",0,0,0,0,0,0,null,{"$error":"#DIV/0!"},{"$error":"#DIV/0!"},{"$error":"#DIV/0!"},{"$error":"#DIV/0!"},{"$error":"#DIV/0!"},{"$error":"#DIV/0!"}]
[null,{"$f":"'4B Calcul. Climat Scen.'!C17","v":"Minibus"},{"$f":"'4B Calcul. Climat Scen.'!AO17","v":0},{"$f":"'4B Calcul. Climat Scen.'!AP17","v":0},{"$f":"'4B Calcul. Climat Scen.'!AQ17","v":0},{"$f":"'4B Calcul. Climat Scen.'!AR17","v":0},{"$f":"'4B Calcul. Climat Scen.'!AS17","v":0},{"$f":"'4B Calcul. Climat Scen.'!AT17","v":0},null,"Minibus",{"$f":"'4B Calcul. Climat Scen.'!AP230","v":0},{"$f":"'4B Calcul. Climat Scen.'!AQ230","v":0},{"$f":"'4B Calcul. Climat Scen.'!AR230","v":0},{"$f":"'4B Calcul. Climat Scen.'!AS230","v":0},{"$f":"'4B Calcul. Climat Scen.'!AT230","v":0},{"$f":"'4B Calcul. Climat Scen.'!AU230","v":0},null,"Minibus",0,0,0,0,0,0,null,{"$error":"#DIV/0!"},{"$error":"#DIV/0!"},{"$error":"#DIV/0!"},{"$error":"#DIV/0!"},{"$error":"#DIV/0!"},{"$error":"#DIV/0!"}]
[null,{"$f":"'4B Calcul. Climat Scen.'!C18","v":"Bus"},{"$f":"'4B Calcul. Climat Scen.'!AO18","v":0},{"$f":"'4B Calcul. Climat Scen.'!AP18","v":0},{"$f":"'4B Calcul. Climat Scen.'!AQ18","v":0},{"$f":"'4B Calcul. Climat Scen.'!AR18","v":0},{"$f":"'4B Calcul. Climat Scen.'!AS18","v":0},{"$f":"'4B Calcul. Climat Scen.'!AT18","v":0},null,"Bus",{"$f":"'4B Calcul. Climat Scen.'!AP231","v":0},{"$f":"'4B Calcul. Climat Scen.'!AQ231","v":0},{"$f":"'4B Calcul. Climat Scen.'!AR231","v":0},{"$f":"'4B Calcul. Climat Scen.'!AS231","v":0},{"$f":"'4B Calcul. Climat Scen.'!AT231","v":0},{"$f":"'4B Calcul. Climat Scen.'!AU231","v":0},null,"Bus",0,0,0,0,0,0,null,{"$error":"#DIV/0!"},{"$error":"#DIV/0!"},{"$error":"#DIV/0!"},{"$error":"#DIV/0!"},{"$error":"#DIV/0!"},{"$error":"#DIV/0!"}]
[null,{"$f":"'4B Calcul. Climat Scen.'!C19","v":"BRT"},{"$f":"'4B Calcul. Climat Scen.'!AO19","v":0},{"$f":"'4B Calcul. Climat Scen.'!AP19","v":0},{"$f":"'4B Calcul. Climat Scen.'!AQ19","v":0},{"$f":"'4B Calcul. Climat Scen.'!AR19","v":0},{"$f":"'4B Calcul. Climat Scen.'!AS19","v":0},{"$f":"'4B Calcul. Climat Scen.'!AT19","v":0},null,"BRT",{"$f":"'4B Calcul. Climat Scen.'!AP232","v":0},{"$f":"'4B Calcul. Climat Scen.'!AQ232","v":0},{"$f":"'4B Calcul. Climat Scen.'!AR232","v":0},{"$f":"'4B Calcul. Climat Scen.'!AS232","v":0},{"$f":"'4B Calcul. Climat Scen.'!AT232","v":0},{"$f":"'4B Calcul. Climat Scen.'!AU232","v":0},null,"BRT",0,0,0,0,0,0,null,{"$error":"#DIV/0!"},{"$error":"#DIV/0!"},{"$error":"#DIV/0!"},{"$error":"#DIV/0!"},{"$error":"#DIV/0!"},{"$error":"#DIV/0!"}]
[null,{"$f":"'4B Calcul. Climat Scen.'!C20","v":"Long distance train"},{"$f":"'4B Calcul. Climat Scen.'!AO20","v":0},{"$f":"'4B Calcul. Climat Scen.'!AP20","v":0},{"$f":"'4B Calcul. Climat Scen.'!AQ20","v":0},{"$f":"'4B Calcul. Climat Scen.'!AR20","v":0},{"$f":"'4B Calcul. Climat Scen.'!AS20","v":0},{"$f":"'4B Calcul. Climat Scen.'!AT20","v":0},null,"Long distance train",{"$f":"'4B Calcul. Climat Scen.'!AP233","v":0},{"$f":"'4B Calcul. Climat Scen.'!AQ233","v":0},{"$f":"'4B Calcul. Climat Scen.'!AR233","v":0},{"$f":"'4B Calcul. Climat Scen.'!AS233","v":0},{"$f":"'4B Calcul. Climat Scen.'!AT233","v":0},{"$f":"'4B Calcul. Climat Scen.'!AU233","v":0},null,"Long distance train",0,0,0,0,0,0,null,{"$error":"#DIV/0!"},{"$error":"#DIV/0!"},{"$error":"#DIV/0!"},{"$error":"#DIV/0!"},{"$error":"#DIV/0!"},{"$error":"#DIV/0!"}]
[null,{"$f":"'4B Calcul. Climat Scen.'!C21","v":"Urban train"},{"$f":"'4B Calcul. Climat Scen.'!AO21","v":0},{"$f":"'4B Calcul. Climat Scen.'!AP21","v":0},{"$f":"'4B Calcul. Climat Scen.'!AQ21","v":0},{"$f":"'4B Calcul. Climat Scen.'!AR21","v":0},{"$f":"'4B Calcul. Climat Scen.'!AS21","v":0},{"$f":"'4B Calcul. Climat Scen.'!AT21","v":0},null,"Urban train",{"$f":"'4B Calcul. Climat Scen.'!AP234","v":0},{"$f":"'4B Calcul. Climat Scen.'!AQ234","v":0},{"$f":"'4B Calcul. Climat Scen.'!AR234","v":0},{"$f":"'4B Calcul. Climat Scen.'!AS234","v":0},{"$f":"'4B Calcul. Climat Scen.'!AT234","v":0},{"$f":"'4B Calcul. Climat Scen.'!AU234","v":0},null,"Urban train",0,0,0,0,0,0,null,{"$error":"#DIV/0!"},{"$error":"#DIV/0!"},{"$error":"#DIV/0!"},{"$error":"#DIV/0!"},{"$error":"#DIV/0!"},{"$error":"#DIV/0!"}]
[null,{"$f":"'4B Calcul. Climat Scen.'!C22","v":"Metro"},{"$f":"'4B Calcul. Climat Scen.'!AO22","v":0},{"$f":"'4B Calcul. Climat Scen.'!AP22","v":0},{"$f":"'4B Calcul. Climat Scen.'!AQ22","v":0},{"$f":"'4B Calcul. Climat Scen.'!AR22","v":0},{"$f":"'4B Calcul. Climat Scen.'!AS22","v":0},{"$f":"'4B Calcul. Climat Scen.'!AT22","v":0},null,"Metro",{"$f":"'4B Calcul. Climat Scen.'!AP235","v":0},{"$f":"'4B Calcul. Climat Scen.'!AQ235","v":0},{"$f":"'4B Calcul. Climat Scen.'!AR235","v":0},{"$f":"'4B Calcul. Climat Scen.'!AS235","v":0},{"$f":"'4B Calcul. Climat Scen.'!AT235","v":0},{"$f":"'4B Calcul. Climat Scen.'!AU235","v":0},null,"Metro",0,0,0,0,0,0,null,{"$error":"#DIV/0!"},{"$error":"#DIV/0!"},{"$error":"#DIV/0!"},{"$error":"#DIV/0!"},{"$error":"#DIV/0!"},{"$error":"#DIV/0!"}]
[null,{"$f":"'4B Calcul. Climat Scen.'!C23","v":"Very light LCV"},{"$f":"'4B Calcul. Climat Scen.'!AO23","v":0},{"$f":"'4B Calcul. Climat Scen.'!AP23","v":0},{"$f":"'4B Calcul. Climat Scen.'!AQ23","v":0},{"$f":"'4B Calcul. Climat Scen.'!AR23","v":0},{"$f":"'4B Calcul. Climat Scen.'!AS23","v":0},{"$f":"'4B Calcul. Climat Scen.'!AT23","v":0},null,"Very light LCV",{"$f":"'4B Calcul. Climat Scen.'!AP236","v":0},{"$f":"'4B Calcul. Climat Scen.'!AQ236","v":0},{"$f":"'4B Calcul. Climat Scen.'!AR236","v":0},{"$f":"'4B Calcul. Climat Scen.'!AS236","v":0},{"$f":"'4B Calcul. Climat Scen.'!AT236","v":0},{"$f":"'4B Calcul. Climat Scen.'!AU236","v":0},null,"Very light LCV",0,0,0,0,0,0,null,{"$error":"#DIV/0!"},{"$error":"#DIV/0!"},{"$error":"#DIV/0!"},{"$error":"#DIV/0!"},{"$error":"#DIV/0!"},{"$error":"#DIV/0!"}]
[null,{"$f":"'4B Calcul. Climat Scen.'!C24","v":"LCV"},{"$f":"'4B Calcul. Climat Scen.'!AO24","v":0},{"$f":"'4B Calcul. Climat Scen.'!AP24","v":0},{"$f":"'4B Calcul. Climat Scen.'!AQ24","v":0},{"$f":"'4B Calcul. Climat Scen.'!AR24","v":0},{"$f":"'4B Calcul. Climat Scen.'!AS24","v":0},{"$f":"'4B Calcul. Climat Scen.'!AT24","v":0},null,"LCV",{"$f":"'4B Calcul. Climat Scen.'!AP237","v":0},{"$f":"'4B Calcul. Climat Scen.'!AQ237","v":0},{"$f":"'4B Calcul. Climat Scen.'!AR237","v":0},{"$f":"'4B Calcul. Climat Scen.'!AS237","v":0},{"$f":"'4B Calcul. Climat Scen.'!AT237","v":0},{"$f":"'4B Calcul. Climat Scen.'!AU237","v":0},null,"LCV",0,0,0,0,0,0,null,{"$error":"#DIV/0!"},{"$error":"#DIV/0!"},{"$error":"#DIV/0!"},{"$error":"#DIV/0!"},{"$error":"#DIV/0!"},{"$error":"#DIV/0!"}]
[null,{"$f":"'4B Calcul. Climat Scen.'!C25","v":"Solo truck"},{"$f":"'4B Calcul. Climat Scen.'!AO25","v":0},{"$f":"'4B Calcul. Climat Scen.'!AP25","v":0},{"$f":"'4B Calcul. Climat Scen.'!AQ25","v":0},{"$f":"'4B Calcul. Climat Scen.'!AR25","v":0},{"$f":"'4B Calcul. Climat Scen.'!AS25","v":0},{"$f":"'4B Calcul. Climat Scen.'!AT25","v":0},null,"Solo truck",{"$f":"'4B Calcul. Climat Scen.'!AP238","v":0},{"$f":"'4B Calcul. Climat Scen.'!AQ238","v":0},{"$f":"'4B Calcul. Climat Scen.'!AR238","v":0},{"$f":"'4B Calcul. Climat Scen.'!AS238","v":0},{"$f":"'4B Calcul. Climat Scen.'!AT238","v":0},{"$f":"'4B Calcul. Climat Scen.'!AU238","v":0},null,"Solo truck",0,0,0,0,0,0,null,{"$error":"#DIV/0!"},{"$error":"#DIV/0!"},{"$error":"#DIV/0!"},{"$error":"#DIV/0!"},{"$error":"#DIV/0!"},{"$error":"#DIV/0!"}]
[null,{"$f":"'4B Calcul. Climat Scen.'!C26","v":"Articulated truck"},{"$f":"'4B Calcul. Climat Scen.'!AO26","v":0},{"$f":"'4B Calcul. Climat Scen.'!AP26","v":0},{"$f":"'4B Calcul. Climat Scen.'!AQ26","v":0},{"$f":"'4B Calcul. Climat Scen.'!AR26","v":0},{"$f":"'4B Calcul. Climat Scen.'!AS26","v":0},{"$f":"'4B Calcul. Climat Scen.'!AT26","v":0},null,"Articulated truck",{"$f":"'4B Calcul. Climat Scen.'!AP239","v":0},{"$f":"'4B Calcul. Climat Scen.'!AQ239","v":0},{"$f":"'4B Calcul. Climat Scen.'!AR239","v":0},{"$f":"'4B Calcul. Climat Scen.'!AS239","v":0},{"$f":"'4B Calcul. Climat Scen.'!AT239","v":0},{"$f":"'4B Calcul. Climat Scen.'!AU239","v":0},null,"Articulated truck",0,0,0,0,0,0,null,{"$error":"#DIV/0!"},{"$error":"#DIV/0!"},{"$error":"#DIV/0!"},{"$error":"#DIV/0!"},{"$error":"#DIV/0!"},{"$error":"#DIV/0!"}]
[null,{"$f":"'4B Calcul. Climat Scen.'!C27","v":"Freight train"},{"$f":"'4B Calcul. Climat Scen.'!AO27","v":0},{"$f":"'4B Calcul. Climat Scen.'!AP27","v":0},{"$f":"'4B Calcul. Climat Scen.'!AQ27","v":0},{"$f":"'4B Calcul. Climat Scen.'!AR27","v":0},{"$f":"'4B Calcul. Climat Scen.'!AS27","v":0},{"$f":"'4B Calcul. Climat Scen.'!AT27","v":0},null,"Freight train",{"$f":"'4B Calcul. Climat Scen.'!AP240","v":0},{"$f":"'4B Calcul. Climat Scen.'!AQ240","v":0},{"$f":"'4B Calcul. Climat Scen.'!AR240","v":0},{"$f":"'4B Calcul. Climat Scen.'!AS240","v":0},{"$f":"'4B Calcul. Climat Scen.'!AT240","v":0},{"$f":"'4B Calcul. Climat Scen.'!AU240","v":0},null,"Freight train",0,0,0,0,0,0,null,{"$error":"#DIV/0!"},{"$error":"#DIV/0!"},{"$error":"#DIV/0!"},{"$error":"#DIV/0!"},{"$error":"#DIV/0!"},{"$error":"#DIV/0!"}]
[]
[]
[null,"PKM BAU",{"$f":"C337","v":0},{"$f":"D337","v":2020},2025,2030,2040,2050,null,"PKM Climate",{"$f":"C337","v":0},2020,2025,2030,2040,2050,null,"PKM Climate-BAU",{"$f":"K356","v":0},{"$f":"L356","v":2020},2025,2030,2040,2050,null,{"$f":"S356","v":0},2020,2025,2030,2040,2050]
[null,{"$f":"'4B Calcul. Climat Scen.'!C12","v":"NMT"},{"$f":"'4B Calcul. Climat Scen.'!AA12","v":0},{"$f":"'4B Calcul. Climat Scen.'!AB12","v":0},{"$f":"'4B Calcul. Climat Scen.'!AC12","v":0},{"$f":"'4B Calcul. Climat Scen.'!AD12","v":0},{"$f":"'4B Calcul. Climat Scen.'!AE12","v":0},{"$f":"'4B Calcul. Climat Scen.'!AF12","v":0},null,{"$f":"'4B Calcul. Climat Scen.'!C225","v":"NMT"},{"$f":"'4B Calcul. Climat Scen.'!F225","v":0},{"$f":"'4B Calcul. Climat Scen.'!G225","v":0},{"$f":"'4B Calcul. Climat Scen.'!H225","v":0},{"$f":"'4B Calcul. Climat Scen.'!I225","v":0},{"$f":"'4B Calcul. Climat Scen.'!J225","v":0},{"$f":"'4B Calcul. Climat Scen.'!K225","v":0},null,{"$f":"J357","v":"NMT"},{"$f":"K357-C357","v":0},{"$f":"L357-D357","v":0},0,0,0,0,null,{"$f":"K357/C357","v":{"$error":"#DIV/0!"}},{"$f":"L357/D357","v":{"$error":"#DIV/0!"}},{"$f":"M357/E357","v":{"$error":"#DIV/0!"}},{"$f":"N357/F357","v":{"$error":"#DIV/0!"}},{"$f":"O357/G357","v":{"$error":"#DIV/0!"}},{"$f":"P357/H357","v":{"$error":"#DIV/0!"}}]
[null,{"$f":"'4B Calcul. Climat Scen.'!C13","v":"Private car"},{"$f":"'4B Calcul. Climat Scen.'!AA13","v":0},{"$f":"'4B Calcul. Climat Scen.'!AB13","v":0},{"$f":"'4B Calcul. Climat Scen.'!AC13","v":0},{"$f":"'4B Calcul. Climat Scen.'!AD13","v":0},{"$f":"'4B Calcul. Climat Scen.'!AE13","v":0},{"$f":"'4B Calcul. Climat Scen.'!AF13","v":0},null,{"$f":"'4B Calcul. Climat Scen.'!C226","v":"Private car"},{"$f":"'4B Calcul. Climat Scen.'!F226","v":0},{"$f":"'4B Calcul. Climat Scen.'!G226","v":0},{"$f":"'4B Calcul. Climat Scen.'!H226","v":0},{"$f":"'4B Calcul. Climat Scen.'!I226","v":0},{"$f":"'4B Calcul. Climat Scen.'!J226","v":0},{"$f":"'4B Calcul. Climat Scen.'!K226","v":0},null,{"$f":"J358","v":"Private car"},{"$f":"K358-C358","v":0},{"$f":"L358-D358","v":0},{"$f":"M358-E358","v":0},{"$f":"N358-F358","v":0},{"$f":"O358-G358","v":0},{"$f":"P358-H358","v":0},null,{"$f":"K358/C358","v":{"$error":"#DIV/0!"}},{"$error":"#DIV/0!"},{"$error":"#DIV/0!"},{"$error":"#DIV/0!"},{"$error":"#DIV/0!"},{"$error":"#DIV/0!"}]
[null,{"$f":"'4B Calcul. Climat Scen.'!C14","v":"Individual taxi"},{"$f":"'4B Calcul. Climat Scen.'!AA14","v":0},{"$f":"'4B Calcul. Climat Scen.'!AB14","v":0},{"$f":"'4B Calcul. Climat Scen.'!AC14","v":0},{"$f":"'4B Calcul. Climat Scen.'!AD14","v":0},{"$f":"'4B Calcul. Climat Scen.'!AE14","v":0},{"$f":"'4B Calcul. Climat Scen.'!AF14","v":0},null,{"$f":"'4B Calcul. Climat Scen.'!C227","v":"Individual taxi"},{"$f":"'4B Calcul. Climat Scen.'!F227","v":0},{"$f":"'4B Calcul. Climat Scen.'!G227","v":0},{"$f":"'4B Calcul. Climat Scen.'!H227","v":0},{"$f":"'4B Calcul. Climat Scen.'!I227","v":0},{"$f":"'4B Calcul. Climat Scen.'!J227","v":0},{"$f":"'4B Calcul. Climat Scen.'!K227","v":0},null,"Individual taxi",0,0,0,0,0,0,null,{"$error":"#DIV/0!"},{"$error":"#DIV/0!"},{"$error":"#DIV/0!"},{"$error":"#DIV/0!"},{"$error":"#DIV/0!"},{"$error":"#DIV/0!"}]
[null,{"$f":"'4B Calcul. Climat Scen.'!C15","v":"Motorcycle"},{"$f":"'4B Calcul. Climat Scen.'!AA15","v":0},{"$f":"'4B Calcul. Climat Scen.'!AB15","v":0},{"$f":"'4B Calcul. Climat Scen.'!AC15","v":0},{"$f":"'4B Calcul. Climat Scen.'!AD15","v":0},{"$f":"'4B Calcul. Climat Scen.'!AE15","v":0},{"$f":"'4B Calcul. Climat Scen.'!AF15","v":0},null,{"$f":"'4B Calcul. Climat Scen.'!C228","v":"Motorcycle"},{"$f":"'4B Calcul. Climat Scen.'!F228","v":0},{"$f":"'4B Calcul. Climat Scen.'!G228","v":0},{"$f":"'4B Calcul. Climat Scen.'!H228","v":0},{"$f":"'4B Calcul. Climat Scen.'!I228","v":0},{"$f":"'4B Calcul. Climat Scen.'!J228","v":0},{"$f":"'4B Calcul. Climat Scen.'!K228","v":0},null,"Motorcycle",0,0,0,0,0,0,null,{"$error":"#DIV/0!"},{"$error":"#DIV/0!"},{"$error":"#DIV/0!"},{"$error":"#DIV/0!"},{"$error":"#DIV/0!"},{"$error":"#DIV/0!"}]
[null,{"$f":"'4B Calcul. Climat Scen.'!C16","v":"Motorcycle taxi"},{"$f":"'4B Calcul. Climat Scen.'!AA16","v":0},{"$f":"'4B Calcul. Climat Scen.'!AB16","v":0},{"$f":"'4B Calcul. Climat Scen.'!AC16","v":0},{"$f":"'4B Calcul. Climat Scen.'!AD16","v":0},{"$f":"'4B Calcul. Climat Scen.'!AE16","v":0},{"$f":"'4B Calcul. Climat Scen.'!AF16","v":0},null,{"$f":"'4B Calcul. Climat Scen.'!C229","v":"Motorcycle taxi"},{"$f":"'4B Calcul. Climat Scen.'!F229","v":0},{"$f":"'4B Calcul. Climat Scen.'!G229","v":0},{"$f":"'4B Calcul. Climat Scen.'!H229","v":0},{"$f":"'4B Calcul. Climat Scen.'!I229","v":0},{"$f":"'4B Calcul. Climat Scen.'!J229","v":0},{"$f":"'4B Calcul. Climat Scen.'!K229","v":0},null,"Motorcycle taxi",0,0,0,0,0,0,null,{"$error":"#DIV/0!"},{"$error":"#DIV/0!"},{"$error":"#DIV/0!"},{"$error":"#DIV/0!"},{"$error":"#DIV/0!"},{"$error":"#DIV/0!"}]
[null,{"$f":"'4B Calcul. Climat Scen.'!C17","v":"Minibus"},{"$f":"'4B Calcul. Climat Scen.'!AA17","v":0},{"$f":"'4B Calcul. Climat Scen.'!AB17","v":0},{"$f":"'4B Calcul. Climat Scen.'!AC17","v":0},{"$f":"'4B Calcul. Climat Scen.'!AD17","v":0},{"$f":"'4B Calcul. Climat Scen.'!AE17","v":0},{"$f":"'4B Calcul. Climat Scen.'!AF17","v":0},null,{"$f":"'4B Calcul. Climat Scen.'!C230","v":"Minibus"},{"$f":"'4B Calcul. Climat Scen.'!F230","v":0},{"$f":"'4B Calcul. Climat Scen.'!G230","v":0},{"$f":"'4B Calcul. Climat Scen.'!H230","v":0},{"$f":"'4B Calcul. Climat Scen.'!I230","v":0},{"$f":"'4B Calcul. Climat Scen.'!J230","v":0},{"$f":"'4B Calcul. Climat Scen.'!K230","v":0},null,"Minibus",0,0,0,0,0,0,null,{"$error":"#DIV/0!"},{"$error":"#DIV/0!"},{"$error":"#DIV/0!"},{"$error":"#DIV/0!"},{"$error":"#DIV/0!"},{"$error":"#DIV/0!"}]
[null,{"$f":"'4B Calcul. Climat Scen.'!C18","v":"Bus"},{"$f":"'4B Calcul. Climat Scen.'!AA18","v":0},{"$f":"'4B Calcul. Climat Scen.'!AB18","v":0},{"$f":"'4B Calcul. Climat Scen.'!AC18","v":0},{"$f":"'4B Calcul. Climat Scen.'!AD18","v":0},{"$f":"'4B Calcul. Climat Scen.'!AE18","v":0},{"$f":"'4B Calcul. Climat Scen.'!AF18","v":0},null,{"$f":"'4B Calcul. Climat Scen.'!C231","v":"Bus"},{"$f":"'4B Calcul. Climat Scen.'!F231","v":0},{"$f":"'4B Calcul. Climat Scen.'!G231","v":0},{"$f":"'4B Calcul. Climat Scen.'!H231","v":0},{"$f":"'4B Calcul. Climat Scen.'!I231","v":0},{"$f":"'4B Calcul. Climat Scen.'!J231","v":0},{"$f":"'4B Calcul. Climat Scen.'!K231","v":0},null,"Bus",0,0,0,0,0,0,null,{"$error":"#DIV/0!"},{"$error":"#DIV/0!"},{"$error":"#DIV/0!"},{"$error":"#DIV/0!"},{"$error":"#DIV/0!"},{"$error":"#DIV/0!"}]
[null,{"$f":"'4B Calcul. Climat Scen.'!C19","v":"BRT"},{"$f":"'4B Calcul. Climat Scen.'!AA19","v":0},{"$f":"'4B Calcul. Climat Scen.'!AB19","v":0},{"$f":"'4B Calcul. Climat Scen.'!AC19","v":0},{"$f":"'4B Calcul. Climat Scen.'!AD19","v":0},{"$f":"'4B Calcul. Climat Scen.'!AE19","v":0},{"$f":"'4B Calcul. Climat Scen.'!AF19","v":0},null,{"$f":"'4B Calcul. Climat Scen.'!C232","v":"BRT"},{"$f":"'4B Calcul. Climat Scen.'!F232","v":0},{"$f":"'4B Calcul. Climat Scen.'!G232","v":0},{"$f":"'4B Calcul. Climat Scen.'!H232","v":0},{"$f":"'4B Calcul. Climat Scen.'!I232","v":0},{"$f":"'4B Calcul. Climat Scen.'!J232","v":0},{"$f":"'4B Calcul. Climat Scen.'!K232","v":0},null,"BRT",0,0,0,0,0,0,null,{"$error":"#DIV/0!"},{"$error":"#DIV/0!"},{"$error":"#DIV/0!"},{"$error":"#DIV/0!"},{"$error":"#DIV/0!"},{"$error":"#DIV/0!"}]
[null,{"$f":"'4B Calcul. Climat Scen.'!C20","v":"Long distance train"},{"$f":"'4B Calcul. Climat Scen.'!AA20","v":0},{"$f":"'4B Calcul. Climat Scen.'!AB20","v":0},{"$f":"'4B Calcul. Climat Scen.'!AC20","v":0},{"$f":"'4B Calcul. Climat Scen.'!AD20","v":0},{"$f":"'4B Calcul. Climat Scen.'!AE20","v":0},{"$f":"'4B Calcul. Climat Scen.'!AF20","v":0},null,{"$f":"'4B Calcul. Climat Scen.'!C233","v":"Long distance train"},{"$f":"'4B Calcul. Climat Scen.'!F233","v":0},{"$f":"'4B Calcul. Climat Scen.'!G233","v":0},{"$f":"'4B Calcul. Climat Scen.'!H233","v":0},{"$f":"'4B Calcul. Climat Scen.'!I233","v":0},{"$f":"'4B Calcul. Climat Scen.'!J233","v":0},{"$f":"'4B Calcul. Climat Scen.'!K233","v":0},null,"Long distance train",0,0,0,0,0,0,null,{"$error":"#DIV/0!"},{"$error":"#DIV/0!"},{"$error":"#DIV/0!"},{"$error":"#DIV/0!"},{"$error":"#DIV/0!"},{"$error":"#DIV/0!"}]
[null,{"$f":"'4B Calcul. Climat Scen.'!C21","v":"Urban train"},{"$f":"'4B Calcul. Climat Scen.'!AA21","v":0},{"$f":"'4B Calcul. Climat Scen.'!AB21","v":0},{"$f":"'4B Calcul. Climat Scen.'!AC21","v":0},{"$f":"'4B Calcul. Climat Scen.'!AD21","v":0},{"$f":"'4B Calcul. Climat Scen.'!AE21","v":0},{"$f":"'4B Calcul. Climat Scen.'!AF21","v":0},null,{"$f":"'4B Calcul. Climat Scen.'!C234","v":"Urban train"},{"$f":"'4B Calcul. Climat Scen.'!F234","v":0},{"$f":"'4B Calcul. Climat Scen.'!G234","v":0},{"$f":"'4B Calcul. Climat Scen.'!H234","v":0},{"$f":"'4B Calcul. Climat Scen.'!I234","v":0},{"$f":"'4B Calcul. Climat Scen.'!J234","v":0},{"$f":"'4B Calcul. Climat Scen.'!K234","v":0},null,"Urban train",0,0,0,0,0,0,null,{"$error":"#DIV/0!"},{"$error":"#DIV/0!"},{"$error":"#DIV/0!"},{"$error":"#DIV/0!"},{"$error":"#DIV/0!"},{"$error":"#DIV/0!"}]
[null,{"$f":"'4B Calcul. Climat Scen.'!C22","v":"Metro"},{"$f":"'4B Calcul. Climat Scen.'!AA22","v":0},{"$f":"'4B Calcul. Climat Scen.'!AB22","v":0},{"$f":"'4B Calcul. Climat Scen.'!AC22","v":0},{"$f":"'4B Calcul. Climat Scen.'!AD22","v":0},{"$f":"'4B Calcul. Climat Scen.'!AE22","v":0},{"$f":"'4B Calcul. Climat Scen.'!AF22","v":0},null,{"$f":"'4B Calcul. Climat Scen.'!C235","v":"Metro"},{"$f":"'4B Calcul. Climat Scen.'!F235","v":0},{"$f":"'4B Calcul. Climat Scen.'!G235","v":0},{"$f":"'4B Calcul. Climat Scen.'!H235","v":0},{"$f":"'4B Calcul. Climat Scen.'!I235","v":0},{"$f":"'4B Calcul. Climat Scen.'!J235","v":0},{"$f":"'4B Calcul. Climat Scen.'!K235","v":0},null,"Metro",0,0,0,0,0,0,null,{"$error":"#DIV/0!"},{"$error":"#DIV/0!"},{"$error":"#DIV/0!"},{"$error":"#DIV/0!"},{"$error":"#DIV/0!"},{"$error":"#DIV/0!"}]
[null,{"$f":"'4B Calcul. Climat Scen.'!C23","v":"Very light LCV"},{"$f":"'4B Calcul. Climat Scen.'!AH23","v":0},{"$f":"'4B Calcul. Climat Scen.'!AI23","v":0},{"$f":"'4B Calcul. Climat Scen.'!AJ23","v":0},{"$f":"'4B Calcul. Climat Scen.'!AK23","v":0},{"$f":"'4B Calcul. Climat Scen.'!AL23","v":0},{"$f":"'4B Calcul. Climat Scen.'!AM23","v":0},null,{"$f":"'4B Calcul. Climat Scen.'!C236","v":"Very light LCV"},{"$f":"'4B Calcul. Climat Scen.'!N236","v":0},{"$f":"'4B Calcul. Climat Scen.'!O236","v":0},{"$f":"'4B Calcul. Climat Scen.'!P236","v":0},{"$f":"'4B Calcul. Climat Scen.'!Q236","v":0},{"$f":"'4B Calcul. Climat Scen.'!R236","v":0},{"$f":"'4B Calcul. Climat Scen.'!S236","v":0},null,"Very light LCV",0,0,0,0,0,0,null,{"$error":"#DIV/0!"},{"$error":"#DIV/0!"},{"$error":"#DIV/0!"},{"$error":"#DIV/0!"},{"$error":"#DIV/0!"},{"$error":"#DIV/0!"}]
[null,{"$f":"'4B Calcul. Climat Scen.'!C24","v":"LCV"},{"$f":"'4B Calcul. Climat Scen.'!AH24","v":0},{"$f":"'4B Calcul. Climat Scen.'!AI24","v":0},{"$f":"'4B Calcul. Climat Scen.'!AJ24","v":0},{"$f":"'4B Calcul. Climat Scen.'!AK24","v":0},{"$f":"'4B Calcul. Climat Scen.'!AL24","v":0},{"$f":"'4B Calcul. Climat Scen.'!AM24","v":0},null,{"$f":"'4B Calcul. Climat Scen.'!C237","v":"LCV"},{"$f":"'4B Calcul. Climat Scen.'!N237","v":0},{"$f":"'4B Calcul. Climat Scen.'!O237","v":0},{"$f":"'4B Calcul. Climat Scen.'!P237","v":0},{"$f":"'4B Calcul. Climat Scen.'!Q237","v":0},{"$f":"'4B Calcul. Climat Scen.'!R237","v":0},{"$f":"'4B Calcul. Climat Scen.'!S237","v":0},null,"LCV",0,0,0,0,0,0,null,{"$error":"#DIV/0!"},{"$error":"#DIV/0!"},{"$error":"#DIV/0!"},{"$error":"#DIV/0!"},{"$error":"#DIV/0!"},{"$error":"#DIV/0!"}]
[null,{"$f":"'4B Calcul. Climat Scen.'!C25","v":"Solo truck"},{"$f":"'4B Calcul. Climat Scen.'!AH25","v":0},{"$f":"'4B Calcul. Climat Scen.'!AI25","v":0},{"$f":"'4B Calcul. Climat Scen.'!AJ25","v":0},{"$f":"'4B Calcul. Climat Scen.'!AK25","v":0},{"$f":"'4B Calcul. Climat Scen.'!AL25","v":0},{"$f":"'4B Calcul. Climat Scen.'!AM25","v":0},null,{"$f":"'4B Calcul. Climat Scen.'!C238","v":"Solo truck"},{"$f":"'4B Calcul. Climat Scen.'!N238","v":0},{"$f":"'4B Calcul. Climat Scen.'!O238","v":0},{"$f":"'4B Calcul. Climat Scen.'!P238","v":0},{"$f":"'4B Calcul. Climat Scen.'!Q238","v":0},{"$f":"'4B Calcul. Climat Scen.'!R238","v":0},{"$f":"'4B Calcul. Climat Scen.'!S238","v":0},null,"Solo truck",0,0,0,0,0,0,null,{"$error":"#DIV/0!"},{"$error":"#DIV/0!"},{"$error":"#DIV/0!"},{"$error":"#DIV/0!"},{"$error":"#DIV/0!"},{"$error":"#DIV/0!"}]
[null,{"$f":"'4B Calcul. Climat Scen.'!C26","v":"Articulated truck"},{"$f":"'4B Calcul. Climat Scen.'!AH26","v":0},{"$f":"'4B Calcul. Climat Scen.'!AI26","v":0},{"$f":"'4B Calcul. Climat Scen.'!AJ26","v":0},{"$f":"'4B Calcul. Climat Scen.'!AK26","v":0},{"$f":"'4B Calcul. Climat Scen.'!AL26","v":0},{"$f":"'4B Calcul. Climat Scen.'!AM26","v":0},null,{"$f":"'4B Calcul. Climat Scen.'!C239","v":"Articulated truck"},{"$f":"'4B Calcul. Climat Scen.'!N239","v":0},{"$f":"'4B Calcul. Climat Scen.'!O239","v":0},{"$f":"'4B Calcul. Climat Scen.'!P239","v":0},{"$f":"'4B Calcul. Climat Scen.'!Q239","v":0},{"$f":"'4B Calcul. Climat Scen.'!R239","v":0},{"$f":"'4B Calcul. Climat Scen.'!S239","v":0},null,"Articulated truck",0,0,0,0,0,0,null,{"$error":"#DIV/0!"},{"$error":"#DIV/0!"},{"$error":"#DIV/0!"},{"$error":"#DIV/0!"},{"$error":"#DIV/0!"},{"$error":"#DIV/0!"}]
[null,{"$f":"'4B Calcul. Climat Scen.'!C27","v":"Freight train"},{"$f":"'4B Calcul. Climat Scen.'!AH27","v":0},{"$f":"'4B Calcul. Climat Scen.'!AI27","v":0},{"$f":"'4B Calcul. Climat Scen.'!AJ27","v":0},{"$f":"'4B Calcul. Climat Scen.'!AK27","v":0},{"$f":"'4B Calcul. Climat Scen.'!AL27","v":0},{"$f":"'4B Calcul. Climat Scen.'!AM27","v":0},null,{"$f":"'4B Calcul. Climat Scen.'!C240","v":"Freight train"},{"$f":"'4B Calcul. Climat Scen.'!N240","v":0},{"$f":"'4B Calcul. Climat Scen.'!O240","v":0},{"$f":"'4B Calcul. Climat Scen.'!P240","v":0},{"$f":"'4B Calcul. Climat Scen.'!Q240","v":0},{"$f":"'4B Calcul. Climat Scen.'!R240","v":0},{"$f":"'4B Calcul. Climat Scen.'!S240","v":0},null,"Freight train",0,0,0,0,0,0,null,{"$error":"#DIV/0!"},{"$error":"#DIV/0!"},{"$error":"#DIV/0!"},{"$error":"#DIV/0!"},{"$error":"#DIV/0!"},{"$error":"#DIV/0!"}]
[]
[]
[null,"VKT BAU",{"$f":"C356","v":0},{"$f":"D356","v":2020},2025,2030,2040,2050,null,"VKT Climate",{"$f":"C375","v":0},{"$f":"D375","v":2020},2025,2030,2040,2050,null,"VKT Climate-BAU",{"$f":"K375","v":0},{"$f":"L375","v":2020},2025,2030,2040,2050,null,{"$f":"S375","v":0},2020,2025,2030,2040,2050]
[null,{"$f":"'4B Calcul. Climat Scen.'!C12","v":"NMT"},{"$f":"'4B Calcul. Climat Scen.'!F12","v":0},{"$f":"'4B Calcul. Climat Scen.'!G12","v":0},{"$f":"'4B Calcul. Climat Scen.'!H12","v":0},{"$f":"'4B Calcul. Climat Scen.'!I12","v":0},{"$f":"'4B Calcul. Climat Scen.'!J12","v":0},{"$f":"'4B Calcul. Climat Scen.'!K12","v":0},null,{"$f":"'4B Calcul. Climat Scen.'!C225","v":"NMT"},{"$f":"'4B Calcul. Climat Scen.'!AI225","v":0},{"$f":"'4B Calcul. Climat Scen.'!AJ225","v":0},{"$f":"'4B Calcul. Climat Scen.'!AK225","v":0},{"$f":"'4B Calcul. Climat Scen.'!AL225","v":0},{"$f":"'4B Calcul. Climat Scen.'!AM225","v":0},{"$f":"'4B Calcul. Climat Scen.'!AN225","v":0},null,{"$f":"J376","v":"NMT"},{"$f":"K376-C376","v":0},{"$f":"L376-D376","v":0},0,0,0,0,null,{"$f":"K376/C376","v":{"$error":"#DIV/0!"}},{"$f":"L376/D376","v":{"$error":"#DIV/0!"}},{"$f":"M376/E376","v":{"$error":"#DIV/0!"}},{"$f":"N376/F376","v":{"$error":"#DIV/0!"}},{"$f":"O376/G376","v":{"$error":"#DIV/0!"}},{"$f":"P376/H376","v":{"$error":"#DIV/0!"}}]
[null,{"$f":"'4B Calcul. Climat Scen.'!C13","v":"Private car"},{"$f":"'4B Calcul. Climat Scen.'!F13","v":0},{"$f":"'4B Calcul. Climat Scen.'!G13","v":0},{"$f":"'4B Calcul. Climat Scen.'!H13","v":0},{"$f":"'4B Calcul. Climat Scen.'!I13","v":0},{"$f":"'4B Calcul. Climat Scen.'!J13","v":0},{"$f":"'4B Calcul. Climat Scen.'!K13","v":0},null,{"$f":"'4B Calcul. Climat Scen.'!C226","v":"Private car"},{"$f":"'4B Calcul. Climat Scen.'!AI226","v":0},{"$f":"'4B Calcul. Climat Scen.'!AJ226","v":0},{"$f":"'4B Calcul. Climat Scen.'!AK226","v":0},{"$f":"'4B Calcul. Climat Scen.'!AL226","v":0},{"$f":"'4B Calcul. Climat Scen.'!AM226","v":0},{"$f":"'4B Calcul. Climat Scen.'!AN226","v":0},null,{"$f":"J377","v":"Private car"},{"$f":"K377-C377","v":0},{"$f":"L377-D377","v":0},{"$f":"M377-E377","v":0},{"$f":"N377-F377","v":0},{"$f":"O377-G377","v":0},{"$f":"P377-H377","v":0},null,{"$f":"K377/C377","v":{"$error":"#DIV/0!"}},{"$error":"#DIV/0!"},{"$error":"#DIV/0!"},{"$error":"#DIV/0!"},{"$error":"#DIV/0!"},{"$error":"#DIV/0!"}]
[null,{"$f":"'4B Calcul. Climat Scen.'!C14","v":"Individual taxi"},{"$f":"'4B Calcul. Climat Scen.'!F14","v":0},{"$f":"'4B Calcul. Climat Scen.'!G14","v":0},{"$f":"'4B Calcul. Climat Scen.'!H14","v":0},{"$f":"'4B Calcul. Climat Scen.'!I14","v":0},{"$f":"'4B Calcul. Climat Scen.'!J14","v":0},{"$f":"'4B Calcul. Climat Scen.'!K14","v":0},null,{"$f":"'4B Calcul. Climat Scen.'!C227","v":"Individual taxi"},{"$f":"'4B Calcul. Climat Scen.'!AI227","v":0},{"$f":"'4B Calcul. Climat Scen.'!AJ227","v":0},{"$f":"'4B Calcul. Climat Scen.'!AK227","v":0},{"$f":"'4B Calcul. Climat Scen.'!AL227","v":0},{"$f":"'4B Calcul. Climat Scen.'!AM227","v":0},{"$f":"'4B Calcul. Climat Scen.'!AN227","v":0},null,"Individual taxi",0,0,0,0,0,0,null,{"$error":"#DIV/0!"},{"$error":"#DIV/0!"},{"$error":"#DIV/0!"},{"$error":"#DIV/0!"},{"$error":"#DIV/0!"},{"$error":"#DIV/0!"}]
[null,{"$f":"'4B Calcul. Climat Scen.'!C15","v":"Motorcycle"},{"$f":"'4B Calcul. Climat Scen.'!F15","v":0},{"$f":"'4B Calcul. Climat Scen.'!G15","v":0},{"$f":"'4B Calcul. Climat Scen.'!H15","v":0},{"$f":"'4B Calcul. Climat Scen.'!I15","v":0},{"$f":"'4B Calcul. Climat Scen.'!J15","v":0},{"$f":"'4B Calcul. Climat Scen.'!K15","v":0},null,{"$f":"'4B Calcul. Climat Scen.'!C228","v":"Motorcycle"},{"$f":"'4B Calcul. Climat Scen.'!AI228","v":0},{"$f":"'4B Calcul. Climat Scen.'!AJ228","v":0},{"$f":"'4B Calcul. Climat Scen.'!AK228","v":0},{"$f":"'4B Calcul. Climat Scen.'!AL228","v":0},{"$f":"'4B Calcul. Climat Scen.'!AM228","v":0},{"$f":"'4B Calcul. Climat Scen.'!AN228","v":0},null,"Motorcycle",0,0,0,0,0,0,null,{"$error":"#DIV/0!"},{"$error":"#DIV/0!"},{"$error":"#DIV/0!"},{"$error":"#DIV/0!"},{"$error":"#DIV/0!"},{"$error":"#DIV/0!"}]
[null,{"$f":"'4B Calcul. Climat Scen.'!C16","v":"Motorcycle taxi"},{"$f":"'4B Calcul. Climat Scen.'!F16","v":0},{"$f":"'4B Calcul. Climat Scen.'!G16","v":0},{"$f":"'4B Calcul. Climat Scen.'!H16","v":0},{"$f":"'4B Calcul. Climat Scen.'!I16","v":0},{"$f":"'4B Calcul. Climat Scen.'!J16","v":0},{"$f":"'4B Calcul. Climat Scen.'!K16","v":0},null,{"$f":"'4B Calcul. Climat Scen.'!C229","v":"Motorcycle taxi"},{"$f":"'4B Calcul. Climat Scen.'!AI229","v":0},{"$f":"'4B Calcul. Climat Scen.'!AJ229","v":0},{"$f":"'4B Calcul. Climat Scen.'!AK229","v":0},{"$f":"'4B Calcul. Climat Scen.'!AL229","v":0},{"$f":"'4B Calcul. Climat Scen.'!AM229","v":0},{"$f":"'4B Calcul. Climat Scen.'!AN229","v":0},null,"Motorcycle taxi",0,0,0,0,0,0,null,{"$error":"#DIV/0!"},{"$error":"#DIV/0!"},{"$error":"#DIV/0!"},{"$error":"#DIV/0!"},{"$error":"#DIV/0!"},{"$error":"#DIV/0!"}]
[null,{"$f":"'4B Calcul. Climat Scen.'!C17","v":"Minibus"},{"$f":"'4B Calcul. Climat Scen.'!F17","v":0},{"$f":"'4B Calcul. Climat Scen.'!G17","v":0},{"$f":"'4B Calcul. Climat Scen.'!H17","v":0},{"$f":"'4B Calcul. Climat Scen.'!I17","v":0},{"$f":"'4B Calcul. Climat Scen.'!J17","v":0},{"$f":"'4B Calcul. Climat Scen.'!K17","v":0},null,{"$f":"'4B Calcul. Climat Scen.'!C230","v":"Minibus"},{"$f":"'4B Calcul. Climat Scen.'!AI230","v":0},{"$f":"'4B Calcul. Climat Scen.'!AJ230","v":0},{"$f":"'4B Calcul. Climat Scen.'!AK230","v":0},{"$f":"'4B Calcul. Climat Scen.'!AL230","v":0},{"$f":"'4B Calcul. Climat Scen.'!AM230","v":0},{"$f":"'4B Calcul. Climat Scen.'!AN230","v":0},null,"Minibus",0,0,0,0,0,0,null,{"$error":"#DIV/0!"},{"$error":"#DIV/0!"},{"$error":"#DIV/0!"},{"$error":"#DIV/0!"},{"$error":"#DIV/0!"},{"$error":"#DIV/0!"}]
[null,{"$f":"'4B Calcul. Climat Scen.'!C18","v":"Bus"},{"$f":"'4B Calcul. Climat Scen.'!F18","v":0},{"$f":"'4B Calcul. Climat Scen.'!G18","v":0},{"$f":"'4B Calcul. Climat Scen.'!H18","v":0},{"$f":"'4B Calcul. Climat Scen.'!I18","v":0},{"$f":"'4B Calcul. Climat Scen.'!J18","v":0},{"$f":"'4B Calcul. Climat Scen.'!K18","v":0},null,{"$f":"'4B Calcul. Climat Scen.'!C231","v":"Bus"},{"$f":"'4B Calcul. Climat Scen.'!AI231","v":0},{"$f":"'4B Calcul. Climat Scen.'!AJ231","v":0},{"$f":"'4B Calcul. Climat Scen.'!AK231","v":0},{"$f":"'4B Calcul. Climat Scen.'!AL231","v":0},{"$f":"'4B Calcul. Climat Scen.'!AM231","v":0},{"$f":"'4B Calcul. Climat Scen.'!AN231","v":0},null,"Bus",0,0,0,0,0,0,null,{"$error":"#DIV/0!"},{"$error":"#DIV/0!"},{"$error":"#DIV/0!"},{"$error":"#DIV/0!"},{"$error":"#DIV/0!"},{"$error":"#DIV/0!"}]
[null,{"$f":"'4B Calcul. Climat Scen.'!C19","v":"BRT"},{"$f":"'4B Calcul. Climat Scen.'!F19","v":0},{"$f":"'4B Calcul. Climat Scen.'!G19","v":0},{"$f":"'4B Calcul. Climat Scen.'!H19","v":0},{"$f":"'4B Calcul. Climat Scen.'!I19","v":0},{"$f":"'4B Calcul. Climat Scen.'!J19","v":0},{"$f":"'4B Calcul. Climat Scen.'!K19","v":0},null,{"$f":"'4B Calcul. Climat Scen.'!C232","v":"BRT"},{"$f":"'4B Calcul. Climat Scen.'!AI232","v":0},{"$f":"'4B Calcul. Climat Scen.'!AJ232","v":0},{"$f":"'4B Calcul. Climat Scen.'!AK232","v":0},{"$f":"'4B Calcul. Climat Scen.'!AL232","v":0},{"$f":"'4B Calcul. Climat Scen.'!AM232","v":0},{"$f":"'4B Calcul. Climat Scen.'!AN232","v":0},null,"BRT",0,0,0,0,0,0,null,{"$error":"#DIV/0!"},{"$error":"#DIV/0!"},{"$error":"#DIV/0!"},{"$error":"#DIV/0!"},{"$error":"#DIV/0!"},{"$error":"#DIV/0!"}]
[null,{"$f":"'4B Calcul. Climat Scen.'!C20","v":"Long distance train"},{"$f":"'4B Calcul. Climat Scen.'!F20","v":0},{"$f":"'4B Calcul. Climat Scen.'!G20","v":0},{"$f":"'4B Calcul. Climat Scen.'!H20","v":0},{"$f":"'4B Calcul. Climat Scen.'!I20","v":0},{"$f":"'4B Calcul. Climat Scen.'!J20","v":0},{"$f":"'4B Calcul. Climat Scen.'!K20","v":0},null,{"$f":"'4B Calcul. Climat Scen.'!C233","v":"Long distance train"},{"$f":"'4B Calcul. Climat Scen.'!AI233","v":0},{"$f":"'4B Calcul. Climat Scen.'!AJ233","v":0},{"$f":"'4B Calcul. Climat Scen.'!AK233","v":0},{"$f":"'4B Calcul. Climat Scen.'!AL233","v":0},{"$f":"'4B Calcul. Climat Scen.'!AM233","v":0},{"$f":"'4B Calcul. Climat Scen.'!AN233","v":0},null,"Long distance train",0,0,0,0,0,0,null,{"$error":"#DIV/0!"},{"$error":"#DIV/0!"},{"$error":"#DIV/0!"},{"$error":"#DIV/0!"},{"$error":"#DIV/0!"},{"$error":"#DIV/0!"}]
[null,{"$f":"'4B Calcul. Climat Scen.'!C21","v":"Urban train"},{"$f":"'4B Calcul. Climat Scen.'!F21","v":0},{"$f":"'4B Calcul. Climat Scen.'!G21","v":0},{"$f":"'4B Calcul. Climat Scen.'!H21","v":0},{"$f":"'4B Calcul. Climat Scen.'!I21","v":0},{"$f":"'4B Calcul. Climat Scen.'!J21","v":0},{"$f":"'4B Calcul. Climat Scen.'!K21","v":0},null,{"$f":"'4B Calcul. Climat Scen.'!C234","v":"Urban train"},{"$f":"'4B Calcul. Climat Scen.'!AI234","v":0},{"$f":"'4B Calcul. Climat Scen.'!AJ234","v":0},{"$f":"'4B Calcul. Climat Scen.'!AK234","v":0},{"$f":"'4B Calcul. Climat Scen.'!AL234","v":0},{"$f":"'4B Calcul. Climat Scen.'!AM234","v":0},{"$f":"'4B Calcul. Climat Scen.'!AN234","v":0},null,"Urban train",0,0,0,0,0,0,null,{"$error":"#DIV/0!"},{"$error":"#DIV/0!"},{"$error":"#DIV/0!"},{"$error":"#DIV/0!"},{"$error":"#DIV/0!"},{"$error":"#DIV/0!"}]
[null,{"$f":"'4B Calcul. Climat Scen.'!C22","v":"Metro"},{"$f":"'4B Calcul. Climat Scen.'!F22","v":0},{"$f":"'4B Calcul. Climat Scen.'!G22","v":0},{"$f":"'4B Calcul. Climat Scen.'!H22","v":0},{"$f":"'4B Calcul. Climat Scen.'!I22","v":0},{"$f":"'4B Calcul. Climat Scen.'!J22","v":0},{"$f":"'4B Calcul. Climat Scen.'!K22","v":0},null,{"$f":"'4B Calcul. Climat Scen.'!C235","v":"Metro"},{"$f":"'4B Calcul. Climat Scen.'!AI235","v":0},{"$f":"'4B Calcul. Climat Scen.'!AJ235","v":0},{"$f":"'4B Calcul. Climat Scen.'!AK235","v":0},{"$f":"'4B Calcul. Climat Scen.'!AL235","v":0},{"$f":"'4B Calcul. Climat Scen.'!AM235","v":0},{"$f":"'4B Calcul. Climat Scen.'!AN235","v":0},null,"Metro",0,0,0,0,0,0,null,{"$error":"#DIV/0!"},{"$error":"#DIV/0!"},{"$error":"#DIV/0!"},{"$error":"#DIV/0!"},{"$error":"#DIV/0!"},{"$error":"#DIV/0!"}]
[null,{"$f":"'4B Calcul. Climat Scen.'!C23","v":"Very light LCV"},{"$f":"'4B Calcul. Climat Scen.'!F23","v":0},{"$f":"'4B Calcul. Climat Scen.'!G23","v":0},{"$f":"'4B Calcul. Climat Scen.'!H23","v":0},{"$f":"'4B Calcul. Climat Scen.'!I23","v":0},{"$f":"'4B Calcul. Climat Scen.'!J23","v":0},{"$f":"'4B Calcul. Climat Scen.'!K23","v":0},null,{"$f":"'4B Calcul. Climat Scen.'!C236","v":"Very light LCV"},{"$f":"'4B Calcul. Climat Scen.'!AI236","v":0},{"$f":"'4B Calcul. Climat Scen.'!AJ236","v":0},{"$f":"'4B Calcul. Climat Scen.'!AK236","v":0},{"$f":"'4B Calcul. Climat Scen.'!AL236","v":0},{"$f":"'4B Calcul. Climat Scen.'!AM236","v":0},{"$f":"'4B Calcul. Climat Scen.'!AN236","v":0},null,"Very light LCV",0,0,0,0,0,0,null,{"$error":"#DIV/0!"},{"$error":"#DIV/0!"},{"$error":"#DIV/0!"},{"$error":"#DIV/0!"},{"$error":"#DIV/0!"},{"$error":"#DIV/0!"}]
[null,{"$f":"'4B Calcul. Climat Scen.'!C24","v":"LCV"},{"$f":"'4B Calcul. Climat Scen.'!F24","v":0},{"$f":"'4B Calcul. Climat Scen.'!G24","v":0},{"$f":"'4B Calcul. Climat Scen.'!H24","v":0},{"$f":"'4B Calcul. Climat Scen.'!I24","v":0},{"$f":"'4B Calcul. Climat Scen.'!J24","v":0},{"$f":"'4B Calcul. Climat Scen.'!K24","v":0},null,{"$f":"'4B Calcul. Climat Scen.'!C237","v":"LCV"},{"$f":"'4B Calcul. Climat Scen.'!AI237","v":0},{"$f":"'4B Calcul. Climat Scen.'!AJ237","v":0},{"$f":"'4B Calcul. Climat Scen.'!AK237","v":0},{"$f":"'4B Calcul. Climat Scen.'!AL237","v":0},{"$f":"'4B Calcul. Climat Scen.'!AM237","v":0},{"$f":"'4B Calcul. Climat Scen.'!AN237","v":0},null,"LCV",0,0,0,0,0,0,null,{"$error":"#DIV/0!"},{"$error":"#DIV/0!"},{"$error":"#DIV/0!"},{"$error":"#DIV/0!"},{"$error":"#DIV/0!"},{"$error":"#DIV/0!"}]
[null,{"$f":"'4B Calcul. Climat Scen.'!C25","v":"Solo truck"},{"$f":"'4B Calcul. Climat Scen.'!F25","v":0},{"$f":"'4B Calcul. Climat Scen.'!G25","v":0},{"$f":"'4B Calcul. Climat Scen.'!H25","v":0},{"$f":"'4B Calcul. Climat Scen.'!I25","v":0},{"$f":"'4B Calcul. Climat Scen.'!J25","v":0},{"$f":"'4B Calcul. Climat Scen.'!K25","v":0},null,{"$f":"'4B Calcul. Climat Scen.'!C238","v":"Solo truck"},{"$f":"'4B Calcul. Climat Scen.'!AI238","v":0},{"$f":"'4B Calcul. Climat Scen.'!AJ238","v":0},{"$f":"'4B Calcul. Climat Scen.'!AK238","v":0},{"$f":"'4B Calcul. Climat Scen.'!AL238","v":0},{"$f":"'4B Calcul. Climat Scen.'!AM238","v":0},{"$f":"'4B Calcul. Climat Scen.'!AN238","v":0},null,"Solo truck",0,0,0,0,0,0,null,{"$error":"#DIV/0!"},{"$error":"#DIV/0!"},{"$error":"#DIV/0!"},{"$error":"#DIV/0!"},{"$error":"#DIV/0!"},{"$error":"#DIV/0!"}]
[null,{"$f":"'4B Calcul. Climat Scen.'!C26","v":"Articulated truck"},{"$f":"'4B Calcul. Climat Scen.'!F26","v":0},{"$f":"'4B Calcul. Climat Scen.'!G26","v":0},{"$f":"'4B Calcul. Climat Scen.'!H26","v":0},{"$f":"'4B Calcul. Climat Scen.'!I26","v":0},{"$f":"'4B Calcul. Climat Scen.'!J26","v":0},{"$f":"'4B Calcul. Climat Scen.'!K26","v":0},null,{"$f":"'4B Calcul. Climat Scen.'!C239","v":"Articulated truck"},{"$f":"'4B Calcul. Climat Scen.'!AI239","v":0},{"$f":"'4B Calcul. Climat Scen.'!AJ239","v":0},{"$f":"'4B Calcul. Climat Scen.'!AK239","v":0},{"$f":"'4B Calcul. Climat Scen.'!AL239","v":0},{"$f":"'4B Calcul. Climat Scen.'!AM239","v":0},{"$f":"'4B Calcul. Climat Scen.'!AN239","v":0},null,"Articulated truck",0,0,0,0,0,0,null,{"$error":"#DIV/0!"},{"$error":"#DIV/0!"},{"$error":"#DIV/0!"},{"$error":"#DIV/0!"},{"$error":"#DIV/0!"},{"$error":"#DIV/0!"}]
[null,{"$f":"'4B Calcul. Climat Scen.'!C27","v":"Freight train"},{"$f":"'4B Calcul. Climat Scen.'!F27","v":0},{"$f":"'4B Calcul. Climat Scen.'!G27","v":0},{"$f":"'4B Calcul. Climat Scen.'!H27","v":0},{"$f":"'4B Calcul. Climat Scen.'!I27","v":0},{"$f":"'4B Calcul. Climat Scen.'!J27","v":0},{"$f":"'4B Calcul. Climat Scen.'!K27","v":0},null,{"$f":"'4B Calcul. Climat Scen.'!C240","v":"Freight train"},{"$f":"'4B Calcul. Climat Scen.'!AI240","v":0},{"$f":"'4B Calcul. Climat Scen.'!AJ240","v":0},{"$f":"'4B Calcul. Climat Scen.'!AK240","v":0},{"$f":"'4B Calcul. Climat Scen.'!AL240","v":0},{"$f":"'4B Calcul. Climat Scen.'!AM240","v":0},{"$f":"'4B Calcul. Climat Scen.'!AN240","v":0},null,"Freight train",0,0,0,0,0,0,null,{"$error":"#DIV/0!"},{"$error":"#DIV/0!"},{"$error":"#DIV/0!"},{"$error":"#DIV/0!"},{"$error":"#DIV/0!"},{"$error":"#DIV/0!"}]
[]
[]
[null,null,"Climate scenario","Diff Climate-BAU","Climate scenario","Diff Climate-BAU","Climate scenario","Diff Climate-BAU"]
[null,null,2020,2020,2030,2030,2050,2050]
[null,null,"Gramm CO2äq pro Fz-km"]
[null,"Private car",{"$f":"D306*1000/(D178*10^6)*10^6","v":{"$error":"#DIV/0!"}},{"$f":"C397-'1A Input Base and BAU'!K265","v":{"$error":"#DIV/0!"}},{"$f":"J306*1000/(F178*10^6)*10^6","v":{"$error":"#DIV/0!"}},{"$f":"E397-'1A Input Base and BAU'!M265","v":{"$error":"#DIV/0!"}},{"$f":"P306*1000/(H178*10^6)*10^6","v":{"$error":"#DIV/0!"}},{"$f":"G397-'1A Input Base and BAU'!O265","v":{"$error":"#DIV/0!"}}]
[null,"Individual taxi",{"$error":"#DIV/0!"},{"$f":"C398-'1A Input Base and BAU'!K266","v":{"$error":"#DIV/0!"}},{"$error":"#DIV/0!"},{"$f":"E398-'1A Input Base and BAU'!M266","v":{"$error":"#DIV/0!"}},{"$error":"#DIV/0!"},{"$f":"G398-'1A Input Base and BAU'!O266","v":{"$error":"#DIV/0!"}}]
[null,"Motorcycle",{"$error":"#DIV/0!"},{"$f":"C399-'1A Input Base and BAU'!K267","v":{"$error":"#DIV/0!"}},{"$error":"#DIV/0!"},{"$f":"E399-'1A Input Base and BAU'!M267","v":{"$error":"#DIV/0!"}},{"$error":"#DIV/0!"},{"$f":"G399-'1A Input Base and BAU'!O267","v":{"$error":"#DIV/0!"}}]
[null,"Motorcycle taxi",{"$error":"#DIV/0!"},{"$f":"C400-'1A Input Base and BAU'!K268","v":{"$error":"#DIV/0!"}},{"$error":"#DIV/0!"},{"$f":"E400-'1A Input Base and BAU'!M268","v":{"$error":"#DIV/0!"}},{"$error":"#DIV/0!"},{"$f":"G400-'1A Input Base and BAU'!O268","v":{"$error":"#DIV/0!"}}]
[null,"Minibus",{"$error":"#DIV/0!"},{"$f":"C401-'1A Input Base and BAU'!K269","v":{"$error":"#DIV/0!"}},{"$error":"#DIV/0!"},{"$f":"E401-'1A Input Base and BAU'!M269","v":{"$error":"#DIV/0!"}},{"$error":"#DIV/0!"},{"$f":"G401-'1A Input Base and BAU'!O269","v":{"$error":"#DIV/0!"}}]
[null,"Bus",{"$error":"#DIV/0!"},{"$f":"C402-'1A Input Base and BAU'!K270","v":{"$error":"#DIV/0!"}},{"$error":"#DIV/0!"},{"$f":"E402-'1A Input Base and BAU'!M270","v":{"$error":"#DIV/0!"}},{"$error":"#DIV/0!"},{"$f":"G402-'1A Input Base and BAU'!O270","v":{"$error":"#DIV/0!"}}]
[null,"BRT",{"$error":"#DIV/0!"},{"$f":"C403-'1A Input Base and BAU'!K271","v":{"$error":"#DIV/0!"}},{"$error":"#DIV/0!"},{"$f":"E403-'1A Input Base and BAU'!M271","v":{"$error":"#DIV/0!"}},{"$error":"#DIV/0!"},{"$f":"G403-'1A Input Base and BAU'!O271","v":{"$error":"#DIV/0!"}}]
[null,"Long distance train",{"$error":"#DIV/0!"},{"$f":"C404-'1A Input Base and BAU'!K272","v":{"$error":"#DIV/0!"}},{"$error":"#DIV/0!"},{"$f":"E404-'1A Input Base and BAU'!M272","v":{"$error":"#DIV/0!"}},{"$error":"#DIV/0!"},{"$f":"G404-'1A Input Base and BAU'!O272","v":{"$error":"#DIV/0!"}}]
[null,"Urban train",{"$error":"#DIV/0!"},{"$f":"C405-'1A Input Base and BAU'!K273","v":{"$error":"#DIV/0!"}},{"$error":"#DIV/0!"},{"$f":"E405-'1A Input Base and BAU'!M273","v":{"$error":"#DIV/0!"}},{"$error":"#DIV/0!"},{"$f":"G405-'1A Input Base and BAU'!O273","v":{"$error":"#DIV/0!"}}]
[null,"Metro",{"$error":"#DIV/0!"},{"$f":"C406-'1A Input Base and BAU'!K274","v":{"$error":"#DIV/0!"}},{"$error":"#DIV/0!"},{"$f":"E406-'1A Input Base and BAU'!M274","v":{"$error":"#DIV/0!"}},{"$error":"#DIV/0!"},{"$f":"G406-'1A Input Base and BAU'!O274","v":{"$error":"#DIV/0!"}}]
[]
[]
[null,null,"Climate scenario","Diff Climate-BAU","Climate scenario","Diff Climate-BAU","Climate scenario","Diff Climate-BAU"]
[null,null,2020,2020,2030,2030,2050,2050]
[null,null,"Gramm CO2äq pro pkm"]
[null,"Private car",{"$f":"D306/L178*10^3","v":{"$error":"#DIV/0!"}},{"$f":"C412-'1A Input Base and BAU'!R265","v":{"$error":"#DIV/0!"}},{"$f":"J306/N178*10^3","v":{"$error":"#DIV/0!"}},{"$f":"E412-'1A Input Base and BAU'!T265","v":{"$error":"#DIV/0!"}},{"$f":"P306/P178*10^3","v":{"$error":"#DIV/0!"}},{"$f":"G412-'1A Input Base and BAU'!V265","v":{"$error":"#DIV/0!"}}]
[null,"Individual taxi",{"$error":"#DIV/0!"},{"$f":"C413-'1A Input Base and BAU'!R266","v":{"$error":"#DIV/0!"}},{"$error":"#DIV/0!"},{"$f":"E413-'1A Input Base and BAU'!T266","v":{"$error":"#DIV/0!"}},{"$error":"#DIV/0!"},{"$f":"G413-'1A Input Base and BAU'!V266","v":{"$error":"#DIV/0!"}}]
[null,"Motorcycle",{"$error":"#DIV/0!"},{"$f":"C414-'1A Input Base and BAU'!R267","v":{"$error":"#DIV/0!"}},{"$error":"#DIV/0!"},{"$f":"E414-'1A Input Base and BAU'!T267","v":{"$error":"#DIV/0!"}},{"$error":"#DIV/0!"},{"$f":"G414-'1A Input Base and BAU'!V267","v":{"$error":"#DIV/0!"}}]
[null,"Motorcycle taxi",{"$error":"#DIV/0!"},{"$f":"C415-'1A Input Base and BAU'!R268","v":{"$error":"#DIV/0!"}},{"$error":"#DIV/0!"},{"$f":"E415-'1A Input Base and BAU'!T268","v":{"$error":"#DIV/0!"}},{"$error":"#DIV/0!"},{"$f":"G415-'1A Input Base and BAU'!V268","v":{"$error":"#DIV/0!"}}]
[null,"Minibus",{"$error":"#DIV/0!"},{"$f":"C416-'1A Input Base and BAU'!R269","v":{"$error":"#DIV/0!"}},{"$error":"#DIV/0!"},{"$f":"E416-'1A Input Base and BAU'!T269","v":{"$error":"#DIV/0!"}},{"$error":"#DIV/0!"},{"$f":"G416-'1A Input Base and BAU'!V269","v":{"$error":"#DIV/0!"}}]
[null,"Bus",{"$error":"#DIV/0!"},{"$f":"C417-'1A Input Base and BAU'!R270","v":{"$error":"#DIV/0!"}},{"$error":"#DIV/0!"},{"$f":"E417-'1A Input Base and BAU'!T270","v":{"$error":"#DIV/0!"}},{"$error":"#DIV/0!"},{"$f":"G417-'1A Input Base and BAU'!V270","v":{"$error":"#DIV/0!"}}]
[null,"BRT",{"$error":"#DIV/0!"},{"$f":"C418-'1A Input Base and BAU'!R271","v":{"$error":"#DIV/0!"}},{"$error":"#DIV/0!"},{"$f":"E418-'1A Input Base and BAU'!T271","v":{"$error":"#DIV/0!"}},{"$error":"#DIV/0!"},{"$f":"G418-'1A Input Base and BAU'!V271","v":{"$error":"#DIV/0!"}}]
[null,"Long distance train",{"$error":"#DIV/0!"},{"$f":"C419-'1A Input Base and BAU'!R272","v":{"$error":"#DIV/0!"}},{"$error":"#DIV/0!"},{"$f":"E419-'1A Input Base and BAU'!T272","v":{"$error":"#DIV/0!"}},{"$error":"#DIV/0!"},{"$f":"G419-'1A Input Base and BAU'!V272","v":{"$error":"#DIV/0!"}}]
[null,"Urban train",{"$error":"#DIV/0!"},{"$f":"C420-'1A Input Base and BAU'!R273","v":{"$error":"#DIV/0!"}},{"$error":"#DIV/0!"},{"$f":"E420-'1A Input Base and BAU'!T273","v":{"$error":"#DIV/0!"}},{"$error":"#DIV/0!"},{"$f":"G420-'1A Input Base and BAU'!V273","v":{"$error":"#DIV/0!"}}]
[null,"Metro",{"$error":"#DIV/0!"},{"$f":"C421-'1A Input Base and BAU'!R274","v":{"$error":"#DIV/0!"}},{"$error":"#DIV/0!"},{"$f":"E421-'1A Input Base and BAU'!T274","v":{"$error":"#DIV/0!"}},{"$error":"#DIV/0!"},{"$f":"G421-'1A Input Base and BAU'!V274","v":{"$error":"#DIV/0!"}}]
[]
[]
[null,"Error check Aviod & Shift"]
[null,"vkt","pkm","both"]
[null,{"$f":"IF(MIN(D177:H187)<0,\"Negativ\",\"Positiv\")","v":"Positiv"},{"$f":"IF(MIN(L177:P187)<0,\"Negativ\",\"Positiv\")","v":"Positiv"},{"$f":"IF(B426=\"Negativ\",IF(C426=\"Negativ\",\"Negativ\",\"Positiv\"),\"Positiv\")","v":"Positiv"}]

{"sheet":"2B Input Climat Scen. Freight","index":4,"n_rows":217,"n_cols":20,"rows_kept":217,"cut":false,"hidden":false,"merged":[[173,1,173,3],[173,7,173,9],[173,13,173,15],[173,4,173,6],[173,10,173,12],[13,3,13,15],[115,1,115,19],[46,1,46,20],[4,0,4,1],[50,2,50,6],[58,2,58,6],[74,2,74,6],[104,2,104,6],[104,9,104,13],[12,3,12,15],[48,1,48,19],[15,0,15,20],[172,1,172,15],[117,15,117,19],[145,15,145,19],[19,1,19,18],[21,9,21,13],[21,2,21,6],[35,8,35,12],[35,2,35,6],[35,14,35,18],[145,3,145,7],[145,9,145,13],[117,3,117,7],[117,9,117,13],[66,2,66,7]]}
[{"$f":"Tab","v":"Tab"},4,null,{"$f":"Overviewres","v":"Overview of results"}]
[{"$f":"subsector","v":"Sub-sector"},{"$f":"Freighttrans","v":"Freight transportation"}]
[{"$f":"Candc","v":"Country and city"},{"$f":"'Get started'!C6","v":"xx"}]
[{"$f":"yearref","v":"Reference year"},{"$f":"'Get started'!C7","v":0}]
[]
[]
[]
[]
[]
[]
[]
[]
[null,null,null,{"$f":"Text9","v":"2B Input Climate Scen. Freight"}]
[null,null,null,{"$f":"Text10","v":"In this sheet effects of mitgations actions for freight transport can be calculated in a climate scenario projection. In order to derive transport demand data for the calculations two different data input approaches were distiguished and the user has to choose which one to apply. In order to provide wrong results, please do not mix both approaches, please choose and apply just one approach.\n\nWhen choosing the first approach \"WITH UPSTREAM CALCULATIONS - INPUT FROM EXTERNAL TRANSPORT PLANNING TOOL\" the user can directly enter transport performance (pkm/tkm) and the vehicle kilometers travelled (vkt) from calculations which were provided by an external transport planning tool. Once the two tables were filled, the user can skip the next section and continue with step 3)\n\nIf no data from a transport planning tool are available, the second step by step approach \"WITHOUT UPSTREAM CALCULATIONS - CALCULATIONS WITHIN THIS TOOL\" can be applied. For calculating potential GHG savings from mitigation measures within this approach the \"ASI\" (Avoid/Shift/Improve) approach is applied. Users have to estimate the effect of transport related actions on the transport demand for each mitigation action type. E.g. The introduction of a distance based highway toll for trucks may lead to 5% avoided vehicle kilometers travelled (vkt) from trucks.\n1) Avoid: Avoided vehicle kilometers travelled (vkt)\n2) Shift: Shift of transport from the current to another transport modes\n\nOnce the transport demand is applied for one of the two approaches mentioned above the user has to enter data within the two last steps:\n3) Improve: Penetration of alternative energies\n4) Improve: Adjustment of fuel/energy consumption"}]
[]
[{"$f":"Descri11","v":" The user has to choose between the vkt approach or the fleet approach for each vehicle category. It is not recommended to use both approaches at the same time to limit unconsistencies but the tool offers this option nevertheless.\nRemark 1: The total vkt (mileage approach) or average annual mileage (fleet approach) should comply with the actual transport activity within the city or country territory."}]
[]
[{"$f":"planningtool","v":"WITH UPSTREAM CALCULATIONS - TRANSPORT ACTIVITY DATA FROM EXTERNAL TRANSPORT PLANNING TOOL"}]
[]
[{"$f":"Description","v":"Description"},{"$f":"Descri16","v":"Description: Please enter the transport performances (Mio ton-kilometers) in the table on the left as well as the vehicle kilometers travelled (Mio km) in the table on the right delivered by the transport plannig tool for the reference year (mandatory). For BAU calculations please enter the vkt for the corresponding years in the same way.\nRemark 1: Definitions and short descriptions of each vehicle category can be found in the sheet \"Sources and abbreviation\"."}]
[]
[null,{"$f":"Category","v":"Category"},{"$f":"Transportperformancefreight","v":"Transport performance [Mio. tkm]"},null,null,null,null,null,{"$f":"Category","v":"Category"},{"$f":"Milannualkm","v":"Vehicle kilometers travelled [Mio. km]"}]
[null,{"$f":"Subcategory","v":"Subcategory"},2020,2025,2030,2040,2050,null,{"$f":"Subcategory","v":"Subcategory"},2020,2025,2030,2040,2050]
[null,{"$f":"lightLCV","v":"Very light LCV"},null,null,null,null,null,null,{"$f":"lightLCV","v":"Very light LCV"}]
[null,{"$f":"LCV","v":"LCV"},null,null,null,null,null,null,{"$f":"LCV","v":"LCV"}]
[null,{"$f":"Solo","v":"Solo truck"},null,null,null,null,null,null,{"$f":"Solo","v":"Solo truck"}]
[null,{"$f":"Atruck","v":"Articulated truck"},null,null,null,null,null,null,{"$f":"Atruck","v":"Articulated truck"}]
[null,{"$f":"Ftrain","v":"Freight train"},null,null,null,null,null,null,{"$f":"Ftrain","v":"Freight train"}]
[null,{"$f":"Total","v":"Sum"},{"$f":"SUM(C24:C28)","v":0},{"$f":"SUM(D24:D28)","v":0},0,0,0,null,{"$f":"Total","v":"Sum"},{"$f":"SUM(J24:J28)","v":0},{"$f":"SUM(K24:K28)","v":0},{"$f":"SUM(L24:L28)","v":0},{"$f":"SUM(M24:M28)","v":0},{"$f":"SUM(N24:N28)","v":0}]
[]
[]
[{"$f":"withoutplanning","v":"WITHOUT UPSTREAM CALCULATIONS - TRANSPORT ACTIVITY DATA CALCULATIONS WITHIN THIS TOOL"}]
[{"$f":"Descri30","v":"1) Avoid: Avoided vehicle kilometers travelled (vkt)"}]
[{"$f":"Description","v":"Description"},{"$f":"Descri31","v":"Please define the percentage of vehicle kilometers travelled (vkt), which can be avoided with the planned mitigation measures."}]
[null,{"$f":"Descri49","v":"Example: Improvement of logistic routes reduces vehicle kilometers"}]
[null,{"$f":"Category","v":"Category"},{"$f":"vktbase","v":"Base vkt [Mio. km]"},null,null,null,null,null,{"$f":"avoidedvkt","v":"Avoided motorised vkt [%]"},null,null,null,null,null,{"$f":"scenariovkt","v":"Scenario vkt [Mio. km]"}]
[null,{"$f":"Subcategory","v":"Subcategory"},2020,2025,2030,2040,2050,null,2020,2025,2030,2040,2050,null,2020,2025,2030,2040,2050]
[null,{"$f":"lightLCV","v":"Very light LCV"},{"$f":"SUMIF('4B Calcul. Climat Scen.'!$J$38:$J$53,$B38,'4B Calcul. Climat Scen.'!L$38:L$53)","v":0},{"$f":"SUMIF('4B Calcul. Climat Scen.'!$J$38:$J$53,$B38,'4B Calcul. Climat Scen.'!M$38:M$53)","v":0},{"$f":"SUMIF('4B Calcul. Climat Scen.'!$J$38:$J$53,$B38,'4B Calcul. Climat Scen.'!N$38:N$53)","v":0},{"$f":"SUMIF('4B Calcul. Climat Scen.'!$J$38:$J$53,$B38,'4B Calcul. Climat Scen.'!O$38:O$53)","v":0},{"$f":"SUMIF('4B Calcul. Climat Scen.'!$J$38:$J$53,$B38,'4B Calcul. Climat Scen.'!P$38:P$53)","v":0},null,null,null,null,null,null,null,{"$f":"SUMIF('4B Calcul. Climat Scen.'!$J$38:$J$53,$B38,'4B Calcul. Climat Scen.'!AJ$38:AJ$53)","v":0},{"$f":"SUMIF('4B Calcul. Climat Scen.'!$J$38:$J$53,$B38,'4B Calcul. Climat Scen.'!AK$38:AK$53)","v":0},{"$f":"SUMIF('4B Calcul. Climat Scen.'!$J$38:$J$53,$B38,'4B Calcul. Climat Scen.'!AL$38:AL$53)","v":0},{"$f":"SUMIF('4B Calcul. Climat Scen.'!$J$38:$J$53,$B38,'4B Calcul. Climat Scen.'!AM$38:AM$53)","v":0},{"$f":"SUMIF('4B Calcul. Climat Scen.'!$J$38:$J$53,$B38,'4B Calcul. Climat Scen.'!AN$38:AN$53)","v":0}]
[null,{"$f":"LCV","v":"LCV"},{"$f":"SUMIF('4B Calcul. Climat Scen.'!$J$38:$J$53,$B39,'4B Calcul. Climat Scen.'!L$38:L$53)","v":0},{"$f":"SUMIF('4B Calcul. Climat Scen.'!$J$38:$J$53,$B39,'4B Calcul. Climat Scen.'!M$38:M$53)","v":0},{"$f":"SUMIF('4B Calcul. Climat Scen.'!$J$38:$J$53,$B39,'4B Calcul. Climat Scen.'!N$38:N$53)","v":0},{"$f":"SUMIF('4B Calcul. Climat Scen.'!$J$38:$J$53,$B39,'4B Calcul. Climat Scen.'!O$38:O$53)","v":0},{"$f":"SUMIF('4B Calcul. Climat Scen.'!$J$38:$J$53,$B39,'4B Calcul. Climat Scen.'!P$38:P$53)","v":0},null,null,null,null,null,null,null,{"$f":"SUMIF('4B Calcul. Climat Scen.'!$J$38:$J$53,$B39,'4B Calcul. Climat Scen.'!AJ$38:AJ$53)","v":0},{"$f":"SUMIF('4B Calcul. Climat Scen.'!$J$38:$J$53,$B39,'4B Calcul. Climat Scen.'!AK$38:AK$53)","v":0},{"$f":"SUMIF('4B Calcul. Climat Scen.'!$J$38:$J$53,$B39,'4B Calcul. Climat Scen.'!AL$38:AL$53)","v":0},{"$f":"SUMIF('4B Calcul. Climat Scen.'!$J$38:$J$53,$B39,'4B Calcul. Climat Scen.'!AM$38:AM$53)","v":0},{"$f":"SUMIF('4B Calcul. Climat Scen.'!$J$38:$J$53,$B39,'4B Calcul. Climat Scen.'!AN$38:AN$53)","v":0}]
[null,{"$f":"Solo","v":"Solo truck"},{"$f":"SUMIF('4B Calcul. Climat Scen.'!$J$38:$J$53,$B40,'4B Calcul. Climat Scen.'!L$38:L$53)","v":0},{"$f":"SUMIF('4B Calcul. Climat Scen.'!$J$38:$J$53,$B40,'4B Calcul. Climat Scen.'!M$38:M$53)","v":0},{"$f":"SUMIF('4B Calcul. Climat Scen.'!$J$38:$J$53,$B40,'4B Calcul. Climat Scen.'!N$38:N$53)","v":0},{"$f":"SUMIF('4B Calcul. Climat Scen.'!$J$38:$J$53,$B40,'4B Calcul. Climat Scen.'!O$38:O$53)","v":0},{"$f":"SUMIF('4B Calcul. Climat Scen.'!$J$38:$J$53,$B40,'4B Calcul. Climat Scen.'!P$38:P$53)","v":0},null,null,null,null,null,null,null,{"$f":"SUMIF('4B Calcul. Climat Scen.'!$J$38:$J$53,$B40,'4B Calcul. Climat Scen.'!AJ$38:AJ$53)","v":0},{"$f":"SUMIF('4B Calcul. Climat Scen.'!$J$38:$J$53,$B40,'4B Calcul. Climat Scen.'!AK$38:AK$53)","v":0},{"$f":"SUMIF('4B Calcul. Climat Scen.'!$J$38:$J$53,$B40,'4B Calcul. Climat Scen.'!AL$38:AL$53)","v":0},{"$f":"SUMIF('4B Calcul. Climat Scen.'!$J$38:$J$53,$B40,'4B Calcul. Climat Scen.'!AM$38:AM$53)","v":0},{"$f":"SUMIF('4B Calcul. Climat Scen.'!$J$38:$J$53,$B40,'4B Calcul. Climat Scen.'!AN$38:AN$53)","v":0}]
[null,{"$f":"Atruck","v":"Articulated truck"},{"$f":"SUMIF('4B Calcul. Climat Scen.'!$J$38:$J$53,$B41,'4B Calcul. Climat Scen.'!L$38:L$53)","v":0},{"$f":"SUMIF('4B Calcul. Climat Scen.'!$J$38:$J$53,$B41,'4B Calcul. Climat Scen.'!M$38:M$53)","v":0},{"$f":"SUMIF('4B Calcul. Climat Scen.'!$J$38:$J$53,$B41,'4B Calcul. Climat Scen.'!N$38:N$53)","v":0},{"$f":"SUMIF('4B Calcul. Climat Scen.'!$J$38:$J$53,$B41,'4B Calcul. Climat Scen.'!O$38:O$53)","v":0},{"$f":"SUMIF('4B Calcul. Climat Scen.'!$J$38:$J$53,$B41,'4B Calcul. Climat Scen.'!P$38:P$53)","v":0},null,null,null,null,null,null,null,{"$f":"SUMIF('4B Calcul. Climat Scen.'!$J$38:$J$53,$B41,'4B Calcul. Climat Scen.'!AJ$38:AJ$53)","v":0},{"$f":"SUMIF('4B Calcul. Climat Scen.'!$J$38:$J$53,$B41,'4B Calcul. Climat Scen.'!AK$38:AK$53)","v":0},{"$f":"SUMIF('4B Calcul. Climat Scen.'!$J$38:$J$53,$B41,'4B Calcul. Climat Scen.'!AL$38:AL$53)","v":0},{"$f":"SUMIF('4B Calcul. Climat Scen.'!$J$38:$J$53,$B41,'4B Calcul. Climat Scen.'!AM$38:AM$53)","v":0},{"$f":"SUMIF('4B Calcul. Climat Scen.'!$J$38:$J$53,$B41,'4B Calcul. Climat Scen.'!AN$38:AN$53)","v":0}]
[null,{"$f":"Ftrain","v":"Freight train"},{"$f":"SUMIF('4B Calcul. Climat Scen.'!$J$38:$J$53,$B42,'4B Calcul. Climat Scen.'!L$38:L$53)","v":0},{"$f":"SUMIF('4B Calcul. Climat Scen.'!$J$38:$J$53,$B42,'4B Calcul. Climat Scen.'!M$38:M$53)","v":0},{"$f":"SUMIF('4B Calcul. Climat Scen.'!$J$38:$J$53,$B42,'4B Calcul. Climat Scen.'!N$38:N$53)","v":0},{"$f":"SUMIF('4B Calcul. Climat Scen.'!$J$38:$J$53,$B42,'4B Calcul. Climat Scen.'!O$38:O$53)","v":0},{"$f":"SUMIF('4B Calcul. Climat Scen.'!$J$38:$J$53,$B42,'4B Calcul. Climat Scen.'!P$38:P$53)","v":0},null,null,null,null,null,null,null,{"$f":"SUMIF('4B Calcul. Climat Scen.'!$J$38:$J$53,$B42,'4B Calcul. Climat Scen.'!AJ$38:AJ$53)","v":0},{"$f":"SUMIF('4B Calcul. Climat Scen.'!$J$38:$J$53,$B42,'4B Calcul. Climat Scen.'!AK$38:AK$53)","v":0},{"$f":"SUMIF('4B Calcul. Climat Scen.'!$J$38:$J$53,$B42,'4B Calcul. Climat Scen.'!AL$38:AL$53)","v":0},{"$f":"SUMIF('4B Calcul. Climat Scen.'!$J$38:$J$53,$B42,'4B Calcul. Climat Scen.'!AM$38:AM$53)","v":0},{"$f":"SUMIF('4B Calcul. Climat Scen.'!$J$38:$J$53,$B42,'4B Calcul. Climat Scen.'!AN$38:AN$53)","v":0}]
[null,{"$f":"Total","v":"Sum"},{"$f":"SUM(C38:C42)","v":0},{"$f":"SUM(D38:D42)","v":0},0,0,0,null,null,null,null,null,null,null,{"$f":"SUM(O38:O42)","v":0},{"$f":"SUM(P38:P42)","v":0},{"$f":"SUM(Q38:Q42)","v":0},0,0]
[]
[]
[{"$f":"Descri36","v":"2) Shift: Shift of transport from the current to public transport modes"}]
[{"$f":"Description","v":"Description"},{"$f":"Descri58","v":"The Shift measures follow a three step approach: 1. give the potential additional vehicle kilometers  for the vehicle categories below if more vehicle kilometers are expected as a result of the planned measures for the corresponding year \n"}]
[null,{"$f":"Descri50","v":"2. please adjust the load factor if the amount of goods transported per vehicle is expected to be impacted by the planned measures for the corresponding year\nExample: Higher load of trains planned by the national railway due to a new software optimising the routing of trains\n "}]
[null,{"$f":"Descri51","v":"3. If one of the two parameters (vehicle kilometer or load) are impacted it is mandatory to specify the source of this new ton-vehicle kilometers in the table \"original mode of the shifted tkm\" for the corresponding year and for each \"goal vehicle category \"\nie the categories for which kilometers or load have been changed\nExample: the goal category is train. Based on local expertise around 50% of the ton-kilometer are coming from articulated truck, 40% from solo truck and 10% induced. \nThese ton-kilometers are then considered as suppressed. \nPlease consider that this step is an approximation, as logistical chain are very complexed and this is almost impossible without a precise model to give the exact share of ton-kilometer transferred from one mode to another one. For a precise modeling, please use the firs step: with transport planning tool.\n"}]
[null,{"$f":"Descri57","v":"Example: Expansion of railway networks or extension of service (increase in the frequency of freight trains for example) increase the number of vehicle kilometers"}]
[null,{"$f":"Category","v":"Category"},{"$f":"vktbase","v":"Base vkt [Mio. km]"}]
[null,{"$f":"Subcategory","v":"Subcategory"},2020,2025,2030,2040,2050]
[null,{"$f":"lightLCV","v":"Very light LCV"},{"$f":"SUMIF('4B Calcul. Climat Scen.'!$J$100:$J$104,'2B Input Climat Scen. Freight'!$B53,'4B Calcul. Climat Scen.'!M$100:M$104)","v":0},{"$f":"SUMIF('4B Calcul. Climat Scen.'!$J$100:$J$104,'2B Input Climat Scen. Freight'!$B53,'4B Calcul. Climat Scen.'!N$100:N$104)","v":0},{"$f":"SUMIF('4B Calcul. Climat Scen.'!$J$100:$J$104,'2B Input Climat Scen. Freight'!$B53,'4B Calcul. Climat Scen.'!O$100:O$104)","v":0},{"$f":"SUMIF('4B Calcul. Climat Scen.'!$J$100:$J$104,'2B Input Climat Scen. Freight'!$B53,'4B Calcul. Climat Scen.'!P$100:P$104)","v":0},{"$f":"SUMIF('4B Calcul. Climat Scen.'!$J$100:$J$104,'2B Input Climat Scen. Freight'!$B53,'4B Calcul. Climat Scen.'!Q$100:Q$104)","v":0}]
[null,{"$f":"LCV","v":"LCV"},{"$f":"SUMIF('4B Calcul. Climat Scen.'!$J$100:$J$104,'2B Input Climat Scen. Freight'!$B54,'4B Calcul. Climat Scen.'!M$100:M$104)","v":0},{"$f":"SUMIF('4B Calcul. Climat Scen.'!$J$100:$J$104,'2B Input Climat Scen. Freight'!$B54,'4B Calcul. Climat Scen.'!N$100:N$104)","v":0},{"$f":"SUMIF('4B Calcul. Climat Scen.'!$J$100:$J$104,'2B Input Climat Scen. Freight'!$B54,'4B Calcul. Climat Scen.'!O$100:O$104)","v":0},{"$f":"SUMIF('4B Calcul. Climat Scen.'!$J$100:$J$104,'2B Input Climat Scen. Freight'!$B54,'4B Calcul. Climat Scen.'!P$100:P$104)","v":0},{"$f":"SUMIF('4B Calcul. Climat Scen.'!$J$100:$J$104,'2B Input Climat Scen. Freight'!$B54,'4B Calcul. Climat Scen.'!Q$100:Q$104)","v":0}]
[null,{"$f":"Solo","v":"Solo truck"},{"$f":"SUMIF('4B Calcul. Climat Scen.'!$J$100:$J$104,'2B Input Climat Scen. Freight'!$B55,'4B Calcul. Climat Scen.'!M$100:M$104)","v":0},{"$f":"SUMIF('4B Calcul. Climat Scen.'!$J$100:$J$104,'2B Input Climat Scen. Freight'!$B55,'4B Calcul. Climat Scen.'!N$100:N$104)","v":0},{"$f":"SUMIF('4B Calcul. Climat Scen.'!$J$100:$J$104,'2B Input Climat Scen. Freight'!$B55,'4B Calcul. Climat Scen.'!O$100:O$104)","v":0},{"$f":"SUMIF('4B Calcul. Climat Scen.'!$J$100:$J$104,'2B Input Climat Scen. Freight'!$B55,'4B Calcul. Climat Scen.'!P$100:P$104)","v":0},{"$f":"SUMIF('4B Calcul. Climat Scen.'!$J$100:$J$104,'2B Input Climat Scen. Freight'!$B55,'4B Calcul. Climat Scen.'!Q$100:Q$104)","v":0}]
[null,{"$f":"Atruck","v":"Articulated truck"},{"$f":"SUMIF('4B Calcul. Climat Scen.'!$J$100:$J$104,'2B Input Climat Scen. Freight'!$B56,'4B Calcul. Climat Scen.'!M$100:M$104)","v":0},{"$f":"SUMIF('4B Calcul. Climat Scen.'!$J$100:$J$104,'2B Input Climat Scen. Freight'!$B56,'4B Calcul. Climat Scen.'!N$100:N$104)","v":0},{"$f":"SUMIF('4B Calcul. Climat Scen.'!$J$100:$J$104,'2B Input Climat Scen. Freight'!$B56,'4B Calcul. Climat Scen.'!O$100:O$104)","v":0},{"$f":"SUMIF('4B Calcul. Climat Scen.'!$J$100:$J$104,'2B Input Climat Scen. Freight'!$B56,'4B Calcul. Climat Scen.'!P$100:P$104)","v":0},{"$f":"SUMIF('4B Calcul. Climat Scen.'!$J$100:$J$104,'2B Input Climat Scen. Freight'!$B56,'4B Calcul. Climat Scen.'!Q$100:Q$104)","v":0}]
[null,{"$f":"Ftrain","v":"Freight train"},{"$f":"SUMIF('4B Calcul. Climat Scen.'!$J$100:$J$104,'2B Input Climat Scen. Freight'!$B57,'4B Calcul. Climat Scen.'!M$100:M$104)","v":0},{"$f":"SUMIF('4B Calcul. Climat Scen.'!$J$100:$J$104,'2B Input Climat Scen. Freight'!$B57,'4B Calcul. Climat Scen.'!N$100:N$104)","v":0},{"$f":"SUMIF('4B Calcul. Climat Scen.'!$J$100:$J$104,'2B Input Climat Scen. Freight'!$B57,'4B Calcul. Climat Scen.'!O$100:O$104)","v":0},{"$f":"SUMIF('4B Calcul. Climat Scen.'!$J$100:$J$104,'2B Input Climat Scen. Freight'!$B57,'4B Calcul. Climat Scen.'!P$100:P$104)","v":0},{"$f":"SUMIF('4B Calcul. Climat Scen.'!$J$100:$J$104,'2B Input Climat Scen. Freight'!$B57,'4B Calcul. Climat Scen.'!Q$100:Q$104)","v":0}]
[]
[2.1,{"$f":"Category","v":"Category"},{"$f":"addmileage","v":"Additional vkt [Mio. km]"}]
[null,{"$f":"Subcategory","v":"Subcategory"},2020,2025,2030,2040,2050]
[null,{"$f":"lightLCV","v":"Very light LCV"}]
[null,{"$f":"LCV","v":"LCV"}]
[null,{"$f":"Solo","v":"Solo truck"}]
[null,{"$f":"Atruck","v":"Articulated truck"}]
[null,{"$f":"Ftrain","v":"Freight train"}]
[]
[2.2000000000000002,{"$f":"Category","v":"Category"},{"$f":"loadvehicle","v":"Load per vehicle [Tons/vehicle]"}]
[null,{"$f":"Subcategory","v":"Subcategory"},{"$f":"B4","v":0},2020,2025,2030,2040,2050]
[null,{"$f":"lightLCV","v":"Very light LCV"},{"$f":"SUMIF('1A Input Base and BAU'!$B$85:$B$89,'2B Input Climat Scen. Freight'!B69,'1A Input Base and BAU'!$D$85:$D$89)","v":0}]
[null,{"$f":"LCV","v":"LCV"},{"$f":"SUMIF('1A Input Base and BAU'!$B$85:$B$89,'2B Input Climat Scen. Freight'!B70,'1A Input Base and BAU'!$D$85:$D$89)","v":0}]
[null,{"$f":"Solo","v":"Solo truck"},{"$f":"SUMIF('1A Input Base and BAU'!$B$85:$B$89,'2B Input Climat Scen. Freight'!B71,'1A Input Base and BAU'!$D$85:$D$89)","v":0}]
[null,{"$f":"Atruck","v":"Articulated truck"},{"$f":"SUMIF('1A Input Base and BAU'!$B$85:$B$89,'2B Input Climat Scen. Freight'!B72,'1A Input Base and BAU'!$D$85:$D$89)","v":0}]
[null,{"$f":"Ftrain","v":"Freight train"},{"$f":"SUMIF('1A Input Base and BAU'!$B$85:$B$89,'2B Input Climat Scen. Freight'!B73,'1A Input Base and BAU'!$D$85:$D$89)","v":0}]
[]
[2.2999999999999998,{"$f":"Subcategory","v":"Subcategory"},{"$f":"fretorigin","v":"Origin mode of the shifted tkm  [%]"}]
[null,null,2020,2025,2030,2040,2050]
[null,{"$f":"lightLCV","v":"Very light LCV"},{"$f":"IF(C61<>\"\",SUM(C78:C81),IF(D69<>\"\",SUM(C78:C81),\"-\"))","v":"-"},{"$f":"IF(D61<>\"\",SUM(D78:D81),IF(E69<>\"\",SUM(D78:D81),\"-\"))","v":"-"},{"$f":"IF(E61<>\"\",SUM(E78:E81),IF(F69<>\"\",SUM(E78:E81),\"-\"))","v":"-"},{"$f":"IF(F61<>\"\",SUM(F78:F81),IF(G69<>\"\",SUM(F78:F81),\"-\"))","v":"-"},{"$f":"IF(G61<>\"\",SUM(G78:G81),IF(H69<>\"\",SUM(G78:G81),\"-\"))","v":"-"}]
[null,{"$f":"LCV","v":"LCV"}]
[null,{"$f":"Solo","v":"Solo truck"}]
[null,{"$f":"Atruck","v":"Articulated truck"}]
[null,{"$f":"Ftrain","v":"Freight train"}]
[null,{"$f":"LCV","v":"LCV"},{"$f":"IF(C62<>\"\",SUM(C83:C86),IF(D70<>\"\",SUM(C83:C86),\"-\"))","v":"-"},{"$f":"IF(D62<>\"\",SUM(D83:D86),IF(E70<>\"\",SUM(D83:D86),\"-\"))","v":"-"},{"$f":"IF(E62<>\"\",SUM(E83:E86),IF(F70<>\"\",SUM(E83:E86),\"-\"))","v":"-"},{"$f":"IF(F62<>\"\",SUM(F83:F86),IF(G70<>\"\",SUM(F83:F86),\"-\"))","v":"-"},{"$f":"IF(G62<>\"\",SUM(G83:G86),IF(H70<>\"\",SUM(G83:G86),\"-\"))","v":"-"}]
[null,{"$f":"lightLCV","v":"Very light LCV"}]
[null,{"$f":"Solo","v":"Solo truck"}]
[null,{"$f":"Atruck","v":"Articulated truck"}]
[null,{"$f":"Ftrain","v":"Freight train"}]
[null,{"$f":"Solo","v":"Solo truck"},{"$f":"IF(C63<>\"\",SUM(C88:C91),IF(D71<>\"\",SUM(C88:C91),\"-\"))","v":"-"},{"$f":"IF(D63<>\"\",SUM(D88:D91),IF(E71<>\"\",SUM(D88:D91),\"-\"))","v":"-"},{"$f":"IF(E63<>\"\",SUM(E88:E91),IF(F71<>\"\",SUM(E88:E91),\"-\"))","v":"-"},{"$f":"IF(F63<>\"\",SUM(F88:F91),IF(G71<>\"\",SUM(F88:F91),\"-\"))","v":"-"},{"$f":"IF(G63<>\"\",SUM(G88:G91),IF(H71<>\"\",SUM(G88:G91),\"-\"))","v":"-"}]
[null,{"$f":"lightLCV","v":"Very light LCV"}]
[null,{"$f":"LCV","v":"LCV"}]
[null,{"$f":"Atruck","v":"Articulated truck"}]
[null,{"$f":"Ftrain","v":"Freight train"}]
[null,{"$f":"Atruck","v":"Articulated truck"},{"$f":"IF(C64<>\"\",SUM(C93:C96),IF(D72<>\"\",SUM(C93:C96),\"-\"))","v":"-"},{"$f":"IF(D64<>\"\",SUM(D93:D96),IF(E72<>\"\",SUM(D93:D96),\"-\"))","v":"-"},{"$f":"IF(E64<>\"\",SUM(E93:E96),IF(F72<>\"\",SUM(E93:E96),\"-\"))","v":"-"},{"$f":"IF(F64<>\"\",SUM(F93:F96),IF(G72<>\"\",SUM(F93:F96),\"-\"))","v":"-"},{"$f":"IF(G64<>\"\",SUM(G93:G96),IF(H72<>\"\",SUM(G93:G96),\"-\"))","v":"-"}]
[null,{"$f":"lightLCV","v":"Very light LCV"}]
[null,{"$f":"LCV","v":"LCV"}]
[null,{"$f":"Solo","v":"Solo truck"}]
[null,{"$f":"Ftrain","v":"Freight train"}]
[null,{"$f":"Ftrain","v":"Freight train"},{"$f":"IF(C65<>\"\",SUM(C98:C101),IF(D73<>\"\",SUM(C98:C101),\"-\"))","v":"-"},{"$f":"IF(D65<>\"\",SUM(D98:D101),IF(E73<>\"\",SUM(D98:D101),\"-\"))","v":"-"},{"$f":"IF(E65<>\"\",SUM(E98:E101),IF(F73<>\"\",SUM(E98:E101),\"-\"))","v":"-"},{"$f":"IF(F65<>\"\",SUM(F98:F101),IF(G73<>\"\",SUM(F98:F101),\"-\"))","v":"-"},{"$f":"IF(G65<>\"\",SUM(G98:G101),IF(H73<>\"\",SUM(G98:G101),\"-\"))","v":"-"}]
[null,{"$f":"lightLCV","v":"Very light LCV"}]
[null,{"$f":"LCV","v":"LCV"}]
[null,{"$f":"Solo","v":"Solo truck"}]
[null,{"$f":"Atruck","v":"Articulated truck"}]
[]
[]
[{"$f":"resultstrans","v":"Results of the transport demand measures"}]
[null,{"$f":"Category","v":"Category"},{"$f":"scenariovkt","v":"Scenario vkt [Mio. km]"},null,null,null,null,null,{"$f":"Category","v":"Category"},{"$f":"Transportperformancefreight","v":"Transport performance [Mio. tkm]"}]
[null,{"$f":"Subcategory","v":"Subcategory"},2020,2025,2030,2040,2050,null,{"$f":"Subcategory","v":"Subcategory"},2020,2025,2030,2040,2050]
[null,{"$f":"lightLCV","v":"Very light LCV"},{"$f":"SUMIF('4B Calcul. Climat Scen.'!$M$236:$M$240,$B107,'4B Calcul. Climat Scen.'!AJ$236:AJ$240)","v":0},{"$f":"SUMIF('4B Calcul. Climat Scen.'!$M$236:$M$240,$B107,'4B Calcul. Climat Scen.'!AK$236:AK$240)","v":0},{"$f":"SUMIF('4B Calcul. Climat Scen.'!$M$236:$M$240,$B107,'4B Calcul. Climat Scen.'!AL$236:AL$240)","v":0},{"$f":"SUMIF('4B Calcul. Climat Scen.'!$M$236:$M$240,$B107,'4B Calcul. Climat Scen.'!AM$236:AM$240)","v":0},{"$f":"SUMIF('4B Calcul. Climat Scen.'!$M$236:$M$240,$B107,'4B Calcul. Climat Scen.'!AN$236:AN$240)","v":0},null,{"$f":"lightLCV","v":"Very light LCV"},{"$f":"SUMIF('4B Calcul. Climat Scen.'!$M$236:$M$240,'2B Input Climat Scen. Freight'!$B107,'4B Calcul. Climat Scen.'!O$236:O$240)","v":0},{"$f":"SUMIF('4B Calcul. Climat Scen.'!$M$236:$M$240,'2B Input Climat Scen. Freight'!$B107,'4B Calcul. Climat Scen.'!P$236:P$240)","v":0},{"$f":"SUMIF('4B Calcul. Climat Scen.'!$M$236:$M$240,'2B Input Climat Scen. Freight'!$B107,'4B Calcul. Climat Scen.'!Q$236:Q$240)","v":0},{"$f":"SUMIF('4B Calcul. Climat Scen.'!$M$236:$M$240,'2B Input Climat Scen. Freight'!$B107,'4B Calcul. Climat Scen.'!R$236:R$240)","v":0},{"$f":"SUMIF('4B Calcul. Climat Scen.'!$M$236:$M$240,'2B Input Climat Scen. Freight'!$B107,'4B Calcul. Climat Scen.'!S$236:S$240)","v":0}]
[null,{"$f":"LCV","v":"LCV"},{"$f":"SUMIF('4B Calcul. Climat Scen.'!$M$236:$M$240,$B108,'4B Calcul. Climat Scen.'!AJ$236:AJ$240)","v":0},{"$f":"SUMIF('4B Calcul. Climat Scen.'!$M$236:$M$240,$B108,'4B Calcul. Climat Scen.'!AK$236:AK$240)","v":0},{"$f":"SUMIF('4B Calcul. Climat Scen.'!$M$236:$M$240,$B108,'4B Calcul. Climat Scen.'!AL$236:AL$240)","v":0},{"$f":"SUMIF('4B Calcul. Climat Scen.'!$M$236:$M$240,$B108,'4B Calcul. Climat Scen.'!AM$236:AM$240)","v":0},{"$f":"SUMIF('4B Calcul. Climat Scen.'!$M$236:$M$240,$B108,'4B Calcul. Climat Scen.'!AN$236:AN$240)","v":0},null,{"$f":"LCV","v":"LCV"},{"$f":"SUMIF('4B Calcul. Climat Scen.'!$M$236:$M$240,'2B Input Climat Scen. Freight'!$B108,'4B Calcul. Climat Scen.'!O$236:O$240)","v":0},{"$f":"SUMIF('4B Calcul. Climat Scen.'!$M$236:$M$240,'2B Input Climat Scen. Freight'!$B108,'4B Calcul. Climat Scen.'!P$236:P$240)","v":0},{"$f":"SUMIF('4B Calcul. Climat Scen.'!$M$236:$M$240,'2B Input Climat Scen. Freight'!$B108,'4B Calcul. Climat Scen.'!Q$236:Q$240)","v":0},{"$f":"SUMIF('4B Calcul. Climat Scen.'!$M$236:$M$240,'2B Input Climat Scen. Freight'!$B108,'4B Calcul. Climat Scen.'!R$236:R$240)","v":0},{"$f":"SUMIF('4B Calcul. Climat Scen.'!$M$236:$M$240,'2B Input Climat Scen. Freight'!$B108,'4B Calcul. Climat Scen.'!S$236:S$240)","v":0}]
[null,{"$f":"Solo","v":"Solo truck"},{"$f":"SUMIF('4B Calcul. Climat Scen.'!$M$236:$M$240,$B109,'4B Calcul. Climat Scen.'!AJ$236:AJ$240)","v":0},{"$f":"SUMIF('4B Calcul. Climat Scen.'!$M$236:$M$240,$B109,'4B Calcul. Climat Scen.'!AK$236:AK$240)","v":0},{"$f":"SUMIF('4B Calcul. Climat Scen.'!$M$236:$M$240,$B109,'4B Calcul. Climat Scen.'!AL$236:AL$240)","v":0},{"$f":"SUMIF('4B Calcul. Climat Scen.'!$M$236:$M$240,$B109,'4B Calcul. Climat Scen.'!AM$236:AM$240)","v":0},{"$f":"SUMIF('4B Calcul. Climat Scen.'!$M$236:$M$240,$B109,'4B Calcul. Climat Scen.'!AN$236:AN$240)","v":0},null,{"$f":"Solo","v":"Solo truck"},{"$f":"SUMIF('4B Calcul. Climat Scen.'!$M$236:$M$240,'2B Input Climat Scen. Freight'!$B109,'4B Calcul. Climat Scen.'!O$236:O$240)","v":0},{"$f":"SUMIF('4B Calcul. Climat Scen.'!$M$236:$M$240,'2B Input Climat Scen. Freight'!$B109,'4B Calcul. Climat Scen.'!P$236:P$240)","v":0},{"$f":"SUMIF('4B Calcul. Climat Scen.'!$M$236:$M$240,'2B Input Climat Scen. Freight'!$B109,'4B Calcul. Climat Scen.'!Q$236:Q$240)","v":0},{"$f":"SUMIF('4B Calcul. Climat Scen.'!$M$236:$M$240,'2B Input Climat Scen. Freight'!$B109,'4B Calcul. Climat Scen.'!R$236:R$240)","v":0},{"$f":"SUMIF('4B Calcul. Climat Scen.'!$M$236:$M$240,'2B Input Climat Scen. Freight'!$B109,'4B Calcul. Climat Scen.'!S$236:S$240)","v":0}]
[null,{"$f":"Atruck","v":"Articulated truck"},{"$f":"SUMIF('4B Calcul. Climat Scen.'!$M$236:$M$240,$B110,'4B Calcul. Climat Scen.'!AJ$236:AJ$240)","v":0},{"$f":"SUMIF('4B Calcul. Climat Scen.'!$M$236:$M$240,$B110,'4B Calcul. Climat Scen.'!AK$236:AK$240)","v":0},{"$f":"SUMIF('4B Calcul. Climat Scen.'!$M$236:$M$240,$B110,'4B Calcul. Climat Scen.'!AL$236:AL$240)","v":0},{"$f":"SUMIF('4B Calcul. Climat Scen.'!$M$236:$M$240,$B110,'4B Calcul. Climat Scen.'!AM$236:AM$240)","v":0},{"$f":"SUMIF('4B Calcul. Climat Scen.'!$M$236:$M$240,$B110,'4B Calcul. Climat Scen.'!AN$236:AN$240)","v":0},null,{"$f":"Atruck","v":"Articulated truck"},{"$f":"SUMIF('4B Calcul. Climat Scen.'!$M$236:$M$240,'2B Input Climat Scen. Freight'!$B110,'4B Calcul. Climat Scen.'!O$236:O$240)","v":0},{"$f":"SUMIF('4B Calcul. Climat Scen.'!$M$236:$M$240,'2B Input Climat Scen. Freight'!$B110,'4B Calcul. Climat Scen.'!P$236:P$240)","v":0},{"$f":"SUMIF('4B Calcul. Climat Scen.'!$M$236:$M$240,'2B Input Climat Scen. Freight'!$B110,'4B Calcul. Climat Scen.'!Q$236:Q$240)","v":0},{"$f":"SUMIF('4B Calcul. Climat Scen.'!$M$236:$M$240,'2B Input Climat Scen. Freight'!$B110,'4B Calcul. Climat Scen.'!R$236:R$240)","v":0},{"$f":"SUMIF('4B Calcul. Climat Scen.'!$M$236:$M$240,'2B Input Climat Scen. Freight'!$B110,'4B Calcul. Climat Scen.'!S$236:S$240)","v":0}]
[null,{"$f":"Ftrain","v":"Freight train"},{"$f":"SUMIF('4B Calcul. Climat Scen.'!$M$236:$M$240,$B111,'4B Calcul. Climat Scen.'!AJ$236:AJ$240)","v":0},{"$f":"SUMIF('4B Calcul. Climat Scen.'!$M$236:$M$240,$B111,'4B Calcul. Climat Scen.'!AK$236:AK$240)","v":0},{"$f":"SUMIF('4B Calcul. Climat Scen.'!$M$236:$M$240,$B111,'4B Calcul. Climat Scen.'!AL$236:AL$240)","v":0},{"$f":"SUMIF('4B Calcul. Climat Scen.'!$M$236:$M$240,$B111,'4B Calcul. Climat Scen.'!AM$236:AM$240)","v":0},{"$f":"SUMIF('4B Calcul. Climat Scen.'!$M$236:$M$240,$B111,'4B Calcul. Climat Scen.'!AN$236:AN$240)","v":0},null,{"$f":"Ftrain","v":"Freight train"},{"$f":"SUMIF('4B Calcul. Climat Scen.'!$M$236:$M$240,'2B Input Climat Scen. Freight'!$B111,'4B Calcul. Climat Scen.'!O$236:O$240)","v":0},{"$f":"SUMIF('4B Calcul. Climat Scen.'!$M$236:$M$240,'2B Input Climat Scen. Freight'!$B111,'4B Calcul. Climat Scen.'!P$236:P$240)","v":0},{"$f":"SUMIF('4B Calcul. Climat Scen.'!$M$236:$M$240,'2B Input Climat Scen. Freight'!$B111,'4B Calcul. Climat Scen.'!Q$236:Q$240)","v":0},{"$f":"SUMIF('4B Calcul. Climat Scen.'!$M$236:$M$240,'2B Input Climat Scen. Freight'!$B111,'4B Calcul. Climat Scen.'!R$236:R$240)","v":0},{"$f":"SUMIF('4B Calcul. Climat Scen.'!$M$236:$M$240,'2B Input Climat Scen. Freight'!$B111,'4B Calcul. Climat Scen.'!S$236:S$240)","v":0}]
[null,{"$f":"Total","v":"Sum"},{"$f":"SUM(C107:C111)","v":0},{"$f":"SUM(D107:D111)","v":0},{"$f":"SUM(E107:E111)","v":0},{"$f":"SUM(F107:F111)","v":0},{"$f":"SUM(G107:G111)","v":0},null,{"$f":"Total","v":"Sum"},{"$f":"SUM(J107:J111)","v":0},{"$f":"SUM(K107:K111)","v":0},{"$f":"SUM(L107:L111)","v":0},{"$f":"SUM(M107:M111)","v":0},{"$f":"SUM(N107:N111)","v":0}]
[]
[]
[{"$f":"Perfaltern","v":"3) Improve: Penetration of alternative energies"}]
[{"$f":"Description","v":"Description"},{"$f":"Descri61","v":"Please give the share of the vehicule kilometers driven per fuel type for each vehicle category and year. The sum for each vehicle category must reach 100%. If there is no change compared to the BAU, you do not have to enter new shares."}]
[null,{"$f":"Descri44","v":"Example of measure: a funding project leading to the renewal of truck fleet and increasing then the number of kilometers driven by alternative fuel vehicles"}]
[null,{"$f":"Category","v":"Category"},null,{"$f":"MileageshareBAU","v":"Vkt share by fuel for BAU scenario [%]"},null,null,null,null,null,{"$f":"Mileageshareclimate","v":"Vkt share by fuel for Climate scenario [%]"},null,null,null,null,null,{"$f":"mileageclimatescen","v":"Vkt by fuel climate scenario [Mio. km]"}]
[null,{"$f":"Subcategory","v":"Subcategory"},{"$f":"Fuel","v":"Fuel type"},2020,2025,2030,2040,2050,null,2020,2025,2030,2040,2050,null,2020,2025,2030,2040,2050]
[null,{"$f":"lightLCV","v":"Very light LCV"},{"$f":"all","v":"all"},{"$f":"+SUM(D121:D123)","v":0},{"$f":"+SUM(E121:E123)","v":0},{"$f":"+SUM(F121:F123)","v":0},{"$f":"+SUM(G121:G123)","v":0},{"$f":"+SUM(H121:H123)","v":0},null,{"$f":"IF(SUM(J121:J123)>0,SUM(J121:J123),\"-\")","v":"-"},{"$f":"IF(SUM(K121:K123)>0,SUM(K121:K123),\"-\")","v":"-"},"-","-","-",null,{"$f":"SUM(P121:P123)","v":0},{"$f":"SUM(Q121:Q123)","v":0},0,0,0]
[null,{"$f":"lightLCV","v":"Very light LCV"},{"$f":"Gasoline","v":"Gasoline"},{"$f":"IFERROR(+SUMIFS('4A Calcul. BAU city'!H:H,'4A Calcul. BAU city'!$C:$C,$B121,'4A Calcul. BAU city'!$E:$E,$C121)/SUMIFS('4A Calcul. BAU city'!G:G,'4A Calcul. BAU city'!$C:$C,$B121),0)","v":0},{"$f":"IFERROR(+SUMIFS('4A Calcul. BAU city'!I:I,'4A Calcul. BAU city'!$C:$C,$B121,'4A Calcul. BAU city'!$E:$E,$C121)/SUMIFS('4A Calcul. BAU city'!H:H,'4A Calcul. BAU city'!$C:$C,$B121),0)","v":0},{"$f":"IFERROR(+SUMIFS('4A Calcul. BAU city'!J:J,'4A Calcul. BAU city'!$C:$C,$B121,'4A Calcul. BAU city'!$E:$E,$C121)/SUMIFS('4A Calcul. BAU city'!I:I,'4A Calcul. BAU city'!$C:$C,$B121),0)","v":0},{"$f":"IFERROR(+SUMIFS('4A Calcul. BAU city'!K:K,'4A Calcul. BAU city'!$C:$C,$B121,'4A Calcul. BAU city'!$E:$E,$C121)/SUMIFS('4A Calcul. BAU city'!J:J,'4A Calcul. BAU city'!$C:$C,$B121),0)","v":0},{"$f":"IFERROR(+SUMIFS('4A Calcul. BAU city'!L:L,'4A Calcul. BAU city'!$C:$C,$B121,'4A Calcul. BAU city'!$E:$E,$C121)/SUMIFS('4A Calcul. BAU city'!K:K,'4A Calcul. BAU city'!$C:$C,$B121),0)","v":0},null,null,null,null,null,null,null,{"$f":"SUMIFS('4B Calcul. Climat Scen.'!$N$314:$N$361,'4B Calcul. Climat Scen.'!$C$314:$C$361,$B121,'4B Calcul. Climat Scen.'!$E$314:$E$361,$C121)","v":0},{"$f":"SUMIFS('4B Calcul. Climat Scen.'!$N$314:$N$361,'4B Calcul. Climat Scen.'!$C$314:$C$361,$B121,'4B Calcul. Climat Scen.'!$E$314:$E$361,$C121)","v":0},{"$f":"SUMIFS('4B Calcul. Climat Scen.'!$N$314:$N$361,'4B Calcul. Climat Scen.'!$C$314:$C$361,$B121,'4B Calcul. Climat Scen.'!$E$314:$E$361,$C121)","v":0},{"$f":"SUMIFS('4B Calcul. Climat Scen.'!$N$314:$N$361,'4B Calcul. Climat Scen.'!$C$314:$C$361,$B121,'4B Calcul. Climat Scen.'!$E$314:$E$361,$C121)","v":0},{"$f":"SUMIFS('4B Calcul. Climat Scen.'!$N$314:$N$361,'4B Calcul. Climat Scen.'!$C$314:$C$361,$B121,'4B Calcul. Climat Scen.'!$E$314:$E$361,$C121)","v":0}]
[null,{"$f":"lightLCV","v":"Very light LCV"},{"$f":"Diesel","v":"Diesel"},{"$f":"IFERROR(+SUMIFS('4A Calcul. BAU city'!H:H,'4A Calcul. BAU city'!$C:$C,$B122,'4A Calcul. BAU city'!$E:$E,$C122)/SUMIFS('4A Calcul. BAU city'!G:G,'4A Calcul. BAU city'!$C:$C,$B122),0)","v":0},{"$f":"IFERROR(+SUMIFS('4A Calcul. BAU city'!I:I,'4A Calcul. BAU city'!$C:$C,$B122,'4A Calcul. BAU city'!$E:$E,$C122)/SUMIFS('4A Calcul. BAU city'!H:H,'4A Calcul. BAU city'!$C:$C,$B122),0)","v":0},{"$f":"IFERROR(+SUMIFS('4A Calcul. BAU city'!J:J,'4A Calcul. BAU city'!$C:$C,$B122,'4A Calcul. BAU city'!$E:$E,$C122)/SUMIFS('4A Calcul. BAU city'!I:I,'4A Calcul. BAU city'!$C:$C,$B122),0)","v":0},{"$f":"IFERROR(+SUMIFS('4A Calcul. BAU city'!K:K,'4A Calcul. BAU city'!$C:$C,$B122,'4A Calcul. BAU city'!$E:$E,$C122)/SUMIFS('4A Calcul. BAU city'!J:J,'4A Calcul. BAU city'!$C:$C,$B122),0)","v":0},{"$f":"IFERROR(+SUMIFS('4A Calcul. BAU city'!L:L,'4A Calcul. BAU city'!$C:$C,$B122,'4A Calcul. BAU city'!$E:$E,$C122)/SUMIFS('4A Calcul. BAU city'!K:K,'4A Calcul. BAU city'!$C:$C,$B122),0)","v":0},null,null,null,null,null,null,null,{"$f":"SUMIFS('4B Calcul. Climat Scen.'!$N$314:$N$361,'4B Calcul. Climat Scen.'!$C$314:$C$361,$B122,'4B Calcul. Climat Scen.'!$E$314:$E$361,$C122)","v":0},{"$f":"SUMIFS('4B Calcul. Climat Scen.'!$N$314:$N$361,'4B Calcul. Climat Scen.'!$C$314:$C$361,$B122,'4B Calcul. Climat Scen.'!$E$314:$E$361,$C122)","v":0},{"$f":"SUMIFS('4B Calcul. Climat Scen.'!$N$314:$N$361,'4B Calcul. Climat Scen.'!$C$314:$C$361,$B122,'4B Calcul. Climat Scen.'!$E$314:$E$361,$C122)","v":0},{"$f":"SUMIFS('4B Calcul. Climat Scen.'!$N$314:$N$361,'4B Calcul. Climat Scen.'!$C$314:$C$361,$B122,'4B Calcul. Climat Scen.'!$E$314:$E$361,$C122)","v":0},{"$f":"SUMIFS('4B Calcul. Climat Scen.'!$N$314:$N$361,'4B Calcul. Climat Scen.'!$C$314:$C$361,$B122,'4B Calcul. Climat Scen.'!$E$314:$E$361,$C122)","v":0}]
[null,{"$f":"lightLCV","v":"Very light LCV"},{"$f":"Electric","v":"Electric"},{"$f":"IFERROR(+SUMIFS('4A Calcul. BAU city'!H:H,'4A Calcul. BAU city'!$C:$C,$B123,'4A Calcul. BAU city'!$E:$E,$C123)/SUMIFS('4A Calcul. BAU city'!G:G,'4A Calcul. BAU city'!$C:$C,$B123),0)","v":0},{"$f":"IFERROR(+SUMIFS('4A Calcul. BAU city'!I:I,'4A Calcul. BAU city'!$C:$C,$B123,'4A Calcul. BAU city'!$E:$E,$C123)/SUMIFS('4A Calcul. BAU city'!H:H,'4A Calcul. BAU city'!$C:$C,$B123),0)","v":0},{"$f":"IFERROR(+SUMIFS('4A Calcul. BAU city'!J:J,'4A Calcul. BAU city'!$C:$C,$B123,'4A Calcul. BAU city'!$E:$E,$C123)/SUMIFS('4A Calcul. BAU city'!I:I,'4A Calcul. BAU city'!$C:$C,$B123),0)","v":0},{"$f":"IFERROR(+SUMIFS('4A Calcul. BAU city'!K:K,'4A Calcul. BAU city'!$C:$C,$B123,'4A Calcul. BAU city'!$E:$E,$C123)/SUMIFS('4A Calcul. BAU city'!J:J,'4A Calcul. BAU city'!$C:$C,$B123),0)","v":0},{"$f":"IFERROR(+SUMIFS('4A Calcul. BAU city'!L:L,'4A Calcul. BAU city'!$C:$C,$B123,'4A Calcul. BAU city'!$E:$E,$C123)/SUMIFS('4A Calcul. BAU city'!K:K,'4A Calcul. BAU city'!$C:$C,$B123),0)","v":0},null,null,null,null,null,null,null,{"$f":"SUMIFS('4B Calcul. Climat Scen.'!$N$314:$N$361,'4B Calcul. Climat Scen.'!$C$314:$C$361,$B123,'4B Calcul. Climat Scen.'!$E$314:$E$361,$C123)","v":0},{"$f":"SUMIFS('4B Calcul. Climat Scen.'!$N$314:$N$361,'4B Calcul. Climat Scen.'!$C$314:$C$361,$B123,'4B Calcul. Climat Scen.'!$E$314:$E$361,$C123)","v":0},{"$f":"SUMIFS('4B Calcul. Climat Scen.'!$N$314:$N$361,'4B Calcul. Climat Scen.'!$C$314:$C$361,$B123,'4B Calcul. Climat Scen.'!$E$314:$E$361,$C123)","v":0},{"$f":"SUMIFS('4B Calcul. Climat Scen.'!$N$314:$N$361,'4B Calcul. Climat Scen.'!$C$314:$C$361,$B123,'4B Calcul. Climat Scen.'!$E$314:$E$361,$C123)","v":0},{"$f":"SUMIFS('4B Calcul. Climat Scen.'!$N$314:$N$361,'4B Calcul. Climat Scen.'!$C$314:$C$361,$B123,'4B Calcul. Climat Scen.'!$E$314:$E$361,$C123)","v":0}]
[null,{"$f":"LCV","v":"LCV"},{"$f":"all","v":"all"},{"$f":"+SUM(D125:D129)","v":0},{"$f":"+SUM(E125:E129)","v":0},{"$f":"+SUM(F125:F129)","v":0},{"$f":"+SUM(G125:G129)","v":0},{"$f":"+SUM(H125:H129)","v":0},null,{"$f":"IF(SUM(J125:J129)>0,SUM(J125:J129),\"-\")","v":"-"},{"$f":"IF(SUM(K125:K129)>0,SUM(K125:K129),\"-\")","v":"-"},"-","-","-",null,{"$f":"SUM(P125:P129)","v":0},{"$f":"SUM(Q125:Q129)","v":0},0,0,0]
[null,"LCV",{"$f":"Gasoline","v":"Gasoline"},{"$f":"IFERROR(+SUMIFS('4A Calcul. BAU city'!H:H,'4A Calcul. BAU city'!$C:$C,$B125,'4A Calcul. BAU city'!$E:$E,$C125)/SUMIFS('4A Calcul. BAU city'!G:G,'4A Calcul. BAU city'!$C:$C,$B125),0)","v":0},{"$f":"IFERROR(+SUMIFS('4A Calcul. BAU city'!I:I,'4A Calcul. BAU city'!$C:$C,$B125,'4A Calcul. BAU city'!$E:$E,$C125)/SUMIFS('4A Calcul. BAU city'!H:H,'4A Calcul. BAU city'!$C:$C,$B125),0)","v":0},{"$f":"IFERROR(+SUMIFS('4A Calcul. BAU city'!J:J,'4A Calcul. BAU city'!$C:$C,$B125,'4A Calcul. BAU city'!$E:$E,$C125)/SUMIFS('4A Calcul. BAU city'!I:I,'4A Calcul. BAU city'!$C:$C,$B125),0)","v":0},{"$f":"IFERROR(+SUMIFS('4A Calcul. BAU city'!K:K,'4A Calcul. BAU city'!$C:$C,$B125,'4A Calcul. BAU city'!$E:$E,$C125)/SUMIFS('4A Calcul. BAU city'!J:J,'4A Calcul. BAU city'!$C:$C,$B125),0)","v":0},{"$f":"IFERROR(+SUMIFS('4A Calcul. BAU city'!L:L,'4A Calcul. BAU city'!$C:$C,$B125,'4A Calcul. BAU city'!$E:$E,$C125)/SUMIFS('4A Calcul. BAU city'!K:K,'4A Calcul. BAU city'!$C:$C,$B125),0)","v":0},null,null,null,null,null,null,null,{"$f":"SUMIFS('4B Calcul. Climat Scen.'!$N$314:$N$361,'4B Calcul. Climat Scen.'!$C$314:$C$361,$B125,'4B Calcul. Climat Scen.'!$E$314:$E$361,$C125)","v":0},{"$f":"SUMIFS('4B Calcul. Climat Scen.'!$N$314:$N$361,'4B Calcul. Climat Scen.'!$C$314:$C$361,$B125,'4B Calcul. Climat Scen.'!$E$314:$E$361,$C125)","v":0},{"$f":"SUMIFS('4B Calcul. Climat Scen.'!$N$314:$N$361,'4B Calcul. Climat Scen.'!$C$314:$C$361,$B125,'4B Calcul. Climat Scen.'!$E$314:$E$361,$C125)","v":0},{"$f":"SUMIFS('4B Calcul. Climat Scen.'!$N$314:$N$361,'4B Calcul. Climat Scen.'!$C$314:$C$361,$B125,'4B Calcul. Climat Scen.'!$E$314:$E$361,$C125)","v":0},{"$f":"SUMIFS('4B Calcul. Climat Scen.'!$N$314:$N$361,'4B Calcul. Climat Scen.'!$C$314:$C$361,$B125,'4B Calcul. Climat Scen.'!$E$314:$E$361,$C125)","v":0}]
[null,"LCV",{"$f":"Diesel","v":"Diesel"},{"$f":"IFERROR(+SUMIFS('4A Calcul. BAU city'!H:H,'4A Calcul. BAU city'!$C:$C,$B126,'4A Calcul. BAU city'!$E:$E,$C126)/SUMIFS('4A Calcul. BAU city'!G:G,'4A Calcul. BAU city'!$C:$C,$B126),0)","v":0},{"$f":"IFERROR(+SUMIFS('4A Calcul. BAU city'!I:I,'4A Calcul. BAU city'!$C:$C,$B126,'4A Calcul. BAU city'!$E:$E,$C126)/SUMIFS('4A Calcul. BAU city'!H:H,'4A Calcul. BAU city'!$C:$C,$B126),0)","v":0},{"$f":"IFERROR(+SUMIFS('4A Calcul. BAU city'!J:J,'4A Calcul. BAU city'!$C:$C,$B126,'4A Calcul. BAU city'!$E:$E,$C126)/SUMIFS('4A Calcul. BAU city'!I:I,'4A Calcul. BAU city'!$C:$C,$B126),0)","v":0},{"$f":"IFERROR(+SUMIFS('4A Calcul. BAU city'!K:K,'4A Calcul. BAU city'!$C:$C,$B126,'4A Calcul. BAU city'!$E:$E,$C126)/SUMIFS('4A Calcul. BAU city'!J:J,'4A Calcul. BAU city'!$C:$C,$B126),0)","v":0},{"$f":"IFERROR(+SUMIFS('4A Calcul. BAU city'!L:L,'4A Calcul. BAU city'!$C:$C,$B126,'4A Calcul. BAU city'!$E:$E,$C126)/SUMIFS('4A Calcul. BAU city'!K:K,'4A Calcul. BAU city'!$C:$C,$B126),0)","v":0},null,null,null,null,null,null,null,{"$f":"SUMIFS('4B Calcul. Climat Scen.'!$N$314:$N$361,'4B Calcul. Climat Scen.'!$C$314:$C$361,$B126,'4B Calcul. Climat Scen.'!$E$314:$E$361,$C126)","v":0},{"$f":"SUMIFS('4B Calcul. Climat Scen.'!$N$314:$N$361,'4B Calcul. Climat Scen.'!$C$314:$C$361,$B126,'4B Calcul. Climat Scen.'!$E$314:$E$361,$C126)","v":0},{"$f":"SUMIFS('4B Calcul. Climat Scen.'!$N$314:$N$361,'4B Calcul. Climat Scen.'!$C$314:$C$361,$B126,'4B Calcul. Climat Scen.'!$E$314:$E$361,$C126)","v":0},{"$f":"SUMIFS('4B Calcul. Climat Scen.'!$N$314:$N$361,'4B Calcul. Climat Scen.'!$C$314:$C$361,$B126,'4B Calcul. Climat Scen.'!$E$314:$E$361,$C126)","v":0},{"$f":"SUMIFS('4B Calcul. Climat Scen.'!$N$314:$N$361,'4B Calcul. Climat Scen.'!$C$314:$C$361,$B126,'4B Calcul. Climat Scen.'!$E$314:$E$361,$C126)","v":0}]
[null,"LCV",{"$f":"LPG","v":"LPG"},{"$f":"IFERROR(+SUMIFS('4A Calcul. BAU city'!H:H,'4A Calcul. BAU city'!$C:$C,$B127,'4A Calcul. BAU city'!$E:$E,$C127)/SUMIFS('4A Calcul. BAU city'!G:G,'4A Calcul. BAU city'!$C:$C,$B127),0)","v":0},{"$f":"IFERROR(+SUMIFS('4A Calcul. BAU city'!I:I,'4A Calcul. BAU city'!$C:$C,$B127,'4A Calcul. BAU city'!$E:$E,$C127)/SUMIFS('4A Calcul. BAU city'!H:H,'4A Calcul. BAU city'!$C:$C,$B127),0)","v":0},{"$f":"IFERROR(+SUMIFS('4A Calcul. BAU city'!J:J,'4A Calcul. BAU city'!$C:$C,$B127,'4A Calcul. BAU city'!$E:$E,$C127)/SUMIFS('4A Calcul. BAU city'!I:I,'4A Calcul. BAU city'!$C:$C,$B127),0)","v":0},{"$f":"IFERROR(+SUMIFS('4A Calcul. BAU city'!K:K,'4A Calcul. BAU city'!$C:$C,$B127,'4A Calcul. BAU city'!$E:$E,$C127)/SUMIFS('4A Calcul. BAU city'!J:J,'4A Calcul. BAU city'!$C:$C,$B127),0)","v":0},{"$f":"IFERROR(+SUMIFS('4A Calcul. BAU city'!L:L,'4A Calcul. BAU city'!$C:$C,$B127,'4A Calcul. BAU city'!$E:$E,$C127)/SUMIFS('4A Calcul. BAU city'!K:K,'4A Calcul. BAU city'!$C:$C,$B127),0)","v":0},null,null,null,null,null,null,null,{"$f":"SUMIFS('4B Calcul. Climat Scen.'!$N$314:$N$361,'4B Calcul. Climat Scen.'!$C$314:$C$361,$B127,'4B Calcul. Climat Scen.'!$E$314:$E$361,$C127)","v":0},{"$f":"SUMIFS('4B Calcul. Climat Scen.'!$N$314:$N$361,'4B Calcul. Climat Scen.'!$C$314:$C$361,$B127,'4B Calcul. Climat Scen.'!$E$314:$E$361,$C127)","v":0},{"$f":"SUMIFS('4B Calcul. Climat Scen.'!$N$314:$N$361,'4B Calcul. Climat Scen.'!$C$314:$C$361,$B127,'4B Calcul. Climat Scen.'!$E$314:$E$361,$C127)","v":0},{"$f":"SUMIFS('4B Calcul. Climat Scen.'!$N$314:$N$361,'4B Calcul. Climat Scen.'!$C$314:$C$361,$B127,'4B Calcul. Climat Scen.'!$E$314:$E$361,$C127)","v":0},{"$f":"SUMIFS('4B Calcul. Climat Scen.'!$N$314:$N$361,'4B Calcul. Climat Scen.'!$C$314:$C$361,$B127,'4B Calcul. Climat Scen.'!$E$314:$E$361,$C127)","v":0}]
[null,"LCV",{"$f":"NG","v":"NG"},{"$f":"IFERROR(+SUMIFS('4A Calcul. BAU city'!H:H,'4A Calcul. BAU city'!$C:$C,$B128,'4A Calcul. BAU city'!$E:$E,$C128)/SUMIFS('4A Calcul. BAU city'!G:G,'4A Calcul. BAU city'!$C:$C,$B128),0)","v":0},{"$f":"IFERROR(+SUMIFS('4A Calcul. BAU city'!I:I,'4A Calcul. BAU city'!$C:$C,$B128,'4A Calcul. BAU city'!$E:$E,$C128)/SUMIFS('4A Calcul. BAU city'!H:H,'4A Calcul. BAU city'!$C:$C,$B128),0)","v":0},{"$f":"IFERROR(+SUMIFS('4A Calcul. BAU city'!J:J,'4A Calcul. BAU city'!$C:$C,$B128,'4A Calcul. BAU city'!$E:$E,$C128)/SUMIFS('4A Calcul. BAU city'!I:I,'4A Calcul. BAU city'!$C:$C,$B128),0)","v":0},{"$f":"IFERROR(+SUMIFS('4A Calcul. BAU city'!K:K,'4A Calcul. BAU city'!$C:$C,$B128,'4A Calcul. BAU city'!$E:$E,$C128)/SUMIFS('4A Calcul. BAU city'!J:J,'4A Calcul. BAU city'!$C:$C,$B128),0)","v":0},{"$f":"IFERROR(+SUMIFS('4A Calcul. BAU city'!L:L,'4A Calcul. BAU city'!$C:$C,$B128,'4A Calcul. BAU city'!$E:$E,$C128)/SUMIFS('4A Calcul. BAU city'!K:K,'4A Calcul. BAU city'!$C:$C,$B128),0)","v":0},null,null,null,null,null,null,null,{"$f":"SUMIFS('4B Calcul. Climat Scen.'!$N$314:$N$361,'4B Calcul. Climat Scen.'!$C$314:$C$361,$B128,'4B Calcul. Climat Scen.'!$E$314:$E$361,$C128)","v":0},{"$f":"SUMIFS('4B Calcul. Climat Scen.'!$N$314:$N$361,'4B Calcul. Climat Scen.'!$C$314:$C$361,$B128,'4B Calcul. Climat Scen.'!$E$314:$E$361,$C128)","v":0},{"$f":"SUMIFS('4B Calcul. Climat Scen.'!$N$314:$N$361,'4B Calcul. Climat Scen.'!$C$314:$C$361,$B128,'4B Calcul. Climat Scen.'!$E$314:$E$361,$C128)","v":0},{"$f":"SUMIFS('4B Calcul. Climat Scen.'!$N$314:$N$361,'4B Calcul. Climat Scen.'!$C$314:$C$361,$B128,'4B Calcul. Climat Scen.'!$E$314:$E$361,$C128)","v":0},{"$f":"SUMIFS('4B Calcul. Climat Scen.'!$N$314:$N$361,'4B Calcul. Climat Scen.'!$C$314:$C$361,$B128,'4B Calcul. Climat Scen.'!$E$314:$E$361,$C128)","v":0}]
[null,"LCV",{"$f":"Electric","v":"Electric"},{"$f":"IFERROR(+SUMIFS('4A Calcul. BAU city'!H:H,'4A Calcul. BAU city'!$C:$C,$B129,'4A Calcul. BAU city'!$E:$E,$C129)/SUMIFS('4A Calcul. BAU city'!G:G,'4A Calcul. BAU city'!$C:$C,$B129),0)","v":0},{"$f":"IFERROR(+SUMIFS('4A Calcul. BAU city'!I:I,'4A Calcul. BAU city'!$C:$C,$B129,'4A Calcul. BAU city'!$E:$E,$C129)/SUMIFS('4A Calcul. BAU city'!H:H,'4A Calcul. BAU city'!$C:$C,$B129),0)","v":0},{"$f":"IFERROR(+SUMIFS('4A Calcul. BAU city'!J:J,'4A Calcul. BAU city'!$C:$C,$B129,'4A Calcul. BAU city'!$E:$E,$C129)/SUMIFS('4A Calcul. BAU city'!I:I,'4A Calcul. BAU city'!$C:$C,$B129),0)","v":0},{"$f":"IFERROR(+SUMIFS('4A Calcul. BAU city'!K:K,'4A Calcul. BAU city'!$C:$C,$B129,'4A Calcul. BAU city'!$E:$E,$C129)/SUMIFS('4A Calcul. BAU city'!J:J,'4A Calcul. BAU city'!$C:$C,$B129),0)","v":0},{"$f":"IFERROR(+SUMIFS('4A Calcul. BAU city'!L:L,'4A Calcul. BAU city'!$C:$C,$B129,'4A Calcul. BAU city'!$E:$E,$C129)/SUMIFS('4A Calcul. BAU city'!K:K,'4A Calcul. BAU city'!$C:$C,$B129),0)","v":0},null,null,null,null,null,null,null,{"$f":"SUMIFS('4B Calcul. Climat Scen.'!$N$314:$N$361,'4B Calcul. Climat Scen.'!$C$314:$C$361,$B129,'4B Calcul. Climat Scen.'!$E$314:$E$361,$C129)","v":0},{"$f":"SUMIFS('4B Calcul. Climat Scen.'!$N$314:$N$361,'4B Calcul. Climat Scen.'!$C$314:$C$361,$B129,'4B Calcul. Climat Scen.'!$E$314:$E$361,$C129)","v":0},{"$f":"SUMIFS('4B Calcul. Climat Scen.'!$N$314:$N$361,'4B Calcul. Climat Scen.'!$C$314:$C$361,$B129,'4B Calcul. Climat Scen.'!$E$314:$E$361,$C129)","v":0},{"$f":"SUMIFS('4B Calcul. Climat Scen.'!$N$314:$N$361,'4B Calcul. Climat Scen.'!$C$314:$C$361,$B129,'4B Calcul. Climat Scen.'!$E$314:$E$361,$C129)","v":0},{"$f":"SUMIFS('4B Calcul. Climat Scen.'!$N$314:$N$361,'4B Calcul. Climat Scen.'!$C$314:$C$361,$B129,'4B Calcul. Climat Scen.'!$E$314:$E$361,$C129)","v":0}]
[null,{"$f":"Solo","v":"Solo truck"},{"$f":"all","v":"all"},{"$f":"+SUM(D131:D133)","v":0},{"$f":"+SUM(E131:E133)","v":0},{"$f":"+SUM(F131:F133)","v":0},{"$f":"+SUM(G131:G133)","v":0},{"$f":"+SUM(H131:H133)","v":0},null,{"$f":"IF(SUM(J131:J133)>0,SUM(J131:J133),\"-\")","v":"-"},{"$f":"IF(SUM(K131:K133)>0,SUM(K131:K133),\"-\")","v":"-"},{"$f":"IF(SUM(L131:L133)>0,SUM(L131:L133),\"-\")","v":"-"},{"$f":"IF(SUM(M131:M133)>0,SUM(M131:M133),\"-\")","v":"-"},{"$f":"IF(SUM(N131:N133)>0,SUM(N131:N133),\"-\")","v":"-"},null,{"$f":"SUM(P131:P133)","v":0},{"$f":"SUM(Q131:Q133)","v":0},{"$f":"SUM(R131:R133)","v":0},{"$f":"SUM(S131:S133)","v":0},{"$f":"SUM(T131:T133)","v":0}]
[null,{"$f":"Solo","v":"Solo truck"},{"$f":"Diesel","v":"Diesel"},{"$f":"IFERROR(+SUMIFS('4A Calcul. BAU city'!H:H,'4A Calcul. BAU city'!$C:$C,$B131,'4A Calcul. BAU city'!$E:$E,$C131)/SUMIFS('4A Calcul. BAU city'!G:G,'4A Calcul. BAU city'!$C:$C,$B131),0)","v":0},{"$f":"IFERROR(+SUMIFS('4A Calcul. BAU city'!I:I,'4A Calcul. BAU city'!$C:$C,$B131,'4A Calcul. BAU city'!$E:$E,$C131)/SUMIFS('4A Calcul. BAU city'!H:H,'4A Calcul. BAU city'!$C:$C,$B131),0)","v":0},{"$f":"IFERROR(+SUMIFS('4A Calcul. BAU city'!J:J,'4A Calcul. BAU city'!$C:$C,$B131,'4A Calcul. BAU city'!$E:$E,$C131)/SUMIFS('4A Calcul. BAU city'!I:I,'4A Calcul. BAU city'!$C:$C,$B131),0)","v":0},{"$f":"IFERROR(+SUMIFS('4A Calcul. BAU city'!K:K,'4A Calcul. BAU city'!$C:$C,$B131,'4A Calcul. BAU city'!$E:$E,$C131)/SUMIFS('4A Calcul. BAU city'!J:J,'4A Calcul. BAU city'!$C:$C,$B131),0)","v":0},{"$f":"IFERROR(+SUMIFS('4A Calcul. BAU city'!L:L,'4A Calcul. BAU city'!$C:$C,$B131,'4A Calcul. BAU city'!$E:$E,$C131)/SUMIFS('4A Calcul. BAU city'!K:K,'4A Calcul. BAU city'!$C:$C,$B131),0)","v":0},null,null,null,null,null,null,null,{"$f":"SUMIFS('4B Calcul. Climat Scen.'!$N$314:$N$361,'4B Calcul. Climat Scen.'!$C$314:$C$361,$B131,'4B Calcul. Climat Scen.'!$E$314:$E$361,$C131)","v":0},{"$f":"SUMIFS('4B Calcul. Climat Scen.'!$N$314:$N$361,'4B Calcul. Climat Scen.'!$C$314:$C$361,$B131,'4B Calcul. Climat Scen.'!$E$314:$E$361,$C131)","v":0},{"$f":"SUMIFS('4B Calcul. Climat Scen.'!$N$314:$N$361,'4B Calcul. Climat Scen.'!$C$314:$C$361,$B131,'4B Calcul. Climat Scen.'!$E$314:$E$361,$C131)","v":0},{"$f":"SUMIFS('4B Calcul. Climat Scen.'!$N$314:$N$361,'4B Calcul. Climat Scen.'!$C$314:$C$361,$B131,'4B Calcul. Climat Scen.'!$E$314:$E$361,$C131)","v":0},{"$f":"SUMIFS('4B Calcul. Climat Scen.'!$N$314:$N$361,'4B Calcul. Climat Scen.'!$C$314:$C$361,$B131,'4B Calcul. Climat Scen.'!$E$314:$E$361,$C131)","v":0}]
[null,{"$f":"Solo","v":"Solo truck"},{"$f":"NG","v":"NG"},{"$f":"IFERROR(+SUMIFS('4A Calcul. BAU city'!H:H,'4A Calcul. BAU city'!$C:$C,$B132,'4A Calcul. BAU city'!$E:$E,$C132)/SUMIFS('4A Calcul. BAU city'!G:G,'4A Calcul. BAU city'!$C:$C,$B132),0)","v":0},{"$f":"IFERROR(+SUMIFS('4A Calcul. BAU city'!I:I,'4A Calcul. BAU city'!$C:$C,$B132,'4A Calcul. BAU city'!$E:$E,$C132)/SUMIFS('4A Calcul. BAU city'!H:H,'4A Calcul. BAU city'!$C:$C,$B132),0)","v":0},{"$f":"IFERROR(+SUMIFS('4A Calcul. BAU city'!J:J,'4A Calcul. BAU city'!$C:$C,$B132,'4A Calcul. BAU city'!$E:$E,$C132)/SUMIFS('4A Calcul. BAU city'!I:I,'4A Calcul. BAU city'!$C:$C,$B132),0)","v":0},{"$f":"IFERROR(+SUMIFS('4A Calcul. BAU city'!K:K,'4A Calcul. BAU city'!$C:$C,$B132,'4A Calcul. BAU city'!$E:$E,$C132)/SUMIFS('4A Calcul. BAU city'!J:J,'4A Calcul. BAU city'!$C:$C,$B132),0)","v":0},{"$f":"IFERROR(+SUMIFS('4A Calcul. BAU city'!L:L,'4A Calcul. BAU city'!$C:$C,$B132,'4A Calcul. BAU city'!$E:$E,$C132)/SUMIFS('4A Calcul. BAU city'!K:K,'4A Calcul. BAU city'!$C:$C,$B132),0)","v":0},null,null,null,null,null,null,null,{"$f":"SUMIFS('4B Calcul. Climat Scen.'!$N$314:$N$361,'4B Calcul. Climat Scen.'!$C$314:$C$361,$B132,'4B Calcul. Climat Scen.'!$E$314:$E$361,$C132)","v":0},{"$f":"SUMIFS('4B Calcul. Climat Scen.'!$N$314:$N$361,'4B Calcul. Climat Scen.'!$C$314:$C$361,$B132,'4B Calcul. Climat Scen.'!$E$314:$E$361,$C132)","v":0},{"$f":"SUMIFS('4B Calcul. Climat Scen.'!$N$314:$N$361,'4B Calcul. Climat Scen.'!$C$314:$C$361,$B132,'4B Calcul. Climat Scen.'!$E$314:$E$361,$C132)","v":0},{"$f":"SUMIFS('4B Calcul. Climat Scen.'!$N$314:$N$361,'4B Calcul. Climat Scen.'!$C$314:$C$361,$B132,'4B Calcul. Climat Scen.'!$E$314:$E$361,$C132)","v":0},{"$f":"SUMIFS('4B Calcul. Climat Scen.'!$N$314:$N$361,'4B Calcul. Climat Scen.'!$C$314:$C$361,$B132,'4B Calcul. Climat Scen.'!$E$314:$E$361,$C132)","v":0}]
[null,{"$f":"Solo","v":"Solo truck"},{"$f":"Electric","v":"Electric"},{"$f":"IFERROR(+SUMIFS('4A Calcul. BAU city'!H:H,'4A Calcul. BAU city'!$C:$C,$B133,'4A Calcul. BAU city'!$E:$E,$C133)/SUMIFS('4A Calcul. BAU city'!G:G,'4A Calcul. BAU city'!$C:$C,$B133),0)","v":0},{"$f":"IFERROR(+SUMIFS('4A Calcul. BAU city'!I:I,'4A Calcul. BAU city'!$C:$C,$B133,'4A Calcul. BAU city'!$E:$E,$C133)/SUMIFS('4A Calcul. BAU city'!H:H,'4A Calcul. BAU city'!$C:$C,$B133),0)","v":0},{"$f":"IFERROR(+SUMIFS('4A Calcul. BAU city'!J:J,'4A Calcul. BAU city'!$C:$C,$B133,'4A Calcul. BAU city'!$E:$E,$C133)/SUMIFS('4A Calcul. BAU city'!I:I,'4A Calcul. BAU city'!$C:$C,$B133),0)","v":0},{"$f":"IFERROR(+SUMIFS('4A Calcul. BAU city'!K:K,'4A Calcul. BAU city'!$C:$C,$B133,'4A Calcul. BAU city'!$E:$E,$C133)/SUMIFS('4A Calcul. BAU city'!J:J,'4A Calcul. BAU city'!$C:$C,$B133),0)","v":0},{"$f":"IFERROR(+SUMIFS('4A Calcul. BAU city'!L:L,'4A Calcul. BAU city'!$C:$C,$B133,'4A Calcul. BAU city'!$E:$E,$C133)/SUMIFS('4A Calcul. BAU city'!K:K,'4A Calcul. BAU city'!$C:$C,$B133),0)","v":0},null,null,null,null,null,null,null,{"$f":"SUMIFS('4B Calcul. Climat Scen.'!$N$314:$N$361,'4B Calcul. Climat Scen.'!$C$314:$C$361,$B133,'4B Calcul. Climat Scen.'!$E$314:$E$361,$C133)","v":0},{"$f":"SUMIFS('4B Calcul. Climat Scen.'!$N$314:$N$361,'4B Calcul. Climat Scen.'!$C$314:$C$361,$B133,'4B Calcul. Climat Scen.'!$E$314:$E$361,$C133)","v":0},{"$f":"SUMIFS('4B Calcul. Climat Scen.'!$N$314:$N$361,'4B Calcul. Climat Scen.'!$C$314:$C$361,$B133,'4B Calcul. Climat Scen.'!$E$314:$E$361,$C133)","v":0},{"$f":"SUMIFS('4B Calcul. Climat Scen.'!$N$314:$N$361,'4B Calcul. Climat Scen.'!$C$314:$C$361,$B133,'4B Calcul. Climat Scen.'!$E$314:$E$361,$C133)","v":0},{"$f":"SUMIFS('4B Calcul. Climat Scen.'!$N$314:$N$361,'4B Calcul. Climat Scen.'!$C$314:$C$361,$B133,'4B Calcul. Climat Scen.'!$E$314:$E$361,$C133)","v":0}]
[null,{"$f":"Atruck","v":"Articulated truck"},{"$f":"all","v":"all"},{"$f":"+SUM(D135:D137)","v":0},{"$f":"+SUM(E135:E137)","v":0},{"$f":"+SUM(F135:F137)","v":0},{"$f":"+SUM(G135:G137)","v":0},{"$f":"+SUM(H135:H137)","v":0},null,{"$f":"IF(SUM(J135:J137)>0,SUM(J135:J137),\"-\")","v":"-"},{"$f":"IF(SUM(K135:K137)>0,SUM(K135:K137),\"-\")","v":"-"},{"$f":"IF(SUM(L135:L137)>0,SUM(L135:L137),\"-\")","v":"-"},{"$f":"IF(SUM(M135:M137)>0,SUM(M135:M137),\"-\")","v":"-"},{"$f":"IF(SUM(N135:N137)>0,SUM(N135:N137),\"-\")","v":"-"},null,{"$f":"SUM(P135:P137)","v":0},{"$f":"SUM(Q135:Q137)","v":0},{"$f":"SUM(R135:R137)","v":0},{"$f":"SUM(S135:S137)","v":0},{"$f":"SUM(T135:T137)","v":0}]
[null,{"$f":"Atruck","v":"Articulated truck"},{"$f":"Diesel","v":"Diesel"},{"$f":"IFERROR(+SUMIFS('4A Calcul. BAU city'!H:H,'4A Calcul. BAU city'!$C:$C,$B135,'4A Calcul. BAU city'!$E:$E,$C135)/SUMIFS('4A Calcul. BAU city'!G:G,'4A Calcul. BAU city'!$C:$C,$B135),0)","v":0},{"$f":"IFERROR(+SUMIFS('4A Calcul. BAU city'!I:I,'4A Calcul. BAU city'!$C:$C,$B135,'4A Calcul. BAU city'!$E:$E,$C135)/SUMIFS('4A Calcul. BAU city'!H:H,'4A Calcul. BAU city'!$C:$C,$B135),0)","v":0},{"$f":"IFERROR(+SUMIFS('4A Calcul. BAU city'!J:J,'4A Calcul. BAU city'!$C:$C,$B135,'4A Calcul. BAU city'!$E:$E,$C135)/SUMIFS('4A Calcul. BAU city'!I:I,'4A Calcul. BAU city'!$C:$C,$B135),0)","v":0},{"$f":"IFERROR(+SUMIFS('4A Calcul. BAU city'!K:K,'4A Calcul. BAU city'!$C:$C,$B135,'4A Calcul. BAU city'!$E:$E,$C135)/SUMIFS('4A Calcul. BAU city'!J:J,'4A Calcul. BAU city'!$C:$C,$B135),0)","v":0},{"$f":"IFERROR(+SUMIFS('4A Calcul. BAU city'!L:L,'4A Calcul. BAU city'!$C:$C,$B135,'4A Calcul. BAU city'!$E:$E,$C135)/SUMIFS('4A Calcul. BAU city'!K:K,'4A Calcul. BAU city'!$C:$C,$B135),0)","v":0},null,null,null,null,null,null,null,{"$f":"SUMIFS('4B Calcul. Climat Scen.'!$N$314:$N$361,'4B Calcul. Climat Scen.'!$C$314:$C$361,$B135,'4B Calcul. Climat Scen.'!$E$314:$E$361,$C135)","v":0},{"$f":"SUMIFS('4B Calcul. Climat Scen.'!$N$314:$N$361,'4B Calcul. Climat Scen.'!$C$314:$C$361,$B135,'4B Calcul. Climat Scen.'!$E$314:$E$361,$C135)","v":0},{"$f":"SUMIFS('4B Calcul. Climat Scen.'!$N$314:$N$361,'4B Calcul. Climat Scen.'!$C$314:$C$361,$B135,'4B Calcul. Climat Scen.'!$E$314:$E$361,$C135)","v":0},{"$f":"SUMIFS('4B Calcul. Climat Scen.'!$N$314:$N$361,'4B Calcul. Climat Scen.'!$C$314:$C$361,$B135,'4B Calcul. Climat Scen.'!$E$314:$E$361,$C135)","v":0},{"$f":"SUMIFS('4B Calcul. Climat Scen.'!$N$314:$N$361,'4B Calcul. Climat Scen.'!$C$314:$C$361,$B135,'4B Calcul. Climat Scen.'!$E$314:$E$361,$C135)","v":0}]
[null,{"$f":"Atruck","v":"Articulated truck"},{"$f":"NG","v":"NG"},{"$f":"IFERROR(+SUMIFS('4A Calcul. BAU city'!H:H,'4A Calcul. BAU city'!$C:$C,$B136,'4A Calcul. BAU city'!$E:$E,$C136)/SUMIFS('4A Calcul. BAU city'!G:G,'4A Calcul. BAU city'!$C:$C,$B136),0)","v":0},{"$f":"IFERROR(+SUMIFS('4A Calcul. BAU city'!I:I,'4A Calcul. BAU city'!$C:$C,$B136,'4A Calcul. BAU city'!$E:$E,$C136)/SUMIFS('4A Calcul. BAU city'!H:H,'4A Calcul. BAU city'!$C:$C,$B136),0)","v":0},{"$f":"IFERROR(+SUMIFS('4A Calcul. BAU city'!J:J,'4A Calcul. BAU city'!$C:$C,$B136,'4A Calcul. BAU city'!$E:$E,$C136)/SUMIFS('4A Calcul. BAU city'!I:I,'4A Calcul. BAU city'!$C:$C,$B136),0)","v":0},{"$f":"IFERROR(+SUMIFS('4A Calcul. BAU city'!K:K,'4A Calcul. BAU city'!$C:$C,$B136,'4A Calcul. BAU city'!$E:$E,$C136)/SUMIFS('4A Calcul. BAU city'!J:J,'4A Calcul. BAU city'!$C:$C,$B136),0)","v":0},{"$f":"IFERROR(+SUMIFS('4A Calcul. BAU city'!L:L,'4A Calcul. BAU city'!$C:$C,$B136,'4A Calcul. BAU city'!$E:$E,$C136)/SUMIFS('4A Calcul. BAU city'!K:K,'4A Calcul. BAU city'!$C:$C,$B136),0)","v":0},null,null,null,null,null,null,null,{"$f":"SUMIFS('4B Calcul. Climat Scen.'!$N$314:$N$361,'4B Calcul. Climat Scen.'!$C$314:$C$361,$B136,'4B Calcul. Climat Scen.'!$E$314:$E$361,$C136)","v":0},{"$f":"SUMIFS('4B Calcul. Climat Scen.'!$N$314:$N$361,'4B Calcul. Climat Scen.'!$C$314:$C$361,$B136,'4B Calcul. Climat Scen.'!$E$314:$E$361,$C136)","v":0},{"$f":"SUMIFS('4B Calcul. Climat Scen.'!$N$314:$N$361,'4B Calcul. Climat Scen.'!$C$314:$C$361,$B136,'4B Calcul. Climat Scen.'!$E$314:$E$361,$C136)","v":0},{"$f":"SUMIFS('4B Calcul. Climat Scen.'!$N$314:$N$361,'4B Calcul. Climat Scen.'!$C$314:$C$361,$B136,'4B Calcul. Climat Scen.'!$E$314:$E$361,$C136)","v":0},{"$f":"SUMIFS('4B Calcul. Climat Scen.'!$N$314:$N$361,'4B Calcul. Climat Scen.'!$C$314:$C$361,$B136,'4B Calcul. Climat Scen.'!$E$314:$E$361,$C136)","v":0}]
[null,{"$f":"Atruck","v":"Articulated truck"},{"$f":"Electric","v":"Electric"},{"$f":"IFERROR(+SUMIFS('4A Calcul. BAU city'!H:H,'4A Calcul. BAU city'!$C:$C,$B137,'4A Calcul. BAU city'!$E:$E,$C137)/SUMIFS('4A Calcul. BAU city'!G:G,'4A Calcul. BAU city'!$C:$C,$B137),0)","v":0},{"$f":"IFERROR(+SUMIFS('4A Calcul. BAU city'!I:I,'4A Calcul. BAU city'!$C:$C,$B137,'4A Calcul. BAU city'!$E:$E,$C137)/SUMIFS('4A Calcul. BAU city'!H:H,'4A Calcul. BAU city'!$C:$C,$B137),0)","v":0},{"$f":"IFERROR(+SUMIFS('4A Calcul. BAU city'!J:J,'4A Calcul. BAU city'!$C:$C,$B137,'4A Calcul. BAU city'!$E:$E,$C137)/SUMIFS('4A Calcul. BAU city'!I:I,'4A Calcul. BAU city'!$C:$C,$B137),0)","v":0},{"$f":"IFERROR(+SUMIFS('4A Calcul. BAU city'!K:K,'4A Calcul. BAU city'!$C:$C,$B137,'4A Calcul. BAU city'!$E:$E,$C137)/SUMIFS('4A Calcul. BAU city'!J:J,'4A Calcul. BAU city'!$C:$C,$B137),0)","v":0},{"$f":"IFERROR(+SUMIFS('4A Calcul. BAU city'!L:L,'4A Calcul. BAU city'!$C:$C,$B137,'4A Calcul. BAU city'!$E:$E,$C137)/SUMIFS('4A Calcul. BAU city'!K:K,'4A Calcul. BAU city'!$C:$C,$B137),0)","v":0},null,null,null,null,null,null,null,{"$f":"SUMIFS('4B Calcul. Climat Scen.'!$N$314:$N$361,'4B Calcul. Climat Scen.'!$C$314:$C$361,$B137,'4B Calcul. Climat Scen.'!$E$314:$E$361,$C137)","v":0},{"$f":"SUMIFS('4B Calcul. Climat Scen.'!$N$314:$N$361,'4B Calcul. Climat Scen.'!$C$314:$C$361,$B137,'4B Calcul. Climat Scen.'!$E$314:$E$361,$C137)","v":0},{"$f":"SUMIFS('4B Calcul. Climat Scen.'!$N$314:$N$361,'4B Calcul. Climat Scen.'!$C$314:$C$361,$B137,'4B Calcul. Climat Scen.'!$E$314:$E$361,$C137)","v":0},{"$f":"SUMIFS('4B Calcul. Climat Scen.'!$N$314:$N$361,'4B Calcul. Climat Scen.'!$C$314:$C$361,$B137,'4B Calcul. Climat Scen.'!$E$314:$E$361,$C137)","v":0},{"$f":"SUMIFS('4B Calcul. Climat Scen.'!$N$314:$N$361,'4B Calcul. Climat Scen.'!$C$314:$C$361,$B137,'4B Calcul. Climat Scen.'!$E$314:$E$361,$C137)","v":0}]
[null,{"$f":"Ftrain","v":"Freight train"},{"$f":"all","v":"all"},{"$f":"+SUM(D139:D140)","v":0},{"$f":"+SUM(E139:E140)","v":0},{"$f":"+SUM(F139:F140)","v":0},{"$f":"+SUM(G139:G140)","v":0},{"$f":"+SUM(H139:H140)","v":0},null,{"$f":"IF(SUM(J139:J140)>0,SUM(J139:J140),\"-\")","v":"-"},{"$f":"IF(SUM(K139:K140)>0,SUM(K139:K140),\"-\")","v":"-"},"-","-","-",null,{"$f":"SUM(P139:P140)","v":0},{"$f":"SUM(Q139:Q140)","v":0},0,0,0]
[null,{"$f":"Ftrain","v":"Freight train"},{"$f":"Diesel","v":"Diesel"},{"$f":"IFERROR(+SUMIFS('4A Calcul. BAU city'!H:H,'4A Calcul. BAU city'!$B:$B,$B139,'4A Calcul. BAU city'!$E:$E,$C139)/SUMIFS('4A Calcul. BAU city'!G:G,'4A Calcul. BAU city'!$B:$B,$B139),0)","v":0},{"$f":"IFERROR(+SUMIFS('4A Calcul. BAU city'!I:I,'4A Calcul. BAU city'!$B:$B,$B139,'4A Calcul. BAU city'!$E:$E,$C139)/SUMIFS('4A Calcul. BAU city'!H:H,'4A Calcul. BAU city'!$B:$B,$B139),0)","v":0},{"$f":"IFERROR(+SUMIFS('4A Calcul. BAU city'!J:J,'4A Calcul. BAU city'!$B:$B,$B139,'4A Calcul. BAU city'!$E:$E,$C139)/SUMIFS('4A Calcul. BAU city'!I:I,'4A Calcul. BAU city'!$B:$B,$B139),0)","v":0},{"$f":"IFERROR(+SUMIFS('4A Calcul. BAU city'!K:K,'4A Calcul. BAU city'!$B:$B,$B139,'4A Calcul. BAU city'!$E:$E,$C139)/SUMIFS('4A Calcul. BAU city'!J:J,'4A Calcul. BAU city'!$B:$B,$B139),0)","v":0},{"$f":"IFERROR(+SUMIFS('4A Calcul. BAU city'!L:L,'4A Calcul. BAU city'!$B:$B,$B139,'4A Calcul. BAU city'!$E:$E,$C139)/SUMIFS('4A Calcul. BAU city'!K:K,'4A Calcul. BAU city'!$B:$B,$B139),0)","v":0},null,null,null,null,null,null,null,{"$f":"SUMIFS('4B Calcul. Climat Scen.'!$N$314:$N$363,'4B Calcul. Climat Scen.'!$C$314:$C$363,$B139,'4B Calcul. Climat Scen.'!$E$314:$E$363,$C139)","v":0},{"$f":"SUMIFS('4B Calcul. Climat Scen.'!$N$314:$N$363,'4B Calcul. Climat Scen.'!$C$314:$C$363,$B139,'4B Calcul. Climat Scen.'!$E$314:$E$363,$C139)","v":0},{"$f":"SUMIFS('4B Calcul. Climat Scen.'!$N$314:$N$363,'4B Calcul. Climat Scen.'!$C$314:$C$363,$B139,'4B Calcul. Climat Scen.'!$E$314:$E$363,$C139)","v":0},{"$f":"SUMIFS('4B Calcul. Climat Scen.'!$N$314:$N$363,'4B Calcul. Climat Scen.'!$C$314:$C$363,$B139,'4B Calcul. Climat Scen.'!$E$314:$E$363,$C139)","v":0},{"$f":"SUMIFS('4B Calcul. Climat Scen.'!$N$314:$N$363,'4B Calcul. Climat Scen.'!$C$314:$C$363,$B139,'4B Calcul. Climat Scen.'!$E$314:$E$363,$C139)","v":0}]
[null,{"$f":"Ftrain","v":"Freight train"},{"$f":"Electric","v":"Electric"},{"$f":"IFERROR(+SUMIFS('4A Calcul. BAU city'!H:H,'4A Calcul. BAU city'!$B:$B,$B140,'4A Calcul. BAU city'!$E:$E,$C140)/SUMIFS('4A Calcul. BAU city'!G:G,'4A Calcul. BAU city'!$B:$B,$B140),0)","v":0},{"$f":"IFERROR(+SUMIFS('4A Calcul. BAU city'!I:I,'4A Calcul. BAU city'!$B:$B,$B140,'4A Calcul. BAU city'!$E:$E,$C140)/SUMIFS('4A Calcul. BAU city'!H:H,'4A Calcul. BAU city'!$B:$B,$B140),0)","v":0},{"$f":"IFERROR(+SUMIFS('4A Calcul. BAU city'!J:J,'4A Calcul. BAU city'!$B:$B,$B140,'4A Calcul. BAU city'!$E:$E,$C140)/SUMIFS('4A Calcul. BAU city'!I:I,'4A Calcul. BAU city'!$B:$B,$B140),0)","v":0},{"$f":"IFERROR(+SUMIFS('4A Calcul. BAU city'!K:K,'4A Calcul. BAU city'!$B:$B,$B140,'4A Calcul. BAU city'!$E:$E,$C140)/SUMIFS('4A Calcul. BAU city'!J:J,'4A Calcul. BAU city'!$B:$B,$B140),0)","v":0},{"$f":"IFERROR(+SUMIFS('4A Calcul. BAU city'!L:L,'4A Calcul. BAU city'!$B:$B,$B140,'4A Calcul. BAU city'!$E:$E,$C140)/SUMIFS('4A Calcul. BAU city'!K:K,'4A Calcul. BAU city'!$B:$B,$B140),0)","v":0},null,null,null,null,null,null,null,{"$f":"SUMIFS('4B Calcul. Climat Scen.'!$N$314:$N$363,'4B Calcul. Climat Scen.'!$C$314:$C$363,$B140,'4B Calcul. Climat Scen.'!$E$314:$E$363,$C140)","v":0},{"$f":"SUMIFS('4B Calcul. Climat Scen.'!$N$314:$N$363,'4B Calcul. Climat Scen.'!$C$314:$C$363,$B140,'4B Calcul. Climat Scen.'!$E$314:$E$363,$C140)","v":0},{"$f":"SUMIFS('4B Calcul. Climat Scen.'!$N$314:$N$363,'4B Calcul. Climat Scen.'!$C$314:$C$363,$B140,'4B Calcul. Climat Scen.'!$E$314:$E$363,$C140)","v":0},{"$f":"SUMIFS('4B Calcul. Climat Scen.'!$N$314:$N$363,'4B Calcul. Climat Scen.'!$C$314:$C$363,$B140,'4B Calcul. Climat Scen.'!$E$314:$E$363,$C140)","v":0},{"$f":"SUMIFS('4B Calcul. Climat Scen.'!$N$314:$N$363,'4B Calcul. Climat Scen.'!$C$314:$C$363,$B140,'4B Calcul. Climat Scen.'!$E$314:$E$363,$C140)","v":0}]
[]
[]
[{"$f":"Improvefuelcons","v":"4) Improve: Adjustment of fuel/energy consumption"}]
[{"$f":"Description","v":"Description"},{"$f":"Descri45","v":"Please adjust the specific fuel consumption (please pay attention to the units) for each vehicle category and date. DO NOT FORGET TO ALSO GIVE FUEL CONSUMPTIONS for the vehicles you DID NOT HAVE in the Inventory or BAU."}]
[null,{"$f":"Descri63","v":"Example: Prohibition of vehicles which are 20 years old may lead to a lower average fuel consumption."}]
[null,{"$f":"Category","v":"Category"},null,{"$f":"FuelconsBAU","v":"Specific fuel/energy consumption for BAU scenario "},null,null,null,null,null,{"$f":"Fuelconsclimate","v":"Specific fuel/energy consumption for climate scenario "},null,null,null,null,null,{"$f":"Totalfuelconsclim","v":"TOTAL energy consumption of vehicles climate scenario [TJ]"}]
[null,{"$f":"Subcategory","v":"Subcategory"},{"$f":"Fuel","v":"Fuel type"},2020,2025,2030,2040,2050,null,2020,2025,2030,2040,2050,null,2020,2025,2030,2040,2050]
[null,{"$f":"lightLCV","v":"Very light LCV"},{"$f":"all","v":"all"}]
[null,{"$f":"lightLCV","v":"Very light LCV"},{"$f":"Gasoline","v":"Gasoline"},{"$f":"+IFERROR(SUMIFS('4A Calcul. BAU city'!AE:AE,'4A Calcul. BAU city'!$C:$C,'2B Input Climat Scen. Freight'!$B149,'4A Calcul. BAU city'!$E:$E,'2B Input Climat Scen. Freight'!$C149)/SUMIFS('4A Calcul. BAU city'!H:H,'4A Calcul. BAU city'!$C:$C,'2B Input Climat Scen. Freight'!$B149,'4A Calcul. BAU city'!$E:$E,'2B Input Climat Scen. Freight'!$C149)/VLOOKUP($C121,'4A Calcul. BAU city'!$E$13:$V$60,18,FALSE)*100,\"\")","v":""},{"$f":"+IFERROR(SUMIFS('4A Calcul. BAU city'!AF:AF,'4A Calcul. BAU city'!$C:$C,'2B Input Climat Scen. Freight'!$B149,'4A Calcul. BAU city'!$E:$E,'2B Input Climat Scen. Freight'!$C149)/SUMIFS('4A Calcul. BAU city'!I:I,'4A Calcul. BAU city'!$C:$C,'2B Input Climat Scen. Freight'!$B149,'4A Calcul. BAU city'!$E:$E,'2B Input Climat Scen. Freight'!$C149)/VLOOKUP($C121,'4A Calcul. BAU city'!$E$13:$V$60,18,FALSE)*100,\"\")","v":""},{"$f":"+IFERROR(SUMIFS('4A Calcul. BAU city'!AG:AG,'4A Calcul. BAU city'!$C:$C,'2B Input Climat Scen. Freight'!$B149,'4A Calcul. BAU city'!$E:$E,'2B Input Climat Scen. Freight'!$C149)/SUMIFS('4A Calcul. BAU city'!J:J,'4A Calcul. BAU city'!$C:$C,'2B Input Climat Scen. Freight'!$B149,'4A Calcul. BAU city'!$E:$E,'2B Input Climat Scen. Freight'!$C149)/VLOOKUP($C121,'4A Calcul. BAU city'!$E$13:$V$60,18,FALSE)*100,\"\")","v":""},{"$f":"+IFERROR(SUMIFS('4A Calcul. BAU city'!AH:AH,'4A Calcul. BAU city'!$C:$C,'2B Input Climat Scen. Freight'!$B149,'4A Calcul. BAU city'!$E:$E,'2B Input Climat Scen. Freight'!$C149)/SUMIFS('4A Calcul. BAU city'!K:K,'4A Calcul. BAU city'!$C:$C,'2B Input Climat Scen. Freight'!$B149,'4A Calcul. BAU city'!$E:$E,'2B Input Climat Scen. Freight'!$C149)/VLOOKUP($C121,'4A Calcul. BAU city'!$E$13:$V$60,18,FALSE)*100,\"\")","v":""},{"$f":"+IFERROR(SUMIFS('4A Calcul. BAU city'!AI:AI,'4A Calcul. BAU city'!$C:$C,'2B Input Climat Scen. Freight'!$B149,'4A Calcul. BAU city'!$E:$E,'2B Input Climat Scen. Freight'!$C149)/SUMIFS('4A Calcul. BAU city'!L:L,'4A Calcul. BAU city'!$C:$C,'2B Input Climat Scen. Freight'!$B149,'4A Calcul. BAU city'!$E:$E,'2B Input Climat Scen. Freight'!$C149)/VLOOKUP($C121,'4A Calcul. BAU city'!$E$13:$V$60,18,FALSE)*100,\"\")","v":""},null,null,null,null,null,null,null,{"$f":"SUMIFS('4B Calcul. Climat Scen.'!AB$375:AB$424,'4B Calcul. Climat Scen.'!$C$375:$C$424,'2B Input Climat Scen. Freight'!$B149,'4B Calcul. Climat Scen.'!$E$375:$E$424,$C149)","v":0},{"$f":"SUMIFS('4B Calcul. Climat Scen.'!AC$375:AC$424,'4B Calcul. Climat Scen.'!$C$375:$C$424,'2B Input Climat Scen. Freight'!$B149,'4B Calcul. Climat Scen.'!$E$375:$E$424,$C149)","v":0},{"$f":"SUMIFS('4B Calcul. Climat Scen.'!AD$375:AD$424,'4B Calcul. Climat Scen.'!$C$375:$C$424,'2B Input Climat Scen. Freight'!$B149,'4B Calcul. Climat Scen.'!$E$375:$E$424,$C149)","v":0},{"$f":"SUMIFS('4B Calcul. Climat Scen.'!AE$375:AE$424,'4B Calcul. Climat Scen.'!$C$375:$C$424,'2B Input Climat Scen. Freight'!$B149,'4B Calcul. Climat Scen.'!$E$375:$E$424,$C149)","v":0},{"$f":"SUMIFS('4B Calcul. Climat Scen.'!AF$375:AF$424,'4B Calcul. Climat Scen.'!$C$375:$C$424,'2B Input Climat Scen. Freight'!$B149,'4B Calcul. Climat Scen.'!$E$375:$E$424,$C149)","v":0}]
[null,{"$f":"lightLCV","v":"Very light LCV"},{"$f":"Diesel","v":"Diesel"},{"$f":"+IFERROR(SUMIFS('4A Calcul. BAU city'!AE:AE,'4A Calcul. BAU city'!$C:$C,'2B Input Climat Scen. Freight'!$B150,'4A Calcul. BAU city'!$E:$E,'2B Input Climat Scen. Freight'!$C150)/SUMIFS('4A Calcul. BAU city'!H:H,'4A Calcul. BAU city'!$C:$C,'2B Input Climat Scen. Freight'!$B150,'4A Calcul. BAU city'!$E:$E,'2B Input Climat Scen. Freight'!$C150)/VLOOKUP($C122,'4A Calcul. BAU city'!$E$13:$V$60,18,FALSE)*100,\"\")","v":""},{"$f":"+IFERROR(SUMIFS('4A Calcul. BAU city'!AF:AF,'4A Calcul. BAU city'!$C:$C,'2B Input Climat Scen. Freight'!$B150,'4A Calcul. BAU city'!$E:$E,'2B Input Climat Scen. Freight'!$C150)/SUMIFS('4A Calcul. BAU city'!I:I,'4A Calcul. BAU city'!$C:$C,'2B Input Climat Scen. Freight'!$B150,'4A Calcul. BAU city'!$E:$E,'2B Input Climat Scen. Freight'!$C150)/VLOOKUP($C122,'4A Calcul. BAU city'!$E$13:$V$60,18,FALSE)*100,\"\")","v":""},{"$f":"+IFERROR(SUMIFS('4A Calcul. BAU city'!AG:AG,'4A Calcul. BAU city'!$C:$C,'2B Input Climat Scen. Freight'!$B150,'4A Calcul. BAU city'!$E:$E,'2B Input Climat Scen. Freight'!$C150)/SUMIFS('4A Calcul. BAU city'!J:J,'4A Calcul. BAU city'!$C:$C,'2B Input Climat Scen. Freight'!$B150,'4A Calcul. BAU city'!$E:$E,'2B Input Climat Scen. Freight'!$C150)/VLOOKUP($C122,'4A Calcul. BAU city'!$E$13:$V$60,18,FALSE)*100,\"\")","v":""},{"$f":"+IFERROR(SUMIFS('4A Calcul. BAU city'!AH:AH,'4A Calcul. BAU city'!$C:$C,'2B Input Climat Scen. Freight'!$B150,'4A Calcul. BAU city'!$E:$E,'2B Input Climat Scen. Freight'!$C150)/SUMIFS('4A Calcul. BAU city'!K:K,'4A Calcul. BAU city'!$C:$C,'2B Input Climat Scen. Freight'!$B150,'4A Calcul. BAU city'!$E:$E,'2B Input Climat Scen. Freight'!$C150)/VLOOKUP($C122,'4A Calcul. BAU city'!$E$13:$V$60,18,FALSE)*100,\"\")","v":""},{"$f":"+IFERROR(SUMIFS('4A Calcul. BAU city'!AI:AI,'4A Calcul. BAU city'!$C:$C,'2B Input Climat Scen. Freight'!$B150,'4A Calcul. BAU city'!$E:$E,'2B Input Climat Scen. Freight'!$C150)/SUMIFS('4A Calcul. BAU city'!L:L,'4A Calcul. BAU city'!$C:$C,'2B Input Climat Scen. Freight'!$B150,'4A Calcul. BAU city'!$E:$E,'2B Input Climat Scen. Freight'!$C150)/VLOOKUP($C122,'4A Calcul. BAU city'!$E$13:$V$60,18,FALSE)*100,\"\")","v":""},null,null,null,null,null,null,null,{"$f":"SUMIFS('4B Calcul. Climat Scen.'!AB$375:AB$424,'4B Calcul. Climat Scen.'!$C$375:$C$424,'2B Input Climat Scen. Freight'!$B150,'4B Calcul. Climat Scen.'!$E$375:$E$424,$C150)","v":0},{"$f":"SUMIFS('4B Calcul. Climat Scen.'!AC$375:AC$424,'4B Calcul. Climat Scen.'!$C$375:$C$424,'2B Input Climat Scen. Freight'!$B150,'4B Calcul. Climat Scen.'!$E$375:$E$424,$C150)","v":0},{"$f":"SUMIFS('4B Calcul. Climat Scen.'!AD$375:AD$424,'4B Calcul. Climat Scen.'!$C$375:$C$424,'2B Input Climat Scen. Freight'!$B150,'4B Calcul. Climat Scen.'!$E$375:$E$424,$C150)","v":0},{"$f":"SUMIFS('4B Calcul. Climat Scen.'!AE$375:AE$424,'4B Calcul. Climat Scen.'!$C$375:$C$424,'2B Input Climat Scen. Freight'!$B150,'4B Calcul. Climat Scen.'!$E$375:$E$424,$C150)","v":0},{"$f":"SUMIFS('4B Calcul. Climat Scen.'!AF$375:AF$424,'4B Calcul. Climat Scen.'!$C$375:$C$424,'2B Input Climat Scen. Freight'!$B150,'4B Calcul. Climat Scen.'!$E$375:$E$424,$C150)","v":0}]
[null,{"$f":"lightLCV","v":"Very light LCV"},{"$f":"Electric","v":"Electric"},{"$f":"+IFERROR(SUMIFS('4A Calcul. BAU city'!AE:AE,'4A Calcul. BAU city'!$C:$C,'2B Input Climat Scen. Freight'!$B151,'4A Calcul. BAU city'!$E:$E,'2B Input Climat Scen. Freight'!$C151)/SUMIFS('4A Calcul. BAU city'!H:H,'4A Calcul. BAU city'!$C:$C,'2B Input Climat Scen. Freight'!$B151,'4A Calcul. BAU city'!$E:$E,'2B Input Climat Scen. Freight'!$C151)/VLOOKUP($C123,'4A Calcul. BAU city'!$E$13:$V$60,18,FALSE)*100,\"\")","v":""},{"$f":"+IFERROR(SUMIFS('4A Calcul. BAU city'!AF:AF,'4A Calcul. BAU city'!$C:$C,'2B Input Climat Scen. Freight'!$B151,'4A Calcul. BAU city'!$E:$E,'2B Input Climat Scen. Freight'!$C151)/SUMIFS('4A Calcul. BAU city'!I:I,'4A Calcul. BAU city'!$C:$C,'2B Input Climat Scen. Freight'!$B151,'4A Calcul. BAU city'!$E:$E,'2B Input Climat Scen. Freight'!$C151)/VLOOKUP($C123,'4A Calcul. BAU city'!$E$13:$V$60,18,FALSE)*100,\"\")","v":""},{"$f":"+IFERROR(SUMIFS('4A Calcul. BAU city'!AG:AG,'4A Calcul. BAU city'!$C:$C,'2B Input Climat Scen. Freight'!$B151,'4A Calcul. BAU city'!$E:$E,'2B Input Climat Scen. Freight'!$C151)/SUMIFS('4A Calcul. BAU city'!J:J,'4A Calcul. BAU city'!$C:$C,'2B Input Climat Scen. Freight'!$B151,'4A Calcul. BAU city'!$E:$E,'2B Input Climat Scen. Freight'!$C151)/VLOOKUP($C123,'4A Calcul. BAU city'!$E$13:$V$60,18,FALSE)*100,\"\")","v":""},{"$f":"+IFERROR(SUMIFS('4A Calcul. BAU city'!AH:AH,'4A Calcul. BAU city'!$C:$C,'2B Input Climat Scen. Freight'!$B151,'4A Calcul. BAU city'!$E:$E,'2B Input Climat Scen. Freight'!$C151)/SUMIFS('4A Calcul. BAU city'!K:K,'4A Calcul. BAU city'!$C:$C,'2B Input Climat Scen. Freight'!$B151,'4A Calcul. BAU city'!$E:$E,'2B Input Climat Scen. Freight'!$C151)/VLOOKUP($C123,'4A Calcul. BAU city'!$E$13:$V$60,18,FALSE)*100,\"\")","v":""},{"$f":"+IFERROR(SUMIFS('4A Calcul. BAU city'!AI:AI,'4A Calcul. BAU city'!$C:$C,'2B Input Climat Scen. Freight'!$B151,'4A Calcul. BAU city'!$E:$E,'2B Input Climat Scen. Freight'!$C151)/SUMIFS('4A Calcul. BAU city'!L:L,'4A Calcul. BAU city'!$C:$C,'2B Input Climat Scen. Freight'!$B151,'4A Calcul. BAU city'!$E:$E,'2B Input Climat Scen. Freight'!$C151)/VLOOKUP($C123,'4A Calcul. BAU city'!$E$13:$V$60,18,FALSE)*100,\"\")","v":""},null,null,null,null,null,null,null,{"$f":"SUMIFS('4B Calcul. Climat Scen.'!AB$375:AB$424,'4B Calcul. Climat Scen.'!$C$375:$C$424,'2B Input Climat Scen. Freight'!$B151,'4B Calcul. Climat Scen.'!$E$375:$E$424,$C151)","v":0},{"$f":"SUMIFS('4B Calcul. Climat Scen.'!AC$375:AC$424,'4B Calcul. Climat Scen.'!$C$375:$C$424,'2B Input Climat Scen. Freight'!$B151,'4B Calcul. Climat Scen.'!$E$375:$E$424,$C151)","v":0},{"$f":"SUMIFS('4B Calcul. Climat Scen.'!AD$375:AD$424,'4B Calcul. Climat Scen.'!$C$375:$C$424,'2B Input Climat Scen. Freight'!$B151,'4B Calcul. Climat Scen.'!$E$375:$E$424,$C151)","v":0},{"$f":"SUMIFS('4B Calcul. Climat Scen.'!AE$375:AE$424,'4B Calcul. Climat Scen.'!$C$375:$C$424,'2B Input Climat Scen. Freight'!$B151,'4B Calcul. Climat Scen.'!$E$375:$E$424,$C151)","v":0},{"$f":"SUMIFS('4B Calcul. Climat Scen.'!AF$375:AF$424,'4B Calcul. Climat Scen.'!$C$375:$C$424,'2B Input Climat Scen. Freight'!$B151,'4B Calcul. Climat Scen.'!$E$375:$E$424,$C151)","v":0}]
[null,{"$f":"LCV","v":"LCV"},{"$f":"all","v":"all"}]
[null,"LCV",{"$f":"Gasoline","v":"Gasoline"},{"$f":"+IFERROR(SUMIFS('4A Calcul. BAU city'!AE:AE,'4A Calcul. BAU city'!$C:$C,'2B Input Climat Scen. Freight'!$B153,'4A Calcul. BAU city'!$E:$E,'2B Input Climat Scen. Freight'!$C153)/SUMIFS('4A Calcul. BAU city'!H:H,'4A Calcul. BAU city'!$C:$C,'2B Input Climat Scen. Freight'!$B153,'4A Calcul. BAU city'!$E:$E,'2B Input Climat Scen. Freight'!$C153)/VLOOKUP($C125,'4A Calcul. BAU city'!$E$13:$V$60,18,FALSE)*100,\"\")","v":""},{"$f":"+IFERROR(SUMIFS('4A Calcul. BAU city'!AF:AF,'4A Calcul. BAU city'!$C:$C,'2B Input Climat Scen. Freight'!$B153,'4A Calcul. BAU city'!$E:$E,'2B Input Climat Scen. Freight'!$C153)/SUMIFS('4A Calcul. BAU city'!I:I,'4A Calcul. BAU city'!$C:$C,'2B Input Climat Scen. Freight'!$B153,'4A Calcul. BAU city'!$E:$E,'2B Input Climat Scen. Freight'!$C153)/VLOOKUP($C125,'4A Calcul. BAU city'!$E$13:$V$60,18,FALSE)*100,\"\")","v":""},{"$f":"+IFERROR(SUMIFS('4A Calcul. BAU city'!AG:AG,'4A Calcul. BAU city'!$C:$C,'2B Input Climat Scen. Freight'!$B153,'4A Calcul. BAU city'!$E:$E,'2B Input Climat Scen. Freight'!$C153)/SUMIFS('4A Calcul. BAU city'!J:J,'4A Calcul. BAU city'!$C:$C,'2B Input Climat Scen. Freight'!$B153,'4A Calcul. BAU city'!$E:$E,'2B Input Climat Scen. Freight'!$C153)/VLOOKUP($C125,'4A Calcul. BAU city'!$E$13:$V$60,18,FALSE)*100,\"\")","v":""},{"$f":"+IFERROR(SUMIFS('4A Calcul. BAU city'!AH:AH,'4A Calcul. BAU city'!$C:$C,'2B Input Climat Scen. Freight'!$B153,'4A Calcul. BAU city'!$E:$E,'2B Input Climat Scen. Freight'!$C153)/SUMIFS('4A Calcul. BAU city'!K:K,'4A Calcul. BAU city'!$C:$C,'2B Input Climat Scen. Freight'!$B153,'4A Calcul. BAU city'!$E:$E,'2B Input Climat Scen. Freight'!$C153)/VLOOKUP($C125,'4A Calcul. BAU city'!$E$13:$V$60,18,FALSE)*100,\"\")","v":""},{"$f":"+IFERROR(SUMIFS('4A Calcul. BAU city'!AI:AI,'4A Calcul. BAU city'!$C:$C,'2B Input Climat Scen. Freight'!$B153,'4A Calcul. BAU city'!$E:$E,'2B Input Climat Scen. Freight'!$C153)/SUMIFS('4A Calcul. BAU city'!L:L,'4A Calcul. BAU city'!$C:$C,'2B Input Climat Scen. Freight'!$B153,'4A Calcul. BAU city'!$E:$E,'2B Input Climat Scen. Freight'!$C153)/VLOOKUP($C125,'4A Calcul. BAU city'!$E$13:$V$60,18,FALSE)*100,\"\")","v":""},null,null,null,null,null,null,null,{"$f":"SUMIFS('4B Calcul. Climat Scen.'!AB$375:AB$424,'4B Calcul. Climat Scen.'!$C$375:$C$424,'2B Input Climat Scen. Freight'!$B153,'4B Calcul. Climat Scen.'!$E$375:$E$424,$C153)","v":0},{"$f":"SUMIFS('4B Calcul. Climat Scen.'!AC$375:AC$424,'4B Calcul. Climat Scen.'!$C$375:$C$424,'2B Input Climat Scen. Freight'!$B153,'4B Calcul. Climat Scen.'!$E$375:$E$424,$C153)","v":0},{"$f":"SUMIFS('4B Calcul. Climat Scen.'!AD$375:AD$424,'4B Calcul. Climat Scen.'!$C$375:$C$424,'2B Input Climat Scen. Freight'!$B153,'4B Calcul. Climat Scen.'!$E$375:$E$424,$C153)","v":0},{"$f":"SUMIFS('4B Calcul. Climat Scen.'!AE$375:AE$424,'4B Calcul. Climat Scen.'!$C$375:$C$424,'2B Input Climat Scen. Freight'!$B153,'4B Calcul. Climat Scen.'!$E$375:$E$424,$C153)","v":0},{"$f":"SUMIFS('4B Calcul. Climat Scen.'!AF$375:AF$424,'4B Calcul. Climat Scen.'!$C$375:$C$424,'2B Input Climat Scen. Freight'!$B153,'4B Calcul. Climat Scen.'!$E$375:$E$424,$C153)","v":0}]
[null,"LCV",{"$f":"Diesel","v":"Diesel"},{"$f":"+IFERROR(SUMIFS('4A Calcul. BAU city'!AE:AE,'4A Calcul. BAU city'!$C:$C,'2B Input Climat Scen. Freight'!$B154,'4A Calcul. BAU city'!$E:$E,'2B Input Climat Scen. Freight'!$C154)/SUMIFS('4A Calcul. BAU city'!H:H,'4A Calcul. BAU city'!$C:$C,'2B Input Climat Scen. Freight'!$B154,'4A Calcul. BAU city'!$E:$E,'2B Input Climat Scen. Freight'!$C154)/VLOOKUP($C126,'4A Calcul. BAU city'!$E$13:$V$60,18,FALSE)*100,\"\")","v":""},{"$f":"+IFERROR(SUMIFS('4A Calcul. BAU city'!AF:AF,'4A Calcul. BAU city'!$C:$C,'2B Input Climat Scen. Freight'!$B154,'4A Calcul. BAU city'!$E:$E,'2B Input Climat Scen. Freight'!$C154)/SUMIFS('4A Calcul. BAU city'!I:I,'4A Calcul. BAU city'!$C:$C,'2B Input Climat Scen. Freight'!$B154,'4A Calcul. BAU city'!$E:$E,'2B Input Climat Scen. Freight'!$C154)/VLOOKUP($C126,'4A Calcul. BAU city'!$E$13:$V$60,18,FALSE)*100,\"\")","v":""},{"$f":"+IFERROR(SUMIFS('4A Calcul. BAU city'!AG:AG,'4A Calcul. BAU city'!$C:$C,'2B Input Climat Scen. Freight'!$B154,'4A Calcul. BAU city'!$E:$E,'2B Input Climat Scen. Freight'!$C154)/SUMIFS('4A Calcul. BAU city'!J:J,'4A Calcul. BAU city'!$C:$C,'2B Input Climat Scen. Freight'!$B154,'4A Calcul. BAU city'!$E:$E,'2B Input Climat Scen. Freight'!$C154)/VLOOKUP($C126,'4A Calcul. BAU city'!$E$13:$V$60,18,FALSE)*100,\"\")","v":""},{"$f":"+IFERROR(SUMIFS('4A Calcul. BAU city'!AH:AH,'4A Calcul. BAU city'!$C:$C,'2B Input Climat Scen. Freight'!$B154,'4A Calcul. BAU city'!$E:$E,'2B Input Climat Scen. Freight'!$C154)/SUMIFS('4A Calcul. BAU city'!K:K,'4A Calcul. BAU city'!$C:$C,'2B Input Climat Scen. Freight'!$B154,'4A Calcul. BAU city'!$E:$E,'2B Input Climat Scen. Freight'!$C154)/VLOOKUP($C126,'4A Calcul. BAU city'!$E$13:$V$60,18,FALSE)*100,\"\")","v":""},{"$f":"+IFERROR(SUMIFS('4A Calcul. BAU city'!AI:AI,'4A Calcul. BAU city'!$C:$C,'2B Input Climat Scen. Freight'!$B154,'4A Calcul. BAU city'!$E:$E,'2B Input Climat Scen. Freight'!$C154)/SUMIFS('4A Calcul. BAU city'!L:L,'4A Calcul. BAU city'!$C:$C,'2B Input Climat Scen. Freight'!$B154,'4A Calcul. BAU city'!$E:$E,'2B Input Climat Scen. Freight'!$C154)/VLOOKUP($C126,'4A Calcul. BAU city'!$E$13:$V$60,18,FALSE)*100,\"\")","v":""},null,null,null,null,null,null,null,{"$f":"SUMIFS('4B Calcul. Climat Scen.'!AB$375:AB$424,'4B Calcul. Climat Scen.'!$C$375:$C$424,'2B Input Climat Scen. Freight'!$B154,'4B Calcul. Climat Scen.'!$E$375:$E$424,$C154)","v":0},{"$f":"SUMIFS('4B Calcul. Climat Scen.'!AC$375:AC$424,'4B Calcul. Climat Scen.'!$C$375:$C$424,'2B Input Climat Scen. Freight'!$B154,'4B Calcul. Climat Scen.'!$E$375:$E$424,$C154)","v":0},{"$f":"SUMIFS('4B Calcul. Climat Scen.'!AD$375:AD$424,'4B Calcul. Climat Scen.'!$C$375:$C$424,'2B Input Climat Scen. Freight'!$B154,'4B Calcul. Climat Scen.'!$E$375:$E$424,$C154)","v":0},{"$f":"SUMIFS('4B Calcul. Climat Scen.'!AE$375:AE$424,'4B Calcul. Climat Scen.'!$C$375:$C$424,'2B Input Climat Scen. Freight'!$B154,'4B Calcul. Climat Scen.'!$E$375:$E$424,$C154)","v":0},{"$f":"SUMIFS('4B Calcul. Climat Scen.'!AF$375:AF$424,'4B Calcul. Climat Scen.'!$C$375:$C$424,'2B Input Climat Scen. Freight'!$B154,'4B Calcul. Climat Scen.'!$E$375:$E$424,$C154)","v":0}]
[null,"LCV",{"$f":"LPG","v":"LPG"},{"$f":"+IFERROR(SUMIFS('4A Calcul. BAU city'!AE:AE,'4A Calcul. BAU city'!$C:$C,'2B Input Climat Scen. Freight'!$B155,'4A Calcul. BAU city'!$E:$E,'2B Input Climat Scen. Freight'!$C155)/SUMIFS('4A Calcul. BAU city'!H:H,'4A Calcul. BAU city'!$C:$C,'2B Input Climat Scen. Freight'!$B155,'4A Calcul. BAU city'!$E:$E,'2B Input Climat Scen. Freight'!$C155)/VLOOKUP($C127,'4A Calcul. BAU city'!$E$13:$V$60,18,FALSE)*100,\"\")","v":""},{"$f":"+IFERROR(SUMIFS('4A Calcul. BAU city'!AF:AF,'4A Calcul. BAU city'!$C:$C,'2B Input Climat Scen. Freight'!$B155,'4A Calcul. BAU city'!$E:$E,'2B Input Climat Scen. Freight'!$C155)/SUMIFS('4A Calcul. BAU city'!I:I,'4A Calcul. BAU city'!$C:$C,'2B Input Climat Scen. Freight'!$B155,'4A Calcul. BAU city'!$E:$E,'2B Input Climat Scen. Freight'!$C155)/VLOOKUP($C127,'4A Calcul. BAU city'!$E$13:$V$60,18,FALSE)*100,\"\")","v":""},{"$f":"+IFERROR(SUMIFS('4A Calcul. BAU city'!AG:AG,'4A Calcul. BAU city'!$C:$C,'2B Input Climat Scen. Freight'!$B155,'4A Calcul. BAU city'!$E:$E,'2B Input Climat Scen. Freight'!$C155)/SUMIFS('4A Calcul. BAU city'!J:J,'4A Calcul. BAU city'!$C:$C,'2B Input Climat Scen. Freight'!$B155,'4A Calcul. BAU city'!$E:$E,'2B Input Climat Scen. Freight'!$C155)/VLOOKUP($C127,'4A Calcul. BAU city'!$E$13:$V$60,18,FALSE)*100,\"\")","v":""},{"$f":"+IFERROR(SUMIFS('4A Calcul. BAU city'!AH:AH,'4A Calcul. BAU city'!$C:$C,'2B Input Climat Scen. Freight'!$B155,'4A Calcul. BAU city'!$E:$E,'2B Input Climat Scen. Freight'!$C155)/SUMIFS('4A Calcul. BAU city'!K:K,'4A Calcul. BAU city'!$C:$C,'2B Input Climat Scen. Freight'!$B155,'4A Calcul. BAU city'!$E:$E,'2B Input Climat Scen. Freight'!$C155)/VLOOKUP($C127,'4A Calcul. BAU city'!$E$13:$V$60,18,FALSE)*100,\"\")","v":""},{"$f":"+IFERROR(SUMIFS('4A Calcul. BAU city'!AI:AI,'4A Calcul. BAU city'!$C:$C,'2B Input Climat Scen. Freight'!$B155,'4A Calcul. BAU city'!$E:$E,'2B Input Climat Scen. Freight'!$C155)/SUMIFS('4A Calcul. BAU city'!L:L,'4A Calcul. BAU city'!$C:$C,'2B Input Climat Scen. Freight'!$B155,'4A Calcul. BAU city'!$E:$E,'2B Input Climat Scen. Freight'!$C155)/VLOOKUP($C127,'4A Calcul. BAU city'!$E$13:$V$60,18,FALSE)*100,\"\")","v":""},null,null,null,null,null,null,null,{"$f":"SUMIFS('4B Calcul. Climat Scen.'!AB$375:AB$424,'4B Calcul. Climat Scen.'!$C$375:$C$424,'2B Input Climat Scen. Freight'!$B155,'4B Calcul. Climat Scen.'!$E$375:$E$424,$C155)","v":0},{"$f":"SUMIFS('4B Calcul. Climat Scen.'!AC$375:AC$424,'4B Calcul. Climat Scen.'!$C$375:$C$424,'2B Input Climat Scen. Freight'!$B155,'4B Calcul. Climat Scen.'!$E$375:$E$424,$C155)","v":0},{"$f":"SUMIFS('4B Calcul. Climat Scen.'!AD$375:AD$424,'4B Calcul. Climat Scen.'!$C$375:$C$424,'2B Input Climat Scen. Freight'!$B155,'4B Calcul. Climat Scen.'!$E$375:$E$424,$C155)","v":0},{"$f":"SUMIFS('4B Calcul. Climat Scen.'!AE$375:AE$424,'4B Calcul. Climat Scen.'!$C$375:$C$424,'2B Input Climat Scen. Freight'!$B155,'4B Calcul. Climat Scen.'!$E$375:$E$424,$C155)","v":0},{"$f":"SUMIFS('4B Calcul. Climat Scen.'!AF$375:AF$424,'4B Calcul. Climat Scen.'!$C$375:$C$424,'2B Input Climat Scen. Freight'!$B155,'4B Calcul. Climat Scen.'!$E$375:$E$424,$C155)","v":0}]
[null,"LCV",{"$f":"NG","v":"NG"},{"$f":"+IFERROR(SUMIFS('4A Calcul. BAU city'!AE:AE,'4A Calcul. BAU city'!$C:$C,'2B Input Climat Scen. Freight'!$B156,'4A Calcul. BAU city'!$E:$E,'2B Input Climat Scen. Freight'!$C156)/SUMIFS('4A Calcul. BAU city'!H:H,'4A Calcul. BAU city'!$C:$C,'2B Input Climat Scen. Freight'!$B156,'4A Calcul. BAU city'!$E:$E,'2B Input Climat Scen. Freight'!$C156)/VLOOKUP($C128,'4A Calcul. BAU city'!$E$13:$V$60,18,FALSE)*100,\"\")","v":""},{"$f":"+IFERROR(SUMIFS('4A Calcul. BAU city'!AF:AF,'4A Calcul. BAU city'!$C:$C,'2B Input Climat Scen. Freight'!$B156,'4A Calcul. BAU city'!$E:$E,'2B Input Climat Scen. Freight'!$C156)/SUMIFS('4A Calcul. BAU city'!I:I,'4A Calcul. BAU city'!$C:$C,'2B Input Climat Scen. Freight'!$B156,'4A Calcul. BAU city'!$E:$E,'2B Input Climat Scen. Freight'!$C156)/VLOOKUP($C128,'4A Calcul. BAU city'!$E$13:$V$60,18,FALSE)*100,\"\")","v":""},{"$f":"+IFERROR(SUMIFS('4A Calcul. BAU city'!AG:AG,'4A Calcul. BAU city'!$C:$C,'2B Input Climat Scen. Freight'!$B156,'4A Calcul. BAU city'!$E:$E,'2B Input Climat Scen. Freight'!$C156)/SUMIFS('4A Calcul. BAU city'!J:J,'4A Calcul. BAU city'!$C:$C,'2B Input Climat Scen. Freight'!$B156,'4A Calcul. BAU city'!$E:$E,'2B Input Climat Scen. Freight'!$C156)/VLOOKUP($C128,'4A Calcul. BAU city'!$E$13:$V$60,18,FALSE)*100,\"\")","v":""},{"$f":"+IFERROR(SUMIFS('4A Calcul. BAU city'!AH:AH,'4A Calcul. BAU city'!$C:$C,'2B Input Climat Scen. Freight'!$B156,'4A Calcul. BAU city'!$E:$E,'2B Input Climat Scen. Freight'!$C156)/SUMIFS('4A Calcul. BAU city'!K:K,'4A Calcul. BAU city'!$C:$C,'2B Input Climat Scen. Freight'!$B156,'4A Calcul. BAU city'!$E:$E,'2B Input Climat Scen. Freight'!$C156)/VLOOKUP($C128,'4A Calcul. BAU city'!$E$13:$V$60,18,FALSE)*100,\"\")","v":""},{"$f":"+IFERROR(SUMIFS('4A Calcul. BAU city'!AI:AI,'4A Calcul. BAU city'!$C:$C,'2B Input Climat Scen. Freight'!$B156,'4A Calcul. BAU city'!$E:$E,'2B Input Climat Scen. Freight'!$C156)/SUMIFS('4A Calcul. BAU city'!L:L,'4A Calcul. BAU city'!$C:$C,'2B Input Climat Scen. Freight'!$B156,'4A Calcul. BAU city'!$E:$E,'2B Input Climat Scen. Freight'!$C156)/VLOOKUP($C128,'4A Calcul. BAU city'!$E$13:$V$60,18,FALSE)*100,\"\")","v":""},null,null,null,null,null,null,null,{"$f":"SUMIFS('4B Calcul. Climat Scen.'!AB$375:AB$424,'4B Calcul. Climat Scen.'!$C$375:$C$424,'2B Input Climat Scen. Freight'!$B156,'4B Calcul. Climat Scen.'!$E$375:$E$424,$C156)","v":0},{"$f":"SUMIFS('4B Calcul. Climat Scen.'!AC$375:AC$424,'4B Calcul. Climat Scen.'!$C$375:$C$424,'2B Input Climat Scen. Freight'!$B156,'4B Calcul. Climat Scen.'!$E$375:$E$424,$C156)","v":0},{"$f":"SUMIFS('4B Calcul. Climat Scen.'!AD$375:AD$424,'4B Calcul. Climat Scen.'!$C$375:$C$424,'2B Input Climat Scen. Freight'!$B156,'4B Calcul. Climat Scen.'!$E$375:$E$424,$C156)","v":0},{"$f":"SUMIFS('4B Calcul. Climat Scen.'!AE$375:AE$424,'4B Calcul. Climat Scen.'!$C$375:$C$424,'2B Input Climat Scen. Freight'!$B156,'4B Calcul. Climat Scen.'!$E$375:$E$424,$C156)","v":0},{"$f":"SUMIFS('4B Calcul. Climat Scen.'!AF$375:AF$424,'4B Calcul. Climat Scen.'!$C$375:$C$424,'2B Input Climat Scen. Freight'!$B156,'4B Calcul. Climat Scen.'!$E$375:$E$424,$C156)","v":0}]
[null,"LCV",{"$f":"Electric","v":"Electric"},{"$f":"+IFERROR(SUMIFS('4A Calcul. BAU city'!AE:AE,'4A Calcul. BAU city'!$C:$C,'2B Input Climat Scen. Freight'!$B157,'4A Calcul. BAU city'!$E:$E,'2B Input Climat Scen. Freight'!$C157)/SUMIFS('4A Calcul. BAU city'!H:H,'4A Calcul. BAU city'!$C:$C,'2B Input Climat Scen. Freight'!$B157,'4A Calcul. BAU city'!$E:$E,'2B Input Climat Scen. Freight'!$C157)/VLOOKUP($C129,'4A Calcul. BAU city'!$E$13:$V$60,18,FALSE)*100,\"\")","v":""},{"$f":"+IFERROR(SUMIFS('4A Calcul. BAU city'!AF:AF,'4A Calcul. BAU city'!$C:$C,'2B Input Climat Scen. Freight'!$B157,'4A Calcul. BAU city'!$E:$E,'2B Input Climat Scen. Freight'!$C157)/SUMIFS('4A Calcul. BAU city'!I:I,'4A Calcul. BAU city'!$C:$C,'2B Input Climat Scen. Freight'!$B157,'4A Calcul. BAU city'!$E:$E,'2B Input Climat Scen. Freight'!$C157)/VLOOKUP($C129,'4A Calcul. BAU city'!$E$13:$V$60,18,FALSE)*100,\"\")","v":""},{"$f":"+IFERROR(SUMIFS('4A Calcul. BAU city'!AG:AG,'4A Calcul. BAU city'!$C:$C,'2B Input Climat Scen. Freight'!$B157,'4A Calcul. BAU city'!$E:$E,'2B Input Climat Scen. Freight'!$C157)/SUMIFS('4A Calcul. BAU city'!J:J,'4A Calcul. BAU city'!$C:$C,'2B Input Climat Scen. Freight'!$B157,'4A Calcul. BAU city'!$E:$E,'2B Input Climat Scen. Freight'!$C157)/VLOOKUP($C129,'4A Calcul. BAU city'!$E$13:$V$60,18,FALSE)*100,\"\")","v":""},{"$f":"+IFERROR(SUMIFS('4A Calcul. BAU city'!AH:AH,'4A Calcul. BAU city'!$C:$C,'2B Input Climat Scen. Freight'!$B157,'4A Calcul. BAU city'!$E:$E,'2B Input Climat Scen. Freight'!$C157)/SUMIFS('4A Calcul. BAU city'!K:K,'4A Calcul. BAU city'!$C:$C,'2B Input Climat Scen. Freight'!$B157,'4A Calcul. BAU city'!$E:$E,'2B Input Climat Scen. Freight'!$C157)/VLOOKUP($C129,'4A Calcul. BAU city'!$E$13:$V$60,18,FALSE)*100,\"\")","v":""},{"$f":"+IFERROR(SUMIFS('4A Calcul. BAU city'!AI:AI,'4A Calcul. BAU city'!$C:$C,'2B Input Climat Scen. Freight'!$B157,'4A Calcul. BAU city'!$E:$E,'2B Input Climat Scen. Freight'!$C157)/SUMIFS('4A Calcul. BAU city'!L:L,'4A Calcul. BAU city'!$C:$C,'2B Input Climat Scen. Freight'!$B157,'4A Calcul. BAU city'!$E:$E,'2B Input Climat Scen. Freight'!$C157)/VLOOKUP($C129,'4A Calcul. BAU city'!$E$13:$V$60,18,FALSE)*100,\"\")","v":""},null,null,null,null,null,null,null,{"$f":"SUMIFS('4B Calcul. Climat Scen.'!AB$375:AB$424,'4B Calcul. Climat Scen.'!$C$375:$C$424,'2B Input Climat Scen. Freight'!$B157,'4B Calcul. Climat Scen.'!$E$375:$E$424,$C157)","v":0},{"$f":"SUMIFS('4B Calcul. Climat Scen.'!AC$375:AC$424,'4B Calcul. Climat Scen.'!$C$375:$C$424,'2B Input Climat Scen. Freight'!$B157,'4B Calcul. Climat Scen.'!$E$375:$E$424,$C157)","v":0},{"$f":"SUMIFS('4B Calcul. Climat Scen.'!AD$375:AD$424,'4B Calcul. Climat Scen.'!$C$375:$C$424,'2B Input Climat Scen. Freight'!$B157,'4B Calcul. Climat Scen.'!$E$375:$E$424,$C157)","v":0},{"$f":"SUMIFS('4B Calcul. Climat Scen.'!AE$375:AE$424,'4B Calcul. Climat Scen.'!$C$375:$C$424,'2B Input Climat Scen. Freight'!$B157,'4B Calcul. Climat Scen.'!$E$375:$E$424,$C157)","v":0},{"$f":"SUMIFS('4B Calcul. Climat Scen.'!AF$375:AF$424,'4B Calcul. Climat Scen.'!$C$375:$C$424,'2B Input Climat Scen. Freight'!$B157,'4B Calcul. Climat Scen.'!$E$375:$E$424,$C157)","v":0}]
[null,{"$f":"Solo","v":"Solo truck"},{"$f":"all","v":"all"}]
[null,{"$f":"Solo","v":"Solo truck"},{"$f":"Diesel","v":"Diesel"},{"$f":"+IFERROR(SUMIFS('4A Calcul. BAU city'!AE:AE,'4A Calcul. BAU city'!$C:$C,'2B Input Climat Scen. Freight'!$B159,'4A Calcul. BAU city'!$E:$E,'2B Input Climat Scen. Freight'!$C159)/SUMIFS('4A Calcul. BAU city'!H:H,'4A Calcul. BAU city'!$C:$C,'2B Input Climat Scen. Freight'!$B159,'4A Calcul. BAU city'!$E:$E,'2B Input Climat Scen. Freight'!$C159)/VLOOKUP($C131,'4A Calcul. BAU city'!$E$13:$V$60,18,FALSE)*100,\"\")","v":""},{"$f":"+IFERROR(SUMIFS('4A Calcul. BAU city'!AF:AF,'4A Calcul. BAU city'!$C:$C,'2B Input Climat Scen. Freight'!$B159,'4A Calcul. BAU city'!$E:$E,'2B Input Climat Scen. Freight'!$C159)/SUMIFS('4A Calcul. BAU city'!I:I,'4A Calcul. BAU city'!$C:$C,'2B Input Climat Scen. Freight'!$B159,'4A Calcul. BAU city'!$E:$E,'2B Input Climat Scen. Freight'!$C159)/VLOOKUP($C131,'4A Calcul. BAU city'!$E$13:$V$60,18,FALSE)*100,\"\")","v":""},{"$f":"+IFERROR(SUMIFS('4A Calcul. BAU city'!AG:AG,'4A Calcul. BAU city'!$C:$C,'2B Input Climat Scen. Freight'!$B159,'4A Calcul. BAU city'!$E:$E,'2B Input Climat Scen. Freight'!$C159)/SUMIFS('4A Calcul. BAU city'!J:J,'4A Calcul. BAU city'!$C:$C,'2B Input Climat Scen. Freight'!$B159,'4A Calcul. BAU city'!$E:$E,'2B Input Climat Scen. Freight'!$C159)/VLOOKUP($C131,'4A Calcul. BAU city'!$E$13:$V$60,18,FALSE)*100,\"\")","v":""},{"$f":"+IFERROR(SUMIFS('4A Calcul. BAU city'!AH:AH,'4A Calcul. BAU city'!$C:$C,'2B Input Climat Scen. Freight'!$B159,'4A Calcul. BAU city'!$E:$E,'2B Input Climat Scen. Freight'!$C159)/SUMIFS('4A Calcul. BAU city'!K:K,'4A Calcul. BAU city'!$C:$C,'2B Input Climat Scen. Freight'!$B159,'4A Calcul. BAU city'!$E:$E,'2B Input Climat Scen. Freight'!$C159)/VLOOKUP($C131,'4A Calcul. BAU city'!$E$13:$V$60,18,FALSE)*100,\"\")","v":""},{"$f":"+IFERROR(SUMIFS('4A Calcul. BAU city'!AI:AI,'4A Calcul. BAU city'!$C:$C,'2B Input Climat Scen. Freight'!$B159,'4A Calcul. BAU city'!$E:$E,'2B Input Climat Scen. Freight'!$C159)/SUMIFS('4A Calcul. BAU city'!L:L,'4A Calcul. BAU city'!$C:$C,'2B Input Climat Scen. Freight'!$B159,'4A Calcul. BAU city'!$E:$E,'2B Input Climat Scen. Freight'!$C159)/VLOOKUP($C131,'4A Calcul. BAU city'!$E$13:$V$60,18,FALSE)*100,\"\")","v":""},null,null,null,null,null,null,null,{"$f":"SUMIFS('4B Calcul. Climat Scen.'!AB$375:AB$424,'4B Calcul. Climat Scen.'!$C$375:$C$424,'2B Input Climat Scen. Freight'!$B159,'4B Calcul. Climat Scen.'!$E$375:$E$424,$C159)","v":0},{"$f":"SUMIFS('4B Calcul. Climat Scen.'!AC$375:AC$424,'4B Calcul. Climat Scen.'!$C$375:$C$424,'2B Input Climat Scen. Freight'!$B159,'4B Calcul. Climat Scen.'!$E$375:$E$424,$C159)","v":0},{"$f":"SUMIFS('4B Calcul. Climat Scen.'!AD$375:AD$424,'4B Calcul. Climat Scen.'!$C$375:$C$424,'2B Input Climat Scen. Freight'!$B159,'4B Calcul. Climat Scen.'!$E$375:$E$424,$C159)","v":0},{"$f":"SUMIFS('4B Calcul. Climat Scen.'!AE$375:AE$424,'4B Calcul. Climat Scen.'!$C$375:$C$424,'2B Input Climat Scen. Freight'!$B159,'4B Calcul. Climat Scen.'!$E$375:$E$424,$C159)","v":0},{"$f":"SUMIFS('4B Calcul. Climat Scen.'!AF$375:AF$424,'4B Calcul. Climat Scen.'!$C$375:$C$424,'2B Input Climat Scen. Freight'!$B159,'4B Calcul. Climat Scen.'!$E$375:$E$424,$C159)","v":0}]
[null,{"$f":"Solo","v":"Solo truck"},{"$f":"NG","v":"NG"},{"$f":"+IFERROR(SUMIFS('4A Calcul. BAU city'!AE:AE,'4A Calcul. BAU city'!$C:$C,'2B Input Climat Scen. Freight'!$B160,'4A Calcul. BAU city'!$E:$E,'2B Input Climat Scen. Freight'!$C160)/SUMIFS('4A Calcul. BAU city'!H:H,'4A Calcul. BAU city'!$C:$C,'2B Input Climat Scen. Freight'!$B160,'4A Calcul. BAU city'!$E:$E,'2B Input Climat Scen. Freight'!$C160)/VLOOKUP($C132,'4A Calcul. BAU city'!$E$13:$V$60,18,FALSE)*100,\"\")","v":""},{"$f":"+IFERROR(SUMIFS('4A Calcul. BAU city'!AF:AF,'4A Calcul. BAU city'!$C:$C,'2B Input Climat Scen. Freight'!$B160,'4A Calcul. BAU city'!$E:$E,'2B Input Climat Scen. Freight'!$C160)/SUMIFS('4A Calcul. BAU city'!I:I,'4A Calcul. BAU city'!$C:$C,'2B Input Climat Scen. Freight'!$B160,'4A Calcul. BAU city'!$E:$E,'2B Input Climat Scen. Freight'!$C160)/VLOOKUP($C132,'4A Calcul. BAU city'!$E$13:$V$60,18,FALSE)*100,\"\")","v":""},{"$f":"+IFERROR(SUMIFS('4A Calcul. BAU city'!AG:AG,'4A Calcul. BAU city'!$C:$C,'2B Input Climat Scen. Freight'!$B160,'4A Calcul. BAU city'!$E:$E,'2B Input Climat Scen. Freight'!$C160)/SUMIFS('4A Calcul. BAU city'!J:J,'4A Calcul. BAU city'!$C:$C,'2B Input Climat Scen. Freight'!$B160,'4A Calcul. BAU city'!$E:$E,'2B Input Climat Scen. Freight'!$C160)/VLOOKUP($C132,'4A Calcul. BAU city'!$E$13:$V$60,18,FALSE)*100,\"\")","v":""},{"$f":"+IFERROR(SUMIFS('4A Calcul. BAU city'!AH:AH,'4A Calcul. BAU city'!$C:$C,'2B Input Climat Scen. Freight'!$B160,'4A Calcul. BAU city'!$E:$E,'2B Input Climat Scen. Freight'!$C160)/SUMIFS('4A Calcul. BAU city'!K:K,'4A Calcul. BAU city'!$C:$C,'2B Input Climat Scen. Freight'!$B160,'4A Calcul. BAU city'!$E:$E,'2B Input Climat Scen. Freight'!$C160)/VLOOKUP($C132,'4A Calcul. BAU city'!$E$13:$V$60,18,FALSE)*100,\"\")","v":""},{"$f":"+IFERROR(SUMIFS('4A Calcul. BAU city'!AI:AI,'4A Calcul. BAU city'!$C:$C,'2B Input Climat Scen. Freight'!$B160,'4A Calcul. BAU city'!$E:$E,'2B Input Climat Scen. Freight'!$C160)/SUMIFS('4A Calcul. BAU city'!L:L,'4A Calcul. BAU city'!$C:$C,'2B Input Climat Scen. Freight'!$B160,'4A Calcul. BAU city'!$E:$E,'2B Input Climat Scen. Freight'!$C160)/VLOOKUP($C132,'4A Calcul. BAU city'!$E$13:$V$60,18,FALSE)*100,\"\")","v":""},null,null,null,null,null,null,null,{"$f":"SUMIFS('4B Calcul. Climat Scen.'!AB$375:AB$424,'4B Calcul. Climat Scen.'!$C$375:$C$424,'2B Input Climat Scen. Freight'!$B160,'4B Calcul. Climat Scen.'!$E$375:$E$424,$C160)","v":0},{"$f":"SUMIFS('4B Calcul. Climat Scen.'!AC$375:AC$424,'4B Calcul. Climat Scen.'!$C$375:$C$424,'2B Input Climat Scen. Freight'!$B160,'4B Calcul. Climat Scen.'!$E$375:$E$424,$C160)","v":0},{"$f":"SUMIFS('4B Calcul. Climat Scen.'!AD$375:AD$424,'4B Calcul. Climat Scen.'!$C$375:$C$424,'2B Input Climat Scen. Freight'!$B160,'4B Calcul. Climat Scen.'!$E$375:$E$424,$C160)","v":0},{"$f":"SUMIFS('4B Calcul. Climat Scen.'!AE$375:AE$424,'4B Calcul. Climat Scen.'!$C$375:$C$424,'2B Input Climat Scen. Freight'!$B160,'4B Calcul. Climat Scen.'!$E$375:$E$424,$C160)","v":0},{"$f":"SUMIFS('4B Calcul. Climat Scen.'!AF$375:AF$424,'4B Calcul. Climat Scen.'!$C$375:$C$424,'2B Input Climat Scen. Freight'!$B160,'4B Calcul. Climat Scen.'!$E$375:$E$424,$C160)","v":0}]
[null,{"$f":"Solo","v":"Solo truck"},{"$f":"Electric","v":"Electric"},{"$f":"+IFERROR(SUMIFS('4A Calcul. BAU city'!AE:AE,'4A Calcul. BAU city'!$C:$C,'2B Input Climat Scen. Freight'!$B161,'4A Calcul. BAU city'!$E:$E,'2B Input Climat Scen. Freight'!$C161)/SUMIFS('4A Calcul. BAU city'!H:H,'4A Calcul. BAU city'!$C:$C,'2B Input Climat Scen. Freight'!$B161,'4A Calcul. BAU city'!$E:$E,'2B Input Climat Scen. Freight'!$C161)/VLOOKUP($C133,'4A Calcul. BAU city'!$E$13:$V$60,18,FALSE)*100,\"\")","v":""},{"$f":"+IFERROR(SUMIFS('4A Calcul. BAU city'!AF:AF,'4A Calcul. BAU city'!$C:$C,'2B Input Climat Scen. Freight'!$B161,'4A Calcul. BAU city'!$E:$E,'2B Input Climat Scen. Freight'!$C161)/SUMIFS('4A Calcul. BAU city'!I:I,'4A Calcul. BAU city'!$C:$C,'2B Input Climat Scen. Freight'!$B161,'4A Calcul. BAU city'!$E:$E,'2B Input Climat Scen. Freight'!$C161)/VLOOKUP($C133,'4A Calcul. BAU city'!$E$13:$V$60,18,FALSE)*100,\"\")","v":""},{"$f":"+IFERROR(SUMIFS('4A Calcul. BAU city'!AG:AG,'4A Calcul. BAU city'!$C:$C,'2B Input Climat Scen. Freight'!$B161,'4A Calcul. BAU city'!$E:$E,'2B Input Climat Scen. Freight'!$C161)/SUMIFS('4A Calcul. BAU city'!J:J,'4A Calcul. BAU city'!$C:$C,'2B Input Climat Scen. Freight'!$B161,'4A Calcul. BAU city'!$E:$E,'2B Input Climat Scen. Freight'!$C161)/VLOOKUP($C133,'4A Calcul. BAU city'!$E$13:$V$60,18,FALSE)*100,\"\")","v":""},{"$f":"+IFERROR(SUMIFS('4A Calcul. BAU city'!AH:AH,'4A Calcul. BAU city'!$C:$C,'2B Input Climat Scen. Freight'!$B161,'4A Calcul. BAU city'!$E:$E,'2B Input Climat Scen. Freight'!$C161)/SUMIFS('4A Calcul. BAU city'!K:K,'4A Calcul. BAU city'!$C:$C,'2B Input Climat Scen. Freight'!$B161,'4A Calcul. BAU city'!$E:$E,'2B Input Climat Scen. Freight'!$C161)/VLOOKUP($C133,'4A Calcul. BAU city'!$E$13:$V$60,18,FALSE)*100,\"\")","v":""},{"$f":"+IFERROR(SUMIFS('4A Calcul. BAU city'!AI:AI,'4A Calcul. BAU city'!$C:$C,'2B Input Climat Scen. Freight'!$B161,'4A Calcul. BAU city'!$E:$E,'2B Input Climat Scen. Freight'!$C161)/SUMIFS('4A Calcul. BAU city'!L:L,'4A Calcul. BAU city'!$C:$C,'2B Input Climat Scen. Freight'!$B161,'4A Calcul. BAU city'!$E:$E,'2B Input Climat Scen. Freight'!$C161)/VLOOKUP($C133,'4A Calcul. BAU city'!$E$13:$V$60,18,FALSE)*100,\"\")","v":""},null,null,null,null,null,null,null,{"$f":"SUMIFS('4B Calcul. Climat Scen.'!AB$375:AB$424,'4B Calcul. Climat Scen.'!$C$375:$C$424,'2B Input Climat Scen. Freight'!$B161,'4B Calcul. Climat Scen.'!$E$375:$E$424,$C161)","v":0},{"$f":"SUMIFS('4B Calcul. Climat Scen.'!AC$375:AC$424,'4B Calcul. Climat Scen.'!$C$375:$C$424,'2B Input Climat Scen. Freight'!$B161,'4B Calcul. Climat Scen.'!$E$375:$E$424,$C161)","v":0},{"$f":"SUMIFS('4B Calcul. Climat Scen.'!AD$375:AD$424,'4B Calcul. Climat Scen.'!$C$375:$C$424,'2B Input Climat Scen. Freight'!$B161,'4B Calcul. Climat Scen.'!$E$375:$E$424,$C161)","v":0},{"$f":"SUMIFS('4B Calcul. Climat Scen.'!AE$375:AE$424,'4B Calcul. Climat Scen.'!$C$375:$C$424,'2B Input Climat Scen. Freight'!$B161,'4B Calcul. Climat Scen.'!$E$375:$E$424,$C161)","v":0},{"$f":"SUMIFS('4B Calcul. Climat Scen.'!AF$375:AF$424,'4B Calcul. Climat Scen.'!$C$375:$C$424,'2B Input Climat Scen. Freight'!$B161,'4B Calcul. Climat Scen.'!$E$375:$E$424,$C161)","v":0}]
[null,{"$f":"Atruck","v":"Articulated truck"},{"$f":"all","v":"all"}]
[null,{"$f":"Atruck","v":"Articulated truck"},{"$f":"Diesel","v":"Diesel"},{"$f":"+IFERROR(SUMIFS('4A Calcul. BAU city'!AE:AE,'4A Calcul. BAU city'!$C:$C,'2B Input Climat Scen. Freight'!$B163,'4A Calcul. BAU city'!$E:$E,'2B Input Climat Scen. Freight'!$C163)/SUMIFS('4A Calcul. BAU city'!H:H,'4A Calcul. BAU city'!$C:$C,'2B Input Climat Scen. Freight'!$B163,'4A Calcul. BAU city'!$E:$E,'2B Input Climat Scen. Freight'!$C163)/VLOOKUP($C135,'4A Calcul. BAU city'!$E$13:$V$60,18,FALSE)*100,\"\")","v":""},{"$f":"+IFERROR(SUMIFS('4A Calcul. BAU city'!AF:AF,'4A Calcul. BAU city'!$C:$C,'2B Input Climat Scen. Freight'!$B163,'4A Calcul. BAU city'!$E:$E,'2B Input Climat Scen. Freight'!$C163)/SUMIFS('4A Calcul. BAU city'!I:I,'4A Calcul. BAU city'!$C:$C,'2B Input Climat Scen. Freight'!$B163,'4A Calcul. BAU city'!$E:$E,'2B Input Climat Scen. Freight'!$C163)/VLOOKUP($C135,'4A Calcul. BAU city'!$E$13:$V$60,18,FALSE)*100,\"\")","v":""},{"$f":"+IFERROR(SUMIFS('4A Calcul. BAU city'!AG:AG,'4A Calcul. BAU city'!$C:$C,'2B Input Climat Scen. Freight'!$B163,'4A Calcul. BAU city'!$E:$E,'2B Input Climat Scen. Freight'!$C163)/SUMIFS('4A Calcul. BAU city'!J:J,'4A Calcul. BAU city'!$C:$C,'2B Input Climat Scen. Freight'!$B163,'4A Calcul. BAU city'!$E:$E,'2B Input Climat Scen. Freight'!$C163)/VLOOKUP($C135,'4A Calcul. BAU city'!$E$13:$V$60,18,FALSE)*100,\"\")","v":""},{"$f":"+IFERROR(SUMIFS('4A Calcul. BAU city'!AH:AH,'4A Calcul. BAU city'!$C:$C,'2B Input Climat Scen. Freight'!$B163,'4A Calcul. BAU city'!$E:$E,'2B Input Climat Scen. Freight'!$C163)/SUMIFS('4A Calcul. BAU city'!K:K,'4A Calcul. BAU city'!$C:$C,'2B Input Climat Scen. Freight'!$B163,'4A Calcul. BAU city'!$E:$E,'2B Input Climat Scen. Freight'!$C163)/VLOOKUP($C135,'4A Calcul. BAU city'!$E$13:$V$60,18,FALSE)*100,\"\")","v":""},{"$f":"+IFERROR(SUMIFS('4A Calcul. BAU city'!AI:AI,'4A Calcul. BAU city'!$C:$C,'2B Input Climat Scen. Freight'!$B163,'4A Calcul. BAU city'!$E:$E,'2B Input Climat Scen. Freight'!$C163)/SUMIFS('4A Calcul. BAU city'!L:L,'4A Calcul. BAU city'!$C:$C,'2B Input Climat Scen. Freight'!$B163,'4A Calcul. BAU city'!$E:$E,'2B Input Climat Scen. Freight'!$C163)/VLOOKUP($C135,'4A Calcul. BAU city'!$E$13:$V$60,18,FALSE)*100,\"\")","v":""},null,null,null,null,null,null,null,{"$f":"SUMIFS('4B Calcul. Climat Scen.'!AB$375:AB$424,'4B Calcul. Climat Scen.'!$C$375:$C$424,'2B Input Climat Scen. Freight'!$B163,'4B Calcul. Climat Scen.'!$E$375:$E$424,$C163)","v":0},{"$f":"SUMIFS('4B Calcul. Climat Scen.'!AC$375:AC$424,'4B Calcul. Climat Scen.'!$C$375:$C$424,'2B Input Climat Scen. Freight'!$B163,'4B Calcul. Climat Scen.'!$E$375:$E$424,$C163)","v":0},{"$f":"SUMIFS('4B Calcul. Climat Scen.'!AD$375:AD$424,'4B Calcul. Climat Scen.'!$C$375:$C$424,'2B Input Climat Scen. Freight'!$B163,'4B Calcul. Climat Scen.'!$E$375:$E$424,$C163)","v":0},{"$f":"SUMIFS('4B Calcul. Climat Scen.'!AE$375:AE$424,'4B Calcul. Climat Scen.'!$C$375:$C$424,'2B Input Climat Scen. Freight'!$B163,'4B Calcul. Climat Scen.'!$E$375:$E$424,$C163)","v":0},{"$f":"SUMIFS('4B Calcul. Climat Scen.'!AF$375:AF$424,'4B Calcul. Climat Scen.'!$C$375:$C$424,'2B Input Climat Scen. Freight'!$B163,'4B Calcul. Climat Scen.'!$E$375:$E$424,$C163)","v":0}]
[null,{"$f":"Atruck","v":"Articulated truck"},{"$f":"NG","v":"NG"},{"$f":"+IFERROR(SUMIFS('4A Calcul. BAU city'!AE:AE,'4A Calcul. BAU city'!$C:$C,'2B Input Climat Scen. Freight'!$B164,'4A Calcul. BAU city'!$E:$E,'2B Input Climat Scen. Freight'!$C164)/SUMIFS('4A Calcul. BAU city'!H:H,'4A Calcul. BAU city'!$C:$C,'2B Input Climat Scen. Freight'!$B164,'4A Calcul. BAU city'!$E:$E,'2B Input Climat Scen. Freight'!$C164)/VLOOKUP($C136,'4A Calcul. BAU city'!$E$13:$V$60,18,FALSE)*100,\"\")","v":""},{"$f":"+IFERROR(SUMIFS('4A Calcul. BAU city'!AF:AF,'4A Calcul. BAU city'!$C:$C,'2B Input Climat Scen. Freight'!$B164,'4A Calcul. BAU city'!$E:$E,'2B Input Climat Scen. Freight'!$C164)/SUMIFS('4A Calcul. BAU city'!I:I,'4A Calcul. BAU city'!$C:$C,'2B Input Climat Scen. Freight'!$B164,'4A Calcul. BAU city'!$E:$E,'2B Input Climat Scen. Freight'!$C164)/VLOOKUP($C136,'4A Calcul. BAU city'!$E$13:$V$60,18,FALSE)*100,\"\")","v":""},{"$f":"+IFERROR(SUMIFS('4A Calcul. BAU city'!AG:AG,'4A Calcul. BAU city'!$C:$C,'2B Input Climat Scen. Freight'!$B164,'4A Calcul. BAU city'!$E:$E,'2B Input Climat Scen. Freight'!$C164)/SUMIFS('4A Calcul. BAU city'!J:J,'4A Calcul. BAU city'!$C:$C,'2B Input Climat Scen. Freight'!$B164,'4A Calcul. BAU city'!$E:$E,'2B Input Climat Scen. Freight'!$C164)/VLOOKUP($C136,'4A Calcul. BAU city'!$E$13:$V$60,18,FALSE)*100,\"\")","v":""},{"$f":"+IFERROR(SUMIFS('4A Calcul. BAU city'!AH:AH,'4A Calcul. BAU city'!$C:$C,'2B Input Climat Scen. Freight'!$B164,'4A Calcul. BAU city'!$E:$E,'2B Input Climat Scen. Freight'!$C164)/SUMIFS('4A Calcul. BAU city'!K:K,'4A Calcul. BAU city'!$C:$C,'2B Input Climat Scen. Freight'!$B164,'4A Calcul. BAU city'!$E:$E,'2B Input Climat Scen. Freight'!$C164)/VLOOKUP($C136,'4A Calcul. BAU city'!$E$13:$V$60,18,FALSE)*100,\"\")","v":""},{"$f":"+IFERROR(SUMIFS('4A Calcul. BAU city'!AI:AI,'4A Calcul. BAU city'!$C:$C,'2B Input Climat Scen. Freight'!$B164,'4A Calcul. BAU city'!$E:$E,'2B Input Climat Scen. Freight'!$C164)/SUMIFS('4A Calcul. BAU city'!L:L,'4A Calcul. BAU city'!$C:$C,'2B Input Climat Scen. Freight'!$B164,'4A Calcul. BAU city'!$E:$E,'2B Input Climat Scen. Freight'!$C164)/VLOOKUP($C136,'4A Calcul. BAU city'!$E$13:$V$60,18,FALSE)*100,\"\")","v":""},null,null,null,null,null,null,null,{"$f":"SUMIFS('4B Calcul. Climat Scen.'!AB$375:AB$424,'4B Calcul. Climat Scen.'!$C$375:$C$424,'2B Input Climat Scen. Freight'!$B164,'4B Calcul. Climat Scen.'!$E$375:$E$424,$C164)","v":0},{"$f":"SUMIFS('4B Calcul. Climat Scen.'!AC$375:AC$424,'4B Calcul. Climat Scen.'!$C$375:$C$424,'2B Input Climat Scen. Freight'!$B164,'4B Calcul. Climat Scen.'!$E$375:$E$424,$C164)","v":0},{"$f":"SUMIFS('4B Calcul. Climat Scen.'!AD$375:AD$424,'4B Calcul. Climat Scen.'!$C$375:$C$424,'2B Input Climat Scen. Freight'!$B164,'4B Calcul. Climat Scen.'!$E$375:$E$424,$C164)","v":0},{"$f":"SUMIFS('4B Calcul. Climat Scen.'!AE$375:AE$424,'4B Calcul. Climat Scen.'!$C$375:$C$424,'2B Input Climat Scen. Freight'!$B164,'4B Calcul. Climat Scen.'!$E$375:$E$424,$C164)","v":0},{"$f":"SUMIFS('4B Calcul. Climat Scen.'!AF$375:AF$424,'4B Calcul. Climat Scen.'!$C$375:$C$424,'2B Input Climat Scen. Freight'!$B164,'4B Calcul. Climat Scen.'!$E$375:$E$424,$C164)","v":0}]
[null,{"$f":"Atruck","v":"Articulated truck"},{"$f":"Electric","v":"Electric"},{"$f":"+IFERROR(SUMIFS('4A Calcul. BAU city'!AE:AE,'4A Calcul. BAU city'!$C:$C,'2B Input Climat Scen. Freight'!$B165,'4A Calcul. BAU city'!$E:$E,'2B Input Climat Scen. Freight'!$C165)/SUMIFS('4A Calcul. BAU city'!H:H,'4A Calcul. BAU city'!$C:$C,'2B Input Climat Scen. Freight'!$B165,'4A Calcul. BAU city'!$E:$E,'2B Input Climat Scen. Freight'!$C165)/VLOOKUP($C137,'4A Calcul. BAU city'!$E$13:$V$60,18,FALSE)*100,\"\")","v":""},{"$f":"+IFERROR(SUMIFS('4A Calcul. BAU city'!AF:AF,'4A Calcul. BAU city'!$C:$C,'2B Input Climat Scen. Freight'!$B165,'4A Calcul. BAU city'!$E:$E,'2B Input Climat Scen. Freight'!$C165)/SUMIFS('4A Calcul. BAU city'!I:I,'4A Calcul. BAU city'!$C:$C,'2B Input Climat Scen. Freight'!$B165,'4A Calcul. BAU city'!$E:$E,'2B Input Climat Scen. Freight'!$C165)/VLOOKUP($C137,'4A Calcul. BAU city'!$E$13:$V$60,18,FALSE)*100,\"\")","v":""},{"$f":"+IFERROR(SUMIFS('4A Calcul. BAU city'!AG:AG,'4A Calcul. BAU city'!$C:$C,'2B Input Climat Scen. Freight'!$B165,'4A Calcul. BAU city'!$E:$E,'2B Input Climat Scen. Freight'!$C165)/SUMIFS('4A Calcul. BAU city'!J:J,'4A Calcul. BAU city'!$C:$C,'2B Input Climat Scen. Freight'!$B165,'4A Calcul. BAU city'!$E:$E,'2B Input Climat Scen. Freight'!$C165)/VLOOKUP($C137,'4A Calcul. BAU city'!$E$13:$V$60,18,FALSE)*100,\"\")","v":""},{"$f":"+IFERROR(SUMIFS('4A Calcul. BAU city'!AH:AH,'4A Calcul. BAU city'!$C:$C,'2B Input Climat Scen. Freight'!$B165,'4A Calcul. BAU city'!$E:$E,'2B Input Climat Scen. Freight'!$C165)/SUMIFS('4A Calcul. BAU city'!K:K,'4A Calcul. BAU city'!$C:$C,'2B Input Climat Scen. Freight'!$B165,'4A Calcul. BAU city'!$E:$E,'2B Input Climat Scen. Freight'!$C165)/VLOOKUP($C137,'4A Calcul. BAU city'!$E$13:$V$60,18,FALSE)*100,\"\")","v":""},{"$f":"+IFERROR(SUMIFS('4A Calcul. BAU city'!AI:AI,'4A Calcul. BAU city'!$C:$C,'2B Input Climat Scen. Freight'!$B165,'4A Calcul. BAU city'!$E:$E,'2B Input Climat Scen. Freight'!$C165)/SUMIFS('4A Calcul. BAU city'!L:L,'4A Calcul. BAU city'!$C:$C,'2B Input Climat Scen. Freight'!$B165,'4A Calcul. BAU city'!$E:$E,'2B Input Climat Scen. Freight'!$C165)/VLOOKUP($C137,'4A Calcul. BAU city'!$E$13:$V$60,18,FALSE)*100,\"\")","v":""},null,null,null,null,null,null,null,{"$f":"SUMIFS('4B Calcul. Climat Scen.'!AB$375:AB$424,'4B Calcul. Climat Scen.'!$C$375:$C$424,'2B Input Climat Scen. Freight'!$B165,'4B Calcul. Climat Scen.'!$E$375:$E$424,$C165)","v":0},{"$f":"SUMIFS('4B Calcul. Climat Scen.'!AC$375:AC$424,'4B Calcul. Climat Scen.'!$C$375:$C$424,'2B Input Climat Scen. Freight'!$B165,'4B Calcul. Climat Scen.'!$E$375:$E$424,$C165)","v":0},{"$f":"SUMIFS('4B Calcul. Climat Scen.'!AD$375:AD$424,'4B Calcul. Climat Scen.'!$C$375:$C$424,'2B Input Climat Scen. Freight'!$B165,'4B Calcul. Climat Scen.'!$E$375:$E$424,$C165)","v":0},{"$f":"SUMIFS('4B Calcul. Climat Scen.'!AE$375:AE$424,'4B Calcul. Climat Scen.'!$C$375:$C$424,'2B Input Climat Scen. Freight'!$B165,'4B Calcul. Climat Scen.'!$E$375:$E$424,$C165)","v":0},{"$f":"SUMIFS('4B Calcul. Climat Scen.'!AF$375:AF$424,'4B Calcul. Climat Scen.'!$C$375:$C$424,'2B Input Climat Scen. Freight'!$B165,'4B Calcul. Climat Scen.'!$E$375:$E$424,$C165)","v":0}]
[null,{"$f":"Ftrain","v":"Freight train"},{"$f":"all","v":"all"}]
[null,{"$f":"Ftrain","v":"Freight train"},{"$f":"Diesel","v":"Diesel"},{"$f":"+IFERROR(SUMIFS('4A Calcul. BAU city'!AE:AE,'4A Calcul. BAU city'!$C:$C,'2B Input Climat Scen. Freight'!$B167,'4A Calcul. BAU city'!$E:$E,'2B Input Climat Scen. Freight'!$C167)/SUMIFS('4A Calcul. BAU city'!H:H,'4A Calcul. BAU city'!$C:$C,'2B Input Climat Scen. Freight'!$B167,'4A Calcul. BAU city'!$E:$E,'2B Input Climat Scen. Freight'!$C167)/VLOOKUP($C139,'4A Calcul. BAU city'!$E$13:$V$60,18,FALSE)*100,\"\")","v":""},{"$f":"+IFERROR(SUMIFS('4A Calcul. BAU city'!AF:AF,'4A Calcul. BAU city'!$C:$C,'2B Input Climat Scen. Freight'!$B167,'4A Calcul. BAU city'!$E:$E,'2B Input Climat Scen. Freight'!$C167)/SUMIFS('4A Calcul. BAU city'!I:I,'4A Calcul. BAU city'!$C:$C,'2B Input Climat Scen. Freight'!$B167,'4A Calcul. BAU city'!$E:$E,'2B Input Climat Scen. Freight'!$C167)/VLOOKUP($C139,'4A Calcul. BAU city'!$E$13:$V$60,18,FALSE)*100,\"\")","v":""},{"$f":"+IFERROR(SUMIFS('4A Calcul. BAU city'!AG:AG,'4A Calcul. BAU city'!$C:$C,'2B Input Climat Scen. Freight'!$B167,'4A Calcul. BAU city'!$E:$E,'2B Input Climat Scen. Freight'!$C167)/SUMIFS('4A Calcul. BAU city'!J:J,'4A Calcul. BAU city'!$C:$C,'2B Input Climat Scen. Freight'!$B167,'4A Calcul. BAU city'!$E:$E,'2B Input Climat Scen. Freight'!$C167)/VLOOKUP($C139,'4A Calcul. BAU city'!$E$13:$V$60,18,FALSE)*100,\"\")","v":""},{"$f":"+IFERROR(SUMIFS('4A Calcul. BAU city'!AH:AH,'4A Calcul. BAU city'!$C:$C,'2B Input Climat Scen. Freight'!$B167,'4A Calcul. BAU city'!$E:$E,'2B Input Climat Scen. Freight'!$C167)/SUMIFS('4A Calcul. BAU city'!K:K,'4A Calcul. BAU city'!$C:$C,'2B Input Climat Scen. Freight'!$B167,'4A Calcul. BAU city'!$E:$E,'2B Input Climat Scen. Freight'!$C167)/VLOOKUP($C139,'4A Calcul. BAU city'!$E$13:$V$60,18,FALSE)*100,\"\")","v":""},{"$f":"+IFERROR(SUMIFS('4A Calcul. BAU city'!AI:AI,'4A Calcul. BAU city'!$C:$C,'2B Input Climat Scen. Freight'!$B167,'4A Calcul. BAU city'!$E:$E,'2B Input Climat Scen. Freight'!$C167)/SUMIFS('4A Calcul. BAU city'!L:L,'4A Calcul. BAU city'!$C:$C,'2B Input Climat Scen. Freight'!$B167,'4A Calcul. BAU city'!$E:$E,'2B Input Climat Scen. Freight'!$C167)/VLOOKUP($C139,'4A Calcul. BAU city'!$E$13:$V$60,18,FALSE)*100,\"\")","v":""},null,null,null,null,null,null,null,{"$f":"SUMIFS('4B Calcul. Climat Scen.'!AB$375:AB$424,'4B Calcul. Climat Scen.'!$C$375:$C$424,'2B Input Climat Scen. Freight'!$B167,'4B Calcul. Climat Scen.'!$E$375:$E$424,$C167)","v":0},{"$f":"SUMIFS('4B Calcul. Climat Scen.'!AC$375:AC$424,'4B Calcul. Climat Scen.'!$C$375:$C$424,'2B Input Climat Scen. Freight'!$B167,'4B Calcul. Climat Scen.'!$E$375:$E$424,$C167)","v":0},{"$f":"SUMIFS('4B Calcul. Climat Scen.'!AD$375:AD$424,'4B Calcul. Climat Scen.'!$C$375:$C$424,'2B Input Climat Scen. Freight'!$B167,'4B Calcul. Climat Scen.'!$E$375:$E$424,$C167)","v":0},{"$f":"SUMIFS('4B Calcul. Climat Scen.'!AE$375:AE$424,'4B Calcul. Climat Scen.'!$C$375:$C$424,'2B Input Climat Scen. Freight'!$B167,'4B Calcul. Climat Scen.'!$E$375:$E$424,$C167)","v":0},{"$f":"SUMIFS('4B Calcul. Climat Scen.'!AF$375:AF$424,'4B Calcul. Climat Scen.'!$C$375:$C$424,'2B Input Climat Scen. Freight'!$B167,'4B Calcul. Climat Scen.'!$E$375:$E$424,$C167)","v":0}]
[null,{"$f":"Ftrain","v":"Freight train"},{"$f":"Electric","v":"Electric"},{"$f":"+IFERROR(SUMIFS('4A Calcul. BAU city'!AE:AE,'4A Calcul. BAU city'!$C:$C,'2B Input Climat Scen. Freight'!$B168,'4A Calcul. BAU city'!$E:$E,'2B Input Climat Scen. Freight'!$C168)/SUMIFS('4A Calcul. BAU city'!H:H,'4A Calcul. BAU city'!$C:$C,'2B Input Climat Scen. Freight'!$B168,'4A Calcul. BAU city'!$E:$E,'2B Input Climat Scen. Freight'!$C168)/VLOOKUP($C140,'4A Calcul. BAU city'!$E$13:$V$60,18,FALSE)*100,\"\")","v":""},{"$f":"+IFERROR(SUMIFS('4A Calcul. BAU city'!AF:AF,'4A Calcul. BAU city'!$C:$C,'2B Input Climat Scen. Freight'!$B168,'4A Calcul. BAU city'!$E:$E,'2B Input Climat Scen. Freight'!$C168)/SUMIFS('4A Calcul. BAU city'!I:I,'4A Calcul. BAU city'!$C:$C,'2B Input Climat Scen. Freight'!$B168,'4A Calcul. BAU city'!$E:$E,'2B Input Climat Scen. Freight'!$C168)/VLOOKUP($C140,'4A Calcul. BAU city'!$E$13:$V$60,18,FALSE)*100,\"\")","v":""},{"$f":"+IFERROR(SUMIFS('4A Calcul. BAU city'!AG:AG,'4A Calcul. BAU city'!$C:$C,'2B Input Climat Scen. Freight'!$B168,'4A Calcul. BAU city'!$E:$E,'2B Input Climat Scen. Freight'!$C168)/SUMIFS('4A Calcul. BAU city'!J:J,'4A Calcul. BAU city'!$C:$C,'2B Input Climat Scen. Freight'!$B168,'4A Calcul. BAU city'!$E:$E,'2B Input Climat Scen. Freight'!$C168)/VLOOKUP($C140,'4A Calcul. BAU city'!$E$13:$V$60,18,FALSE)*100,\"\")","v":""},{"$f":"+IFERROR(SUMIFS('4A Calcul. BAU city'!AH:AH,'4A Calcul. BAU city'!$C:$C,'2B Input Climat Scen. Freight'!$B168,'4A Calcul. BAU city'!$E:$E,'2B Input Climat Scen. Freight'!$C168)/SUMIFS('4A Calcul. BAU city'!K:K,'4A Calcul. BAU city'!$C:$C,'2B Input Climat Scen. Freight'!$B168,'4A Calcul. BAU city'!$E:$E,'2B Input Climat Scen. Freight'!$C168)/VLOOKUP($C140,'4A Calcul. BAU city'!$E$13:$V$60,18,FALSE)*100,\"\")","v":""},{"$f":"+IFERROR(SUMIFS('4A Calcul. BAU city'!AI:AI,'4A Calcul. BAU city'!$C:$C,'2B Input Climat Scen. Freight'!$B168,'4A Calcul. BAU city'!$E:$E,'2B Input Climat Scen. Freight'!$C168)/SUMIFS('4A Calcul. BAU city'!L:L,'4A Calcul. BAU city'!$C:$C,'2B Input Climat Scen. Freight'!$B168,'4A Calcul. BAU city'!$E:$E,'2B Input Climat Scen. Freight'!$C168)/VLOOKUP($C140,'4A Calcul. BAU city'!$E$13:$V$60,18,FALSE)*100,\"\")","v":""},null,null,null,null,null,null,null,{"$f":"SUMIFS('4B Calcul. Climat Scen.'!AB$375:AB$424,'4B Calcul. Climat Scen.'!$C$375:$C$424,'2B Input Climat Scen. Freight'!$B168,'4B Calcul. Climat Scen.'!$E$375:$E$424,$C168)","v":0},{"$f":"SUMIFS('4B Calcul. Climat Scen.'!AC$375:AC$424,'4B Calcul. Climat Scen.'!$C$375:$C$424,'2B Input Climat Scen. Freight'!$B168,'4B Calcul. Climat Scen.'!$E$375:$E$424,$C168)","v":0},{"$f":"SUMIFS('4B Calcul. Climat Scen.'!AD$375:AD$424,'4B Calcul. Climat Scen.'!$C$375:$C$424,'2B Input Climat Scen. Freight'!$B168,'4B Calcul. Climat Scen.'!$E$375:$E$424,$C168)","v":0},{"$f":"SUMIFS('4B Calcul. Climat Scen.'!AE$375:AE$424,'4B Calcul. Climat Scen.'!$C$375:$C$424,'2B Input Climat Scen. Freight'!$B168,'4B Calcul. Climat Scen.'!$E$375:$E$424,$C168)","v":0},{"$f":"SUMIFS('4B Calcul. Climat Scen.'!AF$375:AF$424,'4B Calcul. Climat Scen.'!$C$375:$C$424,'2B Input Climat Scen. Freight'!$B168,'4B Calcul. Climat Scen.'!$E$375:$E$424,$C168)","v":0}]
[null,{"$f":"Total","v":"Sum"},null,null,null,null,null,null,null,null,null,null,null,null,null,{"$f":"SUM(P149:P151,P153:P157,P159:P161,P163:P165,P167:P168)","v":0},{"$f":"SUM(Q149:Q151,Q153:Q157,Q159:Q161,Q163:Q165,Q167:Q168)","v":0},0,0,0]
[]
[]
[{"$f":"donottouch","v":"Do not touch - for graphic purposes"}]
[null,{"$f":"RedGHGfr","v":"GHG emission reductions - freight transport"}]
[null,2020,null,null,2025,null,null,2030,null,null,2040,null,null,2050]
[null,{"$f":"BAU","v":"BAU"},null,{"$f":"Climat","v":"Climate"},{"$f":"BAU","v":"BAU"},null,{"$f":"Climat","v":"Climate"},{"$f":"BAU","v":"BAU"},null,{"$f":"Climat","v":"Climate"},{"$f":"BAU","v":"BAU"},null,{"$f":"Climat","v":"Climate"},{"$f":"BAU","v":"BAU"},null,{"$f":"Climat","v":"Climate"}]
[]
[null,null,{"$f":"+SUM(D179:D183)","v":0},null,null,{"$f":"+SUM(G179:G183)","v":0},null,null,{"$f":"+SUM(J179:J183)","v":0},null,null,{"$f":"+SUM(M179:M183)","v":0},null,null,{"$f":"+SUM(P179:P183)","v":0}]
[null,null,{"$f":"+SUM(B179:B183)-SUM(D179:D183)","v":0},null,null,{"$f":"+SUM(E179:E183)-SUM(G179:G183)","v":0},null,null,{"$f":"+SUM(H179:H183)-SUM(J179:J183)","v":0},null,null,{"$f":"+SUM(K179:K183)-SUM(M179:M183)","v":0},null,null,{"$f":"+SUM(N179:N183)-SUM(P179:P183)","v":0}]
[{"$f":"lightLCV","v":"Very light LCV"},{"$f":"+SUMIF('4B Calcul. Climat Scen.'!$C$286:$C$301,$A179,'4B Calcul. Climat Scen.'!AI$286:AI$301)","v":0},null,{"$f":"+SUMIF('4B Calcul. Climat Scen.'!$C$409:$C$424,$A179,'4B Calcul. Climat Scen.'!AI$409:AI$424)","v":0},{"$f":"+SUMIF('4B Calcul. Climat Scen.'!$C$286:$C$301,$A179,'4B Calcul. Climat Scen.'!AJ$286:AJ$301)","v":0},null,{"$f":"+SUMIF('4B Calcul. Climat Scen.'!$C$409:$C$424,$A179,'4B Calcul. Climat Scen.'!AJ$409:AJ$424)","v":0},{"$f":"+SUMIF('4B Calcul. Climat Scen.'!$C$286:$C$301,$A179,'4B Calcul. Climat Scen.'!AK$286:AK$301)","v":0},null,{"$f":"+SUMIF('4B Calcul. Climat Scen.'!$C$409:$C$424,$A179,'4B Calcul. Climat Scen.'!AK$409:AK$424)","v":0},{"$f":"+SUMIF('4B Calcul. Climat Scen.'!$C$286:$C$301,$A179,'4B Calcul. Climat Scen.'!AL$286:AP$301)","v":0},null,{"$f":"+SUMIF('4B Calcul. Climat Scen.'!$C$409:$C$424,$A179,'4B Calcul. Climat Scen.'!AL$409:AL$424)","v":0},{"$f":"+SUMIF('4B Calcul. Climat Scen.'!$C$286:$C$301,$A179,'4B Calcul. Climat Scen.'!AM$286:AM$301)","v":0},null,{"$f":"+SUMIF('4B Calcul. Climat Scen.'!$C$409:$C$424,$A179,'4B Calcul. Climat Scen.'!AM$409:AM$424)","v":0}]
[{"$f":"LCV","v":"LCV"},{"$f":"+SUMIF('4B Calcul. Climat Scen.'!$C$286:$C$301,$A180,'4B Calcul. Climat Scen.'!AI$286:AI$301)","v":0},null,{"$f":"+SUMIF('4B Calcul. Climat Scen.'!$C$409:$C$424,$A180,'4B Calcul. Climat Scen.'!AI$409:AI$424)","v":0},{"$f":"+SUMIF('4B Calcul. Climat Scen.'!$C$286:$C$301,$A180,'4B Calcul. Climat Scen.'!AJ$286:AJ$301)","v":0},null,{"$f":"+SUMIF('4B Calcul. Climat Scen.'!$C$409:$C$424,$A180,'4B Calcul. Climat Scen.'!AJ$409:AJ$424)","v":0},{"$f":"+SUMIF('4B Calcul. Climat Scen.'!$C$286:$C$301,$A180,'4B Calcul. Climat Scen.'!AK$286:AK$301)","v":0},null,{"$f":"+SUMIF('4B Calcul. Climat Scen.'!$C$409:$C$424,$A180,'4B Calcul. Climat Scen.'!AK$409:AK$424)","v":0},{"$f":"+SUMIF('4B Calcul. Climat Scen.'!$C$286:$C$301,$A180,'4B Calcul. Climat Scen.'!AL$286:AP$301)","v":0},null,{"$f":"+SUMIF('4B Calcul. Climat Scen.'!$C$409:$C$424,$A180,'4B Calcul. Climat Scen.'!AL$409:AL$424)","v":0},{"$f":"+SUMIF('4B Calcul. Climat Scen.'!$C$286:$C$301,$A180,'4B Calcul. Climat Scen.'!AM$286:AM$301)","v":0},null,{"$f":"+SUMIF('4B Calcul. Climat Scen.'!$C$409:$C$424,$A180,'4B Calcul. Climat Scen.'!AM$409:AM$424)","v":0}]
[{"$f":"Solo","v":"Solo truck"},{"$f":"+SUMIF('4B Calcul. Climat Scen.'!$C$286:$C$301,$A181,'4B Calcul. Climat Scen.'!AI$286:AI$301)","v":0},null,{"$f":"+SUMIF('4B Calcul. Climat Scen.'!$C$409:$C$424,$A181,'4B Calcul. Climat Scen.'!AI$409:AI$424)","v":0},{"$f":"+SUMIF('4B Calcul. Climat Scen.'!$C$286:$C$301,$A181,'4B Calcul. Climat Scen.'!AJ$286:AJ$301)","v":0},null,{"$f":"+SUMIF('4B Calcul. Climat Scen.'!$C$409:$C$424,$A181,'4B Calcul. Climat Scen.'!AJ$409:AJ$424)","v":0},{"$f":"+SUMIF('4B Calcul. Climat Scen.'!$C$286:$C$301,$A181,'4B Calcul. Climat Scen.'!AK$286:AK$301)","v":0},null,{"$f":"+SUMIF('4B Calcul. Climat Scen.'!$C$409:$C$424,$A181,'4B Calcul. Climat Scen.'!AK$409:AK$424)","v":0},{"$f":"+SUMIF('4B Calcul. Climat Scen.'!$C$286:$C$301,$A181,'4B Calcul. Climat Scen.'!AL$286:AP$301)","v":0},null,{"$f":"+SUMIF('4B Calcul. Climat Scen.'!$C$409:$C$424,$A181,'4B Calcul. Climat Scen.'!AL$409:AL$424)","v":0},{"$f":"+SUMIF('4B Calcul. Climat Scen.'!$C$286:$C$301,$A181,'4B Calcul. Climat Scen.'!AM$286:AM$301)","v":0},null,{"$f":"+SUMIF('4B Calcul. Climat Scen.'!$C$409:$C$424,$A181,'4B Calcul. Climat Scen.'!AM$409:AM$424)","v":0}]
[{"$f":"Atruck","v":"Articulated truck"},{"$f":"+SUMIF('4B Calcul. Climat Scen.'!$C$286:$C$301,$A182,'4B Calcul. Climat Scen.'!AI$286:AI$301)","v":0},null,{"$f":"+SUMIF('4B Calcul. Climat Scen.'!$C$409:$C$424,$A182,'4B Calcul. Climat Scen.'!AI$409:AI$424)","v":0},{"$f":"+SUMIF('4B Calcul. Climat Scen.'!$C$286:$C$301,$A182,'4B Calcul. Climat Scen.'!AJ$286:AJ$301)","v":0},null,{"$f":"+SUMIF('4B Calcul. Climat Scen.'!$C$409:$C$424,$A182,'4B Calcul. Climat Scen.'!AJ$409:AJ$424)","v":0},{"$f":"+SUMIF('4B Calcul. Climat Scen.'!$C$286:$C$301,$A182,'4B Calcul. Climat Scen.'!AK$286:AK$301)","v":0},null,{"$f":"+SUMIF('4B Calcul. Climat Scen.'!$C$409:$C$424,$A182,'4B Calcul. Climat Scen.'!AK$409:AK$424)","v":0},{"$f":"+SUMIF('4B Calcul. Climat Scen.'!$C$286:$C$301,$A182,'4B Calcul. Climat Scen.'!AL$286:AP$301)","v":0},null,{"$f":"+SUMIF('4B Calcul. Climat Scen.'!$C$409:$C$424,$A182,'4B Calcul. Climat Scen.'!AL$409:AL$424)","v":0},{"$f":"+SUMIF('4B Calcul. Climat Scen.'!$C$286:$C$301,$A182,'4B Calcul. Climat Scen.'!AM$286:AM$301)","v":0},null,{"$f":"+SUMIF('4B Calcul. Climat Scen.'!$C$409:$C$424,$A182,'4B Calcul. Climat Scen.'!AM$409:AM$424)","v":0}]
[{"$f":"Ftrain","v":"Freight train"},{"$f":"+SUMIF('4B Calcul. Climat Scen.'!$C$286:$C$301,$A183,'4B Calcul. Climat Scen.'!AI$286:AI$301)","v":0},null,{"$f":"+SUMIF('4B Calcul. Climat Scen.'!$C$409:$C$424,$A183,'4B Calcul. Climat Scen.'!AI$409:AI$424)","v":0},{"$f":"+SUMIF('4B Calcul. Climat Scen.'!$C$286:$C$301,$A183,'4B Calcul. Climat Scen.'!AJ$286:AJ$301)","v":0},null,{"$f":"+SUMIF('4B Calcul. Climat Scen.'!$C$409:$C$424,$A183,'4B Calcul. Climat Scen.'!AJ$409:AJ$424)","v":0},{"$f":"+SUMIF('4B Calcul. Climat Scen.'!$C$286:$C$301,$A183,'4B Calcul. Climat Scen.'!AK$286:AK$301)","v":0},null,{"$f":"+SUMIF('4B Calcul. Climat Scen.'!$C$409:$C$424,$A183,'4B Calcul. Climat Scen.'!AK$409:AK$424)","v":0},{"$f":"+SUMIF('4B Calcul. Climat Scen.'!$C$286:$C$301,$A183,'4B Calcul. Climat Scen.'!AL$286:AP$301)","v":0},null,{"$f":"+SUMIF('4B Calcul. Climat Scen.'!$C$409:$C$424,$A183,'4B Calcul. Climat Scen.'!AL$409:AL$424)","v":0},{"$f":"+SUMIF('4B Calcul. Climat Scen.'!$C$286:$C$301,$A183,'4B Calcul. Climat Scen.'!AM$286:AM$301)","v":0},null,{"$f":"+SUMIF('4B Calcul. Climat Scen.'!$C$409:$C$424,$A183,'4B Calcul. Climat Scen.'!AM$409:AM$424)","v":0}]
[null,null,{"$f":"IFERROR(SUM(D179:D183)/SUM(B179:B183)-1,\"\")","v":""},null,null,{"$f":"IFERROR(SUM(G179:G183)/SUM(E179:E183)-1,\"\")","v":""},null,null,{"$f":"IFERROR(SUM(J179:J183)/SUM(H179:H183)-1,\"\")","v":""},null,null,{"$f":"IFERROR(SUM(M179:M183)/SUM(K179:K183)-1,\"\")","v":""},null,null,{"$f":"IFERROR(SUM(P179:P183)/SUM(N179:N183)-1,\"\")","v":""}]
[]
[]
[{"$f":"Graph1","v":"Modal split freight [tkm]"}]
[{"$f":"Graph5","v":"Vkt freight [Mio. km]"}]
[]
[{"$f":"+totalkm","v":"Total vkt"},{"$f":"+'4B Calcul. Climat Scen.'!G11","v":2020},{"$f":"+'4B Calcul. Climat Scen.'!H11","v":2025},{"$f":"+'4B Calcul. Climat Scen.'!I11","v":2030},{"$f":"+'4B Calcul. Climat Scen.'!J11","v":2040},{"$f":"+'4B Calcul. Climat Scen.'!K11","v":2050}]
[{"$f":"+BAU","v":"BAU"},{"$f":"+'4B Calcul. Climat Scen.'!G32","v":0},{"$f":"+'4B Calcul. Climat Scen.'!H32","v":0},{"$f":"+'4B Calcul. Climat Scen.'!I32","v":0},{"$f":"+'4B Calcul. Climat Scen.'!J32","v":0},{"$f":"+'4B Calcul. Climat Scen.'!K32","v":0}]
[{"$f":"+Climat","v":"Climate"},{"$f":"+'4B Calcul. Climat Scen.'!N429","v":0},{"$f":"+'4B Calcul. Climat Scen.'!O429","v":0},{"$f":"+'4B Calcul. Climat Scen.'!P429","v":0},{"$f":"+'4B Calcul. Climat Scen.'!Q429","v":0},{"$f":"+'4B Calcul. Climat Scen.'!R429","v":0}]
["Diff",{"$f":"B191-B192","v":0},{"$f":"C191-C192","v":0},0,0,0]
[{"$f":"vktMilkm","v":"Vkt [Mio. km]"}]
[]
[null,null,"Climate scenario","Diff Climate-BAU","Climate scenario","Diff Climate-BAU","Climate scenario","Diff Climate-BAU"]
[null,null,2020,2020,2030,2030,2050,2050]
[null,null,"Gramm CO2äq pro Fz-km"]
[null,{"$f":"A179","v":"Very light LCV"},{"$f":"D179*1000/(C107*10^6)*10^6","v":{"$error":"#DIV/0!"}},{"$f":"C199-'1A Input Base and BAU'!K275","v":{"$error":"#DIV/0!"}},{"$f":"J179*1000/(E107*10^6)*10^6","v":{"$error":"#DIV/0!"}},{"$f":"E199-'1A Input Base and BAU'!M275","v":{"$error":"#DIV/0!"}},{"$f":"P179*1000/(G107*10^6)*10^6","v":{"$error":"#DIV/0!"}},{"$f":"G199-'1A Input Base and BAU'!O275","v":{"$error":"#DIV/0!"}}]
[null,{"$f":"A180","v":"LCV"},{"$f":"D180*1000/(C108*10^6)*10^6","v":{"$error":"#DIV/0!"}},{"$f":"C200-'1A Input Base and BAU'!K276","v":{"$error":"#DIV/0!"}},{"$f":"J180*1000/(E108*10^6)*10^6","v":{"$error":"#DIV/0!"}},{"$f":"E200-'1A Input Base and BAU'!M276","v":{"$error":"#DIV/0!"}},{"$f":"P180*1000/(G108*10^6)*10^6","v":{"$error":"#DIV/0!"}},{"$f":"G200-'1A Input Base and BAU'!O276","v":{"$error":"#DIV/0!"}}]
[null,"Solo truck",{"$error":"#DIV/0!"},{"$f":"C201-'1A Input Base and BAU'!K277","v":{"$error":"#DIV/0!"}},{"$error":"#DIV/0!"},{"$f":"E201-'1A Input Base and BAU'!M277","v":{"$error":"#DIV/0!"}},{"$error":"#DIV/0!"},{"$f":"G201-'1A Input Base and BAU'!O277","v":{"$error":"#DIV/0!"}}]
[null,"Articulated truck",{"$error":"#DIV/0!"},{"$f":"C202-'1A Input Base and BAU'!K278","v":{"$error":"#DIV/0!"}},{"$error":"#DIV/0!"},{"$f":"E202-'1A Input Base and BAU'!M278","v":{"$error":"#DIV/0!"}},{"$error":"#DIV/0!"},{"$f":"G202-'1A Input Base and BAU'!O278","v":{"$error":"#DIV/0!"}}]
[null,"Freight train",{"$error":"#DIV/0!"},{"$f":"C203-'1A Input Base and BAU'!K279","v":{"$error":"#DIV/0!"}},{"$error":"#DIV/0!"},{"$f":"E203-'1A Input Base and BAU'!M279","v":{"$error":"#DIV/0!"}},{"$error":"#DIV/0!"},{"$f":"G203-'1A Input Base and BAU'!O279","v":{"$error":"#DIV/0!"}}]
[]
[null,null,"Climate scenario","Diff Climate-BAU","Climate scenario","Diff Climate-BAU","Climate scenario","Diff Climate-BAU"]
[null,null,2020,2020,2030,2030,2050,2050]
[null,null,"Gramm CO2äq pro pkm"]
[null,{"$f":"A179","v":"Very light LCV"},{"$f":"D179*1000/(J107*10^6)*10^6","v":{"$error":"#DIV/0!"}},{"$f":"C208-'1A Input Base and BAU'!R275","v":{"$error":"#DIV/0!"}},{"$f":"J179*1000/(L107*10^6)*10^6","v":{"$error":"#DIV/0!"}},{"$f":"E208-'1A Input Base and BAU'!T275","v":{"$error":"#DIV/0!"}},{"$f":"P179*1000/(N107*10^6)*10^6","v":{"$error":"#DIV/0!"}},{"$f":"G208-'1A Input Base and BAU'!V275","v":{"$error":"#DIV/0!"}}]
[null,{"$f":"A180","v":"LCV"},{"$f":"D180*1000/(J108*10^6)*10^6","v":{"$error":"#DIV/0!"}},{"$f":"C209-'1A Input Base and BAU'!R276","v":{"$error":"#DIV/0!"}},{"$f":"J180*1000/(L108*10^6)*10^6","v":{"$error":"#DIV/0!"}},{"$f":"E209-'1A Input Base and BAU'!T276","v":{"$error":"#DIV/0!"}},{"$f":"P180*1000/(N108*10^6)*10^6","v":{"$error":"#DIV/0!"}},{"$f":"G209-'1A Input Base and BAU'!V276","v":{"$error":"#DIV/0!"}}]
[null,"Solo truck",{"$error":"#DIV/0!"},{"$f":"C210-'1A Input Base and BAU'!R277","v":{"$error":"#DIV/0!"}},{"$error":"#DIV/0!"},{"$f":"E210-'1A Input Base and BAU'!T277","v":{"$error":"#DIV/0!"}},{"$error":"#DIV/0!"},{"$f":"G210-'1A Input Base and BAU'!V277","v":{"$error":"#DIV/0!"}}]
[null,"Articulated truck",{"$error":"#DIV/0!"},{"$f":"C211-'1A Input Base and BAU'!R278","v":{"$error":"#DIV/0!"}},{"$error":"#DIV/0!"},{"$f":"E211-'1A Input Base and BAU'!T278","v":{"$error":"#DIV/0!"}},{"$error":"#DIV/0!"},{"$f":"G211-'1A Input Base and BAU'!V278","v":{"$error":"#DIV/0!"}}]
[null,"Freight train",{"$error":"#DIV/0!"},{"$f":"C212-'1A Input Base and BAU'!R279","v":{"$error":"#DIV/0!"}},{"$error":"#DIV/0!"},{"$f":"E212-'1A Input Base and BAU'!T279","v":{"$error":"#DIV/0!"}},{"$error":"#DIV/0!"},{"$f":"G212-'1A Input Base and BAU'!V279","v":{"$error":"#DIV/0!"}}]
[]
[]
[null,"Error check Aviod & Shift"]
[null,"vkt","tkm","both"]
[null,{"$f":"IF(MIN(C107:G111)<0,\"Negativ\",\"Positiv\")","v":"Positiv"},{"$f":"IF(MIN(J107:N111)<0,\"Negativ\",\"Positiv\")","v":"Positiv"},{"$f":"IF(B217=\"Negativ\",\"Negativ\",IF(C217=\"Negativ\",\"Negativ\",\"Positiv\"))","v":"Positiv"}]

{"sheet":"3 Overview of results","index":5,"n_rows":161,"n_cols":38,"rows_kept":161,"cut":false,"hidden":false,"merged":[[3,3,3,16],[26,1,26,7],[26,9,26,15],[34,9,34,10],[35,9,35,10],[11,1,11,2],[11,4,11,8],[4,3,7,16],[112,1,117,1],[100,1,104,1],[98,1,98,15],[33,9,33,15],[105,1,111,1],[96,1,96,16]]}
[{"$f":"Tab","v":"Tab"},5]
[{"$f":"subsector","v":"Sub-sector"},{"$f":"all","v":"all"}]
[{"$f":"Candc","v":"Country and city"},{"$f":"'Get started'!C6","v":"xx"}]
[{"$f":"yearref","v":"Reference year"},{"$f":"'Get started'!C7","v":0},null,{"$f":"Text13","v":"3 Overview of results"}]
[null,null,null,{"$f":"Text14","v":"This sheet presents the results of the BAU scenario and the Climate scenario for both road and rail transport as well as for passengers and freight transportation. The type of result to be seen should be selected: TTW (tank to wheel) or WTW (well to wheel) emissions. Depending on the chosen option the result is visible in the graph on the right side.\n\nThe results of the emissions comparing the BAU scenario and the climate scenario for reference years and saved emissions are shown in the graphs below. The specific performance indicators are visible in the last table, allowing to compare the values between different years and scenarios."}]
[]
[]
[]
[]
[{"$f":"Description71","v":"1) Type of result and inventory"}]
[]
[null,{"$f":"GEStype","v":"Choose the type of GHG (click on D13)"},null,"TTW",{"$f":"TTWWTW","v":"TTW: Tank-to-Wheel (without emissions from energy production); WTW Well-to-Wheel (with emissions from energy production)"}]
[]
[null,{"$f":"CRF","v":"CRF code IPCC"},{"$f":"IPCCcategories","v":"IPCC categories"},{"$f":"ttghg &'3 Overview of results'!$D$12","v":" 1000 t GHG TTW"}]
[null,"1.A.3.b.i",{"$f":"Roadc","v":"Road- car"},{"$f":"+SUMIF('4B Calcul. Climat Scen.'!$A$252:$A$301,$B15,'4B Calcul. Climat Scen.'!$AH$252:$AH$301)","v":0}]
[null,"1.A.3.b.ii",{"$f":"Roadlcv","v":"Road- LCV"},{"$f":"+SUMIF('4B Calcul. Climat Scen.'!$A$252:$A$301,$B16,'4B Calcul. Climat Scen.'!$AH$252:$AH$301)","v":0}]
[null,"1.A.3.b.iii",{"$f":"roadtb","v":"Road- truck and busses"},{"$f":"+SUMIF('4B Calcul. Climat Scen.'!$A$252:$A$301,$B17,'4B Calcul. Climat Scen.'!$AH$252:$AH$301)","v":0},null,null,null,null,null,null,null,null,null,null,null,null,null,null,null,null,null," "]
[null,"1.A.3.b.iv",{"$f":"roadm","v":"Road- motorcycle"},{"$f":"+SUMIF('4B Calcul. Climat Scen.'!$A$252:$A$301,$B18,'4B Calcul. Climat Scen.'!$AH$252:$AH$301)","v":0}]
[null,"1.A.3.c",{"$f":"Rail","v":"Rail"},{"$f":"+SUMIF('4B Calcul. Climat Scen.'!$A$252:$A$301,$B19,'4B Calcul. Climat Scen.'!$AH$252:$AH$301)","v":0}]
[]
[]
[null,{"$f":"Total","v":"Sum"},null,{"$f":"+SUM($D$15:D21)","v":0}]
[]
[]
[{"$f":"Descri71","v":"2) Results of GHG Emissions from road and rail Transport int the BAU and Climate scenario"}]
[]
[null,{"$f":"Referencing!B427&'3 Overview of results'!$D$12","v":"Total GHG emissions BAU scenario TTW"},null,null,null,null,null,null,null,{"$f":"Referencing!B428& '3 Overview of results'!$D$12","v":"Total GHG emissions climate scenario TTW"}]
[null,{"$f":"ScenBAU","v":"BAU scenario"},{"$f":"+$B$4","v":0},2020,2025,2030,2040,2050,null,{"$f":"Climatescen","v":"Climate scenario"},{"$f":"+$B$4","v":0},2020,2025,2030,2040,2050]
[null,{"$f":"passBAU","v":"BAU passenger"},{"$f":"SUM('4B Calcul. Climat Scen.'!AH252:AH285)","v":0},{"$f":"SUM('4B Calcul. Climat Scen.'!AI252:AI285)","v":0},{"$f":"SUM('4B Calcul. Climat Scen.'!AJ252:AJ285)","v":0},{"$f":"SUM('4B Calcul. Climat Scen.'!AK252:AK285)","v":0},{"$f":"SUM('4B Calcul. Climat Scen.'!AL252:AL285)","v":0},{"$f":"SUM('4B Calcul. Climat Scen.'!AM252:AM285)","v":0},null,{"$f":"Passclim","v":"Climate passenger"},{"$f":"SUM('4B Calcul. Climat Scen.'!AH375:AH408)","v":0},{"$f":"SUM('4B Calcul. Climat Scen.'!AI375:AI408)","v":0},{"$f":"SUM('4B Calcul. Climat Scen.'!AJ375:AJ408)","v":0},{"$f":"SUM('4B Calcul. Climat Scen.'!AK375:AK408)","v":0},{"$f":"SUM('4B Calcul. Climat Scen.'!AL375:AL408)","v":0},{"$f":"SUM('4B Calcul. Climat Scen.'!AM375:AM408)","v":0}]
[null,{"$f":"freiBAU","v":"BAU freight"},{"$f":"SUM('4B Calcul. Climat Scen.'!AH289:AH301)","v":0},{"$f":"SUM('4B Calcul. Climat Scen.'!AI289:AI301)","v":0},{"$f":"SUM('4B Calcul. Climat Scen.'!AJ289:AJ301)","v":0},{"$f":"SUM('4B Calcul. Climat Scen.'!AK289:AK301)","v":0},{"$f":"SUM('4B Calcul. Climat Scen.'!AL289:AL301)","v":0},{"$f":"SUM('4B Calcul. Climat Scen.'!AM289:AM301)","v":0},null,{"$f":"freightclim","v":"Climate freight"},{"$f":"SUM('4B Calcul. Climat Scen.'!AH412:AH424)","v":0},{"$f":"SUM('4B Calcul. Climat Scen.'!AI412:AI424)","v":0},{"$f":"SUM('4B Calcul. Climat Scen.'!AJ412:AJ424)","v":0},{"$f":"SUM('4B Calcul. Climat Scen.'!AK412:AK424)","v":0},{"$f":"SUM('4B Calcul. Climat Scen.'!AL412:AL424)","v":0},{"$f":"SUM('4B Calcul. Climat Scen.'!AM412:AM424)","v":0}]
[null,{"$f":"Total","v":"Sum"},{"$f":"SUM(C29:C30)","v":0},0,0,0,0,0,null,{"$f":"Total","v":"Sum"},{"$f":"SUM(K29:K30)","v":0},0,0,0,0,0]
[null,{"$f":"unitgraph","v":"GHG in thousand tCO2e "},null,null,null,null,null,null,null,{"$f":"unitgraph","v":"GHG in thousand tCO2e "}]
[]
[null,null,null,null,null,null,null,null,null,{"$f":"DifGHG& '3 Overview of results'!$D$12","v":"Difference of GHG emissions between BAU & climate scenario TTW"}]
[null,null,null,null,null,null,null,null,null,null,null,2020,2025,2030,2040,2050]
[null,null,null,null,null,null,null,null,null,"Climat scénario vs BAU",null,{"$f":"IFERROR(L31/D31-1,\"\")","v":""},{"$f":"IFERROR(M31/E31-1,\"\")","v":""},{"$f":"IFERROR(N31/F31-1,\"\")","v":""},{"$f":"IFERROR(O31/G31-1,\"\")","v":""},{"$f":"IFERROR(P31/H31-1,\"\")","v":""}]
[]
[]
[]
[]
[]
[]
[]
[]
[]
[]
[]
[]
[]
[]
[]
[]
[]
[]
[]
[]
[]
[]
[]
[]
[]
[]
[]
[]
[]
[]
[]
[]
[]
[]
[]
[null,null,null,null,null,null,null,null,null,null,null,null,null,null,null,null,2030]
[null,null,null,null,null,null,null,null,null,null,null,null,null,null,null,null,{"$f":"'3 Overview of results'!F29-'3 Overview of results'!N29","v":0}]
[null,null,null,null,null,null,null,null,null,null,null,null,null,null,null,null,{"$f":"'3 Overview of results'!F30-'3 Overview of results'!N30","v":0}]
[null,null,null,null,null,null,null,null,null,null,null,null,null,null,null,null,{"$f":"'3 Overview of results'!F31-'3 Overview of results'!N31","v":0}]
[]
[]
[]
[]
[]
[]
[]
[]
[]
[]
[]
[]
[]
[]
[]
[]
[]
[null,{"$f":"cumul","v":"The GHG emissions are cumulated on a linear hypothesis (linear regression between 2 years) and add up all the emissions avoided year by year from the base year to the year presented"}]
[]
[]
[{"$f":"Descri72","v":"3) Key Performance Indicators (KPI) for monitoring plan"}]
[null,{"$f":"KPIdesc","v":"You can find below key indicators to assess the level of emission in your country/city for the scenarios out of the calculation carried out in this tool. The compulsory indicators for MYC projects are indicated in bold within a green frame. For the indicators for wich no data are given, this should be given per hand as they ar required by the MYC monitoring plan, but they are not calculated by the present tool (number of fatal accidents, number of persons withtin the service area, average commercial speed)"}]
[]
[null,{"$f":"KPI","v":"Key performance indicators"}]
[null,{"$f":"Category","v":"Category"},{"$f":"Descri73","v":"Indicators"},{"$f":"Descri74","v":"Explanation"},{"$f":"Unit","v":"Unit"},{"$f":"B4","v":0},{"$f":"Descri77","v":"BAU 2020"},{"$f":"Descri75","v":"Climate 2020"},{"$f":"Descri76","v":"Objective 2020"},{"$f":"Descri80","v":"BAU 2025"},{"$f":"Descri78","v":"Climate 2025"},{"$f":"Descri79","v":"Objective 2025"},{"$f":"Descri83","v":"BAU 2030"},{"$f":"Descri81","v":"Climate 2030"},{"$f":"Descri82","v":"Objective 2030"},{"$f":"Source","v":"Source"}]
[null,{"$f":"General","v":"General"},{"$f":"Indic1","v":"GHG emissions from transportation per capita and per year"},{"$f":"Expl1","v":"Total GHG emissions in road and rail transport, divided by the number of inhabitants for the reference year"},{"$f":"CO2perinhab","v":"t CO2e/inhabitant"},{"$f":"10^3*C31/'1A Input Base and BAU'!F19","v":{"$error":"#DIV/0!"}},{"$f":"10^3*D31/'1A Input Base and BAU'!G19","v":{"$error":"#VALUE!"}},{"$f":"10^3*L31/'1A Input Base and BAU'!G19","v":{"$error":"#VALUE!"}},null,{"$f":"10^3*E31/'1A Input Base and BAU'!H19","v":{"$error":"#VALUE!"}},{"$f":"10^3*M31/'1A Input Base and BAU'!H19","v":{"$error":"#VALUE!"}},null,{"$f":"10^3*F31/'1A Input Base and BAU'!I19","v":{"$error":"#VALUE!"}},{"$f":"10^3*N31/'1A Input Base and BAU'!I19","v":{"$error":"#VALUE!"}},null,"GIZ - Transfer"]
[null,null,{"$f":"Indic2","v":"Change in transport GHG emissions compared to the BAU scenario"},{"$f":"Expl2","v":"Absolute GHG emissions of the transport sector (total road and rail) subtracted to the emissions of the BAU scenario"},"Mio. t CO2eq",null,null,{"$f":"L36","v":""},null,null,{"$f":"M36","v":""},null,null,{"$f":"N36","v":""},null,"MYC - MRV Approach"]
[null,null,{"$f":"Indic3","v":"Number of fatal accidents per 100,000 inhabitants per year"},{"$f":"Expl3","v":"According to the WHO, fatal accidents are counted up to 30 days after the day of the accident"},{"$f":"Accperinhab","v":"accidents/100.000 inhabitants"},null,null,null,null,null,null,null,null,null,null,"MYC - MRV Approach, Weltbank"]
[null,null,{"$f":"Indic4","v":"Number of people in the service area of ​​public transport"},{"$f":"Expl4","v":"Number of people within 500 m of public transit with a headway of minimum 20 minutes at rush hour, or people who have access to ridesharing offers that are comparable in price to public transit"},{"$f":"numberinhab","v":"Number of inhabitants"},null,null,null,null,null,null,null,null,null,null,"MYC - MRV Approach"]
[null,null,{"$f":"Indic5","v":"Average commercial speed"},{"$f":"Expl5","v":"Average speed of a mode of transport between two terminals, including all operational stops"},"km/h",null,null,null,null,null,null,null,null,null,null,"MYC - MRV Approach, UITP - Mobility in Cities, LSEcities"]
[null,{"$f":"Passtrans","v":"Passenger transportation"},{"$f":"Indic6","v":"Modal share of individual traffic in passenger transport"},{"$f":"Expl6","v":"The transport performance (pkm) of individual transport is calculated from the total volume of non-motorised individual transport (pedestrians, bicycles) and individual motorised transport (private cars, taxis and private cars and motorcycles) then divided by the total transport volume (individual total and public transport)"},"%pkm",{"$f":"SUM('4B Calcul. Climat Scen.'!AA$13:AA$15)/SUM('4B Calcul. Climat Scen.'!AA$13:AA$22)","v":{"$error":"#DIV/0!"}},{"$f":"SUM('4B Calcul. Climat Scen.'!AB$13:AB$15)/SUM('4B Calcul. Climat Scen.'!AB$13:AB$22)","v":{"$error":"#DIV/0!"}},{"$f":"SUM('4B Calcul. Climat Scen.'!G226:G228)/SUM('4B Calcul. Climat Scen.'!G226:G235)","v":{"$error":"#DIV/0!"}},null,{"$f":"SUM('4B Calcul. Climat Scen.'!AC$13:AC$15)/SUM('4B Calcul. Climat Scen.'!AC$13:AC$22)","v":{"$error":"#DIV/0!"}},{"$f":"SUM('4B Calcul. Climat Scen.'!H226:H228)/SUM('4B Calcul. Climat Scen.'!H226:H235)","v":{"$error":"#DIV/0!"}},null,{"$f":"SUM('4B Calcul. Climat Scen.'!AD$13:AD$15)/SUM('4B Calcul. Climat Scen.'!AD$13:AD$22)","v":{"$error":"#DIV/0!"}},{"$f":"SUM('4B Calcul. Climat Scen.'!I226:I228)/SUM('4B Calcul. Climat Scen.'!I226:I235)","v":{"$error":"#DIV/0!"}},null,"MYC - MRV Approach, UITP - Mobility in Cities, LSEcities"]
[null,null,{"$f":"Indic7","v":"Modal share of public transport in passenger transport"},{"$f":"Expl7","v":"Transport performance (pkm) in public transport is calculated from the total volume of minibus, bus and passenger train transport and divided by the total transport volume (total individual transport and public transport)."},"%pkm",{"$f":"SUM('4B Calcul. Climat Scen.'!AA30)/SUM('4B Calcul. Climat Scen.'!AA$13:AA$22)","v":{"$error":"#DIV/0!"}},{"$f":"SUM('4B Calcul. Climat Scen.'!AB30)/SUM('4B Calcul. Climat Scen.'!AB$13:AB$22)","v":{"$error":"#DIV/0!"}},{"$f":"'4B Calcul. Climat Scen.'!G243/SUM('4B Calcul. Climat Scen.'!G226:G235)","v":{"$error":"#DIV/0!"}},null,{"$f":"SUM('4B Calcul. Climat Scen.'!AC30)/SUM('4B Calcul. Climat Scen.'!AC$13:AC$22)","v":{"$error":"#DIV/0!"}},{"$f":"'4B Calcul. Climat Scen.'!H243/SUM('4B Calcul. Climat Scen.'!H226:H235)","v":{"$error":"#DIV/0!"}},null,{"$f":"SUM('4B Calcul. Climat Scen.'!AD30)/SUM('4B Calcul. Climat Scen.'!AD$13:AD$22)","v":{"$error":"#DIV/0!"}},{"$f":"'4B Calcul. Climat Scen.'!I243/SUM('4B Calcul. Climat Scen.'!I226:I235)","v":{"$error":"#DIV/0!"}},null,"MYC - MRV Approach, UITP - Mobility in Cities"]
[null,null,{"$f":"PerfPass","v":"Performance of passenger transport per inhabitant and per year"},{"$f":"Expl8","v":"Transport performance (pkm) is calculated as the sum of transport (pedestrians, cyclists, motorbikes, private cars, municipal car and taxis, minibuses, buses and passenger trains) divided by the number of inhabitants"},{"$f":"Pkmperinhab","v":"pkm/inhabitant"},{"$f":"SUM('4B Calcul. Climat Scen.'!AA33)/('1A Input Base and BAU'!F19*10^-6)","v":{"$error":"#DIV/0!"}},{"$f":"SUM('4B Calcul. Climat Scen.'!AB33)/('1A Input Base and BAU'!G19*10^-6)","v":{"$error":"#VALUE!"}},{"$f":"'4B Calcul. Climat Scen.'!AC245/('1A Input Base and BAU'!G19*10^-6)","v":{"$error":"#VALUE!"}},null,{"$f":"SUM('4B Calcul. Climat Scen.'!AC33)/('1A Input Base and BAU'!H19*10^-6)","v":{"$error":"#VALUE!"}},{"$f":"SUM('4B Calcul. Climat Scen.'!H225:H233)/('1A Input Base and BAU'!H19*10^-6)","v":{"$error":"#VALUE!"}},null,{"$f":"SUM('4B Calcul. Climat Scen.'!AD33)/('1A Input Base and BAU'!I19*10^-6)","v":{"$error":"#VALUE!"}},{"$f":"SUM('4B Calcul. Climat Scen.'!I225:I233)/('1A Input Base and BAU'!I19*10^-6)","v":{"$error":"#VALUE!"}},null,"GIZ - Transfer"]
[null,null,{"$f":"Indic8","v":"GHG emissions per motorised passenger-kilometer for private transportation"},{"$f":"Expl9","v":"GHG emissions and transport performance (pkm) of private motorised transport are calculated from the sum of GHG emissions of all transportation (pedestrians, cyclists, motorcycles, private cars, municipal cars and taxis)"},"g CO2(eq)/pkm",{"$f":"1000*'4B Calcul. Climat Scen.'!AO29/'4B Calcul. Climat Scen.'!AA29","v":{"$error":"#DIV/0!"}},{"$f":"1000*'4B Calcul. Climat Scen.'!AP29/'4B Calcul. Climat Scen.'!AB29","v":{"$error":"#DIV/0!"}},{"$f":"(1000*'4B Calcul. Climat Scen.'!AI426)/'4B Calcul. Climat Scen.'!$G242","v":{"$error":"#DIV/0!"}},null,{"$f":"1000*'4B Calcul. Climat Scen.'!AQ29/'4B Calcul. Climat Scen.'!AC29","v":{"$error":"#DIV/0!"}},{"$f":"(1000*'4B Calcul. Climat Scen.'!AJ426)/'4B Calcul. Climat Scen.'!$H242","v":{"$error":"#DIV/0!"}},null,{"$f":"1000*'4B Calcul. Climat Scen.'!AR29/'4B Calcul. Climat Scen.'!AD29","v":{"$error":"#DIV/0!"}},{"$f":"(1000*'4B Calcul. Climat Scen.'!AK426)/'4B Calcul. Climat Scen.'!$I242","v":{"$error":"#DIV/0!"}},null,"GIZ - Transfer, TEEMP"]
[null,null,{"$f":"Indic9","v":"GHG emissions in public transport per passenger-kilometer"},{"$f":"Expl10","v":"GHG emissions and transport performance (pkm) in public transport are each calculated from the sum of public transport emissions (minibuses, buses and passenger trains) per passenger-kilometer"},"g CO2(eq)/pkm",{"$f":"1000*'4B Calcul. Climat Scen.'!AO30/'4B Calcul. Climat Scen.'!AA30","v":{"$error":"#DIV/0!"}},{"$f":"1000*'4B Calcul. Climat Scen.'!AP30/'4B Calcul. Climat Scen.'!AB30","v":{"$error":"#DIV/0!"}},{"$f":"(1000*'4B Calcul. Climat Scen.'!AI427)/'4B Calcul. Climat Scen.'!$G243","v":{"$error":"#DIV/0!"}},null,{"$f":"1000*'4B Calcul. Climat Scen.'!AQ30/'4B Calcul. Climat Scen.'!AC30","v":{"$error":"#DIV/0!"}},{"$f":"(1000*'4B Calcul. Climat Scen.'!AJ427)/'4B Calcul. Climat Scen.'!$H243","v":{"$error":"#DIV/0!"}},null,{"$f":"1000*'4B Calcul. Climat Scen.'!AR30/'4B Calcul. Climat Scen.'!AD30","v":{"$error":"#DIV/0!"}},{"$f":"(1000*'4B Calcul. Climat Scen.'!AK427)/'4B Calcul. Climat Scen.'!$I243","v":{"$error":"#DIV/0!"}},null,"GIZ - Transfer, TEEMP"]
[null,null,{"$f":"Indic10","v":"Proportion of vkt of alternative fuel vehicles in passenger transport by road (in pkm)"},{"$f":"Expl11","v":"Total vkt of alternative motor vehicles (LPG, LNG, hybrid, electric) in passenger road transport (motorcycles, passenger cars, municipal taxis and cars, minibuses, buses) divided by the total vkt of road transport "},"%km",{"$f":"(SUMIF('4B Calcul. Climat Scen.'!$E$252:$E$285,'4B Calcul. Climat Scen.'!$E$254,'4B Calcul. Climat Scen.'!F$252:F$285)+SUMIF('4B Calcul. Climat Scen.'!$E$252:$E$285,'4B Calcul. Climat Scen.'!$E$255,'4B Calcul. Climat Scen.'!F$252:F$285)+SUMIF('4B Calcul. Climat Scen.'!$E$252:$E$285,'4B Calcul. Climat Scen.'!$E$262,'4B Calcul. Climat Scen.'!F$252:F$285)+SUMIF('4B Calcul. Climat Scen.'!$E$252:$E$285,'4B Calcul. Climat Scen.'!$E$263,'4B Calcul. Climat Scen.'!F$252:F$285))/SUM('4B Calcul. Climat Scen.'!$F$252:$F$285)","v":{"$error":"#DIV/0!"}},{"$f":"(SUMIF('4B Calcul. Climat Scen.'!$E$252:$E$285,'4B Calcul. Climat Scen.'!$E$254,'4B Calcul. Climat Scen.'!G$252:G$285)+SUMIF('4B Calcul. Climat Scen.'!$E$252:$E$285,'4B Calcul. Climat Scen.'!$E$255,'4B Calcul. Climat Scen.'!G$252:G$285)+SUMIF('4B Calcul. Climat Scen.'!$E$252:$E$285,'4B Calcul. Climat Scen.'!$E$262,'4B Calcul. Climat Scen.'!G$252:G$285)+SUMIF('4B Calcul. Climat Scen.'!$E$252:$E$285,'4B Calcul. Climat Scen.'!$E$263,'4B Calcul. Climat Scen.'!G$252:G$285))/SUM('4B Calcul. Climat Scen.'!$G$252:$G$285)","v":{"$error":"#DIV/0!"}},{"$f":"(SUMIF('4B Calcul. Climat Scen.'!$E$375:$E$424,'4B Calcul. Climat Scen.'!$E$377,'4B Calcul. Climat Scen.'!N$375:N$408)+SUMIF('4B Calcul. Climat Scen.'!$E$375:$E$424,'4B Calcul. Climat Scen.'!$E$378,'4B Calcul. Climat Scen.'!N$375:N$408)+SUMIF('4B Calcul. Climat Scen.'!$E$375:$E$424,'4B Calcul. Climat Scen.'!$E$379,'4B Calcul. Climat Scen.'!N$375:N$408)+SUMIF('4B Calcul. Climat Scen.'!$E$375:$E$424,'4B Calcul. Climat Scen.'!$E$380,'4B Calcul. Climat Scen.'!N$375:N$408))/SUM('4B Calcul. Climat Scen.'!$N$375:$N$408)","v":{"$error":"#DIV/0!"}},null,{"$f":"(SUMIF('4B Calcul. Climat Scen.'!$E$252:$E$285,'4B Calcul. Climat Scen.'!$E$254,'4B Calcul. Climat Scen.'!H$252:H$285)+SUMIF('4B Calcul. Climat Scen.'!$E$252:$E$285,'4B Calcul. Climat Scen.'!$E$255,'4B Calcul. Climat Scen.'!H$252:H$285)+SUMIF('4B Calcul. Climat Scen.'!$E$252:$E$285,'4B Calcul. Climat Scen.'!$E$262,'4B Calcul. Climat Scen.'!H$252:H$285)+SUMIF('4B Calcul. Climat Scen.'!$E$252:$E$285,'4B Calcul. Climat Scen.'!$E$263,'4B Calcul. Climat Scen.'!H$252:H$285))/SUM('4B Calcul. Climat Scen.'!$H$252:$H$285)","v":{"$error":"#DIV/0!"}},{"$f":"(SUMIF('4B Calcul. Climat Scen.'!$E$375:$E$424,'4B Calcul. Climat Scen.'!$E$377,'4B Calcul. Climat Scen.'!O$375:O$408)+SUMIF('4B Calcul. Climat Scen.'!$E$375:$E$424,'4B Calcul. Climat Scen.'!$E$378,'4B Calcul. Climat Scen.'!O$375:O$408)+SUMIF('4B Calcul. Climat Scen.'!$E$375:$E$424,'4B Calcul. Climat Scen.'!$E$379,'4B Calcul. Climat Scen.'!O$375:O$408)+SUMIF('4B Calcul. Climat Scen.'!$E$375:$E$424,'4B Calcul. Climat Scen.'!$E$380,'4B Calcul. Climat Scen.'!O$375:O$408))/SUM('4B Calcul. Climat Scen.'!$O$375:$O$408)","v":{"$error":"#DIV/0!"}},null,{"$f":"(SUMIF('4B Calcul. Climat Scen.'!$E$252:$E$285,'4B Calcul. Climat Scen.'!$E$254,'4B Calcul. Climat Scen.'!I$252:I$285)+SUMIF('4B Calcul. Climat Scen.'!$E$252:$E$285,'4B Calcul. Climat Scen.'!$E$255,'4B Calcul. Climat Scen.'!I$252:I$285)+SUMIF('4B Calcul. Climat Scen.'!$E$252:$E$285,'4B Calcul. Climat Scen.'!$E$262,'4B Calcul. Climat Scen.'!I$252:I$285)+SUMIF('4B Calcul. Climat Scen.'!$E$252:$E$285,'4B Calcul. Climat Scen.'!$E$263,'4B Calcul. Climat Scen.'!I$252:I$285))/SUM('4B Calcul. Climat Scen.'!$I$252:$I$285)","v":{"$error":"#DIV/0!"}},{"$f":"(SUMIF('4B Calcul. Climat Scen.'!$E$375:$E$424,'4B Calcul. Climat Scen.'!$E$377,'4B Calcul. Climat Scen.'!P$375:P$408)+SUMIF('4B Calcul. Climat Scen.'!$E$375:$E$424,'4B Calcul. Climat Scen.'!$E$378,'4B Calcul. Climat Scen.'!P$375:P$408)+SUMIF('4B Calcul. Climat Scen.'!$E$375:$E$424,'4B Calcul. Climat Scen.'!$E$379,'4B Calcul. Climat Scen.'!P$375:P$408)+SUMIF('4B Calcul. Climat Scen.'!$E$375:$E$424,'4B Calcul. Climat Scen.'!$E$380,'4B Calcul. Climat Scen.'!P$375:P$408))/SUM('4B Calcul. Climat Scen.'!$P$375:$P$408)","v":{"$error":"#DIV/0!"}},null,"UITP - Mobility in Cities"]
[null,null,{"$f":"Indic11","v":"Share of electric vkt in passenger rail transport"},{"$f":"Expl12","v":"Total electric vkt in passenger rail transport divided by total rail vkt"},"%km",{"$f":"SUM('4B Calcul. Climat Scen.'!F283+'4B Calcul. Climat Scen.'!F284+'4B Calcul. Climat Scen.'!F285)/SUM('4B Calcul. Climat Scen.'!F$282:F$285)","v":{"$error":"#DIV/0!"}},{"$f":"SUM('4B Calcul. Climat Scen.'!G283+'4B Calcul. Climat Scen.'!G284+'4B Calcul. Climat Scen.'!G285)/SUM('4B Calcul. Climat Scen.'!G$282:G$285)","v":{"$error":"#DIV/0!"}},{"$f":"('4B Calcul. Climat Scen.'!N406+'4B Calcul. Climat Scen.'!N407+'4B Calcul. Climat Scen.'!N408)/(SUM('4B Calcul. Climat Scen.'!N$405:N$408))","v":{"$error":"#DIV/0!"}},null,{"$f":"SUM('4B Calcul. Climat Scen.'!H283+'4B Calcul. Climat Scen.'!H284+'4B Calcul. Climat Scen.'!H285)/SUM('4B Calcul. Climat Scen.'!H$282:H$285)","v":{"$error":"#DIV/0!"}},{"$f":"('4B Calcul. Climat Scen.'!O406+'4B Calcul. Climat Scen.'!O407+'4B Calcul. Climat Scen.'!O408)/(SUM('4B Calcul. Climat Scen.'!O$405:O$408))","v":{"$error":"#DIV/0!"}},null,{"$f":"SUM('4B Calcul. Climat Scen.'!I283+'4B Calcul. Climat Scen.'!I284+'4B Calcul. Climat Scen.'!I285)/SUM('4B Calcul. Climat Scen.'!I$282:I$285)","v":{"$error":"#DIV/0!"}},{"$f":"('4B Calcul. Climat Scen.'!P406+'4B Calcul. Climat Scen.'!P407+'4B Calcul. Climat Scen.'!P408)/(SUM('4B Calcul. Climat Scen.'!P$405:P$408))","v":{"$error":"#DIV/0!"}},null,"ifeu"]
[null,{"$f":"Freighttrans","v":"Freight transportation"},{"$f":"Indic12","v":"Modal share of road freight transport in total freight transport"},{"$f":"Expl13","v":"The transport performance (tkm) of road freight transport is calculated from the sum of light and heavy truck transport performance (tkm) and divided by the total volume of freight transport performance (sum of road and rail transport)."},"%tkm",{"$f":"SUM('4B Calcul. Climat Scen.'!AH24:AH25)/SUM('4B Calcul. Climat Scen.'!AH24:AH27)","v":{"$error":"#DIV/0!"}},{"$f":"SUM('4B Calcul. Climat Scen.'!AI24:AI25)/SUM('4B Calcul. Climat Scen.'!AI24:AI27)","v":{"$error":"#DIV/0!"}},{"$f":"SUM('4B Calcul. Climat Scen.'!O236:O239)/SUM('4B Calcul. Climat Scen.'!O236:O240)","v":{"$error":"#DIV/0!"}},null,{"$f":"SUM('4B Calcul. Climat Scen.'!AJ24:AJ25)/SUM('4B Calcul. Climat Scen.'!AJ24:AJ27)","v":{"$error":"#DIV/0!"}},{"$f":"SUM('4B Calcul. Climat Scen.'!P236:P239)/SUM('4B Calcul. Climat Scen.'!P236:P240)","v":{"$error":"#DIV/0!"}},null,{"$f":"SUM('4B Calcul. Climat Scen.'!AK24:AK25)/SUM('4B Calcul. Climat Scen.'!AK24:AK27)","v":{"$error":"#DIV/0!"}},{"$f":"SUM('4B Calcul. Climat Scen.'!Q236:Q239)/SUM('4B Calcul. Climat Scen.'!Q236:Q240)","v":{"$error":"#DIV/0!"}},null,"ifeu"]
[null,null,{"$f":"Indic13","v":"Modal share of rail freight transport in total freight transport"},{"$f":"Expl14","v":"The transport performance (tkm) of rail freight traffic is divided by the total volume of total freight performance (sum of road and rail freight transport)"},"%tkm",{"$f":"'4B Calcul. Climat Scen.'!AH27/SUM('4B Calcul. Climat Scen.'!AH24:AH27)","v":{"$error":"#DIV/0!"}},{"$f":"'4B Calcul. Climat Scen.'!AI27/SUM('4B Calcul. Climat Scen.'!AI24:AI27)","v":{"$error":"#DIV/0!"}},{"$f":"SUM('4B Calcul. Climat Scen.'!O240)/SUM('4B Calcul. Climat Scen.'!O236:O240)","v":{"$error":"#DIV/0!"}},null,{"$f":"'4B Calcul. Climat Scen.'!AJ27/SUM('4B Calcul. Climat Scen.'!AJ24:AJ27)","v":{"$error":"#DIV/0!"}},{"$f":"SUM('4B Calcul. Climat Scen.'!P240)/SUM('4B Calcul. Climat Scen.'!P236:P240)","v":{"$error":"#DIV/0!"}},null,{"$f":"'4B Calcul. Climat Scen.'!AK27/SUM('4B Calcul. Climat Scen.'!AK24:AK27)","v":{"$error":"#DIV/0!"}},{"$f":"SUM('4B Calcul. Climat Scen.'!Q240)/SUM('4B Calcul. Climat Scen.'!Q236:Q240)","v":{"$error":"#DIV/0!"}},null,"ifeu"]
[null,null,{"$f":"Indic14","v":"GHG emissions from road freight transport per tonne-kilometer"},{"$f":"Expl15","v":"GHG emissions divided by transport performance (tkm) in road freight transport refer to light and heavy goods vehicles"},"g CO2(eq)/tkm",{"$f":"1000*SUM('4B Calcul. Climat Scen.'!AO24:AO25)/SUM('4B Calcul. Climat Scen.'!AH24:AH25)","v":{"$error":"#DIV/0!"}},{"$f":"1000*SUM('4B Calcul. Climat Scen.'!AP$23:AP$26)/SUM('4B Calcul. Climat Scen.'!AI$23:AI$26)","v":{"$error":"#DIV/0!"}},{"$f":"1000*SUM('4B Calcul. Climat Scen.'!AI$409:AI$422)/SUM('4B Calcul. Climat Scen.'!O$236:O$239)","v":{"$error":"#DIV/0!"}},null,{"$f":"1000*SUM('4B Calcul. Climat Scen.'!AQ24:AQ25)/SUM('4B Calcul. Climat Scen.'!AJ24:AJ25)","v":{"$error":"#DIV/0!"}},{"$f":"1000*SUM('4B Calcul. Climat Scen.'!AJ$409:AJ$422)/SUM('4B Calcul. Climat Scen.'!P$236:P$239)","v":{"$error":"#DIV/0!"}},null,{"$f":"1000*SUM('4B Calcul. Climat Scen.'!AR24:AR25)/SUM('4B Calcul. Climat Scen.'!AK24:AK25)","v":{"$error":"#DIV/0!"}},{"$f":"1000*SUM('4B Calcul. Climat Scen.'!AK$409:AK$422)/SUM('4B Calcul. Climat Scen.'!Q$236:Q$239)","v":{"$error":"#DIV/0!"}},null,"GIZ - Transfer, TEEMP"]
[null,null,{"$f":"Indic15","v":"GHG emissions from rail freight transport per tonne-kilometer"},{"$f":"Expl16","v":"GHG emissions divided by transport performance (tkm) for rail freight transport refer to diesel and electric trains"},"g CO2(eq)/tkm",{"$f":"1000*'4B Calcul. Climat Scen.'!AO27/'4B Calcul. Climat Scen.'!AH27","v":{"$error":"#DIV/0!"}},{"$f":"1000*'4B Calcul. Climat Scen.'!AP27/'4B Calcul. Climat Scen.'!AI27","v":{"$error":"#DIV/0!"}},{"$f":"1000*SUM('4B Calcul. Climat Scen.'!AI423:AI424)/'4B Calcul. Climat Scen.'!O240","v":{"$error":"#DIV/0!"}},null,{"$f":"1000*'4B Calcul. Climat Scen.'!AQ27/'4B Calcul. Climat Scen.'!AJ27","v":{"$error":"#DIV/0!"}},{"$f":"1000*SUM('4B Calcul. Climat Scen.'!AJ423:AJ424)/'4B Calcul. Climat Scen.'!P240","v":{"$error":"#DIV/0!"}},null,{"$f":"1000*'4B Calcul. Climat Scen.'!AR27/'4B Calcul. Climat Scen.'!AK27","v":{"$error":"#DIV/0!"}},{"$f":"1000*SUM('4B Calcul. Climat Scen.'!AK423:AK424)/'4B Calcul. Climat Scen.'!Q240","v":{"$error":"#DIV/0!"}},null,"GIZ - Transfer, TEEMP"]
[null,null,{"$f":"Indic16","v":"Share of alternative propulsion systems in road freight transport"},{"$f":"Expl17","v":"Total vkt of alternative fuel vehicles (LPG, LNG, electric) in road freight transport (heavy goods vehicles and light trucks) divided by total vkt in road freight transport (sum of alternative fuels, diesel and gasoline)"},"%km",{"$f":"(SUMIF('4B Calcul. Climat Scen.'!$E$289:$E$299,'4B Calcul. Climat Scen.'!$E$291,'4B Calcul. Climat Scen.'!F$289:F$299)+SUMIF('4B Calcul. Climat Scen.'!$E$289:$E$299,'4B Calcul. Climat Scen.'!$E$292,'4B Calcul. Climat Scen.'!F$289:F$299)+SUMIF('4B Calcul. Climat Scen.'!$E$289:$E$299,'4B Calcul. Climat Scen.'!$E$293,'4B Calcul. Climat Scen.'!F$289:F$299))/SUM('4B Calcul. Climat Scen.'!F$289:F$299)","v":{"$error":"#DIV/0!"}},{"$f":"(SUMIF('4B Calcul. Climat Scen.'!$E$289:$E$299,'4B Calcul. Climat Scen.'!$E$291,'4B Calcul. Climat Scen.'!G$289:G$299)+SUMIF('4B Calcul. Climat Scen.'!$E$289:$E$299,'4B Calcul. Climat Scen.'!$E$292,'4B Calcul. Climat Scen.'!G$289:G$299)+SUMIF('4B Calcul. Climat Scen.'!$E$289:$E$299,'4B Calcul. Climat Scen.'!$E$293,'4B Calcul. Climat Scen.'!G$289:G$299))/SUM('4B Calcul. Climat Scen.'!G$289:G$299)","v":{"$error":"#DIV/0!"}},{"$f":"(SUMIF('4B Calcul. Climat Scen.'!$E$412:$E$422,'4B Calcul. Climat Scen.'!$E$414,'4B Calcul. Climat Scen.'!N$412:N$422)+SUMIF('4B Calcul. Climat Scen.'!$E$412:$E$422,'4B Calcul. Climat Scen.'!$E$415,'4B Calcul. Climat Scen.'!N$412:N$422)+SUMIF('4B Calcul. Climat Scen.'!$E$412:$E$422,'4B Calcul. Climat Scen.'!$E$416,'4B Calcul. Climat Scen.'!N$412:N$422))/SUM('4B Calcul. Climat Scen.'!N$412:N$422)","v":{"$error":"#DIV/0!"}},null,{"$f":"(SUMIF('4B Calcul. Climat Scen.'!$E$289:$E$299,'4B Calcul. Climat Scen.'!$E$291,'4B Calcul. Climat Scen.'!H$289:H$299)+SUMIF('4B Calcul. Climat Scen.'!$E$289:$E$299,'4B Calcul. Climat Scen.'!$E$292,'4B Calcul. Climat Scen.'!H$289:H$299)+SUMIF('4B Calcul. Climat Scen.'!$E$289:$E$299,'4B Calcul. Climat Scen.'!$E$293,'4B Calcul. Climat Scen.'!H$289:H$299))/SUM('4B Calcul. Climat Scen.'!H$289:H$299)","v":{"$error":"#DIV/0!"}},{"$f":"(SUMIF('4B Calcul. Climat Scen.'!$E$412:$E$422,'4B Calcul. Climat Scen.'!$E$414,'4B Calcul. Climat Scen.'!O$412:O$422)+SUMIF('4B Calcul. Climat Scen.'!$E$412:$E$422,'4B Calcul. Climat Scen.'!$E$415,'4B Calcul. Climat Scen.'!O$412:O$422)+SUMIF('4B Calcul. Climat Scen.'!$E$412:$E$422,'4B Calcul. Climat Scen.'!$E$416,'4B Calcul. Climat Scen.'!O$412:O$422))/SUM('4B Calcul. Climat Scen.'!O$412:O$422)","v":{"$error":"#DIV/0!"}},null,{"$f":"(SUMIF('4B Calcul. Climat Scen.'!$E$289:$E$299,'4B Calcul. Climat Scen.'!$E$291,'4B Calcul. Climat Scen.'!I$289:I$299)+SUMIF('4B Calcul. Climat Scen.'!$E$289:$E$299,'4B Calcul. Climat Scen.'!$E$292,'4B Calcul. Climat Scen.'!I$289:I$299)+SUMIF('4B Calcul. Climat Scen.'!$E$289:$E$299,'4B Calcul. Climat Scen.'!$E$293,'4B Calcul. Climat Scen.'!I$289:I$299))/(SUM('4B Calcul. Climat Scen.'!I$289:I$299))","v":{"$error":"#DIV/0!"}},{"$f":"(SUMIF('4B Calcul. Climat Scen.'!$E$412:$E$422,'4B Calcul. Climat Scen.'!$E$414,'4B Calcul. Climat Scen.'!P$412:P$422)+SUMIF('4B Calcul. Climat Scen.'!$E$412:$E$422,'4B Calcul. Climat Scen.'!$E$415,'4B Calcul. Climat Scen.'!P$412:P$422)+SUMIF('4B Calcul. Climat Scen.'!$E$412:$E$422,'4B Calcul. Climat Scen.'!$E$416,'4B Calcul. Climat Scen.'!P$412:P$422))/SUM('4B Calcul. Climat Scen.'!P$412:P$422)","v":{"$error":"#DIV/0!"}},null,"ifeu"]
[null,null,{"$f":"Indic17","v":"Share of electric vkt in rail freight transport"},{"$f":"Expl18","v":"Total electric vkt of rail freight divided by total vkt of rail freight (total vkt by electric trains and diesel)"},"%km",{"$f":"'4B Calcul. Climat Scen.'!F$301/SUM('4B Calcul. Climat Scen.'!F$300:F$301)","v":{"$error":"#DIV/0!"}},{"$f":"'4B Calcul. Climat Scen.'!G$301/SUM('4B Calcul. Climat Scen.'!G$300:G$301)","v":{"$error":"#DIV/0!"}},{"$f":"'4B Calcul. Climat Scen.'!N$424/(SUM('4B Calcul. Climat Scen.'!N$423:N$424))","v":{"$error":"#DIV/0!"}},null,{"$f":"'4B Calcul. Climat Scen.'!H$301/SUM('4B Calcul. Climat Scen.'!H$300:H$301)","v":{"$error":"#DIV/0!"}},{"$f":"'4B Calcul. Climat Scen.'!O$424/(SUM('4B Calcul. Climat Scen.'!O$423:O$424))","v":{"$error":"#DIV/0!"}},null,{"$f":"'4B Calcul. Climat Scen.'!H$301/SUM('4B Calcul. Climat Scen.'!H$300:H$301)","v":{"$error":"#DIV/0!"}},{"$f":"'4B Calcul. Climat Scen.'!P$424/(SUM('4B Calcul. Climat Scen.'!P$423:P$424))","v":{"$error":"#DIV/0!"}},null,"ifeu"]
[]
[]
[{"$f":"donottouch","v":"Do not touch - for graphic purposes"}]
[{"$f":"Graph7&'3 Overview of results'!$D$12","v":"Inventory of GHG emissions from transportation TTW"}]
[{"$f":"Graph8&'3 Overview of results'!$D$12&ttghg","v":"Total GHG emissions for passenger and freight transport TTW 1000 t GHG "}]
[{"$f":"avoidedGHGcum&'3 Overview of results'!$D$12&ttghg","v":"Avoided cumulated GHG TTW 1000 t GHG "},null,"Jahr",{"$f":"scenario","v":"Scenario"},{"$f":"Pass","v":"Passengers"},{"$f":"freight","v":"Freight"},{"$f":"Total","v":"Sum"},"Sockel","Differenz","Anzeige"]
[{"$f":"unitgraph&'3 Overview of results'!$D$12","v":"GHG in thousand tCO2e TTW"},null,{"$f":"$B$4","v":0},"BAU",{"$f":"K29","v":0},{"$f":"K30","v":0},{"$f":"SUM(E125:F125)","v":0}]
[null,null,null,null,null,null,null,{"$f":"MIN(G125:G127)","v":0},{"$f":"ABS(G125-G127)","v":0},{"$f":"G127/G125-1","v":{"$error":"#DIV/0!"}}]
[null,null,null,"Climate",{"$f":"K29","v":0},{"$f":"K30","v":0},{"$f":"SUM(E127:F127)","v":0},null,{"$f":"I126","v":0}]
[null,null," "]
[null,null,2020,"BAU",{"$f":"D$29","v":0},{"$f":"D30","v":0},0]
[null,null,null,null,null,null,null,{"$f":"MIN(G129:G131)","v":0},{"$f":"ABS(G129-G131)","v":0},{"$f":"G131/G129-1","v":{"$error":"#DIV/0!"}}]
[null,null,null,"Climate",{"$f":"L29","v":0},{"$f":"L30","v":0},0,null,{"$f":"I130","v":0}]
[null,null," "]
[null,null,2025,"BAU",{"$f":"E29","v":0},{"$f":"E30","v":0},0]
[null,null,null,null,null,null,null,{"$f":"MIN(G133:G135)","v":0},{"$f":"ABS(G133-G135)","v":0},{"$f":"G135/G133-1","v":{"$error":"#DIV/0!"}}]
[null,null,null,"Climate",{"$f":"M29","v":0},{"$f":"M30","v":0},0,null,{"$f":"I134","v":0}]
[null,null," "]
[null,null,2030,"BAU",{"$f":"F29","v":0},{"$f":"F30","v":0},0]
[null,null,null,null,null,null,null,{"$f":"MIN(G137:G139)","v":0},{"$f":"ABS(G137-G139)","v":0},{"$f":"G139/G137-1","v":{"$error":"#DIV/0!"}}]
[null,null,null,"Climate",{"$f":"N29","v":0},{"$f":"N30","v":0},0,null,{"$f":"I138","v":0}]
[null,null," "]
[null,null,2040,"BAU",{"$f":"G29","v":0},{"$f":"G30","v":0},0]
[null,null,null,null,null,null,null,{"$f":"MIN(G141:G143)","v":0},{"$f":"ABS(G141-G143)","v":0},{"$f":"G143/G141-1","v":{"$error":"#DIV/0!"}}]
[null,null,null,"Climate",{"$f":"O29","v":0},{"$f":"O30","v":0},0,null,{"$f":"I142","v":0}]
[null,null," "]
[null,null,2050,"BAU",{"$f":"H29","v":0},{"$f":"H30","v":0},0]
[null,null,null,null,null,null,null,{"$f":"MIN(G145:G147)","v":0},{"$f":"ABS(G145-G147)","v":0},{"$f":"G147/G145-1","v":{"$error":"#DIV/0!"}}]
[null,null,null,"Climate",{"$f":"P29","v":0},{"$f":"P30","v":0},0,null,{"$f":"I146","v":0}]
[]
[]
[null,null,null,{"$f":"Graph9","v":"avoided cumulative GHGs "}]
[null,null,null,2020,2025,2030,2040,2050]
[null,null,{"$f":"Pass","v":"Passengers"},{"$f":"ROUND(SUM($D159:G159),2)","v":0},{"$f":"ROUND(SUM($I159:M159,D152),2)","v":0},{"$f":"ROUND(SUM($N159:R159,E152),2)","v":0},{"$f":"ROUND(SUM($S159:AB159,F152),2)","v":0},{"$f":"ROUND(SUM($AC159:AL159,G152),2)","v":0}]
[null,null,{"$f":"goods","v":"Freight"},{"$f":"ROUND(SUM($D160:G160),2)","v":0},{"$f":"ROUND(SUM($I160:M160,D153),2)","v":0},{"$f":"ROUND(SUM($N160:R160,E153),2)","v":0},{"$f":"ROUND(SUM($S160:AB160,F153),2)","v":0},{"$f":"ROUND(SUM($AC160:AL160,G153),2)","v":0}]
[null,null,"Total",{"$f":"ROUND(SUM($D161:G161),2)","v":0},{"$f":"ROUND(SUM($I161:M161,D154),2)","v":0},{"$f":"ROUND(SUM($N161:R161,E154),2)","v":0},{"$f":"ROUND(SUM($S161:AB161,F154),2)","v":0},{"$f":"ROUND(SUM($AC161:AL161,G154),2)","v":0}]
[]
[null,null,"GES évitées"]
[null,null,"Scénario BAU vs Climat",{"$f":"+\"Emissions de GES [1000t CO2-eq] \"&'3 Overview of results'!$D$12","v":"Emissions de GES [1000t CO2-eq] TTW"}]
[null,null,null,{"$f":"$B$4","v":0},2017,2018,2019,2020,2021,2022,2023,2024,2025,2026,2027,2028,2029,2030,2031,2032,2033,2034,2035,2036,2037,2038,2039,2040,2041,2042,2043,2044,2045,2046,2047,2048,2049,2050]
[null,null,{"$f":"Pass","v":"Passengers"},{"$f":"1*10^-19","v":9.9999999999999998E-20},{"$f":"IFERROR(IF($H159>0,D159*($H$159/$D$159)^(1/4),\"\"),\"\")","v":""},{"$f":"IFERROR(IF($H159>0,E159*($H$159/$D$159)^(1/4),\"\"),\"\")","v":""},"",{"$f":"'3 Overview of results'!D29-'3 Overview of results'!L29","v":0},{"$f":"IFERROR(IF($M159>0,H159*(($M159/$H159)^(1/5)),\"\"),\"\")","v":""},{"$f":"IFERROR(IF($M159>0,I159*(($M159/$H159)^(1/5)),\"\"),\"\")","v":""},"","",{"$f":"'3 Overview of results'!E29-'3 Overview of results'!M29","v":0},{"$f":"IFERROR(IF($R159>0,M159*(($R159/$M159)^(1/5)),\"\"),\"\")","v":""},{"$f":"IFERROR(IF($R159>0,N159*(($R159/$M159)^(1/5)),\"\"),\"\")","v":""},"",{"$f":"IFERROR(IF($R159>0,P159*(($R159/$M159)^(1/5)),\"\"),\"\")","v":""},{"$f":"'3 Overview of results'!F29-'3 Overview of results'!N29","v":0},{"$f":"IFERROR(IF($AB159>0,R159*(($AB159/$R159)^(1/10)),\"\"),\"\")","v":""},{"$f":"IFERROR(IF($AB159>0,S159*(($AB159/$R159)^(1/10)),\"\"),\"\")","v":""},"","","","","","","",{"$f":"G29-O29","v":0},{"$f":"IFERROR(IF($AL159>0,AB159*(($AL159/$AB159)^(1/10)),\"\"),\"\")","v":""},{"$f":"IFERROR(IF($AL159>0,AC159*(($AL159/$AB159)^(1/10)),\"\"),\"\")","v":""},"","","","","","","",{"$f":"H29-P29","v":0}]
[null,null,{"$f":"goods","v":"Freight"},{"$f":"1*10^-19","v":9.9999999999999998E-20},{"$f":"IFERROR(IF($H160>0,D160*($H$159/$D$159)^(1/4),\"\"),\"\")","v":""},"","",{"$f":"'3 Overview of results'!D30-'3 Overview of results'!L30","v":0},{"$f":"IFERROR(IF($M160>0,H160*(($M160/$H160)^(1/5)),\"\"),\"\")","v":""},"","","",{"$f":"'3 Overview of results'!E30-'3 Overview of results'!M30","v":0},{"$f":"IFERROR(IF($R160>0,M160*(($R160/$M160)^(1/5)),\"\"),\"\")","v":""},"","","",{"$f":"'3 Overview of results'!F30-'3 Overview of results'!N30","v":0},{"$f":"IFERROR(IF($AB160>0,R160*(($AB160/$R160)^(1/10)),\"\"),\"\")","v":""},"","","","","","","","",{"$f":"G30-O30","v":0},{"$f":"IFERROR(IF($AL160>0,AB160*(($AL160/$AB160)^(1/10)),\"\"),\"\")","v":""},"","","","","","","","",{"$f":"H30-P30","v":0}]
[null,null,"Total",{"$f":"1*10^-19","v":9.9999999999999998E-20},"","","",{"$f":"'3 Overview of results'!D31-'3 Overview of results'!L31","v":0},"","","","",{"$f":"'3 Overview of results'!E31-'3 Overview of results'!M31","v":0},"","","","",{"$f":"'3 Overview of results'!F31-'3 Overview of results'!N31","v":0},{"$f":"IFERROR(IF($AB161>0,R161*(($AB161/$R161)^(1/10)),\"\"),\"\")","v":""},"","","","","","","","",0,{"$f":"IFERROR(IF($AL161>0,AB161*(($AL161/$AB161)^(1/10)),\"\"),\"\")","v":""},"","","","","","","","",0]

{"sheet":"4A Calcul. BAU city","index":6,"n_rows":62,"n_cols":54,"rows_kept":62,"cut":false,"hidden":false,"merged":[[2,3,2,21],[3,3,5,21],[9,42,9,53],[8,42,8,53],[9,2,10,2],[9,3,10,3],[9,4,10,4],[9,29,9,34],[9,35,9,40],[10,42,10,47],[10,48,10,53],[10,29,10,34],[9,22,9,27],[10,22,10,27],[8,21,8,27],[8,29,8,40],[10,35,10,40],[9,13,9,20],[10,13,10,19],[8,13,8,20],[3,0,3,1],[9,0,10,0],[9,1,10,1],[9,6,9,11],[10,6,10,11],[8,6,8,11],[8,0,8,4]]}
[{"$f":"subsector","v":"Sub-sector"},{"$f":"Roadandrail","v":"Road and rail"}]
[{"$f":"Candc","v":"Country and city"},{"$f":"'Get started'!C6","v":"xx"}]
[{"$f":"yearref","v":"Reference year"},{"$f":"'Get started'!C7","v":0},null,{"$f":"Text11","v":"3A Calcul. BAU city"}]
[null,null,null,{"$f":"Text12","v":"This tab shows the calculations for the BAU scenario for information. No input is required."}]
[]
[]
[null,null,null,null,null,null," "]
[]
[{"$f":"vehiclespec","v":"Vehicle specifications"},null,null,null,null,null,{"$f":"totalkm","v":"Total vkt"},null,null,null,null,null,null,{"$f":"avcons","v":"Average energy consumption  [l-kW-kg/100 km]"},null,null,null,null,null,null,null,{"$f":"Enfact","v":"Emission and energy factors"},null,null,null,null,null,null,null,{"$f":"fuelGHG","v":"Total energy consumption and GHG emissions"},null,null,null,null,null,null,null,null,null,null,null,null,{"$f":"transportperfBAU","v":"Transport performance [Mio. pkm]"}]
[{"$f":"Secteur","v":"Sector"},{"$f":"Category","v":"Category"},{"$f":"Subcategory","v":"Subcategory"},{"$f":"Transporttype","v":"Transport type"},{"$f":"Fuel","v":"Fuel type"},null,null,null,null,null,null,null,null,null,null,null,null,null,null,null,null,"PCI",{"$f":"EFCO2","v":"Emission factors CO2e TTW (kg/TJ)"},null,null,null,null,null,null,{"$f":"totalfuelcons","v":"Total energy consumption"},null,null,null,null,null,{"$f":"Referencing!B133&'3 Overview of results'!$D$12","v":"Total emission CO2e [1000t] TTW"},{"$f":"+\"Total émissions CO2 eq \"&'3 Overview of results'!$D$12","v":"Total émissions CO2 eq TTW"},{"$f":"+\"Total émissions CO2 eq \"&'3 Overview of results'!$D$12","v":"Total émissions CO2 eq TTW"},{"$f":"+\"Total émissions CO2 eq \"&'3 Overview of results'!$D$12","v":"Total émissions CO2 eq TTW"},{"$f":"+\"Total émissions CO2 eq \"&'3 Overview of results'!$D$12","v":"Total émissions CO2 eq TTW"},{"$f":"+\"Total émissions CO2 eq \"&'3 Overview of results'!$D$12","v":"Total émissions CO2 eq TTW"},null,{"$f":"transportperfBAU","v":"Transport performance [Mio. pkm]"}]
[null,null,null,null,null,null,{"$f":"Milannualkm","v":"Vehicle kilometers travelled [Mio. km]"},null,null,null,null,null,null,{"$f":"Values","v":"Values"},null,null,null,null,null,null,{"$f":"Source","v":"Source"},"MJ/l/kg/kWh","kg/TJ",null,null,null,null,null,null,"TJ",null,null,null,null,null,"1000 t",null,null,null,null,null,null,{"$f":"Miopkm","v":"Mio. pkm"},null,null,null,null,null,{"$f":"Miotkm","v":"Mio. tkm"}]
[null,null,null,null,{"$f":"Unit","v":"Unit"},null,{"$f":"+$B$3","v":0},2020,2025,2030,2040,2050,null,{"$f":"Unit","v":"Unit"},2016,2020,2025,2030,2040,2050,null,null,{"$f":"+$B$3","v":0},2020,2025,2030,2040,2050,null,{"$f":"+$B$3","v":0},2020,2025,2030,2040,2050,{"$f":"+$B$3","v":0},2020,2025,2030,2040,2050,null,{"$f":"+$B$3","v":0},2020,2025,2030,2040,2050,{"$f":"+$B$3","v":0},2020,2025,2030,2040,2050]
[{"$f":"NMT","v":"NMT"},{"$f":"NMT","v":"NMT"},{"$f":"NMT","v":"NMT"},{"$f":"Pass","v":"Passengers"},{"$f":"nd","v":"n.d."},null,{"$f":"+SUMIFS('1A Input Base and BAU'!C$49:C$64,'1A Input Base and BAU'!$B$49:$B$64,'4A Calcul. BAU city'!$C13)*SUMIFS('1A Input Base and BAU'!D$100:D$163,'1A Input Base and BAU'!$B$100:$B$163,$C13,'1A Input Base and BAU'!$C$100:$C$163,$E13)","v":0},{"$f":"+SUMIFS('1A Input Base and BAU'!D$49:D$64,'1A Input Base and BAU'!$B$49:$B$64,'4A Calcul. BAU city'!$C13)*SUMIFS('1A Input Base and BAU'!E$100:E$163,'1A Input Base and BAU'!$B$100:$B$163,$C13,'1A Input Base and BAU'!$C$100:$C$163,$E13)","v":0},{"$f":"+SUMIFS('1A Input Base and BAU'!E$49:E$64,'1A Input Base and BAU'!$B$49:$B$64,'4A Calcul. BAU city'!$C13)*SUMIFS('1A Input Base and BAU'!F$100:F$163,'1A Input Base and BAU'!$B$100:$B$163,$C13,'1A Input Base and BAU'!$C$100:$C$163,$E13)","v":0},{"$f":"+SUMIFS('1A Input Base and BAU'!F$49:F$64,'1A Input Base and BAU'!$B$49:$B$64,'4A Calcul. BAU city'!$C13)*SUMIFS('1A Input Base and BAU'!G$100:G$163,'1A Input Base and BAU'!$B$100:$B$163,$C13,'1A Input Base and BAU'!$C$100:$C$163,$E13)","v":0},{"$f":"+SUMIFS('1A Input Base and BAU'!G$49:G$64,'1A Input Base and BAU'!$B$49:$B$64,'4A Calcul. BAU city'!$C13)*SUMIFS('1A Input Base and BAU'!H$100:H$163,'1A Input Base and BAU'!$B$100:$B$163,$C13,'1A Input Base and BAU'!$C$100:$C$163,$E13)","v":0},{"$f":"+SUMIFS('1A Input Base and BAU'!H$49:H$64,'1A Input Base and BAU'!$B$49:$B$64,'4A Calcul. BAU city'!$C13)*SUMIFS('1A Input Base and BAU'!I$100:I$163,'1A Input Base and BAU'!$B$100:$B$163,$C13,'1A Input Base and BAU'!$C$100:$C$163,$E13)","v":0},null,null,null,{"$f":"+SUMIFS('1A Input Base and BAU'!F$173:F$221,'1A Input Base and BAU'!$B$173:$B$221,'4A Calcul. BAU city'!$C13,'1A Input Base and BAU'!$D$173:$D$221,'4A Calcul. BAU city'!$E13)","v":0},{"$f":"+SUMIFS('1A Input Base and BAU'!G$173:G$221,'1A Input Base and BAU'!$B$173:$B$221,'4A Calcul. BAU city'!$C13,'1A Input Base and BAU'!$D$173:$D$221,'4A Calcul. BAU city'!$E13)","v":0},{"$f":"+SUMIFS('1A Input Base and BAU'!H$173:H$221,'1A Input Base and BAU'!$B$173:$B$221,'4A Calcul. BAU city'!$C13,'1A Input Base and BAU'!$D$173:$D$221,'4A Calcul. BAU city'!$E13)","v":0},{"$f":"+SUMIFS('1A Input Base and BAU'!I$173:I$221,'1A Input Base and BAU'!$B$173:$B$221,'4A Calcul. BAU city'!$C13,'1A Input Base and BAU'!$D$173:$D$221,'4A Calcul. BAU city'!$E13)","v":0},{"$f":"+SUMIFS('1A Input Base and BAU'!J$173:J$221,'1A Input Base and BAU'!$B$173:$B$221,'4A Calcul. BAU city'!$C13,'1A Input Base and BAU'!$D$173:$D$221,'4A Calcul. BAU city'!$E13)","v":0},null,{"$f":"+IFERROR(VLOOKUP($A13&\" - \"&$E13,'6 Defaults parameters'!$B$9:$O$18,4,FALSE)*VLOOKUP($A13&\" - \"&$E13,'6 Defaults parameters'!$B$9:$O$18,3,FALSE),0)","v":0},null,null,null,null,null,null,{"$f":"\"\"","v":""},{"$f":"$V13*G13*O13/100","v":0},{"$f":"$V13*H13*P13/100","v":0},{"$f":"$V13*I13*Q13/100","v":0},{"$f":"$V13*J13*R13/100","v":0},{"$f":"$V13*K13*S13/100","v":0},{"$f":"$V13*L13*T13/100","v":0},{"$f":"+W13*AD13/10^6","v":0},{"$f":"+X13*AE13/10^6","v":0},0,0,0,0,null,{"$f":"G13*SUMIFS('1A Input Base and BAU'!$D$74:$D$89,'1A Input Base and BAU'!$B$74:$B$89,'4A Calcul. BAU city'!$C13)","v":0},{"$f":"H13*SUMIFS('1A Input Base and BAU'!$D$74:$D$89,'1A Input Base and BAU'!$B$74:$B$89,'4A Calcul. BAU city'!$C13)","v":0},{"$f":"I13*SUMIFS('1A Input Base and BAU'!$D$74:$D$89,'1A Input Base and BAU'!$B$74:$B$89,'4A Calcul. BAU city'!$C13)","v":0},{"$f":"J13*SUMIFS('1A Input Base and BAU'!$D$74:$D$89,'1A Input Base and BAU'!$B$74:$B$89,'4A Calcul. BAU city'!$C13)","v":0},{"$f":"K13*SUMIFS('1A Input Base and BAU'!$D$74:$D$89,'1A Input Base and BAU'!$B$74:$B$89,'4A Calcul. BAU city'!$C13)","v":0},{"$f":"L13*SUMIFS('1A Input Base and BAU'!$D$74:$D$89,'1A Input Base and BAU'!$B$74:$B$89,'4A Calcul. BAU city'!$C13)","v":0},{"$f":"\"\"","v":""},{"$f":"\"\"","v":""},{"$f":"\"\"","v":""},{"$f":"\"\"","v":""},{"$f":"\"\"","v":""},{"$f":"\"\"","v":""}]
[{"$f":"Road","v":"Road"},{"$f":"Pcar","v":"Private car"},"Private car","Passengers",{"$f":"Gasoline","v":"Gasoline"},null,{"$f":"+SUMIFS('1A Input Base and BAU'!C$49:C$64,'1A Input Base and BAU'!$B$49:$B$64,'4A Calcul. BAU city'!$C14)*SUMIFS('1A Input Base and BAU'!D$100:D$163,'1A Input Base and BAU'!$B$100:$B$163,$C14,'1A Input Base and BAU'!$C$100:$C$163,$E14)","v":0},{"$f":"+SUMIFS('1A Input Base and BAU'!D$49:D$64,'1A Input Base and BAU'!$B$49:$B$64,'4A Calcul. BAU city'!$C14)*SUMIFS('1A Input Base and BAU'!E$100:E$163,'1A Input Base and BAU'!$B$100:$B$163,$C14,'1A Input Base and BAU'!$C$100:$C$163,$E14)","v":0},{"$f":"+SUMIFS('1A Input Base and BAU'!E$49:E$64,'1A Input Base and BAU'!$B$49:$B$64,'4A Calcul. BAU city'!$C14)*SUMIFS('1A Input Base and BAU'!F$100:F$163,'1A Input Base and BAU'!$B$100:$B$163,$C14,'1A Input Base and BAU'!$C$100:$C$163,$E14)","v":0},{"$f":"+SUMIFS('1A Input Base and BAU'!F$49:F$64,'1A Input Base and BAU'!$B$49:$B$64,'4A Calcul. BAU city'!$C14)*SUMIFS('1A Input Base and BAU'!G$100:G$163,'1A Input Base and BAU'!$B$100:$B$163,$C14,'1A Input Base and BAU'!$C$100:$C$163,$E14)","v":0},{"$f":"+SUMIFS('1A Input Base and BAU'!G$49:G$64,'1A Input Base and BAU'!$B$49:$B$64,'4A Calcul. BAU city'!$C14)*SUMIFS('1A Input Base and BAU'!H$100:H$163,'1A Input Base and BAU'!$B$100:$B$163,$C14,'1A Input Base and BAU'!$C$100:$C$163,$E14)","v":0},{"$f":"+SUMIFS('1A Input Base and BAU'!H$49:H$64,'1A Input Base and BAU'!$B$49:$B$64,'4A Calcul. BAU city'!$C14)*SUMIFS('1A Input Base and BAU'!I$100:I$163,'1A Input Base and BAU'!$B$100:$B$163,$C14,'1A Input Base and BAU'!$C$100:$C$163,$E14)","v":0},null,"l/100 km",{"$f":"+SUMIFS('1A Input Base and BAU'!E$173:E$221,'1A Input Base and BAU'!$B$173:$B$221,'4A Calcul. BAU city'!$C14,'1A Input Base and BAU'!$C$173:$C$221,'4A Calcul. BAU city'!$E14)","v":0},{"$f":"+SUMIFS('1A Input Base and BAU'!F$173:F$221,'1A Input Base and BAU'!$B$173:$B$221,'4A Calcul. BAU city'!$C14,'1A Input Base and BAU'!$C$173:$C$221,'4A Calcul. BAU city'!$E14)","v":0},{"$f":"+SUMIFS('1A Input Base and BAU'!G$173:G$221,'1A Input Base and BAU'!$B$173:$B$221,'4A Calcul. BAU city'!$C14,'1A Input Base and BAU'!$C$173:$C$221,'4A Calcul. BAU city'!$E14)","v":0},{"$f":"+SUMIFS('1A Input Base and BAU'!H$173:H$221,'1A Input Base and BAU'!$B$173:$B$221,'4A Calcul. BAU city'!$C14,'1A Input Base and BAU'!$C$173:$C$221,'4A Calcul. BAU city'!$E14)","v":0},{"$f":"+SUMIFS('1A Input Base and BAU'!I$173:I$221,'1A Input Base and BAU'!$B$173:$B$221,'4A Calcul. BAU city'!$C14,'1A Input Base and BAU'!$C$173:$C$221,'4A Calcul. BAU city'!$E14)","v":0},{"$f":"+SUMIFS('1A Input Base and BAU'!J$173:J$221,'1A Input Base and BAU'!$B$173:$B$221,'4A Calcul. BAU city'!$C14,'1A Input Base and BAU'!$C$173:$C$221,'4A Calcul. BAU city'!$E14)","v":0},null,{"$f":"+IFERROR(VLOOKUP($A14&\" - \"&$E14,'6 Defaults parameters'!$B$9:$O$18,4,FALSE)*VLOOKUP($A14&\" - \"&$E14,'6 Defaults parameters'!$B$9:$O$18,3,FALSE),0)","v":32.81481481481481},{"$f":"INDEX('6 Defaults parameters'!$T$9:$Y$18,MATCH($A14&\" - \"&$E14,'6 Defaults parameters'!$B$9:$B$18,0),MATCH(W$12,'6 Defaults parameters'!$T$8:$Y$8,0))","v":71078.600000000006},{"$f":"INDEX('6 Defaults parameters'!$T$9:$Y$18,MATCH($A14&\" - \"&$E14,'6 Defaults parameters'!$B$9:$B$18,0),MATCH(X$12,'6 Defaults parameters'!$T$8:$Y$8,0))","v":71078.600000000006},{"$f":"INDEX('6 Defaults parameters'!$T$9:$Y$18,MATCH($A14&\" - \"&$E14,'6 Defaults parameters'!$B$9:$B$18,0),MATCH(Y$12,'6 Defaults parameters'!$T$8:$Y$8,0))","v":71078.600000000006},{"$f":"INDEX('6 Defaults parameters'!$T$9:$Y$18,MATCH($A14&\" - \"&$E14,'6 Defaults parameters'!$B$9:$B$18,0),MATCH(Z$12,'6 Defaults parameters'!$T$8:$Y$8,0))","v":71078.600000000006},{"$f":"INDEX('6 Defaults parameters'!$T$9:$Y$18,MATCH($A14&\" - \"&$E14,'6 Defaults parameters'!$B$9:$B$18,0),MATCH(AA$12,'6 Defaults parameters'!$T$8:$Y$8,0))","v":71078.600000000006},{"$f":"INDEX('6 Defaults parameters'!$T$9:$Y$18,MATCH($A14&\" - \"&$E14,'6 Defaults parameters'!$B$9:$B$18,0),MATCH(AB$12,'6 Defaults parameters'!$T$8:$Y$8,0))","v":71078.600000000006},{"$f":"\"\"","v":""},{"$f":"$V14*G14*O14/100","v":0},{"$f":"$V14*H14*P14/100","v":0},0,{"$f":"$V14*J14*R14/100","v":0},0,0,{"$f":"+W14*AD14/10^6","v":0},0,0,0,0,0,null,{"$f":"G14*SUMIFS('1A Input Base and BAU'!$D$74:$D$89,'1A Input Base and BAU'!$B$74:$B$89,'4A Calcul. BAU city'!$C14)","v":0},{"$f":"H14*SUMIFS('1A Input Base and BAU'!$D$74:$D$89,'1A Input Base and BAU'!$B$74:$B$89,'4A Calcul. BAU city'!$C14)","v":0},{"$f":"I14*SUMIFS('1A Input Base and BAU'!$D$74:$D$89,'1A Input Base and BAU'!$B$74:$B$89,'4A Calcul. BAU city'!$C14)","v":0},{"$f":"J14*SUMIFS('1A Input Base and BAU'!$D$74:$D$89,'1A Input Base and BAU'!$B$74:$B$89,'4A Calcul. BAU city'!$C14)","v":0},{"$f":"K14*SUMIFS('1A Input Base and BAU'!$D$74:$D$89,'1A Input Base and BAU'!$B$74:$B$89,'4A Calcul. BAU city'!$C14)","v":0},{"$f":"L14*SUMIFS('1A Input Base and BAU'!$D$74:$D$89,'1A Input Base and BAU'!$B$74:$B$89,'4A Calcul. BAU city'!$C14)","v":0},{"$f":"\"\"","v":""},{"$f":"\"\"","v":""},{"$f":"\"\"","v":""},{"$f":"\"\"","v":""},{"$f":"\"\"","v":""},{"$f":"\"\"","v":""}]
["Road","Private car","Private car","Passengers",{"$f":"Diesel","v":"Diesel"},null,{"$f":"+SUMIFS('1A Input Base and BAU'!C$49:C$64,'1A Input Base and BAU'!$B$49:$B$64,'4A Calcul. BAU city'!$C15)*SUMIFS('1A Input Base and BAU'!D$100:D$163,'1A Input Base and BAU'!$B$100:$B$163,$C15,'1A Input Base and BAU'!$C$100:$C$163,$E15)","v":0},{"$f":"+SUMIFS('1A Input Base and BAU'!D$49:D$64,'1A Input Base and BAU'!$B$49:$B$64,'4A Calcul. BAU city'!$C15)*SUMIFS('1A Input Base and BAU'!E$100:E$163,'1A Input Base and BAU'!$B$100:$B$163,$C15,'1A Input Base and BAU'!$C$100:$C$163,$E15)","v":0},{"$f":"+SUMIFS('1A Input Base and BAU'!E$49:E$64,'1A Input Base and BAU'!$B$49:$B$64,'4A Calcul. BAU city'!$C15)*SUMIFS('1A Input Base and BAU'!F$100:F$163,'1A Input Base and BAU'!$B$100:$B$163,$C15,'1A Input Base and BAU'!$C$100:$C$163,$E15)","v":0},{"$f":"+SUMIFS('1A Input Base and BAU'!F$49:F$64,'1A Input Base and BAU'!$B$49:$B$64,'4A Calcul. BAU city'!$C15)*SUMIFS('1A Input Base and BAU'!G$100:G$163,'1A Input Base and BAU'!$B$100:$B$163,$C15,'1A Input Base and BAU'!$C$100:$C$163,$E15)","v":0},{"$f":"+SUMIFS('1A Input Base and BAU'!G$49:G$64,'1A Input Base and BAU'!$B$49:$B$64,'4A Calcul. BAU city'!$C15)*SUMIFS('1A Input Base and BAU'!H$100:H$163,'1A Input Base and BAU'!$B$100:$B$163,$C15,'1A Input Base and BAU'!$C$100:$C$163,$E15)","v":0},{"$f":"+SUMIFS('1A Input Base and BAU'!H$49:H$64,'1A Input Base and BAU'!$B$49:$B$64,'4A Calcul. BAU city'!$C15)*SUMIFS('1A Input Base and BAU'!I$100:I$163,'1A Input Base and BAU'!$B$100:$B$163,$C15,'1A Input Base and BAU'!$C$100:$C$163,$E15)","v":0},null,"l/100 km",{"$f":"+SUMIFS('1A Input Base and BAU'!E$173:E$221,'1A Input Base and BAU'!$B$173:$B$221,'4A Calcul. BAU city'!$C15,'1A Input Base and BAU'!$C$173:$C$221,'4A Calcul. BAU city'!$E15)","v":0},{"$f":"+SUMIFS('1A Input Base and BAU'!F$173:F$221,'1A Input Base and BAU'!$B$173:$B$221,'4A Calcul. BAU city'!$C15,'1A Input Base and BAU'!$C$173:$C$221,'4A Calcul. BAU city'!$E15)","v":0},{"$f":"+SUMIFS('1A Input Base and BAU'!G$173:G$221,'1A Input Base and BAU'!$B$173:$B$221,'4A Calcul. BAU city'!$C15,'1A Input Base and BAU'!$C$173:$C$221,'4A Calcul. BAU city'!$E15)","v":0},{"$f":"+SUMIFS('1A Input Base and BAU'!H$173:H$221,'1A Input Base and BAU'!$B$173:$B$221,'4A Calcul. BAU city'!$C15,'1A Input Base and BAU'!$C$173:$C$221,'4A Calcul. BAU city'!$E15)","v":0},{"$f":"+SUMIFS('1A Input Base and BAU'!I$173:I$221,'1A Input Base and BAU'!$B$173:$B$221,'4A Calcul. BAU city'!$C15,'1A Input Base and BAU'!$C$173:$C$221,'4A Calcul. BAU city'!$E15)","v":0},{"$f":"+SUMIFS('1A Input Base and BAU'!J$173:J$221,'1A Input Base and BAU'!$B$173:$B$221,'4A Calcul. BAU city'!$C15,'1A Input Base and BAU'!$C$173:$C$221,'4A Calcul. BAU city'!$E15)","v":0},null,{"$f":"+IFERROR(VLOOKUP($A15&\" - \"&$E15,'6 Defaults parameters'!$B$9:$O$18,4,FALSE)*VLOOKUP($A15&\" - \"&$E15,'6 Defaults parameters'!$B$9:$O$18,3,FALSE),0)","v":36.286919831223628},{"$f":"INDEX('6 Defaults parameters'!$T$9:$Y$18,MATCH($A15&\" - \"&$E15,'6 Defaults parameters'!$B$9:$B$18,0),MATCH(W$12,'6 Defaults parameters'!$T$8:$Y$8,0))","v":75359.7},{"$f":"INDEX('6 Defaults parameters'!$T$9:$Y$18,MATCH($A15&\" - \"&$E15,'6 Defaults parameters'!$B$9:$B$18,0),MATCH(X$12,'6 Defaults parameters'!$T$8:$Y$8,0))","v":75359.7},{"$f":"INDEX('6 Defaults parameters'!$T$9:$Y$18,MATCH($A15&\" - \"&$E15,'6 Defaults parameters'!$B$9:$B$18,0),MATCH(Y$12,'6 Defaults parameters'!$T$8:$Y$8,0))","v":75359.7},{"$f":"INDEX('6 Defaults parameters'!$T$9:$Y$18,MATCH($A15&\" - \"&$E15,'6 Defaults parameters'!$B$9:$B$18,0),MATCH(Z$12,'6 Defaults parameters'!$T$8:$Y$8,0))","v":75359.7},{"$f":"INDEX('6 Defaults parameters'!$T$9:$Y$18,MATCH($A15&\" - \"&$E15,'6 Defaults parameters'!$B$9:$B$18,0),MATCH(AA$12,'6 Defaults parameters'!$T$8:$Y$8,0))","v":75359.7},{"$f":"INDEX('6 Defaults parameters'!$T$9:$Y$18,MATCH($A15&\" - \"&$E15,'6 Defaults parameters'!$B$9:$B$18,0),MATCH(AB$12,'6 Defaults parameters'!$T$8:$Y$8,0))","v":75359.7},{"$f":"\"\"","v":""},{"$f":"$V15*G15*O15/100","v":0},{"$f":"$V15*H15*P15/100","v":0},0,0,0,0,{"$f":"+W15*AD15/10^6","v":0},{"$f":"+X15*AE15/10^6","v":0},{"$f":"+Y15*AF15/10^6","v":0},{"$f":"+Z15*AG15/10^6","v":0},{"$f":"+AA15*AH15/10^6","v":0},{"$f":"+AB15*AI15/10^6","v":0},null,{"$f":"G15*SUMIFS('1A Input Base and BAU'!$D$74:$D$89,'1A Input Base and BAU'!$B$74:$B$89,'4A Calcul. BAU city'!$C15)","v":0},{"$f":"H15*SUMIFS('1A Input Base and BAU'!$D$74:$D$89,'1A Input Base and BAU'!$B$74:$B$89,'4A Calcul. BAU city'!$C15)","v":0},{"$f":"I15*SUMIFS('1A Input Base and BAU'!$D$74:$D$89,'1A Input Base and BAU'!$B$74:$B$89,'4A Calcul. BAU city'!$C15)","v":0},{"$f":"J15*SUMIFS('1A Input Base and BAU'!$D$74:$D$89,'1A Input Base and BAU'!$B$74:$B$89,'4A Calcul. BAU city'!$C15)","v":0},{"$f":"K15*SUMIFS('1A Input Base and BAU'!$D$74:$D$89,'1A Input Base and BAU'!$B$74:$B$89,'4A Calcul. BAU city'!$C15)","v":0},{"$f":"L15*SUMIFS('1A Input Base and BAU'!$D$74:$D$89,'1A Input Base and BAU'!$B$74:$B$89,'4A Calcul. BAU city'!$C15)","v":0},{"$f":"\"\"","v":""},{"$f":"\"\"","v":""},{"$f":"\"\"","v":""},{"$f":"\"\"","v":""},{"$f":"\"\"","v":""},{"$f":"\"\"","v":""}]
["Road","Private car","Private car","Passengers",{"$f":"LPG","v":"LPG"},null,{"$f":"+SUMIFS('1A Input Base and BAU'!C$49:C$64,'1A Input Base and BAU'!$B$49:$B$64,'4A Calcul. BAU city'!$C16)*SUMIFS('1A Input Base and BAU'!D$100:D$163,'1A Input Base and BAU'!$B$100:$B$163,$C16,'1A Input Base and BAU'!$C$100:$C$163,$E16)","v":0},{"$f":"+SUMIFS('1A Input Base and BAU'!D$49:D$64,'1A Input Base and BAU'!$B$49:$B$64,'4A Calcul. BAU city'!$C16)*SUMIFS('1A Input Base and BAU'!E$100:E$163,'1A Input Base and BAU'!$B$100:$B$163,$C16,'1A Input Base and BAU'!$C$100:$C$163,$E16)","v":0},{"$f":"+SUMIFS('1A Input Base and BAU'!E$49:E$64,'1A Input Base and BAU'!$B$49:$B$64,'4A Calcul. BAU city'!$C16)*SUMIFS('1A Input Base and BAU'!F$100:F$163,'1A Input Base and BAU'!$B$100:$B$163,$C16,'1A Input Base and BAU'!$C$100:$C$163,$E16)","v":0},{"$f":"+SUMIFS('1A Input Base and BAU'!F$49:F$64,'1A Input Base and BAU'!$B$49:$B$64,'4A Calcul. BAU city'!$C16)*SUMIFS('1A Input Base and BAU'!G$100:G$163,'1A Input Base and BAU'!$B$100:$B$163,$C16,'1A Input Base and BAU'!$C$100:$C$163,$E16)","v":0},{"$f":"+SUMIFS('1A Input Base and BAU'!G$49:G$64,'1A Input Base and BAU'!$B$49:$B$64,'4A Calcul. BAU city'!$C16)*SUMIFS('1A Input Base and BAU'!H$100:H$163,'1A Input Base and BAU'!$B$100:$B$163,$C16,'1A Input Base and BAU'!$C$100:$C$163,$E16)","v":0},{"$f":"+SUMIFS('1A Input Base and BAU'!H$49:H$64,'1A Input Base and BAU'!$B$49:$B$64,'4A Calcul. BAU city'!$C16)*SUMIFS('1A Input Base and BAU'!I$100:I$163,'1A Input Base and BAU'!$B$100:$B$163,$C16,'1A Input Base and BAU'!$C$100:$C$163,$E16)","v":0},null,"l/100 km",{"$f":"+SUMIFS('1A Input Base and BAU'!E$173:E$221,'1A Input Base and BAU'!$B$173:$B$221,'4A Calcul. BAU city'!$C16,'1A Input Base and BAU'!$C$173:$C$221,'4A Calcul. BAU city'!$E16)","v":0},{"$f":"+SUMIFS('1A Input Base and BAU'!F$173:F$221,'1A Input Base and BAU'!$B$173:$B$221,'4A Calcul. BAU city'!$C16,'1A Input Base and BAU'!$C$173:$C$221,'4A Calcul. BAU city'!$E16)","v":0},{"$f":"+SUMIFS('1A Input Base and BAU'!G$173:G$221,'1A Input Base and BAU'!$B$173:$B$221,'4A Calcul. BAU city'!$C16,'1A Input Base and BAU'!$C$173:$C$221,'4A Calcul. BAU city'!$E16)","v":0},{"$f":"+SUMIFS('1A Input Base and BAU'!H$173:H$221,'1A Input Base and BAU'!$B$173:$B$221,'4A Calcul. BAU city'!$C16,'1A Input Base and BAU'!$C$173:$C$221,'4A Calcul. BAU city'!$E16)","v":0},{"$f":"+SUMIFS('1A Input Base and BAU'!I$173:I$221,'1A Input Base and BAU'!$B$173:$B$221,'4A Calcul. BAU city'!$C16,'1A Input Base and BAU'!$C$173:$C$221,'4A Calcul. BAU city'!$E16)","v":0},{"$f":"+SUMIFS('1A Input Base and BAU'!J$173:J$221,'1A Input Base and BAU'!$B$173:$B$221,'4A Calcul. BAU city'!$C16,'1A Input Base and BAU'!$C$173:$C$221,'4A Calcul. BAU city'!$E16)","v":0},null,{"$f":"+IFERROR(VLOOKUP($A16&\" - \"&$E16,'6 Defaults parameters'!$B$9:$O$18,4,FALSE)*VLOOKUP($A16&\" - \"&$E16,'6 Defaults parameters'!$B$9:$O$18,3,FALSE),0)","v":24.699738903394255},{"$f":"INDEX('6 Defaults parameters'!$T$9:$Y$18,MATCH($A16&\" - \"&$E16,'6 Defaults parameters'!$B$9:$B$18,0),MATCH(W$12,'6 Defaults parameters'!$T$8:$Y$8,0))","v":64709.599999999999},{"$f":"INDEX('6 Defaults parameters'!$T$9:$Y$18,MATCH($A16&\" - \"&$E16,'6 Defaults parameters'!$B$9:$B$18,0),MATCH(X$12,'6 Defaults parameters'!$T$8:$Y$8,0))","v":64709.599999999999},{"$f":"INDEX('6 Defaults parameters'!$T$9:$Y$18,MATCH($A16&\" - \"&$E16,'6 Defaults parameters'!$B$9:$B$18,0),MATCH(Y$12,'6 Defaults parameters'!$T$8:$Y$8,0))","v":64709.599999999999},{"$f":"INDEX('6 Defaults parameters'!$T$9:$Y$18,MATCH($A16&\" - \"&$E16,'6 Defaults parameters'!$B$9:$B$18,0),MATCH(Z$12,'6 Defaults parameters'!$T$8:$Y$8,0))","v":64709.599999999999},{"$f":"INDEX('6 Defaults parameters'!$T$9:$Y$18,MATCH($A16&\" - \"&$E16,'6 Defaults parameters'!$B$9:$B$18,0),MATCH(AA$12,'6 Defaults parameters'!$T$8:$Y$8,0))","v":64709.599999999999},{"$f":"INDEX('6 Defaults parameters'!$T$9:$Y$18,MATCH($A16&\" - \"&$E16,'6 Defaults parameters'!$B$9:$B$18,0),MATCH(AB$12,'6 Defaults parameters'!$T$8:$Y$8,0))","v":64709.599999999999},{"$f":"\"\"","v":""},0,0,0,0,0,0,0,0,0,0,0,0,null,{"$f":"G16*SUMIFS('1A Input Base and BAU'!$D$74:$D$89,'1A Input Base and BAU'!$B$74:$B$89,'4A Calcul. BAU city'!$C16)","v":0},{"$f":"H16*SUMIFS('1A Input Base and BAU'!$D$74:$D$89,'1A Input Base and BAU'!$B$74:$B$89,'4A Calcul. BAU city'!$C16)","v":0},{"$f":"I16*SUMIFS('1A Input Base and BAU'!$D$74:$D$89,'1A Input Base and BAU'!$B$74:$B$89,'4A Calcul. BAU city'!$C16)","v":0},{"$f":"J16*SUMIFS('1A Input Base and BAU'!$D$74:$D$89,'1A Input Base and BAU'!$B$74:$B$89,'4A Calcul. BAU city'!$C16)","v":0},{"$f":"K16*SUMIFS('1A Input Base and BAU'!$D$74:$D$89,'1A Input Base and BAU'!$B$74:$B$89,'4A Calcul. BAU city'!$C16)","v":0},{"$f":"L16*SUMIFS('1A Input Base and BAU'!$D$74:$D$89,'1A Input Base and BAU'!$B$74:$B$89,'4A Calcul. BAU city'!$C16)","v":0},{"$f":"\"\"","v":""},{"$f":"\"\"","v":""},{"$f":"\"\"","v":""},{"$f":"\"\"","v":""},{"$f":"\"\"","v":""},{"$f":"\"\"","v":""}]
["Road","Private car","Private car","Passengers",{"$f":"NG","v":"NG"},null,{"$f":"+SUMIFS('1A Input Base and BAU'!C$49:C$64,'1A Input Base and BAU'!$B$49:$B$64,'4A Calcul. BAU city'!$C17)*SUMIFS('1A Input Base and BAU'!D$100:D$163,'1A Input Base and BAU'!$B$100:$B$163,$C17,'1A Input Base and BAU'!$C$100:$C$163,$E17)","v":0},{"$f":"+SUMIFS('1A Input Base and BAU'!D$49:D$64,'1A Input Base and BAU'!$B$49:$B$64,'4A Calcul. BAU city'!$C17)*SUMIFS('1A Input Base and BAU'!E$100:E$163,'1A Input Base and BAU'!$B$100:$B$163,$C17,'1A Input Base and BAU'!$C$100:$C$163,$E17)","v":0},{"$f":"+SUMIFS('1A Input Base and BAU'!E$49:E$64,'1A Input Base and BAU'!$B$49:$B$64,'4A Calcul. BAU city'!$C17)*SUMIFS('1A Input Base and BAU'!F$100:F$163,'1A Input Base and BAU'!$B$100:$B$163,$C17,'1A Input Base and BAU'!$C$100:$C$163,$E17)","v":0},{"$f":"+SUMIFS('1A Input Base and BAU'!F$49:F$64,'1A Input Base and BAU'!$B$49:$B$64,'4A Calcul. BAU city'!$C17)*SUMIFS('1A Input Base and BAU'!G$100:G$163,'1A Input Base and BAU'!$B$100:$B$163,$C17,'1A Input Base and BAU'!$C$100:$C$163,$E17)","v":0},{"$f":"+SUMIFS('1A Input Base and BAU'!G$49:G$64,'1A Input Base and BAU'!$B$49:$B$64,'4A Calcul. BAU city'!$C17)*SUMIFS('1A Input Base and BAU'!H$100:H$163,'1A Input Base and BAU'!$B$100:$B$163,$C17,'1A Input Base and BAU'!$C$100:$C$163,$E17)","v":0},{"$f":"+SUMIFS('1A Input Base and BAU'!H$49:H$64,'1A Input Base and BAU'!$B$49:$B$64,'4A Calcul. BAU city'!$C17)*SUMIFS('1A Input Base and BAU'!I$100:I$163,'1A Input Base and BAU'!$B$100:$B$163,$C17,'1A Input Base and BAU'!$C$100:$C$163,$E17)","v":0},null,"kg/100km",{"$f":"+SUMIFS('1A Input Base and BAU'!E$173:E$221,'1A Input Base and BAU'!$B$173:$B$221,'4A Calcul. BAU city'!$C17,'1A Input Base and BAU'!$C$173:$C$221,'4A Calcul. BAU city'!$E17)","v":0},{"$f":"+SUMIFS('1A Input Base and BAU'!F$173:F$221,'1A Input Base and BAU'!$B$173:$B$221,'4A Calcul. BAU city'!$C17,'1A Input Base and BAU'!$C$173:$C$221,'4A Calcul. BAU city'!$E17)","v":0},{"$f":"+SUMIFS('1A Input Base and BAU'!G$173:G$221,'1A Input Base and BAU'!$B$173:$B$221,'4A Calcul. BAU city'!$C17,'1A Input Base and BAU'!$C$173:$C$221,'4A Calcul. BAU city'!$E17)","v":0},{"$f":"+SUMIFS('1A Input Base and BAU'!H$173:H$221,'1A Input Base and BAU'!$B$173:$B$221,'4A Calcul. BAU city'!$C17,'1A Input Base and BAU'!$C$173:$C$221,'4A Calcul. BAU city'!$E17)","v":0},{"$f":"+SUMIFS('1A Input Base and BAU'!I$173:I$221,'1A Input Base and BAU'!$B$173:$B$221,'4A Calcul. BAU city'!$C17,'1A Input Base and BAU'!$C$173:$C$221,'4A Calcul. BAU city'!$E17)","v":0},{"$f":"+SUMIFS('1A Input Base and BAU'!J$173:J$221,'1A Input Base and BAU'!$B$173:$B$221,'4A Calcul. BAU city'!$C17,'1A Input Base and BAU'!$C$173:$C$221,'4A Calcul. BAU city'!$E17)","v":0},null,{"$f":"+IFERROR(VLOOKUP($A17&\" - \"&$E17,'6 Defaults parameters'!$B$9:$O$18,4,FALSE)*VLOOKUP($A17&\" - \"&$E17,'6 Defaults parameters'!$B$9:$O$18,3,FALSE),0)","v":48},{"$f":"INDEX('6 Defaults parameters'!$T$9:$Y$18,MATCH($A17&\" - \"&$E17,'6 Defaults parameters'!$B$9:$B$18,0),MATCH(W$12,'6 Defaults parameters'!$T$8:$Y$8,0))","v":59294},{"$f":"INDEX('6 Defaults parameters'!$T$9:$Y$18,MATCH($A17&\" - \"&$E17,'6 Defaults parameters'!$B$9:$B$18,0),MATCH(X$12,'6 Defaults parameters'!$T$8:$Y$8,0))","v":59294},{"$f":"INDEX('6 Defaults parameters'!$T$9:$Y$18,MATCH($A17&\" - \"&$E17,'6 Defaults parameters'!$B$9:$B$18,0),MATCH(Y$12,'6 Defaults parameters'!$T$8:$Y$8,0))","v":59294},{"$f":"INDEX('6 Defaults parameters'!$T$9:$Y$18,MATCH($A17&\" - \"&$E17,'6 Defaults parameters'!$B$9:$B$18,0),MATCH(Z$12,'6 Defaults parameters'!$T$8:$Y$8,0))","v":59294},{"$f":"INDEX('6 Defaults parameters'!$T$9:$Y$18,MATCH($A17&\" - \"&$E17,'6 Defaults parameters'!$B$9:$B$18,0),MATCH(AA$12,'6 Defaults parameters'!$T$8:$Y$8,0))","v":59294},{"$f":"INDEX('6 Defaults parameters'!$T$9:$Y$18,MATCH($A17&\" - \"&$E17,'6 Defaults parameters'!$B$9:$B$18,0),MATCH(AB$12,'6 Defaults parameters'!$T$8:$Y$8,0))","v":59294},null,0,0,0,0,0,0,0,0,0,0,0,0,null,{"$f":"G17*SUMIFS('1A Input Base and BAU'!$D$74:$D$89,'1A Input Base and BAU'!$B$74:$B$89,'4A Calcul. BAU city'!$C17)","v":0},{"$f":"H17*SUMIFS('1A Input Base and BAU'!$D$74:$D$89,'1A Input Base and BAU'!$B$74:$B$89,'4A Calcul. BAU city'!$C17)","v":0},{"$f":"I17*SUMIFS('1A Input Base and BAU'!$D$74:$D$89,'1A Input Base and BAU'!$B$74:$B$89,'4A Calcul. BAU city'!$C17)","v":0},{"$f":"J17*SUMIFS('1A Input Base and BAU'!$D$74:$D$89,'1A Input Base and BAU'!$B$74:$B$89,'4A Calcul. BAU city'!$C17)","v":0},{"$f":"K17*SUMIFS('1A Input Base and BAU'!$D$74:$D$89,'1A Input Base and BAU'!$B$74:$B$89,'4A Calcul. BAU city'!$C17)","v":0},{"$f":"L17*SUMIFS('1A Input Base and BAU'!$D$74:$D$89,'1A Input Base and BAU'!$B$74:$B$89,'4A Calcul. BAU city'!$C17)","v":0}]
["Road","Private car","Private car","Passengers",{"$f":"Hybrid","v":"Hybrid"},null,{"$f":"+SUMIFS('1A Input Base and BAU'!C$49:C$64,'1A Input Base and BAU'!$B$49:$B$64,'4A Calcul. BAU city'!$C18)*SUMIFS('1A Input Base and BAU'!D$100:D$163,'1A Input Base and BAU'!$B$100:$B$163,$C18,'1A Input Base and BAU'!$C$100:$C$163,$E18)","v":0},{"$f":"+SUMIFS('1A Input Base and BAU'!D$49:D$64,'1A Input Base and BAU'!$B$49:$B$64,'4A Calcul. BAU city'!$C18)*SUMIFS('1A Input Base and BAU'!E$100:E$163,'1A Input Base and BAU'!$B$100:$B$163,$C18,'1A Input Base and BAU'!$C$100:$C$163,$E18)","v":0},{"$f":"+SUMIFS('1A Input Base and BAU'!E$49:E$64,'1A Input Base and BAU'!$B$49:$B$64,'4A Calcul. BAU city'!$C18)*SUMIFS('1A Input Base and BAU'!F$100:F$163,'1A Input Base and BAU'!$B$100:$B$163,$C18,'1A Input Base and BAU'!$C$100:$C$163,$E18)","v":0},{"$f":"+SUMIFS('1A Input Base and BAU'!F$49:F$64,'1A Input Base and BAU'!$B$49:$B$64,'4A Calcul. BAU city'!$C18)*SUMIFS('1A Input Base and BAU'!G$100:G$163,'1A Input Base and BAU'!$B$100:$B$163,$C18,'1A Input Base and BAU'!$C$100:$C$163,$E18)","v":0},{"$f":"+SUMIFS('1A Input Base and BAU'!G$49:G$64,'1A Input Base and BAU'!$B$49:$B$64,'4A Calcul. BAU city'!$C18)*SUMIFS('1A Input Base and BAU'!H$100:H$163,'1A Input Base and BAU'!$B$100:$B$163,$C18,'1A Input Base and BAU'!$C$100:$C$163,$E18)","v":0},{"$f":"+SUMIFS('1A Input Base and BAU'!H$49:H$64,'1A Input Base and BAU'!$B$49:$B$64,'4A Calcul. BAU city'!$C18)*SUMIFS('1A Input Base and BAU'!I$100:I$163,'1A Input Base and BAU'!$B$100:$B$163,$C18,'1A Input Base and BAU'!$C$100:$C$163,$E18)","v":0},null,"l/100 km",{"$f":"+SUMIFS('1A Input Base and BAU'!E$173:E$221,'1A Input Base and BAU'!$B$173:$B$221,'4A Calcul. BAU city'!$C18,'1A Input Base and BAU'!$C$173:$C$221,'4A Calcul. BAU city'!$E18)","v":0},{"$f":"+SUMIFS('1A Input Base and BAU'!F$173:F$221,'1A Input Base and BAU'!$B$173:$B$221,'4A Calcul. BAU city'!$C18,'1A Input Base and BAU'!$C$173:$C$221,'4A Calcul. BAU city'!$E18)","v":0},{"$f":"+SUMIFS('1A Input Base and BAU'!G$173:G$221,'1A Input Base and BAU'!$B$173:$B$221,'4A Calcul. BAU city'!$C18,'1A Input Base and BAU'!$C$173:$C$221,'4A Calcul. BAU city'!$E18)","v":0},{"$f":"+SUMIFS('1A Input Base and BAU'!H$173:H$221,'1A Input Base and BAU'!$B$173:$B$221,'4A Calcul. BAU city'!$C18,'1A Input Base and BAU'!$C$173:$C$221,'4A Calcul. BAU city'!$E18)","v":0},{"$f":"+SUMIFS('1A Input Base and BAU'!I$173:I$221,'1A Input Base and BAU'!$B$173:$B$221,'4A Calcul. BAU city'!$C18,'1A Input Base and BAU'!$C$173:$C$221,'4A Calcul. BAU city'!$E18)","v":0},{"$f":"+SUMIFS('1A Input Base and BAU'!J$173:J$221,'1A Input Base and BAU'!$B$173:$B$221,'4A Calcul. BAU city'!$C18,'1A Input Base and BAU'!$C$173:$C$221,'4A Calcul. BAU city'!$E18)","v":0},null,{"$f":"+IFERROR(VLOOKUP($A18&\" - \"&$E18,'6 Defaults parameters'!$B$9:$O$18,4,FALSE)*VLOOKUP($A18&\" - \"&$E18,'6 Defaults parameters'!$B$9:$O$18,3,FALSE),0)","v":32.81481481481481},{"$f":"INDEX('6 Defaults parameters'!$T$9:$Y$18,MATCH($A18&\" - \"&$E18,'6 Defaults parameters'!$B$9:$B$18,0),MATCH(W$12,'6 Defaults parameters'!$T$8:$Y$8,0))","v":71078.600000000006},{"$f":"INDEX('6 Defaults parameters'!$T$9:$Y$18,MATCH($A18&\" - \"&$E18,'6 Defaults parameters'!$B$9:$B$18,0),MATCH(X$12,'6 Defaults parameters'!$T$8:$Y$8,0))","v":71078.600000000006},{"$f":"INDEX('6 Defaults parameters'!$T$9:$Y$18,MATCH($A18&\" - \"&$E18,'6 Defaults parameters'!$B$9:$B$18,0),MATCH(Y$12,'6 Defaults parameters'!$T$8:$Y$8,0))","v":71078.600000000006},{"$f":"INDEX('6 Defaults parameters'!$T$9:$Y$18,MATCH($A18&\" - \"&$E18,'6 Defaults parameters'!$B$9:$B$18,0),MATCH(Z$12,'6 Defaults parameters'!$T$8:$Y$8,0))","v":71078.600000000006},{"$f":"INDEX('6 Defaults parameters'!$T$9:$Y$18,MATCH($A18&\" - \"&$E18,'6 Defaults parameters'!$B$9:$B$18,0),MATCH(AA$12,'6 Defaults parameters'!$T$8:$Y$8,0))","v":71078.600000000006},{"$f":"INDEX('6 Defaults parameters'!$T$9:$Y$18,MATCH($A18&\" - \"&$E18,'6 Defaults parameters'!$B$9:$B$18,0),MATCH(AB$12,'6 Defaults parameters'!$T$8:$Y$8,0))","v":71078.600000000006},null,0,0,0,0,0,0,0,0,0,0,0,0,null,{"$f":"G18*SUMIFS('1A Input Base and BAU'!$D$74:$D$89,'1A Input Base and BAU'!$B$74:$B$89,'4A Calcul. BAU city'!$C18)","v":0},{"$f":"H18*SUMIFS('1A Input Base and BAU'!$D$74:$D$89,'1A Input Base and BAU'!$B$74:$B$89,'4A Calcul. BAU city'!$C18)","v":0},{"$f":"I18*SUMIFS('1A Input Base and BAU'!$D$74:$D$89,'1A Input Base and BAU'!$B$74:$B$89,'4A Calcul. BAU city'!$C18)","v":0},{"$f":"J18*SUMIFS('1A Input Base and BAU'!$D$74:$D$89,'1A Input Base and BAU'!$B$74:$B$89,'4A Calcul. BAU city'!$C18)","v":0},{"$f":"K18*SUMIFS('1A Input Base and BAU'!$D$74:$D$89,'1A Input Base and BAU'!$B$74:$B$89,'4A Calcul. BAU city'!$C18)","v":0},{"$f":"L18*SUMIFS('1A Input Base and BAU'!$D$74:$D$89,'1A Input Base and BAU'!$B$74:$B$89,'4A Calcul. BAU city'!$C18)","v":0}]
["Road","Private car","Private car","Passengers",{"$f":"Electric","v":"Electric"},null,{"$f":"+SUMIFS('1A Input Base and BAU'!C$49:C$64,'1A Input Base and BAU'!$B$49:$B$64,'4A Calcul. BAU city'!$C19)*SUMIFS('1A Input Base and BAU'!D$100:D$163,'1A Input Base and BAU'!$B$100:$B$163,$C19,'1A Input Base and BAU'!$C$100:$C$163,$E19)","v":0},{"$f":"+SUMIFS('1A Input Base and BAU'!D$49:D$64,'1A Input Base and BAU'!$B$49:$B$64,'4A Calcul. BAU city'!$C19)*SUMIFS('1A Input Base and BAU'!E$100:E$163,'1A Input Base and BAU'!$B$100:$B$163,$C19,'1A Input Base and BAU'!$C$100:$C$163,$E19)","v":0},{"$f":"+SUMIFS('1A Input Base and BAU'!E$49:E$64,'1A Input Base and BAU'!$B$49:$B$64,'4A Calcul. BAU city'!$C19)*SUMIFS('1A Input Base and BAU'!F$100:F$163,'1A Input Base and BAU'!$B$100:$B$163,$C19,'1A Input Base and BAU'!$C$100:$C$163,$E19)","v":0},{"$f":"+SUMIFS('1A Input Base and BAU'!F$49:F$64,'1A Input Base and BAU'!$B$49:$B$64,'4A Calcul. BAU city'!$C19)*SUMIFS('1A Input Base and BAU'!G$100:G$163,'1A Input Base and BAU'!$B$100:$B$163,$C19,'1A Input Base and BAU'!$C$100:$C$163,$E19)","v":0},{"$f":"+SUMIFS('1A Input Base and BAU'!G$49:G$64,'1A Input Base and BAU'!$B$49:$B$64,'4A Calcul. BAU city'!$C19)*SUMIFS('1A Input Base and BAU'!H$100:H$163,'1A Input Base and BAU'!$B$100:$B$163,$C19,'1A Input Base and BAU'!$C$100:$C$163,$E19)","v":0},{"$f":"+SUMIFS('1A Input Base and BAU'!H$49:H$64,'1A Input Base and BAU'!$B$49:$B$64,'4A Calcul. BAU city'!$C19)*SUMIFS('1A Input Base and BAU'!I$100:I$163,'1A Input Base and BAU'!$B$100:$B$163,$C19,'1A Input Base and BAU'!$C$100:$C$163,$E19)","v":0},null,"kWh/100km",{"$f":"+SUMIFS('1A Input Base and BAU'!E$173:E$221,'1A Input Base and BAU'!$B$173:$B$221,'4A Calcul. BAU city'!$C19,'1A Input Base and BAU'!$C$173:$C$221,'4A Calcul. BAU city'!$E19)","v":0},{"$f":"+SUMIFS('1A Input Base and BAU'!F$173:F$221,'1A Input Base and BAU'!$B$173:$B$221,'4A Calcul. BAU city'!$C19,'1A Input Base and BAU'!$C$173:$C$221,'4A Calcul. BAU city'!$E19)","v":0},{"$f":"+SUMIFS('1A Input Base and BAU'!G$173:G$221,'1A Input Base and BAU'!$B$173:$B$221,'4A Calcul. BAU city'!$C19,'1A Input Base and BAU'!$C$173:$C$221,'4A Calcul. BAU city'!$E19)","v":0},{"$f":"+SUMIFS('1A Input Base and BAU'!H$173:H$221,'1A Input Base and BAU'!$B$173:$B$221,'4A Calcul. BAU city'!$C19,'1A Input Base and BAU'!$C$173:$C$221,'4A Calcul. BAU city'!$E19)","v":0},{"$f":"+SUMIFS('1A Input Base and BAU'!I$173:I$221,'1A Input Base and BAU'!$B$173:$B$221,'4A Calcul. BAU city'!$C19,'1A Input Base and BAU'!$C$173:$C$221,'4A Calcul. BAU city'!$E19)","v":0},{"$f":"+SUMIFS('1A Input Base and BAU'!J$173:J$221,'1A Input Base and BAU'!$B$173:$B$221,'4A Calcul. BAU city'!$C19,'1A Input Base and BAU'!$C$173:$C$221,'4A Calcul. BAU city'!$E19)","v":0},null,{"$f":"+IFERROR(VLOOKUP($A19&\" - \"&$E19,'6 Defaults parameters'!$B$9:$O$18,4,FALSE)*VLOOKUP($A19&\" - \"&$E19,'6 Defaults parameters'!$B$9:$O$18,3,FALSE),0)","v":3.6},{"$f":"INDEX('6 Defaults parameters'!$T$9:$Y$18,MATCH($A19&\" - \"&$E19,'6 Defaults parameters'!$B$9:$B$18,0),MATCH(W$12,'6 Defaults parameters'!$T$8:$Y$8,0))","v":0},{"$f":"INDEX('6 Defaults parameters'!$T$9:$Y$18,MATCH($A19&\" - \"&$E19,'6 Defaults parameters'!$B$9:$B$18,0),MATCH(X$12,'6 Defaults parameters'!$T$8:$Y$8,0))","v":0},{"$f":"INDEX('6 Defaults parameters'!$T$9:$Y$18,MATCH($A19&\" - \"&$E19,'6 Defaults parameters'!$B$9:$B$18,0),MATCH(Y$12,'6 Defaults parameters'!$T$8:$Y$8,0))","v":0},{"$f":"INDEX('6 Defaults parameters'!$T$9:$Y$18,MATCH($A19&\" - \"&$E19,'6 Defaults parameters'!$B$9:$B$18,0),MATCH(Z$12,'6 Defaults parameters'!$T$8:$Y$8,0))","v":0},{"$f":"INDEX('6 Defaults parameters'!$T$9:$Y$18,MATCH($A19&\" - \"&$E19,'6 Defaults parameters'!$B$9:$B$18,0),MATCH(AA$12,'6 Defaults parameters'!$T$8:$Y$8,0))","v":0},{"$f":"INDEX('6 Defaults parameters'!$T$9:$Y$18,MATCH($A19&\" - \"&$E19,'6 Defaults parameters'!$B$9:$B$18,0),MATCH(AB$12,'6 Defaults parameters'!$T$8:$Y$8,0))","v":0},null,0,0,0,0,0,0,{"$f":"+W19*AD19/10^6","v":0},{"$f":"+X19*AE19/10^6","v":0},{"$f":"+Y19*AF19/10^6","v":0},{"$f":"+Z19*AG19/10^6","v":0},{"$f":"+AA19*AH19/10^6","v":0},{"$f":"+AB19*AI19/10^6","v":0},null,{"$f":"G19*SUMIFS('1A Input Base and BAU'!$D$74:$D$89,'1A Input Base and BAU'!$B$74:$B$89,'4A Calcul. BAU city'!$C19)","v":0},{"$f":"H19*SUMIFS('1A Input Base and BAU'!$D$74:$D$89,'1A Input Base and BAU'!$B$74:$B$89,'4A Calcul. BAU city'!$C19)","v":0},{"$f":"I19*SUMIFS('1A Input Base and BAU'!$D$74:$D$89,'1A Input Base and BAU'!$B$74:$B$89,'4A Calcul. BAU city'!$C19)","v":0},{"$f":"J19*SUMIFS('1A Input Base and BAU'!$D$74:$D$89,'1A Input Base and BAU'!$B$74:$B$89,'4A Calcul. BAU city'!$C19)","v":0},{"$f":"K19*SUMIFS('1A Input Base and BAU'!$D$74:$D$89,'1A Input Base and BAU'!$B$74:$B$89,'4A Calcul. BAU city'!$C19)","v":0},{"$f":"L19*SUMIFS('1A Input Base and BAU'!$D$74:$D$89,'1A Input Base and BAU'!$B$74:$B$89,'4A Calcul. BAU city'!$C19)","v":0}]
["Road",{"$f":"Itaxi","v":"Individual taxi"},"Individual taxi","Passengers",{"$f":"Gasoline","v":"Gasoline"},null,{"$f":"+SUMIFS('1A Input Base and BAU'!C$49:C$64,'1A Input Base and BAU'!$B$49:$B$64,'4A Calcul. BAU city'!$C20)*SUMIFS('1A Input Base and BAU'!D$100:D$163,'1A Input Base and BAU'!$B$100:$B$163,$C20,'1A Input Base and BAU'!$C$100:$C$163,$E20)","v":0},{"$f":"+SUMIFS('1A Input Base and BAU'!D$49:D$64,'1A Input Base and BAU'!$B$49:$B$64,'4A Calcul. BAU city'!$C20)*SUMIFS('1A Input Base and BAU'!E$100:E$163,'1A Input Base and BAU'!$B$100:$B$163,$C20,'1A Input Base and BAU'!$C$100:$C$163,$E20)","v":0},{"$f":"+SUMIFS('1A Input Base and BAU'!E$49:E$64,'1A Input Base and BAU'!$B$49:$B$64,'4A Calcul. BAU city'!$C20)*SUMIFS('1A Input Base and BAU'!F$100:F$163,'1A Input Base and BAU'!$B$100:$B$163,$C20,'1A Input Base and BAU'!$C$100:$C$163,$E20)","v":0},{"$f":"+SUMIFS('1A Input Base and BAU'!F$49:F$64,'1A Input Base and BAU'!$B$49:$B$64,'4A Calcul. BAU city'!$C20)*SUMIFS('1A Input Base and BAU'!G$100:G$163,'1A Input Base and BAU'!$B$100:$B$163,$C20,'1A Input Base and BAU'!$C$100:$C$163,$E20)","v":0},{"$f":"+SUMIFS('1A Input Base and BAU'!G$49:G$64,'1A Input Base and BAU'!$B$49:$B$64,'4A Calcul. BAU city'!$C20)*SUMIFS('1A Input Base and BAU'!H$100:H$163,'1A Input Base and BAU'!$B$100:$B$163,$C20,'1A Input Base and BAU'!$C$100:$C$163,$E20)","v":0},{"$f":"+SUMIFS('1A Input Base and BAU'!H$49:H$64,'1A Input Base and BAU'!$B$49:$B$64,'4A Calcul. BAU city'!$C20)*SUMIFS('1A Input Base and BAU'!I$100:I$163,'1A Input Base and BAU'!$B$100:$B$163,$C20,'1A Input Base and BAU'!$C$100:$C$163,$E20)","v":0},null,"l/100 km",{"$f":"+SUMIFS('1A Input Base and BAU'!E$173:E$221,'1A Input Base and BAU'!$B$173:$B$221,'4A Calcul. BAU city'!$C20,'1A Input Base and BAU'!$C$173:$C$221,'4A Calcul. BAU city'!$E20)","v":0},{"$f":"+SUMIFS('1A Input Base and BAU'!F$173:F$221,'1A Input Base and BAU'!$B$173:$B$221,'4A Calcul. BAU city'!$C20,'1A Input Base and BAU'!$C$173:$C$221,'4A Calcul. BAU city'!$E20)","v":0},{"$f":"+SUMIFS('1A Input Base and BAU'!G$173:G$221,'1A Input Base and BAU'!$B$173:$B$221,'4A Calcul. BAU city'!$C20,'1A Input Base and BAU'!$C$173:$C$221,'4A Calcul. BAU city'!$E20)","v":0},{"$f":"+SUMIFS('1A Input Base and BAU'!H$173:H$221,'1A Input Base and BAU'!$B$173:$B$221,'4A Calcul. BAU city'!$C20,'1A Input Base and BAU'!$C$173:$C$221,'4A Calcul. BAU city'!$E20)","v":0},{"$f":"+SUMIFS('1A Input Base and BAU'!I$173:I$221,'1A Input Base and BAU'!$B$173:$B$221,'4A Calcul. BAU city'!$C20,'1A Input Base and BAU'!$C$173:$C$221,'4A Calcul. BAU city'!$E20)","v":0},{"$f":"+SUMIFS('1A Input Base and BAU'!J$173:J$221,'1A Input Base and BAU'!$B$173:$B$221,'4A Calcul. BAU city'!$C20,'1A Input Base and BAU'!$C$173:$C$221,'4A Calcul. BAU city'!$E20)","v":0},null,{"$f":"+IFERROR(VLOOKUP($A20&\" - \"&$E20,'6 Defaults parameters'!$B$9:$O$18,4,FALSE)*VLOOKUP($A20&\" - \"&$E20,'6 Defaults parameters'!$B$9:$O$18,3,FALSE),0)","v":32.81481481481481},{"$f":"INDEX('6 Defaults parameters'!$T$9:$Y$18,MATCH($A20&\" - \"&$E20,'6 Defaults parameters'!$B$9:$B$18,0),MATCH(W$12,'6 Defaults parameters'!$T$8:$Y$8,0))","v":71078.600000000006},{"$f":"INDEX('6 Defaults parameters'!$T$9:$Y$18,MATCH($A20&\" - \"&$E20,'6 Defaults parameters'!$B$9:$B$18,0),MATCH(X$12,'6 Defaults parameters'!$T$8:$Y$8,0))","v":71078.600000000006},{"$f":"INDEX('6 Defaults parameters'!$T$9:$Y$18,MATCH($A20&\" - \"&$E20,'6 Defaults parameters'!$B$9:$B$18,0),MATCH(Y$12,'6 Defaults parameters'!$T$8:$Y$8,0))","v":71078.600000000006},{"$f":"INDEX('6 Defaults parameters'!$T$9:$Y$18,MATCH($A20&\" - \"&$E20,'6 Defaults parameters'!$B$9:$B$18,0),MATCH(Z$12,'6 Defaults parameters'!$T$8:$Y$8,0))","v":71078.600000000006},{"$f":"INDEX('6 Defaults parameters'!$T$9:$Y$18,MATCH($A20&\" - \"&$E20,'6 Defaults parameters'!$B$9:$B$18,0),MATCH(AA$12,'6 Defaults parameters'!$T$8:$Y$8,0))","v":71078.600000000006},{"$f":"INDEX('6 Defaults parameters'!$T$9:$Y$18,MATCH($A20&\" - \"&$E20,'6 Defaults parameters'!$B$9:$B$18,0),MATCH(AB$12,'6 Defaults parameters'!$T$8:$Y$8,0))","v":71078.600000000006},{"$f":"\"\"","v":""},0,0,0,0,0,0,{"$f":"+W20*AD20/10^6","v":0},0,0,0,0,0,null,{"$f":"G20*SUMIFS('1A Input Base and BAU'!$D$74:$D$89,'1A Input Base and BAU'!$B$74:$B$89,'4A Calcul. BAU city'!$C20)","v":0},{"$f":"H20*SUMIFS('1A Input Base and BAU'!$D$74:$D$89,'1A Input Base and BAU'!$B$74:$B$89,'4A Calcul. BAU city'!$C20)","v":0},{"$f":"I20*SUMIFS('1A Input Base and BAU'!$D$74:$D$89,'1A Input Base and BAU'!$B$74:$B$89,'4A Calcul. BAU city'!$C20)","v":0},{"$f":"J20*SUMIFS('1A Input Base and BAU'!$D$74:$D$89,'1A Input Base and BAU'!$B$74:$B$89,'4A Calcul. BAU city'!$C20)","v":0},{"$f":"K20*SUMIFS('1A Input Base and BAU'!$D$74:$D$89,'1A Input Base and BAU'!$B$74:$B$89,'4A Calcul. BAU city'!$C20)","v":0},{"$f":"L20*SUMIFS('1A Input Base and BAU'!$D$74:$D$89,'1A Input Base and BAU'!$B$74:$B$89,'4A Calcul. BAU city'!$C20)","v":0},{"$f":"\"\"","v":""},{"$f":"\"\"","v":""},{"$f":"\"\"","v":""},{"$f":"\"\"","v":""},{"$f":"\"\"","v":""},{"$f":"\"\"","v":""}]
["Road","Individual taxi","Individual taxi","Passengers",{"$f":"Diesel","v":"Diesel"},null,{"$f":"+SUMIFS('1A Input Base and BAU'!C$49:C$64,'1A Input Base and BAU'!$B$49:$B$64,'4A Calcul. BAU city'!$C21)*SUMIFS('1A Input Base and BAU'!D$100:D$163,'1A Input Base and BAU'!$B$100:$B$163,$C21,'1A Input Base and BAU'!$C$100:$C$163,$E21)","v":0},{"$f":"+SUMIFS('1A Input Base and BAU'!D$49:D$64,'1A Input Base and BAU'!$B$49:$B$64,'4A Calcul. BAU city'!$C21)*SUMIFS('1A Input Base and BAU'!E$100:E$163,'1A Input Base and BAU'!$B$100:$B$163,$C21,'1A Input Base and BAU'!$C$100:$C$163,$E21)","v":0},{"$f":"+SUMIFS('1A Input Base and BAU'!E$49:E$64,'1A Input Base and BAU'!$B$49:$B$64,'4A Calcul. BAU city'!$C21)*SUMIFS('1A Input Base and BAU'!F$100:F$163,'1A Input Base and BAU'!$B$100:$B$163,$C21,'1A Input Base and BAU'!$C$100:$C$163,$E21)","v":0},{"$f":"+SUMIFS('1A Input Base and BAU'!F$49:F$64,'1A Input Base and BAU'!$B$49:$B$64,'4A Calcul. BAU city'!$C21)*SUMIFS('1A Input Base and BAU'!G$100:G$163,'1A Input Base and BAU'!$B$100:$B$163,$C21,'1A Input Base and BAU'!$C$100:$C$163,$E21)","v":0},{"$f":"+SUMIFS('1A Input Base and BAU'!G$49:G$64,'1A Input Base and BAU'!$B$49:$B$64,'4A Calcul. BAU city'!$C21)*SUMIFS('1A Input Base and BAU'!H$100:H$163,'1A Input Base and BAU'!$B$100:$B$163,$C21,'1A Input Base and BAU'!$C$100:$C$163,$E21)","v":0},{"$f":"+SUMIFS('1A Input Base and BAU'!H$49:H$64,'1A Input Base and BAU'!$B$49:$B$64,'4A Calcul. BAU city'!$C21)*SUMIFS('1A Input Base and BAU'!I$100:I$163,'1A Input Base and BAU'!$B$100:$B$163,$C21,'1A Input Base and BAU'!$C$100:$C$163,$E21)","v":0},null,"l/100 km",{"$f":"+SUMIFS('1A Input Base and BAU'!E$173:E$221,'1A Input Base and BAU'!$B$173:$B$221,'4A Calcul. BAU city'!$C21,'1A Input Base and BAU'!$C$173:$C$221,'4A Calcul. BAU city'!$E21)","v":0},{"$f":"+SUMIFS('1A Input Base and BAU'!F$173:F$221,'1A Input Base and BAU'!$B$173:$B$221,'4A Calcul. BAU city'!$C21,'1A Input Base and BAU'!$C$173:$C$221,'4A Calcul. BAU city'!$E21)","v":0},{"$f":"+SUMIFS('1A Input Base and BAU'!G$173:G$221,'1A Input Base and BAU'!$B$173:$B$221,'4A Calcul. BAU city'!$C21,'1A Input Base and BAU'!$C$173:$C$221,'4A Calcul. BAU city'!$E21)","v":0},{"$f":"+SUMIFS('1A Input Base and BAU'!H$173:H$221,'1A Input Base and BAU'!$B$173:$B$221,'4A Calcul. BAU city'!$C21,'1A Input Base and BAU'!$C$173:$C$221,'4A Calcul. BAU city'!$E21)","v":0},{"$f":"+SUMIFS('1A Input Base and BAU'!I$173:I$221,'1A Input Base and BAU'!$B$173:$B$221,'4A Calcul. BAU city'!$C21,'1A Input Base and BAU'!$C$173:$C$221,'4A Calcul. BAU city'!$E21)","v":0},{"$f":"+SUMIFS('1A Input Base and BAU'!J$173:J$221,'1A Input Base and BAU'!$B$173:$B$221,'4A Calcul. BAU city'!$C21,'1A Input Base and BAU'!$C$173:$C$221,'4A Calcul. BAU city'!$E21)","v":0},null,{"$f":"+IFERROR(VLOOKUP($A21&\" - \"&$E21,'6 Defaults parameters'!$B$9:$O$18,4,FALSE)*VLOOKUP($A21&\" - \"&$E21,'6 Defaults parameters'!$B$9:$O$18,3,FALSE),0)","v":36.286919831223628},{"$f":"INDEX('6 Defaults parameters'!$T$9:$Y$18,MATCH($A21&\" - \"&$E21,'6 Defaults parameters'!$B$9:$B$18,0),MATCH(W$12,'6 Defaults parameters'!$T$8:$Y$8,0))","v":75359.7},{"$f":"INDEX('6 Defaults parameters'!$T$9:$Y$18,MATCH($A21&\" - \"&$E21,'6 Defaults parameters'!$B$9:$B$18,0),MATCH(X$12,'6 Defaults parameters'!$T$8:$Y$8,0))","v":75359.7},{"$f":"INDEX('6 Defaults parameters'!$T$9:$Y$18,MATCH($A21&\" - \"&$E21,'6 Defaults parameters'!$B$9:$B$18,0),MATCH(Y$12,'6 Defaults parameters'!$T$8:$Y$8,0))","v":75359.7},{"$f":"INDEX('6 Defaults parameters'!$T$9:$Y$18,MATCH($A21&\" - \"&$E21,'6 Defaults parameters'!$B$9:$B$18,0),MATCH(Z$12,'6 Defaults parameters'!$T$8:$Y$8,0))","v":75359.7},{"$f":"INDEX('6 Defaults parameters'!$T$9:$Y$18,MATCH($A21&\" - \"&$E21,'6 Defaults parameters'!$B$9:$B$18,0),MATCH(AA$12,'6 Defaults parameters'!$T$8:$Y$8,0))","v":75359.7},{"$f":"INDEX('6 Defaults parameters'!$T$9:$Y$18,MATCH($A21&\" - \"&$E21,'6 Defaults parameters'!$B$9:$B$18,0),MATCH(AB$12,'6 Defaults parameters'!$T$8:$Y$8,0))","v":75359.7},{"$f":"\"\"","v":""},0,0,0,0,0,0,{"$f":"+W21*AD21/10^6","v":0},{"$f":"+X21*AE21/10^6","v":0},{"$f":"+Y21*AF21/10^6","v":0},{"$f":"+Z21*AG21/10^6","v":0},{"$f":"+AA21*AH21/10^6","v":0},{"$f":"+AB21*AI21/10^6","v":0},null,{"$f":"G21*SUMIFS('1A Input Base and BAU'!$D$74:$D$89,'1A Input Base and BAU'!$B$74:$B$89,'4A Calcul. BAU city'!$C21)","v":0},{"$f":"H21*SUMIFS('1A Input Base and BAU'!$D$74:$D$89,'1A Input Base and BAU'!$B$74:$B$89,'4A Calcul. BAU city'!$C21)","v":0},{"$f":"I21*SUMIFS('1A Input Base and BAU'!$D$74:$D$89,'1A Input Base and BAU'!$B$74:$B$89,'4A Calcul. BAU city'!$C21)","v":0},{"$f":"J21*SUMIFS('1A Input Base and BAU'!$D$74:$D$89,'1A Input Base and BAU'!$B$74:$B$89,'4A Calcul. BAU city'!$C21)","v":0},{"$f":"K21*SUMIFS('1A Input Base and BAU'!$D$74:$D$89,'1A Input Base and BAU'!$B$74:$B$89,'4A Calcul. BAU city'!$C21)","v":0},{"$f":"L21*SUMIFS('1A Input Base and BAU'!$D$74:$D$89,'1A Input Base and BAU'!$B$74:$B$89,'4A Calcul. BAU city'!$C21)","v":0},{"$f":"\"\"","v":""},{"$f":"\"\"","v":""},{"$f":"\"\"","v":""},{"$f":"\"\"","v":""},{"$f":"\"\"","v":""},{"$f":"\"\"","v":""}]
["Road","Individual taxi","Individual taxi","Passengers",{"$f":"LPG","v":"LPG"},null,{"$f":"+SUMIFS('1A Input Base and BAU'!C$49:C$64,'1A Input Base and BAU'!$B$49:$B$64,'4A Calcul. BAU city'!$C22)*SUMIFS('1A Input Base and BAU'!D$100:D$163,'1A Input Base and BAU'!$B$100:$B$163,$C22,'1A Input Base and BAU'!$C$100:$C$163,$E22)","v":0},{"$f":"+SUMIFS('1A Input Base and BAU'!D$49:D$64,'1A Input Base and BAU'!$B$49:$B$64,'4A Calcul. BAU city'!$C22)*SUMIFS('1A Input Base and BAU'!E$100:E$163,'1A Input Base and BAU'!$B$100:$B$163,$C22,'1A Input Base and BAU'!$C$100:$C$163,$E22)","v":0},{"$f":"+SUMIFS('1A Input Base and BAU'!E$49:E$64,'1A Input Base and BAU'!$B$49:$B$64,'4A Calcul. BAU city'!$C22)*SUMIFS('1A Input Base and BAU'!F$100:F$163,'1A Input Base and BAU'!$B$100:$B$163,$C22,'1A Input Base and BAU'!$C$100:$C$163,$E22)","v":0},{"$f":"+SUMIFS('1A Input Base and BAU'!F$49:F$64,'1A Input Base and BAU'!$B$49:$B$64,'4A Calcul. BAU city'!$C22)*SUMIFS('1A Input Base and BAU'!G$100:G$163,'1A Input Base and BAU'!$B$100:$B$163,$C22,'1A Input Base and BAU'!$C$100:$C$163,$E22)","v":0},{"$f":"+SUMIFS('1A Input Base and BAU'!G$49:G$64,'1A Input Base and BAU'!$B$49:$B$64,'4A Calcul. BAU city'!$C22)*SUMIFS('1A Input Base and BAU'!H$100:H$163,'1A Input Base and BAU'!$B$100:$B$163,$C22,'1A Input Base and BAU'!$C$100:$C$163,$E22)","v":0},{"$f":"+SUMIFS('1A Input Base and BAU'!H$49:H$64,'1A Input Base and BAU'!$B$49:$B$64,'4A Calcul. BAU city'!$C22)*SUMIFS('1A Input Base and BAU'!I$100:I$163,'1A Input Base and BAU'!$B$100:$B$163,$C22,'1A Input Base and BAU'!$C$100:$C$163,$E22)","v":0},null,"l/100 km",{"$f":"+SUMIFS('1A Input Base and BAU'!E$173:E$221,'1A Input Base and BAU'!$B$173:$B$221,'4A Calcul. BAU city'!$C22,'1A Input Base and BAU'!$C$173:$C$221,'4A Calcul. BAU city'!$E22)","v":0},{"$f":"+SUMIFS('1A Input Base and BAU'!F$173:F$221,'1A Input Base and BAU'!$B$173:$B$221,'4A Calcul. BAU city'!$C22,'1A Input Base and BAU'!$C$173:$C$221,'4A Calcul. BAU city'!$E22)","v":0},{"$f":"+SUMIFS('1A Input Base and BAU'!G$173:G$221,'1A Input Base and BAU'!$B$173:$B$221,'4A Calcul. BAU city'!$C22,'1A Input Base and BAU'!$C$173:$C$221,'4A Calcul. BAU city'!$E22)","v":0},{"$f":"+SUMIFS('1A Input Base and BAU'!H$173:H$221,'1A Input Base and BAU'!$B$173:$B$221,'4A Calcul. BAU city'!$C22,'1A Input Base and BAU'!$C$173:$C$221,'4A Calcul. BAU city'!$E22)","v":0},{"$f":"+SUMIFS('1A Input Base and BAU'!I$173:I$221,'1A Input Base and BAU'!$B$173:$B$221,'4A Calcul. BAU city'!$C22,'1A Input Base and BAU'!$C$173:$C$221,'4A Calcul. BAU city'!$E22)","v":0},{"$f":"+SUMIFS('1A Input Base and BAU'!J$173:J$221,'1A Input Base and BAU'!$B$173:$B$221,'4A Calcul. BAU city'!$C22,'1A Input Base and BAU'!$C$173:$C$221,'4A Calcul. BAU city'!$E22)","v":0},null,{"$f":"+IFERROR(VLOOKUP($A22&\" - \"&$E22,'6 Defaults parameters'!$B$9:$O$18,4,FALSE)*VLOOKUP($A22&\" - \"&$E22,'6 Defaults parameters'!$B$9:$O$18,3,FALSE),0)","v":24.699738903394255},{"$f":"INDEX('6 Defaults parameters'!$T$9:$Y$18,MATCH($A22&\" - \"&$E22,'6 Defaults parameters'!$B$9:$B$18,0),MATCH(W$12,'6 Defaults parameters'!$T$8:$Y$8,0))","v":64709.599999999999},{"$f":"INDEX('6 Defaults parameters'!$T$9:$Y$18,MATCH($A22&\" - \"&$E22,'6 Defaults parameters'!$B$9:$B$18,0),MATCH(X$12,'6 Defaults parameters'!$T$8:$Y$8,0))","v":64709.599999999999},{"$f":"INDEX('6 Defaults parameters'!$T$9:$Y$18,MATCH($A22&\" - \"&$E22,'6 Defaults parameters'!$B$9:$B$18,0),MATCH(Y$12,'6 Defaults parameters'!$T$8:$Y$8,0))","v":64709.599999999999},{"$f":"INDEX('6 Defaults parameters'!$T$9:$Y$18,MATCH($A22&\" - \"&$E22,'6 Defaults parameters'!$B$9:$B$18,0),MATCH(Z$12,'6 Defaults parameters'!$T$8:$Y$8,0))","v":64709.599999999999},{"$f":"INDEX('6 Defaults parameters'!$T$9:$Y$18,MATCH($A22&\" - \"&$E22,'6 Defaults parameters'!$B$9:$B$18,0),MATCH(AA$12,'6 Defaults parameters'!$T$8:$Y$8,0))","v":64709.599999999999},{"$f":"INDEX('6 Defaults parameters'!$T$9:$Y$18,MATCH($A22&\" - \"&$E22,'6 Defaults parameters'!$B$9:$B$18,0),MATCH(AB$12,'6 Defaults parameters'!$T$8:$Y$8,0))","v":64709.599999999999},null,0,0,0,0,0,0,0,0,0,0,0,0,null,{"$f":"G22*SUMIFS('1A Input Base and BAU'!$D$74:$D$89,'1A Input Base and BAU'!$B$74:$B$89,'4A Calcul. BAU city'!$C22)","v":0},{"$f":"H22*SUMIFS('1A Input Base and BAU'!$D$74:$D$89,'1A Input Base and BAU'!$B$74:$B$89,'4A Calcul. BAU city'!$C22)","v":0},{"$f":"I22*SUMIFS('1A Input Base and BAU'!$D$74:$D$89,'1A Input Base and BAU'!$B$74:$B$89,'4A Calcul. BAU city'!$C22)","v":0},{"$f":"J22*SUMIFS('1A Input Base and BAU'!$D$74:$D$89,'1A Input Base and BAU'!$B$74:$B$89,'4A Calcul. BAU city'!$C22)","v":0},{"$f":"K22*SUMIFS('1A Input Base and BAU'!$D$74:$D$89,'1A Input Base and BAU'!$B$74:$B$89,'4A Calcul. BAU city'!$C22)","v":0},{"$f":"L22*SUMIFS('1A Input Base and BAU'!$D$74:$D$89,'1A Input Base and BAU'!$B$74:$B$89,'4A Calcul. BAU city'!$C22)","v":0}]
["Road","Individual taxi","Individual taxi","Passengers",{"$f":"NG","v":"NG"},null,{"$f":"+SUMIFS('1A Input Base and BAU'!C$49:C$64,'1A Input Base and BAU'!$B$49:$B$64,'4A Calcul. BAU city'!$C23)*SUMIFS('1A Input Base and BAU'!D$100:D$163,'1A Input Base and BAU'!$B$100:$B$163,$C23,'1A Input Base and BAU'!$C$100:$C$163,$E23)","v":0},{"$f":"+SUMIFS('1A Input Base and BAU'!D$49:D$64,'1A Input Base and BAU'!$B$49:$B$64,'4A Calcul. BAU city'!$C23)*SUMIFS('1A Input Base and BAU'!E$100:E$163,'1A Input Base and BAU'!$B$100:$B$163,$C23,'1A Input Base and BAU'!$C$100:$C$163,$E23)","v":0},{"$f":"+SUMIFS('1A Input Base and BAU'!E$49:E$64,'1A Input Base and BAU'!$B$49:$B$64,'4A Calcul. BAU city'!$C23)*SUMIFS('1A Input Base and BAU'!F$100:F$163,'1A Input Base and BAU'!$B$100:$B$163,$C23,'1A Input Base and BAU'!$C$100:$C$163,$E23)","v":0},{"$f":"+SUMIFS('1A Input Base and BAU'!F$49:F$64,'1A Input Base and BAU'!$B$49:$B$64,'4A Calcul. BAU city'!$C23)*SUMIFS('1A Input Base and BAU'!G$100:G$163,'1A Input Base and BAU'!$B$100:$B$163,$C23,'1A Input Base and BAU'!$C$100:$C$163,$E23)","v":0},{"$f":"+SUMIFS('1A Input Base and BAU'!G$49:G$64,'1A Input Base and BAU'!$B$49:$B$64,'4A Calcul. BAU city'!$C23)*SUMIFS('1A Input Base and BAU'!H$100:H$163,'1A Input Base and BAU'!$B$100:$B$163,$C23,'1A Input Base and BAU'!$C$100:$C$163,$E23)","v":0},{"$f":"+SUMIFS('1A Input Base and BAU'!H$49:H$64,'1A Input Base and BAU'!$B$49:$B$64,'4A Calcul. BAU city'!$C23)*SUMIFS('1A Input Base and BAU'!I$100:I$163,'1A Input Base and BAU'!$B$100:$B$163,$C23,'1A Input Base and BAU'!$C$100:$C$163,$E23)","v":0},null,"kg/100km",{"$f":"+SUMIFS('1A Input Base and BAU'!E$173:E$221,'1A Input Base and BAU'!$B$173:$B$221,'4A Calcul. BAU city'!$C23,'1A Input Base and BAU'!$C$173:$C$221,'4A Calcul. BAU city'!$E23)","v":0},{"$f":"+SUMIFS('1A Input Base and BAU'!F$173:F$221,'1A Input Base and BAU'!$B$173:$B$221,'4A Calcul. BAU city'!$C23,'1A Input Base and BAU'!$C$173:$C$221,'4A Calcul. BAU city'!$E23)","v":0},{"$f":"+SUMIFS('1A Input Base and BAU'!G$173:G$221,'1A Input Base and BAU'!$B$173:$B$221,'4A Calcul. BAU city'!$C23,'1A Input Base and BAU'!$C$173:$C$221,'4A Calcul. BAU city'!$E23)","v":0},{"$f":"+SUMIFS('1A Input Base and BAU'!H$173:H$221,'1A Input Base and BAU'!$B$173:$B$221,'4A Calcul. BAU city'!$C23,'1A Input Base and BAU'!$C$173:$C$221,'4A Calcul. BAU city'!$E23)","v":0},{"$f":"+SUMIFS('1A Input Base and BAU'!I$173:I$221,'1A Input Base and BAU'!$B$173:$B$221,'4A Calcul. BAU city'!$C23,'1A Input Base and BAU'!$C$173:$C$221,'4A Calcul. BAU city'!$E23)","v":0},{"$f":"+SUMIFS('1A Input Base and BAU'!J$173:J$221,'1A Input Base and BAU'!$B$173:$B$221,'4A Calcul. BAU city'!$C23,'1A Input Base and BAU'!$C$173:$C$221,'4A Calcul. BAU city'!$E23)","v":0},null,{"$f":"+IFERROR(VLOOKUP($A23&\" - \"&$E23,'6 Defaults parameters'!$B$9:$O$18,4,FALSE)*VLOOKUP($A23&\" - \"&$E23,'6 Defaults parameters'!$B$9:$O$18,3,FALSE),0)","v":48},{"$f":"INDEX('6 Defaults parameters'!$T$9:$Y$18,MATCH($A23&\" - \"&$E23,'6 Defaults parameters'!$B$9:$B$18,0),MATCH(W$12,'6 Defaults parameters'!$T$8:$Y$8,0))","v":59294},{"$f":"INDEX('6 Defaults parameters'!$T$9:$Y$18,MATCH($A23&\" - \"&$E23,'6 Defaults parameters'!$B$9:$B$18,0),MATCH(X$12,'6 Defaults parameters'!$T$8:$Y$8,0))","v":59294},{"$f":"INDEX('6 Defaults parameters'!$T$9:$Y$18,MATCH($A23&\" - \"&$E23,'6 Defaults parameters'!$B$9:$B$18,0),MATCH(Y$12,'6 Defaults parameters'!$T$8:$Y$8,0))","v":59294},{"$f":"INDEX('6 Defaults parameters'!$T$9:$Y$18,MATCH($A23&\" - \"&$E23,'6 Defaults parameters'!$B$9:$B$18,0),MATCH(Z$12,'6 Defaults parameters'!$T$8:$Y$8,0))","v":59294},{"$f":"INDEX('6 Defaults parameters'!$T$9:$Y$18,MATCH($A23&\" - \"&$E23,'6 Defaults parameters'!$B$9:$B$18,0),MATCH(AA$12,'6 Defaults parameters'!$T$8:$Y$8,0))","v":59294},{"$f":"INDEX('6 Defaults parameters'!$T$9:$Y$18,MATCH($A23&\" - \"&$E23,'6 Defaults parameters'!$B$9:$B$18,0),MATCH(AB$12,'6 Defaults parameters'!$T$8:$Y$8,0))","v":59294},null,0,0,0,0,0,0,0,0,0,0,0,0,null,{"$f":"G23*SUMIFS('1A Input Base and BAU'!$D$74:$D$89,'1A Input Base and BAU'!$B$74:$B$89,'4A Calcul. BAU city'!$C23)","v":0},{"$f":"H23*SUMIFS('1A Input Base and BAU'!$D$74:$D$89,'1A Input Base and BAU'!$B$74:$B$89,'4A Calcul. BAU city'!$C23)","v":0},{"$f":"I23*SUMIFS('1A Input Base and BAU'!$D$74:$D$89,'1A Input Base and BAU'!$B$74:$B$89,'4A Calcul. BAU city'!$C23)","v":0},{"$f":"J23*SUMIFS('1A Input Base and BAU'!$D$74:$D$89,'1A Input Base and BAU'!$B$74:$B$89,'4A Calcul. BAU city'!$C23)","v":0},{"$f":"K23*SUMIFS('1A Input Base and BAU'!$D$74:$D$89,'1A Input Base and BAU'!$B$74:$B$89,'4A Calcul. BAU city'!$C23)","v":0},{"$f":"L23*SUMIFS('1A Input Base and BAU'!$D$74:$D$89,'1A Input Base and BAU'!$B$74:$B$89,'4A Calcul. BAU city'!$C23)","v":0}]
["Road","Individual taxi","Individual taxi","Passengers",{"$f":"Hybrid","v":"Hybrid"},null,{"$f":"+SUMIFS('1A Input Base and BAU'!C$49:C$64,'1A Input Base and BAU'!$B$49:$B$64,'4A Calcul. BAU city'!$C24)*SUMIFS('1A Input Base and BAU'!D$100:D$163,'1A Input Base and BAU'!$B$100:$B$163,$C24,'1A Input Base and BAU'!$C$100:$C$163,$E24)","v":0},{"$f":"+SUMIFS('1A Input Base and BAU'!D$49:D$64,'1A Input Base and BAU'!$B$49:$B$64,'4A Calcul. BAU city'!$C24)*SUMIFS('1A Input Base and BAU'!E$100:E$163,'1A Input Base and BAU'!$B$100:$B$163,$C24,'1A Input Base and BAU'!$C$100:$C$163,$E24)","v":0},{"$f":"+SUMIFS('1A Input Base and BAU'!E$49:E$64,'1A Input Base and BAU'!$B$49:$B$64,'4A Calcul. BAU city'!$C24)*SUMIFS('1A Input Base and BAU'!F$100:F$163,'1A Input Base and BAU'!$B$100:$B$163,$C24,'1A Input Base and BAU'!$C$100:$C$163,$E24)","v":0},{"$f":"+SUMIFS('1A Input Base and BAU'!F$49:F$64,'1A Input Base and BAU'!$B$49:$B$64,'4A Calcul. BAU city'!$C24)*SUMIFS('1A Input Base and BAU'!G$100:G$163,'1A Input Base and BAU'!$B$100:$B$163,$C24,'1A Input Base and BAU'!$C$100:$C$163,$E24)","v":0},{"$f":"+SUMIFS('1A Input Base and BAU'!G$49:G$64,'1A Input Base and BAU'!$B$49:$B$64,'4A Calcul. BAU city'!$C24)*SUMIFS('1A Input Base and BAU'!H$100:H$163,'1A Input Base and BAU'!$B$100:$B$163,$C24,'1A Input Base and BAU'!$C$100:$C$163,$E24)","v":0},{"$f":"+SUMIFS('1A Input Base and BAU'!H$49:H$64,'1A Input Base and BAU'!$B$49:$B$64,'4A Calcul. BAU city'!$C24)*SUMIFS('1A Input Base and BAU'!I$100:I$163,'1A Input Base and BAU'!$B$100:$B$163,$C24,'1A Input Base and BAU'!$C$100:$C$163,$E24)","v":0},null,"l/100 km",{"$f":"+SUMIFS('1A Input Base and BAU'!E$173:E$221,'1A Input Base and BAU'!$B$173:$B$221,'4A Calcul. BAU city'!$C24,'1A Input Base and BAU'!$C$173:$C$221,'4A Calcul. BAU city'!$E24)","v":0},{"$f":"+SUMIFS('1A Input Base and BAU'!F$173:F$221,'1A Input Base and BAU'!$B$173:$B$221,'4A Calcul. BAU city'!$C24,'1A Input Base and BAU'!$C$173:$C$221,'4A Calcul. BAU city'!$E24)","v":0},{"$f":"+SUMIFS('1A Input Base and BAU'!G$173:G$221,'1A Input Base and BAU'!$B$173:$B$221,'4A Calcul. BAU city'!$C24,'1A Input Base and BAU'!$C$173:$C$221,'4A Calcul. BAU city'!$E24)","v":0},{"$f":"+SUMIFS('1A Input Base and BAU'!H$173:H$221,'1A Input Base and BAU'!$B$173:$B$221,'4A Calcul. BAU city'!$C24,'1A Input Base and BAU'!$C$173:$C$221,'4A Calcul. BAU city'!$E24)","v":0},{"$f":"+SUMIFS('1A Input Base and BAU'!I$173:I$221,'1A Input Base and BAU'!$B$173:$B$221,'4A Calcul. BAU city'!$C24,'1A Input Base and BAU'!$C$173:$C$221,'4A Calcul. BAU city'!$E24)","v":0},{"$f":"+SUMIFS('1A Input Base and BAU'!J$173:J$221,'1A Input Base and BAU'!$B$173:$B$221,'4A Calcul. BAU city'!$C24,'1A Input Base and BAU'!$C$173:$C$221,'4A Calcul. BAU city'!$E24)","v":0},null,{"$f":"+IFERROR(VLOOKUP($A24&\" - \"&$E24,'6 Defaults parameters'!$B$9:$O$18,4,FALSE)*VLOOKUP($A24&\" - \"&$E24,'6 Defaults parameters'!$B$9:$O$18,3,FALSE),0)","v":32.81481481481481},{"$f":"INDEX('6 Defaults parameters'!$T$9:$Y$18,MATCH($A24&\" - \"&$E24,'6 Defaults parameters'!$B$9:$B$18,0),MATCH(W$12,'6 Defaults parameters'!$T$8:$Y$8,0))","v":71078.600000000006},{"$f":"INDEX('6 Defaults parameters'!$T$9:$Y$18,MATCH($A24&\" - \"&$E24,'6 Defaults parameters'!$B$9:$B$18,0),MATCH(X$12,'6 Defaults parameters'!$T$8:$Y$8,0))","v":71078.600000000006},{"$f":"INDEX('6 Defaults parameters'!$T$9:$Y$18,MATCH($A24&\" - \"&$E24,'6 Defaults parameters'!$B$9:$B$18,0),MATCH(Y$12,'6 Defaults parameters'!$T$8:$Y$8,0))","v":71078.600000000006},{"$f":"INDEX('6 Defaults parameters'!$T$9:$Y$18,MATCH($A24&\" - \"&$E24,'6 Defaults parameters'!$B$9:$B$18,0),MATCH(Z$12,'6 Defaults parameters'!$T$8:$Y$8,0))","v":71078.600000000006},{"$f":"INDEX('6 Defaults parameters'!$T$9:$Y$18,MATCH($A24&\" - \"&$E24,'6 Defaults parameters'!$B$9:$B$18,0),MATCH(AA$12,'6 Defaults parameters'!$T$8:$Y$8,0))","v":71078.600000000006},{"$f":"INDEX('6 Defaults parameters'!$T$9:$Y$18,MATCH($A24&\" - \"&$E24,'6 Defaults parameters'!$B$9:$B$18,0),MATCH(AB$12,'6 Defaults parameters'!$T$8:$Y$8,0))","v":71078.600000000006},null,0,0,0,0,0,0,0,0,0,0,0,0,null,{"$f":"G24*SUMIFS('1A Input Base and BAU'!$D$74:$D$89,'1A Input Base and BAU'!$B$74:$B$89,'4A Calcul. BAU city'!$C24)","v":0},{"$f":"H24*SUMIFS('1A Input Base and BAU'!$D$74:$D$89,'1A Input Base and BAU'!$B$74:$B$89,'4A Calcul. BAU city'!$C24)","v":0},{"$f":"I24*SUMIFS('1A Input Base and BAU'!$D$74:$D$89,'1A Input Base and BAU'!$B$74:$B$89,'4A Calcul. BAU city'!$C24)","v":0},{"$f":"J24*SUMIFS('1A Input Base and BAU'!$D$74:$D$89,'1A Input Base and BAU'!$B$74:$B$89,'4A Calcul. BAU city'!$C24)","v":0},{"$f":"K24*SUMIFS('1A Input Base and BAU'!$D$74:$D$89,'1A Input Base and BAU'!$B$74:$B$89,'4A Calcul. BAU city'!$C24)","v":0},{"$f":"L24*SUMIFS('1A Input Base and BAU'!$D$74:$D$89,'1A Input Base and BAU'!$B$74:$B$89,'4A Calcul. BAU city'!$C24)","v":0}]
["Road","Individual taxi","Individual taxi","Passengers",{"$f":"Electric","v":"Electric"},null,{"$f":"+SUMIFS('1A Input Base and BAU'!C$49:C$64,'1A Input Base and BAU'!$B$49:$B$64,'4A Calcul. BAU city'!$C25)*SUMIFS('1A Input Base and BAU'!D$100:D$163,'1A Input Base and BAU'!$B$100:$B$163,$C25,'1A Input Base and BAU'!$C$100:$C$163,$E25)","v":0},{"$f":"+SUMIFS('1A Input Base and BAU'!D$49:D$64,'1A Input Base and BAU'!$B$49:$B$64,'4A Calcul. BAU city'!$C25)*SUMIFS('1A Input Base and BAU'!E$100:E$163,'1A Input Base and BAU'!$B$100:$B$163,$C25,'1A Input Base and BAU'!$C$100:$C$163,$E25)","v":0},{"$f":"+SUMIFS('1A Input Base and BAU'!E$49:E$64,'1A Input Base and BAU'!$B$49:$B$64,'4A Calcul. BAU city'!$C25)*SUMIFS('1A Input Base and BAU'!F$100:F$163,'1A Input Base and BAU'!$B$100:$B$163,$C25,'1A Input Base and BAU'!$C$100:$C$163,$E25)","v":0},{"$f":"+SUMIFS('1A Input Base and BAU'!F$49:F$64,'1A Input Base and BAU'!$B$49:$B$64,'4A Calcul. BAU city'!$C25)*SUMIFS('1A Input Base and BAU'!G$100:G$163,'1A Input Base and BAU'!$B$100:$B$163,$C25,'1A Input Base and BAU'!$C$100:$C$163,$E25)","v":0},{"$f":"+SUMIFS('1A Input Base and BAU'!G$49:G$64,'1A Input Base and BAU'!$B$49:$B$64,'4A Calcul. BAU city'!$C25)*SUMIFS('1A Input Base and BAU'!H$100:H$163,'1A Input Base and BAU'!$B$100:$B$163,$C25,'1A Input Base and BAU'!$C$100:$C$163,$E25)","v":0},{"$f":"+SUMIFS('1A Input Base and BAU'!H$49:H$64,'1A Input Base and BAU'!$B$49:$B$64,'4A Calcul. BAU city'!$C25)*SUMIFS('1A Input Base and BAU'!I$100:I$163,'1A Input Base and BAU'!$B$100:$B$163,$C25,'1A Input Base and BAU'!$C$100:$C$163,$E25)","v":0},null,"kWh/100km",{"$f":"+SUMIFS('1A Input Base and BAU'!E$173:E$221,'1A Input Base and BAU'!$B$173:$B$221,'4A Calcul. BAU city'!$C25,'1A Input Base and BAU'!$C$173:$C$221,'4A Calcul. BAU city'!$E25)","v":0},{"$f":"+SUMIFS('1A Input Base and BAU'!F$173:F$221,'1A Input Base and BAU'!$B$173:$B$221,'4A Calcul. BAU city'!$C25,'1A Input Base and BAU'!$C$173:$C$221,'4A Calcul. BAU city'!$E25)","v":0},{"$f":"+SUMIFS('1A Input Base and BAU'!G$173:G$221,'1A Input Base and BAU'!$B$173:$B$221,'4A Calcul. BAU city'!$C25,'1A Input Base and BAU'!$C$173:$C$221,'4A Calcul. BAU city'!$E25)","v":0},{"$f":"+SUMIFS('1A Input Base and BAU'!H$173:H$221,'1A Input Base and BAU'!$B$173:$B$221,'4A Calcul. BAU city'!$C25,'1A Input Base and BAU'!$C$173:$C$221,'4A Calcul. BAU city'!$E25)","v":0},{"$f":"+SUMIFS('1A Input Base and BAU'!I$173:I$221,'1A Input Base and BAU'!$B$173:$B$221,'4A Calcul. BAU city'!$C25,'1A Input Base and BAU'!$C$173:$C$221,'4A Calcul. BAU city'!$E25)","v":0},{"$f":"+SUMIFS('1A Input Base and BAU'!J$173:J$221,'1A Input Base and BAU'!$B$173:$B$221,'4A Calcul. BAU city'!$C25,'1A Input Base and BAU'!$C$173:$C$221,'4A Calcul. BAU city'!$E25)","v":0},null,{"$f":"+IFERROR(VLOOKUP($A25&\" - \"&$E25,'6 Defaults parameters'!$B$9:$O$18,4,FALSE)*VLOOKUP($A25&\" - \"&$E25,'6 Defaults parameters'!$B$9:$O$18,3,FALSE),0)","v":3.6},{"$f":"INDEX('6 Defaults parameters'!$T$9:$Y$18,MATCH($A25&\" - \"&$E25,'6 Defaults parameters'!$B$9:$B$18,0),MATCH(W$12,'6 Defaults parameters'!$T$8:$Y$8,0))","v":0},{"$f":"INDEX('6 Defaults parameters'!$T$9:$Y$18,MATCH($A25&\" - \"&$E25,'6 Defaults parameters'!$B$9:$B$18,0),MATCH(X$12,'6 Defaults parameters'!$T$8:$Y$8,0))","v":0},{"$f":"INDEX('6 Defaults parameters'!$T$9:$Y$18,MATCH($A25&\" - \"&$E25,'6 Defaults parameters'!$B$9:$B$18,0),MATCH(Y$12,'6 Defaults parameters'!$T$8:$Y$8,0))","v":0},{"$f":"INDEX('6 Defaults parameters'!$T$9:$Y$18,MATCH($A25&\" - \"&$E25,'6 Defaults parameters'!$B$9:$B$18,0),MATCH(Z$12,'6 Defaults parameters'!$T$8:$Y$8,0))","v":0},{"$f":"INDEX('6 Defaults parameters'!$T$9:$Y$18,MATCH($A25&\" - \"&$E25,'6 Defaults parameters'!$B$9:$B$18,0),MATCH(AA$12,'6 Defaults parameters'!$T$8:$Y$8,0))","v":0},{"$f":"INDEX('6 Defaults parameters'!$T$9:$Y$18,MATCH($A25&\" - \"&$E25,'6 Defaults parameters'!$B$9:$B$18,0),MATCH(AB$12,'6 Defaults parameters'!$T$8:$Y$8,0))","v":0},null,0,0,0,0,0,0,0,0,0,0,0,0,null,{"$f":"G25*SUMIFS('1A Input Base and BAU'!$D$74:$D$89,'1A Input Base and BAU'!$B$74:$B$89,'4A Calcul. BAU city'!$C25)","v":0},{"$f":"H25*SUMIFS('1A Input Base and BAU'!$D$74:$D$89,'1A Input Base and BAU'!$B$74:$B$89,'4A Calcul. BAU city'!$C25)","v":0},{"$f":"I25*SUMIFS('1A Input Base and BAU'!$D$74:$D$89,'1A Input Base and BAU'!$B$74:$B$89,'4A Calcul. BAU city'!$C25)","v":0},{"$f":"J25*SUMIFS('1A Input Base and BAU'!$D$74:$D$89,'1A Input Base and BAU'!$B$74:$B$89,'4A Calcul. BAU city'!$C25)","v":0},{"$f":"K25*SUMIFS('1A Input Base and BAU'!$D$74:$D$89,'1A Input Base and BAU'!$B$74:$B$89,'4A Calcul. BAU city'!$C25)","v":0},{"$f":"L25*SUMIFS('1A Input Base and BAU'!$D$74:$D$89,'1A Input Base and BAU'!$B$74:$B$89,'4A Calcul. BAU city'!$C25)","v":0}]
["Road",{"$f":"Motorcycle","v":"Motorcycle"},{"$f":"Motorcycle","v":"Motorcycle"},{"$f":"Pass","v":"Passengers"},{"$f":"Gasoline","v":"Gasoline"},null,{"$f":"+SUMIFS('1A Input Base and BAU'!C$49:C$64,'1A Input Base and BAU'!$B$49:$B$64,'4A Calcul. BAU city'!$C26)*SUMIFS('1A Input Base and BAU'!D$100:D$163,'1A Input Base and BAU'!$B$100:$B$163,$C26,'1A Input Base and BAU'!$C$100:$C$163,$E26)","v":0},{"$f":"+SUMIFS('1A Input Base and BAU'!D$49:D$64,'1A Input Base and BAU'!$B$49:$B$64,'4A Calcul. BAU city'!$C26)*SUMIFS('1A Input Base and BAU'!E$100:E$163,'1A Input Base and BAU'!$B$100:$B$163,$C26,'1A Input Base and BAU'!$C$100:$C$163,$E26)","v":0},{"$f":"+SUMIFS('1A Input Base and BAU'!E$49:E$64,'1A Input Base and BAU'!$B$49:$B$64,'4A Calcul. BAU city'!$C26)*SUMIFS('1A Input Base and BAU'!F$100:F$163,'1A Input Base and BAU'!$B$100:$B$163,$C26,'1A Input Base and BAU'!$C$100:$C$163,$E26)","v":0},{"$f":"+SUMIFS('1A Input Base and BAU'!F$49:F$64,'1A Input Base and BAU'!$B$49:$B$64,'4A Calcul. BAU city'!$C26)*SUMIFS('1A Input Base and BAU'!G$100:G$163,'1A Input Base and BAU'!$B$100:$B$163,$C26,'1A Input Base and BAU'!$C$100:$C$163,$E26)","v":0},{"$f":"+SUMIFS('1A Input Base and BAU'!G$49:G$64,'1A Input Base and BAU'!$B$49:$B$64,'4A Calcul. BAU city'!$C26)*SUMIFS('1A Input Base and BAU'!H$100:H$163,'1A Input Base and BAU'!$B$100:$B$163,$C26,'1A Input Base and BAU'!$C$100:$C$163,$E26)","v":0},{"$f":"+SUMIFS('1A Input Base and BAU'!H$49:H$64,'1A Input Base and BAU'!$B$49:$B$64,'4A Calcul. BAU city'!$C26)*SUMIFS('1A Input Base and BAU'!I$100:I$163,'1A Input Base and BAU'!$B$100:$B$163,$C26,'1A Input Base and BAU'!$C$100:$C$163,$E26)","v":0},null,"l/100 km",{"$f":"+SUMIFS('1A Input Base and BAU'!E$173:E$221,'1A Input Base and BAU'!$B$173:$B$221,'4A Calcul. BAU city'!$C26,'1A Input Base and BAU'!$C$173:$C$221,'4A Calcul. BAU city'!$E26)","v":0},{"$f":"+SUMIFS('1A Input Base and BAU'!F$173:F$221,'1A Input Base and BAU'!$B$173:$B$221,'4A Calcul. BAU city'!$C26,'1A Input Base and BAU'!$C$173:$C$221,'4A Calcul. BAU city'!$E26)","v":0},{"$f":"+SUMIFS('1A Input Base and BAU'!G$173:G$221,'1A Input Base and BAU'!$B$173:$B$221,'4A Calcul. BAU city'!$C26,'1A Input Base and BAU'!$C$173:$C$221,'4A Calcul. BAU city'!$E26)","v":0},{"$f":"+SUMIFS('1A Input Base and BAU'!H$173:H$221,'1A Input Base and BAU'!$B$173:$B$221,'4A Calcul. BAU city'!$C26,'1A Input Base and BAU'!$C$173:$C$221,'4A Calcul. BAU city'!$E26)","v":0},{"$f":"+SUMIFS('1A Input Base and BAU'!I$173:I$221,'1A Input Base and BAU'!$B$173:$B$221,'4A Calcul. BAU city'!$C26,'1A Input Base and BAU'!$C$173:$C$221,'4A Calcul. BAU city'!$E26)","v":0},{"$f":"+SUMIFS('1A Input Base and BAU'!J$173:J$221,'1A Input Base and BAU'!$B$173:$B$221,'4A Calcul. BAU city'!$C26,'1A Input Base and BAU'!$C$173:$C$221,'4A Calcul. BAU city'!$E26)","v":0},null,{"$f":"+IFERROR(VLOOKUP($A26&\" - \"&$E26,'6 Defaults parameters'!$B$9:$O$18,4,FALSE)*VLOOKUP($A26&\" - \"&$E26,'6 Defaults parameters'!$B$9:$O$18,3,FALSE),0)","v":32.81481481481481},{"$f":"INDEX('6 Defaults parameters'!$T$9:$Y$18,MATCH($A26&\" - \"&$E26,'6 Defaults parameters'!$B$9:$B$18,0),MATCH(W$12,'6 Defaults parameters'!$T$8:$Y$8,0))","v":71078.600000000006},{"$f":"INDEX('6 Defaults parameters'!$T$9:$Y$18,MATCH($A26&\" - \"&$E26,'6 Defaults parameters'!$B$9:$B$18,0),MATCH(X$12,'6 Defaults parameters'!$T$8:$Y$8,0))","v":71078.600000000006},{"$f":"INDEX('6 Defaults parameters'!$T$9:$Y$18,MATCH($A26&\" - \"&$E26,'6 Defaults parameters'!$B$9:$B$18,0),MATCH(Y$12,'6 Defaults parameters'!$T$8:$Y$8,0))","v":71078.600000000006},{"$f":"INDEX('6 Defaults parameters'!$T$9:$Y$18,MATCH($A26&\" - \"&$E26,'6 Defaults parameters'!$B$9:$B$18,0),MATCH(Z$12,'6 Defaults parameters'!$T$8:$Y$8,0))","v":71078.600000000006},{"$f":"INDEX('6 Defaults parameters'!$T$9:$Y$18,MATCH($A26&\" - \"&$E26,'6 Defaults parameters'!$B$9:$B$18,0),MATCH(AA$12,'6 Defaults parameters'!$T$8:$Y$8,0))","v":71078.600000000006},{"$f":"INDEX('6 Defaults parameters'!$T$9:$Y$18,MATCH($A26&\" - \"&$E26,'6 Defaults parameters'!$B$9:$B$18,0),MATCH(AB$12,'6 Defaults parameters'!$T$8:$Y$8,0))","v":71078.600000000006},null,{"$f":"$V26*G26*O26/100","v":0},{"$f":"$V26*H26*P26/100","v":0},{"$f":"$V26*I26*Q26/100","v":0},{"$f":"$V26*J26*R26/100","v":0},{"$f":"$V26*K26*S26/100","v":0},{"$f":"$V26*L26*T26/100","v":0},{"$f":"+W26*AD26/10^6","v":0},0,0,0,0,0,null,{"$f":"G26*SUMIFS('1A Input Base and BAU'!$D$74:$D$89,'1A Input Base and BAU'!$B$74:$B$89,'4A Calcul. BAU city'!$C26)","v":0},{"$f":"H26*SUMIFS('1A Input Base and BAU'!$D$74:$D$89,'1A Input Base and BAU'!$B$74:$B$89,'4A Calcul. BAU city'!$C26)","v":0},{"$f":"I26*SUMIFS('1A Input Base and BAU'!$D$74:$D$89,'1A Input Base and BAU'!$B$74:$B$89,'4A Calcul. BAU city'!$C26)","v":0},{"$f":"J26*SUMIFS('1A Input Base and BAU'!$D$74:$D$89,'1A Input Base and BAU'!$B$74:$B$89,'4A Calcul. BAU city'!$C26)","v":0},{"$f":"K26*SUMIFS('1A Input Base and BAU'!$D$74:$D$89,'1A Input Base and BAU'!$B$74:$B$89,'4A Calcul. BAU city'!$C26)","v":0},{"$f":"L26*SUMIFS('1A Input Base and BAU'!$D$74:$D$89,'1A Input Base and BAU'!$B$74:$B$89,'4A Calcul. BAU city'!$C26)","v":0}]
["Road",{"$f":"Motorcycle","v":"Motorcycle"},{"$f":"Motorcycle","v":"Motorcycle"},{"$f":"Pass","v":"Passengers"},{"$f":"Electric","v":"Electric"},null,{"$f":"+SUMIFS('1A Input Base and BAU'!C$49:C$64,'1A Input Base and BAU'!$B$49:$B$64,'4A Calcul. BAU city'!$C27)*SUMIFS('1A Input Base and BAU'!D$100:D$163,'1A Input Base and BAU'!$B$100:$B$163,$C27,'1A Input Base and BAU'!$C$100:$C$163,$E27)","v":0},{"$f":"+SUMIFS('1A Input Base and BAU'!D$49:D$64,'1A Input Base and BAU'!$B$49:$B$64,'4A Calcul. BAU city'!$C27)*SUMIFS('1A Input Base and BAU'!E$100:E$163,'1A Input Base and BAU'!$B$100:$B$163,$C27,'1A Input Base and BAU'!$C$100:$C$163,$E27)","v":0},{"$f":"+SUMIFS('1A Input Base and BAU'!E$49:E$64,'1A Input Base and BAU'!$B$49:$B$64,'4A Calcul. BAU city'!$C27)*SUMIFS('1A Input Base and BAU'!F$100:F$163,'1A Input Base and BAU'!$B$100:$B$163,$C27,'1A Input Base and BAU'!$C$100:$C$163,$E27)","v":0},{"$f":"+SUMIFS('1A Input Base and BAU'!F$49:F$64,'1A Input Base and BAU'!$B$49:$B$64,'4A Calcul. BAU city'!$C27)*SUMIFS('1A Input Base and BAU'!G$100:G$163,'1A Input Base and BAU'!$B$100:$B$163,$C27,'1A Input Base and BAU'!$C$100:$C$163,$E27)","v":0},{"$f":"+SUMIFS('1A Input Base and BAU'!G$49:G$64,'1A Input Base and BAU'!$B$49:$B$64,'4A Calcul. BAU city'!$C27)*SUMIFS('1A Input Base and BAU'!H$100:H$163,'1A Input Base and BAU'!$B$100:$B$163,$C27,'1A Input Base and BAU'!$C$100:$C$163,$E27)","v":0},{"$f":"+SUMIFS('1A Input Base and BAU'!H$49:H$64,'1A Input Base and BAU'!$B$49:$B$64,'4A Calcul. BAU city'!$C27)*SUMIFS('1A Input Base and BAU'!I$100:I$163,'1A Input Base and BAU'!$B$100:$B$163,$C27,'1A Input Base and BAU'!$C$100:$C$163,$E27)","v":0},null,"kWh/100km",{"$f":"+SUMIFS('1A Input Base and BAU'!E$173:E$221,'1A Input Base and BAU'!$B$173:$B$221,'4A Calcul. BAU city'!$C27,'1A Input Base and BAU'!$C$173:$C$221,'4A Calcul. BAU city'!$E27)","v":0},{"$f":"+SUMIFS('1A Input Base and BAU'!F$173:F$221,'1A Input Base and BAU'!$B$173:$B$221,'4A Calcul. BAU city'!$C27,'1A Input Base and BAU'!$C$173:$C$221,'4A Calcul. BAU city'!$E27)","v":0},{"$f":"+SUMIFS('1A Input Base and BAU'!G$173:G$221,'1A Input Base and BAU'!$B$173:$B$221,'4A Calcul. BAU city'!$C27,'1A Input Base and BAU'!$C$173:$C$221,'4A Calcul. BAU city'!$E27)","v":0},{"$f":"+SUMIFS('1A Input Base and BAU'!H$173:H$221,'1A Input Base and BAU'!$B$173:$B$221,'4A Calcul. BAU city'!$C27,'1A Input Base and BAU'!$C$173:$C$221,'4A Calcul. BAU city'!$E27)","v":0},{"$f":"+SUMIFS('1A Input Base and BAU'!I$173:I$221,'1A Input Base and BAU'!$B$173:$B$221,'4A Calcul. BAU city'!$C27,'1A Input Base and BAU'!$C$173:$C$221,'4A Calcul. BAU city'!$E27)","v":0},{"$f":"+SUMIFS('1A Input Base and BAU'!J$173:J$221,'1A Input Base and BAU'!$B$173:$B$221,'4A Calcul. BAU city'!$C27,'1A Input Base and BAU'!$C$173:$C$221,'4A Calcul. BAU city'!$E27)","v":0},null,{"$f":"+IFERROR(VLOOKUP($A27&\" - \"&$E27,'6 Defaults parameters'!$B$9:$O$18,4,FALSE)*VLOOKUP($A27&\" - \"&$E27,'6 Defaults parameters'!$B$9:$O$18,3,FALSE),0)","v":3.6},{"$f":"INDEX('6 Defaults parameters'!$T$9:$Y$18,MATCH($A27&\" - \"&$E27,'6 Defaults parameters'!$B$9:$B$18,0),MATCH(W$12,'6 Defaults parameters'!$T$8:$Y$8,0))","v":0},{"$f":"INDEX('6 Defaults parameters'!$T$9:$Y$18,MATCH($A27&\" - \"&$E27,'6 Defaults parameters'!$B$9:$B$18,0),MATCH(X$12,'6 Defaults parameters'!$T$8:$Y$8,0))","v":0},{"$f":"INDEX('6 Defaults parameters'!$T$9:$Y$18,MATCH($A27&\" - \"&$E27,'6 Defaults parameters'!$B$9:$B$18,0),MATCH(Y$12,'6 Defaults parameters'!$T$8:$Y$8,0))","v":0},{"$f":"INDEX('6 Defaults parameters'!$T$9:$Y$18,MATCH($A27&\" - \"&$E27,'6 Defaults parameters'!$B$9:$B$18,0),MATCH(Z$12,'6 Defaults parameters'!$T$8:$Y$8,0))","v":0},{"$f":"INDEX('6 Defaults parameters'!$T$9:$Y$18,MATCH($A27&\" - \"&$E27,'6 Defaults parameters'!$B$9:$B$18,0),MATCH(AA$12,'6 Defaults parameters'!$T$8:$Y$8,0))","v":0},{"$f":"INDEX('6 Defaults parameters'!$T$9:$Y$18,MATCH($A27&\" - \"&$E27,'6 Defaults parameters'!$B$9:$B$18,0),MATCH(AB$12,'6 Defaults parameters'!$T$8:$Y$8,0))","v":0},null,0,0,0,0,0,0,0,0,0,0,0,0,null,{"$f":"G27*SUMIFS('1A Input Base and BAU'!$D$74:$D$89,'1A Input Base and BAU'!$B$74:$B$89,'4A Calcul. BAU city'!$C27)","v":0},{"$f":"H27*SUMIFS('1A Input Base and BAU'!$D$74:$D$89,'1A Input Base and BAU'!$B$74:$B$89,'4A Calcul. BAU city'!$C27)","v":0},{"$f":"I27*SUMIFS('1A Input Base and BAU'!$D$74:$D$89,'1A Input Base and BAU'!$B$74:$B$89,'4A Calcul. BAU city'!$C27)","v":0},{"$f":"J27*SUMIFS('1A Input Base and BAU'!$D$74:$D$89,'1A Input Base and BAU'!$B$74:$B$89,'4A Calcul. BAU city'!$C27)","v":0},{"$f":"K27*SUMIFS('1A Input Base and BAU'!$D$74:$D$89,'1A Input Base and BAU'!$B$74:$B$89,'4A Calcul. BAU city'!$C27)","v":0},{"$f":"L27*SUMIFS('1A Input Base and BAU'!$D$74:$D$89,'1A Input Base and BAU'!$B$74:$B$89,'4A Calcul. BAU city'!$C27)","v":0}]
["Road",{"$f":"Mototaxi","v":"Motorcycle taxi"},{"$f":"Mototaxi","v":"Motorcycle taxi"},{"$f":"Pass","v":"Passengers"},{"$f":"Gasoline","v":"Gasoline"},null,{"$f":"+SUMIFS('1A Input Base and BAU'!C$49:C$64,'1A Input Base and BAU'!$B$49:$B$64,'4A Calcul. BAU city'!$C28)*SUMIFS('1A Input Base and BAU'!D$100:D$163,'1A Input Base and BAU'!$B$100:$B$163,$C28,'1A Input Base and BAU'!$C$100:$C$163,$E28)","v":0},{"$f":"+SUMIFS('1A Input Base and BAU'!D$49:D$64,'1A Input Base and BAU'!$B$49:$B$64,'4A Calcul. BAU city'!$C28)*SUMIFS('1A Input Base and BAU'!E$100:E$163,'1A Input Base and BAU'!$B$100:$B$163,$C28,'1A Input Base and BAU'!$C$100:$C$163,$E28)","v":0},{"$f":"+SUMIFS('1A Input Base and BAU'!E$49:E$64,'1A Input Base and BAU'!$B$49:$B$64,'4A Calcul. BAU city'!$C28)*SUMIFS('1A Input Base and BAU'!F$100:F$163,'1A Input Base and BAU'!$B$100:$B$163,$C28,'1A Input Base and BAU'!$C$100:$C$163,$E28)","v":0},{"$f":"+SUMIFS('1A Input Base and BAU'!F$49:F$64,'1A Input Base and BAU'!$B$49:$B$64,'4A Calcul. BAU city'!$C28)*SUMIFS('1A Input Base and BAU'!G$100:G$163,'1A Input Base and BAU'!$B$100:$B$163,$C28,'1A Input Base and BAU'!$C$100:$C$163,$E28)","v":0},{"$f":"+SUMIFS('1A Input Base and BAU'!G$49:G$64,'1A Input Base and BAU'!$B$49:$B$64,'4A Calcul. BAU city'!$C28)*SUMIFS('1A Input Base and BAU'!H$100:H$163,'1A Input Base and BAU'!$B$100:$B$163,$C28,'1A Input Base and BAU'!$C$100:$C$163,$E28)","v":0},{"$f":"+SUMIFS('1A Input Base and BAU'!H$49:H$64,'1A Input Base and BAU'!$B$49:$B$64,'4A Calcul. BAU city'!$C28)*SUMIFS('1A Input Base and BAU'!I$100:I$163,'1A Input Base and BAU'!$B$100:$B$163,$C28,'1A Input Base and BAU'!$C$100:$C$163,$E28)","v":0},null,"l/100 km",{"$f":"+SUMIFS('1A Input Base and BAU'!E$173:E$221,'1A Input Base and BAU'!$B$173:$B$221,'4A Calcul. BAU city'!$C28,'1A Input Base and BAU'!$C$173:$C$221,'4A Calcul. BAU city'!$E28)","v":0},{"$f":"+SUMIFS('1A Input Base and BAU'!F$173:F$221,'1A Input Base and BAU'!$B$173:$B$221,'4A Calcul. BAU city'!$C28,'1A Input Base and BAU'!$C$173:$C$221,'4A Calcul. BAU city'!$E28)","v":0},{"$f":"+SUMIFS('1A Input Base and BAU'!G$173:G$221,'1A Input Base and BAU'!$B$173:$B$221,'4A Calcul. BAU city'!$C28,'1A Input Base and BAU'!$C$173:$C$221,'4A Calcul. BAU city'!$E28)","v":0},{"$f":"+SUMIFS('1A Input Base and BAU'!H$173:H$221,'1A Input Base and BAU'!$B$173:$B$221,'4A Calcul. BAU city'!$C28,'1A Input Base and BAU'!$C$173:$C$221,'4A Calcul. BAU city'!$E28)","v":0},{"$f":"+SUMIFS('1A Input Base and BAU'!I$173:I$221,'1A Input Base and BAU'!$B$173:$B$221,'4A Calcul. BAU city'!$C28,'1A Input Base and BAU'!$C$173:$C$221,'4A Calcul. BAU city'!$E28)","v":0},{"$f":"+SUMIFS('1A Input Base and BAU'!J$173:J$221,'1A Input Base and BAU'!$B$173:$B$221,'4A Calcul. BAU city'!$C28,'1A Input Base and BAU'!$C$173:$C$221,'4A Calcul. BAU city'!$E28)","v":0},null,{"$f":"+IFERROR(VLOOKUP($A28&\" - \"&$E28,'6 Defaults parameters'!$B$9:$O$18,4,FALSE)*VLOOKUP($A28&\" - \"&$E28,'6 Defaults parameters'!$B$9:$O$18,3,FALSE),0)","v":32.81481481481481},{"$f":"INDEX('6 Defaults parameters'!$T$9:$Y$18,MATCH($A28&\" - \"&$E28,'6 Defaults parameters'!$B$9:$B$18,0),MATCH(W$12,'6 Defaults parameters'!$T$8:$Y$8,0))","v":71078.600000000006},{"$f":"INDEX('6 Defaults parameters'!$T$9:$Y$18,MATCH($A28&\" - \"&$E28,'6 Defaults parameters'!$B$9:$B$18,0),MATCH(X$12,'6 Defaults parameters'!$T$8:$Y$8,0))","v":71078.600000000006},{"$f":"INDEX('6 Defaults parameters'!$T$9:$Y$18,MATCH($A28&\" - \"&$E28,'6 Defaults parameters'!$B$9:$B$18,0),MATCH(Y$12,'6 Defaults parameters'!$T$8:$Y$8,0))","v":71078.600000000006},{"$f":"INDEX('6 Defaults parameters'!$T$9:$Y$18,MATCH($A28&\" - \"&$E28,'6 Defaults parameters'!$B$9:$B$18,0),MATCH(Z$12,'6 Defaults parameters'!$T$8:$Y$8,0))","v":71078.600000000006},{"$f":"INDEX('6 Defaults parameters'!$T$9:$Y$18,MATCH($A28&\" - \"&$E28,'6 Defaults parameters'!$B$9:$B$18,0),MATCH(AA$12,'6 Defaults parameters'!$T$8:$Y$8,0))","v":71078.600000000006},{"$f":"INDEX('6 Defaults parameters'!$T$9:$Y$18,MATCH($A28&\" - \"&$E28,'6 Defaults parameters'!$B$9:$B$18,0),MATCH(AB$12,'6 Defaults parameters'!$T$8:$Y$8,0))","v":71078.600000000006},null,0,0,0,0,0,0,{"$f":"+W28*AD28/10^6","v":0},0,0,0,0,0,null,{"$f":"G28*SUMIFS('1A Input Base and BAU'!$D$74:$D$89,'1A Input Base and BAU'!$B$74:$B$89,'4A Calcul. BAU city'!$C28)","v":0},{"$f":"H28*SUMIFS('1A Input Base and BAU'!$D$74:$D$89,'1A Input Base and BAU'!$B$74:$B$89,'4A Calcul. BAU city'!$C28)","v":0},{"$f":"I28*SUMIFS('1A Input Base and BAU'!$D$74:$D$89,'1A Input Base and BAU'!$B$74:$B$89,'4A Calcul. BAU city'!$C28)","v":0},{"$f":"J28*SUMIFS('1A Input Base and BAU'!$D$74:$D$89,'1A Input Base and BAU'!$B$74:$B$89,'4A Calcul. BAU city'!$C28)","v":0},{"$f":"K28*SUMIFS('1A Input Base and BAU'!$D$74:$D$89,'1A Input Base and BAU'!$B$74:$B$89,'4A Calcul. BAU city'!$C28)","v":0},{"$f":"L28*SUMIFS('1A Input Base and BAU'!$D$74:$D$89,'1A Input Base and BAU'!$B$74:$B$89,'4A Calcul. BAU city'!$C28)","v":0}]
["Road",{"$f":"Mototaxi","v":"Motorcycle taxi"},{"$f":"Mototaxi","v":"Motorcycle taxi"},{"$f":"Pass","v":"Passengers"},{"$f":"Electric","v":"Electric"},null,{"$f":"+SUMIFS('1A Input Base and BAU'!C$49:C$64,'1A Input Base and BAU'!$B$49:$B$64,'4A Calcul. BAU city'!$C29)*SUMIFS('1A Input Base and BAU'!D$100:D$163,'1A Input Base and BAU'!$B$100:$B$163,$C29,'1A Input Base and BAU'!$C$100:$C$163,$E29)","v":0},{"$f":"+SUMIFS('1A Input Base and BAU'!D$49:D$64,'1A Input Base and BAU'!$B$49:$B$64,'4A Calcul. BAU city'!$C29)*SUMIFS('1A Input Base and BAU'!E$100:E$163,'1A Input Base and BAU'!$B$100:$B$163,$C29,'1A Input Base and BAU'!$C$100:$C$163,$E29)","v":0},{"$f":"+SUMIFS('1A Input Base and BAU'!E$49:E$64,'1A Input Base and BAU'!$B$49:$B$64,'4A Calcul. BAU city'!$C29)*SUMIFS('1A Input Base and BAU'!F$100:F$163,'1A Input Base and BAU'!$B$100:$B$163,$C29,'1A Input Base and BAU'!$C$100:$C$163,$E29)","v":0},{"$f":"+SUMIFS('1A Input Base and BAU'!F$49:F$64,'1A Input Base and BAU'!$B$49:$B$64,'4A Calcul. BAU city'!$C29)*SUMIFS('1A Input Base and BAU'!G$100:G$163,'1A Input Base and BAU'!$B$100:$B$163,$C29,'1A Input Base and BAU'!$C$100:$C$163,$E29)","v":0},{"$f":"+SUMIFS('1A Input Base and BAU'!G$49:G$64,'1A Input Base and BAU'!$B$49:$B$64,'4A Calcul. BAU city'!$C29)*SUMIFS('1A Input Base and BAU'!H$100:H$163,'1A Input Base and BAU'!$B$100:$B$163,$C29,'1A Input Base and BAU'!$C$100:$C$163,$E29)","v":0},{"$f":"+SUMIFS('1A Input Base and BAU'!H$49:H$64,'1A Input Base and BAU'!$B$49:$B$64,'4A Calcul. BAU city'!$C29)*SUMIFS('1A Input Base and BAU'!I$100:I$163,'1A Input Base and BAU'!$B$100:$B$163,$C29,'1A Input Base and BAU'!$C$100:$C$163,$E29)","v":0},null,"kWh/100km",{"$f":"+SUMIFS('1A Input Base and BAU'!E$173:E$221,'1A Input Base and BAU'!$B$173:$B$221,'4A Calcul. BAU city'!$C29,'1A Input Base and BAU'!$C$173:$C$221,'4A Calcul. BAU city'!$E29)","v":0},{"$f":"+SUMIFS('1A Input Base and BAU'!F$173:F$221,'1A Input Base and BAU'!$B$173:$B$221,'4A Calcul. BAU city'!$C29,'1A Input Base and BAU'!$C$173:$C$221,'4A Calcul. BAU city'!$E29)","v":0},{"$f":"+SUMIFS('1A Input Base and BAU'!G$173:G$221,'1A Input Base and BAU'!$B$173:$B$221,'4A Calcul. BAU city'!$C29,'1A Input Base and BAU'!$C$173:$C$221,'4A Calcul. BAU city'!$E29)","v":0},{"$f":"+SUMIFS('1A Input Base and BAU'!H$173:H$221,'1A Input Base and BAU'!$B$173:$B$221,'4A Calcul. BAU city'!$C29,'1A Input Base and BAU'!$C$173:$C$221,'4A Calcul. BAU city'!$E29)","v":0},{"$f":"+SUMIFS('1A Input Base and BAU'!I$173:I$221,'1A Input Base and BAU'!$B$173:$B$221,'4A Calcul. BAU city'!$C29,'1A Input Base and BAU'!$C$173:$C$221,'4A Calcul. BAU city'!$E29)","v":0},{"$f":"+SUMIFS('1A Input Base and BAU'!J$173:J$221,'1A Input Base and BAU'!$B$173:$B$221,'4A Calcul. BAU city'!$C29,'1A Input Base and BAU'!$C$173:$C$221,'4A Calcul. BAU city'!$E29)","v":0},null,{"$f":"+IFERROR(VLOOKUP($A29&\" - \"&$E29,'6 Defaults parameters'!$B$9:$O$18,4,FALSE)*VLOOKUP($A29&\" - \"&$E29,'6 Defaults parameters'!$B$9:$O$18,3,FALSE),0)","v":3.6},{"$f":"INDEX('6 Defaults parameters'!$T$9:$Y$18,MATCH($A29&\" - \"&$E29,'6 Defaults parameters'!$B$9:$B$18,0),MATCH(W$12,'6 Defaults parameters'!$T$8:$Y$8,0))","v":0},{"$f":"INDEX('6 Defaults parameters'!$T$9:$Y$18,MATCH($A29&\" - \"&$E29,'6 Defaults parameters'!$B$9:$B$18,0),MATCH(X$12,'6 Defaults parameters'!$T$8:$Y$8,0))","v":0},{"$f":"INDEX('6 Defaults parameters'!$T$9:$Y$18,MATCH($A29&\" - \"&$E29,'6 Defaults parameters'!$B$9:$B$18,0),MATCH(Y$12,'6 Defaults parameters'!$T$8:$Y$8,0))","v":0},{"$f":"INDEX('6 Defaults parameters'!$T$9:$Y$18,MATCH($A29&\" - \"&$E29,'6 Defaults parameters'!$B$9:$B$18,0),MATCH(Z$12,'6 Defaults parameters'!$T$8:$Y$8,0))","v":0},{"$f":"INDEX('6 Defaults parameters'!$T$9:$Y$18,MATCH($A29&\" - \"&$E29,'6 Defaults parameters'!$B$9:$B$18,0),MATCH(AA$12,'6 Defaults parameters'!$T$8:$Y$8,0))","v":0},{"$f":"INDEX('6 Defaults parameters'!$T$9:$Y$18,MATCH($A29&\" - \"&$E29,'6 Defaults parameters'!$B$9:$B$18,0),MATCH(AB$12,'6 Defaults parameters'!$T$8:$Y$8,0))","v":0},null,0,0,0,0,0,0,0,0,0,0,0,0,null,{"$f":"G29*SUMIFS('1A Input Base and BAU'!$D$74:$D$89,'1A Input Base and BAU'!$B$74:$B$89,'4A Calcul. BAU city'!$C29)","v":0},{"$f":"H29*SUMIFS('1A Input Base and BAU'!$D$74:$D$89,'1A Input Base and BAU'!$B$74:$B$89,'4A Calcul. BAU city'!$C29)","v":0},{"$f":"I29*SUMIFS('1A Input Base and BAU'!$D$74:$D$89,'1A Input Base and BAU'!$B$74:$B$89,'4A Calcul. BAU city'!$C29)","v":0},{"$f":"J29*SUMIFS('1A Input Base and BAU'!$D$74:$D$89,'1A Input Base and BAU'!$B$74:$B$89,'4A Calcul. BAU city'!$C29)","v":0},{"$f":"K29*SUMIFS('1A Input Base and BAU'!$D$74:$D$89,'1A Input Base and BAU'!$B$74:$B$89,'4A Calcul. BAU city'!$C29)","v":0},{"$f":"L29*SUMIFS('1A Input Base and BAU'!$D$74:$D$89,'1A Input Base and BAU'!$B$74:$B$89,'4A Calcul. BAU city'!$C29)","v":0}]
["Road",{"$f":"PT","v":"PT"},{"$f":"Minibus","v":"Minibus"},"Passengers",{"$f":"Gasoline","v":"Gasoline"},null,{"$f":"+SUMIFS('1A Input Base and BAU'!C$49:C$64,'1A Input Base and BAU'!$B$49:$B$64,'4A Calcul. BAU city'!$C30)*SUMIFS('1A Input Base and BAU'!D$100:D$163,'1A Input Base and BAU'!$B$100:$B$163,$C30,'1A Input Base and BAU'!$C$100:$C$163,$E30)","v":0},{"$f":"+SUMIFS('1A Input Base and BAU'!D$49:D$64,'1A Input Base and BAU'!$B$49:$B$64,'4A Calcul. BAU city'!$C30)*SUMIFS('1A Input Base and BAU'!E$100:E$163,'1A Input Base and BAU'!$B$100:$B$163,$C30,'1A Input Base and BAU'!$C$100:$C$163,$E30)","v":0},{"$f":"+SUMIFS('1A Input Base and BAU'!E$49:E$64,'1A Input Base and BAU'!$B$49:$B$64,'4A Calcul. BAU city'!$C30)*SUMIFS('1A Input Base and BAU'!F$100:F$163,'1A Input Base and BAU'!$B$100:$B$163,$C30,'1A Input Base and BAU'!$C$100:$C$163,$E30)","v":0},{"$f":"+SUMIFS('1A Input Base and BAU'!F$49:F$64,'1A Input Base and BAU'!$B$49:$B$64,'4A Calcul. BAU city'!$C30)*SUMIFS('1A Input Base and BAU'!G$100:G$163,'1A Input Base and BAU'!$B$100:$B$163,$C30,'1A Input Base and BAU'!$C$100:$C$163,$E30)","v":0},{"$f":"+SUMIFS('1A Input Base and BAU'!G$49:G$64,'1A Input Base and BAU'!$B$49:$B$64,'4A Calcul. BAU city'!$C30)*SUMIFS('1A Input Base and BAU'!H$100:H$163,'1A Input Base and BAU'!$B$100:$B$163,$C30,'1A Input Base and BAU'!$C$100:$C$163,$E30)","v":0},{"$f":"+SUMIFS('1A Input Base and BAU'!H$49:H$64,'1A Input Base and BAU'!$B$49:$B$64,'4A Calcul. BAU city'!$C30)*SUMIFS('1A Input Base and BAU'!I$100:I$163,'1A Input Base and BAU'!$B$100:$B$163,$C30,'1A Input Base and BAU'!$C$100:$C$163,$E30)","v":0},null,"l/100 km",{"$f":"+SUMIFS('1A Input Base and BAU'!E$173:E$221,'1A Input Base and BAU'!$B$173:$B$221,'4A Calcul. BAU city'!$C30,'1A Input Base and BAU'!$C$173:$C$221,'4A Calcul. BAU city'!$E30)","v":0},{"$f":"+SUMIFS('1A Input Base and BAU'!F$173:F$221,'1A Input Base and BAU'!$B$173:$B$221,'4A Calcul. BAU city'!$C30,'1A Input Base and BAU'!$C$173:$C$221,'4A Calcul. BAU city'!$E30)","v":0},{"$f":"+SUMIFS('1A Input Base and BAU'!G$173:G$221,'1A Input Base and BAU'!$B$173:$B$221,'4A Calcul. BAU city'!$C30,'1A Input Base and BAU'!$C$173:$C$221,'4A Calcul. BAU city'!$E30)","v":0},{"$f":"+SUMIFS('1A Input Base and BAU'!H$173:H$221,'1A Input Base and BAU'!$B$173:$B$221,'4A Calcul. BAU city'!$C30,'1A Input Base and BAU'!$C$173:$C$221,'4A Calcul. BAU city'!$E30)","v":0},{"$f":"+SUMIFS('1A Input Base and BAU'!I$173:I$221,'1A Input Base and BAU'!$B$173:$B$221,'4A Calcul. BAU city'!$C30,'1A Input Base and BAU'!$C$173:$C$221,'4A Calcul. BAU city'!$E30)","v":0},{"$f":"+SUMIFS('1A Input Base and BAU'!J$173:J$221,'1A Input Base and BAU'!$B$173:$B$221,'4A Calcul. BAU city'!$C30,'1A Input Base and BAU'!$C$173:$C$221,'4A Calcul. BAU city'!$E30)","v":0},null,{"$f":"+IFERROR(VLOOKUP($A30&\" - \"&$E30,'6 Defaults parameters'!$B$9:$O$18,4,FALSE)*VLOOKUP($A30&\" - \"&$E30,'6 Defaults parameters'!$B$9:$O$18,3,FALSE),0)","v":32.81481481481481},{"$f":"INDEX('6 Defaults parameters'!$T$9:$Y$18,MATCH($A30&\" - \"&$E30,'6 Defaults parameters'!$B$9:$B$18,0),MATCH(W$12,'6 Defaults parameters'!$T$8:$Y$8,0))","v":71078.600000000006},{"$f":"INDEX('6 Defaults parameters'!$T$9:$Y$18,MATCH($A30&\" - \"&$E30,'6 Defaults parameters'!$B$9:$B$18,0),MATCH(X$12,'6 Defaults parameters'!$T$8:$Y$8,0))","v":71078.600000000006},{"$f":"INDEX('6 Defaults parameters'!$T$9:$Y$18,MATCH($A30&\" - \"&$E30,'6 Defaults parameters'!$B$9:$B$18,0),MATCH(Y$12,'6 Defaults parameters'!$T$8:$Y$8,0))","v":71078.600000000006},{"$f":"INDEX('6 Defaults parameters'!$T$9:$Y$18,MATCH($A30&\" - \"&$E30,'6 Defaults parameters'!$B$9:$B$18,0),MATCH(Z$12,'6 Defaults parameters'!$T$8:$Y$8,0))","v":71078.600000000006},{"$f":"INDEX('6 Defaults parameters'!$T$9:$Y$18,MATCH($A30&\" - \"&$E30,'6 Defaults parameters'!$B$9:$B$18,0),MATCH(AA$12,'6 Defaults parameters'!$T$8:$Y$8,0))","v":71078.600000000006},{"$f":"INDEX('6 Defaults parameters'!$T$9:$Y$18,MATCH($A30&\" - \"&$E30,'6 Defaults parameters'!$B$9:$B$18,0),MATCH(AB$12,'6 Defaults parameters'!$T$8:$Y$8,0))","v":71078.600000000006},{"$f":"\"\"","v":""},0,0,0,0,0,0,{"$f":"+W30*AD30/10^6","v":0},0,0,0,0,0,null,{"$f":"G30*SUMIFS('1A Input Base and BAU'!$D$74:$D$89,'1A Input Base and BAU'!$B$74:$B$89,'4A Calcul. BAU city'!$C30)","v":0},{"$f":"H30*SUMIFS('1A Input Base and BAU'!$D$74:$D$89,'1A Input Base and BAU'!$B$74:$B$89,'4A Calcul. BAU city'!$C30)","v":0},{"$f":"I30*SUMIFS('1A Input Base and BAU'!$D$74:$D$89,'1A Input Base and BAU'!$B$74:$B$89,'4A Calcul. BAU city'!$C30)","v":0},{"$f":"J30*SUMIFS('1A Input Base and BAU'!$D$74:$D$89,'1A Input Base and BAU'!$B$74:$B$89,'4A Calcul. BAU city'!$C30)","v":0},{"$f":"K30*SUMIFS('1A Input Base and BAU'!$D$74:$D$89,'1A Input Base and BAU'!$B$74:$B$89,'4A Calcul. BAU city'!$C30)","v":0},{"$f":"L30*SUMIFS('1A Input Base and BAU'!$D$74:$D$89,'1A Input Base and BAU'!$B$74:$B$89,'4A Calcul. BAU city'!$C30)","v":0},{"$f":"\"\"","v":""},{"$f":"\"\"","v":""},{"$f":"\"\"","v":""},{"$f":"\"\"","v":""},{"$f":"\"\"","v":""},{"$f":"\"\"","v":""}]
["Road","PT","Minibus","Passengers",{"$f":"Diesel","v":"Diesel"},null,{"$f":"+SUMIFS('1A Input Base and BAU'!C$49:C$64,'1A Input Base and BAU'!$B$49:$B$64,'4A Calcul. BAU city'!$C31)*SUMIFS('1A Input Base and BAU'!D$100:D$163,'1A Input Base and BAU'!$B$100:$B$163,$C31,'1A Input Base and BAU'!$C$100:$C$163,$E31)","v":0},{"$f":"+SUMIFS('1A Input Base and BAU'!D$49:D$64,'1A Input Base and BAU'!$B$49:$B$64,'4A Calcul. BAU city'!$C31)*SUMIFS('1A Input Base and BAU'!E$100:E$163,'1A Input Base and BAU'!$B$100:$B$163,$C31,'1A Input Base and BAU'!$C$100:$C$163,$E31)","v":0},{"$f":"+SUMIFS('1A Input Base and BAU'!E$49:E$64,'1A Input Base and BAU'!$B$49:$B$64,'4A Calcul. BAU city'!$C31)*SUMIFS('1A Input Base and BAU'!F$100:F$163,'1A Input Base and BAU'!$B$100:$B$163,$C31,'1A Input Base and BAU'!$C$100:$C$163,$E31)","v":0},{"$f":"+SUMIFS('1A Input Base and BAU'!F$49:F$64,'1A Input Base and BAU'!$B$49:$B$64,'4A Calcul. BAU city'!$C31)*SUMIFS('1A Input Base and BAU'!G$100:G$163,'1A Input Base and BAU'!$B$100:$B$163,$C31,'1A Input Base and BAU'!$C$100:$C$163,$E31)","v":0},{"$f":"+SUMIFS('1A Input Base and BAU'!G$49:G$64,'1A Input Base and BAU'!$B$49:$B$64,'4A Calcul. BAU city'!$C31)*SUMIFS('1A Input Base and BAU'!H$100:H$163,'1A Input Base and BAU'!$B$100:$B$163,$C31,'1A Input Base and BAU'!$C$100:$C$163,$E31)","v":0},{"$f":"+SUMIFS('1A Input Base and BAU'!H$49:H$64,'1A Input Base and BAU'!$B$49:$B$64,'4A Calcul. BAU city'!$C31)*SUMIFS('1A Input Base and BAU'!I$100:I$163,'1A Input Base and BAU'!$B$100:$B$163,$C31,'1A Input Base and BAU'!$C$100:$C$163,$E31)","v":0},null,"l/100 km",{"$f":"+SUMIFS('1A Input Base and BAU'!E$173:E$221,'1A Input Base and BAU'!$B$173:$B$221,'4A Calcul. BAU city'!$C31,'1A Input Base and BAU'!$C$173:$C$221,'4A Calcul. BAU city'!$E31)","v":0},{"$f":"+SUMIFS('1A Input Base and BAU'!F$173:F$221,'1A Input Base and BAU'!$B$173:$B$221,'4A Calcul. BAU city'!$C31,'1A Input Base and BAU'!$C$173:$C$221,'4A Calcul. BAU city'!$E31)","v":0},{"$f":"+SUMIFS('1A Input Base and BAU'!G$173:G$221,'1A Input Base and BAU'!$B$173:$B$221,'4A Calcul. BAU city'!$C31,'1A Input Base and BAU'!$C$173:$C$221,'4A Calcul. BAU city'!$E31)","v":0},{"$f":"+SUMIFS('1A Input Base and BAU'!H$173:H$221,'1A Input Base and BAU'!$B$173:$B$221,'4A Calcul. BAU city'!$C31,'1A Input Base and BAU'!$C$173:$C$221,'4A Calcul. BAU city'!$E31)","v":0},{"$f":"+SUMIFS('1A Input Base and BAU'!I$173:I$221,'1A Input Base and BAU'!$B$173:$B$221,'4A Calcul. BAU city'!$C31,'1A Input Base and BAU'!$C$173:$C$221,'4A Calcul. BAU city'!$E31)","v":0},{"$f":"+SUMIFS('1A Input Base and BAU'!J$173:J$221,'1A Input Base and BAU'!$B$173:$B$221,'4A Calcul. BAU city'!$C31,'1A Input Base and BAU'!$C$173:$C$221,'4A Calcul. BAU city'!$E31)","v":0},null,{"$f":"+IFERROR(VLOOKUP($A31&\" - \"&$E31,'6 Defaults parameters'!$B$9:$O$18,4,FALSE)*VLOOKUP($A31&\" - \"&$E31,'6 Defaults parameters'!$B$9:$O$18,3,FALSE),0)","v":36.286919831223628},{"$f":"INDEX('6 Defaults parameters'!$T$9:$Y$18,MATCH($A31&\" - \"&$E31,'6 Defaults parameters'!$B$9:$B$18,0),MATCH(W$12,'6 Defaults parameters'!$T$8:$Y$8,0))","v":75359.7},{"$f":"INDEX('6 Defaults parameters'!$T$9:$Y$18,MATCH($A31&\" - \"&$E31,'6 Defaults parameters'!$B$9:$B$18,0),MATCH(X$12,'6 Defaults parameters'!$T$8:$Y$8,0))","v":75359.7},{"$f":"INDEX('6 Defaults parameters'!$T$9:$Y$18,MATCH($A31&\" - \"&$E31,'6 Defaults parameters'!$B$9:$B$18,0),MATCH(Y$12,'6 Defaults parameters'!$T$8:$Y$8,0))","v":75359.7},{"$f":"INDEX('6 Defaults parameters'!$T$9:$Y$18,MATCH($A31&\" - \"&$E31,'6 Defaults parameters'!$B$9:$B$18,0),MATCH(Z$12,'6 Defaults parameters'!$T$8:$Y$8,0))","v":75359.7},{"$f":"INDEX('6 Defaults parameters'!$T$9:$Y$18,MATCH($A31&\" - \"&$E31,'6 Defaults parameters'!$B$9:$B$18,0),MATCH(AA$12,'6 Defaults parameters'!$T$8:$Y$8,0))","v":75359.7},{"$f":"INDEX('6 Defaults parameters'!$T$9:$Y$18,MATCH($A31&\" - \"&$E31,'6 Defaults parameters'!$B$9:$B$18,0),MATCH(AB$12,'6 Defaults parameters'!$T$8:$Y$8,0))","v":75359.7},{"$f":"\"\"","v":""},0,0,0,0,0,0,{"$f":"+W31*AD31/10^6","v":0},{"$f":"+X31*AE31/10^6","v":0},{"$f":"+Y31*AF31/10^6","v":0},{"$f":"+Z31*AG31/10^6","v":0},{"$f":"+AA31*AH31/10^6","v":0},{"$f":"+AB31*AI31/10^6","v":0},null,{"$f":"G31*SUMIFS('1A Input Base and BAU'!$D$74:$D$89,'1A Input Base and BAU'!$B$74:$B$89,'4A Calcul. BAU city'!$C31)","v":0},{"$f":"H31*SUMIFS('1A Input Base and BAU'!$D$74:$D$89,'1A Input Base and BAU'!$B$74:$B$89,'4A Calcul. BAU city'!$C31)","v":0},{"$f":"I31*SUMIFS('1A Input Base and BAU'!$D$74:$D$89,'1A Input Base and BAU'!$B$74:$B$89,'4A Calcul. BAU city'!$C31)","v":0},{"$f":"J31*SUMIFS('1A Input Base and BAU'!$D$74:$D$89,'1A Input Base and BAU'!$B$74:$B$89,'4A Calcul. BAU city'!$C31)","v":0},{"$f":"K31*SUMIFS('1A Input Base and BAU'!$D$74:$D$89,'1A Input Base and BAU'!$B$74:$B$89,'4A Calcul. BAU city'!$C31)","v":0},{"$f":"L31*SUMIFS('1A Input Base and BAU'!$D$74:$D$89,'1A Input Base and BAU'!$B$74:$B$89,'4A Calcul. BAU city'!$C31)","v":0},{"$f":"\"\"","v":""},{"$f":"\"\"","v":""},{"$f":"\"\"","v":""},{"$f":"\"\"","v":""},{"$f":"\"\"","v":""},{"$f":"\"\"","v":""}]
["Road","PT","Minibus","Passengers",{"$f":"LPG","v":"LPG"},null,{"$f":"+SUMIFS('1A Input Base and BAU'!C$49:C$64,'1A Input Base and BAU'!$B$49:$B$64,'4A Calcul. BAU city'!$C32)*SUMIFS('1A Input Base and BAU'!D$100:D$163,'1A Input Base and BAU'!$B$100:$B$163,$C32,'1A Input Base and BAU'!$C$100:$C$163,$E32)","v":0},{"$f":"+SUMIFS('1A Input Base and BAU'!D$49:D$64,'1A Input Base and BAU'!$B$49:$B$64,'4A Calcul. BAU city'!$C32)*SUMIFS('1A Input Base and BAU'!E$100:E$163,'1A Input Base and BAU'!$B$100:$B$163,$C32,'1A Input Base and BAU'!$C$100:$C$163,$E32)","v":0},{"$f":"+SUMIFS('1A Input Base and BAU'!E$49:E$64,'1A Input Base and BAU'!$B$49:$B$64,'4A Calcul. BAU city'!$C32)*SUMIFS('1A Input Base and BAU'!F$100:F$163,'1A Input Base and BAU'!$B$100:$B$163,$C32,'1A Input Base and BAU'!$C$100:$C$163,$E32)","v":0},{"$f":"+SUMIFS('1A Input Base and BAU'!F$49:F$64,'1A Input Base and BAU'!$B$49:$B$64,'4A Calcul. BAU city'!$C32)*SUMIFS('1A Input Base and BAU'!G$100:G$163,'1A Input Base and BAU'!$B$100:$B$163,$C32,'1A Input Base and BAU'!$C$100:$C$163,$E32)","v":0},{"$f":"+SUMIFS('1A Input Base and BAU'!G$49:G$64,'1A Input Base and BAU'!$B$49:$B$64,'4A Calcul. BAU city'!$C32)*SUMIFS('1A Input Base and BAU'!H$100:H$163,'1A Input Base and BAU'!$B$100:$B$163,$C32,'1A Input Base and BAU'!$C$100:$C$163,$E32)","v":0},{"$f":"+SUMIFS('1A Input Base and BAU'!H$49:H$64,'1A Input Base and BAU'!$B$49:$B$64,'4A Calcul. BAU city'!$C32)*SUMIFS('1A Input Base and BAU'!I$100:I$163,'1A Input Base and BAU'!$B$100:$B$163,$C32,'1A Input Base and BAU'!$C$100:$C$163,$E32)","v":0},null,"l/100 km",{"$f":"+SUMIFS('1A Input Base and BAU'!E$173:E$221,'1A Input Base and BAU'!$B$173:$B$221,'4A Calcul. BAU city'!$C32,'1A Input Base and BAU'!$C$173:$C$221,'4A Calcul. BAU city'!$E32)","v":0},{"$f":"+SUMIFS('1A Input Base and BAU'!F$173:F$221,'1A Input Base and BAU'!$B$173:$B$221,'4A Calcul. BAU city'!$C32,'1A Input Base and BAU'!$C$173:$C$221,'4A Calcul. BAU city'!$E32)","v":0},{"$f":"+SUMIFS('1A Input Base and BAU'!G$173:G$221,'1A Input Base and BAU'!$B$173:$B$221,'4A Calcul. BAU city'!$C32,'1A Input Base and BAU'!$C$173:$C$221,'4A Calcul. BAU city'!$E32)","v":0},{"$f":"+SUMIFS('1A Input Base and BAU'!H$173:H$221,'1A Input Base and BAU'!$B$173:$B$221,'4A Calcul. BAU city'!$C32,'1A Input Base and BAU'!$C$173:$C$221,'4A Calcul. BAU city'!$E32)","v":0},{"$f":"+SUMIFS('1A Input Base and BAU'!I$173:I$221,'1A Input Base and BAU'!$B$173:$B$221,'4A Calcul. BAU city'!$C32,'1A Input Base and BAU'!$C$173:$C$221,'4A Calcul. BAU city'!$E32)","v":0},{"$f":"+SUMIFS('1A Input Base and BAU'!J$173:J$221,'1A Input Base and BAU'!$B$173:$B$221,'4A Calcul. BAU city'!$C32,'1A Input Base and BAU'!$C$173:$C$221,'4A Calcul. BAU city'!$E32)","v":0},null,{"$f":"+IFERROR(VLOOKUP($A32&\" - \"&$E32,'6 Defaults parameters'!$B$9:$O$18,4,FALSE)*VLOOKUP($A32&\" - \"&$E32,'6 Defaults parameters'!$B$9:$O$18,3,FALSE),0)","v":24.699738903394255},{"$f":"INDEX('6 Defaults parameters'!$T$9:$Y$18,MATCH($A32&\" - \"&$E32,'6 Defaults parameters'!$B$9:$B$18,0),MATCH(W$12,'6 Defaults parameters'!$T$8:$Y$8,0))","v":64709.599999999999},{"$f":"INDEX('6 Defaults parameters'!$T$9:$Y$18,MATCH($A32&\" - \"&$E32,'6 Defaults parameters'!$B$9:$B$18,0),MATCH(X$12,'6 Defaults parameters'!$T$8:$Y$8,0))","v":64709.599999999999},{"$f":"INDEX('6 Defaults parameters'!$T$9:$Y$18,MATCH($A32&\" - \"&$E32,'6 Defaults parameters'!$B$9:$B$18,0),MATCH(Y$12,'6 Defaults parameters'!$T$8:$Y$8,0))","v":64709.599999999999},{"$f":"INDEX('6 Defaults parameters'!$T$9:$Y$18,MATCH($A32&\" - \"&$E32,'6 Defaults parameters'!$B$9:$B$18,0),MATCH(Z$12,'6 Defaults parameters'!$T$8:$Y$8,0))","v":64709.599999999999},{"$f":"INDEX('6 Defaults parameters'!$T$9:$Y$18,MATCH($A32&\" - \"&$E32,'6 Defaults parameters'!$B$9:$B$18,0),MATCH(AA$12,'6 Defaults parameters'!$T$8:$Y$8,0))","v":64709.599999999999},{"$f":"INDEX('6 Defaults parameters'!$T$9:$Y$18,MATCH($A32&\" - \"&$E32,'6 Defaults parameters'!$B$9:$B$18,0),MATCH(AB$12,'6 Defaults parameters'!$T$8:$Y$8,0))","v":64709.599999999999},null,0,0,0,0,0,0,0,0,0,0,0,0,null,{"$f":"G32*SUMIFS('1A Input Base and BAU'!$D$74:$D$89,'1A Input Base and BAU'!$B$74:$B$89,'4A Calcul. BAU city'!$C32)","v":0},{"$f":"H32*SUMIFS('1A Input Base and BAU'!$D$74:$D$89,'1A Input Base and BAU'!$B$74:$B$89,'4A Calcul. BAU city'!$C32)","v":0},{"$f":"I32*SUMIFS('1A Input Base and BAU'!$D$74:$D$89,'1A Input Base and BAU'!$B$74:$B$89,'4A Calcul. BAU city'!$C32)","v":0},{"$f":"J32*SUMIFS('1A Input Base and BAU'!$D$74:$D$89,'1A Input Base and BAU'!$B$74:$B$89,'4A Calcul. BAU city'!$C32)","v":0},{"$f":"K32*SUMIFS('1A Input Base and BAU'!$D$74:$D$89,'1A Input Base and BAU'!$B$74:$B$89,'4A Calcul. BAU city'!$C32)","v":0},{"$f":"L32*SUMIFS('1A Input Base and BAU'!$D$74:$D$89,'1A Input Base and BAU'!$B$74:$B$89,'4A Calcul. BAU city'!$C32)","v":0}]
["Road","PT","Minibus","Passengers",{"$f":"NG","v":"NG"},null,{"$f":"+SUMIFS('1A Input Base and BAU'!C$49:C$64,'1A Input Base and BAU'!$B$49:$B$64,'4A Calcul. BAU city'!$C33)*SUMIFS('1A Input Base and BAU'!D$100:D$163,'1A Input Base and BAU'!$B$100:$B$163,$C33,'1A Input Base and BAU'!$C$100:$C$163,$E33)","v":0},{"$f":"+SUMIFS('1A Input Base and BAU'!D$49:D$64,'1A Input Base and BAU'!$B$49:$B$64,'4A Calcul. BAU city'!$C33)*SUMIFS('1A Input Base and BAU'!E$100:E$163,'1A Input Base and BAU'!$B$100:$B$163,$C33,'1A Input Base and BAU'!$C$100:$C$163,$E33)","v":0},{"$f":"+SUMIFS('1A Input Base and BAU'!E$49:E$64,'1A Input Base and BAU'!$B$49:$B$64,'4A Calcul. BAU city'!$C33)*SUMIFS('1A Input Base and BAU'!F$100:F$163,'1A Input Base and BAU'!$B$100:$B$163,$C33,'1A Input Base and BAU'!$C$100:$C$163,$E33)","v":0},{"$f":"+SUMIFS('1A Input Base and BAU'!F$49:F$64,'1A Input Base and BAU'!$B$49:$B$64,'4A Calcul. BAU city'!$C33)*SUMIFS('1A Input Base and BAU'!G$100:G$163,'1A Input Base and BAU'!$B$100:$B$163,$C33,'1A Input Base and BAU'!$C$100:$C$163,$E33)","v":0},{"$f":"+SUMIFS('1A Input Base and BAU'!G$49:G$64,'1A Input Base and BAU'!$B$49:$B$64,'4A Calcul. BAU city'!$C33)*SUMIFS('1A Input Base and BAU'!H$100:H$163,'1A Input Base and BAU'!$B$100:$B$163,$C33,'1A Input Base and BAU'!$C$100:$C$163,$E33)","v":0},{"$f":"+SUMIFS('1A Input Base and BAU'!H$49:H$64,'1A Input Base and BAU'!$B$49:$B$64,'4A Calcul. BAU city'!$C33)*SUMIFS('1A Input Base and BAU'!I$100:I$163,'1A Input Base and BAU'!$B$100:$B$163,$C33,'1A Input Base and BAU'!$C$100:$C$163,$E33)","v":0},null,"kg/100km",{"$f":"+SUMIFS('1A Input Base and BAU'!E$173:E$221,'1A Input Base and BAU'!$B$173:$B$221,'4A Calcul. BAU city'!$C33,'1A Input Base and BAU'!$C$173:$C$221,'4A Calcul. BAU city'!$E33)","v":0},{"$f":"+SUMIFS('1A Input Base and BAU'!F$173:F$221,'1A Input Base and BAU'!$B$173:$B$221,'4A Calcul. BAU city'!$C33,'1A Input Base and BAU'!$C$173:$C$221,'4A Calcul. BAU city'!$E33)","v":0},{"$f":"+SUMIFS('1A Input Base and BAU'!G$173:G$221,'1A Input Base and BAU'!$B$173:$B$221,'4A Calcul. BAU city'!$C33,'1A Input Base and BAU'!$C$173:$C$221,'4A Calcul. BAU city'!$E33)","v":0},{"$f":"+SUMIFS('1A Input Base and BAU'!H$173:H$221,'1A Input Base and BAU'!$B$173:$B$221,'4A Calcul. BAU city'!$C33,'1A Input Base and BAU'!$C$173:$C$221,'4A Calcul. BAU city'!$E33)","v":0},{"$f":"+SUMIFS('1A Input Base and BAU'!I$173:I$221,'1A Input Base and BAU'!$B$173:$B$221,'4A Calcul. BAU city'!$C33,'1A Input Base and BAU'!$C$173:$C$221,'4A Calcul. BAU city'!$E33)","v":0},{"$f":"+SUMIFS('1A Input Base and BAU'!J$173:J$221,'1A Input Base and BAU'!$B$173:$B$221,'4A Calcul. BAU city'!$C33,'1A Input Base and BAU'!$C$173:$C$221,'4A Calcul. BAU city'!$E33)","v":0},null,{"$f":"+IFERROR(VLOOKUP($A33&\" - \"&$E33,'6 Defaults parameters'!$B$9:$O$18,4,FALSE)*VLOOKUP($A33&\" - \"&$E33,'6 Defaults parameters'!$B$9:$O$18,3,FALSE),0)","v":48},{"$f":"INDEX('6 Defaults parameters'!$T$9:$Y$18,MATCH($A33&\" - \"&$E33,'6 Defaults parameters'!$B$9:$B$18,0),MATCH(W$12,'6 Defaults parameters'!$T$8:$Y$8,0))","v":59294},{"$f":"INDEX('6 Defaults parameters'!$T$9:$Y$18,MATCH($A33&\" - \"&$E33,'6 Defaults parameters'!$B$9:$B$18,0),MATCH(X$12,'6 Defaults parameters'!$T$8:$Y$8,0))","v":59294},{"$f":"INDEX('6 Defaults parameters'!$T$9:$Y$18,MATCH($A33&\" - \"&$E33,'6 Defaults parameters'!$B$9:$B$18,0),MATCH(Y$12,'6 Defaults parameters'!$T$8:$Y$8,0))","v":59294},{"$f":"INDEX('6 Defaults parameters'!$T$9:$Y$18,MATCH($A33&\" - \"&$E33,'6 Defaults parameters'!$B$9:$B$18,0),MATCH(Z$12,'6 Defaults parameters'!$T$8:$Y$8,0))","v":59294},{"$f":"INDEX('6 Defaults parameters'!$T$9:$Y$18,MATCH($A33&\" - \"&$E33,'6 Defaults parameters'!$B$9:$B$18,0),MATCH(AA$12,'6 Defaults parameters'!$T$8:$Y$8,0))","v":59294},{"$f":"INDEX('6 Defaults parameters'!$T$9:$Y$18,MATCH($A33&\" - \"&$E33,'6 Defaults parameters'!$B$9:$B$18,0),MATCH(AB$12,'6 Defaults parameters'!$T$8:$Y$8,0))","v":59294},null,0,0,0,0,0,0,0,0,0,0,0,0,null,{"$f":"G33*SUMIFS('1A Input Base and BAU'!$D$74:$D$89,'1A Input Base and BAU'!$B$74:$B$89,'4A Calcul. BAU city'!$C33)","v":0},{"$f":"H33*SUMIFS('1A Input Base and BAU'!$D$74:$D$89,'1A Input Base and BAU'!$B$74:$B$89,'4A Calcul. BAU city'!$C33)","v":0},{"$f":"I33*SUMIFS('1A Input Base and BAU'!$D$74:$D$89,'1A Input Base and BAU'!$B$74:$B$89,'4A Calcul. BAU city'!$C33)","v":0},{"$f":"J33*SUMIFS('1A Input Base and BAU'!$D$74:$D$89,'1A Input Base and BAU'!$B$74:$B$89,'4A Calcul. BAU city'!$C33)","v":0},{"$f":"K33*SUMIFS('1A Input Base and BAU'!$D$74:$D$89,'1A Input Base and BAU'!$B$74:$B$89,'4A Calcul. BAU city'!$C33)","v":0},{"$f":"L33*SUMIFS('1A Input Base and BAU'!$D$74:$D$89,'1A Input Base and BAU'!$B$74:$B$89,'4A Calcul. BAU city'!$C33)","v":0}]
[{"$f":"Road","v":"Road"},{"$f":"PT","v":"PT"},"Minibus",{"$f":"Pass","v":"Passengers"},{"$f":"Hybrid","v":"Hybrid"},null,{"$f":"+SUMIFS('1A Input Base and BAU'!C$49:C$64,'1A Input Base and BAU'!$B$49:$B$64,'4A Calcul. BAU city'!$C34)*SUMIFS('1A Input Base and BAU'!D$100:D$163,'1A Input Base and BAU'!$B$100:$B$163,$C34,'1A Input Base and BAU'!$C$100:$C$163,$E34)","v":0},{"$f":"+SUMIFS('1A Input Base and BAU'!D$49:D$64,'1A Input Base and BAU'!$B$49:$B$64,'4A Calcul. BAU city'!$C34)*SUMIFS('1A Input Base and BAU'!E$100:E$163,'1A Input Base and BAU'!$B$100:$B$163,$C34,'1A Input Base and BAU'!$C$100:$C$163,$E34)","v":0},{"$f":"+SUMIFS('1A Input Base and BAU'!E$49:E$64,'1A Input Base and BAU'!$B$49:$B$64,'4A Calcul. BAU city'!$C34)*SUMIFS('1A Input Base and BAU'!F$100:F$163,'1A Input Base and BAU'!$B$100:$B$163,$C34,'1A Input Base and BAU'!$C$100:$C$163,$E34)","v":0},{"$f":"+SUMIFS('1A Input Base and BAU'!F$49:F$64,'1A Input Base and BAU'!$B$49:$B$64,'4A Calcul. BAU city'!$C34)*SUMIFS('1A Input Base and BAU'!G$100:G$163,'1A Input Base and BAU'!$B$100:$B$163,$C34,'1A Input Base and BAU'!$C$100:$C$163,$E34)","v":0},{"$f":"+SUMIFS('1A Input Base and BAU'!G$49:G$64,'1A Input Base and BAU'!$B$49:$B$64,'4A Calcul. BAU city'!$C34)*SUMIFS('1A Input Base and BAU'!H$100:H$163,'1A Input Base and BAU'!$B$100:$B$163,$C34,'1A Input Base and BAU'!$C$100:$C$163,$E34)","v":0},{"$f":"+SUMIFS('1A Input Base and BAU'!H$49:H$64,'1A Input Base and BAU'!$B$49:$B$64,'4A Calcul. BAU city'!$C34)*SUMIFS('1A Input Base and BAU'!I$100:I$163,'1A Input Base and BAU'!$B$100:$B$163,$C34,'1A Input Base and BAU'!$C$100:$C$163,$E34)","v":0},null,"l/100 km",{"$f":"+SUMIFS('1A Input Base and BAU'!E$173:E$221,'1A Input Base and BAU'!$B$173:$B$221,'4A Calcul. BAU city'!$C34,'1A Input Base and BAU'!$C$173:$C$221,'4A Calcul. BAU city'!$E34)","v":0},{"$f":"+SUMIFS('1A Input Base and BAU'!F$173:F$221,'1A Input Base and BAU'!$B$173:$B$221,'4A Calcul. BAU city'!$C34,'1A Input Base and BAU'!$C$173:$C$221,'4A Calcul. BAU city'!$E34)","v":0},{"$f":"+SUMIFS('1A Input Base and BAU'!G$173:G$221,'1A Input Base and BAU'!$B$173:$B$221,'4A Calcul. BAU city'!$C34,'1A Input Base and BAU'!$C$173:$C$221,'4A Calcul. BAU city'!$E34)","v":0},{"$f":"+SUMIFS('1A Input Base and BAU'!H$173:H$221,'1A Input Base and BAU'!$B$173:$B$221,'4A Calcul. BAU city'!$C34,'1A Input Base and BAU'!$C$173:$C$221,'4A Calcul. BAU city'!$E34)","v":0},{"$f":"+SUMIFS('1A Input Base and BAU'!I$173:I$221,'1A Input Base and BAU'!$B$173:$B$221,'4A Calcul. BAU city'!$C34,'1A Input Base and BAU'!$C$173:$C$221,'4A Calcul. BAU city'!$E34)","v":0},{"$f":"+SUMIFS('1A Input Base and BAU'!J$173:J$221,'1A Input Base and BAU'!$B$173:$B$221,'4A Calcul. BAU city'!$C34,'1A Input Base and BAU'!$C$173:$C$221,'4A Calcul. BAU city'!$E34)","v":0},null,{"$f":"+IFERROR(VLOOKUP($A34&\" - \"&$E34,'6 Defaults parameters'!$B$9:$O$18,4,FALSE)*VLOOKUP($A34&\" - \"&$E34,'6 Defaults parameters'!$B$9:$O$18,3,FALSE),0)","v":32.81481481481481},{"$f":"INDEX('6 Defaults parameters'!$T$9:$Y$18,MATCH($A34&\" - \"&$E34,'6 Defaults parameters'!$B$9:$B$18,0),MATCH(W$12,'6 Defaults parameters'!$T$8:$Y$8,0))","v":71078.600000000006},{"$f":"INDEX('6 Defaults parameters'!$T$9:$Y$18,MATCH($A34&\" - \"&$E34,'6 Defaults parameters'!$B$9:$B$18,0),MATCH(X$12,'6 Defaults parameters'!$T$8:$Y$8,0))","v":71078.600000000006},{"$f":"INDEX('6 Defaults parameters'!$T$9:$Y$18,MATCH($A34&\" - \"&$E34,'6 Defaults parameters'!$B$9:$B$18,0),MATCH(Y$12,'6 Defaults parameters'!$T$8:$Y$8,0))","v":71078.600000000006},{"$f":"INDEX('6 Defaults parameters'!$T$9:$Y$18,MATCH($A34&\" - \"&$E34,'6 Defaults parameters'!$B$9:$B$18,0),MATCH(Z$12,'6 Defaults parameters'!$T$8:$Y$8,0))","v":71078.600000000006},{"$f":"INDEX('6 Defaults parameters'!$T$9:$Y$18,MATCH($A34&\" - \"&$E34,'6 Defaults parameters'!$B$9:$B$18,0),MATCH(AA$12,'6 Defaults parameters'!$T$8:$Y$8,0))","v":71078.600000000006},{"$f":"INDEX('6 Defaults parameters'!$T$9:$Y$18,MATCH($A34&\" - \"&$E34,'6 Defaults parameters'!$B$9:$B$18,0),MATCH(AB$12,'6 Defaults parameters'!$T$8:$Y$8,0))","v":71078.600000000006},null,0,0,0,0,0,0,0,0,0,0,0,0,null,{"$f":"G34*SUMIFS('1A Input Base and BAU'!$D$74:$D$89,'1A Input Base and BAU'!$B$74:$B$89,'4A Calcul. BAU city'!$C34)","v":0},{"$f":"H34*SUMIFS('1A Input Base and BAU'!$D$74:$D$89,'1A Input Base and BAU'!$B$74:$B$89,'4A Calcul. BAU city'!$C34)","v":0},{"$f":"I34*SUMIFS('1A Input Base and BAU'!$D$74:$D$89,'1A Input Base and BAU'!$B$74:$B$89,'4A Calcul. BAU city'!$C34)","v":0},{"$f":"J34*SUMIFS('1A Input Base and BAU'!$D$74:$D$89,'1A Input Base and BAU'!$B$74:$B$89,'4A Calcul. BAU city'!$C34)","v":0},{"$f":"K34*SUMIFS('1A Input Base and BAU'!$D$74:$D$89,'1A Input Base and BAU'!$B$74:$B$89,'4A Calcul. BAU city'!$C34)","v":0},{"$f":"L34*SUMIFS('1A Input Base and BAU'!$D$74:$D$89,'1A Input Base and BAU'!$B$74:$B$89,'4A Calcul. BAU city'!$C34)","v":0}]
[{"$f":"Road","v":"Road"},{"$f":"PT","v":"PT"},"Minibus",{"$f":"Pass","v":"Passengers"},{"$f":"Electric","v":"Electric"},null,{"$f":"+SUMIFS('1A Input Base and BAU'!C$49:C$64,'1A Input Base and BAU'!$B$49:$B$64,'4A Calcul. BAU city'!$C35)*SUMIFS('1A Input Base and BAU'!D$100:D$163,'1A Input Base and BAU'!$B$100:$B$163,$C35,'1A Input Base and BAU'!$C$100:$C$163,$E35)","v":0},{"$f":"+SUMIFS('1A Input Base and BAU'!D$49:D$64,'1A Input Base and BAU'!$B$49:$B$64,'4A Calcul. BAU city'!$C35)*SUMIFS('1A Input Base and BAU'!E$100:E$163,'1A Input Base and BAU'!$B$100:$B$163,$C35,'1A Input Base and BAU'!$C$100:$C$163,$E35)","v":0},{"$f":"+SUMIFS('1A Input Base and BAU'!E$49:E$64,'1A Input Base and BAU'!$B$49:$B$64,'4A Calcul. BAU city'!$C35)*SUMIFS('1A Input Base and BAU'!F$100:F$163,'1A Input Base and BAU'!$B$100:$B$163,$C35,'1A Input Base and BAU'!$C$100:$C$163,$E35)","v":0},{"$f":"+SUMIFS('1A Input Base and BAU'!F$49:F$64,'1A Input Base and BAU'!$B$49:$B$64,'4A Calcul. BAU city'!$C35)*SUMIFS('1A Input Base and BAU'!G$100:G$163,'1A Input Base and BAU'!$B$100:$B$163,$C35,'1A Input Base and BAU'!$C$100:$C$163,$E35)","v":0},{"$f":"+SUMIFS('1A Input Base and BAU'!G$49:G$64,'1A Input Base and BAU'!$B$49:$B$64,'4A Calcul. BAU city'!$C35)*SUMIFS('1A Input Base and BAU'!H$100:H$163,'1A Input Base and BAU'!$B$100:$B$163,$C35,'1A Input Base and BAU'!$C$100:$C$163,$E35)","v":0},{"$f":"+SUMIFS('1A Input Base and BAU'!H$49:H$64,'1A Input Base and BAU'!$B$49:$B$64,'4A Calcul. BAU city'!$C35)*SUMIFS('1A Input Base and BAU'!I$100:I$163,'1A Input Base and BAU'!$B$100:$B$163,$C35,'1A Input Base and BAU'!$C$100:$C$163,$E35)","v":0},null,"kWh/100km",{"$f":"+SUMIFS('1A Input Base and BAU'!E$173:E$221,'1A Input Base and BAU'!$B$173:$B$221,'4A Calcul. BAU city'!$C35,'1A Input Base and BAU'!$C$173:$C$221,'4A Calcul. BAU city'!$E35)","v":0},{"$f":"+SUMIFS('1A Input Base and BAU'!F$173:F$221,'1A Input Base and BAU'!$B$173:$B$221,'4A Calcul. BAU city'!$C35,'1A Input Base and BAU'!$C$173:$C$221,'4A Calcul. BAU city'!$E35)","v":0},{"$f":"+SUMIFS('1A Input Base and BAU'!G$173:G$221,'1A Input Base and BAU'!$B$173:$B$221,'4A Calcul. BAU city'!$C35,'1A Input Base and BAU'!$C$173:$C$221,'4A Calcul. BAU city'!$E35)","v":0},{"$f":"+SUMIFS('1A Input Base and BAU'!H$173:H$221,'1A Input Base and BAU'!$B$173:$B$221,'4A Calcul. BAU city'!$C35,'1A Input Base and BAU'!$C$173:$C$221,'4A Calcul. BAU city'!$E35)","v":0},{"$f":"+SUMIFS('1A Input Base and BAU'!I$173:I$221,'1A Input Base and BAU'!$B$173:$B$221,'4A Calcul. BAU city'!$C35,'1A Input Base and BAU'!$C$173:$C$221,'4A Calcul. BAU city'!$E35)","v":0},{"$f":"+SUMIFS('1A Input Base and BAU'!J$173:J$221,'1A Input Base and BAU'!$B$173:$B$221,'4A Calcul. BAU city'!$C35,'1A Input Base and BAU'!$C$173:$C$221,'4A Calcul. BAU city'!$E35)","v":0},null,{"$f":"+IFERROR(VLOOKUP($A35&\" - \"&$E35,'6 Defaults parameters'!$B$9:$O$18,4,FALSE)*VLOOKUP($A35&\" - \"&$E35,'6 Defaults parameters'!$B$9:$O$18,3,FALSE),0)","v":3.6},{"$f":"INDEX('6 Defaults parameters'!$T$9:$Y$18,MATCH($A35&\" - \"&$E35,'6 Defaults parameters'!$B$9:$B$18,0),MATCH(W$12,'6 Defaults parameters'!$T$8:$Y$8,0))","v":0},{"$f":"INDEX('6 Defaults parameters'!$T$9:$Y$18,MATCH($A35&\" - \"&$E35,'6 Defaults parameters'!$B$9:$B$18,0),MATCH(X$12,'6 Defaults parameters'!$T$8:$Y$8,0))","v":0},{"$f":"INDEX('6 Defaults parameters'!$T$9:$Y$18,MATCH($A35&\" - \"&$E35,'6 Defaults parameters'!$B$9:$B$18,0),MATCH(Y$12,'6 Defaults parameters'!$T$8:$Y$8,0))","v":0},{"$f":"INDEX('6 Defaults parameters'!$T$9:$Y$18,MATCH($A35&\" - \"&$E35,'6 Defaults parameters'!$B$9:$B$18,0),MATCH(Z$12,'6 Defaults parameters'!$T$8:$Y$8,0))","v":0},{"$f":"INDEX('6 Defaults parameters'!$T$9:$Y$18,MATCH($A35&\" - \"&$E35,'6 Defaults parameters'!$B$9:$B$18,0),MATCH(AA$12,'6 Defaults parameters'!$T$8:$Y$8,0))","v":0},{"$f":"INDEX('6 Defaults parameters'!$T$9:$Y$18,MATCH($A35&\" - \"&$E35,'6 Defaults parameters'!$B$9:$B$18,0),MATCH(AB$12,'6 Defaults parameters'!$T$8:$Y$8,0))","v":0},null,0,0,0,0,0,0,0,0,0,0,0,0,null,{"$f":"G35*SUMIFS('1A Input Base and BAU'!$D$74:$D$89,'1A Input Base and BAU'!$B$74:$B$89,'4A Calcul. BAU city'!$C35)","v":0},{"$f":"H35*SUMIFS('1A Input Base and BAU'!$D$74:$D$89,'1A Input Base and BAU'!$B$74:$B$89,'4A Calcul. BAU city'!$C35)","v":0},{"$f":"I35*SUMIFS('1A Input Base and BAU'!$D$74:$D$89,'1A Input Base and BAU'!$B$74:$B$89,'4A Calcul. BAU city'!$C35)","v":0},{"$f":"J35*SUMIFS('1A Input Base and BAU'!$D$74:$D$89,'1A Input Base and BAU'!$B$74:$B$89,'4A Calcul. BAU city'!$C35)","v":0},{"$f":"K35*SUMIFS('1A Input Base and BAU'!$D$74:$D$89,'1A Input Base and BAU'!$B$74:$B$89,'4A Calcul. BAU city'!$C35)","v":0},{"$f":"L35*SUMIFS('1A Input Base and BAU'!$D$74:$D$89,'1A Input Base and BAU'!$B$74:$B$89,'4A Calcul. BAU city'!$C35)","v":0}]
["Road","PT",{"$f":"Bus","v":"Bus"},"Passengers",{"$f":"Diesel","v":"Diesel"},null,{"$f":"+SUMIFS('1A Input Base and BAU'!C$49:C$64,'1A Input Base and BAU'!$B$49:$B$64,'4A Calcul. BAU city'!$C36)*SUMIFS('1A Input Base and BAU'!D$100:D$163,'1A Input Base and BAU'!$B$100:$B$163,$C36,'1A Input Base and BAU'!$C$100:$C$163,$E36)","v":0},{"$f":"+SUMIFS('1A Input Base and BAU'!D$49:D$64,'1A Input Base and BAU'!$B$49:$B$64,'4A Calcul. BAU city'!$C36)*SUMIFS('1A Input Base and BAU'!E$100:E$163,'1A Input Base and BAU'!$B$100:$B$163,$C36,'1A Input Base and BAU'!$C$100:$C$163,$E36)","v":0},{"$f":"+SUMIFS('1A Input Base and BAU'!E$49:E$64,'1A Input Base and BAU'!$B$49:$B$64,'4A Calcul. BAU city'!$C36)*SUMIFS('1A Input Base and BAU'!F$100:F$163,'1A Input Base and BAU'!$B$100:$B$163,$C36,'1A Input Base and BAU'!$C$100:$C$163,$E36)","v":0},{"$f":"+SUMIFS('1A Input Base and BAU'!F$49:F$64,'1A Input Base and BAU'!$B$49:$B$64,'4A Calcul. BAU city'!$C36)*SUMIFS('1A Input Base and BAU'!G$100:G$163,'1A Input Base and BAU'!$B$100:$B$163,$C36,'1A Input Base and BAU'!$C$100:$C$163,$E36)","v":0},{"$f":"+SUMIFS('1A Input Base and BAU'!G$49:G$64,'1A Input Base and BAU'!$B$49:$B$64,'4A Calcul. BAU city'!$C36)*SUMIFS('1A Input Base and BAU'!H$100:H$163,'1A Input Base and BAU'!$B$100:$B$163,$C36,'1A Input Base and BAU'!$C$100:$C$163,$E36)","v":0},{"$f":"+SUMIFS('1A Input Base and BAU'!H$49:H$64,'1A Input Base and BAU'!$B$49:$B$64,'4A Calcul. BAU city'!$C36)*SUMIFS('1A Input Base and BAU'!I$100:I$163,'1A Input Base and BAU'!$B$100:$B$163,$C36,'1A Input Base and BAU'!$C$100:$C$163,$E36)","v":0},null,"l/100 km",{"$f":"+SUMIFS('1A Input Base and BAU'!E$173:E$221,'1A Input Base and BAU'!$B$173:$B$221,'4A Calcul. BAU city'!$C36,'1A Input Base and BAU'!$C$173:$C$221,'4A Calcul. BAU city'!$E36)","v":0},{"$f":"+SUMIFS('1A Input Base and BAU'!F$173:F$221,'1A Input Base and BAU'!$B$173:$B$221,'4A Calcul. BAU city'!$C36,'1A Input Base and BAU'!$C$173:$C$221,'4A Calcul. BAU city'!$E36)","v":0},{"$f":"+SUMIFS('1A Input Base and BAU'!G$173:G$221,'1A Input Base and BAU'!$B$173:$B$221,'4A Calcul. BAU city'!$C36,'1A Input Base and BAU'!$C$173:$C$221,'4A Calcul. BAU city'!$E36)","v":0},{"$f":"+SUMIFS('1A Input Base and BAU'!H$173:H$221,'1A Input Base and BAU'!$B$173:$B$221,'4A Calcul. BAU city'!$C36,'1A Input Base and BAU'!$C$173:$C$221,'4A Calcul. BAU city'!$E36)","v":0},{"$f":"+SUMIFS('1A Input Base and BAU'!I$173:I$221,'1A Input Base and BAU'!$B$173:$B$221,'4A Calcul. BAU city'!$C36,'1A Input Base and BAU'!$C$173:$C$221,'4A Calcul. BAU city'!$E36)","v":0},{"$f":"+SUMIFS('1A Input Base and BAU'!J$173:J$221,'1A Input Base and BAU'!$B$173:$B$221,'4A Calcul. BAU city'!$C36,'1A Input Base and BAU'!$C$173:$C$221,'4A Calcul. BAU city'!$E36)","v":0},null,{"$f":"+IFERROR(VLOOKUP($A36&\" - \"&$E36,'6 Defaults parameters'!$B$9:$O$18,4,FALSE)*VLOOKUP($A36&\" - \"&$E36,'6 Defaults parameters'!$B$9:$O$18,3,FALSE),0)","v":36.286919831223628},{"$f":"INDEX('6 Defaults parameters'!$T$9:$Y$18,MATCH($A36&\" - \"&$E36,'6 Defaults parameters'!$B$9:$B$18,0),MATCH(W$12,'6 Defaults parameters'!$T$8:$Y$8,0))","v":75359.7},{"$f":"INDEX('6 Defaults parameters'!$T$9:$Y$18,MATCH($A36&\" - \"&$E36,'6 Defaults parameters'!$B$9:$B$18,0),MATCH(X$12,'6 Defaults parameters'!$T$8:$Y$8,0))","v":75359.7},{"$f":"INDEX('6 Defaults parameters'!$T$9:$Y$18,MATCH($A36&\" - \"&$E36,'6 Defaults parameters'!$B$9:$B$18,0),MATCH(Y$12,'6 Defaults parameters'!$T$8:$Y$8,0))","v":75359.7},{"$f":"INDEX('6 Defaults parameters'!$T$9:$Y$18,MATCH($A36&\" - \"&$E36,'6 Defaults parameters'!$B$9:$B$18,0),MATCH(Z$12,'6 Defaults parameters'!$T$8:$Y$8,0))","v":75359.7},{"$f":"INDEX('6 Defaults parameters'!$T$9:$Y$18,MATCH($A36&\" - \"&$E36,'6 Defaults parameters'!$B$9:$B$18,0),MATCH(AA$12,'6 Defaults parameters'!$T$8:$Y$8,0))","v":75359.7},{"$f":"INDEX('6 Defaults parameters'!$T$9:$Y$18,MATCH($A36&\" - \"&$E36,'6 Defaults parameters'!$B$9:$B$18,0),MATCH(AB$12,'6 Defaults parameters'!$T$8:$Y$8,0))","v":75359.7},{"$f":"\"\"","v":""},0,0,0,0,0,0,{"$f":"+W36*AD36/10^6","v":0},0,0,0,0,0,null,{"$f":"G36*SUMIFS('1A Input Base and BAU'!$D$74:$D$89,'1A Input Base and BAU'!$B$74:$B$89,'4A Calcul. BAU city'!$C36)","v":0},{"$f":"H36*SUMIFS('1A Input Base and BAU'!$D$74:$D$89,'1A Input Base and BAU'!$B$74:$B$89,'4A Calcul. BAU city'!$C36)","v":0},{"$f":"I36*SUMIFS('1A Input Base and BAU'!$D$74:$D$89,'1A Input Base and BAU'!$B$74:$B$89,'4A Calcul. BAU city'!$C36)","v":0},{"$f":"J36*SUMIFS('1A Input Base and BAU'!$D$74:$D$89,'1A Input Base and BAU'!$B$74:$B$89,'4A Calcul. BAU city'!$C36)","v":0},{"$f":"K36*SUMIFS('1A Input Base and BAU'!$D$74:$D$89,'1A Input Base and BAU'!$B$74:$B$89,'4A Calcul. BAU city'!$C36)","v":0},{"$f":"L36*SUMIFS('1A Input Base and BAU'!$D$74:$D$89,'1A Input Base and BAU'!$B$74:$B$89,'4A Calcul. BAU city'!$C36)","v":0},{"$f":"\"\"","v":""},{"$f":"\"\"","v":""},{"$f":"\"\"","v":""},{"$f":"\"\"","v":""},{"$f":"\"\"","v":""},{"$f":"\"\"","v":""}]
["Road","PT",{"$f":"Bus","v":"Bus"},"Passengers",{"$f":"NG","v":"NG"},null,{"$f":"+SUMIFS('1A Input Base and BAU'!C$49:C$64,'1A Input Base and BAU'!$B$49:$B$64,'4A Calcul. BAU city'!$C37)*SUMIFS('1A Input Base and BAU'!D$100:D$163,'1A Input Base and BAU'!$B$100:$B$163,$C37,'1A Input Base and BAU'!$C$100:$C$163,$E37)","v":0},{"$f":"+SUMIFS('1A Input Base and BAU'!D$49:D$64,'1A Input Base and BAU'!$B$49:$B$64,'4A Calcul. BAU city'!$C37)*SUMIFS('1A Input Base and BAU'!E$100:E$163,'1A Input Base and BAU'!$B$100:$B$163,$C37,'1A Input Base and BAU'!$C$100:$C$163,$E37)","v":0},{"$f":"+SUMIFS('1A Input Base and BAU'!E$49:E$64,'1A Input Base and BAU'!$B$49:$B$64,'4A Calcul. BAU city'!$C37)*SUMIFS('1A Input Base and BAU'!F$100:F$163,'1A Input Base and BAU'!$B$100:$B$163,$C37,'1A Input Base and BAU'!$C$100:$C$163,$E37)","v":0},{"$f":"+SUMIFS('1A Input Base and BAU'!F$49:F$64,'1A Input Base and BAU'!$B$49:$B$64,'4A Calcul. BAU city'!$C37)*SUMIFS('1A Input Base and BAU'!G$100:G$163,'1A Input Base and BAU'!$B$100:$B$163,$C37,'1A Input Base and BAU'!$C$100:$C$163,$E37)","v":0},{"$f":"+SUMIFS('1A Input Base and BAU'!G$49:G$64,'1A Input Base and BAU'!$B$49:$B$64,'4A Calcul. BAU city'!$C37)*SUMIFS('1A Input Base and BAU'!H$100:H$163,'1A Input Base and BAU'!$B$100:$B$163,$C37,'1A Input Base and BAU'!$C$100:$C$163,$E37)","v":0},{"$f":"+SUMIFS('1A Input Base and BAU'!H$49:H$64,'1A Input Base and BAU'!$B$49:$B$64,'4A Calcul. BAU city'!$C37)*SUMIFS('1A Input Base and BAU'!I$100:I$163,'1A Input Base and BAU'!$B$100:$B$163,$C37,'1A Input Base and BAU'!$C$100:$C$163,$E37)","v":0},null,"kg/100km",{"$f":"+SUMIFS('1A Input Base and BAU'!E$173:E$221,'1A Input Base and BAU'!$B$173:$B$221,'4A Calcul. BAU city'!$C37,'1A Input Base and BAU'!$C$173:$C$221,'4A Calcul. BAU city'!$E37)","v":0},{"$f":"+SUMIFS('1A Input Base and BAU'!F$173:F$221,'1A Input Base and BAU'!$B$173:$B$221,'4A Calcul. BAU city'!$C37,'1A Input Base and BAU'!$C$173:$C$221,'4A Calcul. BAU city'!$E37)","v":0},{"$f":"+SUMIFS('1A Input Base and BAU'!G$173:G$221,'1A Input Base and BAU'!$B$173:$B$221,'4A Calcul. BAU city'!$C37,'1A Input Base and BAU'!$C$173:$C$221,'4A Calcul. BAU city'!$E37)","v":0},{"$f":"+SUMIFS('1A Input Base and BAU'!H$173:H$221,'1A Input Base and BAU'!$B$173:$B$221,'4A Calcul. BAU city'!$C37,'1A Input Base and BAU'!$C$173:$C$221,'4A Calcul. BAU city'!$E37)","v":0},{"$f":"+SUMIFS('1A Input Base and BAU'!I$173:I$221,'1A Input Base and BAU'!$B$173:$B$221,'4A Calcul. BAU city'!$C37,'1A Input Base and BAU'!$C$173:$C$221,'4A Calcul. BAU city'!$E37)","v":0},{"$f":"+SUMIFS('1A Input Base and BAU'!J$173:J$221,'1A Input Base and BAU'!$B$173:$B$221,'4A Calcul. BAU city'!$C37,'1A Input Base and BAU'!$C$173:$C$221,'4A Calcul. BAU city'!$E37)","v":0},null,{"$f":"+IFERROR(VLOOKUP($A37&\" - \"&$E37,'6 Defaults parameters'!$B$9:$O$18,4,FALSE)*VLOOKUP($A37&\" - \"&$E37,'6 Defaults parameters'!$B$9:$O$18,3,FALSE),0)","v":48},{"$f":"INDEX('6 Defaults parameters'!$T$9:$Y$18,MATCH($A37&\" - \"&$E37,'6 Defaults parameters'!$B$9:$B$18,0),MATCH(W$12,'6 Defaults parameters'!$T$8:$Y$8,0))","v":59294},{"$f":"INDEX('6 Defaults parameters'!$T$9:$Y$18,MATCH($A37&\" - \"&$E37,'6 Defaults parameters'!$B$9:$B$18,0),MATCH(X$12,'6 Defaults parameters'!$T$8:$Y$8,0))","v":59294},{"$f":"INDEX('6 Defaults parameters'!$T$9:$Y$18,MATCH($A37&\" - \"&$E37,'6 Defaults parameters'!$B$9:$B$18,0),MATCH(Y$12,'6 Defaults parameters'!$T$8:$Y$8,0))","v":59294},{"$f":"INDEX('6 Defaults parameters'!$T$9:$Y$18,MATCH($A37&\" - \"&$E37,'6 Defaults parameters'!$B$9:$B$18,0),MATCH(Z$12,'6 Defaults parameters'!$T$8:$Y$8,0))","v":59294},{"$f":"INDEX('6 Defaults parameters'!$T$9:$Y$18,MATCH($A37&\" - \"&$E37,'6 Defaults parameters'!$B$9:$B$18,0),MATCH(AA$12,'6 Defaults parameters'!$T$8:$Y$8,0))","v":59294},{"$f":"INDEX('6 Defaults parameters'!$T$9:$Y$18,MATCH($A37&\" - \"&$E37,'6 Defaults parameters'!$B$9:$B$18,0),MATCH(AB$12,'6 Defaults parameters'!$T$8:$Y$8,0))","v":59294},null,0,0,0,0,0,0,{"$f":"+W37*AD37/10^6","v":0},{"$f":"+X37*AE37/10^6","v":0},{"$f":"+Y37*AF37/10^6","v":0},{"$f":"+Z37*AG37/10^6","v":0},{"$f":"+AA37*AH37/10^6","v":0},{"$f":"+AB37*AI37/10^6","v":0},null,{"$f":"G37*SUMIFS('1A Input Base and BAU'!$D$74:$D$89,'1A Input Base and BAU'!$B$74:$B$89,'4A Calcul. BAU city'!$C37)","v":0},{"$f":"H37*SUMIFS('1A Input Base and BAU'!$D$74:$D$89,'1A Input Base and BAU'!$B$74:$B$89,'4A Calcul. BAU city'!$C37)","v":0},{"$f":"I37*SUMIFS('1A Input Base and BAU'!$D$74:$D$89,'1A Input Base and BAU'!$B$74:$B$89,'4A Calcul. BAU city'!$C37)","v":0},{"$f":"J37*SUMIFS('1A Input Base and BAU'!$D$74:$D$89,'1A Input Base and BAU'!$B$74:$B$89,'4A Calcul. BAU city'!$C37)","v":0},{"$f":"K37*SUMIFS('1A Input Base and BAU'!$D$74:$D$89,'1A Input Base and BAU'!$B$74:$B$89,'4A Calcul. BAU city'!$C37)","v":0},{"$f":"L37*SUMIFS('1A Input Base and BAU'!$D$74:$D$89,'1A Input Base and BAU'!$B$74:$B$89,'4A Calcul. BAU city'!$C37)","v":0}]
["Road","PT",{"$f":"Bus","v":"Bus"},"Passengers",{"$f":"Hybrid","v":"Hybrid"},null,{"$f":"+SUMIFS('1A Input Base and BAU'!C$49:C$64,'1A Input Base and BAU'!$B$49:$B$64,'4A Calcul. BAU city'!$C38)*SUMIFS('1A Input Base and BAU'!D$100:D$163,'1A Input Base and BAU'!$B$100:$B$163,$C38,'1A Input Base and BAU'!$C$100:$C$163,$E38)","v":0},{"$f":"+SUMIFS('1A Input Base and BAU'!D$49:D$64,'1A Input Base and BAU'!$B$49:$B$64,'4A Calcul. BAU city'!$C38)*SUMIFS('1A Input Base and BAU'!E$100:E$163,'1A Input Base and BAU'!$B$100:$B$163,$C38,'1A Input Base and BAU'!$C$100:$C$163,$E38)","v":0},{"$f":"+SUMIFS('1A Input Base and BAU'!E$49:E$64,'1A Input Base and BAU'!$B$49:$B$64,'4A Calcul. BAU city'!$C38)*SUMIFS('1A Input Base and BAU'!F$100:F$163,'1A Input Base and BAU'!$B$100:$B$163,$C38,'1A Input Base and BAU'!$C$100:$C$163,$E38)","v":0},{"$f":"+SUMIFS('1A Input Base and BAU'!F$49:F$64,'1A Input Base and BAU'!$B$49:$B$64,'4A Calcul. BAU city'!$C38)*SUMIFS('1A Input Base and BAU'!G$100:G$163,'1A Input Base and BAU'!$B$100:$B$163,$C38,'1A Input Base and BAU'!$C$100:$C$163,$E38)","v":0},{"$f":"+SUMIFS('1A Input Base and BAU'!G$49:G$64,'1A Input Base and BAU'!$B$49:$B$64,'4A Calcul. BAU city'!$C38)*SUMIFS('1A Input Base and BAU'!H$100:H$163,'1A Input Base and BAU'!$B$100:$B$163,$C38,'1A Input Base and BAU'!$C$100:$C$163,$E38)","v":0},{"$f":"+SUMIFS('1A Input Base and BAU'!H$49:H$64,'1A Input Base and BAU'!$B$49:$B$64,'4A Calcul. BAU city'!$C38)*SUMIFS('1A Input Base and BAU'!I$100:I$163,'1A Input Base and BAU'!$B$100:$B$163,$C38,'1A Input Base and BAU'!$C$100:$C$163,$E38)","v":0},null,"l/100 km",{"$f":"+SUMIFS('1A Input Base and BAU'!E$173:E$221,'1A Input Base and BAU'!$B$173:$B$221,'4A Calcul. BAU city'!$C38,'1A Input Base and BAU'!$C$173:$C$221,'4A Calcul. BAU city'!$E38)","v":0},{"$f":"+SUMIFS('1A Input Base and BAU'!F$173:F$221,'1A Input Base and BAU'!$B$173:$B$221,'4A Calcul. BAU city'!$C38,'1A Input Base and BAU'!$C$173:$C$221,'4A Calcul. BAU city'!$E38)","v":0},{"$f":"+SUMIFS('1A Input Base and BAU'!G$173:G$221,'1A Input Base and BAU'!$B$173:$B$221,'4A Calcul. BAU city'!$C38,'1A Input Base and BAU'!$C$173:$C$221,'4A Calcul. BAU city'!$E38)","v":0},{"$f":"+SUMIFS('1A Input Base and BAU'!H$173:H$221,'1A Input Base and BAU'!$B$173:$B$221,'4A Calcul. BAU city'!$C38,'1A Input Base and BAU'!$C$173:$C$221,'4A Calcul. BAU city'!$E38)","v":0},{"$f":"+SUMIFS('1A Input Base and BAU'!I$173:I$221,'1A Input Base and BAU'!$B$173:$B$221,'4A Calcul. BAU city'!$C38,'1A Input Base and BAU'!$C$173:$C$221,'4A Calcul. BAU city'!$E38)","v":0},{"$f":"+SUMIFS('1A Input Base and BAU'!J$173:J$221,'1A Input Base and BAU'!$B$173:$B$221,'4A Calcul. BAU city'!$C38,'1A Input Base and BAU'!$C$173:$C$221,'4A Calcul. BAU city'!$E38)","v":0},null,{"$f":"+IFERROR(VLOOKUP($A38&\" - \"&$E38,'6 Defaults parameters'!$B$9:$O$18,4,FALSE)*VLOOKUP($A38&\" - \"&$E38,'6 Defaults parameters'!$B$9:$O$18,3,FALSE),0)","v":32.81481481481481},{"$f":"INDEX('6 Defaults parameters'!$T$9:$Y$18,MATCH($A38&\" - \"&$E38,'6 Defaults parameters'!$B$9:$B$18,0),MATCH(W$12,'6 Defaults parameters'!$T$8:$Y$8,0))","v":71078.600000000006},{"$f":"INDEX('6 Defaults parameters'!$T$9:$Y$18,MATCH($A38&\" - \"&$E38,'6 Defaults parameters'!$B$9:$B$18,0),MATCH(X$12,'6 Defaults parameters'!$T$8:$Y$8,0))","v":71078.600000000006},{"$f":"INDEX('6 Defaults parameters'!$T$9:$Y$18,MATCH($A38&\" - \"&$E38,'6 Defaults parameters'!$B$9:$B$18,0),MATCH(Y$12,'6 Defaults parameters'!$T$8:$Y$8,0))","v":71078.600000000006},{"$f":"INDEX('6 Defaults parameters'!$T$9:$Y$18,MATCH($A38&\" - \"&$E38,'6 Defaults parameters'!$B$9:$B$18,0),MATCH(Z$12,'6 Defaults parameters'!$T$8:$Y$8,0))","v":71078.600000000006},{"$f":"INDEX('6 Defaults parameters'!$T$9:$Y$18,MATCH($A38&\" - \"&$E38,'6 Defaults parameters'!$B$9:$B$18,0),MATCH(AA$12,'6 Defaults parameters'!$T$8:$Y$8,0))","v":71078.600000000006},{"$f":"INDEX('6 Defaults parameters'!$T$9:$Y$18,MATCH($A38&\" - \"&$E38,'6 Defaults parameters'!$B$9:$B$18,0),MATCH(AB$12,'6 Defaults parameters'!$T$8:$Y$8,0))","v":71078.600000000006},null,0,0,0,0,0,0,0,0,0,0,0,0,null,{"$f":"G38*SUMIFS('1A Input Base and BAU'!$D$74:$D$89,'1A Input Base and BAU'!$B$74:$B$89,'4A Calcul. BAU city'!$C38)","v":0},{"$f":"H38*SUMIFS('1A Input Base and BAU'!$D$74:$D$89,'1A Input Base and BAU'!$B$74:$B$89,'4A Calcul. BAU city'!$C38)","v":0},{"$f":"I38*SUMIFS('1A Input Base and BAU'!$D$74:$D$89,'1A Input Base and BAU'!$B$74:$B$89,'4A Calcul. BAU city'!$C38)","v":0},{"$f":"J38*SUMIFS('1A Input Base and BAU'!$D$74:$D$89,'1A Input Base and BAU'!$B$74:$B$89,'4A Calcul. BAU city'!$C38)","v":0},{"$f":"K38*SUMIFS('1A Input Base and BAU'!$D$74:$D$89,'1A Input Base and BAU'!$B$74:$B$89,'4A Calcul. BAU city'!$C38)","v":0},{"$f":"L38*SUMIFS('1A Input Base and BAU'!$D$74:$D$89,'1A Input Base and BAU'!$B$74:$B$89,'4A Calcul. BAU city'!$C38)","v":0}]
["Road","PT",{"$f":"Bus","v":"Bus"},"Passengers",{"$f":"Electric","v":"Electric"},null,{"$f":"+SUMIFS('1A Input Base and BAU'!C$49:C$64,'1A Input Base and BAU'!$B$49:$B$64,'4A Calcul. BAU city'!$C39)*SUMIFS('1A Input Base and BAU'!D$100:D$163,'1A Input Base and BAU'!$B$100:$B$163,$C39,'1A Input Base and BAU'!$C$100:$C$163,$E39)","v":0},{"$f":"+SUMIFS('1A Input Base and BAU'!D$49:D$64,'1A Input Base and BAU'!$B$49:$B$64,'4A Calcul. BAU city'!$C39)*SUMIFS('1A Input Base and BAU'!E$100:E$163,'1A Input Base and BAU'!$B$100:$B$163,$C39,'1A Input Base and BAU'!$C$100:$C$163,$E39)","v":0},{"$f":"+SUMIFS('1A Input Base and BAU'!E$49:E$64,'1A Input Base and BAU'!$B$49:$B$64,'4A Calcul. BAU city'!$C39)*SUMIFS('1A Input Base and BAU'!F$100:F$163,'1A Input Base and BAU'!$B$100:$B$163,$C39,'1A Input Base and BAU'!$C$100:$C$163,$E39)","v":0},{"$f":"+SUMIFS('1A Input Base and BAU'!F$49:F$64,'1A Input Base and BAU'!$B$49:$B$64,'4A Calcul. BAU city'!$C39)*SUMIFS('1A Input Base and BAU'!G$100:G$163,'1A Input Base and BAU'!$B$100:$B$163,$C39,'1A Input Base and BAU'!$C$100:$C$163,$E39)","v":0},{"$f":"+SUMIFS('1A Input Base and BAU'!G$49:G$64,'1A Input Base and BAU'!$B$49:$B$64,'4A Calcul. BAU city'!$C39)*SUMIFS('1A Input Base and BAU'!H$100:H$163,'1A Input Base and BAU'!$B$100:$B$163,$C39,'1A Input Base and BAU'!$C$100:$C$163,$E39)","v":0},{"$f":"+SUMIFS('1A Input Base and BAU'!H$49:H$64,'1A Input Base and BAU'!$B$49:$B$64,'4A Calcul. BAU city'!$C39)*SUMIFS('1A Input Base and BAU'!I$100:I$163,'1A Input Base and BAU'!$B$100:$B$163,$C39,'1A Input Base and BAU'!$C$100:$C$163,$E39)","v":0},null,"kWh/100km",{"$f":"+SUMIFS('1A Input Base and BAU'!E$173:E$221,'1A Input Base and BAU'!$B$173:$B$221,'4A Calcul. BAU city'!$C39,'1A Input Base and BAU'!$C$173:$C$221,'4A Calcul. BAU city'!$E39)","v":0},{"$f":"+SUMIFS('1A Input Base and BAU'!F$173:F$221,'1A Input Base and BAU'!$B$173:$B$221,'4A Calcul. BAU city'!$C39,'1A Input Base and BAU'!$C$173:$C$221,'4A Calcul. BAU city'!$E39)","v":0},{"$f":"+SUMIFS('1A Input Base and BAU'!G$173:G$221,'1A Input Base and BAU'!$B$173:$B$221,'4A Calcul. BAU city'!$C39,'1A Input Base and BAU'!$C$173:$C$221,'4A Calcul. BAU city'!$E39)","v":0},{"$f":"+SUMIFS('1A Input Base and BAU'!H$173:H$221,'1A Input Base and BAU'!$B$173:$B$221,'4A Calcul. BAU city'!$C39,'1A Input Base and BAU'!$C$173:$C$221,'4A Calcul. BAU city'!$E39)","v":0},{"$f":"+SUMIFS('1A Input Base and BAU'!I$173:I$221,'1A Input Base and BAU'!$B$173:$B$221,'4A Calcul. BAU city'!$C39,'1A Input Base and BAU'!$C$173:$C$221,'4A Calcul. BAU city'!$E39)","v":0},{"$f":"+SUMIFS('1A Input Base and BAU'!J$173:J$221,'1A Input Base and BAU'!$B$173:$B$221,'4A Calcul. BAU city'!$C39,'1A Input Base and BAU'!$C$173:$C$221,'4A Calcul. BAU city'!$E39)","v":0},null,{"$f":"+IFERROR(VLOOKUP($A39&\" - \"&$E39,'6 Defaults parameters'!$B$9:$O$18,4,FALSE)*VLOOKUP($A39&\" - \"&$E39,'6 Defaults parameters'!$B$9:$O$18,3,FALSE),0)","v":3.6},{"$f":"INDEX('6 Defaults parameters'!$T$9:$Y$18,MATCH($A39&\" - \"&$E39,'6 Defaults parameters'!$B$9:$B$18,0),MATCH(W$12,'6 Defaults parameters'!$T$8:$Y$8,0))","v":0},{"$f":"INDEX('6 Defaults parameters'!$T$9:$Y$18,MATCH($A39&\" - \"&$E39,'6 Defaults parameters'!$B$9:$B$18,0),MATCH(X$12,'6 Defaults parameters'!$T$8:$Y$8,0))","v":0},{"$f":"INDEX('6 Defaults parameters'!$T$9:$Y$18,MATCH($A39&\" - \"&$E39,'6 Defaults parameters'!$B$9:$B$18,0),MATCH(Y$12,'6 Defaults parameters'!$T$8:$Y$8,0))","v":0},{"$f":"INDEX('6 Defaults parameters'!$T$9:$Y$18,MATCH($A39&\" - \"&$E39,'6 Defaults parameters'!$B$9:$B$18,0),MATCH(Z$12,'6 Defaults parameters'!$T$8:$Y$8,0))","v":0},{"$f":"INDEX('6 Defaults parameters'!$T$9:$Y$18,MATCH($A39&\" - \"&$E39,'6 Defaults parameters'!$B$9:$B$18,0),MATCH(AA$12,'6 Defaults parameters'!$T$8:$Y$8,0))","v":0},{"$f":"INDEX('6 Defaults parameters'!$T$9:$Y$18,MATCH($A39&\" - \"&$E39,'6 Defaults parameters'!$B$9:$B$18,0),MATCH(AB$12,'6 Defaults parameters'!$T$8:$Y$8,0))","v":0},null,0,0,0,0,0,0,0,0,0,0,0,0,null,{"$f":"G39*SUMIFS('1A Input Base and BAU'!$D$74:$D$89,'1A Input Base and BAU'!$B$74:$B$89,'4A Calcul. BAU city'!$C39)","v":0},{"$f":"H39*SUMIFS('1A Input Base and BAU'!$D$74:$D$89,'1A Input Base and BAU'!$B$74:$B$89,'4A Calcul. BAU city'!$C39)","v":0},{"$f":"I39*SUMIFS('1A Input Base and BAU'!$D$74:$D$89,'1A Input Base and BAU'!$B$74:$B$89,'4A Calcul. BAU city'!$C39)","v":0},{"$f":"J39*SUMIFS('1A Input Base and BAU'!$D$74:$D$89,'1A Input Base and BAU'!$B$74:$B$89,'4A Calcul. BAU city'!$C39)","v":0},{"$f":"K39*SUMIFS('1A Input Base and BAU'!$D$74:$D$89,'1A Input Base and BAU'!$B$74:$B$89,'4A Calcul. BAU city'!$C39)","v":0},{"$f":"L39*SUMIFS('1A Input Base and BAU'!$D$74:$D$89,'1A Input Base and BAU'!$B$74:$B$89,'4A Calcul. BAU city'!$C39)","v":0}]
[{"$f":"Road","v":"Road"},"PT",{"$f":"BRT","v":"BRT"},{"$f":"Pass","v":"Passengers"},{"$f":"Diesel","v":"Diesel"},null,{"$f":"+SUMIFS('1A Input Base and BAU'!C$49:C$64,'1A Input Base and BAU'!$B$49:$B$64,'4A Calcul. BAU city'!$C40)*SUMIFS('1A Input Base and BAU'!D$100:D$163,'1A Input Base and BAU'!$B$100:$B$163,$C40,'1A Input Base and BAU'!$C$100:$C$163,$E40)","v":0},{"$f":"+SUMIFS('1A Input Base and BAU'!D$49:D$64,'1A Input Base and BAU'!$B$49:$B$64,'4A Calcul. BAU city'!$C40)*SUMIFS('1A Input Base and BAU'!E$100:E$163,'1A Input Base and BAU'!$B$100:$B$163,$C40,'1A Input Base and BAU'!$C$100:$C$163,$E40)","v":0},{"$f":"+SUMIFS('1A Input Base and BAU'!E$49:E$64,'1A Input Base and BAU'!$B$49:$B$64,'4A Calcul. BAU city'!$C40)*SUMIFS('1A Input Base and BAU'!F$100:F$163,'1A Input Base and BAU'!$B$100:$B$163,$C40,'1A Input Base and BAU'!$C$100:$C$163,$E40)","v":0},{"$f":"+SUMIFS('1A Input Base and BAU'!F$49:F$64,'1A Input Base and BAU'!$B$49:$B$64,'4A Calcul. BAU city'!$C40)*SUMIFS('1A Input Base and BAU'!G$100:G$163,'1A Input Base and BAU'!$B$100:$B$163,$C40,'1A Input Base and BAU'!$C$100:$C$163,$E40)","v":0},{"$f":"+SUMIFS('1A Input Base and BAU'!G$49:G$64,'1A Input Base and BAU'!$B$49:$B$64,'4A Calcul. BAU city'!$C40)*SUMIFS('1A Input Base and BAU'!H$100:H$163,'1A Input Base and BAU'!$B$100:$B$163,$C40,'1A Input Base and BAU'!$C$100:$C$163,$E40)","v":0},{"$f":"+SUMIFS('1A Input Base and BAU'!H$49:H$64,'1A Input Base and BAU'!$B$49:$B$64,'4A Calcul. BAU city'!$C40)*SUMIFS('1A Input Base and BAU'!I$100:I$163,'1A Input Base and BAU'!$B$100:$B$163,$C40,'1A Input Base and BAU'!$C$100:$C$163,$E40)","v":0},null,"l/100 km",{"$f":"+SUMIFS('1A Input Base and BAU'!E$173:E$221,'1A Input Base and BAU'!$B$173:$B$221,'4A Calcul. BAU city'!$C40,'1A Input Base and BAU'!$C$173:$C$221,'4A Calcul. BAU city'!$E40)","v":0},{"$f":"+SUMIFS('1A Input Base and BAU'!F$173:F$221,'1A Input Base and BAU'!$B$173:$B$221,'4A Calcul. BAU city'!$C40,'1A Input Base and BAU'!$C$173:$C$221,'4A Calcul. BAU city'!$E40)","v":0},{"$f":"+SUMIFS('1A Input Base and BAU'!G$173:G$221,'1A Input Base and BAU'!$B$173:$B$221,'4A Calcul. BAU city'!$C40,'1A Input Base and BAU'!$C$173:$C$221,'4A Calcul. BAU city'!$E40)","v":0},{"$f":"+SUMIFS('1A Input Base and BAU'!H$173:H$221,'1A Input Base and BAU'!$B$173:$B$221,'4A Calcul. BAU city'!$C40,'1A Input Base and BAU'!$C$173:$C$221,'4A Calcul. BAU city'!$E40)","v":0},{"$f":"+SUMIFS('1A Input Base and BAU'!I$173:I$221,'1A Input Base and BAU'!$B$173:$B$221,'4A Calcul. BAU city'!$C40,'1A Input Base and BAU'!$C$173:$C$221,'4A Calcul. BAU city'!$E40)","v":0},{"$f":"+SUMIFS('1A Input Base and BAU'!J$173:J$221,'1A Input Base and BAU'!$B$173:$B$221,'4A Calcul. BAU city'!$C40,'1A Input Base and BAU'!$C$173:$C$221,'4A Calcul. BAU city'!$E40)","v":0},null,{"$f":"+IFERROR(VLOOKUP($A40&\" - \"&$E40,'6 Defaults parameters'!$B$9:$O$18,4,FALSE)*VLOOKUP($A40&\" - \"&$E40,'6 Defaults parameters'!$B$9:$O$18,3,FALSE),0)","v":36.286919831223628},{"$f":"INDEX('6 Defaults parameters'!$T$9:$Y$18,MATCH($A40&\" - \"&$E40,'6 Defaults parameters'!$B$9:$B$18,0),MATCH(W$12,'6 Defaults parameters'!$T$8:$Y$8,0))","v":75359.7},{"$f":"INDEX('6 Defaults parameters'!$T$9:$Y$18,MATCH($A40&\" - \"&$E40,'6 Defaults parameters'!$B$9:$B$18,0),MATCH(X$12,'6 Defaults parameters'!$T$8:$Y$8,0))","v":75359.7},{"$f":"INDEX('6 Defaults parameters'!$T$9:$Y$18,MATCH($A40&\" - \"&$E40,'6 Defaults parameters'!$B$9:$B$18,0),MATCH(Y$12,'6 Defaults parameters'!$T$8:$Y$8,0))","v":75359.7},{"$f":"INDEX('6 Defaults parameters'!$T$9:$Y$18,MATCH($A40&\" - \"&$E40,'6 Defaults parameters'!$B$9:$B$18,0),MATCH(Z$12,'6 Defaults parameters'!$T$8:$Y$8,0))","v":75359.7},{"$f":"INDEX('6 Defaults parameters'!$T$9:$Y$18,MATCH($A40&\" - \"&$E40,'6 Defaults parameters'!$B$9:$B$18,0),MATCH(AA$12,'6 Defaults parameters'!$T$8:$Y$8,0))","v":75359.7},{"$f":"INDEX('6 Defaults parameters'!$T$9:$Y$18,MATCH($A40&\" - \"&$E40,'6 Defaults parameters'!$B$9:$B$18,0),MATCH(AB$12,'6 Defaults parameters'!$T$8:$Y$8,0))","v":75359.7},null,{"$f":"$V40*G40*O40/100","v":0},0,0,0,0,0,{"$f":"+W40*AD40/10^6","v":0},0,0,0,0,0,null,{"$f":"G40*SUMIFS('1A Input Base and BAU'!$D$74:$D$89,'1A Input Base and BAU'!$B$74:$B$89,'4A Calcul. BAU city'!$C40)","v":0},{"$f":"H40*SUMIFS('1A Input Base and BAU'!$D$74:$D$89,'1A Input Base and BAU'!$B$74:$B$89,'4A Calcul. BAU city'!$C40)","v":0},{"$f":"I40*SUMIFS('1A Input Base and BAU'!$D$74:$D$89,'1A Input Base and BAU'!$B$74:$B$89,'4A Calcul. BAU city'!$C40)","v":0},{"$f":"J40*SUMIFS('1A Input Base and BAU'!$D$74:$D$89,'1A Input Base and BAU'!$B$74:$B$89,'4A Calcul. BAU city'!$C40)","v":0},{"$f":"K40*SUMIFS('1A Input Base and BAU'!$D$74:$D$89,'1A Input Base and BAU'!$B$74:$B$89,'4A Calcul. BAU city'!$C40)","v":0},{"$f":"L40*SUMIFS('1A Input Base and BAU'!$D$74:$D$89,'1A Input Base and BAU'!$B$74:$B$89,'4A Calcul. BAU city'!$C40)","v":0}]
[{"$f":"Road","v":"Road"},"PT",{"$f":"BRT","v":"BRT"},"Passengers",{"$f":"Electric","v":"Electric"},null,{"$f":"+SUMIFS('1A Input Base and BAU'!C$49:C$64,'1A Input Base and BAU'!$B$49:$B$64,'4A Calcul. BAU city'!$C41)*SUMIFS('1A Input Base and BAU'!D$100:D$163,'1A Input Base and BAU'!$B$100:$B$163,$C41,'1A Input Base and BAU'!$C$100:$C$163,$E41)","v":0},{"$f":"+SUMIFS('1A Input Base and BAU'!D$49:D$64,'1A Input Base and BAU'!$B$49:$B$64,'4A Calcul. BAU city'!$C41)*SUMIFS('1A Input Base and BAU'!E$100:E$163,'1A Input Base and BAU'!$B$100:$B$163,$C41,'1A Input Base and BAU'!$C$100:$C$163,$E41)","v":0},{"$f":"+SUMIFS('1A Input Base and BAU'!E$49:E$64,'1A Input Base and BAU'!$B$49:$B$64,'4A Calcul. BAU city'!$C41)*SUMIFS('1A Input Base and BAU'!F$100:F$163,'1A Input Base and BAU'!$B$100:$B$163,$C41,'1A Input Base and BAU'!$C$100:$C$163,$E41)","v":0},{"$f":"+SUMIFS('1A Input Base and BAU'!F$49:F$64,'1A Input Base and BAU'!$B$49:$B$64,'4A Calcul. BAU city'!$C41)*SUMIFS('1A Input Base and BAU'!G$100:G$163,'1A Input Base and BAU'!$B$100:$B$163,$C41,'1A Input Base and BAU'!$C$100:$C$163,$E41)","v":0},{"$f":"+SUMIFS('1A Input Base and BAU'!G$49:G$64,'1A Input Base and BAU'!$B$49:$B$64,'4A Calcul. BAU city'!$C41)*SUMIFS('1A Input Base and BAU'!H$100:H$163,'1A Input Base and BAU'!$B$100:$B$163,$C41,'1A Input Base and BAU'!$C$100:$C$163,$E41)","v":0},{"$f":"+SUMIFS('1A Input Base and BAU'!H$49:H$64,'1A Input Base and BAU'!$B$49:$B$64,'4A Calcul. BAU city'!$C41)*SUMIFS('1A Input Base and BAU'!I$100:I$163,'1A Input Base and BAU'!$B$100:$B$163,$C41,'1A Input Base and BAU'!$C$100:$C$163,$E41)","v":0},null,"kWh/100km",{"$f":"+SUMIFS('1A Input Base and BAU'!E$173:E$221,'1A Input Base and BAU'!$B$173:$B$221,'4A Calcul. BAU city'!$C41,'1A Input Base and BAU'!$C$173:$C$221,'4A Calcul. BAU city'!$E41)","v":0},{"$f":"+SUMIFS('1A Input Base and BAU'!F$173:F$221,'1A Input Base and BAU'!$B$173:$B$221,'4A Calcul. BAU city'!$C41,'1A Input Base and BAU'!$C$173:$C$221,'4A Calcul. BAU city'!$E41)","v":0},{"$f":"+SUMIFS('1A Input Base and BAU'!G$173:G$221,'1A Input Base and BAU'!$B$173:$B$221,'4A Calcul. BAU city'!$C41,'1A Input Base and BAU'!$C$173:$C$221,'4A Calcul. BAU city'!$E41)","v":0},{"$f":"+SUMIFS('1A Input Base and BAU'!H$173:H$221,'1A Input Base and BAU'!$B$173:$B$221,'4A Calcul. BAU city'!$C41,'1A Input Base and BAU'!$C$173:$C$221,'4A Calcul. BAU city'!$E41)","v":0},{"$f":"+SUMIFS('1A Input Base and BAU'!I$173:I$221,'1A Input Base and BAU'!$B$173:$B$221,'4A Calcul. BAU city'!$C41,'1A Input Base and BAU'!$C$173:$C$221,'4A Calcul. BAU city'!$E41)","v":0},{"$f":"+SUMIFS('1A Input Base and BAU'!J$173:J$221,'1A Input Base and BAU'!$B$173:$B$221,'4A Calcul. BAU city'!$C41,'1A Input Base and BAU'!$C$173:$C$221,'4A Calcul. BAU city'!$E41)","v":0},null,{"$f":"+IFERROR(VLOOKUP($A41&\" - \"&$E41,'6 Defaults parameters'!$B$9:$O$18,4,FALSE)*VLOOKUP($A41&\" - \"&$E41,'6 Defaults parameters'!$B$9:$O$18,3,FALSE),0)","v":3.6},{"$f":"INDEX('6 Defaults parameters'!$T$9:$Y$18,MATCH($A41&\" - \"&$E41,'6 Defaults parameters'!$B$9:$B$18,0),MATCH(W$12,'6 Defaults parameters'!$T$8:$Y$8,0))","v":0},{"$f":"INDEX('6 Defaults parameters'!$T$9:$Y$18,MATCH($A41&\" - \"&$E41,'6 Defaults parameters'!$B$9:$B$18,0),MATCH(X$12,'6 Defaults parameters'!$T$8:$Y$8,0))","v":0},{"$f":"INDEX('6 Defaults parameters'!$T$9:$Y$18,MATCH($A41&\" - \"&$E41,'6 Defaults parameters'!$B$9:$B$18,0),MATCH(Y$12,'6 Defaults parameters'!$T$8:$Y$8,0))","v":0},{"$f":"INDEX('6 Defaults parameters'!$T$9:$Y$18,MATCH($A41&\" - \"&$E41,'6 Defaults parameters'!$B$9:$B$18,0),MATCH(Z$12,'6 Defaults parameters'!$T$8:$Y$8,0))","v":0},{"$f":"INDEX('6 Defaults parameters'!$T$9:$Y$18,MATCH($A41&\" - \"&$E41,'6 Defaults parameters'!$B$9:$B$18,0),MATCH(AA$12,'6 Defaults parameters'!$T$8:$Y$8,0))","v":0},{"$f":"INDEX('6 Defaults parameters'!$T$9:$Y$18,MATCH($A41&\" - \"&$E41,'6 Defaults parameters'!$B$9:$B$18,0),MATCH(AB$12,'6 Defaults parameters'!$T$8:$Y$8,0))","v":0},null,0,0,0,0,0,0,0,0,0,0,0,0,null,{"$f":"G41*SUMIFS('1A Input Base and BAU'!$D$74:$D$89,'1A Input Base and BAU'!$B$74:$B$89,'4A Calcul. BAU city'!$C41)","v":0},{"$f":"H41*SUMIFS('1A Input Base and BAU'!$D$74:$D$89,'1A Input Base and BAU'!$B$74:$B$89,'4A Calcul. BAU city'!$C41)","v":0},{"$f":"I41*SUMIFS('1A Input Base and BAU'!$D$74:$D$89,'1A Input Base and BAU'!$B$74:$B$89,'4A Calcul. BAU city'!$C41)","v":0},{"$f":"J41*SUMIFS('1A Input Base and BAU'!$D$74:$D$89,'1A Input Base and BAU'!$B$74:$B$89,'4A Calcul. BAU city'!$C41)","v":0},{"$f":"K41*SUMIFS('1A Input Base and BAU'!$D$74:$D$89,'1A Input Base and BAU'!$B$74:$B$89,'4A Calcul. BAU city'!$C41)","v":0},{"$f":"L41*SUMIFS('1A Input Base and BAU'!$D$74:$D$89,'1A Input Base and BAU'!$B$74:$B$89,'4A Calcul. BAU city'!$C41)","v":0}]
["Road",{"$f":"LCV","v":"LCV"},{"$f":"lightLCV","v":"Very light LCV"},{"$f":"goods","v":"Freight"},{"$f":"Gasoline","v":"Gasoline"},null,{"$f":"+SUMIFS('1A Input Base and BAU'!C$49:C$64,'1A Input Base and BAU'!$B$49:$B$64,'4A Calcul. BAU city'!$C42)*SUMIFS('1A Input Base and BAU'!D$100:D$163,'1A Input Base and BAU'!$B$100:$B$163,$C42,'1A Input Base and BAU'!$C$100:$C$163,$E42)","v":0},{"$f":"+SUMIFS('1A Input Base and BAU'!D$49:D$64,'1A Input Base and BAU'!$B$49:$B$64,'4A Calcul. BAU city'!$C42)*SUMIFS('1A Input Base and BAU'!E$100:E$163,'1A Input Base and BAU'!$B$100:$B$163,$C42,'1A Input Base and BAU'!$C$100:$C$163,$E42)","v":0},{"$f":"+SUMIFS('1A Input Base and BAU'!E$49:E$64,'1A Input Base and BAU'!$B$49:$B$64,'4A Calcul. BAU city'!$C42)*SUMIFS('1A Input Base and BAU'!F$100:F$163,'1A Input Base and BAU'!$B$100:$B$163,$C42,'1A Input Base and BAU'!$C$100:$C$163,$E42)","v":0},{"$f":"+SUMIFS('1A Input Base and BAU'!F$49:F$64,'1A Input Base and BAU'!$B$49:$B$64,'4A Calcul. BAU city'!$C42)*SUMIFS('1A Input Base and BAU'!G$100:G$163,'1A Input Base and BAU'!$B$100:$B$163,$C42,'1A Input Base and BAU'!$C$100:$C$163,$E42)","v":0},{"$f":"+SUMIFS('1A Input Base and BAU'!G$49:G$64,'1A Input Base and BAU'!$B$49:$B$64,'4A Calcul. BAU city'!$C42)*SUMIFS('1A Input Base and BAU'!H$100:H$163,'1A Input Base and BAU'!$B$100:$B$163,$C42,'1A Input Base and BAU'!$C$100:$C$163,$E42)","v":0},{"$f":"+SUMIFS('1A Input Base and BAU'!H$49:H$64,'1A Input Base and BAU'!$B$49:$B$64,'4A Calcul. BAU city'!$C42)*SUMIFS('1A Input Base and BAU'!I$100:I$163,'1A Input Base and BAU'!$B$100:$B$163,$C42,'1A Input Base and BAU'!$C$100:$C$163,$E42)","v":0},null,"l/100 km",{"$f":"+SUMIFS('1A Input Base and BAU'!E$173:E$221,'1A Input Base and BAU'!$B$173:$B$221,'4A Calcul. BAU city'!$C42,'1A Input Base and BAU'!$C$173:$C$221,'4A Calcul. BAU city'!$E42)","v":0},{"$f":"+SUMIFS('1A Input Base and BAU'!F$173:F$221,'1A Input Base and BAU'!$B$173:$B$221,'4A Calcul. BAU city'!$C42,'1A Input Base and BAU'!$C$173:$C$221,'4A Calcul. BAU city'!$E42)","v":0},{"$f":"+SUMIFS('1A Input Base and BAU'!G$173:G$221,'1A Input Base and BAU'!$B$173:$B$221,'4A Calcul. BAU city'!$C42,'1A Input Base and BAU'!$C$173:$C$221,'4A Calcul. BAU city'!$E42)","v":0},{"$f":"+SUMIFS('1A Input Base and BAU'!H$173:H$221,'1A Input Base and BAU'!$B$173:$B$221,'4A Calcul. BAU city'!$C42,'1A Input Base and BAU'!$C$173:$C$221,'4A Calcul. BAU city'!$E42)","v":0},{"$f":"+SUMIFS('1A Input Base and BAU'!I$173:I$221,'1A Input Base and BAU'!$B$173:$B$221,'4A Calcul. BAU city'!$C42,'1A Input Base and BAU'!$C$173:$C$221,'4A Calcul. BAU city'!$E42)","v":0},{"$f":"+SUMIFS('1A Input Base and BAU'!J$173:J$221,'1A Input Base and BAU'!$B$173:$B$221,'4A Calcul. BAU city'!$C42,'1A Input Base and BAU'!$C$173:$C$221,'4A Calcul. BAU city'!$E42)","v":0},null,{"$f":"+IFERROR(VLOOKUP($A42&\" - \"&$E42,'6 Defaults parameters'!$B$9:$O$18,4,FALSE)*VLOOKUP($A42&\" - \"&$E42,'6 Defaults parameters'!$B$9:$O$18,3,FALSE),0)","v":32.81481481481481},{"$f":"INDEX('6 Defaults parameters'!$T$9:$Y$18,MATCH($A42&\" - \"&$E42,'6 Defaults parameters'!$B$9:$B$18,0),MATCH(W$12,'6 Defaults parameters'!$T$8:$Y$8,0))","v":71078.600000000006},{"$f":"INDEX('6 Defaults parameters'!$T$9:$Y$18,MATCH($A42&\" - \"&$E42,'6 Defaults parameters'!$B$9:$B$18,0),MATCH(X$12,'6 Defaults parameters'!$T$8:$Y$8,0))","v":71078.600000000006},{"$f":"INDEX('6 Defaults parameters'!$T$9:$Y$18,MATCH($A42&\" - \"&$E42,'6 Defaults parameters'!$B$9:$B$18,0),MATCH(Y$12,'6 Defaults parameters'!$T$8:$Y$8,0))","v":71078.600000000006},{"$f":"INDEX('6 Defaults parameters'!$T$9:$Y$18,MATCH($A42&\" - \"&$E42,'6 Defaults parameters'!$B$9:$B$18,0),MATCH(Z$12,'6 Defaults parameters'!$T$8:$Y$8,0))","v":71078.600000000006},{"$f":"INDEX('6 Defaults parameters'!$T$9:$Y$18,MATCH($A42&\" - \"&$E42,'6 Defaults parameters'!$B$9:$B$18,0),MATCH(AA$12,'6 Defaults parameters'!$T$8:$Y$8,0))","v":71078.600000000006},{"$f":"INDEX('6 Defaults parameters'!$T$9:$Y$18,MATCH($A42&\" - \"&$E42,'6 Defaults parameters'!$B$9:$B$18,0),MATCH(AB$12,'6 Defaults parameters'!$T$8:$Y$8,0))","v":71078.600000000006},null,{"$f":"$V42*G42*O42/100","v":0},{"$f":"$V42*H42*P42/100","v":0},{"$f":"$V42*I42*Q42/100","v":0},{"$f":"$V42*J42*R42/100","v":0},{"$f":"$V42*K42*S42/100","v":0},{"$f":"$V42*L42*T42/100","v":0},{"$f":"+W42*AD42/10^6","v":0},0,0,0,0,0,null,null,null,null,null,null,null,{"$f":"G42*SUMIFS('1A Input Base and BAU'!$D$74:$D$89,'1A Input Base and BAU'!$B$74:$B$89,'4A Calcul. BAU city'!$C42)","v":0},{"$f":"H42*SUMIFS('1A Input Base and BAU'!$D$74:$D$89,'1A Input Base and BAU'!$B$74:$B$89,'4A Calcul. BAU city'!$C42)","v":0},{"$f":"I42*SUMIFS('1A Input Base and BAU'!$D$74:$D$89,'1A Input Base and BAU'!$B$74:$B$89,'4A Calcul. BAU city'!$C42)","v":0},{"$f":"J42*SUMIFS('1A Input Base and BAU'!$D$74:$D$89,'1A Input Base and BAU'!$B$74:$B$89,'4A Calcul. BAU city'!$C42)","v":0},{"$f":"K42*SUMIFS('1A Input Base and BAU'!$D$74:$D$89,'1A Input Base and BAU'!$B$74:$B$89,'4A Calcul. BAU city'!$C42)","v":0},{"$f":"L42*SUMIFS('1A Input Base and BAU'!$D$74:$D$89,'1A Input Base and BAU'!$B$74:$B$89,'4A Calcul. BAU city'!$C42)","v":0}]
["Road",{"$f":"LCV","v":"LCV"},{"$f":"lightLCV","v":"Very light LCV"},"Freight",{"$f":"Diesel","v":"Diesel"},null,{"$f":"+SUMIFS('1A Input Base and BAU'!C$49:C$64,'1A Input Base and BAU'!$B$49:$B$64,'4A Calcul. BAU city'!$C43)*SUMIFS('1A Input Base and BAU'!D$100:D$163,'1A Input Base and BAU'!$B$100:$B$163,$C43,'1A Input Base and BAU'!$C$100:$C$163,$E43)","v":0},{"$f":"+SUMIFS('1A Input Base and BAU'!D$49:D$64,'1A Input Base and BAU'!$B$49:$B$64,'4A Calcul. BAU city'!$C43)*SUMIFS('1A Input Base and BAU'!E$100:E$163,'1A Input Base and BAU'!$B$100:$B$163,$C43,'1A Input Base and BAU'!$C$100:$C$163,$E43)","v":0},{"$f":"+SUMIFS('1A Input Base and BAU'!E$49:E$64,'1A Input Base and BAU'!$B$49:$B$64,'4A Calcul. BAU city'!$C43)*SUMIFS('1A Input Base and BAU'!F$100:F$163,'1A Input Base and BAU'!$B$100:$B$163,$C43,'1A Input Base and BAU'!$C$100:$C$163,$E43)","v":0},{"$f":"+SUMIFS('1A Input Base and BAU'!F$49:F$64,'1A Input Base and BAU'!$B$49:$B$64,'4A Calcul. BAU city'!$C43)*SUMIFS('1A Input Base and BAU'!G$100:G$163,'1A Input Base and BAU'!$B$100:$B$163,$C43,'1A Input Base and BAU'!$C$100:$C$163,$E43)","v":0},{"$f":"+SUMIFS('1A Input Base and BAU'!G$49:G$64,'1A Input Base and BAU'!$B$49:$B$64,'4A Calcul. BAU city'!$C43)*SUMIFS('1A Input Base and BAU'!H$100:H$163,'1A Input Base and BAU'!$B$100:$B$163,$C43,'1A Input Base and BAU'!$C$100:$C$163,$E43)","v":0},{"$f":"+SUMIFS('1A Input Base and BAU'!H$49:H$64,'1A Input Base and BAU'!$B$49:$B$64,'4A Calcul. BAU city'!$C43)*SUMIFS('1A Input Base and BAU'!I$100:I$163,'1A Input Base and BAU'!$B$100:$B$163,$C43,'1A Input Base and BAU'!$C$100:$C$163,$E43)","v":0},null,"l/100 km",{"$f":"+SUMIFS('1A Input Base and BAU'!E$173:E$221,'1A Input Base and BAU'!$B$173:$B$221,'4A Calcul. BAU city'!$C43,'1A Input Base and BAU'!$C$173:$C$221,'4A Calcul. BAU city'!$E43)","v":0},{"$f":"+SUMIFS('1A Input Base and BAU'!F$173:F$221,'1A Input Base and BAU'!$B$173:$B$221,'4A Calcul. BAU city'!$C43,'1A Input Base and BAU'!$C$173:$C$221,'4A Calcul. BAU city'!$E43)","v":0},{"$f":"+SUMIFS('1A Input Base and BAU'!G$173:G$221,'1A Input Base and BAU'!$B$173:$B$221,'4A Calcul. BAU city'!$C43,'1A Input Base and BAU'!$C$173:$C$221,'4A Calcul. BAU city'!$E43)","v":0},{"$f":"+SUMIFS('1A Input Base and BAU'!H$173:H$221,'1A Input Base and BAU'!$B$173:$B$221,'4A Calcul. BAU city'!$C43,'1A Input Base and BAU'!$C$173:$C$221,'4A Calcul. BAU city'!$E43)","v":0},{"$f":"+SUMIFS('1A Input Base and BAU'!I$173:I$221,'1A Input Base and BAU'!$B$173:$B$221,'4A Calcul. BAU city'!$C43,'1A Input Base and BAU'!$C$173:$C$221,'4A Calcul. BAU city'!$E43)","v":0},{"$f":"+SUMIFS('1A Input Base and BAU'!J$173:J$221,'1A Input Base and BAU'!$B$173:$B$221,'4A Calcul. BAU city'!$C43,'1A Input Base and BAU'!$C$173:$C$221,'4A Calcul. BAU city'!$E43)","v":0},null,{"$f":"+IFERROR(VLOOKUP($A43&\" - \"&$E43,'6 Defaults parameters'!$B$9:$O$18,4,FALSE)*VLOOKUP($A43&\" - \"&$E43,'6 Defaults parameters'!$B$9:$O$18,3,FALSE),0)","v":36.286919831223628},{"$f":"INDEX('6 Defaults parameters'!$T$9:$Y$18,MATCH($A43&\" - \"&$E43,'6 Defaults parameters'!$B$9:$B$18,0),MATCH(W$12,'6 Defaults parameters'!$T$8:$Y$8,0))","v":75359.7},{"$f":"INDEX('6 Defaults parameters'!$T$9:$Y$18,MATCH($A43&\" - \"&$E43,'6 Defaults parameters'!$B$9:$B$18,0),MATCH(X$12,'6 Defaults parameters'!$T$8:$Y$8,0))","v":75359.7},{"$f":"INDEX('6 Defaults parameters'!$T$9:$Y$18,MATCH($A43&\" - \"&$E43,'6 Defaults parameters'!$B$9:$B$18,0),MATCH(Y$12,'6 Defaults parameters'!$T$8:$Y$8,0))","v":75359.7},{"$f":"INDEX('6 Defaults parameters'!$T$9:$Y$18,MATCH($A43&\" - \"&$E43,'6 Defaults parameters'!$B$9:$B$18,0),MATCH(Z$12,'6 Defaults parameters'!$T$8:$Y$8,0))","v":75359.7},{"$f":"INDEX('6 Defaults parameters'!$T$9:$Y$18,MATCH($A43&\" - \"&$E43,'6 Defaults parameters'!$B$9:$B$18,0),MATCH(AA$12,'6 Defaults parameters'!$T$8:$Y$8,0))","v":75359.7},{"$f":"INDEX('6 Defaults parameters'!$T$9:$Y$18,MATCH($A43&\" - \"&$E43,'6 Defaults parameters'!$B$9:$B$18,0),MATCH(AB$12,'6 Defaults parameters'!$T$8:$Y$8,0))","v":75359.7},null,0,0,0,0,0,0,{"$f":"+W43*AD43/10^6","v":0},{"$f":"+X43*AE43/10^6","v":0},{"$f":"+Y43*AF43/10^6","v":0},{"$f":"+Z43*AG43/10^6","v":0},{"$f":"+AA43*AH43/10^6","v":0},{"$f":"+AB43*AI43/10^6","v":0},null,null,null,null,null,null,null,{"$f":"G43*SUMIFS('1A Input Base and BAU'!$D$74:$D$89,'1A Input Base and BAU'!$B$74:$B$89,'4A Calcul. BAU city'!$C43)","v":0},{"$f":"H43*SUMIFS('1A Input Base and BAU'!$D$74:$D$89,'1A Input Base and BAU'!$B$74:$B$89,'4A Calcul. BAU city'!$C43)","v":0},{"$f":"I43*SUMIFS('1A Input Base and BAU'!$D$74:$D$89,'1A Input Base and BAU'!$B$74:$B$89,'4A Calcul. BAU city'!$C43)","v":0},{"$f":"J43*SUMIFS('1A Input Base and BAU'!$D$74:$D$89,'1A Input Base and BAU'!$B$74:$B$89,'4A Calcul. BAU city'!$C43)","v":0},{"$f":"K43*SUMIFS('1A Input Base and BAU'!$D$74:$D$89,'1A Input Base and BAU'!$B$74:$B$89,'4A Calcul. BAU city'!$C43)","v":0},{"$f":"L43*SUMIFS('1A Input Base and BAU'!$D$74:$D$89,'1A Input Base and BAU'!$B$74:$B$89,'4A Calcul. BAU city'!$C43)","v":0}]
["Road","LCV",{"$f":"lightLCV","v":"Very light LCV"},"Freight",{"$f":"Electric","v":"Electric"},null,{"$f":"+SUMIFS('1A Input Base and BAU'!C$49:C$64,'1A Input Base and BAU'!$B$49:$B$64,'4A Calcul. BAU city'!$C44)*SUMIFS('1A Input Base and BAU'!D$100:D$163,'1A Input Base and BAU'!$B$100:$B$163,$C44,'1A Input Base and BAU'!$C$100:$C$163,$E44)","v":0},{"$f":"+SUMIFS('1A Input Base and BAU'!D$49:D$64,'1A Input Base and BAU'!$B$49:$B$64,'4A Calcul. BAU city'!$C44)*SUMIFS('1A Input Base and BAU'!E$100:E$163,'1A Input Base and BAU'!$B$100:$B$163,$C44,'1A Input Base and BAU'!$C$100:$C$163,$E44)","v":0},{"$f":"+SUMIFS('1A Input Base and BAU'!E$49:E$64,'1A Input Base and BAU'!$B$49:$B$64,'4A Calcul. BAU city'!$C44)*SUMIFS('1A Input Base and BAU'!F$100:F$163,'1A Input Base and BAU'!$B$100:$B$163,$C44,'1A Input Base and BAU'!$C$100:$C$163,$E44)","v":0},{"$f":"+SUMIFS('1A Input Base and BAU'!F$49:F$64,'1A Input Base and BAU'!$B$49:$B$64,'4A Calcul. BAU city'!$C44)*SUMIFS('1A Input Base and BAU'!G$100:G$163,'1A Input Base and BAU'!$B$100:$B$163,$C44,'1A Input Base and BAU'!$C$100:$C$163,$E44)","v":0},{"$f":"+SUMIFS('1A Input Base and BAU'!G$49:G$64,'1A Input Base and BAU'!$B$49:$B$64,'4A Calcul. BAU city'!$C44)*SUMIFS('1A Input Base and BAU'!H$100:H$163,'1A Input Base and BAU'!$B$100:$B$163,$C44,'1A Input Base and BAU'!$C$100:$C$163,$E44)","v":0},{"$f":"+SUMIFS('1A Input Base and BAU'!H$49:H$64,'1A Input Base and BAU'!$B$49:$B$64,'4A Calcul. BAU city'!$C44)*SUMIFS('1A Input Base and BAU'!I$100:I$163,'1A Input Base and BAU'!$B$100:$B$163,$C44,'1A Input Base and BAU'!$C$100:$C$163,$E44)","v":0},null,"kWh/100km",{"$f":"+SUMIFS('1A Input Base and BAU'!E$173:E$221,'1A Input Base and BAU'!$B$173:$B$221,'4A Calcul. BAU city'!$C44,'1A Input Base and BAU'!$C$173:$C$221,'4A Calcul. BAU city'!$E44)","v":0},{"$f":"+SUMIFS('1A Input Base and BAU'!F$173:F$221,'1A Input Base and BAU'!$B$173:$B$221,'4A Calcul. BAU city'!$C44,'1A Input Base and BAU'!$C$173:$C$221,'4A Calcul. BAU city'!$E44)","v":0},{"$f":"+SUMIFS('1A Input Base and BAU'!G$173:G$221,'1A Input Base and BAU'!$B$173:$B$221,'4A Calcul. BAU city'!$C44,'1A Input Base and BAU'!$C$173:$C$221,'4A Calcul. BAU city'!$E44)","v":0},{"$f":"+SUMIFS('1A Input Base and BAU'!H$173:H$221,'1A Input Base and BAU'!$B$173:$B$221,'4A Calcul. BAU city'!$C44,'1A Input Base and BAU'!$C$173:$C$221,'4A Calcul. BAU city'!$E44)","v":0},{"$f":"+SUMIFS('1A Input Base and BAU'!I$173:I$221,'1A Input Base and BAU'!$B$173:$B$221,'4A Calcul. BAU city'!$C44,'1A Input Base and BAU'!$C$173:$C$221,'4A Calcul. BAU city'!$E44)","v":0},{"$f":"+SUMIFS('1A Input Base and BAU'!J$173:J$221,'1A Input Base and BAU'!$B$173:$B$221,'4A Calcul. BAU city'!$C44,'1A Input Base and BAU'!$C$173:$C$221,'4A Calcul. BAU city'!$E44)","v":0},null,{"$f":"+IFERROR(VLOOKUP($A44&\" - \"&$E44,'6 Defaults parameters'!$B$9:$O$18,4,FALSE)*VLOOKUP($A44&\" - \"&$E44,'6 Defaults parameters'!$B$9:$O$18,3,FALSE),0)","v":3.6},{"$f":"INDEX('6 Defaults parameters'!$T$9:$Y$18,MATCH($A44&\" - \"&$E44,'6 Defaults parameters'!$B$9:$B$18,0),MATCH(W$12,'6 Defaults parameters'!$T$8:$Y$8,0))","v":0},{"$f":"INDEX('6 Defaults parameters'!$T$9:$Y$18,MATCH($A44&\" - \"&$E44,'6 Defaults parameters'!$B$9:$B$18,0),MATCH(X$12,'6 Defaults parameters'!$T$8:$Y$8,0))","v":0},{"$f":"INDEX('6 Defaults parameters'!$T$9:$Y$18,MATCH($A44&\" - \"&$E44,'6 Defaults parameters'!$B$9:$B$18,0),MATCH(Y$12,'6 Defaults parameters'!$T$8:$Y$8,0))","v":0},{"$f":"INDEX('6 Defaults parameters'!$T$9:$Y$18,MATCH($A44&\" - \"&$E44,'6 Defaults parameters'!$B$9:$B$18,0),MATCH(Z$12,'6 Defaults parameters'!$T$8:$Y$8,0))","v":0},{"$f":"INDEX('6 Defaults parameters'!$T$9:$Y$18,MATCH($A44&\" - \"&$E44,'6 Defaults parameters'!$B$9:$B$18,0),MATCH(AA$12,'6 Defaults parameters'!$T$8:$Y$8,0))","v":0},{"$f":"INDEX('6 Defaults parameters'!$T$9:$Y$18,MATCH($A44&\" - \"&$E44,'6 Defaults parameters'!$B$9:$B$18,0),MATCH(AB$12,'6 Defaults parameters'!$T$8:$Y$8,0))","v":0},null,{"$f":"$V44*G44*O44/100","v":0},{"$f":"$V44*H44*P44/100","v":0},{"$f":"$V44*I44*Q44/100","v":0},{"$f":"$V44*J44*R44/100","v":0},{"$f":"$V44*K44*S44/100","v":0},{"$f":"$V44*L44*T44/100","v":0},0,0,0,0,0,0,null,null,null,null,null,null,null,{"$f":"G44*SUMIFS('1A Input Base and BAU'!$D$74:$D$89,'1A Input Base and BAU'!$B$74:$B$89,'4A Calcul. BAU city'!$C44)","v":0},{"$f":"H44*SUMIFS('1A Input Base and BAU'!$D$74:$D$89,'1A Input Base and BAU'!$B$74:$B$89,'4A Calcul. BAU city'!$C44)","v":0},{"$f":"I44*SUMIFS('1A Input Base and BAU'!$D$74:$D$89,'1A Input Base and BAU'!$B$74:$B$89,'4A Calcul. BAU city'!$C44)","v":0},{"$f":"J44*SUMIFS('1A Input Base and BAU'!$D$74:$D$89,'1A Input Base and BAU'!$B$74:$B$89,'4A Calcul. BAU city'!$C44)","v":0},{"$f":"K44*SUMIFS('1A Input Base and BAU'!$D$74:$D$89,'1A Input Base and BAU'!$B$74:$B$89,'4A Calcul. BAU city'!$C44)","v":0},{"$f":"L44*SUMIFS('1A Input Base and BAU'!$D$74:$D$89,'1A Input Base and BAU'!$B$74:$B$89,'4A Calcul. BAU city'!$C44)","v":0}]
["Road","LCV","LCV","Freight",{"$f":"Gasoline","v":"Gasoline"},null,{"$f":"+SUMIFS('1A Input Base and BAU'!C$49:C$64,'1A Input Base and BAU'!$B$49:$B$64,'4A Calcul. BAU city'!$C45)*SUMIFS('1A Input Base and BAU'!D$100:D$163,'1A Input Base and BAU'!$B$100:$B$163,$C45,'1A Input Base and BAU'!$C$100:$C$163,$E45)","v":0},{"$f":"+SUMIFS('1A Input Base and BAU'!D$49:D$64,'1A Input Base and BAU'!$B$49:$B$64,'4A Calcul. BAU city'!$C45)*SUMIFS('1A Input Base and BAU'!E$100:E$163,'1A Input Base and BAU'!$B$100:$B$163,$C45,'1A Input Base and BAU'!$C$100:$C$163,$E45)","v":0},{"$f":"+SUMIFS('1A Input Base and BAU'!E$49:E$64,'1A Input Base and BAU'!$B$49:$B$64,'4A Calcul. BAU city'!$C45)*SUMIFS('1A Input Base and BAU'!F$100:F$163,'1A Input Base and BAU'!$B$100:$B$163,$C45,'1A Input Base and BAU'!$C$100:$C$163,$E45)","v":0},{"$f":"+SUMIFS('1A Input Base and BAU'!F$49:F$64,'1A Input Base and BAU'!$B$49:$B$64,'4A Calcul. BAU city'!$C45)*SUMIFS('1A Input Base and BAU'!G$100:G$163,'1A Input Base and BAU'!$B$100:$B$163,$C45,'1A Input Base and BAU'!$C$100:$C$163,$E45)","v":0},{"$f":"+SUMIFS('1A Input Base and BAU'!G$49:G$64,'1A Input Base and BAU'!$B$49:$B$64,'4A Calcul. BAU city'!$C45)*SUMIFS('1A Input Base and BAU'!H$100:H$163,'1A Input Base and BAU'!$B$100:$B$163,$C45,'1A Input Base and BAU'!$C$100:$C$163,$E45)","v":0},{"$f":"+SUMIFS('1A Input Base and BAU'!H$49:H$64,'1A Input Base and BAU'!$B$49:$B$64,'4A Calcul. BAU city'!$C45)*SUMIFS('1A Input Base and BAU'!I$100:I$163,'1A Input Base and BAU'!$B$100:$B$163,$C45,'1A Input Base and BAU'!$C$100:$C$163,$E45)","v":0},null,"l/100 km",{"$f":"+SUMIFS('1A Input Base and BAU'!E$173:E$221,'1A Input Base and BAU'!$B$173:$B$221,'4A Calcul. BAU city'!$C45,'1A Input Base and BAU'!$C$173:$C$221,'4A Calcul. BAU city'!$E45)","v":0},{"$f":"+SUMIFS('1A Input Base and BAU'!F$173:F$221,'1A Input Base and BAU'!$B$173:$B$221,'4A Calcul. BAU city'!$C45,'1A Input Base and BAU'!$C$173:$C$221,'4A Calcul. BAU city'!$E45)","v":0},{"$f":"+SUMIFS('1A Input Base and BAU'!G$173:G$221,'1A Input Base and BAU'!$B$173:$B$221,'4A Calcul. BAU city'!$C45,'1A Input Base and BAU'!$C$173:$C$221,'4A Calcul. BAU city'!$E45)","v":0},{"$f":"+SUMIFS('1A Input Base and BAU'!H$173:H$221,'1A Input Base and BAU'!$B$173:$B$221,'4A Calcul. BAU city'!$C45,'1A Input Base and BAU'!$C$173:$C$221,'4A Calcul. BAU city'!$E45)","v":0},{"$f":"+SUMIFS('1A Input Base and BAU'!I$173:I$221,'1A Input Base and BAU'!$B$173:$B$221,'4A Calcul. BAU city'!$C45,'1A Input Base and BAU'!$C$173:$C$221,'4A Calcul. BAU city'!$E45)","v":0},{"$f":"+SUMIFS('1A Input Base and BAU'!J$173:J$221,'1A Input Base and BAU'!$B$173:$B$221,'4A Calcul. BAU city'!$C45,'1A Input Base and BAU'!$C$173:$C$221,'4A Calcul. BAU city'!$E45)","v":0},null,{"$f":"+IFERROR(VLOOKUP($A45&\" - \"&$E45,'6 Defaults parameters'!$B$9:$O$18,4,FALSE)*VLOOKUP($A45&\" - \"&$E45,'6 Defaults parameters'!$B$9:$O$18,3,FALSE),0)","v":32.81481481481481},{"$f":"INDEX('6 Defaults parameters'!$T$9:$Y$18,MATCH($A45&\" - \"&$E45,'6 Defaults parameters'!$B$9:$B$18,0),MATCH(W$12,'6 Defaults parameters'!$T$8:$Y$8,0))","v":71078.600000000006},{"$f":"INDEX('6 Defaults parameters'!$T$9:$Y$18,MATCH($A45&\" - \"&$E45,'6 Defaults parameters'!$B$9:$B$18,0),MATCH(X$12,'6 Defaults parameters'!$T$8:$Y$8,0))","v":71078.600000000006},{"$f":"INDEX('6 Defaults parameters'!$T$9:$Y$18,MATCH($A45&\" - \"&$E45,'6 Defaults parameters'!$B$9:$B$18,0),MATCH(Y$12,'6 Defaults parameters'!$T$8:$Y$8,0))","v":71078.600000000006},{"$f":"INDEX('6 Defaults parameters'!$T$9:$Y$18,MATCH($A45&\" - \"&$E45,'6 Defaults parameters'!$B$9:$B$18,0),MATCH(Z$12,'6 Defaults parameters'!$T$8:$Y$8,0))","v":71078.600000000006},{"$f":"INDEX('6 Defaults parameters'!$T$9:$Y$18,MATCH($A45&\" - \"&$E45,'6 Defaults parameters'!$B$9:$B$18,0),MATCH(AA$12,'6 Defaults parameters'!$T$8:$Y$8,0))","v":71078.600000000006},{"$f":"INDEX('6 Defaults parameters'!$T$9:$Y$18,MATCH($A45&\" - \"&$E45,'6 Defaults parameters'!$B$9:$B$18,0),MATCH(AB$12,'6 Defaults parameters'!$T$8:$Y$8,0))","v":71078.600000000006},{"$f":"\"\"","v":""},0,0,0,0,0,0,{"$f":"+W45*AD45/10^6","v":0},0,0,0,0,0,null,null,null,null,null,null,null,{"$f":"G45*SUMIFS('1A Input Base and BAU'!$D$74:$D$89,'1A Input Base and BAU'!$B$74:$B$89,'4A Calcul. BAU city'!$C45)","v":0},{"$f":"H45*SUMIFS('1A Input Base and BAU'!$D$74:$D$89,'1A Input Base and BAU'!$B$74:$B$89,'4A Calcul. BAU city'!$C45)","v":0},{"$f":"I45*SUMIFS('1A Input Base and BAU'!$D$74:$D$89,'1A Input Base and BAU'!$B$74:$B$89,'4A Calcul. BAU city'!$C45)","v":0},{"$f":"J45*SUMIFS('1A Input Base and BAU'!$D$74:$D$89,'1A Input Base and BAU'!$B$74:$B$89,'4A Calcul. BAU city'!$C45)","v":0},{"$f":"K45*SUMIFS('1A Input Base and BAU'!$D$74:$D$89,'1A Input Base and BAU'!$B$74:$B$89,'4A Calcul. BAU city'!$C45)","v":0},{"$f":"L45*SUMIFS('1A Input Base and BAU'!$D$74:$D$89,'1A Input Base and BAU'!$B$74:$B$89,'4A Calcul. BAU city'!$C45)","v":0}]
["Road","LCV","LCV","Freight",{"$f":"Diesel","v":"Diesel"},null,{"$f":"+SUMIFS('1A Input Base and BAU'!C$49:C$64,'1A Input Base and BAU'!$B$49:$B$64,'4A Calcul. BAU city'!$C46)*SUMIFS('1A Input Base and BAU'!D$100:D$163,'1A Input Base and BAU'!$B$100:$B$163,$C46,'1A Input Base and BAU'!$C$100:$C$163,$E46)","v":0},{"$f":"+SUMIFS('1A Input Base and BAU'!D$49:D$64,'1A Input Base and BAU'!$B$49:$B$64,'4A Calcul. BAU city'!$C46)*SUMIFS('1A Input Base and BAU'!E$100:E$163,'1A Input Base and BAU'!$B$100:$B$163,$C46,'1A Input Base and BAU'!$C$100:$C$163,$E46)","v":0},{"$f":"+SUMIFS('1A Input Base and BAU'!E$49:E$64,'1A Input Base and BAU'!$B$49:$B$64,'4A Calcul. BAU city'!$C46)*SUMIFS('1A Input Base and BAU'!F$100:F$163,'1A Input Base and BAU'!$B$100:$B$163,$C46,'1A Input Base and BAU'!$C$100:$C$163,$E46)","v":0},{"$f":"+SUMIFS('1A Input Base and BAU'!F$49:F$64,'1A Input Base and BAU'!$B$49:$B$64,'4A Calcul. BAU city'!$C46)*SUMIFS('1A Input Base and BAU'!G$100:G$163,'1A Input Base and BAU'!$B$100:$B$163,$C46,'1A Input Base and BAU'!$C$100:$C$163,$E46)","v":0},{"$f":"+SUMIFS('1A Input Base and BAU'!G$49:G$64,'1A Input Base and BAU'!$B$49:$B$64,'4A Calcul. BAU city'!$C46)*SUMIFS('1A Input Base and BAU'!H$100:H$163,'1A Input Base and BAU'!$B$100:$B$163,$C46,'1A Input Base and BAU'!$C$100:$C$163,$E46)","v":0},{"$f":"+SUMIFS('1A Input Base and BAU'!H$49:H$64,'1A Input Base and BAU'!$B$49:$B$64,'4A Calcul. BAU city'!$C46)*SUMIFS('1A Input Base and BAU'!I$100:I$163,'1A Input Base and BAU'!$B$100:$B$163,$C46,'1A Input Base and BAU'!$C$100:$C$163,$E46)","v":0},null,"l/100 km",{"$f":"+SUMIFS('1A Input Base and BAU'!E$173:E$221,'1A Input Base and BAU'!$B$173:$B$221,'4A Calcul. BAU city'!$C46,'1A Input Base and BAU'!$C$173:$C$221,'4A Calcul. BAU city'!$E46)","v":0},{"$f":"+SUMIFS('1A Input Base and BAU'!F$173:F$221,'1A Input Base and BAU'!$B$173:$B$221,'4A Calcul. BAU city'!$C46,'1A Input Base and BAU'!$C$173:$C$221,'4A Calcul. BAU city'!$E46)","v":0},{"$f":"+SUMIFS('1A Input Base and BAU'!G$173:G$221,'1A Input Base and BAU'!$B$173:$B$221,'4A Calcul. BAU city'!$C46,'1A Input Base and BAU'!$C$173:$C$221,'4A Calcul. BAU city'!$E46)","v":0},{"$f":"+SUMIFS('1A Input Base and BAU'!H$173:H$221,'1A Input Base and BAU'!$B$173:$B$221,'4A Calcul. BAU city'!$C46,'1A Input Base and BAU'!$C$173:$C$221,'4A Calcul. BAU city'!$E46)","v":0},{"$f":"+SUMIFS('1A Input Base and BAU'!I$173:I$221,'1A Input Base and BAU'!$B$173:$B$221,'4A Calcul. BAU city'!$C46,'1A Input Base and BAU'!$C$173:$C$221,'4A Calcul. BAU city'!$E46)","v":0},{"$f":"+SUMIFS('1A Input Base and BAU'!J$173:J$221,'1A Input Base and BAU'!$B$173:$B$221,'4A Calcul. BAU city'!$C46,'1A Input Base and BAU'!$C$173:$C$221,'4A Calcul. BAU city'!$E46)","v":0},null,{"$f":"+IFERROR(VLOOKUP($A46&\" - \"&$E46,'6 Defaults parameters'!$B$9:$O$18,4,FALSE)*VLOOKUP($A46&\" - \"&$E46,'6 Defaults parameters'!$B$9:$O$18,3,FALSE),0)","v":36.286919831223628},{"$f":"INDEX('6 Defaults parameters'!$T$9:$Y$18,MATCH($A46&\" - \"&$E46,'6 Defaults parameters'!$B$9:$B$18,0),MATCH(W$12,'6 Defaults parameters'!$T$8:$Y$8,0))","v":75359.7},{"$f":"INDEX('6 Defaults parameters'!$T$9:$Y$18,MATCH($A46&\" - \"&$E46,'6 Defaults parameters'!$B$9:$B$18,0),MATCH(X$12,'6 Defaults parameters'!$T$8:$Y$8,0))","v":75359.7},{"$f":"INDEX('6 Defaults parameters'!$T$9:$Y$18,MATCH($A46&\" - \"&$E46,'6 Defaults parameters'!$B$9:$B$18,0),MATCH(Y$12,'6 Defaults parameters'!$T$8:$Y$8,0))","v":75359.7},{"$f":"INDEX('6 Defaults parameters'!$T$9:$Y$18,MATCH($A46&\" - \"&$E46,'6 Defaults parameters'!$B$9:$B$18,0),MATCH(Z$12,'6 Defaults parameters'!$T$8:$Y$8,0))","v":75359.7},{"$f":"INDEX('6 Defaults parameters'!$T$9:$Y$18,MATCH($A46&\" - \"&$E46,'6 Defaults parameters'!$B$9:$B$18,0),MATCH(AA$12,'6 Defaults parameters'!$T$8:$Y$8,0))","v":75359.7},{"$f":"INDEX('6 Defaults parameters'!$T$9:$Y$18,MATCH($A46&\" - \"&$E46,'6 Defaults parameters'!$B$9:$B$18,0),MATCH(AB$12,'6 Defaults parameters'!$T$8:$Y$8,0))","v":75359.7},{"$f":"\"\"","v":""},0,0,0,0,0,0,{"$f":"+W46*AD46/10^6","v":0},{"$f":"+X46*AE46/10^6","v":0},{"$f":"+Y46*AF46/10^6","v":0},{"$f":"+Z46*AG46/10^6","v":0},{"$f":"+AA46*AH46/10^6","v":0},{"$f":"+AB46*AI46/10^6","v":0},null,null,null,null,null,null,null,{"$f":"G46*SUMIFS('1A Input Base and BAU'!$D$74:$D$89,'1A Input Base and BAU'!$B$74:$B$89,'4A Calcul. BAU city'!$C46)","v":0},{"$f":"H46*SUMIFS('1A Input Base and BAU'!$D$74:$D$89,'1A Input Base and BAU'!$B$74:$B$89,'4A Calcul. BAU city'!$C46)","v":0},{"$f":"I46*SUMIFS('1A Input Base and BAU'!$D$74:$D$89,'1A Input Base and BAU'!$B$74:$B$89,'4A Calcul. BAU city'!$C46)","v":0},{"$f":"J46*SUMIFS('1A Input Base and BAU'!$D$74:$D$89,'1A Input Base and BAU'!$B$74:$B$89,'4A Calcul. BAU city'!$C46)","v":0},{"$f":"K46*SUMIFS('1A Input Base and BAU'!$D$74:$D$89,'1A Input Base and BAU'!$B$74:$B$89,'4A Calcul. BAU city'!$C46)","v":0},{"$f":"L46*SUMIFS('1A Input Base and BAU'!$D$74:$D$89,'1A Input Base and BAU'!$B$74:$B$89,'4A Calcul. BAU city'!$C46)","v":0}]
["Road","LCV","LCV","Freight",{"$f":"LPG","v":"LPG"},null,{"$f":"+SUMIFS('1A Input Base and BAU'!C$49:C$64,'1A Input Base and BAU'!$B$49:$B$64,'4A Calcul. BAU city'!$C47)*SUMIFS('1A Input Base and BAU'!D$100:D$163,'1A Input Base and BAU'!$B$100:$B$163,$C47,'1A Input Base and BAU'!$C$100:$C$163,$E47)","v":0},{"$f":"+SUMIFS('1A Input Base and BAU'!D$49:D$64,'1A Input Base and BAU'!$B$49:$B$64,'4A Calcul. BAU city'!$C47)*SUMIFS('1A Input Base and BAU'!E$100:E$163,'1A Input Base and BAU'!$B$100:$B$163,$C47,'1A Input Base and BAU'!$C$100:$C$163,$E47)","v":0},{"$f":"+SUMIFS('1A Input Base and BAU'!E$49:E$64,'1A Input Base and BAU'!$B$49:$B$64,'4A Calcul. BAU city'!$C47)*SUMIFS('1A Input Base and BAU'!F$100:F$163,'1A Input Base and BAU'!$B$100:$B$163,$C47,'1A Input Base and BAU'!$C$100:$C$163,$E47)","v":0},{"$f":"+SUMIFS('1A Input Base and BAU'!F$49:F$64,'1A Input Base and BAU'!$B$49:$B$64,'4A Calcul. BAU city'!$C47)*SUMIFS('1A Input Base and BAU'!G$100:G$163,'1A Input Base and BAU'!$B$100:$B$163,$C47,'1A Input Base and BAU'!$C$100:$C$163,$E47)","v":0},{"$f":"+SUMIFS('1A Input Base and BAU'!G$49:G$64,'1A Input Base and BAU'!$B$49:$B$64,'4A Calcul. BAU city'!$C47)*SUMIFS('1A Input Base and BAU'!H$100:H$163,'1A Input Base and BAU'!$B$100:$B$163,$C47,'1A Input Base and BAU'!$C$100:$C$163,$E47)","v":0},{"$f":"+SUMIFS('1A Input Base and BAU'!H$49:H$64,'1A Input Base and BAU'!$B$49:$B$64,'4A Calcul. BAU city'!$C47)*SUMIFS('1A Input Base and BAU'!I$100:I$163,'1A Input Base and BAU'!$B$100:$B$163,$C47,'1A Input Base and BAU'!$C$100:$C$163,$E47)","v":0},null,"l/100 km",{"$f":"+SUMIFS('1A Input Base and BAU'!E$173:E$221,'1A Input Base and BAU'!$B$173:$B$221,'4A Calcul. BAU city'!$C47,'1A Input Base and BAU'!$C$173:$C$221,'4A Calcul. BAU city'!$E47)","v":0},{"$f":"+SUMIFS('1A Input Base and BAU'!F$173:F$221,'1A Input Base and BAU'!$B$173:$B$221,'4A Calcul. BAU city'!$C47,'1A Input Base and BAU'!$C$173:$C$221,'4A Calcul. BAU city'!$E47)","v":0},{"$f":"+SUMIFS('1A Input Base and BAU'!G$173:G$221,'1A Input Base and BAU'!$B$173:$B$221,'4A Calcul. BAU city'!$C47,'1A Input Base and BAU'!$C$173:$C$221,'4A Calcul. BAU city'!$E47)","v":0},{"$f":"+SUMIFS('1A Input Base and BAU'!H$173:H$221,'1A Input Base and BAU'!$B$173:$B$221,'4A Calcul. BAU city'!$C47,'1A Input Base and BAU'!$C$173:$C$221,'4A Calcul. BAU city'!$E47)","v":0},{"$f":"+SUMIFS('1A Input Base and BAU'!I$173:I$221,'1A Input Base and BAU'!$B$173:$B$221,'4A Calcul. BAU city'!$C47,'1A Input Base and BAU'!$C$173:$C$221,'4A Calcul. BAU city'!$E47)","v":0},{"$f":"+SUMIFS('1A Input Base and BAU'!J$173:J$221,'1A Input Base and BAU'!$B$173:$B$221,'4A Calcul. BAU city'!$C47,'1A Input Base and BAU'!$C$173:$C$221,'4A Calcul. BAU city'!$E47)","v":0},null,{"$f":"+IFERROR(VLOOKUP($A47&\" - \"&$E47,'6 Defaults parameters'!$B$9:$O$18,4,FALSE)*VLOOKUP($A47&\" - \"&$E47,'6 Defaults parameters'!$B$9:$O$18,3,FALSE),0)","v":24.699738903394255},{"$f":"INDEX('6 Defaults parameters'!$T$9:$Y$18,MATCH($A47&\" - \"&$E47,'6 Defaults parameters'!$B$9:$B$18,0),MATCH(W$12,'6 Defaults parameters'!$T$8:$Y$8,0))","v":64709.599999999999},{"$f":"INDEX('6 Defaults parameters'!$T$9:$Y$18,MATCH($A47&\" - \"&$E47,'6 Defaults parameters'!$B$9:$B$18,0),MATCH(X$12,'6 Defaults parameters'!$T$8:$Y$8,0))","v":64709.599999999999},{"$f":"INDEX('6 Defaults parameters'!$T$9:$Y$18,MATCH($A47&\" - \"&$E47,'6 Defaults parameters'!$B$9:$B$18,0),MATCH(Y$12,'6 Defaults parameters'!$T$8:$Y$8,0))","v":64709.599999999999},{"$f":"INDEX('6 Defaults parameters'!$T$9:$Y$18,MATCH($A47&\" - \"&$E47,'6 Defaults parameters'!$B$9:$B$18,0),MATCH(Z$12,'6 Defaults parameters'!$T$8:$Y$8,0))","v":64709.599999999999},{"$f":"INDEX('6 Defaults parameters'!$T$9:$Y$18,MATCH($A47&\" - \"&$E47,'6 Defaults parameters'!$B$9:$B$18,0),MATCH(AA$12,'6 Defaults parameters'!$T$8:$Y$8,0))","v":64709.599999999999},{"$f":"INDEX('6 Defaults parameters'!$T$9:$Y$18,MATCH($A47&\" - \"&$E47,'6 Defaults parameters'!$B$9:$B$18,0),MATCH(AB$12,'6 Defaults parameters'!$T$8:$Y$8,0))","v":64709.599999999999},{"$f":"\"\"","v":""},0,0,0,0,0,0,0,0,0,0,0,0,null,null,null,null,null,null,null,{"$f":"G47*SUMIFS('1A Input Base and BAU'!$D$74:$D$89,'1A Input Base and BAU'!$B$74:$B$89,'4A Calcul. BAU city'!$C47)","v":0},{"$f":"H47*SUMIFS('1A Input Base and BAU'!$D$74:$D$89,'1A Input Base and BAU'!$B$74:$B$89,'4A Calcul. BAU city'!$C47)","v":0},{"$f":"I47*SUMIFS('1A Input Base and BAU'!$D$74:$D$89,'1A Input Base and BAU'!$B$74:$B$89,'4A Calcul. BAU city'!$C47)","v":0},{"$f":"J47*SUMIFS('1A Input Base and BAU'!$D$74:$D$89,'1A Input Base and BAU'!$B$74:$B$89,'4A Calcul. BAU city'!$C47)","v":0},{"$f":"K47*SUMIFS('1A Input Base and BAU'!$D$74:$D$89,'1A Input Base and BAU'!$B$74:$B$89,'4A Calcul. BAU city'!$C47)","v":0},{"$f":"L47*SUMIFS('1A Input Base and BAU'!$D$74:$D$89,'1A Input Base and BAU'!$B$74:$B$89,'4A Calcul. BAU city'!$C47)","v":0}]
["Road","LCV","LCV","Freight",{"$f":"NG","v":"NG"},null,{"$f":"+SUMIFS('1A Input Base and BAU'!C$49:C$64,'1A Input Base and BAU'!$B$49:$B$64,'4A Calcul. BAU city'!$C48)*SUMIFS('1A Input Base and BAU'!D$100:D$163,'1A Input Base and BAU'!$B$100:$B$163,$C48,'1A Input Base and BAU'!$C$100:$C$163,$E48)","v":0},{"$f":"+SUMIFS('1A Input Base and BAU'!D$49:D$64,'1A Input Base and BAU'!$B$49:$B$64,'4A Calcul. BAU city'!$C48)*SUMIFS('1A Input Base and BAU'!E$100:E$163,'1A Input Base and BAU'!$B$100:$B$163,$C48,'1A Input Base and BAU'!$C$100:$C$163,$E48)","v":0},{"$f":"+SUMIFS('1A Input Base and BAU'!E$49:E$64,'1A Input Base and BAU'!$B$49:$B$64,'4A Calcul. BAU city'!$C48)*SUMIFS('1A Input Base and BAU'!F$100:F$163,'1A Input Base and BAU'!$B$100:$B$163,$C48,'1A Input Base and BAU'!$C$100:$C$163,$E48)","v":0},{"$f":"+SUMIFS('1A Input Base and BAU'!F$49:F$64,'1A Input Base and BAU'!$B$49:$B$64,'4A Calcul. BAU city'!$C48)*SUMIFS('1A Input Base and BAU'!G$100:G$163,'1A Input Base and BAU'!$B$100:$B$163,$C48,'1A Input Base and BAU'!$C$100:$C$163,$E48)","v":0},{"$f":"+SUMIFS('1A Input Base and BAU'!G$49:G$64,'1A Input Base and BAU'!$B$49:$B$64,'4A Calcul. BAU city'!$C48)*SUMIFS('1A Input Base and BAU'!H$100:H$163,'1A Input Base and BAU'!$B$100:$B$163,$C48,'1A Input Base and BAU'!$C$100:$C$163,$E48)","v":0},{"$f":"+SUMIFS('1A Input Base and BAU'!H$49:H$64,'1A Input Base and BAU'!$B$49:$B$64,'4A Calcul. BAU city'!$C48)*SUMIFS('1A Input Base and BAU'!I$100:I$163,'1A Input Base and BAU'!$B$100:$B$163,$C48,'1A Input Base and BAU'!$C$100:$C$163,$E48)","v":0},null,"kg/100km",{"$f":"+SUMIFS('1A Input Base and BAU'!E$173:E$221,'1A Input Base and BAU'!$B$173:$B$221,'4A Calcul. BAU city'!$C48,'1A Input Base and BAU'!$C$173:$C$221,'4A Calcul. BAU city'!$E48)","v":0},{"$f":"+SUMIFS('1A Input Base and BAU'!F$173:F$221,'1A Input Base and BAU'!$B$173:$B$221,'4A Calcul. BAU city'!$C48,'1A Input Base and BAU'!$C$173:$C$221,'4A Calcul. BAU city'!$E48)","v":0},{"$f":"+SUMIFS('1A Input Base and BAU'!G$173:G$221,'1A Input Base and BAU'!$B$173:$B$221,'4A Calcul. BAU city'!$C48,'1A Input Base and BAU'!$C$173:$C$221,'4A Calcul. BAU city'!$E48)","v":0},{"$f":"+SUMIFS('1A Input Base and BAU'!H$173:H$221,'1A Input Base and BAU'!$B$173:$B$221,'4A Calcul. BAU city'!$C48,'1A Input Base and BAU'!$C$173:$C$221,'4A Calcul. BAU city'!$E48)","v":0},{"$f":"+SUMIFS('1A Input Base and BAU'!I$173:I$221,'1A Input Base and BAU'!$B$173:$B$221,'4A Calcul. BAU city'!$C48,'1A Input Base and BAU'!$C$173:$C$221,'4A Calcul. BAU city'!$E48)","v":0},{"$f":"+SUMIFS('1A Input Base and BAU'!J$173:J$221,'1A Input Base and BAU'!$B$173:$B$221,'4A Calcul. BAU city'!$C48,'1A Input Base and BAU'!$C$173:$C$221,'4A Calcul. BAU city'!$E48)","v":0},null,{"$f":"+IFERROR(VLOOKUP($A48&\" - \"&$E48,'6 Defaults parameters'!$B$9:$O$18,4,FALSE)*VLOOKUP($A48&\" - \"&$E48,'6 Defaults parameters'!$B$9:$O$18,3,FALSE),0)","v":48},{"$f":"INDEX('6 Defaults parameters'!$T$9:$Y$18,MATCH($A48&\" - \"&$E48,'6 Defaults parameters'!$B$9:$B$18,0),MATCH(W$12,'6 Defaults parameters'!$T$8:$Y$8,0))","v":59294},{"$f":"INDEX('6 Defaults parameters'!$T$9:$Y$18,MATCH($A48&\" - \"&$E48,'6 Defaults parameters'!$B$9:$B$18,0),MATCH(X$12,'6 Defaults parameters'!$T$8:$Y$8,0))","v":59294},{"$f":"INDEX('6 Defaults parameters'!$T$9:$Y$18,MATCH($A48&\" - \"&$E48,'6 Defaults parameters'!$B$9:$B$18,0),MATCH(Y$12,'6 Defaults parameters'!$T$8:$Y$8,0))","v":59294},{"$f":"INDEX('6 Defaults parameters'!$T$9:$Y$18,MATCH($A48&\" - \"&$E48,'6 Defaults parameters'!$B$9:$B$18,0),MATCH(Z$12,'6 Defaults parameters'!$T$8:$Y$8,0))","v":59294},{"$f":"INDEX('6 Defaults parameters'!$T$9:$Y$18,MATCH($A48&\" - \"&$E48,'6 Defaults parameters'!$B$9:$B$18,0),MATCH(AA$12,'6 Defaults parameters'!$T$8:$Y$8,0))","v":59294},{"$f":"INDEX('6 Defaults parameters'!$T$9:$Y$18,MATCH($A48&\" - \"&$E48,'6 Defaults parameters'!$B$9:$B$18,0),MATCH(AB$12,'6 Defaults parameters'!$T$8:$Y$8,0))","v":59294},null,0,0,0,0,0,0,0,0,0,0,0,0,null,null,null,null,null,null,null,{"$f":"G48*SUMIFS('1A Input Base and BAU'!$D$74:$D$89,'1A Input Base and BAU'!$B$74:$B$89,'4A Calcul. BAU city'!$C48)","v":0},{"$f":"H48*SUMIFS('1A Input Base and BAU'!$D$74:$D$89,'1A Input Base and BAU'!$B$74:$B$89,'4A Calcul. BAU city'!$C48)","v":0},{"$f":"I48*SUMIFS('1A Input Base and BAU'!$D$74:$D$89,'1A Input Base and BAU'!$B$74:$B$89,'4A Calcul. BAU city'!$C48)","v":0},{"$f":"J48*SUMIFS('1A Input Base and BAU'!$D$74:$D$89,'1A Input Base and BAU'!$B$74:$B$89,'4A Calcul. BAU city'!$C48)","v":0},{"$f":"K48*SUMIFS('1A Input Base and BAU'!$D$74:$D$89,'1A Input Base and BAU'!$B$74:$B$89,'4A Calcul. BAU city'!$C48)","v":0},{"$f":"L48*SUMIFS('1A Input Base and BAU'!$D$74:$D$89,'1A Input Base and BAU'!$B$74:$B$89,'4A Calcul. BAU city'!$C48)","v":0}]
["Road","LCV","LCV","Freight",{"$f":"Electric","v":"Electric"},null,{"$f":"+SUMIFS('1A Input Base and BAU'!C$49:C$64,'1A Input Base and BAU'!$B$49:$B$64,'4A Calcul. BAU city'!$C49)*SUMIFS('1A Input Base and BAU'!D$100:D$163,'1A Input Base and BAU'!$B$100:$B$163,$C49,'1A Input Base and BAU'!$C$100:$C$163,$E49)","v":0},{"$f":"+SUMIFS('1A Input Base and BAU'!D$49:D$64,'1A Input Base and BAU'!$B$49:$B$64,'4A Calcul. BAU city'!$C49)*SUMIFS('1A Input Base and BAU'!E$100:E$163,'1A Input Base and BAU'!$B$100:$B$163,$C49,'1A Input Base and BAU'!$C$100:$C$163,$E49)","v":0},{"$f":"+SUMIFS('1A Input Base and BAU'!E$49:E$64,'1A Input Base and BAU'!$B$49:$B$64,'4A Calcul. BAU city'!$C49)*SUMIFS('1A Input Base and BAU'!F$100:F$163,'1A Input Base and BAU'!$B$100:$B$163,$C49,'1A Input Base and BAU'!$C$100:$C$163,$E49)","v":0},{"$f":"+SUMIFS('1A Input Base and BAU'!F$49:F$64,'1A Input Base and BAU'!$B$49:$B$64,'4A Calcul. BAU city'!$C49)*SUMIFS('1A Input Base and BAU'!G$100:G$163,'1A Input Base and BAU'!$B$100:$B$163,$C49,'1A Input Base and BAU'!$C$100:$C$163,$E49)","v":0},{"$f":"+SUMIFS('1A Input Base and BAU'!G$49:G$64,'1A Input Base and BAU'!$B$49:$B$64,'4A Calcul. BAU city'!$C49)*SUMIFS('1A Input Base and BAU'!H$100:H$163,'1A Input Base and BAU'!$B$100:$B$163,$C49,'1A Input Base and BAU'!$C$100:$C$163,$E49)","v":0},{"$f":"+SUMIFS('1A Input Base and BAU'!H$49:H$64,'1A Input Base and BAU'!$B$49:$B$64,'4A Calcul. BAU city'!$C49)*SUMIFS('1A Input Base and BAU'!I$100:I$163,'1A Input Base and BAU'!$B$100:$B$163,$C49,'1A Input Base and BAU'!$C$100:$C$163,$E49)","v":0},null,"kWh/100km",{"$f":"+SUMIFS('1A Input Base and BAU'!E$173:E$221,'1A Input Base and BAU'!$B$173:$B$221,'4A Calcul. BAU city'!$C49,'1A Input Base and BAU'!$C$173:$C$221,'4A Calcul. BAU city'!$E49)","v":0},{"$f":"+SUMIFS('1A Input Base and BAU'!F$173:F$221,'1A Input Base and BAU'!$B$173:$B$221,'4A Calcul. BAU city'!$C49,'1A Input Base and BAU'!$C$173:$C$221,'4A Calcul. BAU city'!$E49)","v":0},{"$f":"+SUMIFS('1A Input Base and BAU'!G$173:G$221,'1A Input Base and BAU'!$B$173:$B$221,'4A Calcul. BAU city'!$C49,'1A Input Base and BAU'!$C$173:$C$221,'4A Calcul. BAU city'!$E49)","v":0},{"$f":"+SUMIFS('1A Input Base and BAU'!H$173:H$221,'1A Input Base and BAU'!$B$173:$B$221,'4A Calcul. BAU city'!$C49,'1A Input Base and BAU'!$C$173:$C$221,'4A Calcul. BAU city'!$E49)","v":0},{"$f":"+SUMIFS('1A Input Base and BAU'!I$173:I$221,'1A Input Base and BAU'!$B$173:$B$221,'4A Calcul. BAU city'!$C49,'1A Input Base and BAU'!$C$173:$C$221,'4A Calcul. BAU city'!$E49)","v":0},{"$f":"+SUMIFS('1A Input Base and BAU'!J$173:J$221,'1A Input Base and BAU'!$B$173:$B$221,'4A Calcul. BAU city'!$C49,'1A Input Base and BAU'!$C$173:$C$221,'4A Calcul. BAU city'!$E49)","v":0},null,{"$f":"+IFERROR(VLOOKUP($A49&\" - \"&$E49,'6 Defaults parameters'!$B$9:$O$18,4,FALSE)*VLOOKUP($A49&\" - \"&$E49,'6 Defaults parameters'!$B$9:$O$18,3,FALSE),0)","v":3.6},{"$f":"INDEX('6 Defaults parameters'!$T$9:$Y$18,MATCH($A49&\" - \"&$E49,'6 Defaults parameters'!$B$9:$B$18,0),MATCH(W$12,'6 Defaults parameters'!$T$8:$Y$8,0))","v":0},{"$f":"INDEX('6 Defaults parameters'!$T$9:$Y$18,MATCH($A49&\" - \"&$E49,'6 Defaults parameters'!$B$9:$B$18,0),MATCH(X$12,'6 Defaults parameters'!$T$8:$Y$8,0))","v":0},{"$f":"INDEX('6 Defaults parameters'!$T$9:$Y$18,MATCH($A49&\" - \"&$E49,'6 Defaults parameters'!$B$9:$B$18,0),MATCH(Y$12,'6 Defaults parameters'!$T$8:$Y$8,0))","v":0},{"$f":"INDEX('6 Defaults parameters'!$T$9:$Y$18,MATCH($A49&\" - \"&$E49,'6 Defaults parameters'!$B$9:$B$18,0),MATCH(Z$12,'6 Defaults parameters'!$T$8:$Y$8,0))","v":0},{"$f":"INDEX('6 Defaults parameters'!$T$9:$Y$18,MATCH($A49&\" - \"&$E49,'6 Defaults parameters'!$B$9:$B$18,0),MATCH(AA$12,'6 Defaults parameters'!$T$8:$Y$8,0))","v":0},{"$f":"INDEX('6 Defaults parameters'!$T$9:$Y$18,MATCH($A49&\" - \"&$E49,'6 Defaults parameters'!$B$9:$B$18,0),MATCH(AB$12,'6 Defaults parameters'!$T$8:$Y$8,0))","v":0},null,0,0,0,0,0,0,0,0,0,0,0,0,null,null,null,null,null,null,null,{"$f":"G49*SUMIFS('1A Input Base and BAU'!$D$74:$D$89,'1A Input Base and BAU'!$B$74:$B$89,'4A Calcul. BAU city'!$C49)","v":0},{"$f":"H49*SUMIFS('1A Input Base and BAU'!$D$74:$D$89,'1A Input Base and BAU'!$B$74:$B$89,'4A Calcul. BAU city'!$C49)","v":0},{"$f":"I49*SUMIFS('1A Input Base and BAU'!$D$74:$D$89,'1A Input Base and BAU'!$B$74:$B$89,'4A Calcul. BAU city'!$C49)","v":0},{"$f":"J49*SUMIFS('1A Input Base and BAU'!$D$74:$D$89,'1A Input Base and BAU'!$B$74:$B$89,'4A Calcul. BAU city'!$C49)","v":0},{"$f":"K49*SUMIFS('1A Input Base and BAU'!$D$74:$D$89,'1A Input Base and BAU'!$B$74:$B$89,'4A Calcul. BAU city'!$C49)","v":0},{"$f":"L49*SUMIFS('1A Input Base and BAU'!$D$74:$D$89,'1A Input Base and BAU'!$B$74:$B$89,'4A Calcul. BAU city'!$C49)","v":0}]
["Road",{"$f":"heavytruck","v":"Heavy truck"},{"$f":"Solo","v":"Solo truck"},"Freight",{"$f":"Diesel","v":"Diesel"},null,{"$f":"+SUMIFS('1A Input Base and BAU'!C$49:C$64,'1A Input Base and BAU'!$B$49:$B$64,'4A Calcul. BAU city'!$C50)*SUMIFS('1A Input Base and BAU'!D$100:D$163,'1A Input Base and BAU'!$B$100:$B$163,$C50,'1A Input Base and BAU'!$C$100:$C$163,$E50)","v":0},{"$f":"+SUMIFS('1A Input Base and BAU'!D$49:D$64,'1A Input Base and BAU'!$B$49:$B$64,'4A Calcul. BAU city'!$C50)*SUMIFS('1A Input Base and BAU'!E$100:E$163,'1A Input Base and BAU'!$B$100:$B$163,$C50,'1A Input Base and BAU'!$C$100:$C$163,$E50)","v":0},{"$f":"+SUMIFS('1A Input Base and BAU'!E$49:E$64,'1A Input Base and BAU'!$B$49:$B$64,'4A Calcul. BAU city'!$C50)*SUMIFS('1A Input Base and BAU'!F$100:F$163,'1A Input Base and BAU'!$B$100:$B$163,$C50,'1A Input Base and BAU'!$C$100:$C$163,$E50)","v":0},{"$f":"+SUMIFS('1A Input Base and BAU'!F$49:F$64,'1A Input Base and BAU'!$B$49:$B$64,'4A Calcul. BAU city'!$C50)*SUMIFS('1A Input Base and BAU'!G$100:G$163,'1A Input Base and BAU'!$B$100:$B$163,$C50,'1A Input Base and BAU'!$C$100:$C$163,$E50)","v":0},{"$f":"+SUMIFS('1A Input Base and BAU'!G$49:G$64,'1A Input Base and BAU'!$B$49:$B$64,'4A Calcul. BAU city'!$C50)*SUMIFS('1A Input Base and BAU'!H$100:H$163,'1A Input Base and BAU'!$B$100:$B$163,$C50,'1A Input Base and BAU'!$C$100:$C$163,$E50)","v":0},{"$f":"+SUMIFS('1A Input Base and BAU'!H$49:H$64,'1A Input Base and BAU'!$B$49:$B$64,'4A Calcul. BAU city'!$C50)*SUMIFS('1A Input Base and BAU'!I$100:I$163,'1A Input Base and BAU'!$B$100:$B$163,$C50,'1A Input Base and BAU'!$C$100:$C$163,$E50)","v":0},null,"l/100 km",{"$f":"+SUMIFS('1A Input Base and BAU'!E$173:E$221,'1A Input Base and BAU'!$B$173:$B$221,'4A Calcul. BAU city'!$C50,'1A Input Base and BAU'!$C$173:$C$221,'4A Calcul. BAU city'!$E50)","v":0},{"$f":"+SUMIFS('1A Input Base and BAU'!F$173:F$221,'1A Input Base and BAU'!$B$173:$B$221,'4A Calcul. BAU city'!$C50,'1A Input Base and BAU'!$C$173:$C$221,'4A Calcul. BAU city'!$E50)","v":0},{"$f":"+SUMIFS('1A Input Base and BAU'!G$173:G$221,'1A Input Base and BAU'!$B$173:$B$221,'4A Calcul. BAU city'!$C50,'1A Input Base and BAU'!$C$173:$C$221,'4A Calcul. BAU city'!$E50)","v":0},{"$f":"+SUMIFS('1A Input Base and BAU'!H$173:H$221,'1A Input Base and BAU'!$B$173:$B$221,'4A Calcul. BAU city'!$C50,'1A Input Base and BAU'!$C$173:$C$221,'4A Calcul. BAU city'!$E50)","v":0},{"$f":"+SUMIFS('1A Input Base and BAU'!I$173:I$221,'1A Input Base and BAU'!$B$173:$B$221,'4A Calcul. BAU city'!$C50,'1A Input Base and BAU'!$C$173:$C$221,'4A Calcul. BAU city'!$E50)","v":0},{"$f":"+SUMIFS('1A Input Base and BAU'!J$173:J$221,'1A Input Base and BAU'!$B$173:$B$221,'4A Calcul. BAU city'!$C50,'1A Input Base and BAU'!$C$173:$C$221,'4A Calcul. BAU city'!$E50)","v":0},null,{"$f":"+IFERROR(VLOOKUP($A50&\" - \"&$E50,'6 Defaults parameters'!$B$9:$O$18,4,FALSE)*VLOOKUP($A50&\" - \"&$E50,'6 Defaults parameters'!$B$9:$O$18,3,FALSE),0)","v":36.286919831223628},{"$f":"INDEX('6 Defaults parameters'!$T$9:$Y$18,MATCH($A50&\" - \"&$E50,'6 Defaults parameters'!$B$9:$B$18,0),MATCH(W$12,'6 Defaults parameters'!$T$8:$Y$8,0))","v":75359.7},{"$f":"INDEX('6 Defaults parameters'!$T$9:$Y$18,MATCH($A50&\" - \"&$E50,'6 Defaults parameters'!$B$9:$B$18,0),MATCH(X$12,'6 Defaults parameters'!$T$8:$Y$8,0))","v":75359.7},{"$f":"INDEX('6 Defaults parameters'!$T$9:$Y$18,MATCH($A50&\" - \"&$E50,'6 Defaults parameters'!$B$9:$B$18,0),MATCH(Y$12,'6 Defaults parameters'!$T$8:$Y$8,0))","v":75359.7},{"$f":"INDEX('6 Defaults parameters'!$T$9:$Y$18,MATCH($A50&\" - \"&$E50,'6 Defaults parameters'!$B$9:$B$18,0),MATCH(Z$12,'6 Defaults parameters'!$T$8:$Y$8,0))","v":75359.7},{"$f":"INDEX('6 Defaults parameters'!$T$9:$Y$18,MATCH($A50&\" - \"&$E50,'6 Defaults parameters'!$B$9:$B$18,0),MATCH(AA$12,'6 Defaults parameters'!$T$8:$Y$8,0))","v":75359.7},{"$f":"INDEX('6 Defaults parameters'!$T$9:$Y$18,MATCH($A50&\" - \"&$E50,'6 Defaults parameters'!$B$9:$B$18,0),MATCH(AB$12,'6 Defaults parameters'!$T$8:$Y$8,0))","v":75359.7},{"$f":"\"\"","v":""},0,0,0,0,0,0,{"$f":"+W50*AD50/10^6","v":0},0,0,0,0,0,null,null,null,null,null,null,null,{"$f":"G50*SUMIFS('1A Input Base and BAU'!$D$74:$D$89,'1A Input Base and BAU'!$B$74:$B$89,'4A Calcul. BAU city'!$C50)","v":0},{"$f":"H50*SUMIFS('1A Input Base and BAU'!$D$74:$D$89,'1A Input Base and BAU'!$B$74:$B$89,'4A Calcul. BAU city'!$C50)","v":0},{"$f":"I50*SUMIFS('1A Input Base and BAU'!$D$74:$D$89,'1A Input Base and BAU'!$B$74:$B$89,'4A Calcul. BAU city'!$C50)","v":0},{"$f":"J50*SUMIFS('1A Input Base and BAU'!$D$74:$D$89,'1A Input Base and BAU'!$B$74:$B$89,'4A Calcul. BAU city'!$C50)","v":0},{"$f":"K50*SUMIFS('1A Input Base and BAU'!$D$74:$D$89,'1A Input Base and BAU'!$B$74:$B$89,'4A Calcul. BAU city'!$C50)","v":0},{"$f":"L50*SUMIFS('1A Input Base and BAU'!$D$74:$D$89,'1A Input Base and BAU'!$B$74:$B$89,'4A Calcul. BAU city'!$C50)","v":0}]
["Road","Heavy truck",{"$f":"Solo","v":"Solo truck"},"Freight",{"$f":"NG","v":"NG"},null,{"$f":"+SUMIFS('1A Input Base and BAU'!C$49:C$64,'1A Input Base and BAU'!$B$49:$B$64,'4A Calcul. BAU city'!$C51)*SUMIFS('1A Input Base and BAU'!D$100:D$163,'1A Input Base and BAU'!$B$100:$B$163,$C51,'1A Input Base and BAU'!$C$100:$C$163,$E51)","v":0},{"$f":"+SUMIFS('1A Input Base and BAU'!D$49:D$64,'1A Input Base and BAU'!$B$49:$B$64,'4A Calcul. BAU city'!$C51)*SUMIFS('1A Input Base and BAU'!E$100:E$163,'1A Input Base and BAU'!$B$100:$B$163,$C51,'1A Input Base and BAU'!$C$100:$C$163,$E51)","v":0},{"$f":"+SUMIFS('1A Input Base and BAU'!E$49:E$64,'1A Input Base and BAU'!$B$49:$B$64,'4A Calcul. BAU city'!$C51)*SUMIFS('1A Input Base and BAU'!F$100:F$163,'1A Input Base and BAU'!$B$100:$B$163,$C51,'1A Input Base and BAU'!$C$100:$C$163,$E51)","v":0},{"$f":"+SUMIFS('1A Input Base and BAU'!F$49:F$64,'1A Input Base and BAU'!$B$49:$B$64,'4A Calcul. BAU city'!$C51)*SUMIFS('1A Input Base and BAU'!G$100:G$163,'1A Input Base and BAU'!$B$100:$B$163,$C51,'1A Input Base and BAU'!$C$100:$C$163,$E51)","v":0},{"$f":"+SUMIFS('1A Input Base and BAU'!G$49:G$64,'1A Input Base and BAU'!$B$49:$B$64,'4A Calcul. BAU city'!$C51)*SUMIFS('1A Input Base and BAU'!H$100:H$163,'1A Input Base and BAU'!$B$100:$B$163,$C51,'1A Input Base and BAU'!$C$100:$C$163,$E51)","v":0},{"$f":"+SUMIFS('1A Input Base and BAU'!H$49:H$64,'1A Input Base and BAU'!$B$49:$B$64,'4A Calcul. BAU city'!$C51)*SUMIFS('1A Input Base and BAU'!I$100:I$163,'1A Input Base and BAU'!$B$100:$B$163,$C51,'1A Input Base and BAU'!$C$100:$C$163,$E51)","v":0},null,"kg/100km",{"$f":"+SUMIFS('1A Input Base and BAU'!E$173:E$221,'1A Input Base and BAU'!$B$173:$B$221,'4A Calcul. BAU city'!$C51,'1A Input Base and BAU'!$C$173:$C$221,'4A Calcul. BAU city'!$E51)","v":0},{"$f":"+SUMIFS('1A Input Base and BAU'!F$173:F$221,'1A Input Base and BAU'!$B$173:$B$221,'4A Calcul. BAU city'!$C51,'1A Input Base and BAU'!$C$173:$C$221,'4A Calcul. BAU city'!$E51)","v":0},{"$f":"+SUMIFS('1A Input Base and BAU'!G$173:G$221,'1A Input Base and BAU'!$B$173:$B$221,'4A Calcul. BAU city'!$C51,'1A Input Base and BAU'!$C$173:$C$221,'4A Calcul. BAU city'!$E51)","v":0},{"$f":"+SUMIFS('1A Input Base and BAU'!H$173:H$221,'1A Input Base and BAU'!$B$173:$B$221,'4A Calcul. BAU city'!$C51,'1A Input Base and BAU'!$C$173:$C$221,'4A Calcul. BAU city'!$E51)","v":0},{"$f":"+SUMIFS('1A Input Base and BAU'!I$173:I$221,'1A Input Base and BAU'!$B$173:$B$221,'4A Calcul. BAU city'!$C51,'1A Input Base and BAU'!$C$173:$C$221,'4A Calcul. BAU city'!$E51)","v":0},{"$f":"+SUMIFS('1A Input Base and BAU'!J$173:J$221,'1A Input Base and BAU'!$B$173:$B$221,'4A Calcul. BAU city'!$C51,'1A Input Base and BAU'!$C$173:$C$221,'4A Calcul. BAU city'!$E51)","v":0},null,{"$f":"+IFERROR(VLOOKUP($A51&\" - \"&$E51,'6 Defaults parameters'!$B$9:$O$18,4,FALSE)*VLOOKUP($A51&\" - \"&$E51,'6 Defaults parameters'!$B$9:$O$18,3,FALSE),0)","v":48},{"$f":"INDEX('6 Defaults parameters'!$T$9:$Y$18,MATCH($A51&\" - \"&$E51,'6 Defaults parameters'!$B$9:$B$18,0),MATCH(W$12,'6 Defaults parameters'!$T$8:$Y$8,0))","v":59294},{"$f":"INDEX('6 Defaults parameters'!$T$9:$Y$18,MATCH($A51&\" - \"&$E51,'6 Defaults parameters'!$B$9:$B$18,0),MATCH(X$12,'6 Defaults parameters'!$T$8:$Y$8,0))","v":59294},{"$f":"INDEX('6 Defaults parameters'!$T$9:$Y$18,MATCH($A51&\" - \"&$E51,'6 Defaults parameters'!$B$9:$B$18,0),MATCH(Y$12,'6 Defaults parameters'!$T$8:$Y$8,0))","v":59294},{"$f":"INDEX('6 Defaults parameters'!$T$9:$Y$18,MATCH($A51&\" - \"&$E51,'6 Defaults parameters'!$B$9:$B$18,0),MATCH(Z$12,'6 Defaults parameters'!$T$8:$Y$8,0))","v":59294},{"$f":"INDEX('6 Defaults parameters'!$T$9:$Y$18,MATCH($A51&\" - \"&$E51,'6 Defaults parameters'!$B$9:$B$18,0),MATCH(AA$12,'6 Defaults parameters'!$T$8:$Y$8,0))","v":59294},{"$f":"INDEX('6 Defaults parameters'!$T$9:$Y$18,MATCH($A51&\" - \"&$E51,'6 Defaults parameters'!$B$9:$B$18,0),MATCH(AB$12,'6 Defaults parameters'!$T$8:$Y$8,0))","v":59294},null,0,0,0,0,0,0,{"$f":"+W51*AD51/10^6","v":0},{"$f":"+X51*AE51/10^6","v":0},{"$f":"+Y51*AF51/10^6","v":0},{"$f":"+Z51*AG51/10^6","v":0},{"$f":"+AA51*AH51/10^6","v":0},{"$f":"+AB51*AI51/10^6","v":0},null,null,null,null,null,null,null,{"$f":"G51*SUMIFS('1A Input Base and BAU'!$D$74:$D$89,'1A Input Base and BAU'!$B$74:$B$89,'4A Calcul. BAU city'!$C51)","v":0},{"$f":"H51*SUMIFS('1A Input Base and BAU'!$D$74:$D$89,'1A Input Base and BAU'!$B$74:$B$89,'4A Calcul. BAU city'!$C51)","v":0},{"$f":"I51*SUMIFS('1A Input Base and BAU'!$D$74:$D$89,'1A Input Base and BAU'!$B$74:$B$89,'4A Calcul. BAU city'!$C51)","v":0},{"$f":"J51*SUMIFS('1A Input Base and BAU'!$D$74:$D$89,'1A Input Base and BAU'!$B$74:$B$89,'4A Calcul. BAU city'!$C51)","v":0},{"$f":"K51*SUMIFS('1A Input Base and BAU'!$D$74:$D$89,'1A Input Base and BAU'!$B$74:$B$89,'4A Calcul. BAU city'!$C51)","v":0},{"$f":"L51*SUMIFS('1A Input Base and BAU'!$D$74:$D$89,'1A Input Base and BAU'!$B$74:$B$89,'4A Calcul. BAU city'!$C51)","v":0}]
["Road","Heavy truck",{"$f":"Solo","v":"Solo truck"},"Freight",{"$f":"Electric","v":"Electric"},null,{"$f":"+SUMIFS('1A Input Base and BAU'!C$49:C$64,'1A Input Base and BAU'!$B$49:$B$64,'4A Calcul. BAU city'!$C52)*SUMIFS('1A Input Base and BAU'!D$100:D$163,'1A Input Base and BAU'!$B$100:$B$163,$C52,'1A Input Base and BAU'!$C$100:$C$163,$E52)","v":0},{"$f":"+SUMIFS('1A Input Base and BAU'!D$49:D$64,'1A Input Base and BAU'!$B$49:$B$64,'4A Calcul. BAU city'!$C52)*SUMIFS('1A Input Base and BAU'!E$100:E$163,'1A Input Base and BAU'!$B$100:$B$163,$C52,'1A Input Base and BAU'!$C$100:$C$163,$E52)","v":0},{"$f":"+SUMIFS('1A Input Base and BAU'!E$49:E$64,'1A Input Base and BAU'!$B$49:$B$64,'4A Calcul. BAU city'!$C52)*SUMIFS('1A Input Base and BAU'!F$100:F$163,'1A Input Base and BAU'!$B$100:$B$163,$C52,'1A Input Base and BAU'!$C$100:$C$163,$E52)","v":0},{"$f":"+SUMIFS('1A Input Base and BAU'!F$49:F$64,'1A Input Base and BAU'!$B$49:$B$64,'4A Calcul. BAU city'!$C52)*SUMIFS('1A Input Base and BAU'!G$100:G$163,'1A Input Base and BAU'!$B$100:$B$163,$C52,'1A Input Base and BAU'!$C$100:$C$163,$E52)","v":0},{"$f":"+SUMIFS('1A Input Base and BAU'!G$49:G$64,'1A Input Base and BAU'!$B$49:$B$64,'4A Calcul. BAU city'!$C52)*SUMIFS('1A Input Base and BAU'!H$100:H$163,'1A Input Base and BAU'!$B$100:$B$163,$C52,'1A Input Base and BAU'!$C$100:$C$163,$E52)","v":0},{"$f":"+SUMIFS('1A Input Base and BAU'!H$49:H$64,'1A Input Base and BAU'!$B$49:$B$64,'4A Calcul. BAU city'!$C52)*SUMIFS('1A Input Base and BAU'!I$100:I$163,'1A Input Base and BAU'!$B$100:$B$163,$C52,'1A Input Base and BAU'!$C$100:$C$163,$E52)","v":0},null,"kWh/100km",{"$f":"+SUMIFS('1A Input Base and BAU'!E$173:E$221,'1A Input Base and BAU'!$B$173:$B$221,'4A Calcul. BAU city'!$C52,'1A Input Base and BAU'!$C$173:$C$221,'4A Calcul. BAU city'!$E52)","v":0},{"$f":"+SUMIFS('1A Input Base and BAU'!F$173:F$221,'1A Input Base and BAU'!$B$173:$B$221,'4A Calcul. BAU city'!$C52,'1A Input Base and BAU'!$C$173:$C$221,'4A Calcul. BAU city'!$E52)","v":0},{"$f":"+SUMIFS('1A Input Base and BAU'!G$173:G$221,'1A Input Base and BAU'!$B$173:$B$221,'4A Calcul. BAU city'!$C52,'1A Input Base and BAU'!$C$173:$C$221,'4A Calcul. BAU city'!$E52)","v":0},{"$f":"+SUMIFS('1A Input Base and BAU'!H$173:H$221,'1A Input Base and BAU'!$B$173:$B$221,'4A Calcul. BAU city'!$C52,'1A Input Base and BAU'!$C$173:$C$221,'4A Calcul. BAU city'!$E52)","v":0},{"$f":"+SUMIFS('1A Input Base and BAU'!I$173:I$221,'1A Input Base and BAU'!$B$173:$B$221,'4A Calcul. BAU city'!$C52,'1A Input Base and BAU'!$C$173:$C$221,'4A Calcul. BAU city'!$E52)","v":0},{"$f":"+SUMIFS('1A Input Base and BAU'!J$173:J$221,'1A Input Base and BAU'!$B$173:$B$221,'4A Calcul. BAU city'!$C52,'1A Input Base and BAU'!$C$173:$C$221,'4A Calcul. BAU city'!$E52)","v":0},null,{"$f":"+IFERROR(VLOOKUP($A52&\" - \"&$E52,'6 Defaults parameters'!$B$9:$O$18,4,FALSE)*VLOOKUP($A52&\" - \"&$E52,'6 Defaults parameters'!$B$9:$O$18,3,FALSE),0)","v":3.6},{"$f":"INDEX('6 Defaults parameters'!$T$9:$Y$18,MATCH($A52&\" - \"&$E52,'6 Defaults parameters'!$B$9:$B$18,0),MATCH(W$12,'6 Defaults parameters'!$T$8:$Y$8,0))","v":0},{"$f":"INDEX('6 Defaults parameters'!$T$9:$Y$18,MATCH($A52&\" - \"&$E52,'6 Defaults parameters'!$B$9:$B$18,0),MATCH(X$12,'6 Defaults parameters'!$T$8:$Y$8,0))","v":0},{"$f":"INDEX('6 Defaults parameters'!$T$9:$Y$18,MATCH($A52&\" - \"&$E52,'6 Defaults parameters'!$B$9:$B$18,0),MATCH(Y$12,'6 Defaults parameters'!$T$8:$Y$8,0))","v":0},{"$f":"INDEX('6 Defaults parameters'!$T$9:$Y$18,MATCH($A52&\" - \"&$E52,'6 Defaults parameters'!$B$9:$B$18,0),MATCH(Z$12,'6 Defaults parameters'!$T$8:$Y$8,0))","v":0},{"$f":"INDEX('6 Defaults parameters'!$T$9:$Y$18,MATCH($A52&\" - \"&$E52,'6 Defaults parameters'!$B$9:$B$18,0),MATCH(AA$12,'6 Defaults parameters'!$T$8:$Y$8,0))","v":0},{"$f":"INDEX('6 Defaults parameters'!$T$9:$Y$18,MATCH($A52&\" - \"&$E52,'6 Defaults parameters'!$B$9:$B$18,0),MATCH(AB$12,'6 Defaults parameters'!$T$8:$Y$8,0))","v":0},null,0,0,0,0,0,0,0,0,0,0,0,0,null,null,null,null,null,null,null,{"$f":"G52*SUMIFS('1A Input Base and BAU'!$D$74:$D$89,'1A Input Base and BAU'!$B$74:$B$89,'4A Calcul. BAU city'!$C52)","v":0},{"$f":"H52*SUMIFS('1A Input Base and BAU'!$D$74:$D$89,'1A Input Base and BAU'!$B$74:$B$89,'4A Calcul. BAU city'!$C52)","v":0},{"$f":"I52*SUMIFS('1A Input Base and BAU'!$D$74:$D$89,'1A Input Base and BAU'!$B$74:$B$89,'4A Calcul. BAU city'!$C52)","v":0},{"$f":"J52*SUMIFS('1A Input Base and BAU'!$D$74:$D$89,'1A Input Base and BAU'!$B$74:$B$89,'4A Calcul. BAU city'!$C52)","v":0},{"$f":"K52*SUMIFS('1A Input Base and BAU'!$D$74:$D$89,'1A Input Base and BAU'!$B$74:$B$89,'4A Calcul. BAU city'!$C52)","v":0},{"$f":"L52*SUMIFS('1A Input Base and BAU'!$D$74:$D$89,'1A Input Base and BAU'!$B$74:$B$89,'4A Calcul. BAU city'!$C52)","v":0}]
["Road","Heavy truck",{"$f":"Atruck","v":"Articulated truck"},"Freight",{"$f":"Diesel","v":"Diesel"},null,{"$f":"+SUMIFS('1A Input Base and BAU'!C$49:C$64,'1A Input Base and BAU'!$B$49:$B$64,'4A Calcul. BAU city'!$C53)*SUMIFS('1A Input Base and BAU'!D$100:D$163,'1A Input Base and BAU'!$B$100:$B$163,$C53,'1A Input Base and BAU'!$C$100:$C$163,$E53)","v":0},{"$f":"+SUMIFS('1A Input Base and BAU'!D$49:D$64,'1A Input Base and BAU'!$B$49:$B$64,'4A Calcul. BAU city'!$C53)*SUMIFS('1A Input Base and BAU'!E$100:E$163,'1A Input Base and BAU'!$B$100:$B$163,$C53,'1A Input Base and BAU'!$C$100:$C$163,$E53)","v":0},{"$f":"+SUMIFS('1A Input Base and BAU'!E$49:E$64,'1A Input Base and BAU'!$B$49:$B$64,'4A Calcul. BAU city'!$C53)*SUMIFS('1A Input Base and BAU'!F$100:F$163,'1A Input Base and BAU'!$B$100:$B$163,$C53,'1A Input Base and BAU'!$C$100:$C$163,$E53)","v":0},{"$f":"+SUMIFS('1A Input Base and BAU'!F$49:F$64,'1A Input Base and BAU'!$B$49:$B$64,'4A Calcul. BAU city'!$C53)*SUMIFS('1A Input Base and BAU'!G$100:G$163,'1A Input Base and BAU'!$B$100:$B$163,$C53,'1A Input Base and BAU'!$C$100:$C$163,$E53)","v":0},{"$f":"+SUMIFS('1A Input Base and BAU'!G$49:G$64,'1A Input Base and BAU'!$B$49:$B$64,'4A Calcul. BAU city'!$C53)*SUMIFS('1A Input Base and BAU'!H$100:H$163,'1A Input Base and BAU'!$B$100:$B$163,$C53,'1A Input Base and BAU'!$C$100:$C$163,$E53)","v":0},{"$f":"+SUMIFS('1A Input Base and BAU'!H$49:H$64,'1A Input Base and BAU'!$B$49:$B$64,'4A Calcul. BAU city'!$C53)*SUMIFS('1A Input Base and BAU'!I$100:I$163,'1A Input Base and BAU'!$B$100:$B$163,$C53,'1A Input Base and BAU'!$C$100:$C$163,$E53)","v":0},null,"l/100 km",{"$f":"+SUMIFS('1A Input Base and BAU'!E$173:E$221,'1A Input Base and BAU'!$B$173:$B$221,'4A Calcul. BAU city'!$C53,'1A Input Base and BAU'!$C$173:$C$221,'4A Calcul. BAU city'!$E53)","v":0},{"$f":"+SUMIFS('1A Input Base and BAU'!F$173:F$221,'1A Input Base and BAU'!$B$173:$B$221,'4A Calcul. BAU city'!$C53,'1A Input Base and BAU'!$C$173:$C$221,'4A Calcul. BAU city'!$E53)","v":0},{"$f":"+SUMIFS('1A Input Base and BAU'!G$173:G$221,'1A Input Base and BAU'!$B$173:$B$221,'4A Calcul. BAU city'!$C53,'1A Input Base and BAU'!$C$173:$C$221,'4A Calcul. BAU city'!$E53)","v":0},{"$f":"+SUMIFS('1A Input Base and BAU'!H$173:H$221,'1A Input Base and BAU'!$B$173:$B$221,'4A Calcul. BAU city'!$C53,'1A Input Base and BAU'!$C$173:$C$221,'4A Calcul. BAU city'!$E53)","v":0},{"$f":"+SUMIFS('1A Input Base and BAU'!I$173:I$221,'1A Input Base and BAU'!$B$173:$B$221,'4A Calcul. BAU city'!$C53,'1A Input Base and BAU'!$C$173:$C$221,'4A Calcul. BAU city'!$E53)","v":0},{"$f":"+SUMIFS('1A Input Base and BAU'!J$173:J$221,'1A Input Base and BAU'!$B$173:$B$221,'4A Calcul. BAU city'!$C53,'1A Input Base and BAU'!$C$173:$C$221,'4A Calcul. BAU city'!$E53)","v":0},null,{"$f":"+IFERROR(VLOOKUP($A53&\" - \"&$E53,'6 Defaults parameters'!$B$9:$O$18,4,FALSE)*VLOOKUP($A53&\" - \"&$E53,'6 Defaults parameters'!$B$9:$O$18,3,FALSE),0)","v":36.286919831223628},{"$f":"INDEX('6 Defaults parameters'!$T$9:$Y$18,MATCH($A53&\" - \"&$E53,'6 Defaults parameters'!$B$9:$B$18,0),MATCH(W$12,'6 Defaults parameters'!$T$8:$Y$8,0))","v":75359.7},{"$f":"INDEX('6 Defaults parameters'!$T$9:$Y$18,MATCH($A53&\" - \"&$E53,'6 Defaults parameters'!$B$9:$B$18,0),MATCH(X$12,'6 Defaults parameters'!$T$8:$Y$8,0))","v":75359.7},{"$f":"INDEX('6 Defaults parameters'!$T$9:$Y$18,MATCH($A53&\" - \"&$E53,'6 Defaults parameters'!$B$9:$B$18,0),MATCH(Y$12,'6 Defaults parameters'!$T$8:$Y$8,0))","v":75359.7},{"$f":"INDEX('6 Defaults parameters'!$T$9:$Y$18,MATCH($A53&\" - \"&$E53,'6 Defaults parameters'!$B$9:$B$18,0),MATCH(Z$12,'6 Defaults parameters'!$T$8:$Y$8,0))","v":75359.7},{"$f":"INDEX('6 Defaults parameters'!$T$9:$Y$18,MATCH($A53&\" - \"&$E53,'6 Defaults parameters'!$B$9:$B$18,0),MATCH(AA$12,'6 Defaults parameters'!$T$8:$Y$8,0))","v":75359.7},{"$f":"INDEX('6 Defaults parameters'!$T$9:$Y$18,MATCH($A53&\" - \"&$E53,'6 Defaults parameters'!$B$9:$B$18,0),MATCH(AB$12,'6 Defaults parameters'!$T$8:$Y$8,0))","v":75359.7},{"$f":"\"\"","v":""},0,0,0,0,0,0,{"$f":"+W53*AD53/10^6","v":0},0,0,0,0,0,null,null,null,null,null,null,null,{"$f":"G53*SUMIFS('1A Input Base and BAU'!$D$74:$D$89,'1A Input Base and BAU'!$B$74:$B$89,'4A Calcul. BAU city'!$C53)","v":0},{"$f":"H53*SUMIFS('1A Input Base and BAU'!$D$74:$D$89,'1A Input Base and BAU'!$B$74:$B$89,'4A Calcul. BAU city'!$C53)","v":0},{"$f":"I53*SUMIFS('1A Input Base and BAU'!$D$74:$D$89,'1A Input Base and BAU'!$B$74:$B$89,'4A Calcul. BAU city'!$C53)","v":0},{"$f":"J53*SUMIFS('1A Input Base and BAU'!$D$74:$D$89,'1A Input Base and BAU'!$B$74:$B$89,'4A Calcul. BAU city'!$C53)","v":0},{"$f":"K53*SUMIFS('1A Input Base and BAU'!$D$74:$D$89,'1A Input Base and BAU'!$B$74:$B$89,'4A Calcul. BAU city'!$C53)","v":0},{"$f":"L53*SUMIFS('1A Input Base and BAU'!$D$74:$D$89,'1A Input Base and BAU'!$B$74:$B$89,'4A Calcul. BAU city'!$C53)","v":0}]
["Road","Heavy truck",{"$f":"Atruck","v":"Articulated truck"},"Freight",{"$f":"NG","v":"NG"},null,{"$f":"+SUMIFS('1A Input Base and BAU'!C$49:C$64,'1A Input Base and BAU'!$B$49:$B$64,'4A Calcul. BAU city'!$C54)*SUMIFS('1A Input Base and BAU'!D$100:D$163,'1A Input Base and BAU'!$B$100:$B$163,$C54,'1A Input Base and BAU'!$C$100:$C$163,$E54)","v":0},{"$f":"+SUMIFS('1A Input Base and BAU'!D$49:D$64,'1A Input Base and BAU'!$B$49:$B$64,'4A Calcul. BAU city'!$C54)*SUMIFS('1A Input Base and BAU'!E$100:E$163,'1A Input Base and BAU'!$B$100:$B$163,$C54,'1A Input Base and BAU'!$C$100:$C$163,$E54)","v":0},{"$f":"+SUMIFS('1A Input Base and BAU'!E$49:E$64,'1A Input Base and BAU'!$B$49:$B$64,'4A Calcul. BAU city'!$C54)*SUMIFS('1A Input Base and BAU'!F$100:F$163,'1A Input Base and BAU'!$B$100:$B$163,$C54,'1A Input Base and BAU'!$C$100:$C$163,$E54)","v":0},{"$f":"+SUMIFS('1A Input Base and BAU'!F$49:F$64,'1A Input Base and BAU'!$B$49:$B$64,'4A Calcul. BAU city'!$C54)*SUMIFS('1A Input Base and BAU'!G$100:G$163,'1A Input Base and BAU'!$B$100:$B$163,$C54,'1A Input Base and BAU'!$C$100:$C$163,$E54)","v":0},{"$f":"+SUMIFS('1A Input Base and BAU'!G$49:G$64,'1A Input Base and BAU'!$B$49:$B$64,'4A Calcul. BAU city'!$C54)*SUMIFS('1A Input Base and BAU'!H$100:H$163,'1A Input Base and BAU'!$B$100:$B$163,$C54,'1A Input Base and BAU'!$C$100:$C$163,$E54)","v":0},{"$f":"+SUMIFS('1A Input Base and BAU'!H$49:H$64,'1A Input Base and BAU'!$B$49:$B$64,'4A Calcul. BAU city'!$C54)*SUMIFS('1A Input Base and BAU'!I$100:I$163,'1A Input Base and BAU'!$B$100:$B$163,$C54,'1A Input Base and BAU'!$C$100:$C$163,$E54)","v":0},null,"kg/100km",{"$f":"+SUMIFS('1A Input Base and BAU'!E$173:E$221,'1A Input Base and BAU'!$B$173:$B$221,'4A Calcul. BAU city'!$C54,'1A Input Base and BAU'!$C$173:$C$221,'4A Calcul. BAU city'!$E54)","v":0},{"$f":"+SUMIFS('1A Input Base and BAU'!F$173:F$221,'1A Input Base and BAU'!$B$173:$B$221,'4A Calcul. BAU city'!$C54,'1A Input Base and BAU'!$C$173:$C$221,'4A Calcul. BAU city'!$E54)","v":0},{"$f":"+SUMIFS('1A Input Base and BAU'!G$173:G$221,'1A Input Base and BAU'!$B$173:$B$221,'4A Calcul. BAU city'!$C54,'1A Input Base and BAU'!$C$173:$C$221,'4A Calcul. BAU city'!$E54)","v":0},{"$f":"+SUMIFS('1A Input Base and BAU'!H$173:H$221,'1A Input Base and BAU'!$B$173:$B$221,'4A Calcul. BAU city'!$C54,'1A Input Base and BAU'!$C$173:$C$221,'4A Calcul. BAU city'!$E54)","v":0},{"$f":"+SUMIFS('1A Input Base and BAU'!I$173:I$221,'1A Input Base and BAU'!$B$173:$B$221,'4A Calcul. BAU city'!$C54,'1A Input Base and BAU'!$C$173:$C$221,'4A Calcul. BAU city'!$E54)","v":0},{"$f":"+SUMIFS('1A Input Base and BAU'!J$173:J$221,'1A Input Base and BAU'!$B$173:$B$221,'4A Calcul. BAU city'!$C54,'1A Input Base and BAU'!$C$173:$C$221,'4A Calcul. BAU city'!$E54)","v":0},null,{"$f":"+IFERROR(VLOOKUP($A54&\" - \"&$E54,'6 Defaults parameters'!$B$9:$O$18,4,FALSE)*VLOOKUP($A54&\" - \"&$E54,'6 Defaults parameters'!$B$9:$O$18,3,FALSE),0)","v":48},{"$f":"INDEX('6 Defaults parameters'!$T$9:$Y$18,MATCH($A54&\" - \"&$E54,'6 Defaults parameters'!$B$9:$B$18,0),MATCH(W$12,'6 Defaults parameters'!$T$8:$Y$8,0))","v":59294},{"$f":"INDEX('6 Defaults parameters'!$T$9:$Y$18,MATCH($A54&\" - \"&$E54,'6 Defaults parameters'!$B$9:$B$18,0),MATCH(X$12,'6 Defaults parameters'!$T$8:$Y$8,0))","v":59294},{"$f":"INDEX('6 Defaults parameters'!$T$9:$Y$18,MATCH($A54&\" - \"&$E54,'6 Defaults parameters'!$B$9:$B$18,0),MATCH(Y$12,'6 Defaults parameters'!$T$8:$Y$8,0))","v":59294},{"$f":"INDEX('6 Defaults parameters'!$T$9:$Y$18,MATCH($A54&\" - \"&$E54,'6 Defaults parameters'!$B$9:$B$18,0),MATCH(Z$12,'6 Defaults parameters'!$T$8:$Y$8,0))","v":59294},{"$f":"INDEX('6 Defaults parameters'!$T$9:$Y$18,MATCH($A54&\" - \"&$E54,'6 Defaults parameters'!$B$9:$B$18,0),MATCH(AA$12,'6 Defaults parameters'!$T$8:$Y$8,0))","v":59294},{"$f":"INDEX('6 Defaults parameters'!$T$9:$Y$18,MATCH($A54&\" - \"&$E54,'6 Defaults parameters'!$B$9:$B$18,0),MATCH(AB$12,'6 Defaults parameters'!$T$8:$Y$8,0))","v":59294},null,0,0,0,0,0,0,{"$f":"+W54*AD54/10^6","v":0},{"$f":"+X54*AE54/10^6","v":0},{"$f":"+Y54*AF54/10^6","v":0},{"$f":"+Z54*AG54/10^6","v":0},{"$f":"+AA54*AH54/10^6","v":0},{"$f":"+AB54*AI54/10^6","v":0},null,null,null,null,null,null,null,{"$f":"G54*SUMIFS('1A Input Base and BAU'!$D$74:$D$89,'1A Input Base and BAU'!$B$74:$B$89,'4A Calcul. BAU city'!$C54)","v":0},{"$f":"H54*SUMIFS('1A Input Base and BAU'!$D$74:$D$89,'1A Input Base and BAU'!$B$74:$B$89,'4A Calcul. BAU city'!$C54)","v":0},{"$f":"I54*SUMIFS('1A Input Base and BAU'!$D$74:$D$89,'1A Input Base and BAU'!$B$74:$B$89,'4A Calcul. BAU city'!$C54)","v":0},{"$f":"J54*SUMIFS('1A Input Base and BAU'!$D$74:$D$89,'1A Input Base and BAU'!$B$74:$B$89,'4A Calcul. BAU city'!$C54)","v":0},{"$f":"K54*SUMIFS('1A Input Base and BAU'!$D$74:$D$89,'1A Input Base and BAU'!$B$74:$B$89,'4A Calcul. BAU city'!$C54)","v":0},{"$f":"L54*SUMIFS('1A Input Base and BAU'!$D$74:$D$89,'1A Input Base and BAU'!$B$74:$B$89,'4A Calcul. BAU city'!$C54)","v":0}]
["Road","Heavy truck",{"$f":"Atruck","v":"Articulated truck"},"Freight",{"$f":"Electric","v":"Electric"},null,{"$f":"+SUMIFS('1A Input Base and BAU'!C$49:C$64,'1A Input Base and BAU'!$B$49:$B$64,'4A Calcul. BAU city'!$C55)*SUMIFS('1A Input Base and BAU'!D$100:D$163,'1A Input Base and BAU'!$B$100:$B$163,$C55,'1A Input Base and BAU'!$C$100:$C$163,$E55)","v":0},{"$f":"+SUMIFS('1A Input Base and BAU'!D$49:D$64,'1A Input Base and BAU'!$B$49:$B$64,'4A Calcul. BAU city'!$C55)*SUMIFS('1A Input Base and BAU'!E$100:E$163,'1A Input Base and BAU'!$B$100:$B$163,$C55,'1A Input Base and BAU'!$C$100:$C$163,$E55)","v":0},{"$f":"+SUMIFS('1A Input Base and BAU'!E$49:E$64,'1A Input Base and BAU'!$B$49:$B$64,'4A Calcul. BAU city'!$C55)*SUMIFS('1A Input Base and BAU'!F$100:F$163,'1A Input Base and BAU'!$B$100:$B$163,$C55,'1A Input Base and BAU'!$C$100:$C$163,$E55)","v":0},{"$f":"+SUMIFS('1A Input Base and BAU'!F$49:F$64,'1A Input Base and BAU'!$B$49:$B$64,'4A Calcul. BAU city'!$C55)*SUMIFS('1A Input Base and BAU'!G$100:G$163,'1A Input Base and BAU'!$B$100:$B$163,$C55,'1A Input Base and BAU'!$C$100:$C$163,$E55)","v":0},{"$f":"+SUMIFS('1A Input Base and BAU'!G$49:G$64,'1A Input Base and BAU'!$B$49:$B$64,'4A Calcul. BAU city'!$C55)*SUMIFS('1A Input Base and BAU'!H$100:H$163,'1A Input Base and BAU'!$B$100:$B$163,$C55,'1A Input Base and BAU'!$C$100:$C$163,$E55)","v":0},{"$f":"+SUMIFS('1A Input Base and BAU'!H$49:H$64,'1A Input Base and BAU'!$B$49:$B$64,'4A Calcul. BAU city'!$C55)*SUMIFS('1A Input Base and BAU'!I$100:I$163,'1A Input Base and BAU'!$B$100:$B$163,$C55,'1A Input Base and BAU'!$C$100:$C$163,$E55)","v":0},null,"kWh/100km",{"$f":"+SUMIFS('1A Input Base and BAU'!E$173:E$221,'1A Input Base and BAU'!$B$173:$B$221,'4A Calcul. BAU city'!$C55,'1A Input Base and BAU'!$C$173:$C$221,'4A Calcul. BAU city'!$E55)","v":0},{"$f":"+SUMIFS('1A Input Base and BAU'!F$173:F$221,'1A Input Base and BAU'!$B$173:$B$221,'4A Calcul. BAU city'!$C55,'1A Input Base and BAU'!$C$173:$C$221,'4A Calcul. BAU city'!$E55)","v":0},{"$f":"+SUMIFS('1A Input Base and BAU'!G$173:G$221,'1A Input Base and BAU'!$B$173:$B$221,'4A Calcul. BAU city'!$C55,'1A Input Base and BAU'!$C$173:$C$221,'4A Calcul. BAU city'!$E55)","v":0},{"$f":"+SUMIFS('1A Input Base and BAU'!H$173:H$221,'1A Input Base and BAU'!$B$173:$B$221,'4A Calcul. BAU city'!$C55,'1A Input Base and BAU'!$C$173:$C$221,'4A Calcul. BAU city'!$E55)","v":0},{"$f":"+SUMIFS('1A Input Base and BAU'!I$173:I$221,'1A Input Base and BAU'!$B$173:$B$221,'4A Calcul. BAU city'!$C55,'1A Input Base and BAU'!$C$173:$C$221,'4A Calcul. BAU city'!$E55)","v":0},{"$f":"+SUMIFS('1A Input Base and BAU'!J$173:J$221,'1A Input Base and BAU'!$B$173:$B$221,'4A Calcul. BAU city'!$C55,'1A Input Base and BAU'!$C$173:$C$221,'4A Calcul. BAU city'!$E55)","v":0},null,{"$f":"+IFERROR(VLOOKUP($A55&\" - \"&$E55,'6 Defaults parameters'!$B$9:$O$18,4,FALSE)*VLOOKUP($A55&\" - \"&$E55,'6 Defaults parameters'!$B$9:$O$18,3,FALSE),0)","v":3.6},{"$f":"INDEX('6 Defaults parameters'!$T$9:$Y$18,MATCH($A55&\" - \"&$E55,'6 Defaults parameters'!$B$9:$B$18,0),MATCH(W$12,'6 Defaults parameters'!$T$8:$Y$8,0))","v":0},{"$f":"INDEX('6 Defaults parameters'!$T$9:$Y$18,MATCH($A55&\" - \"&$E55,'6 Defaults parameters'!$B$9:$B$18,0),MATCH(X$12,'6 Defaults parameters'!$T$8:$Y$8,0))","v":0},{"$f":"INDEX('6 Defaults parameters'!$T$9:$Y$18,MATCH($A55&\" - \"&$E55,'6 Defaults parameters'!$B$9:$B$18,0),MATCH(Y$12,'6 Defaults parameters'!$T$8:$Y$8,0))","v":0},{"$f":"INDEX('6 Defaults parameters'!$T$9:$Y$18,MATCH($A55&\" - \"&$E55,'6 Defaults parameters'!$B$9:$B$18,0),MATCH(Z$12,'6 Defaults parameters'!$T$8:$Y$8,0))","v":0},{"$f":"INDEX('6 Defaults parameters'!$T$9:$Y$18,MATCH($A55&\" - \"&$E55,'6 Defaults parameters'!$B$9:$B$18,0),MATCH(AA$12,'6 Defaults parameters'!$T$8:$Y$8,0))","v":0},{"$f":"INDEX('6 Defaults parameters'!$T$9:$Y$18,MATCH($A55&\" - \"&$E55,'6 Defaults parameters'!$B$9:$B$18,0),MATCH(AB$12,'6 Defaults parameters'!$T$8:$Y$8,0))","v":0},null,0,0,0,0,0,0,0,0,0,0,0,0,null,null,null,null,null,null,null,{"$f":"G55*SUMIFS('1A Input Base and BAU'!$D$74:$D$89,'1A Input Base and BAU'!$B$74:$B$89,'4A Calcul. BAU city'!$C55)","v":0},{"$f":"H55*SUMIFS('1A Input Base and BAU'!$D$74:$D$89,'1A Input Base and BAU'!$B$74:$B$89,'4A Calcul. BAU city'!$C55)","v":0},{"$f":"I55*SUMIFS('1A Input Base and BAU'!$D$74:$D$89,'1A Input Base and BAU'!$B$74:$B$89,'4A Calcul. BAU city'!$C55)","v":0},{"$f":"J55*SUMIFS('1A Input Base and BAU'!$D$74:$D$89,'1A Input Base and BAU'!$B$74:$B$89,'4A Calcul. BAU city'!$C55)","v":0},{"$f":"K55*SUMIFS('1A Input Base and BAU'!$D$74:$D$89,'1A Input Base and BAU'!$B$74:$B$89,'4A Calcul. BAU city'!$C55)","v":0},{"$f":"L55*SUMIFS('1A Input Base and BAU'!$D$74:$D$89,'1A Input Base and BAU'!$B$74:$B$89,'4A Calcul. BAU city'!$C55)","v":0}]
[{"$f":"Rail","v":"Rail"},{"$f":"Train","v":"Long distance train"},{"$f":"Train","v":"Long distance train"},{"$f":"Pass","v":"Passengers"},{"$f":"Diesel","v":"Diesel"},null,{"$f":"+SUMIFS('1A Input Base and BAU'!C$49:C$64,'1A Input Base and BAU'!$B$49:$B$64,'4A Calcul. BAU city'!$C56)*SUMIFS('1A Input Base and BAU'!D$100:D$163,'1A Input Base and BAU'!$B$100:$B$163,$C56,'1A Input Base and BAU'!$C$100:$C$163,$E56)","v":0},{"$f":"+SUMIFS('1A Input Base and BAU'!D$49:D$64,'1A Input Base and BAU'!$B$49:$B$64,'4A Calcul. BAU city'!$C56)*SUMIFS('1A Input Base and BAU'!E$100:E$163,'1A Input Base and BAU'!$B$100:$B$163,$C56,'1A Input Base and BAU'!$C$100:$C$163,$E56)","v":0},{"$f":"+SUMIFS('1A Input Base and BAU'!E$49:E$64,'1A Input Base and BAU'!$B$49:$B$64,'4A Calcul. BAU city'!$C56)*SUMIFS('1A Input Base and BAU'!F$100:F$163,'1A Input Base and BAU'!$B$100:$B$163,$C56,'1A Input Base and BAU'!$C$100:$C$163,$E56)","v":0},{"$f":"+SUMIFS('1A Input Base and BAU'!F$49:F$64,'1A Input Base and BAU'!$B$49:$B$64,'4A Calcul. BAU city'!$C56)*SUMIFS('1A Input Base and BAU'!G$100:G$163,'1A Input Base and BAU'!$B$100:$B$163,$C56,'1A Input Base and BAU'!$C$100:$C$163,$E56)","v":0},{"$f":"+SUMIFS('1A Input Base and BAU'!G$49:G$64,'1A Input Base and BAU'!$B$49:$B$64,'4A Calcul. BAU city'!$C56)*SUMIFS('1A Input Base and BAU'!H$100:H$163,'1A Input Base and BAU'!$B$100:$B$163,$C56,'1A Input Base and BAU'!$C$100:$C$163,$E56)","v":0},{"$f":"+SUMIFS('1A Input Base and BAU'!H$49:H$64,'1A Input Base and BAU'!$B$49:$B$64,'4A Calcul. BAU city'!$C56)*SUMIFS('1A Input Base and BAU'!I$100:I$163,'1A Input Base and BAU'!$B$100:$B$163,$C56,'1A Input Base and BAU'!$C$100:$C$163,$E56)","v":0},null,"l/100 km",{"$f":"+SUMIFS('1A Input Base and BAU'!E$173:E$221,'1A Input Base and BAU'!$B$173:$B$221,'4A Calcul. BAU city'!$C56,'1A Input Base and BAU'!$C$173:$C$221,'4A Calcul. BAU city'!$E56)","v":0},{"$f":"+SUMIFS('1A Input Base and BAU'!F$173:F$221,'1A Input Base and BAU'!$B$173:$B$221,'4A Calcul. BAU city'!$C56,'1A Input Base and BAU'!$C$173:$C$221,'4A Calcul. BAU city'!$E56)","v":0},{"$f":"+SUMIFS('1A Input Base and BAU'!G$173:G$221,'1A Input Base and BAU'!$B$173:$B$221,'4A Calcul. BAU city'!$C56,'1A Input Base and BAU'!$C$173:$C$221,'4A Calcul. BAU city'!$E56)","v":0},{"$f":"+SUMIFS('1A Input Base and BAU'!H$173:H$221,'1A Input Base and BAU'!$B$173:$B$221,'4A Calcul. BAU city'!$C56,'1A Input Base and BAU'!$C$173:$C$221,'4A Calcul. BAU city'!$E56)","v":0},{"$f":"+SUMIFS('1A Input Base and BAU'!I$173:I$221,'1A Input Base and BAU'!$B$173:$B$221,'4A Calcul. BAU city'!$C56,'1A Input Base and BAU'!$C$173:$C$221,'4A Calcul. BAU city'!$E56)","v":0},{"$f":"+SUMIFS('1A Input Base and BAU'!J$173:J$221,'1A Input Base and BAU'!$B$173:$B$221,'4A Calcul. BAU city'!$C56,'1A Input Base and BAU'!$C$173:$C$221,'4A Calcul. BAU city'!$E56)","v":0},null,{"$f":"+IFERROR(VLOOKUP($A56&\" - \"&$E56,'6 Defaults parameters'!$B$9:$O$18,4,FALSE)*VLOOKUP($A56&\" - \"&$E56,'6 Defaults parameters'!$B$9:$O$18,3,FALSE),0)","v":36.286919831223628},{"$f":"INDEX('6 Defaults parameters'!$T$9:$Y$18,MATCH($A56&\" - \"&$E56,'6 Defaults parameters'!$B$9:$B$18,0),MATCH(W$12,'6 Defaults parameters'!$T$8:$Y$8,0))","v":82726.55},{"$f":"INDEX('6 Defaults parameters'!$T$9:$Y$18,MATCH($A56&\" - \"&$E56,'6 Defaults parameters'!$B$9:$B$18,0),MATCH(X$12,'6 Defaults parameters'!$T$8:$Y$8,0))","v":82726.55},{"$f":"INDEX('6 Defaults parameters'!$T$9:$Y$18,MATCH($A56&\" - \"&$E56,'6 Defaults parameters'!$B$9:$B$18,0),MATCH(Y$12,'6 Defaults parameters'!$T$8:$Y$8,0))","v":82726.55},{"$f":"INDEX('6 Defaults parameters'!$T$9:$Y$18,MATCH($A56&\" - \"&$E56,'6 Defaults parameters'!$B$9:$B$18,0),MATCH(Z$12,'6 Defaults parameters'!$T$8:$Y$8,0))","v":82726.55},{"$f":"INDEX('6 Defaults parameters'!$T$9:$Y$18,MATCH($A56&\" - \"&$E56,'6 Defaults parameters'!$B$9:$B$18,0),MATCH(AA$12,'6 Defaults parameters'!$T$8:$Y$8,0))","v":82726.55},{"$f":"INDEX('6 Defaults parameters'!$T$9:$Y$18,MATCH($A56&\" - \"&$E56,'6 Defaults parameters'!$B$9:$B$18,0),MATCH(AB$12,'6 Defaults parameters'!$T$8:$Y$8,0))","v":82726.55},null,0,0,0,0,0,0,{"$f":"+W56*AD56/10^6","v":0},0,0,0,0,0,null,{"$f":"G56*SUMIFS('1A Input Base and BAU'!$D$74:$D$89,'1A Input Base and BAU'!$B$74:$B$89,'4A Calcul. BAU city'!$C56)","v":0},{"$f":"H56*SUMIFS('1A Input Base and BAU'!$D$74:$D$89,'1A Input Base and BAU'!$B$74:$B$89,'4A Calcul. BAU city'!$C56)","v":0},{"$f":"I56*SUMIFS('1A Input Base and BAU'!$D$74:$D$89,'1A Input Base and BAU'!$B$74:$B$89,'4A Calcul. BAU city'!$C56)","v":0},{"$f":"J56*SUMIFS('1A Input Base and BAU'!$D$74:$D$89,'1A Input Base and BAU'!$B$74:$B$89,'4A Calcul. BAU city'!$C56)","v":0},{"$f":"K56*SUMIFS('1A Input Base and BAU'!$D$74:$D$89,'1A Input Base and BAU'!$B$74:$B$89,'4A Calcul. BAU city'!$C56)","v":0},{"$f":"L56*SUMIFS('1A Input Base and BAU'!$D$74:$D$89,'1A Input Base and BAU'!$B$74:$B$89,'4A Calcul. BAU city'!$C56)","v":0},{"$f":"\"\"","v":""},{"$f":"\"\"","v":""},{"$f":"\"\"","v":""},{"$f":"\"\"","v":""},{"$f":"\"\"","v":""},{"$f":"\"\"","v":""}]
["Rail",{"$f":"Train","v":"Long distance train"},{"$f":"Train","v":"Long distance train"},{"$f":"Pass","v":"Passengers"},{"$f":"Electric","v":"Electric"},null,{"$f":"+SUMIFS('1A Input Base and BAU'!C$49:C$64,'1A Input Base and BAU'!$B$49:$B$64,'4A Calcul. BAU city'!$C57)*SUMIFS('1A Input Base and BAU'!D$100:D$163,'1A Input Base and BAU'!$B$100:$B$163,$C57,'1A Input Base and BAU'!$C$100:$C$163,$E57)","v":0},{"$f":"+SUMIFS('1A Input Base and BAU'!D$49:D$64,'1A Input Base and BAU'!$B$49:$B$64,'4A Calcul. BAU city'!$C57)*SUMIFS('1A Input Base and BAU'!E$100:E$163,'1A Input Base and BAU'!$B$100:$B$163,$C57,'1A Input Base and BAU'!$C$100:$C$163,$E57)","v":0},{"$f":"+SUMIFS('1A Input Base and BAU'!E$49:E$64,'1A Input Base and BAU'!$B$49:$B$64,'4A Calcul. BAU city'!$C57)*SUMIFS('1A Input Base and BAU'!F$100:F$163,'1A Input Base and BAU'!$B$100:$B$163,$C57,'1A Input Base and BAU'!$C$100:$C$163,$E57)","v":0},{"$f":"+SUMIFS('1A Input Base and BAU'!F$49:F$64,'1A Input Base and BAU'!$B$49:$B$64,'4A Calcul. BAU city'!$C57)*SUMIFS('1A Input Base and BAU'!G$100:G$163,'1A Input Base and BAU'!$B$100:$B$163,$C57,'1A Input Base and BAU'!$C$100:$C$163,$E57)","v":0},{"$f":"+SUMIFS('1A Input Base and BAU'!G$49:G$64,'1A Input Base and BAU'!$B$49:$B$64,'4A Calcul. BAU city'!$C57)*SUMIFS('1A Input Base and BAU'!H$100:H$163,'1A Input Base and BAU'!$B$100:$B$163,$C57,'1A Input Base and BAU'!$C$100:$C$163,$E57)","v":0},{"$f":"+SUMIFS('1A Input Base and BAU'!H$49:H$64,'1A Input Base and BAU'!$B$49:$B$64,'4A Calcul. BAU city'!$C57)*SUMIFS('1A Input Base and BAU'!I$100:I$163,'1A Input Base and BAU'!$B$100:$B$163,$C57,'1A Input Base and BAU'!$C$100:$C$163,$E57)","v":0},null,"kWh/100km",{"$f":"+SUMIFS('1A Input Base and BAU'!E$173:E$221,'1A Input Base and BAU'!$B$173:$B$221,'4A Calcul. BAU city'!$C57,'1A Input Base and BAU'!$C$173:$C$221,'4A Calcul. BAU city'!$E57)","v":0},{"$f":"+SUMIFS('1A Input Base and BAU'!F$173:F$221,'1A Input Base and BAU'!$B$173:$B$221,'4A Calcul. BAU city'!$C57,'1A Input Base and BAU'!$C$173:$C$221,'4A Calcul. BAU city'!$E57)","v":0},{"$f":"+SUMIFS('1A Input Base and BAU'!G$173:G$221,'1A Input Base and BAU'!$B$173:$B$221,'4A Calcul. BAU city'!$C57,'1A Input Base and BAU'!$C$173:$C$221,'4A Calcul. BAU city'!$E57)","v":0},{"$f":"+SUMIFS('1A Input Base and BAU'!H$173:H$221,'1A Input Base and BAU'!$B$173:$B$221,'4A Calcul. BAU city'!$C57,'1A Input Base and BAU'!$C$173:$C$221,'4A Calcul. BAU city'!$E57)","v":0},{"$f":"+SUMIFS('1A Input Base and BAU'!I$173:I$221,'1A Input Base and BAU'!$B$173:$B$221,'4A Calcul. BAU city'!$C57,'1A Input Base and BAU'!$C$173:$C$221,'4A Calcul. BAU city'!$E57)","v":0},{"$f":"+SUMIFS('1A Input Base and BAU'!J$173:J$221,'1A Input Base and BAU'!$B$173:$B$221,'4A Calcul. BAU city'!$C57,'1A Input Base and BAU'!$C$173:$C$221,'4A Calcul. BAU city'!$E57)","v":0},null,{"$f":"+IFERROR(VLOOKUP($A57&\" - \"&$E57,'6 Defaults parameters'!$B$9:$O$18,4,FALSE)*VLOOKUP($A57&\" - \"&$E57,'6 Defaults parameters'!$B$9:$O$18,3,FALSE),0)","v":3.6},{"$f":"INDEX('6 Defaults parameters'!$T$9:$Y$18,MATCH($A57&\" - \"&$E57,'6 Defaults parameters'!$B$9:$B$18,0),MATCH(W$12,'6 Defaults parameters'!$T$8:$Y$8,0))","v":0},{"$f":"INDEX('6 Defaults parameters'!$T$9:$Y$18,MATCH($A57&\" - \"&$E57,'6 Defaults parameters'!$B$9:$B$18,0),MATCH(X$12,'6 Defaults parameters'!$T$8:$Y$8,0))","v":0},{"$f":"INDEX('6 Defaults parameters'!$T$9:$Y$18,MATCH($A57&\" - \"&$E57,'6 Defaults parameters'!$B$9:$B$18,0),MATCH(Y$12,'6 Defaults parameters'!$T$8:$Y$8,0))","v":0},{"$f":"INDEX('6 Defaults parameters'!$T$9:$Y$18,MATCH($A57&\" - \"&$E57,'6 Defaults parameters'!$B$9:$B$18,0),MATCH(Z$12,'6 Defaults parameters'!$T$8:$Y$8,0))","v":0},{"$f":"INDEX('6 Defaults parameters'!$T$9:$Y$18,MATCH($A57&\" - \"&$E57,'6 Defaults parameters'!$B$9:$B$18,0),MATCH(AA$12,'6 Defaults parameters'!$T$8:$Y$8,0))","v":0},{"$f":"INDEX('6 Defaults parameters'!$T$9:$Y$18,MATCH($A57&\" - \"&$E57,'6 Defaults parameters'!$B$9:$B$18,0),MATCH(AB$12,'6 Defaults parameters'!$T$8:$Y$8,0))","v":0},null,0,0,0,0,0,0,0,0,0,0,0,0,null,{"$f":"G57*SUMIFS('1A Input Base and BAU'!$D$74:$D$89,'1A Input Base and BAU'!$B$74:$B$89,'4A Calcul. BAU city'!$C57)","v":0},{"$f":"H57*SUMIFS('1A Input Base and BAU'!$D$74:$D$89,'1A Input Base and BAU'!$B$74:$B$89,'4A Calcul. BAU city'!$C57)","v":0},{"$f":"I57*SUMIFS('1A Input Base and BAU'!$D$74:$D$89,'1A Input Base and BAU'!$B$74:$B$89,'4A Calcul. BAU city'!$C57)","v":0},{"$f":"J57*SUMIFS('1A Input Base and BAU'!$D$74:$D$89,'1A Input Base and BAU'!$B$74:$B$89,'4A Calcul. BAU city'!$C57)","v":0},{"$f":"K57*SUMIFS('1A Input Base and BAU'!$D$74:$D$89,'1A Input Base and BAU'!$B$74:$B$89,'4A Calcul. BAU city'!$C57)","v":0},{"$f":"L57*SUMIFS('1A Input Base and BAU'!$D$74:$D$89,'1A Input Base and BAU'!$B$74:$B$89,'4A Calcul. BAU city'!$C57)","v":0},{"$f":"\"\"","v":""},{"$f":"\"\"","v":""},{"$f":"\"\"","v":""},{"$f":"\"\"","v":""},{"$f":"\"\"","v":""},{"$f":"\"\"","v":""}]
["Rail",{"$f":"Utrain","v":"Urban train"},{"$f":"Utrain","v":"Urban train"},{"$f":"Pass","v":"Passengers"},{"$f":"Electric","v":"Electric"},null,{"$f":"+SUMIFS('1A Input Base and BAU'!C$49:C$64,'1A Input Base and BAU'!$B$49:$B$64,'4A Calcul. BAU city'!$C58)*SUMIFS('1A Input Base and BAU'!D$100:D$163,'1A Input Base and BAU'!$B$100:$B$163,$C58,'1A Input Base and BAU'!$C$100:$C$163,$E58)","v":0},{"$f":"+SUMIFS('1A Input Base and BAU'!D$49:D$64,'1A Input Base and BAU'!$B$49:$B$64,'4A Calcul. BAU city'!$C58)*SUMIFS('1A Input Base and BAU'!E$100:E$163,'1A Input Base and BAU'!$B$100:$B$163,$C58,'1A Input Base and BAU'!$C$100:$C$163,$E58)","v":0},{"$f":"+SUMIFS('1A Input Base and BAU'!E$49:E$64,'1A Input Base and BAU'!$B$49:$B$64,'4A Calcul. BAU city'!$C58)*SUMIFS('1A Input Base and BAU'!F$100:F$163,'1A Input Base and BAU'!$B$100:$B$163,$C58,'1A Input Base and BAU'!$C$100:$C$163,$E58)","v":0},{"$f":"+SUMIFS('1A Input Base and BAU'!F$49:F$64,'1A Input Base and BAU'!$B$49:$B$64,'4A Calcul. BAU city'!$C58)*SUMIFS('1A Input Base and BAU'!G$100:G$163,'1A Input Base and BAU'!$B$100:$B$163,$C58,'1A Input Base and BAU'!$C$100:$C$163,$E58)","v":0},{"$f":"+SUMIFS('1A Input Base and BAU'!G$49:G$64,'1A Input Base and BAU'!$B$49:$B$64,'4A Calcul. BAU city'!$C58)*SUMIFS('1A Input Base and BAU'!H$100:H$163,'1A Input Base and BAU'!$B$100:$B$163,$C58,'1A Input Base and BAU'!$C$100:$C$163,$E58)","v":0},{"$f":"+SUMIFS('1A Input Base and BAU'!H$49:H$64,'1A Input Base and BAU'!$B$49:$B$64,'4A Calcul. BAU city'!$C58)*SUMIFS('1A Input Base and BAU'!I$100:I$163,'1A Input Base and BAU'!$B$100:$B$163,$C58,'1A Input Base and BAU'!$C$100:$C$163,$E58)","v":0},null,"kWh/100km",{"$f":"+SUMIFS('1A Input Base and BAU'!E$173:E$221,'1A Input Base and BAU'!$B$173:$B$221,'4A Calcul. BAU city'!$C58,'1A Input Base and BAU'!$C$173:$C$221,'4A Calcul. BAU city'!$E58)","v":0},{"$f":"+SUMIFS('1A Input Base and BAU'!F$173:F$221,'1A Input Base and BAU'!$B$173:$B$221,'4A Calcul. BAU city'!$C58,'1A Input Base and BAU'!$C$173:$C$221,'4A Calcul. BAU city'!$E58)","v":0},{"$f":"+SUMIFS('1A Input Base and BAU'!G$173:G$221,'1A Input Base and BAU'!$B$173:$B$221,'4A Calcul. BAU city'!$C58,'1A Input Base and BAU'!$C$173:$C$221,'4A Calcul. BAU city'!$E58)","v":0},{"$f":"+SUMIFS('1A Input Base and BAU'!H$173:H$221,'1A Input Base and BAU'!$B$173:$B$221,'4A Calcul. BAU city'!$C58,'1A Input Base and BAU'!$C$173:$C$221,'4A Calcul. BAU city'!$E58)","v":0},{"$f":"+SUMIFS('1A Input Base and BAU'!I$173:I$221,'1A Input Base and BAU'!$B$173:$B$221,'4A Calcul. BAU city'!$C58,'1A Input Base and BAU'!$C$173:$C$221,'4A Calcul. BAU city'!$E58)","v":0},{"$f":"+SUMIFS('1A Input Base and BAU'!J$173:J$221,'1A Input Base and BAU'!$B$173:$B$221,'4A Calcul. BAU city'!$C58,'1A Input Base and BAU'!$C$173:$C$221,'4A Calcul. BAU city'!$E58)","v":0},null,{"$f":"+IFERROR(VLOOKUP($A58&\" - \"&$E58,'6 Defaults parameters'!$B$9:$O$18,4,FALSE)*VLOOKUP($A58&\" - \"&$E58,'6 Defaults parameters'!$B$9:$O$18,3,FALSE),0)","v":3.6},{"$f":"INDEX('6 Defaults parameters'!$T$9:$Y$18,MATCH($A58&\" - \"&$E58,'6 Defaults parameters'!$B$9:$B$18,0),MATCH(W$12,'6 Defaults parameters'!$T$8:$Y$8,0))","v":0},{"$f":"INDEX('6 Defaults parameters'!$T$9:$Y$18,MATCH($A58&\" - \"&$E58,'6 Defaults parameters'!$B$9:$B$18,0),MATCH(X$12,'6 Defaults parameters'!$T$8:$Y$8,0))","v":0},{"$f":"INDEX('6 Defaults parameters'!$T$9:$Y$18,MATCH($A58&\" - \"&$E58,'6 Defaults parameters'!$B$9:$B$18,0),MATCH(Y$12,'6 Defaults parameters'!$T$8:$Y$8,0))","v":0},{"$f":"INDEX('6 Defaults parameters'!$T$9:$Y$18,MATCH($A58&\" - \"&$E58,'6 Defaults parameters'!$B$9:$B$18,0),MATCH(Z$12,'6 Defaults parameters'!$T$8:$Y$8,0))","v":0},{"$f":"INDEX('6 Defaults parameters'!$T$9:$Y$18,MATCH($A58&\" - \"&$E58,'6 Defaults parameters'!$B$9:$B$18,0),MATCH(AA$12,'6 Defaults parameters'!$T$8:$Y$8,0))","v":0},{"$f":"INDEX('6 Defaults parameters'!$T$9:$Y$18,MATCH($A58&\" - \"&$E58,'6 Defaults parameters'!$B$9:$B$18,0),MATCH(AB$12,'6 Defaults parameters'!$T$8:$Y$8,0))","v":0},null,0,0,0,0,0,0,0,0,0,0,0,0,null,{"$f":"G58*SUMIFS('1A Input Base and BAU'!$D$74:$D$89,'1A Input Base and BAU'!$B$74:$B$89,'4A Calcul. BAU city'!$C58)","v":0},{"$f":"H58*SUMIFS('1A Input Base and BAU'!$D$74:$D$89,'1A Input Base and BAU'!$B$74:$B$89,'4A Calcul. BAU city'!$C58)","v":0},{"$f":"I58*SUMIFS('1A Input Base and BAU'!$D$74:$D$89,'1A Input Base and BAU'!$B$74:$B$89,'4A Calcul. BAU city'!$C58)","v":0},{"$f":"J58*SUMIFS('1A Input Base and BAU'!$D$74:$D$89,'1A Input Base and BAU'!$B$74:$B$89,'4A Calcul. BAU city'!$C58)","v":0},{"$f":"K58*SUMIFS('1A Input Base and BAU'!$D$74:$D$89,'1A Input Base and BAU'!$B$74:$B$89,'4A Calcul. BAU city'!$C58)","v":0},{"$f":"L58*SUMIFS('1A Input Base and BAU'!$D$74:$D$89,'1A Input Base and BAU'!$B$74:$B$89,'4A Calcul. BAU city'!$C58)","v":0},{"$f":"\"\"","v":""},{"$f":"\"\"","v":""},{"$f":"\"\"","v":""},{"$f":"\"\"","v":""},{"$f":"\"\"","v":""},{"$f":"\"\"","v":""}]
["Rail",{"$f":"Metro","v":"Metro"},{"$f":"Metro","v":"Metro"},{"$f":"Pass","v":"Passengers"},{"$f":"Electric","v":"Electric"},null,{"$f":"+SUMIFS('1A Input Base and BAU'!C$49:C$64,'1A Input Base and BAU'!$B$49:$B$64,'4A Calcul. BAU city'!$C59)*SUMIFS('1A Input Base and BAU'!D$100:D$163,'1A Input Base and BAU'!$B$100:$B$163,$C59,'1A Input Base and BAU'!$C$100:$C$163,$E59)","v":0},{"$f":"+SUMIFS('1A Input Base and BAU'!D$49:D$64,'1A Input Base and BAU'!$B$49:$B$64,'4A Calcul. BAU city'!$C59)*SUMIFS('1A Input Base and BAU'!E$100:E$163,'1A Input Base and BAU'!$B$100:$B$163,$C59,'1A Input Base and BAU'!$C$100:$C$163,$E59)","v":0},{"$f":"+SUMIFS('1A Input Base and BAU'!E$49:E$64,'1A Input Base and BAU'!$B$49:$B$64,'4A Calcul. BAU city'!$C59)*SUMIFS('1A Input Base and BAU'!F$100:F$163,'1A Input Base and BAU'!$B$100:$B$163,$C59,'1A Input Base and BAU'!$C$100:$C$163,$E59)","v":0},{"$f":"+SUMIFS('1A Input Base and BAU'!F$49:F$64,'1A Input Base and BAU'!$B$49:$B$64,'4A Calcul. BAU city'!$C59)*SUMIFS('1A Input Base and BAU'!G$100:G$163,'1A Input Base and BAU'!$B$100:$B$163,$C59,'1A Input Base and BAU'!$C$100:$C$163,$E59)","v":0},{"$f":"+SUMIFS('1A Input Base and BAU'!G$49:G$64,'1A Input Base and BAU'!$B$49:$B$64,'4A Calcul. BAU city'!$C59)*SUMIFS('1A Input Base and BAU'!H$100:H$163,'1A Input Base and BAU'!$B$100:$B$163,$C59,'1A Input Base and BAU'!$C$100:$C$163,$E59)","v":0},{"$f":"+SUMIFS('1A Input Base and BAU'!H$49:H$64,'1A Input Base and BAU'!$B$49:$B$64,'4A Calcul. BAU city'!$C59)*SUMIFS('1A Input Base and BAU'!I$100:I$163,'1A Input Base and BAU'!$B$100:$B$163,$C59,'1A Input Base and BAU'!$C$100:$C$163,$E59)","v":0},null,"kWh/100km",{"$f":"+SUMIFS('1A Input Base and BAU'!E$173:E$221,'1A Input Base and BAU'!$B$173:$B$221,'4A Calcul. BAU city'!$C59,'1A Input Base and BAU'!$C$173:$C$221,'4A Calcul. BAU city'!$E59)","v":0},{"$f":"+SUMIFS('1A Input Base and BAU'!F$173:F$221,'1A Input Base and BAU'!$B$173:$B$221,'4A Calcul. BAU city'!$C59,'1A Input Base and BAU'!$C$173:$C$221,'4A Calcul. BAU city'!$E59)","v":0},{"$f":"+SUMIFS('1A Input Base and BAU'!G$173:G$221,'1A Input Base and BAU'!$B$173:$B$221,'4A Calcul. BAU city'!$C59,'1A Input Base and BAU'!$C$173:$C$221,'4A Calcul. BAU city'!$E59)","v":0},{"$f":"+SUMIFS('1A Input Base and BAU'!H$173:H$221,'1A Input Base and BAU'!$B$173:$B$221,'4A Calcul. BAU city'!$C59,'1A Input Base and BAU'!$C$173:$C$221,'4A Calcul. BAU city'!$E59)","v":0},{"$f":"+SUMIFS('1A Input Base and BAU'!I$173:I$221,'1A Input Base and BAU'!$B$173:$B$221,'4A Calcul. BAU city'!$C59,'1A Input Base and BAU'!$C$173:$C$221,'4A Calcul. BAU city'!$E59)","v":0},{"$f":"+SUMIFS('1A Input Base and BAU'!J$173:J$221,'1A Input Base and BAU'!$B$173:$B$221,'4A Calcul. BAU city'!$C59,'1A Input Base and BAU'!$C$173:$C$221,'4A Calcul. BAU city'!$E59)","v":0},null,{"$f":"+IFERROR(VLOOKUP($A59&\" - \"&$E59,'6 Defaults parameters'!$B$9:$O$18,4,FALSE)*VLOOKUP($A59&\" - \"&$E59,'6 Defaults parameters'!$B$9:$O$18,3,FALSE),0)","v":3.6},{"$f":"INDEX('6 Defaults parameters'!$T$9:$Y$18,MATCH($A59&\" - \"&$E59,'6 Defaults parameters'!$B$9:$B$18,0),MATCH(W$12,'6 Defaults parameters'!$T$8:$Y$8,0))","v":0},{"$f":"INDEX('6 Defaults parameters'!$T$9:$Y$18,MATCH($A59&\" - \"&$E59,'6 Defaults parameters'!$B$9:$B$18,0),MATCH(X$12,'6 Defaults parameters'!$T$8:$Y$8,0))","v":0},{"$f":"INDEX('6 Defaults parameters'!$T$9:$Y$18,MATCH($A59&\" - \"&$E59,'6 Defaults parameters'!$B$9:$B$18,0),MATCH(Y$12,'6 Defaults parameters'!$T$8:$Y$8,0))","v":0},{"$f":"INDEX('6 Defaults parameters'!$T$9:$Y$18,MATCH($A59&\" - \"&$E59,'6 Defaults parameters'!$B$9:$B$18,0),MATCH(Z$12,'6 Defaults parameters'!$T$8:$Y$8,0))","v":0},{"$f":"INDEX('6 Defaults parameters'!$T$9:$Y$18,MATCH($A59&\" - \"&$E59,'6 Defaults parameters'!$B$9:$B$18,0),MATCH(AA$12,'6 Defaults parameters'!$T$8:$Y$8,0))","v":0},{"$f":"INDEX('6 Defaults parameters'!$T$9:$Y$18,MATCH($A59&\" - \"&$E59,'6 Defaults parameters'!$B$9:$B$18,0),MATCH(AB$12,'6 Defaults parameters'!$T$8:$Y$8,0))","v":0},null,0,0,0,0,0,0,0,0,0,0,0,0,null,{"$f":"G59*SUMIFS('1A Input Base and BAU'!$D$74:$D$89,'1A Input Base and BAU'!$B$74:$B$89,'4A Calcul. BAU city'!$C59)","v":0},{"$f":"H59*SUMIFS('1A Input Base and BAU'!$D$74:$D$89,'1A Input Base and BAU'!$B$74:$B$89,'4A Calcul. BAU city'!$C59)","v":0},{"$f":"I59*SUMIFS('1A Input Base and BAU'!$D$74:$D$89,'1A Input Base and BAU'!$B$74:$B$89,'4A Calcul. BAU city'!$C59)","v":0},{"$f":"J59*SUMIFS('1A Input Base and BAU'!$D$74:$D$89,'1A Input Base and BAU'!$B$74:$B$89,'4A Calcul. BAU city'!$C59)","v":0},{"$f":"K59*SUMIFS('1A Input Base and BAU'!$D$74:$D$89,'1A Input Base and BAU'!$B$74:$B$89,'4A Calcul. BAU city'!$C59)","v":0},{"$f":"L59*SUMIFS('1A Input Base and BAU'!$D$74:$D$89,'1A Input Base and BAU'!$B$74:$B$89,'4A Calcul. BAU city'!$C59)","v":0}]
["Rail",{"$f":"Ftrain","v":"Freight train"},{"$f":"Ftrain","v":"Freight train"},{"$f":"goods","v":"Freight"},{"$f":"Diesel","v":"Diesel"},null,{"$f":"+SUMIFS('1A Input Base and BAU'!C$49:C$64,'1A Input Base and BAU'!$B$49:$B$64,'4A Calcul. BAU city'!$C60)*SUMIFS('1A Input Base and BAU'!D$100:D$163,'1A Input Base and BAU'!$B$100:$B$163,$C60,'1A Input Base and BAU'!$C$100:$C$163,$E60)","v":0},{"$f":"+SUMIFS('1A Input Base and BAU'!D$49:D$64,'1A Input Base and BAU'!$B$49:$B$64,'4A Calcul. BAU city'!$C60)*SUMIFS('1A Input Base and BAU'!E$100:E$163,'1A Input Base and BAU'!$B$100:$B$163,$C60,'1A Input Base and BAU'!$C$100:$C$163,$E60)","v":0},{"$f":"+SUMIFS('1A Input Base and BAU'!E$49:E$64,'1A Input Base and BAU'!$B$49:$B$64,'4A Calcul. BAU city'!$C60)*SUMIFS('1A Input Base and BAU'!F$100:F$163,'1A Input Base and BAU'!$B$100:$B$163,$C60,'1A Input Base and BAU'!$C$100:$C$163,$E60)","v":0},{"$f":"+SUMIFS('1A Input Base and BAU'!F$49:F$64,'1A Input Base and BAU'!$B$49:$B$64,'4A Calcul. BAU city'!$C60)*SUMIFS('1A Input Base and BAU'!G$100:G$163,'1A Input Base and BAU'!$B$100:$B$163,$C60,'1A Input Base and BAU'!$C$100:$C$163,$E60)","v":0},{"$f":"+SUMIFS('1A Input Base and BAU'!G$49:G$64,'1A Input Base and BAU'!$B$49:$B$64,'4A Calcul. BAU city'!$C60)*SUMIFS('1A Input Base and BAU'!H$100:H$163,'1A Input Base and BAU'!$B$100:$B$163,$C60,'1A Input Base and BAU'!$C$100:$C$163,$E60)","v":0},{"$f":"+SUMIFS('1A Input Base and BAU'!H$49:H$64,'1A Input Base and BAU'!$B$49:$B$64,'4A Calcul. BAU city'!$C60)*SUMIFS('1A Input Base and BAU'!I$100:I$163,'1A Input Base and BAU'!$B$100:$B$163,$C60,'1A Input Base and BAU'!$C$100:$C$163,$E60)","v":0},null,"l/100 km",{"$f":"+SUMIFS('1A Input Base and BAU'!E$173:E$221,'1A Input Base and BAU'!$B$173:$B$221,'4A Calcul. BAU city'!$C60,'1A Input Base and BAU'!$C$173:$C$221,'4A Calcul. BAU city'!$E60)","v":0},{"$f":"+SUMIFS('1A Input Base and BAU'!F$173:F$221,'1A Input Base and BAU'!$B$173:$B$221,'4A Calcul. BAU city'!$C60,'1A Input Base and BAU'!$C$173:$C$221,'4A Calcul. BAU city'!$E60)","v":0},{"$f":"+SUMIFS('1A Input Base and BAU'!G$173:G$221,'1A Input Base and BAU'!$B$173:$B$221,'4A Calcul. BAU city'!$C60,'1A Input Base and BAU'!$C$173:$C$221,'4A Calcul. BAU city'!$E60)","v":0},{"$f":"+SUMIFS('1A Input Base and BAU'!H$173:H$221,'1A Input Base and BAU'!$B$173:$B$221,'4A Calcul. BAU city'!$C60,'1A Input Base and BAU'!$C$173:$C$221,'4A Calcul. BAU city'!$E60)","v":0},{"$f":"+SUMIFS('1A Input Base and BAU'!I$173:I$221,'1A Input Base and BAU'!$B$173:$B$221,'4A Calcul. BAU city'!$C60,'1A Input Base and BAU'!$C$173:$C$221,'4A Calcul. BAU city'!$E60)","v":0},{"$f":"+SUMIFS('1A Input Base and BAU'!J$173:J$221,'1A Input Base and BAU'!$B$173:$B$221,'4A Calcul. BAU city'!$C60,'1A Input Base and BAU'!$C$173:$C$221,'4A Calcul. BAU city'!$E60)","v":0},null,{"$f":"+IFERROR(VLOOKUP($A60&\" - \"&$E60,'6 Defaults parameters'!$B$9:$O$18,4,FALSE)*VLOOKUP($A60&\" - \"&$E60,'6 Defaults parameters'!$B$9:$O$18,3,FALSE),0)","v":36.286919831223628},{"$f":"INDEX('6 Defaults parameters'!$T$9:$Y$18,MATCH($A60&\" - \"&$E60,'6 Defaults parameters'!$B$9:$B$18,0),MATCH(W$12,'6 Defaults parameters'!$T$8:$Y$8,0))","v":82726.55},{"$f":"INDEX('6 Defaults parameters'!$T$9:$Y$18,MATCH($A60&\" - \"&$E60,'6 Defaults parameters'!$B$9:$B$18,0),MATCH(X$12,'6 Defaults parameters'!$T$8:$Y$8,0))","v":82726.55},{"$f":"INDEX('6 Defaults parameters'!$T$9:$Y$18,MATCH($A60&\" - \"&$E60,'6 Defaults parameters'!$B$9:$B$18,0),MATCH(Y$12,'6 Defaults parameters'!$T$8:$Y$8,0))","v":82726.55},{"$f":"INDEX('6 Defaults parameters'!$T$9:$Y$18,MATCH($A60&\" - \"&$E60,'6 Defaults parameters'!$B$9:$B$18,0),MATCH(Z$12,'6 Defaults parameters'!$T$8:$Y$8,0))","v":82726.55},{"$f":"INDEX('6 Defaults parameters'!$T$9:$Y$18,MATCH($A60&\" - \"&$E60,'6 Defaults parameters'!$B$9:$B$18,0),MATCH(AA$12,'6 Defaults parameters'!$T$8:$Y$8,0))","v":82726.55},{"$f":"INDEX('6 Defaults parameters'!$T$9:$Y$18,MATCH($A60&\" - \"&$E60,'6 Defaults parameters'!$B$9:$B$18,0),MATCH(AB$12,'6 Defaults parameters'!$T$8:$Y$8,0))","v":82726.55},null,0,0,0,0,0,0,{"$f":"+W60*AD60/10^6","v":0},0,0,0,0,0,null,null,null,null,null,null,null,{"$f":"G60*SUMIFS('1A Input Base and BAU'!$D$74:$D$89,'1A Input Base and BAU'!$B$74:$B$89,'4A Calcul. BAU city'!$C60)","v":0},{"$f":"H60*SUMIFS('1A Input Base and BAU'!$D$74:$D$89,'1A Input Base and BAU'!$B$74:$B$89,'4A Calcul. BAU city'!$C60)","v":0},{"$f":"I60*SUMIFS('1A Input Base and BAU'!$D$74:$D$89,'1A Input Base and BAU'!$B$74:$B$89,'4A Calcul. BAU city'!$C60)","v":0},{"$f":"J60*SUMIFS('1A Input Base and BAU'!$D$74:$D$89,'1A Input Base and BAU'!$B$74:$B$89,'4A Calcul. BAU city'!$C60)","v":0},{"$f":"K60*SUMIFS('1A Input Base and BAU'!$D$74:$D$89,'1A Input Base and BAU'!$B$74:$B$89,'4A Calcul. BAU city'!$C60)","v":0},{"$f":"L60*SUMIFS('1A Input Base and BAU'!$D$74:$D$89,'1A Input Base and BAU'!$B$74:$B$89,'4A Calcul. BAU city'!$C60)","v":0}]
["Rail",{"$f":"Ftrain","v":"Freight train"},{"$f":"Ftrain","v":"Freight train"},{"$f":"goods","v":"Freight"},{"$f":"Electric","v":"Electric"},null,{"$f":"+SUMIFS('1A Input Base and BAU'!C$49:C$64,'1A Input Base and BAU'!$B$49:$B$64,'4A Calcul. BAU city'!$C61)*SUMIFS('1A Input Base and BAU'!D$100:D$163,'1A Input Base and BAU'!$B$100:$B$163,$C61,'1A Input Base and BAU'!$C$100:$C$163,$E61)","v":0},{"$f":"+SUMIFS('1A Input Base and BAU'!D$49:D$64,'1A Input Base and BAU'!$B$49:$B$64,'4A Calcul. BAU city'!$C61)*SUMIFS('1A Input Base and BAU'!E$100:E$163,'1A Input Base and BAU'!$B$100:$B$163,$C61,'1A Input Base and BAU'!$C$100:$C$163,$E61)","v":0},{"$f":"+SUMIFS('1A Input Base and BAU'!E$49:E$64,'1A Input Base and BAU'!$B$49:$B$64,'4A Calcul. BAU city'!$C61)*SUMIFS('1A Input Base and BAU'!F$100:F$163,'1A Input Base and BAU'!$B$100:$B$163,$C61,'1A Input Base and BAU'!$C$100:$C$163,$E61)","v":0},{"$f":"+SUMIFS('1A Input Base and BAU'!F$49:F$64,'1A Input Base and BAU'!$B$49:$B$64,'4A Calcul. BAU city'!$C61)*SUMIFS('1A Input Base and BAU'!G$100:G$163,'1A Input Base and BAU'!$B$100:$B$163,$C61,'1A Input Base and BAU'!$C$100:$C$163,$E61)","v":0},{"$f":"+SUMIFS('1A Input Base and BAU'!G$49:G$64,'1A Input Base and BAU'!$B$49:$B$64,'4A Calcul. BAU city'!$C61)*SUMIFS('1A Input Base and BAU'!H$100:H$163,'1A Input Base and BAU'!$B$100:$B$163,$C61,'1A Input Base and BAU'!$C$100:$C$163,$E61)","v":0},{"$f":"+SUMIFS('1A Input Base and BAU'!H$49:H$64,'1A Input Base and BAU'!$B$49:$B$64,'4A Calcul. BAU city'!$C61)*SUMIFS('1A Input Base and BAU'!I$100:I$163,'1A Input Base and BAU'!$B$100:$B$163,$C61,'1A Input Base and BAU'!$C$100:$C$163,$E61)","v":0},null,"kWh/100km",{"$f":"+SUMIFS('1A Input Base and BAU'!E$173:E$221,'1A Input Base and BAU'!$B$173:$B$221,'4A Calcul. BAU city'!$C61,'1A Input Base and BAU'!$C$173:$C$221,'4A Calcul. BAU city'!$E61)","v":0},{"$f":"+SUMIFS('1A Input Base and BAU'!F$173:F$221,'1A Input Base and BAU'!$B$173:$B$221,'4A Calcul. BAU city'!$C61,'1A Input Base and BAU'!$C$173:$C$221,'4A Calcul. BAU city'!$E61)","v":0},{"$f":"+SUMIFS('1A Input Base and BAU'!G$173:G$221,'1A Input Base and BAU'!$B$173:$B$221,'4A Calcul. BAU city'!$C61,'1A Input Base and BAU'!$C$173:$C$221,'4A Calcul. BAU city'!$E61)","v":0},{"$f":"+SUMIFS('1A Input Base and BAU'!H$173:H$221,'1A Input Base and BAU'!$B$173:$B$221,'4A Calcul. BAU city'!$C61,'1A Input Base and BAU'!$C$173:$C$221,'4A Calcul. BAU city'!$E61)","v":0},{"$f":"+SUMIFS('1A Input Base and BAU'!I$173:I$221,'1A Input Base and BAU'!$B$173:$B$221,'4A Calcul. BAU city'!$C61,'1A Input Base and BAU'!$C$173:$C$221,'4A Calcul. BAU city'!$E61)","v":0},{"$f":"+SUMIFS('1A Input Base and BAU'!J$173:J$221,'1A Input Base and BAU'!$B$173:$B$221,'4A Calcul. BAU city'!$C61,'1A Input Base and BAU'!$C$173:$C$221,'4A Calcul. BAU city'!$E61)","v":0},null,{"$f":"+IFERROR(VLOOKUP($A61&\" - \"&$E61,'6 Defaults parameters'!$B$9:$O$18,4,FALSE)*VLOOKUP($A61&\" - \"&$E61,'6 Defaults parameters'!$B$9:$O$18,3,FALSE),0)","v":3.6},{"$f":"INDEX('6 Defaults parameters'!$T$9:$Y$18,MATCH($A61&\" - \"&$E61,'6 Defaults parameters'!$B$9:$B$18,0),MATCH(W$12,'6 Defaults parameters'!$T$8:$Y$8,0))","v":0},{"$f":"INDEX('6 Defaults parameters'!$T$9:$Y$18,MATCH($A61&\" - \"&$E61,'6 Defaults parameters'!$B$9:$B$18,0),MATCH(X$12,'6 Defaults parameters'!$T$8:$Y$8,0))","v":0},{"$f":"INDEX('6 Defaults parameters'!$T$9:$Y$18,MATCH($A61&\" - \"&$E61,'6 Defaults parameters'!$B$9:$B$18,0),MATCH(Y$12,'6 Defaults parameters'!$T$8:$Y$8,0))","v":0},{"$f":"INDEX('6 Defaults parameters'!$T$9:$Y$18,MATCH($A61&\" - \"&$E61,'6 Defaults parameters'!$B$9:$B$18,0),MATCH(Z$12,'6 Defaults parameters'!$T$8:$Y$8,0))","v":0},{"$f":"INDEX('6 Defaults parameters'!$T$9:$Y$18,MATCH($A61&\" - \"&$E61,'6 Defaults parameters'!$B$9:$B$18,0),MATCH(AA$12,'6 Defaults parameters'!$T$8:$Y$8,0))","v":0},{"$f":"INDEX('6 Defaults parameters'!$T$9:$Y$18,MATCH($A61&\" - \"&$E61,'6 Defaults parameters'!$B$9:$B$18,0),MATCH(AB$12,'6 Defaults parameters'!$T$8:$Y$8,0))","v":0},null,0,0,0,0,0,0,0,0,0,0,0,0,null,null,null,null,null,null,null,{"$f":"G61*SUMIFS('1A Input Base and BAU'!$D$74:$D$89,'1A Input Base and BAU'!$B$74:$B$89,'4A Calcul. BAU city'!$C61)","v":0},{"$f":"H61*SUMIFS('1A Input Base and BAU'!$D$74:$D$89,'1A Input Base and BAU'!$B$74:$B$89,'4A Calcul. BAU city'!$C61)","v":0},{"$f":"I61*SUMIFS('1A Input Base and BAU'!$D$74:$D$89,'1A Input Base and BAU'!$B$74:$B$89,'4A Calcul. BAU city'!$C61)","v":0},{"$f":"J61*SUMIFS('1A Input Base and BAU'!$D$74:$D$89,'1A Input Base and BAU'!$B$74:$B$89,'4A Calcul. BAU city'!$C61)","v":0},{"$f":"K61*SUMIFS('1A Input Base and BAU'!$D$74:$D$89,'1A Input Base and BAU'!$B$74:$B$89,'4A Calcul. BAU city'!$C61)","v":0},{"$f":"L61*SUMIFS('1A Input Base and BAU'!$D$74:$D$89,'1A Input Base and BAU'!$B$74:$B$89,'4A Calcul. BAU city'!$C61)","v":0}]
[{"$f":"Total","v":"Sum"},null,null,null,null,null,{"$f":"SUM(G13:G61)","v":0},{"$f":"SUM(H13:H61)","v":0},0,0,0,0,null,null,null,null,null,null,null,null,null,null,null,null,null,null,null,null,null,{"$f":"SUM(AD13:AD61)","v":0},0,0,0,0,0,0,0,0,0,0,0,null,{"$f":"SUM(AQ13:AQ61)","v":0},0,0,0,0,0,0,0,0,0,0,0]

{"sheet":"4B Calcul. Climat Scen.","index":7,"n_rows":430,"n_cols":48,"rows_kept":430,"cut":false,"hidden":false,"merged":[[63,13,63,18],[63,32,63,36],[63,26,63,30],[63,1,64,1],[63,2,64,2],[63,3,64,3],[63,4,64,4],[63,5,63,10],[63,20,63,24],[63,12,64,12],[121,37,121,41],[222,41,222,46],[123,2,123,6],[123,8,123,12],[123,14,123,18],[141,37,141,41],[222,12,223,12],[222,13,222,18],[222,5,222,10],[133,30,133,34],[133,37,133,41],[86,11,87,11],[86,30,86,34],[222,20,222,25],[113,2,113,6],[147,16,147,20],[133,2,134,2],[113,8,113,12],[133,9,133,13],[133,3,133,7],[133,16,133,20],[86,2,86,6],[113,24,113,28],[121,24,121,28],[133,24,133,28],[113,30,113,34],[121,30,121,34],[249,0,250,0],[311,3,312,3],[311,4,312,4],[311,26,311,31],[311,5,311,10],[311,12,311,17],[249,12,249,17],[249,1,250,1],[249,2,250,2],[249,3,250,3],[249,4,250,4],[249,5,249,10],[249,26,249,31],[311,33,311,38],[372,26,372,31],[372,33,372,38],[372,12,372,17],[372,19,372,24],[311,19,311,24],[372,1,373,1],[372,2,373,2],[372,3,373,3],[372,4,373,4],[372,5,372,10],[249,33,249,38],[222,1,223,1],[222,2,223,2],[222,3,223,3],[222,4,223,4],[222,34,222,39],[249,19,249,24],[222,27,222,32],[3,0,3,1],[9,40,9,45],[9,26,9,31],[9,33,9,38],[9,1,10,1],[9,2,10,2],[9,3,10,3],[9,4,10,4],[9,5,9,10],[9,12,9,17],[3,3,5,36],[9,19,9,24],[86,42,86,46],[86,36,86,40],[86,18,86,22],[86,24,86,28],[86,12,86,16],[35,29,35,33],[35,35,35,39],[35,23,35,27],[35,1,36,1],[35,2,36,2],[35,3,35,7],[35,10,35,15],[35,17,35,21]]}
[{"$f":"subsector","v":"Sub-sector"},{"$f":"all","v":"all"}]
[{"$f":"Candc","v":"Country and city"},{"$f":"'Get started'!C6","v":"xx"}]
[{"$f":"yearref","v":"Reference year"},{"$f":"'Get started'!C7","v":0},null,{"$f":"Text15","v":"3C Results in detail"}]
[null,null,null,{"$f":"Text16","v":"This tab shows for information the calculation path leading to the results. All results are calculated automatically and require no input.\nCharts are visible in tab 3. Overview of results"}]
[]
[]
[]
[null,null,null,null," "]
[{"$f":"Descri64","v":"BAU scenario per category"}]
[null,{"$f":"scenario","v":"Scenario"},{"$f":"Category","v":"Category"},{"$f":"Transporttype","v":"Transport type"},{"$f":"Fuel","v":"Fuel type"},{"$f":"vktMilkm","v":"Vkt [Mio. km]"},null,null,null,null,null,null,{"$f":"Occuprate","v":"occupancy [Person/vehicle]"},null,null,null,null,null,null,{"$f":"loadvehicle","v":"Load per vehicle [Tons/vehicle]"},null,null,null,null,null,null,"Million Pkm",null,null,null,null,null,null,"Million Tkm",null,null,null,null,null,null,{"$f":"TotalGHGTTW1000t","v":"Total emission CO2 eq [1000t] TTW"}]
[null,null,null,null,null,{"$f":"$B$3","v":0},2020,2025,2030,2040,2050,null,{"$f":"+$B$3","v":0},2020,2025,2030,2040,2050,null,{"$f":"$B$3","v":0},2020,2025,2030,2040,2050,null,{"$f":"$B$3","v":0},2020,2025,2030,2040,2050,null,{"$f":"$B$3","v":0},2020,2025,2030,2040,2050,null,{"$f":"$B$3","v":0},2020,2025,2030,2040,2050]
[null,{"$f":"BAU","v":"BAU"},{"$f":"NMT","v":"NMT"},{"$f":"Pass","v":"Passengers"},{"$f":"all","v":"all"},{"$f":"+SUMIFS('4A Calcul. BAU city'!G:G,'4A Calcul. BAU city'!$C:$C,$C12,'4A Calcul. BAU city'!$C:$C,'4B Calcul. Climat Scen.'!$D12)","v":0},{"$f":"+SUMIFS('4A Calcul. BAU city'!H:H,'4A Calcul. BAU city'!$B:$B,$C12,'4A Calcul. BAU city'!$D:$D,'4B Calcul. Climat Scen.'!$D12)","v":0},{"$f":"+SUMIFS('4A Calcul. BAU city'!I:I,'4A Calcul. BAU city'!$B:$B,$C12,'4A Calcul. BAU city'!$D:$D,'4B Calcul. Climat Scen.'!$D12)","v":0},{"$f":"+SUMIFS('4A Calcul. BAU city'!J:J,'4A Calcul. BAU city'!$B:$B,$C12,'4A Calcul. BAU city'!$D:$D,'4B Calcul. Climat Scen.'!$D12)","v":0},{"$f":"+SUMIFS('4A Calcul. BAU city'!K:K,'4A Calcul. BAU city'!$B:$B,$C12,'4A Calcul. BAU city'!$D:$D,'4B Calcul. Climat Scen.'!$D12)","v":0},{"$f":"+SUMIFS('4A Calcul. BAU city'!L:L,'4A Calcul. BAU city'!$B:$B,$C12,'4A Calcul. BAU city'!$D:$D,'4B Calcul. Climat Scen.'!$D12)","v":0},null,{"$f":"IFERROR(+SUMIF('4A Calcul. BAU city'!$C:$C,$C12,'4A Calcul. BAU city'!$AQ:$AQ)/SUMIF('4A Calcul. BAU city'!$C:$C,$C12,'4A Calcul. BAU city'!$G:$G),0)","v":0},{"$f":"IFERROR(+SUMIF('4A Calcul. BAU city'!$C:$C,$C12,'4A Calcul. BAU city'!$AQ:$AQ)/SUMIF('4A Calcul. BAU city'!$C:$C,$C12,'4A Calcul. BAU city'!$G:$G),0)","v":0},{"$f":"IFERROR(+SUMIF('4A Calcul. BAU city'!$C:$C,$C12,'4A Calcul. BAU city'!$AQ:$AQ)/SUMIF('4A Calcul. BAU city'!$C:$C,$C12,'4A Calcul. BAU city'!$G:$G),0)","v":0},{"$f":"IFERROR(+SUMIF('4A Calcul. BAU city'!$C:$C,$C12,'4A Calcul. BAU city'!$AQ:$AQ)/SUMIF('4A Calcul. BAU city'!$C:$C,$C12,'4A Calcul. BAU city'!$G:$G),0)","v":0},{"$f":"IFERROR(+SUMIF('4A Calcul. BAU city'!$C:$C,$C12,'4A Calcul. BAU city'!$AQ:$AQ)/SUMIF('4A Calcul. BAU city'!$C:$C,$C12,'4A Calcul. BAU city'!$G:$G),0)","v":0},{"$f":"IFERROR(+SUMIF('4A Calcul. BAU city'!$C:$C,$C12,'4A Calcul. BAU city'!$AQ:$AQ)/SUMIF('4A Calcul. BAU city'!$C:$C,$C12,'4A Calcul. BAU city'!$G:$G),0)","v":0},null,null,null,null,null,null,null,null,{"$f":"+SUMIFS('4A Calcul. BAU city'!AQ:AQ,'4A Calcul. BAU city'!$C:$C,$C12)","v":0},{"$f":"+SUMIFS('4A Calcul. BAU city'!AR:AR,'4A Calcul. BAU city'!$C:$C,$C12)","v":0},{"$f":"+SUMIFS('4A Calcul. BAU city'!AS:AS,'4A Calcul. BAU city'!$C:$C,$C12)","v":0},{"$f":"+SUMIFS('4A Calcul. BAU city'!AT:AT,'4A Calcul. BAU city'!$C:$C,$C12)","v":0},{"$f":"+SUMIFS('4A Calcul. BAU city'!AU:AU,'4A Calcul. BAU city'!$C:$C,$C12)","v":0},{"$f":"+SUMIFS('4A Calcul. BAU city'!AV:AV,'4A Calcul. BAU city'!$C:$C,$C12)","v":0},null,null,null,null,null,null,null,null,{"$f":"+SUMIFS('4A Calcul. BAU city'!AJ:AJ,'4A Calcul. BAU city'!$C:$C,$C12)","v":0},{"$f":"+SUMIFS('4A Calcul. BAU city'!AK:AK,'4A Calcul. BAU city'!$C:$C,$C12)","v":0},{"$f":"+SUMIFS('4A Calcul. BAU city'!AL:AL,'4A Calcul. BAU city'!$C:$C,$C12)","v":0},{"$f":"+SUMIFS('4A Calcul. BAU city'!AM:AM,'4A Calcul. BAU city'!$C:$C,$C12)","v":0},{"$f":"+SUMIFS('4A Calcul. BAU city'!AN:AN,'4A Calcul. BAU city'!$C:$C,$C12)","v":0},{"$f":"+SUMIFS('4A Calcul. BAU city'!AO:AO,'4A Calcul. BAU city'!$C:$C,$C12)","v":0}]
[null,"BAU",{"$f":"Pcar","v":"Private car"},"Passengers","all",{"$f":"+SUMIFS('4A Calcul. BAU city'!G:G,'4A Calcul. BAU city'!$C:$C,$C13)","v":0},{"$f":"+SUMIFS('4A Calcul. BAU city'!H:H,'4A Calcul. BAU city'!$C:$C,$C13)","v":0},{"$f":"+SUMIFS('4A Calcul. BAU city'!I:I,'4A Calcul. BAU city'!$C:$C,$C13)","v":0},{"$f":"+SUMIFS('4A Calcul. BAU city'!J:J,'4A Calcul. BAU city'!$C:$C,$C13)","v":0},{"$f":"+SUMIFS('4A Calcul. BAU city'!K:K,'4A Calcul. BAU city'!$C:$C,$C13)","v":0},{"$f":"+SUMIFS('4A Calcul. BAU city'!L:L,'4A Calcul. BAU city'!$C:$C,$C13)","v":0},null,{"$f":"IFERROR(+SUMIF('4A Calcul. BAU city'!$C:$C,$C13,'4A Calcul. BAU city'!$AQ:$AQ)/SUMIF('4A Calcul. BAU city'!$C:$C,$C13,'4A Calcul. BAU city'!$G:$G),0)","v":0},{"$f":"IFERROR(+SUMIF('4A Calcul. BAU city'!$C:$C,$C13,'4A Calcul. BAU city'!$AQ:$AQ)/SUMIF('4A Calcul. BAU city'!$C:$C,$C13,'4A Calcul. BAU city'!$G:$G),0)","v":0},{"$f":"IFERROR(+SUMIF('4A Calcul. BAU city'!$C:$C,$C13,'4A Calcul. BAU city'!$AQ:$AQ)/SUMIF('4A Calcul. BAU city'!$C:$C,$C13,'4A Calcul. BAU city'!$G:$G),0)","v":0},{"$f":"IFERROR(+SUMIF('4A Calcul. BAU city'!$C:$C,$C13,'4A Calcul. BAU city'!$AQ:$AQ)/SUMIF('4A Calcul. BAU city'!$C:$C,$C13,'4A Calcul. BAU city'!$G:$G),0)","v":0},{"$f":"IFERROR(+SUMIF('4A Calcul. BAU city'!$C:$C,$C13,'4A Calcul. BAU city'!$AQ:$AQ)/SUMIF('4A Calcul. BAU city'!$C:$C,$C13,'4A Calcul. BAU city'!$G:$G),0)","v":0},{"$f":"IFERROR(+SUMIF('4A Calcul. BAU city'!$C:$C,$C13,'4A Calcul. BAU city'!$AQ:$AQ)/SUMIF('4A Calcul. BAU city'!$C:$C,$C13,'4A Calcul. BAU city'!$G:$G),0)","v":0},null,null,null,null,null,null,null,null,{"$f":"+SUMIFS('4A Calcul. BAU city'!AQ:AQ,'4A Calcul. BAU city'!$C:$C,$C13)","v":0},{"$f":"+SUMIFS('4A Calcul. BAU city'!AR:AR,'4A Calcul. BAU city'!$C:$C,$C13)","v":0},{"$f":"+SUMIFS('4A Calcul. BAU city'!AS:AS,'4A Calcul. BAU city'!$C:$C,$C13)","v":0},{"$f":"+SUMIFS('4A Calcul. BAU city'!AT:AT,'4A Calcul. BAU city'!$C:$C,$C13)","v":0},{"$f":"+SUMIFS('4A Calcul. BAU city'!AU:AU,'4A Calcul. BAU city'!$C:$C,$C13)","v":0},{"$f":"+SUMIFS('4A Calcul. BAU city'!AV:AV,'4A Calcul. BAU city'!$C:$C,$C13)","v":0},null,null,null,null,null,null,null,null,{"$f":"+SUMIFS('4A Calcul. BAU city'!AJ:AJ,'4A Calcul. BAU city'!$C:$C,$C13)","v":0},{"$f":"+SUMIFS('4A Calcul. BAU city'!AK:AK,'4A Calcul. BAU city'!$C:$C,$C13)","v":0},{"$f":"+SUMIFS('4A Calcul. BAU city'!AL:AL,'4A Calcul. BAU city'!$C:$C,$C13)","v":0},{"$f":"+SUMIFS('4A Calcul. BAU city'!AM:AM,'4A Calcul. BAU city'!$C:$C,$C13)","v":0},{"$f":"+SUMIFS('4A Calcul. BAU city'!AN:AN,'4A Calcul. BAU city'!$C:$C,$C13)","v":0},{"$f":"+SUMIFS('4A Calcul. BAU city'!AO:AO,'4A Calcul. BAU city'!$C:$C,$C13)","v":0}]
[null,{"$f":"BAU","v":"BAU"},{"$f":"Itaxi","v":"Individual taxi"},"Passengers",{"$f":"all","v":"all"},{"$f":"+SUMIFS('4A Calcul. BAU city'!G:G,'4A Calcul. BAU city'!$C:$C,$C14)","v":0},{"$f":"+SUMIFS('4A Calcul. BAU city'!H:H,'4A Calcul. BAU city'!$C:$C,$C14)","v":0},{"$f":"+SUMIFS('4A Calcul. BAU city'!I:I,'4A Calcul. BAU city'!$C:$C,$C14)","v":0},{"$f":"+SUMIFS('4A Calcul. BAU city'!J:J,'4A Calcul. BAU city'!$C:$C,$C14)","v":0},{"$f":"+SUMIFS('4A Calcul. BAU city'!K:K,'4A Calcul. BAU city'!$C:$C,$C14)","v":0},{"$f":"+SUMIFS('4A Calcul. BAU city'!L:L,'4A Calcul. BAU city'!$C:$C,$C14)","v":0},null,{"$f":"IFERROR(+SUMIF('4A Calcul. BAU city'!$C:$C,$C14,'4A Calcul. BAU city'!$AQ:$AQ)/SUMIF('4A Calcul. BAU city'!$C:$C,$C14,'4A Calcul. BAU city'!$G:$G),0)","v":0},{"$f":"IFERROR(+SUMIF('4A Calcul. BAU city'!$C:$C,$C14,'4A Calcul. BAU city'!$AQ:$AQ)/SUMIF('4A Calcul. BAU city'!$C:$C,$C14,'4A Calcul. BAU city'!$G:$G),0)","v":0},{"$f":"IFERROR(+SUMIF('4A Calcul. BAU city'!$C:$C,$C14,'4A Calcul. BAU city'!$AQ:$AQ)/SUMIF('4A Calcul. BAU city'!$C:$C,$C14,'4A Calcul. BAU city'!$G:$G),0)","v":0},{"$f":"IFERROR(+SUMIF('4A Calcul. BAU city'!$C:$C,$C14,'4A Calcul. BAU city'!$AQ:$AQ)/SUMIF('4A Calcul. BAU city'!$C:$C,$C14,'4A Calcul. BAU city'!$G:$G),0)","v":0},{"$f":"IFERROR(+SUMIF('4A Calcul. BAU city'!$C:$C,$C14,'4A Calcul. BAU city'!$AQ:$AQ)/SUMIF('4A Calcul. BAU city'!$C:$C,$C14,'4A Calcul. BAU city'!$G:$G),0)","v":0},{"$f":"IFERROR(+SUMIF('4A Calcul. BAU city'!$C:$C,$C14,'4A Calcul. BAU city'!$AQ:$AQ)/SUMIF('4A Calcul. BAU city'!$C:$C,$C14,'4A Calcul. BAU city'!$G:$G),0)","v":0},null,null,null,null,null,null,null,null,{"$f":"+SUMIFS('4A Calcul. BAU city'!AQ:AQ,'4A Calcul. BAU city'!$C:$C,$C14)","v":0},{"$f":"+SUMIFS('4A Calcul. BAU city'!AR:AR,'4A Calcul. BAU city'!$C:$C,$C14)","v":0},{"$f":"+SUMIFS('4A Calcul. BAU city'!AS:AS,'4A Calcul. BAU city'!$C:$C,$C14)","v":0},{"$f":"+SUMIFS('4A Calcul. BAU city'!AT:AT,'4A Calcul. BAU city'!$C:$C,$C14)","v":0},{"$f":"+SUMIFS('4A Calcul. BAU city'!AU:AU,'4A Calcul. BAU city'!$C:$C,$C14)","v":0},{"$f":"+SUMIFS('4A Calcul. BAU city'!AV:AV,'4A Calcul. BAU city'!$C:$C,$C14)","v":0},null,null,null,null,null,null,null,null,{"$f":"+SUMIFS('4A Calcul. BAU city'!AJ:AJ,'4A Calcul. BAU city'!$C:$C,$C14)","v":0},{"$f":"+SUMIFS('4A Calcul. BAU city'!AK:AK,'4A Calcul. BAU city'!$C:$C,$C14)","v":0},{"$f":"+SUMIFS('4A Calcul. BAU city'!AL:AL,'4A Calcul. BAU city'!$C:$C,$C14)","v":0},{"$f":"+SUMIFS('4A Calcul. BAU city'!AM:AM,'4A Calcul. BAU city'!$C:$C,$C14)","v":0},{"$f":"+SUMIFS('4A Calcul. BAU city'!AN:AN,'4A Calcul. BAU city'!$C:$C,$C14)","v":0},{"$f":"+SUMIFS('4A Calcul. BAU city'!AO:AO,'4A Calcul. BAU city'!$C:$C,$C14)","v":0}]
[null,"BAU",{"$f":"Motorcycle","v":"Motorcycle"},"Passengers","all",{"$f":"+SUMIFS('4A Calcul. BAU city'!G:G,'4A Calcul. BAU city'!$C:$C,$C15)","v":0},{"$f":"+SUMIFS('4A Calcul. BAU city'!H:H,'4A Calcul. BAU city'!$C:$C,$C15)","v":0},{"$f":"+SUMIFS('4A Calcul. BAU city'!I:I,'4A Calcul. BAU city'!$C:$C,$C15)","v":0},{"$f":"+SUMIFS('4A Calcul. BAU city'!J:J,'4A Calcul. BAU city'!$C:$C,$C15)","v":0},{"$f":"+SUMIFS('4A Calcul. BAU city'!K:K,'4A Calcul. BAU city'!$C:$C,$C15)","v":0},{"$f":"+SUMIFS('4A Calcul. BAU city'!L:L,'4A Calcul. BAU city'!$C:$C,$C15)","v":0},null,{"$f":"IFERROR(+SUMIF('4A Calcul. BAU city'!$C:$C,$C15,'4A Calcul. BAU city'!$AQ:$AQ)/SUMIF('4A Calcul. BAU city'!$C:$C,$C15,'4A Calcul. BAU city'!$G:$G),0)","v":0},{"$f":"IFERROR(+SUMIF('4A Calcul. BAU city'!$C:$C,$C15,'4A Calcul. BAU city'!$AQ:$AQ)/SUMIF('4A Calcul. BAU city'!$C:$C,$C15,'4A Calcul. BAU city'!$G:$G),0)","v":0},{"$f":"IFERROR(+SUMIF('4A Calcul. BAU city'!$C:$C,$C15,'4A Calcul. BAU city'!$AQ:$AQ)/SUMIF('4A Calcul. BAU city'!$C:$C,$C15,'4A Calcul. BAU city'!$G:$G),0)","v":0},{"$f":"IFERROR(+SUMIF('4A Calcul. BAU city'!$C:$C,$C15,'4A Calcul. BAU city'!$AQ:$AQ)/SUMIF('4A Calcul. BAU city'!$C:$C,$C15,'4A Calcul. BAU city'!$G:$G),0)","v":0},{"$f":"IFERROR(+SUMIF('4A Calcul. BAU city'!$C:$C,$C15,'4A Calcul. BAU city'!$AQ:$AQ)/SUMIF('4A Calcul. BAU city'!$C:$C,$C15,'4A Calcul. BAU city'!$G:$G),0)","v":0},{"$f":"IFERROR(+SUMIF('4A Calcul. BAU city'!$C:$C,$C15,'4A Calcul. BAU city'!$AQ:$AQ)/SUMIF('4A Calcul. BAU city'!$C:$C,$C15,'4A Calcul. BAU city'!$G:$G),0)","v":0},null,null,null,null,null,null,null,null,{"$f":"+SUMIFS('4A Calcul. BAU city'!AQ:AQ,'4A Calcul. BAU city'!$C:$C,$C15)","v":0},{"$f":"+SUMIFS('4A Calcul. BAU city'!AR:AR,'4A Calcul. BAU city'!$C:$C,$C15)","v":0},{"$f":"+SUMIFS('4A Calcul. BAU city'!AS:AS,'4A Calcul. BAU city'!$C:$C,$C15)","v":0},{"$f":"+SUMIFS('4A Calcul. BAU city'!AT:AT,'4A Calcul. BAU city'!$C:$C,$C15)","v":0},{"$f":"+SUMIFS('4A Calcul. BAU city'!AU:AU,'4A Calcul. BAU city'!$C:$C,$C15)","v":0},{"$f":"+SUMIFS('4A Calcul. BAU city'!AV:AV,'4A Calcul. BAU city'!$C:$C,$C15)","v":0},null,null,null,null,null,null,null,null,{"$f":"+SUMIFS('4A Calcul. BAU city'!AJ:AJ,'4A Calcul. BAU city'!$C:$C,$C15)","v":0},{"$f":"+SUMIFS('4A Calcul. BAU city'!AK:AK,'4A Calcul. BAU city'!$C:$C,$C15)","v":0},{"$f":"+SUMIFS('4A Calcul. BAU city'!AL:AL,'4A Calcul. BAU city'!$C:$C,$C15)","v":0},{"$f":"+SUMIFS('4A Calcul. BAU city'!AM:AM,'4A Calcul. BAU city'!$C:$C,$C15)","v":0},{"$f":"+SUMIFS('4A Calcul. BAU city'!AN:AN,'4A Calcul. BAU city'!$C:$C,$C15)","v":0},{"$f":"+SUMIFS('4A Calcul. BAU city'!AO:AO,'4A Calcul. BAU city'!$C:$C,$C15)","v":0}]
[null,"BAU",{"$f":"Mototaxi","v":"Motorcycle taxi"},"Passengers","all",{"$f":"+SUMIFS('4A Calcul. BAU city'!G:G,'4A Calcul. BAU city'!$C:$C,$C16)","v":0},{"$f":"+SUMIFS('4A Calcul. BAU city'!H:H,'4A Calcul. BAU city'!$C:$C,$C16)","v":0},{"$f":"+SUMIFS('4A Calcul. BAU city'!I:I,'4A Calcul. BAU city'!$C:$C,$C16)","v":0},{"$f":"+SUMIFS('4A Calcul. BAU city'!J:J,'4A Calcul. BAU city'!$C:$C,$C16)","v":0},{"$f":"+SUMIFS('4A Calcul. BAU city'!K:K,'4A Calcul. BAU city'!$C:$C,$C16)","v":0},{"$f":"+SUMIFS('4A Calcul. BAU city'!L:L,'4A Calcul. BAU city'!$C:$C,$C16)","v":0},null,{"$f":"IFERROR(+SUMIF('4A Calcul. BAU city'!$C:$C,$C16,'4A Calcul. BAU city'!$AQ:$AQ)/SUMIF('4A Calcul. BAU city'!$C:$C,$C16,'4A Calcul. BAU city'!$G:$G),0)","v":0},{"$f":"IFERROR(+SUMIF('4A Calcul. BAU city'!$C:$C,$C16,'4A Calcul. BAU city'!$AQ:$AQ)/SUMIF('4A Calcul. BAU city'!$C:$C,$C16,'4A Calcul. BAU city'!$G:$G),0)","v":0},{"$f":"IFERROR(+SUMIF('4A Calcul. BAU city'!$C:$C,$C16,'4A Calcul. BAU city'!$AQ:$AQ)/SUMIF('4A Calcul. BAU city'!$C:$C,$C16,'4A Calcul. BAU city'!$G:$G),0)","v":0},{"$f":"IFERROR(+SUMIF('4A Calcul. BAU city'!$C:$C,$C16,'4A Calcul. BAU city'!$AQ:$AQ)/SUMIF('4A Calcul. BAU city'!$C:$C,$C16,'4A Calcul. BAU city'!$G:$G),0)","v":0},{"$f":"IFERROR(+SUMIF('4A Calcul. BAU city'!$C:$C,$C16,'4A Calcul. BAU city'!$AQ:$AQ)/SUMIF('4A Calcul. BAU city'!$C:$C,$C16,'4A Calcul. BAU city'!$G:$G),0)","v":0},{"$f":"IFERROR(+SUMIF('4A Calcul. BAU city'!$C:$C,$C16,'4A Calcul. BAU city'!$AQ:$AQ)/SUMIF('4A Calcul. BAU city'!$C:$C,$C16,'4A Calcul. BAU city'!$G:$G),0)","v":0},null,null,null,null,null,null,null,null,{"$f":"+SUMIFS('4A Calcul. BAU city'!AQ:AQ,'4A Calcul. BAU city'!$C:$C,$C16)","v":0},{"$f":"+SUMIFS('4A Calcul. BAU city'!AR:AR,'4A Calcul. BAU city'!$C:$C,$C16)","v":0},{"$f":"+SUMIFS('4A Calcul. BAU city'!AS:AS,'4A Calcul. BAU city'!$C:$C,$C16)","v":0},{"$f":"+SUMIFS('4A Calcul. BAU city'!AT:AT,'4A Calcul. BAU city'!$C:$C,$C16)","v":0},{"$f":"+SUMIFS('4A Calcul. BAU city'!AU:AU,'4A Calcul. BAU city'!$C:$C,$C16)","v":0},{"$f":"+SUMIFS('4A Calcul. BAU city'!AV:AV,'4A Calcul. BAU city'!$C:$C,$C16)","v":0},null,null,null,null,null,null,null,null,{"$f":"+SUMIFS('4A Calcul. BAU city'!AJ:AJ,'4A Calcul. BAU city'!$C:$C,$C16)","v":0},{"$f":"+SUMIFS('4A Calcul. BAU city'!AK:AK,'4A Calcul. BAU city'!$C:$C,$C16)","v":0},{"$f":"+SUMIFS('4A Calcul. BAU city'!AL:AL,'4A Calcul. BAU city'!$C:$C,$C16)","v":0},{"$f":"+SUMIFS('4A Calcul. BAU city'!AM:AM,'4A Calcul. BAU city'!$C:$C,$C16)","v":0},{"$f":"+SUMIFS('4A Calcul. BAU city'!AN:AN,'4A Calcul. BAU city'!$C:$C,$C16)","v":0},{"$f":"+SUMIFS('4A Calcul. BAU city'!AO:AO,'4A Calcul. BAU city'!$C:$C,$C16)","v":0}]
[null,"BAU",{"$f":"Minibus","v":"Minibus"},"Passengers","all",{"$f":"+SUMIFS('4A Calcul. BAU city'!G:G,'4A Calcul. BAU city'!$C:$C,$C17)","v":0},{"$f":"+SUMIFS('4A Calcul. BAU city'!H:H,'4A Calcul. BAU city'!$C:$C,$C17)","v":0},{"$f":"+SUMIFS('4A Calcul. BAU city'!I:I,'4A Calcul. BAU city'!$C:$C,$C17)","v":0},{"$f":"+SUMIFS('4A Calcul. BAU city'!J:J,'4A Calcul. BAU city'!$C:$C,$C17)","v":0},{"$f":"+SUMIFS('4A Calcul. BAU city'!K:K,'4A Calcul. BAU city'!$C:$C,$C17)","v":0},{"$f":"+SUMIFS('4A Calcul. BAU city'!L:L,'4A Calcul. BAU city'!$C:$C,$C17)","v":0},null,{"$f":"IFERROR(+SUMIF('4A Calcul. BAU city'!$C:$C,$C17,'4A Calcul. BAU city'!$AQ:$AQ)/SUMIF('4A Calcul. BAU city'!$C:$C,$C17,'4A Calcul. BAU city'!$G:$G),0)","v":0},{"$f":"IFERROR(+SUMIF('4A Calcul. BAU city'!$C:$C,$C17,'4A Calcul. BAU city'!$AQ:$AQ)/SUMIF('4A Calcul. BAU city'!$C:$C,$C17,'4A Calcul. BAU city'!$G:$G),0)","v":0},{"$f":"IFERROR(+SUMIF('4A Calcul. BAU city'!$C:$C,$C17,'4A Calcul. BAU city'!$AQ:$AQ)/SUMIF('4A Calcul. BAU city'!$C:$C,$C17,'4A Calcul. BAU city'!$G:$G),0)","v":0},{"$f":"IFERROR(+SUMIF('4A Calcul. BAU city'!$C:$C,$C17,'4A Calcul. BAU city'!$AQ:$AQ)/SUMIF('4A Calcul. BAU city'!$C:$C,$C17,'4A Calcul. BAU city'!$G:$G),0)","v":0},{"$f":"IFERROR(+SUMIF('4A Calcul. BAU city'!$C:$C,$C17,'4A Calcul. BAU city'!$AQ:$AQ)/SUMIF('4A Calcul. BAU city'!$C:$C,$C17,'4A Calcul. BAU city'!$G:$G),0)","v":0},{"$f":"IFERROR(+SUMIF('4A Calcul. BAU city'!$C:$C,$C17,'4A Calcul. BAU city'!$AQ:$AQ)/SUMIF('4A Calcul. BAU city'!$C:$C,$C17,'4A Calcul. BAU city'!$G:$G),0)","v":0},null,null,null,null,null,null,null,null,{"$f":"+SUMIFS('4A Calcul. BAU city'!AQ:AQ,'4A Calcul. BAU city'!$C:$C,$C17)","v":0},{"$f":"+SUMIFS('4A Calcul. BAU city'!AR:AR,'4A Calcul. BAU city'!$C:$C,$C17)","v":0},{"$f":"+SUMIFS('4A Calcul. BAU city'!AS:AS,'4A Calcul. BAU city'!$C:$C,$C17)","v":0},{"$f":"+SUMIFS('4A Calcul. BAU city'!AT:AT,'4A Calcul. BAU city'!$C:$C,$C17)","v":0},{"$f":"+SUMIFS('4A Calcul. BAU city'!AU:AU,'4A Calcul. BAU city'!$C:$C,$C17)","v":0},{"$f":"+SUMIFS('4A Calcul. BAU city'!AV:AV,'4A Calcul. BAU city'!$C:$C,$C17)","v":0},null,null,null,null,null,null,null,null,{"$f":"+SUMIFS('4A Calcul. BAU city'!AJ:AJ,'4A Calcul. BAU city'!$C:$C,$C17)","v":0},{"$f":"+SUMIFS('4A Calcul. BAU city'!AK:AK,'4A Calcul. BAU city'!$C:$C,$C17)","v":0},{"$f":"+SUMIFS('4A Calcul. BAU city'!AL:AL,'4A Calcul. BAU city'!$C:$C,$C17)","v":0},{"$f":"+SUMIFS('4A Calcul. BAU city'!AM:AM,'4A Calcul. BAU city'!$C:$C,$C17)","v":0},{"$f":"+SUMIFS('4A Calcul. BAU city'!AN:AN,'4A Calcul. BAU city'!$C:$C,$C17)","v":0},{"$f":"+SUMIFS('4A Calcul. BAU city'!AO:AO,'4A Calcul. BAU city'!$C:$C,$C17)","v":0}]
[null,"BAU",{"$f":"Bus","v":"Bus"},"Passengers","all",{"$f":"+SUMIFS('4A Calcul. BAU city'!G:G,'4A Calcul. BAU city'!$C:$C,$C18)","v":0},{"$f":"+SUMIFS('4A Calcul. BAU city'!H:H,'4A Calcul. BAU city'!$C:$C,$C18)","v":0},{"$f":"+SUMIFS('4A Calcul. BAU city'!I:I,'4A Calcul. BAU city'!$C:$C,$C18)","v":0},{"$f":"+SUMIFS('4A Calcul. BAU city'!J:J,'4A Calcul. BAU city'!$C:$C,$C18)","v":0},{"$f":"+SUMIFS('4A Calcul. BAU city'!K:K,'4A Calcul. BAU city'!$C:$C,$C18)","v":0},{"$f":"+SUMIFS('4A Calcul. BAU city'!L:L,'4A Calcul. BAU city'!$C:$C,$C18)","v":0},null,{"$f":"IFERROR(+SUMIF('4A Calcul. BAU city'!$C:$C,$C18,'4A Calcul. BAU city'!$AQ:$AQ)/SUMIF('4A Calcul. BAU city'!$C:$C,$C18,'4A Calcul. BAU city'!$G:$G),0)","v":0},{"$f":"IFERROR(+SUMIF('4A Calcul. BAU city'!$C:$C,$C18,'4A Calcul. BAU city'!$AQ:$AQ)/SUMIF('4A Calcul. BAU city'!$C:$C,$C18,'4A Calcul. BAU city'!$G:$G),0)","v":0},{"$f":"IFERROR(+SUMIF('4A Calcul. BAU city'!$C:$C,$C18,'4A Calcul. BAU city'!$AQ:$AQ)/SUMIF('4A Calcul. BAU city'!$C:$C,$C18,'4A Calcul. BAU city'!$G:$G),0)","v":0},{"$f":"IFERROR(+SUMIF('4A Calcul. BAU city'!$C:$C,$C18,'4A Calcul. BAU city'!$AQ:$AQ)/SUMIF('4A Calcul. BAU city'!$C:$C,$C18,'4A Calcul. BAU city'!$G:$G),0)","v":0},{"$f":"IFERROR(+SUMIF('4A Calcul. BAU city'!$C:$C,$C18,'4A Calcul. BAU city'!$AQ:$AQ)/SUMIF('4A Calcul. BAU city'!$C:$C,$C18,'4A Calcul. BAU city'!$G:$G),0)","v":0},{"$f":"IFERROR(+SUMIF('4A Calcul. BAU city'!$C:$C,$C18,'4A Calcul. BAU city'!$AQ:$AQ)/SUMIF('4A Calcul. BAU city'!$C:$C,$C18,'4A Calcul. BAU city'!$G:$G),0)","v":0},null,null,null,null,null,null,null,null,{"$f":"+SUMIFS('4A Calcul. BAU city'!AQ:AQ,'4A Calcul. BAU city'!$C:$C,$C18)","v":0},{"$f":"+SUMIFS('4A Calcul. BAU city'!AR:AR,'4A Calcul. BAU city'!$C:$C,$C18)","v":0},{"$f":"+SUMIFS('4A Calcul. BAU city'!AS:AS,'4A Calcul. BAU city'!$C:$C,$C18)","v":0},{"$f":"+SUMIFS('4A Calcul. BAU city'!AT:AT,'4A Calcul. BAU city'!$C:$C,$C18)","v":0},{"$f":"+SUMIFS('4A Calcul. BAU city'!AU:AU,'4A Calcul. BAU city'!$C:$C,$C18)","v":0},{"$f":"+SUMIFS('4A Calcul. BAU city'!AV:AV,'4A Calcul. BAU city'!$C:$C,$C18)","v":0},null,null,null,null,null,null,null,null,{"$f":"+SUMIFS('4A Calcul. BAU city'!AJ:AJ,'4A Calcul. BAU city'!$C:$C,$C18)","v":0},{"$f":"+SUMIFS('4A Calcul. BAU city'!AK:AK,'4A Calcul. BAU city'!$C:$C,$C18)","v":0},{"$f":"+SUMIFS('4A Calcul. BAU city'!AL:AL,'4A Calcul. BAU city'!$C:$C,$C18)","v":0},{"$f":"+SUMIFS('4A Calcul. BAU city'!AM:AM,'4A Calcul. BAU city'!$C:$C,$C18)","v":0},{"$f":"+SUMIFS('4A Calcul. BAU city'!AN:AN,'4A Calcul. BAU city'!$C:$C,$C18)","v":0},{"$f":"+SUMIFS('4A Calcul. BAU city'!AO:AO,'4A Calcul. BAU city'!$C:$C,$C18)","v":0}]
[null,"BAU",{"$f":"BRT","v":"BRT"},"Passengers","all",{"$f":"+SUMIFS('4A Calcul. BAU city'!G:G,'4A Calcul. BAU city'!$C:$C,$C19)","v":0},{"$f":"+SUMIFS('4A Calcul. BAU city'!H:H,'4A Calcul. BAU city'!$C:$C,$C19)","v":0},{"$f":"+SUMIFS('4A Calcul. BAU city'!I:I,'4A Calcul. BAU city'!$C:$C,$C19)","v":0},{"$f":"+SUMIFS('4A Calcul. BAU city'!J:J,'4A Calcul. BAU city'!$C:$C,$C19)","v":0},{"$f":"+SUMIFS('4A Calcul. BAU city'!K:K,'4A Calcul. BAU city'!$C:$C,$C19)","v":0},{"$f":"+SUMIFS('4A Calcul. BAU city'!L:L,'4A Calcul. BAU city'!$C:$C,$C19)","v":0},null,{"$f":"IFERROR(+SUMIF('4A Calcul. BAU city'!$C:$C,$C19,'4A Calcul. BAU city'!$AQ:$AQ)/SUMIF('4A Calcul. BAU city'!$C:$C,$C19,'4A Calcul. BAU city'!$G:$G),0)","v":0},{"$f":"IFERROR(+SUMIF('4A Calcul. BAU city'!$C:$C,$C19,'4A Calcul. BAU city'!$AQ:$AQ)/SUMIF('4A Calcul. BAU city'!$C:$C,$C19,'4A Calcul. BAU city'!$G:$G),0)","v":0},{"$f":"IFERROR(+SUMIF('4A Calcul. BAU city'!$C:$C,$C19,'4A Calcul. BAU city'!$AQ:$AQ)/SUMIF('4A Calcul. BAU city'!$C:$C,$C19,'4A Calcul. BAU city'!$G:$G),0)","v":0},{"$f":"IFERROR(+SUMIF('4A Calcul. BAU city'!$C:$C,$C19,'4A Calcul. BAU city'!$AQ:$AQ)/SUMIF('4A Calcul. BAU city'!$C:$C,$C19,'4A Calcul. BAU city'!$G:$G),0)","v":0},{"$f":"IFERROR(+SUMIF('4A Calcul. BAU city'!$C:$C,$C19,'4A Calcul. BAU city'!$AQ:$AQ)/SUMIF('4A Calcul. BAU city'!$C:$C,$C19,'4A Calcul. BAU city'!$G:$G),0)","v":0},{"$f":"IFERROR(+SUMIF('4A Calcul. BAU city'!$C:$C,$C19,'4A Calcul. BAU city'!$AQ:$AQ)/SUMIF('4A Calcul. BAU city'!$C:$C,$C19,'4A Calcul. BAU city'!$G:$G),0)","v":0},null,null,null,null,null,null,null,null,{"$f":"+SUMIFS('4A Calcul. BAU city'!AQ:AQ,'4A Calcul. BAU city'!$C:$C,$C19)","v":0},{"$f":"+SUMIFS('4A Calcul. BAU city'!AR:AR,'4A Calcul. BAU city'!$C:$C,$C19)","v":0},{"$f":"+SUMIFS('4A Calcul. BAU city'!AS:AS,'4A Calcul. BAU city'!$C:$C,$C19)","v":0},{"$f":"+SUMIFS('4A Calcul. BAU city'!AT:AT,'4A Calcul. BAU city'!$C:$C,$C19)","v":0},{"$f":"+SUMIFS('4A Calcul. BAU city'!AU:AU,'4A Calcul. BAU city'!$C:$C,$C19)","v":0},{"$f":"+SUMIFS('4A Calcul. BAU city'!AV:AV,'4A Calcul. BAU city'!$C:$C,$C19)","v":0},null,null,null,null,null,null,null,null,{"$f":"+SUMIFS('4A Calcul. BAU city'!AJ:AJ,'4A Calcul. BAU city'!$C:$C,$C19)","v":0},{"$f":"+SUMIFS('4A Calcul. BAU city'!AK:AK,'4A Calcul. BAU city'!$C:$C,$C19)","v":0},{"$f":"+SUMIFS('4A Calcul. BAU city'!AL:AL,'4A Calcul. BAU city'!$C:$C,$C19)","v":0},{"$f":"+SUMIFS('4A Calcul. BAU city'!AM:AM,'4A Calcul. BAU city'!$C:$C,$C19)","v":0},{"$f":"+SUMIFS('4A Calcul. BAU city'!AN:AN,'4A Calcul. BAU city'!$C:$C,$C19)","v":0},{"$f":"+SUMIFS('4A Calcul. BAU city'!AO:AO,'4A Calcul. BAU city'!$C:$C,$C19)","v":0}]
[null,"BAU",{"$f":"Train","v":"Long distance train"},"Passengers","all",{"$f":"+SUMIFS('4A Calcul. BAU city'!G:G,'4A Calcul. BAU city'!$C:$C,$C20)","v":0},{"$f":"+SUMIFS('4A Calcul. BAU city'!H:H,'4A Calcul. BAU city'!$C:$C,$C20)","v":0},{"$f":"+SUMIFS('4A Calcul. BAU city'!I:I,'4A Calcul. BAU city'!$C:$C,$C20)","v":0},{"$f":"+SUMIFS('4A Calcul. BAU city'!J:J,'4A Calcul. BAU city'!$C:$C,$C20)","v":0},{"$f":"+SUMIFS('4A Calcul. BAU city'!K:K,'4A Calcul. BAU city'!$C:$C,$C20)","v":0},{"$f":"+SUMIFS('4A Calcul. BAU city'!L:L,'4A Calcul. BAU city'!$C:$C,$C20)","v":0},null,{"$f":"IFERROR(+SUMIF('4A Calcul. BAU city'!$C:$C,$C20,'4A Calcul. BAU city'!$AQ:$AQ)/SUMIF('4A Calcul. BAU city'!$C:$C,$C20,'4A Calcul. BAU city'!$G:$G),0)","v":0},{"$f":"IFERROR(+SUMIF('4A Calcul. BAU city'!$C:$C,$C20,'4A Calcul. BAU city'!$AQ:$AQ)/SUMIF('4A Calcul. BAU city'!$C:$C,$C20,'4A Calcul. BAU city'!$G:$G),0)","v":0},{"$f":"IFERROR(+SUMIF('4A Calcul. BAU city'!$C:$C,$C20,'4A Calcul. BAU city'!$AQ:$AQ)/SUMIF('4A Calcul. BAU city'!$C:$C,$C20,'4A Calcul. BAU city'!$G:$G),0)","v":0},{"$f":"IFERROR(+SUMIF('4A Calcul. BAU city'!$C:$C,$C20,'4A Calcul. BAU city'!$AQ:$AQ)/SUMIF('4A Calcul. BAU city'!$C:$C,$C20,'4A Calcul. BAU city'!$G:$G),0)","v":0},{"$f":"IFERROR(+SUMIF('4A Calcul. BAU city'!$C:$C,$C20,'4A Calcul. BAU city'!$AQ:$AQ)/SUMIF('4A Calcul. BAU city'!$C:$C,$C20,'4A Calcul. BAU city'!$G:$G),0)","v":0},{"$f":"IFERROR(+SUMIF('4A Calcul. BAU city'!$C:$C,$C20,'4A Calcul. BAU city'!$AQ:$AQ)/SUMIF('4A Calcul. BAU city'!$C:$C,$C20,'4A Calcul. BAU city'!$G:$G),0)","v":0},null,null,null,null,null,null,null,null,{"$f":"+SUMIFS('4A Calcul. BAU city'!AQ:AQ,'4A Calcul. BAU city'!$C:$C,$C20)","v":0},{"$f":"+SUMIFS('4A Calcul. BAU city'!AR:AR,'4A Calcul. BAU city'!$C:$C,$C20)","v":0},{"$f":"+SUMIFS('4A Calcul. BAU city'!AS:AS,'4A Calcul. BAU city'!$C:$C,$C20)","v":0},{"$f":"+SUMIFS('4A Calcul. BAU city'!AT:AT,'4A Calcul. BAU city'!$C:$C,$C20)","v":0},{"$f":"+SUMIFS('4A Calcul. BAU city'!AU:AU,'4A Calcul. BAU city'!$C:$C,$C20)","v":0},{"$f":"+SUMIFS('4A Calcul. BAU city'!AV:AV,'4A Calcul. BAU city'!$C:$C,$C20)","v":0},null,null,null,null,null,null,null,null,{"$f":"+SUMIFS('4A Calcul. BAU city'!AJ:AJ,'4A Calcul. BAU city'!$C:$C,$C20)","v":0},{"$f":"+SUMIFS('4A Calcul. BAU city'!AK:AK,'4A Calcul. BAU city'!$C:$C,$C20)","v":0},{"$f":"+SUMIFS('4A Calcul. BAU city'!AL:AL,'4A Calcul. BAU city'!$C:$C,$C20)","v":0},{"$f":"+SUMIFS('4A Calcul. BAU city'!AM:AM,'4A Calcul. BAU city'!$C:$C,$C20)","v":0},{"$f":"+SUMIFS('4A Calcul. BAU city'!AN:AN,'4A Calcul. BAU city'!$C:$C,$C20)","v":0},{"$f":"+SUMIFS('4A Calcul. BAU city'!AO:AO,'4A Calcul. BAU city'!$C:$C,$C20)","v":0}]
[null,"BAU",{"$f":"Utrain","v":"Urban train"},"Passengers","all",{"$f":"+SUMIFS('4A Calcul. BAU city'!G:G,'4A Calcul. BAU city'!$C:$C,$C21)","v":0},{"$f":"+SUMIFS('4A Calcul. BAU city'!H:H,'4A Calcul. BAU city'!$C:$C,$C21)","v":0},{"$f":"+SUMIFS('4A Calcul. BAU city'!I:I,'4A Calcul. BAU city'!$C:$C,$C21)","v":0},{"$f":"+SUMIFS('4A Calcul. BAU city'!J:J,'4A Calcul. BAU city'!$C:$C,$C21)","v":0},{"$f":"+SUMIFS('4A Calcul. BAU city'!K:K,'4A Calcul. BAU city'!$C:$C,$C21)","v":0},{"$f":"+SUMIFS('4A Calcul. BAU city'!L:L,'4A Calcul. BAU city'!$C:$C,$C21)","v":0},null,{"$f":"IFERROR(+SUMIF('4A Calcul. BAU city'!$C:$C,$C21,'4A Calcul. BAU city'!$AQ:$AQ)/SUMIF('4A Calcul. BAU city'!$C:$C,$C21,'4A Calcul. BAU city'!$G:$G),0)","v":0},{"$f":"IFERROR(+SUMIF('4A Calcul. BAU city'!$C:$C,$C21,'4A Calcul. BAU city'!$AQ:$AQ)/SUMIF('4A Calcul. BAU city'!$C:$C,$C21,'4A Calcul. BAU city'!$G:$G),0)","v":0},{"$f":"IFERROR(+SUMIF('4A Calcul. BAU city'!$C:$C,$C21,'4A Calcul. BAU city'!$AQ:$AQ)/SUMIF('4A Calcul. BAU city'!$C:$C,$C21,'4A Calcul. BAU city'!$G:$G),0)","v":0},{"$f":"IFERROR(+SUMIF('4A Calcul. BAU city'!$C:$C,$C21,'4A Calcul. BAU city'!$AQ:$AQ)/SUMIF('4A Calcul. BAU city'!$C:$C,$C21,'4A Calcul. BAU city'!$G:$G),0)","v":0},{"$f":"IFERROR(+SUMIF('4A Calcul. BAU city'!$C:$C,$C21,'4A Calcul. BAU city'!$AQ:$AQ)/SUMIF('4A Calcul. BAU city'!$C:$C,$C21,'4A Calcul. BAU city'!$G:$G),0)","v":0},{"$f":"IFERROR(+SUMIF('4A Calcul. BAU city'!$C:$C,$C21,'4A Calcul. BAU city'!$AQ:$AQ)/SUMIF('4A Calcul. BAU city'!$C:$C,$C21,'4A Calcul. BAU city'!$G:$G),0)","v":0},null,null,null,null,null,null,null,null,{"$f":"+SUMIFS('4A Calcul. BAU city'!AQ:AQ,'4A Calcul. BAU city'!$C:$C,$C21)","v":0},{"$f":"+SUMIFS('4A Calcul. BAU city'!AR:AR,'4A Calcul. BAU city'!$C:$C,$C21)","v":0},{"$f":"+SUMIFS('4A Calcul. BAU city'!AS:AS,'4A Calcul. BAU city'!$C:$C,$C21)","v":0},{"$f":"+SUMIFS('4A Calcul. BAU city'!AT:AT,'4A Calcul. BAU city'!$C:$C,$C21)","v":0},{"$f":"+SUMIFS('4A Calcul. BAU city'!AU:AU,'4A Calcul. BAU city'!$C:$C,$C21)","v":0},{"$f":"+SUMIFS('4A Calcul. BAU city'!AV:AV,'4A Calcul. BAU city'!$C:$C,$C21)","v":0},null,null,null,null,null,null,null,null,{"$f":"+SUMIFS('4A Calcul. BAU city'!AJ:AJ,'4A Calcul. BAU city'!$C:$C,$C21)","v":0},{"$f":"+SUMIFS('4A Calcul. BAU city'!AK:AK,'4A Calcul. BAU city'!$C:$C,$C21)","v":0},{"$f":"+SUMIFS('4A Calcul. BAU city'!AL:AL,'4A Calcul. BAU city'!$C:$C,$C21)","v":0},{"$f":"+SUMIFS('4A Calcul. BAU city'!AM:AM,'4A Calcul. BAU city'!$C:$C,$C21)","v":0},{"$f":"+SUMIFS('4A Calcul. BAU city'!AN:AN,'4A Calcul. BAU city'!$C:$C,$C21)","v":0},{"$f":"+SUMIFS('4A Calcul. BAU city'!AO:AO,'4A Calcul. BAU city'!$C:$C,$C21)","v":0}]
[null,"BAU",{"$f":"Metro","v":"Metro"},"Passengers","all",{"$f":"+SUMIFS('4A Calcul. BAU city'!G:G,'4A Calcul. BAU city'!$C:$C,$C22)","v":0},{"$f":"+SUMIFS('4A Calcul. BAU city'!H:H,'4A Calcul. BAU city'!$C:$C,$C22)","v":0},{"$f":"+SUMIFS('4A Calcul. BAU city'!I:I,'4A Calcul. BAU city'!$C:$C,$C22)","v":0},{"$f":"+SUMIFS('4A Calcul. BAU city'!J:J,'4A Calcul. BAU city'!$C:$C,$C22)","v":0},{"$f":"+SUMIFS('4A Calcul. BAU city'!K:K,'4A Calcul. BAU city'!$C:$C,$C22)","v":0},{"$f":"+SUMIFS('4A Calcul. BAU city'!L:L,'4A Calcul. BAU city'!$C:$C,$C22)","v":0},null,{"$f":"IFERROR(+SUMIF('4A Calcul. BAU city'!$C:$C,$C22,'4A Calcul. BAU city'!$AQ:$AQ)/SUMIF('4A Calcul. BAU city'!$C:$C,$C22,'4A Calcul. BAU city'!$G:$G),0)","v":0},{"$f":"IFERROR(+SUMIF('4A Calcul. BAU city'!$C:$C,$C22,'4A Calcul. BAU city'!$AQ:$AQ)/SUMIF('4A Calcul. BAU city'!$C:$C,$C22,'4A Calcul. BAU city'!$G:$G),0)","v":0},{"$f":"IFERROR(+SUMIF('4A Calcul. BAU city'!$C:$C,$C22,'4A Calcul. BAU city'!$AQ:$AQ)/SUMIF('4A Calcul. BAU city'!$C:$C,$C22,'4A Calcul. BAU city'!$G:$G),0)","v":0},{"$f":"IFERROR(+SUMIF('4A Calcul. BAU city'!$C:$C,$C22,'4A Calcul. BAU city'!$AQ:$AQ)/SUMIF('4A Calcul. BAU city'!$C:$C,$C22,'4A Calcul. BAU city'!$G:$G),0)","v":0},{"$f":"IFERROR(+SUMIF('4A Calcul. BAU city'!$C:$C,$C22,'4A Calcul. BAU city'!$AQ:$AQ)/SUMIF('4A Calcul. BAU city'!$C:$C,$C22,'4A Calcul. BAU city'!$G:$G),0)","v":0},{"$f":"IFERROR(+SUMIF('4A Calcul. BAU city'!$C:$C,$C22,'4A Calcul. BAU city'!$AQ:$AQ)/SUMIF('4A Calcul. BAU city'!$C:$C,$C22,'4A Calcul. BAU city'!$G:$G),0)","v":0},null,null,null,null,null,null,null,null,{"$f":"+SUMIFS('4A Calcul. BAU city'!AQ:AQ,'4A Calcul. BAU city'!$C:$C,$C22)","v":0},{"$f":"+SUMIFS('4A Calcul. BAU city'!AR:AR,'4A Calcul. BAU city'!$C:$C,$C22)","v":0},{"$f":"+SUMIFS('4A Calcul. BAU city'!AS:AS,'4A Calcul. BAU city'!$C:$C,$C22)","v":0},{"$f":"+SUMIFS('4A Calcul. BAU city'!AT:AT,'4A Calcul. BAU city'!$C:$C,$C22)","v":0},{"$f":"+SUMIFS('4A Calcul. BAU city'!AU:AU,'4A Calcul. BAU city'!$C:$C,$C22)","v":0},{"$f":"+SUMIFS('4A Calcul. BAU city'!AV:AV,'4A Calcul. BAU city'!$C:$C,$C22)","v":0},null,null,null,null,null,null,null,null,{"$f":"+SUMIFS('4A Calcul. BAU city'!AJ:AJ,'4A Calcul. BAU city'!$C:$C,$C22)","v":0},{"$f":"+SUMIFS('4A Calcul. BAU city'!AK:AK,'4A Calcul. BAU city'!$C:$C,$C22)","v":0},{"$f":"+SUMIFS('4A Calcul. BAU city'!AL:AL,'4A Calcul. BAU city'!$C:$C,$C22)","v":0},{"$f":"+SUMIFS('4A Calcul. BAU city'!AM:AM,'4A Calcul. BAU city'!$C:$C,$C22)","v":0},{"$f":"+SUMIFS('4A Calcul. BAU city'!AN:AN,'4A Calcul. BAU city'!$C:$C,$C22)","v":0},{"$f":"+SUMIFS('4A Calcul. BAU city'!AO:AO,'4A Calcul. BAU city'!$C:$C,$C22)","v":0}]
[null,"BAU",{"$f":"lightLCV","v":"Very light LCV"},{"$f":"goods","v":"Freight"},"all",{"$f":"+SUMIFS('4A Calcul. BAU city'!G:G,'4A Calcul. BAU city'!$C:$C,$C23)","v":0},{"$f":"+SUMIFS('4A Calcul. BAU city'!H:H,'4A Calcul. BAU city'!$C:$C,$C23)","v":0},{"$f":"+SUMIFS('4A Calcul. BAU city'!I:I,'4A Calcul. BAU city'!$C:$C,$C23)","v":0},{"$f":"+SUMIFS('4A Calcul. BAU city'!J:J,'4A Calcul. BAU city'!$C:$C,$C23)","v":0},{"$f":"+SUMIFS('4A Calcul. BAU city'!K:K,'4A Calcul. BAU city'!$C:$C,$C23)","v":0},{"$f":"+SUMIFS('4A Calcul. BAU city'!L:L,'4A Calcul. BAU city'!$C:$C,$C23)","v":0},null,null,null,null,null,null,null,null,{"$f":"IFERROR(+SUMIF('4A Calcul. BAU city'!$C:$C,$C23,'4A Calcul. BAU city'!$AW:$AW)/+SUMIF('4A Calcul. BAU city'!$C:$C,$C23,'4A Calcul. BAU city'!$G:$G),0)","v":0},{"$f":"IFERROR(+SUMIF('4A Calcul. BAU city'!$C:$C,$C23,'4A Calcul. BAU city'!$AW:$AW)/+SUMIF('4A Calcul. BAU city'!$C:$C,$C23,'4A Calcul. BAU city'!$G:$G),0)","v":0},{"$f":"IFERROR(+SUMIF('4A Calcul. BAU city'!$C:$C,$C23,'4A Calcul. BAU city'!$AW:$AW)/+SUMIF('4A Calcul. BAU city'!$C:$C,$C23,'4A Calcul. BAU city'!$G:$G),0)","v":0},{"$f":"IFERROR(+SUMIF('4A Calcul. BAU city'!$C:$C,$C23,'4A Calcul. BAU city'!$AW:$AW)/+SUMIF('4A Calcul. BAU city'!$C:$C,$C23,'4A Calcul. BAU city'!$G:$G),0)","v":0},{"$f":"IFERROR(+SUMIF('4A Calcul. BAU city'!$C:$C,$C23,'4A Calcul. BAU city'!$AW:$AW)/+SUMIF('4A Calcul. BAU city'!$C:$C,$C23,'4A Calcul. BAU city'!$G:$G),0)","v":0},{"$f":"IFERROR(+SUMIF('4A Calcul. BAU city'!$C:$C,$C23,'4A Calcul. BAU city'!$AW:$AW)/+SUMIF('4A Calcul. BAU city'!$C:$C,$C23,'4A Calcul. BAU city'!$G:$G),0)","v":0},null,null,null,null,null,null,null,null,{"$f":"+SUMIFS('4A Calcul. BAU city'!AW:AW,'4A Calcul. BAU city'!$C:$C,$C23)","v":0},{"$f":"+SUMIFS('4A Calcul. BAU city'!AX:AX,'4A Calcul. BAU city'!$C:$C,$C23)","v":0},{"$f":"+SUMIFS('4A Calcul. BAU city'!AY:AY,'4A Calcul. BAU city'!$C:$C,$C23)","v":0},{"$f":"+SUMIFS('4A Calcul. BAU city'!AZ:AZ,'4A Calcul. BAU city'!$C:$C,$C23)","v":0},{"$f":"+SUMIFS('4A Calcul. BAU city'!BA:BA,'4A Calcul. BAU city'!$C:$C,$C23)","v":0},{"$f":"+SUMIFS('4A Calcul. BAU city'!BB:BB,'4A Calcul. BAU city'!$C:$C,$C23)","v":0},null,{"$f":"+SUMIFS('4A Calcul. BAU city'!AJ:AJ,'4A Calcul. BAU city'!$C:$C,$C23)","v":0},{"$f":"+SUMIFS('4A Calcul. BAU city'!AK:AK,'4A Calcul. BAU city'!$C:$C,$C23)","v":0},{"$f":"+SUMIFS('4A Calcul. BAU city'!AL:AL,'4A Calcul. BAU city'!$C:$C,$C23)","v":0},{"$f":"+SUMIFS('4A Calcul. BAU city'!AM:AM,'4A Calcul. BAU city'!$C:$C,$C23)","v":0},{"$f":"+SUMIFS('4A Calcul. BAU city'!AN:AN,'4A Calcul. BAU city'!$C:$C,$C23)","v":0},{"$f":"+SUMIFS('4A Calcul. BAU city'!AO:AO,'4A Calcul. BAU city'!$C:$C,$C23)","v":0}]
[null,"BAU",{"$f":"LCV","v":"LCV"},{"$f":"goods","v":"Freight"},"all",{"$f":"+SUMIFS('4A Calcul. BAU city'!G:G,'4A Calcul. BAU city'!$C:$C,$C24)","v":0},{"$f":"+SUMIFS('4A Calcul. BAU city'!H:H,'4A Calcul. BAU city'!$C:$C,$C24)","v":0},{"$f":"+SUMIFS('4A Calcul. BAU city'!I:I,'4A Calcul. BAU city'!$C:$C,$C24)","v":0},{"$f":"+SUMIFS('4A Calcul. BAU city'!J:J,'4A Calcul. BAU city'!$C:$C,$C24)","v":0},{"$f":"+SUMIFS('4A Calcul. BAU city'!K:K,'4A Calcul. BAU city'!$C:$C,$C24)","v":0},{"$f":"+SUMIFS('4A Calcul. BAU city'!L:L,'4A Calcul. BAU city'!$C:$C,$C24)","v":0},null,null,null,null,null,null,null,null,{"$f":"IFERROR(+SUMIF('4A Calcul. BAU city'!$C:$C,$C24,'4A Calcul. BAU city'!$AW:$AW)/+SUMIF('4A Calcul. BAU city'!$C:$C,$C24,'4A Calcul. BAU city'!$G:$G),0)","v":0},{"$f":"IFERROR(+SUMIF('4A Calcul. BAU city'!$C:$C,$C24,'4A Calcul. BAU city'!$AW:$AW)/+SUMIF('4A Calcul. BAU city'!$C:$C,$C24,'4A Calcul. BAU city'!$G:$G),0)","v":0},{"$f":"IFERROR(+SUMIF('4A Calcul. BAU city'!$C:$C,$C24,'4A Calcul. BAU city'!$AW:$AW)/+SUMIF('4A Calcul. BAU city'!$C:$C,$C24,'4A Calcul. BAU city'!$G:$G),0)","v":0},{"$f":"IFERROR(+SUMIF('4A Calcul. BAU city'!$C:$C,$C24,'4A Calcul. BAU city'!$AW:$AW)/+SUMIF('4A Calcul. BAU city'!$C:$C,$C24,'4A Calcul. BAU city'!$G:$G),0)","v":0},{"$f":"IFERROR(+SUMIF('4A Calcul. BAU city'!$C:$C,$C24,'4A Calcul. BAU city'!$AW:$AW)/+SUMIF('4A Calcul. BAU city'!$C:$C,$C24,'4A Calcul. BAU city'!$G:$G),0)","v":0},{"$f":"IFERROR(+SUMIF('4A Calcul. BAU city'!$C:$C,$C24,'4A Calcul. BAU city'!$AW:$AW)/+SUMIF('4A Calcul. BAU city'!$C:$C,$C24,'4A Calcul. BAU city'!$G:$G),0)","v":0},null,null,null,null,null,null,null,null,{"$f":"+SUMIFS('4A Calcul. BAU city'!AW:AW,'4A Calcul. BAU city'!$C:$C,$C24)","v":0},{"$f":"+SUMIFS('4A Calcul. BAU city'!AX:AX,'4A Calcul. BAU city'!$C:$C,$C24)","v":0},{"$f":"+SUMIFS('4A Calcul. BAU city'!AY:AY,'4A Calcul. BAU city'!$C:$C,$C24)","v":0},{"$f":"+SUMIFS('4A Calcul. BAU city'!AZ:AZ,'4A Calcul. BAU city'!$C:$C,$C24)","v":0},{"$f":"+SUMIFS('4A Calcul. BAU city'!BA:BA,'4A Calcul. BAU city'!$C:$C,$C24)","v":0},{"$f":"+SUMIFS('4A Calcul. BAU city'!BB:BB,'4A Calcul. BAU city'!$C:$C,$C24)","v":0},null,{"$f":"+SUMIFS('4A Calcul. BAU city'!AJ:AJ,'4A Calcul. BAU city'!$C:$C,$C24)","v":0},{"$f":"+SUMIFS('4A Calcul. BAU city'!AK:AK,'4A Calcul. BAU city'!$C:$C,$C24)","v":0},{"$f":"+SUMIFS('4A Calcul. BAU city'!AL:AL,'4A Calcul. BAU city'!$C:$C,$C24)","v":0},{"$f":"+SUMIFS('4A Calcul. BAU city'!AM:AM,'4A Calcul. BAU city'!$C:$C,$C24)","v":0},{"$f":"+SUMIFS('4A Calcul. BAU city'!AN:AN,'4A Calcul. BAU city'!$C:$C,$C24)","v":0},{"$f":"+SUMIFS('4A Calcul. BAU city'!AO:AO,'4A Calcul. BAU city'!$C:$C,$C24)","v":0}]
[null,"BAU",{"$f":"Solo","v":"Solo truck"},{"$f":"goods","v":"Freight"},"all",{"$f":"+SUMIFS('4A Calcul. BAU city'!G:G,'4A Calcul. BAU city'!$C:$C,$C25)","v":0},{"$f":"+SUMIFS('4A Calcul. BAU city'!H:H,'4A Calcul. BAU city'!$C:$C,$C25)","v":0},{"$f":"+SUMIFS('4A Calcul. BAU city'!I:I,'4A Calcul. BAU city'!$C:$C,$C25)","v":0},{"$f":"+SUMIFS('4A Calcul. BAU city'!J:J,'4A Calcul. BAU city'!$C:$C,$C25)","v":0},{"$f":"+SUMIFS('4A Calcul. BAU city'!K:K,'4A Calcul. BAU city'!$C:$C,$C25)","v":0},{"$f":"+SUMIFS('4A Calcul. BAU city'!L:L,'4A Calcul. BAU city'!$C:$C,$C25)","v":0},null,null,null,null,null,null,null,null,{"$f":"IFERROR(+SUMIF('4A Calcul. BAU city'!$C:$C,$C25,'4A Calcul. BAU city'!$AW:$AW)/+SUMIF('4A Calcul. BAU city'!$C:$C,$C25,'4A Calcul. BAU city'!$G:$G),0)","v":0},{"$f":"IFERROR(+SUMIF('4A Calcul. BAU city'!$C:$C,$C25,'4A Calcul. BAU city'!$AW:$AW)/+SUMIF('4A Calcul. BAU city'!$C:$C,$C25,'4A Calcul. BAU city'!$G:$G),0)","v":0},{"$f":"IFERROR(+SUMIF('4A Calcul. BAU city'!$C:$C,$C25,'4A Calcul. BAU city'!$AW:$AW)/+SUMIF('4A Calcul. BAU city'!$C:$C,$C25,'4A Calcul. BAU city'!$G:$G),0)","v":0},{"$f":"IFERROR(+SUMIF('4A Calcul. BAU city'!$C:$C,$C25,'4A Calcul. BAU city'!$AW:$AW)/+SUMIF('4A Calcul. BAU city'!$C:$C,$C25,'4A Calcul. BAU city'!$G:$G),0)","v":0},{"$f":"IFERROR(+SUMIF('4A Calcul. BAU city'!$C:$C,$C25,'4A Calcul. BAU city'!$AW:$AW)/+SUMIF('4A Calcul. BAU city'!$C:$C,$C25,'4A Calcul. BAU city'!$G:$G),0)","v":0},{"$f":"IFERROR(+SUMIF('4A Calcul. BAU city'!$C:$C,$C25,'4A Calcul. BAU city'!$AW:$AW)/+SUMIF('4A Calcul. BAU city'!$C:$C,$C25,'4A Calcul. BAU city'!$G:$G),0)","v":0},null,null,null,null,null,null,null,null,{"$f":"+SUMIFS('4A Calcul. BAU city'!AW:AW,'4A Calcul. BAU city'!$C:$C,$C25)","v":0},{"$f":"+SUMIFS('4A Calcul. BAU city'!AX:AX,'4A Calcul. BAU city'!$C:$C,$C25)","v":0},{"$f":"+SUMIFS('4A Calcul. BAU city'!AY:AY,'4A Calcul. BAU city'!$C:$C,$C25)","v":0},{"$f":"+SUMIFS('4A Calcul. BAU city'!AZ:AZ,'4A Calcul. BAU city'!$C:$C,$C25)","v":0},{"$f":"+SUMIFS('4A Calcul. BAU city'!BA:BA,'4A Calcul. BAU city'!$C:$C,$C25)","v":0},{"$f":"+SUMIFS('4A Calcul. BAU city'!BB:BB,'4A Calcul. BAU city'!$C:$C,$C25)","v":0},null,{"$f":"+SUMIFS('4A Calcul. BAU city'!AJ:AJ,'4A Calcul. BAU city'!$C:$C,$C25)","v":0},{"$f":"+SUMIFS('4A Calcul. BAU city'!AK:AK,'4A Calcul. BAU city'!$C:$C,$C25)","v":0},{"$f":"+SUMIFS('4A Calcul. BAU city'!AL:AL,'4A Calcul. BAU city'!$C:$C,$C25)","v":0},{"$f":"+SUMIFS('4A Calcul. BAU city'!AM:AM,'4A Calcul. BAU city'!$C:$C,$C25)","v":0},{"$f":"+SUMIFS('4A Calcul. BAU city'!AN:AN,'4A Calcul. BAU city'!$C:$C,$C25)","v":0},{"$f":"+SUMIFS('4A Calcul. BAU city'!AO:AO,'4A Calcul. BAU city'!$C:$C,$C25)","v":0}]
[null,"BAU",{"$f":"Atruck","v":"Articulated truck"},{"$f":"goods","v":"Freight"},"all",{"$f":"+SUMIFS('4A Calcul. BAU city'!G:G,'4A Calcul. BAU city'!$C:$C,$C26)","v":0},{"$f":"+SUMIFS('4A Calcul. BAU city'!H:H,'4A Calcul. BAU city'!$C:$C,$C26)","v":0},{"$f":"+SUMIFS('4A Calcul. BAU city'!I:I,'4A Calcul. BAU city'!$C:$C,$C26)","v":0},{"$f":"+SUMIFS('4A Calcul. BAU city'!J:J,'4A Calcul. BAU city'!$C:$C,$C26)","v":0},{"$f":"+SUMIFS('4A Calcul. BAU city'!K:K,'4A Calcul. BAU city'!$C:$C,$C26)","v":0},{"$f":"+SUMIFS('4A Calcul. BAU city'!L:L,'4A Calcul. BAU city'!$C:$C,$C26)","v":0},null,null,null,null,null,null,null,null,{"$f":"IFERROR(+SUMIF('4A Calcul. BAU city'!$C:$C,$C26,'4A Calcul. BAU city'!$AW:$AW)/+SUMIF('4A Calcul. BAU city'!$C:$C,$C26,'4A Calcul. BAU city'!$G:$G),0)","v":0},{"$f":"IFERROR(+SUMIF('4A Calcul. BAU city'!$C:$C,$C26,'4A Calcul. BAU city'!$AW:$AW)/+SUMIF('4A Calcul. BAU city'!$C:$C,$C26,'4A Calcul. BAU city'!$G:$G),0)","v":0},{"$f":"IFERROR(+SUMIF('4A Calcul. BAU city'!$C:$C,$C26,'4A Calcul. BAU city'!$AW:$AW)/+SUMIF('4A Calcul. BAU city'!$C:$C,$C26,'4A Calcul. BAU city'!$G:$G),0)","v":0},{"$f":"IFERROR(+SUMIF('4A Calcul. BAU city'!$C:$C,$C26,'4A Calcul. BAU city'!$AW:$AW)/+SUMIF('4A Calcul. BAU city'!$C:$C,$C26,'4A Calcul. BAU city'!$G:$G),0)","v":0},{"$f":"IFERROR(+SUMIF('4A Calcul. BAU city'!$C:$C,$C26,'4A Calcul. BAU city'!$AW:$AW)/+SUMIF('4A Calcul. BAU city'!$C:$C,$C26,'4A Calcul. BAU city'!$G:$G),0)","v":0},{"$f":"IFERROR(+SUMIF('4A Calcul. BAU city'!$C:$C,$C26,'4A Calcul. BAU city'!$AW:$AW)/+SUMIF('4A Calcul. BAU city'!$C:$C,$C26,'4A Calcul. BAU city'!$G:$G),0)","v":0},null,null,null,null,null,null,null,null,{"$f":"+SUMIFS('4A Calcul. BAU city'!AW:AW,'4A Calcul. BAU city'!$C:$C,$C26)","v":0},{"$f":"+SUMIFS('4A Calcul. BAU city'!AX:AX,'4A Calcul. BAU city'!$C:$C,$C26)","v":0},{"$f":"+SUMIFS('4A Calcul. BAU city'!AY:AY,'4A Calcul. BAU city'!$C:$C,$C26)","v":0},{"$f":"+SUMIFS('4A Calcul. BAU city'!AZ:AZ,'4A Calcul. BAU city'!$C:$C,$C26)","v":0},{"$f":"+SUMIFS('4A Calcul. BAU city'!BA:BA,'4A Calcul. BAU city'!$C:$C,$C26)","v":0},{"$f":"+SUMIFS('4A Calcul. BAU city'!BB:BB,'4A Calcul. BAU city'!$C:$C,$C26)","v":0},null,{"$f":"+SUMIFS('4A Calcul. BAU city'!AJ:AJ,'4A Calcul. BAU city'!$C:$C,$C26)","v":0},{"$f":"+SUMIFS('4A Calcul. BAU city'!AK:AK,'4A Calcul. BAU city'!$C:$C,$C26)","v":0},{"$f":"+SUMIFS('4A Calcul. BAU city'!AL:AL,'4A Calcul. BAU city'!$C:$C,$C26)","v":0},{"$f":"+SUMIFS('4A Calcul. BAU city'!AM:AM,'4A Calcul. BAU city'!$C:$C,$C26)","v":0},{"$f":"+SUMIFS('4A Calcul. BAU city'!AN:AN,'4A Calcul. BAU city'!$C:$C,$C26)","v":0},{"$f":"+SUMIFS('4A Calcul. BAU city'!AO:AO,'4A Calcul. BAU city'!$C:$C,$C26)","v":0}]
[null,"BAU",{"$f":"Ftrain","v":"Freight train"},{"$f":"goods","v":"Freight"},"all",{"$f":"+SUMIFS('4A Calcul. BAU city'!G:G,'4A Calcul. BAU city'!$C:$C,$C27)","v":0},{"$f":"+SUMIFS('4A Calcul. BAU city'!H:H,'4A Calcul. BAU city'!$C:$C,$C27)","v":0},{"$f":"+SUMIFS('4A Calcul. BAU city'!I:I,'4A Calcul. BAU city'!$C:$C,$C27)","v":0},{"$f":"+SUMIFS('4A Calcul. BAU city'!J:J,'4A Calcul. BAU city'!$C:$C,$C27)","v":0},{"$f":"+SUMIFS('4A Calcul. BAU city'!K:K,'4A Calcul. BAU city'!$C:$C,$C27)","v":0},{"$f":"+SUMIFS('4A Calcul. BAU city'!L:L,'4A Calcul. BAU city'!$C:$C,$C27)","v":0},null,null,null,null,null,null,null,null,{"$f":"IFERROR(+SUMIF('4A Calcul. BAU city'!$C:$C,$C27,'4A Calcul. BAU city'!$AW:$AW)/+SUMIF('4A Calcul. BAU city'!$C:$C,$C27,'4A Calcul. BAU city'!$G:$G),0)","v":0},{"$f":"IFERROR(+SUMIF('4A Calcul. BAU city'!$C:$C,$C27,'4A Calcul. BAU city'!$AW:$AW)/+SUMIF('4A Calcul. BAU city'!$C:$C,$C27,'4A Calcul. BAU city'!$G:$G),0)","v":0},{"$f":"IFERROR(+SUMIF('4A Calcul. BAU city'!$C:$C,$C27,'4A Calcul. BAU city'!$AW:$AW)/+SUMIF('4A Calcul. BAU city'!$C:$C,$C27,'4A Calcul. BAU city'!$G:$G),0)","v":0},{"$f":"IFERROR(+SUMIF('4A Calcul. BAU city'!$C:$C,$C27,'4A Calcul. BAU city'!$AW:$AW)/+SUMIF('4A Calcul. BAU city'!$C:$C,$C27,'4A Calcul. BAU city'!$G:$G),0)","v":0},{"$f":"IFERROR(+SUMIF('4A Calcul. BAU city'!$C:$C,$C27,'4A Calcul. BAU city'!$AW:$AW)/+SUMIF('4A Calcul. BAU city'!$C:$C,$C27,'4A Calcul. BAU city'!$G:$G),0)","v":0},{"$f":"IFERROR(+SUMIF('4A Calcul. BAU city'!$C:$C,$C27,'4A Calcul. BAU city'!$AW:$AW)/+SUMIF('4A Calcul. BAU city'!$C:$C,$C27,'4A Calcul. BAU city'!$G:$G),0)","v":0},null,null,null,null,null,null,null,null,{"$f":"+SUMIFS('4A Calcul. BAU city'!AW:AW,'4A Calcul. BAU city'!$C:$C,$C27)","v":0},{"$f":"+SUMIFS('4A Calcul. BAU city'!AX:AX,'4A Calcul. BAU city'!$C:$C,$C27)","v":0},{"$f":"+SUMIFS('4A Calcul. BAU city'!AY:AY,'4A Calcul. BAU city'!$C:$C,$C27)","v":0},{"$f":"+SUMIFS('4A Calcul. BAU city'!AZ:AZ,'4A Calcul. BAU city'!$C:$C,$C27)","v":0},{"$f":"+SUMIFS('4A Calcul. BAU city'!BA:BA,'4A Calcul. BAU city'!$C:$C,$C27)","v":0},{"$f":"+SUMIFS('4A Calcul. BAU city'!BB:BB,'4A Calcul. BAU city'!$C:$C,$C27)","v":0},null,{"$f":"+SUMIFS('4A Calcul. BAU city'!AJ:AJ,'4A Calcul. BAU city'!$C:$C,$C27)","v":0},{"$f":"+SUMIFS('4A Calcul. BAU city'!AK:AK,'4A Calcul. BAU city'!$C:$C,$C27)","v":0},{"$f":"+SUMIFS('4A Calcul. BAU city'!AL:AL,'4A Calcul. BAU city'!$C:$C,$C27)","v":0},{"$f":"+SUMIFS('4A Calcul. BAU city'!AM:AM,'4A Calcul. BAU city'!$C:$C,$C27)","v":0},{"$f":"+SUMIFS('4A Calcul. BAU city'!AN:AN,'4A Calcul. BAU city'!$C:$C,$C27)","v":0},{"$f":"+SUMIFS('4A Calcul. BAU city'!AO:AO,'4A Calcul. BAU city'!$C:$C,$C27)","v":0}]
[]
[null,"BAU",{"$f":"totalindividualtransport","v":"Total individual transport"},{"$f":"Pass","v":"Passengers"},"all",{"$f":"+SUM(F13:F16)","v":0},{"$f":"+SUM(G13:G16)","v":0},0,0,0,0,null,null,null,null,null,null,null,null,null,null,null,null,null,null,null,{"$f":"+SUM(AA13:AA16)","v":0},{"$f":"+SUM(AB13:AB16)","v":0},0,0,0,0,null,null,null,null,null,null,null,null,{"$f":"+SUM(AO13:AO16)","v":0},{"$f":"+SUM(AP13:AP16)","v":0},0,0,0,0]
[null,"BAU",{"$f":"totalpublictransport","v":"Total public transport"},{"$f":"Pass","v":"Passengers"},"all",{"$f":"SUM(F17:F22)","v":0},{"$f":"SUM(G17:G22)","v":0},0,0,0,0,null,null,null,null,null,null,null,null,null,null,null,null,null,null,null,{"$f":"SUM(AA17:AA22)","v":0},{"$f":"SUM(AB17:AB22)","v":0},0,0,0,0,null,null,null,null,null,null,null,null,{"$f":"SUM(AO17:AO22)","v":0},{"$f":"SUM(AP17:AP22)","v":0},0,0,0,0]
[null,{"$f":"BAU","v":"BAU"},"Passenger transport",{"$f":"Pass","v":"Passengers"},{"$f":"all","v":"all"},{"$f":"SUMIF($D12:$D27,$D31,F$12:F$27)","v":0},{"$f":"SUMIF($D12:$D27,$D31,G$12:G$27)","v":0},0,0,0,0,null,null,null,null,null,null,null,null,null,null,null,null,null,null,null,{"$f":"SUMIF($D12:$D27,$D31,AA$12:AA$27)","v":0},{"$f":"SUMIF($D12:$D27,$D31,AB$12:AB$27)","v":0},0,0,0,0,null,null,null,null,null,null,null,null,{"$f":"SUMIF($D12:$D27,$D31,AO$12:AO$27)","v":0},{"$f":"SUMIF($D12:$D27,$D31,AP$12:AP$27)","v":0},0,0,0,0]
[null,{"$f":"BAU","v":"BAU"},{"$f":"Freighttrans","v":"Freight transportation"},{"$f":"freight","v":"Freight"},{"$f":"all","v":"all"},{"$f":"SUMIF($D12:$D28,$D32,F$12:F$27)","v":0},{"$f":"SUMIF($D12:$D28,$D32,G$12:G$27)","v":0},0,0,0,0,null,null,null,null,null,null,null,null,null,null,null,null,null,null,null,null,null,null,null,null,null,null,{"$f":"SUMIF($D12:$D27,$D32,AH$12:AH$27)","v":0},{"$f":"SUMIF($D12:$D27,$D32,AI$12:AI$27)","v":0},0,0,0,0,null,{"$f":"SUMIF($D12:$D28,$D32,AO$12:AO$27)","v":0},{"$f":"SUMIF($D12:$D28,$D32,AP$12:AP$27)","v":0},0,0,0,0]
[null,{"$f":"BAU","v":"BAU"},{"$f":"all","v":"all"},{"$f":"all","v":"all"},{"$f":"all","v":"all"},{"$f":"SUM(F31+F32)","v":0},{"$f":"SUM(G31+G32)","v":0},0,0,0,{"$f":"SUM(K31+K32)","v":0},null,null,null,null,null,null,null,null,null,null,null,null,null,null,null,{"$f":"SUM(AA31)","v":0},{"$f":"SUM(AB31)","v":0},0,0,0,0,null,null,null,null,null,null,null,null,{"$f":"SUM(AO31+AO32)","v":0},{"$f":"SUM(AP31+AP32)","v":0},0,0,0,0]
[]
[null,null,null,null,null,null,null,null,null,null,null,null,null,null,null,null,null,"Jx=Jx-1 nach 3)"]
["Base for calculation of 1)",{"$f":"scenario","v":"Scenario"},{"$f":"Subcategory","v":"Subcategory"},{"$f":"Inmile","v":"Increase in vkt in the period [Mio km]"},null,null,null,null,null,null,{"$f":"vktMilkm","v":"Vkt [Mio. km]"},null,null,null,null,null,null,{"$f":"Occuprate","v":"occupancy [Person/vehicle]"},null,null,null,null,null,{"$f":"loadvehicle","v":"Load per vehicle [Tons/vehicle]"},null,null,null,null,null,"Million Pkm",null,null,null,null,null,"Million Tkm"]
["Y1= Y0 nach 3) + %growth BAU",null,null,{"$f":"+'1A Input Base and BAU'!F28","v":"0-2020"},{"$f":"+'1A Input Base and BAU'!G28","v":"2020-2025"},{"$f":"+'1A Input Base and BAU'!H28","v":"2025-2030"},{"$f":"+'1A Input Base and BAU'!I28","v":"2030-2040"},{"$f":"+'1A Input Base and BAU'!J28","v":"2040-2050"},null,{"$f":"Base","v":"base"},{"$f":"$B$3","v":0},2020,2025,2030,2040,2050,null,2020,2025,2030,2040,2050,null,2020,2025,2030,2040,2050,null,2020,2025,2030,2040,2050,null,2020,2025,2030,2040,2050]
[null,{"$f":"BAU","v":"BAU"},{"$f":"NMT","v":"NMT"},{"$f":"SUMIF('4A Calcul. BAU city'!$C$13:$C$61,'4B Calcul. Climat Scen.'!$C38,'4A Calcul. BAU city'!H$13:H$61)-SUMIF('4A Calcul. BAU city'!$C$13:$C$61,'4B Calcul. Climat Scen.'!$C38,'4A Calcul. BAU city'!G$13:G$61)","v":0},{"$f":"SUMIF('4A Calcul. BAU city'!$C$13:$C$61,'4B Calcul. Climat Scen.'!$C38,'4A Calcul. BAU city'!I$13:I$61)-SUMIF('4A Calcul. BAU city'!$C$13:$C$61,'4B Calcul. Climat Scen.'!$C38,'4A Calcul. BAU city'!H$13:H$61)","v":0},{"$f":"SUMIF('4A Calcul. BAU city'!$C$13:$C$61,'4B Calcul. Climat Scen.'!$C38,'4A Calcul. BAU city'!J$13:J$61)-SUMIF('4A Calcul. BAU city'!$C$13:$C$61,'4B Calcul. Climat Scen.'!$C38,'4A Calcul. BAU city'!I$13:I$61)","v":0},{"$f":"SUMIF('4A Calcul. BAU city'!$C$13:$C$61,'4B Calcul. Climat Scen.'!$C38,'4A Calcul. BAU city'!K$13:K$61)-SUMIF('4A Calcul. BAU city'!$C$13:$C$61,'4B Calcul. Climat Scen.'!$C38,'4A Calcul. BAU city'!J$13:J$61)","v":0},{"$f":"SUMIF('4A Calcul. BAU city'!$C$13:$C$61,'4B Calcul. Climat Scen.'!$C38,'4A Calcul. BAU city'!L$13:L$61)-SUMIF('4A Calcul. BAU city'!$C$13:$C$61,'4B Calcul. Climat Scen.'!$C38,'4A Calcul. BAU city'!K$13:K$61)","v":0},null,{"$f":"NMT","v":"NMT"},{"$f":"SUMIF($C$12:$C$33,$J38,$F$12:$F$33)","v":0},{"$f":"IF('2A Input Climat Scen. Pass.'!J19=\"\",SUMIF($C$225:$C$240,$J38,AI$225:AI$240)+SUMIF($C$38:$C$53,$J38,D$38:D$53),'2A Input Climat Scen. Pass.'!J19)","v":0},{"$f":"IF('2A Input Climat Scen. Pass.'!K19=\"\",SUMIF($C$225:$C$240,$J38,AJ$225:AJ$240)+SUMIF($C$38:$C$53,$J38,E$38:E$53),'2A Input Climat Scen. Pass.'!K19)","v":0},{"$f":"IF('2A Input Climat Scen. Pass.'!L19=\"\",SUMIF($C$225:$C$240,$J38,AK$225:AK$240)+SUMIF($C$38:$C$53,$J38,F$38:F$53),'2A Input Climat Scen. Pass.'!L19)","v":0},{"$f":"IF('2A Input Climat Scen. Pass.'!M19=\"\",SUMIF($C$225:$C$240,$J38,AL$225:AL$240)+SUMIF($C$38:$C$53,$J38,G$38:G$53),'2A Input Climat Scen. Pass.'!M19)","v":0},{"$f":"IF('2A Input Climat Scen. Pass.'!N19=\"\",SUMIF($C$225:$C$240,$J38,AM$225:AM$240)+SUMIF($C$38:$C$53,$J38,H$38:H$53),'2A Input Climat Scen. Pass.'!N19)","v":0},null,{"$f":"SUMIF($C$225:$C$240,$J38,U$225:U$235)","v":0},{"$f":"SUMIF($C$225:$C$240,$J38,V$225:V$235)","v":1},{"$f":"SUMIF($C$225:$C$240,$J38,W$225:W$235)","v":1},{"$f":"SUMIF($C$225:$C$240,$J38,X$225:X$235)","v":1},{"$f":"SUMIF($C$225:$C$240,$J38,Y$225:Y$235)","v":1},null,null,null,null,null,null,null,{"$f":"L38*R38","v":0},{"$f":"M38*S38","v":0},{"$f":"N38*T38","v":0},{"$f":"O38*U38","v":0},{"$f":"P38*V38","v":0}]
[null,"BAU",{"$f":"Pcar","v":"Private car"},{"$f":"SUMIF('4A Calcul. BAU city'!$C$13:$C$61,'4B Calcul. Climat Scen.'!$C39,'4A Calcul. BAU city'!H$13:H$61)-SUMIF('4A Calcul. BAU city'!$C$13:$C$61,'4B Calcul. Climat Scen.'!$C39,'4A Calcul. BAU city'!G$13:G$61)","v":0},{"$f":"SUMIF('4A Calcul. BAU city'!$C$13:$C$61,'4B Calcul. Climat Scen.'!$C39,'4A Calcul. BAU city'!I$13:I$61)-SUMIF('4A Calcul. BAU city'!$C$13:$C$61,'4B Calcul. Climat Scen.'!$C39,'4A Calcul. BAU city'!H$13:H$61)","v":0},{"$f":"SUMIF('4A Calcul. BAU city'!$C$13:$C$61,'4B Calcul. Climat Scen.'!$C39,'4A Calcul. BAU city'!J$13:J$61)-SUMIF('4A Calcul. BAU city'!$C$13:$C$61,'4B Calcul. Climat Scen.'!$C39,'4A Calcul. BAU city'!I$13:I$61)","v":0},{"$f":"SUMIF('4A Calcul. BAU city'!$C$13:$C$61,'4B Calcul. Climat Scen.'!$C39,'4A Calcul. BAU city'!K$13:K$61)-SUMIF('4A Calcul. BAU city'!$C$13:$C$61,'4B Calcul. Climat Scen.'!$C39,'4A Calcul. BAU city'!J$13:J$61)","v":0},{"$f":"SUMIF('4A Calcul. BAU city'!$C$13:$C$61,'4B Calcul. Climat Scen.'!$C39,'4A Calcul. BAU city'!L$13:L$61)-SUMIF('4A Calcul. BAU city'!$C$13:$C$61,'4B Calcul. Climat Scen.'!$C39,'4A Calcul. BAU city'!K$13:K$61)","v":0},null,{"$f":"Pcar","v":"Private car"},{"$f":"SUMIF($C$12:$C$33,$J39,$F$12:$F$33)","v":0},{"$f":"IF('2A Input Climat Scen. Pass.'!J20=\"\",SUMIF($C$225:$C$240,$J39,AI$225:AI$240)+SUMIF($C$38:$C$53,$J39,D$38:D$53),'2A Input Climat Scen. Pass.'!J20)","v":0},{"$f":"IF('2A Input Climat Scen. Pass.'!K20=\"\",SUMIF($C$225:$C$240,$J39,AJ$225:AJ$240)+SUMIF($C$38:$C$53,$J39,E$38:E$53),'2A Input Climat Scen. Pass.'!K20)","v":0},{"$f":"IF('2A Input Climat Scen. Pass.'!L20=\"\",SUMIF($C$225:$C$240,$J39,AK$225:AK$240)+SUMIF($C$38:$C$53,$J39,F$38:F$53),'2A Input Climat Scen. Pass.'!L20)","v":0},{"$f":"IF('2A Input Climat Scen. Pass.'!M20=\"\",SUMIF($C$225:$C$240,$J39,AL$225:AL$240)+SUMIF($C$38:$C$53,$J39,G$38:G$53),'2A Input Climat Scen. Pass.'!M20)","v":0},{"$f":"IF('2A Input Climat Scen. Pass.'!N20=\"\",SUMIF($C$225:$C$240,$J39,AM$225:AM$240)+SUMIF($C$38:$C$53,$J39,H$38:H$53),'2A Input Climat Scen. Pass.'!N20)","v":0},null,0,0,0,0,0,null,null,null,null,null,null,null,{"$f":"L39*R39","v":0},0,0,0,0]
[null,"BAU",{"$f":"Itaxi","v":"Individual taxi"},{"$f":"SUMIF('4A Calcul. BAU city'!$C$13:$C$61,'4B Calcul. Climat Scen.'!$C40,'4A Calcul. BAU city'!H$13:H$61)-SUMIF('4A Calcul. BAU city'!$C$13:$C$61,'4B Calcul. Climat Scen.'!$C40,'4A Calcul. BAU city'!G$13:G$61)","v":0},{"$f":"SUMIF('4A Calcul. BAU city'!$C$13:$C$61,'4B Calcul. Climat Scen.'!$C40,'4A Calcul. BAU city'!I$13:I$61)-SUMIF('4A Calcul. BAU city'!$C$13:$C$61,'4B Calcul. Climat Scen.'!$C40,'4A Calcul. BAU city'!H$13:H$61)","v":0},{"$f":"SUMIF('4A Calcul. BAU city'!$C$13:$C$61,'4B Calcul. Climat Scen.'!$C40,'4A Calcul. BAU city'!J$13:J$61)-SUMIF('4A Calcul. BAU city'!$C$13:$C$61,'4B Calcul. Climat Scen.'!$C40,'4A Calcul. BAU city'!I$13:I$61)","v":0},{"$f":"SUMIF('4A Calcul. BAU city'!$C$13:$C$61,'4B Calcul. Climat Scen.'!$C40,'4A Calcul. BAU city'!K$13:K$61)-SUMIF('4A Calcul. BAU city'!$C$13:$C$61,'4B Calcul. Climat Scen.'!$C40,'4A Calcul. BAU city'!J$13:J$61)","v":0},{"$f":"SUMIF('4A Calcul. BAU city'!$C$13:$C$61,'4B Calcul. Climat Scen.'!$C40,'4A Calcul. BAU city'!L$13:L$61)-SUMIF('4A Calcul. BAU city'!$C$13:$C$61,'4B Calcul. Climat Scen.'!$C40,'4A Calcul. BAU city'!K$13:K$61)","v":0},null,{"$f":"Itaxi","v":"Individual taxi"},0,{"$f":"IF('2A Input Climat Scen. Pass.'!J21=\"\",SUMIF($C$225:$C$240,$J40,AI$225:AI$240)+SUMIF($C$38:$C$53,$J40,D$38:D$53),'2A Input Climat Scen. Pass.'!J21)","v":0},{"$f":"IF('2A Input Climat Scen. Pass.'!K21=\"\",SUMIF($C$225:$C$240,$J40,AJ$225:AJ$240)+SUMIF($C$38:$C$53,$J40,E$38:E$53),'2A Input Climat Scen. Pass.'!K21)","v":0},{"$f":"IF('2A Input Climat Scen. Pass.'!L21=\"\",SUMIF($C$225:$C$240,$J40,AK$225:AK$240)+SUMIF($C$38:$C$53,$J40,F$38:F$53),'2A Input Climat Scen. Pass.'!L21)","v":0},{"$f":"IF('2A Input Climat Scen. Pass.'!M21=\"\",SUMIF($C$225:$C$240,$J40,AL$225:AL$240)+SUMIF($C$38:$C$53,$J40,G$38:G$53),'2A Input Climat Scen. Pass.'!M21)","v":0},{"$f":"IF('2A Input Climat Scen. Pass.'!N21=\"\",SUMIF($C$225:$C$240,$J40,AM$225:AM$240)+SUMIF($C$38:$C$53,$J40,H$38:H$53),'2A Input Climat Scen. Pass.'!N21)","v":0},null,0,0,0,0,0,null,null,null,null,null,null,null,0,0,0,0,0]
[null,"BAU",{"$f":"Motorcycle","v":"Motorcycle"},{"$f":"SUMIF('4A Calcul. BAU city'!$C$13:$C$61,'4B Calcul. Climat Scen.'!$C41,'4A Calcul. BAU city'!H$13:H$61)-SUMIF('4A Calcul. BAU city'!$C$13:$C$61,'4B Calcul. Climat Scen.'!$C41,'4A Calcul. BAU city'!G$13:G$61)","v":0},{"$f":"SUMIF('4A Calcul. BAU city'!$C$13:$C$61,'4B Calcul. Climat Scen.'!$C41,'4A Calcul. BAU city'!I$13:I$61)-SUMIF('4A Calcul. BAU city'!$C$13:$C$61,'4B Calcul. Climat Scen.'!$C41,'4A Calcul. BAU city'!H$13:H$61)","v":0},{"$f":"SUMIF('4A Calcul. BAU city'!$C$13:$C$61,'4B Calcul. Climat Scen.'!$C41,'4A Calcul. BAU city'!J$13:J$61)-SUMIF('4A Calcul. BAU city'!$C$13:$C$61,'4B Calcul. Climat Scen.'!$C41,'4A Calcul. BAU city'!I$13:I$61)","v":0},{"$f":"SUMIF('4A Calcul. BAU city'!$C$13:$C$61,'4B Calcul. Climat Scen.'!$C41,'4A Calcul. BAU city'!K$13:K$61)-SUMIF('4A Calcul. BAU city'!$C$13:$C$61,'4B Calcul. Climat Scen.'!$C41,'4A Calcul. BAU city'!J$13:J$61)","v":0},{"$f":"SUMIF('4A Calcul. BAU city'!$C$13:$C$61,'4B Calcul. Climat Scen.'!$C41,'4A Calcul. BAU city'!L$13:L$61)-SUMIF('4A Calcul. BAU city'!$C$13:$C$61,'4B Calcul. Climat Scen.'!$C41,'4A Calcul. BAU city'!K$13:K$61)","v":0},null,{"$f":"Motorcycle","v":"Motorcycle"},{"$f":"SUMIF($C$12:$C$33,$J41,$F$12:$F$33)","v":0},{"$f":"IF('2A Input Climat Scen. Pass.'!J22=\"\",SUMIF($C$225:$C$240,$J41,AI$225:AI$240)+SUMIF($C$38:$C$53,$J41,D$38:D$53),'2A Input Climat Scen. Pass.'!J22)","v":0},{"$f":"IF('2A Input Climat Scen. Pass.'!K22=\"\",SUMIF($C$225:$C$240,$J41,AJ$225:AJ$240)+SUMIF($C$38:$C$53,$J41,E$38:E$53),'2A Input Climat Scen. Pass.'!K22)","v":0},{"$f":"IF('2A Input Climat Scen. Pass.'!L22=\"\",SUMIF($C$225:$C$240,$J41,AK$225:AK$240)+SUMIF($C$38:$C$53,$J41,F$38:F$53),'2A Input Climat Scen. Pass.'!L22)","v":0},{"$f":"IF('2A Input Climat Scen. Pass.'!M22=\"\",SUMIF($C$225:$C$240,$J41,AL$225:AL$240)+SUMIF($C$38:$C$53,$J41,G$38:G$53),'2A Input Climat Scen. Pass.'!M22)","v":0},{"$f":"IF('2A Input Climat Scen. Pass.'!N22=\"\",SUMIF($C$225:$C$240,$J41,AM$225:AM$240)+SUMIF($C$38:$C$53,$J41,H$38:H$53),'2A Input Climat Scen. Pass.'!N22)","v":0},null,0,0,0,0,0,null,null,null,null,null,null,null,0,0,0,0,0]
[null,"BAU",{"$f":"Mototaxi","v":"Motorcycle taxi"},{"$f":"SUMIF('4A Calcul. BAU city'!$C$13:$C$61,'4B Calcul. Climat Scen.'!$C42,'4A Calcul. BAU city'!H$13:H$61)-SUMIF('4A Calcul. BAU city'!$C$13:$C$61,'4B Calcul. Climat Scen.'!$C42,'4A Calcul. BAU city'!G$13:G$61)","v":0},{"$f":"SUMIF('4A Calcul. BAU city'!$C$13:$C$61,'4B Calcul. Climat Scen.'!$C42,'4A Calcul. BAU city'!I$13:I$61)-SUMIF('4A Calcul. BAU city'!$C$13:$C$61,'4B Calcul. Climat Scen.'!$C42,'4A Calcul. BAU city'!H$13:H$61)","v":0},{"$f":"SUMIF('4A Calcul. BAU city'!$C$13:$C$61,'4B Calcul. Climat Scen.'!$C42,'4A Calcul. BAU city'!J$13:J$61)-SUMIF('4A Calcul. BAU city'!$C$13:$C$61,'4B Calcul. Climat Scen.'!$C42,'4A Calcul. BAU city'!I$13:I$61)","v":0},{"$f":"SUMIF('4A Calcul. BAU city'!$C$13:$C$61,'4B Calcul. Climat Scen.'!$C42,'4A Calcul. BAU city'!K$13:K$61)-SUMIF('4A Calcul. BAU city'!$C$13:$C$61,'4B Calcul. Climat Scen.'!$C42,'4A Calcul. BAU city'!J$13:J$61)","v":0},{"$f":"SUMIF('4A Calcul. BAU city'!$C$13:$C$61,'4B Calcul. Climat Scen.'!$C42,'4A Calcul. BAU city'!L$13:L$61)-SUMIF('4A Calcul. BAU city'!$C$13:$C$61,'4B Calcul. Climat Scen.'!$C42,'4A Calcul. BAU city'!K$13:K$61)","v":0},null,{"$f":"Mototaxi","v":"Motorcycle taxi"},{"$f":"SUMIF($C$12:$C$33,$J42,$F$12:$F$33)","v":0},{"$f":"IF('2A Input Climat Scen. Pass.'!J23=\"\",SUMIF($C$225:$C$240,$J42,AI$225:AI$240)+SUMIF($C$38:$C$53,$J42,D$38:D$53),'2A Input Climat Scen. Pass.'!J23)","v":0},{"$f":"IF('2A Input Climat Scen. Pass.'!K23=\"\",SUMIF($C$225:$C$240,$J42,AJ$225:AJ$240)+SUMIF($C$38:$C$53,$J42,E$38:E$53),'2A Input Climat Scen. Pass.'!K23)","v":0},{"$f":"IF('2A Input Climat Scen. Pass.'!L23=\"\",SUMIF($C$225:$C$240,$J42,AK$225:AK$240)+SUMIF($C$38:$C$53,$J42,F$38:F$53),'2A Input Climat Scen. Pass.'!L23)","v":0},{"$f":"IF('2A Input Climat Scen. Pass.'!M23=\"\",SUMIF($C$225:$C$240,$J42,AL$225:AL$240)+SUMIF($C$38:$C$53,$J42,G$38:G$53),'2A Input Climat Scen. Pass.'!M23)","v":0},{"$f":"IF('2A Input Climat Scen. Pass.'!N23=\"\",SUMIF($C$225:$C$240,$J42,AM$225:AM$240)+SUMIF($C$38:$C$53,$J42,H$38:H$53),'2A Input Climat Scen. Pass.'!N23)","v":0},null,0,0,0,0,0,null,null,null,null,null,null,null,0,0,0,0,0]
[null,"BAU",{"$f":"Minibus","v":"Minibus"},{"$f":"SUMIF('4A Calcul. BAU city'!$C$13:$C$61,'4B Calcul. Climat Scen.'!$C43,'4A Calcul. BAU city'!H$13:H$61)-SUMIF('4A Calcul. BAU city'!$C$13:$C$61,'4B Calcul. Climat Scen.'!$C43,'4A Calcul. BAU city'!G$13:G$61)","v":0},{"$f":"SUMIF('4A Calcul. BAU city'!$C$13:$C$61,'4B Calcul. Climat Scen.'!$C43,'4A Calcul. BAU city'!I$13:I$61)-SUMIF('4A Calcul. BAU city'!$C$13:$C$61,'4B Calcul. Climat Scen.'!$C43,'4A Calcul. BAU city'!H$13:H$61)","v":0},{"$f":"SUMIF('4A Calcul. BAU city'!$C$13:$C$61,'4B Calcul. Climat Scen.'!$C43,'4A Calcul. BAU city'!J$13:J$61)-SUMIF('4A Calcul. BAU city'!$C$13:$C$61,'4B Calcul. Climat Scen.'!$C43,'4A Calcul. BAU city'!I$13:I$61)","v":0},{"$f":"SUMIF('4A Calcul. BAU city'!$C$13:$C$61,'4B Calcul. Climat Scen.'!$C43,'4A Calcul. BAU city'!K$13:K$61)-SUMIF('4A Calcul. BAU city'!$C$13:$C$61,'4B Calcul. Climat Scen.'!$C43,'4A Calcul. BAU city'!J$13:J$61)","v":0},{"$f":"SUMIF('4A Calcul. BAU city'!$C$13:$C$61,'4B Calcul. Climat Scen.'!$C43,'4A Calcul. BAU city'!L$13:L$61)-SUMIF('4A Calcul. BAU city'!$C$13:$C$61,'4B Calcul. Climat Scen.'!$C43,'4A Calcul. BAU city'!K$13:K$61)","v":0},null,{"$f":"Minibus","v":"Minibus"},0,{"$f":"IF('2A Input Climat Scen. Pass.'!J24=\"\",SUMIF($C$225:$C$240,$J43,AI$225:AI$240)+SUMIF($C$38:$C$53,$J43,D$38:D$53),'2A Input Climat Scen. Pass.'!J24)","v":0},{"$f":"IF('2A Input Climat Scen. Pass.'!K24=\"\",SUMIF($C$225:$C$240,$J43,AJ$225:AJ$240)+SUMIF($C$38:$C$53,$J43,E$38:E$53),'2A Input Climat Scen. Pass.'!K24)","v":0},{"$f":"IF('2A Input Climat Scen. Pass.'!L24=\"\",SUMIF($C$225:$C$240,$J43,AK$225:AK$240)+SUMIF($C$38:$C$53,$J43,F$38:F$53),'2A Input Climat Scen. Pass.'!L24)","v":0},{"$f":"IF('2A Input Climat Scen. Pass.'!M24=\"\",SUMIF($C$225:$C$240,$J43,AL$225:AL$240)+SUMIF($C$38:$C$53,$J43,G$38:G$53),'2A Input Climat Scen. Pass.'!M24)","v":0},{"$f":"IF('2A Input Climat Scen. Pass.'!N24=\"\",SUMIF($C$225:$C$240,$J43,AM$225:AM$240)+SUMIF($C$38:$C$53,$J43,H$38:H$53),'2A Input Climat Scen. Pass.'!N24)","v":0},null,0,0,0,0,0,null,null,null,null,null,null,null,0,0,0,0,0]
[null,"BAU",{"$f":"Bus","v":"Bus"},{"$f":"SUMIF('4A Calcul. BAU city'!$C$13:$C$61,'4B Calcul. Climat Scen.'!$C44,'4A Calcul. BAU city'!H$13:H$61)-SUMIF('4A Calcul. BAU city'!$C$13:$C$61,'4B Calcul. Climat Scen.'!$C44,'4A Calcul. BAU city'!G$13:G$61)","v":0},{"$f":"SUMIF('4A Calcul. BAU city'!$C$13:$C$61,'4B Calcul. Climat Scen.'!$C44,'4A Calcul. BAU city'!I$13:I$61)-SUMIF('4A Calcul. BAU city'!$C$13:$C$61,'4B Calcul. Climat Scen.'!$C44,'4A Calcul. BAU city'!H$13:H$61)","v":0},{"$f":"SUMIF('4A Calcul. BAU city'!$C$13:$C$61,'4B Calcul. Climat Scen.'!$C44,'4A Calcul. BAU city'!J$13:J$61)-SUMIF('4A Calcul. BAU city'!$C$13:$C$61,'4B Calcul. Climat Scen.'!$C44,'4A Calcul. BAU city'!I$13:I$61)","v":0},{"$f":"SUMIF('4A Calcul. BAU city'!$C$13:$C$61,'4B Calcul. Climat Scen.'!$C44,'4A Calcul. BAU city'!K$13:K$61)-SUMIF('4A Calcul. BAU city'!$C$13:$C$61,'4B Calcul. Climat Scen.'!$C44,'4A Calcul. BAU city'!J$13:J$61)","v":0},{"$f":"SUMIF('4A Calcul. BAU city'!$C$13:$C$61,'4B Calcul. Climat Scen.'!$C44,'4A Calcul. BAU city'!L$13:L$61)-SUMIF('4A Calcul. BAU city'!$C$13:$C$61,'4B Calcul. Climat Scen.'!$C44,'4A Calcul. BAU city'!K$13:K$61)","v":0},null,{"$f":"Bus","v":"Bus"},0,{"$f":"IF('2A Input Climat Scen. Pass.'!J25=\"\",SUMIF($C$225:$C$240,$J44,AI$225:AI$240)+SUMIF($C$38:$C$53,$J44,D$38:D$53),'2A Input Climat Scen. Pass.'!J25)","v":0},{"$f":"IF('2A Input Climat Scen. Pass.'!K25=\"\",SUMIF($C$225:$C$240,$J44,AJ$225:AJ$240)+SUMIF($C$38:$C$53,$J44,E$38:E$53),'2A Input Climat Scen. Pass.'!K25)","v":0},{"$f":"IF('2A Input Climat Scen. Pass.'!L25=\"\",SUMIF($C$225:$C$240,$J44,AK$225:AK$240)+SUMIF($C$38:$C$53,$J44,F$38:F$53),'2A Input Climat Scen. Pass.'!L25)","v":0},{"$f":"IF('2A Input Climat Scen. Pass.'!M25=\"\",SUMIF($C$225:$C$240,$J44,AL$225:AL$240)+SUMIF($C$38:$C$53,$J44,G$38:G$53),'2A Input Climat Scen. Pass.'!M25)","v":0},{"$f":"IF('2A Input Climat Scen. Pass.'!N25=\"\",SUMIF($C$225:$C$240,$J44,AM$225:AM$240)+SUMIF($C$38:$C$53,$J44,H$38:H$53),'2A Input Climat Scen. Pass.'!N25)","v":0},null,0,0,0,0,0,null,null,null,null,null,null,null,0,0,0,0,0]
[null,"BAU",{"$f":"BRT","v":"BRT"},{"$f":"SUMIF('4A Calcul. BAU city'!$C$13:$C$61,'4B Calcul. Climat Scen.'!$C45,'4A Calcul. BAU city'!H$13:H$61)-SUMIF('4A Calcul. BAU city'!$C$13:$C$61,'4B Calcul. Climat Scen.'!$C45,'4A Calcul. BAU city'!G$13:G$61)","v":0},{"$f":"SUMIF('4A Calcul. BAU city'!$C$13:$C$61,'4B Calcul. Climat Scen.'!$C45,'4A Calcul. BAU city'!I$13:I$61)-SUMIF('4A Calcul. BAU city'!$C$13:$C$61,'4B Calcul. Climat Scen.'!$C45,'4A Calcul. BAU city'!H$13:H$61)","v":0},{"$f":"SUMIF('4A Calcul. BAU city'!$C$13:$C$61,'4B Calcul. Climat Scen.'!$C45,'4A Calcul. BAU city'!J$13:J$61)-SUMIF('4A Calcul. BAU city'!$C$13:$C$61,'4B Calcul. Climat Scen.'!$C45,'4A Calcul. BAU city'!I$13:I$61)","v":0},{"$f":"SUMIF('4A Calcul. BAU city'!$C$13:$C$61,'4B Calcul. Climat Scen.'!$C45,'4A Calcul. BAU city'!K$13:K$61)-SUMIF('4A Calcul. BAU city'!$C$13:$C$61,'4B Calcul. Climat Scen.'!$C45,'4A Calcul. BAU city'!J$13:J$61)","v":0},{"$f":"SUMIF('4A Calcul. BAU city'!$C$13:$C$61,'4B Calcul. Climat Scen.'!$C45,'4A Calcul. BAU city'!L$13:L$61)-SUMIF('4A Calcul. BAU city'!$C$13:$C$61,'4B Calcul. Climat Scen.'!$C45,'4A Calcul. BAU city'!K$13:K$61)","v":0},null,{"$f":"BRT","v":"BRT"},0,{"$f":"IF('2A Input Climat Scen. Pass.'!J26=\"\",SUMIF($C$225:$C$240,$J45,AI$225:AI$240)+SUMIF($C$38:$C$53,$J45,D$38:D$53),'2A Input Climat Scen. Pass.'!J26)","v":0},{"$f":"IF('2A Input Climat Scen. Pass.'!K26=\"\",SUMIF($C$225:$C$240,$J45,AJ$225:AJ$240)+SUMIF($C$38:$C$53,$J45,E$38:E$53),'2A Input Climat Scen. Pass.'!K26)","v":0},{"$f":"IF('2A Input Climat Scen. Pass.'!L26=\"\",SUMIF($C$225:$C$240,$J45,AK$225:AK$240)+SUMIF($C$38:$C$53,$J45,F$38:F$53),'2A Input Climat Scen. Pass.'!L26)","v":0},{"$f":"IF('2A Input Climat Scen. Pass.'!M26=\"\",SUMIF($C$225:$C$240,$J45,AL$225:AL$240)+SUMIF($C$38:$C$53,$J45,G$38:G$53),'2A Input Climat Scen. Pass.'!M26)","v":0},{"$f":"IF('2A Input Climat Scen. Pass.'!N26=\"\",SUMIF($C$225:$C$240,$J45,AM$225:AM$240)+SUMIF($C$38:$C$53,$J45,H$38:H$53),'2A Input Climat Scen. Pass.'!N26)","v":0},null,{"$f":"SUMIF($C$225:$C$235,$J45,U$225:U$235)","v":0},0,0,0,0,null,null,null,null,null,null,null,0,0,0,0,0]
[null,"BAU",{"$f":"Train","v":"Long distance train"},{"$f":"SUMIF('4A Calcul. BAU city'!$C$13:$C$61,'4B Calcul. Climat Scen.'!$C46,'4A Calcul. BAU city'!H$13:H$61)-SUMIF('4A Calcul. BAU city'!$C$13:$C$61,'4B Calcul. Climat Scen.'!$C46,'4A Calcul. BAU city'!G$13:G$61)","v":0},{"$f":"SUMIF('4A Calcul. BAU city'!$C$13:$C$61,'4B Calcul. Climat Scen.'!$C46,'4A Calcul. BAU city'!I$13:I$61)-SUMIF('4A Calcul. BAU city'!$C$13:$C$61,'4B Calcul. Climat Scen.'!$C46,'4A Calcul. BAU city'!H$13:H$61)","v":0},{"$f":"SUMIF('4A Calcul. BAU city'!$C$13:$C$61,'4B Calcul. Climat Scen.'!$C46,'4A Calcul. BAU city'!J$13:J$61)-SUMIF('4A Calcul. BAU city'!$C$13:$C$61,'4B Calcul. Climat Scen.'!$C46,'4A Calcul. BAU city'!I$13:I$61)","v":0},{"$f":"SUMIF('4A Calcul. BAU city'!$C$13:$C$61,'4B Calcul. Climat Scen.'!$C46,'4A Calcul. BAU city'!K$13:K$61)-SUMIF('4A Calcul. BAU city'!$C$13:$C$61,'4B Calcul. Climat Scen.'!$C46,'4A Calcul. BAU city'!J$13:J$61)","v":0},{"$f":"SUMIF('4A Calcul. BAU city'!$C$13:$C$61,'4B Calcul. Climat Scen.'!$C46,'4A Calcul. BAU city'!L$13:L$61)-SUMIF('4A Calcul. BAU city'!$C$13:$C$61,'4B Calcul. Climat Scen.'!$C46,'4A Calcul. BAU city'!K$13:K$61)","v":0},null,{"$f":"Train","v":"Long distance train"},0,{"$f":"IF('2A Input Climat Scen. Pass.'!J27=\"\",SUMIF($C$225:$C$240,$J46,AI$225:AI$240)+SUMIF($C$38:$C$53,$J46,D$38:D$53),'2A Input Climat Scen. Pass.'!J27)","v":0},{"$f":"IF('2A Input Climat Scen. Pass.'!K27=\"\",SUMIF($C$225:$C$240,$J46,AJ$225:AJ$240)+SUMIF($C$38:$C$53,$J46,E$38:E$53),'2A Input Climat Scen. Pass.'!K27)","v":0},{"$f":"IF('2A Input Climat Scen. Pass.'!L27=\"\",SUMIF($C$225:$C$240,$J46,AK$225:AK$240)+SUMIF($C$38:$C$53,$J46,F$38:F$53),'2A Input Climat Scen. Pass.'!L27)","v":0},{"$f":"IF('2A Input Climat Scen. Pass.'!M27=\"\",SUMIF($C$225:$C$240,$J46,AL$225:AL$240)+SUMIF($C$38:$C$53,$J46,G$38:G$53),'2A Input Climat Scen. Pass.'!M27)","v":0},{"$f":"IF('2A Input Climat Scen. Pass.'!N27=\"\",SUMIF($C$225:$C$240,$J46,AM$225:AM$240)+SUMIF($C$38:$C$53,$J46,H$38:H$53),'2A Input Climat Scen. Pass.'!N27)","v":0},null,0,0,0,0,0,null,null,null,null,null,null,null,0,0,0,0,0]
[null,"BAU",{"$f":"Utrain","v":"Urban train"},{"$f":"SUMIF('4A Calcul. BAU city'!$C$13:$C$61,'4B Calcul. Climat Scen.'!$C47,'4A Calcul. BAU city'!H$13:H$61)-SUMIF('4A Calcul. BAU city'!$C$13:$C$61,'4B Calcul. Climat Scen.'!$C47,'4A Calcul. BAU city'!G$13:G$61)","v":0},{"$f":"SUMIF('4A Calcul. BAU city'!$C$13:$C$61,'4B Calcul. Climat Scen.'!$C47,'4A Calcul. BAU city'!I$13:I$61)-SUMIF('4A Calcul. BAU city'!$C$13:$C$61,'4B Calcul. Climat Scen.'!$C47,'4A Calcul. BAU city'!H$13:H$61)","v":0},{"$f":"SUMIF('4A Calcul. BAU city'!$C$13:$C$61,'4B Calcul. Climat Scen.'!$C47,'4A Calcul. BAU city'!J$13:J$61)-SUMIF('4A Calcul. BAU city'!$C$13:$C$61,'4B Calcul. Climat Scen.'!$C47,'4A Calcul. BAU city'!I$13:I$61)","v":0},{"$f":"SUMIF('4A Calcul. BAU city'!$C$13:$C$61,'4B Calcul. Climat Scen.'!$C47,'4A Calcul. BAU city'!K$13:K$61)-SUMIF('4A Calcul. BAU city'!$C$13:$C$61,'4B Calcul. Climat Scen.'!$C47,'4A Calcul. BAU city'!J$13:J$61)","v":0},{"$f":"SUMIF('4A Calcul. BAU city'!$C$13:$C$61,'4B Calcul. Climat Scen.'!$C47,'4A Calcul. BAU city'!L$13:L$61)-SUMIF('4A Calcul. BAU city'!$C$13:$C$61,'4B Calcul. Climat Scen.'!$C47,'4A Calcul. BAU city'!K$13:K$61)","v":0},null,{"$f":"Utrain","v":"Urban train"},0,{"$f":"IF('2A Input Climat Scen. Pass.'!J28=\"\",SUMIF($C$225:$C$240,$J47,AI$225:AI$240)+SUMIF($C$38:$C$53,$J47,D$38:D$53),'2A Input Climat Scen. Pass.'!J28)","v":0},{"$f":"IF('2A Input Climat Scen. Pass.'!K28=\"\",SUMIF($C$225:$C$240,$J47,AJ$225:AJ$240)+SUMIF($C$38:$C$53,$J47,E$38:E$53),'2A Input Climat Scen. Pass.'!K28)","v":0},{"$f":"IF('2A Input Climat Scen. Pass.'!L28=\"\",SUMIF($C$225:$C$240,$J47,AK$225:AK$240)+SUMIF($C$38:$C$53,$J47,F$38:F$53),'2A Input Climat Scen. Pass.'!L28)","v":0},{"$f":"IF('2A Input Climat Scen. Pass.'!M28=\"\",SUMIF($C$225:$C$240,$J47,AL$225:AL$240)+SUMIF($C$38:$C$53,$J47,G$38:G$53),'2A Input Climat Scen. Pass.'!M28)","v":0},{"$f":"IF('2A Input Climat Scen. Pass.'!N28=\"\",SUMIF($C$225:$C$240,$J47,AM$225:AM$240)+SUMIF($C$38:$C$53,$J47,H$38:H$53),'2A Input Climat Scen. Pass.'!N28)","v":0},null,0,0,0,0,0,null,null,null,null,null,null,null,0,0,0,0,0]
[null,"BAU",{"$f":"Metro","v":"Metro"},{"$f":"SUMIF('4A Calcul. BAU city'!$C$13:$C$61,'4B Calcul. Climat Scen.'!$C48,'4A Calcul. BAU city'!H$13:H$61)-SUMIF('4A Calcul. BAU city'!$C$13:$C$61,'4B Calcul. Climat Scen.'!$C48,'4A Calcul. BAU city'!G$13:G$61)","v":0},{"$f":"SUMIF('4A Calcul. BAU city'!$C$13:$C$61,'4B Calcul. Climat Scen.'!$C48,'4A Calcul. BAU city'!I$13:I$61)-SUMIF('4A Calcul. BAU city'!$C$13:$C$61,'4B Calcul. Climat Scen.'!$C48,'4A Calcul. BAU city'!H$13:H$61)","v":0},{"$f":"SUMIF('4A Calcul. BAU city'!$C$13:$C$61,'4B Calcul. Climat Scen.'!$C48,'4A Calcul. BAU city'!J$13:J$61)-SUMIF('4A Calcul. BAU city'!$C$13:$C$61,'4B Calcul. Climat Scen.'!$C48,'4A Calcul. BAU city'!I$13:I$61)","v":0},{"$f":"SUMIF('4A Calcul. BAU city'!$C$13:$C$61,'4B Calcul. Climat Scen.'!$C48,'4A Calcul. BAU city'!K$13:K$61)-SUMIF('4A Calcul. BAU city'!$C$13:$C$61,'4B Calcul. Climat Scen.'!$C48,'4A Calcul. BAU city'!J$13:J$61)","v":0},{"$f":"SUMIF('4A Calcul. BAU city'!$C$13:$C$61,'4B Calcul. Climat Scen.'!$C48,'4A Calcul. BAU city'!L$13:L$61)-SUMIF('4A Calcul. BAU city'!$C$13:$C$61,'4B Calcul. Climat Scen.'!$C48,'4A Calcul. BAU city'!K$13:K$61)","v":0},null,{"$f":"Metro","v":"Metro"},0,{"$f":"IF('2A Input Climat Scen. Pass.'!J29=\"\",SUMIF($C$225:$C$240,$J48,AI$225:AI$240)+SUMIF($C$38:$C$53,$J48,D$38:D$53),'2A Input Climat Scen. Pass.'!J29)","v":0},{"$f":"IF('2A Input Climat Scen. Pass.'!K29=\"\",SUMIF($C$225:$C$240,$J48,AJ$225:AJ$240)+SUMIF($C$38:$C$53,$J48,E$38:E$53),'2A Input Climat Scen. Pass.'!K29)","v":0},{"$f":"IF('2A Input Climat Scen. Pass.'!L29=\"\",SUMIF($C$225:$C$240,$J48,AK$225:AK$240)+SUMIF($C$38:$C$53,$J48,F$38:F$53),'2A Input Climat Scen. Pass.'!L29)","v":0},{"$f":"IF('2A Input Climat Scen. Pass.'!M29=\"\",SUMIF($C$225:$C$240,$J48,AL$225:AL$240)+SUMIF($C$38:$C$53,$J48,G$38:G$53),'2A Input Climat Scen. Pass.'!M29)","v":0},{"$f":"IF('2A Input Climat Scen. Pass.'!N29=\"\",SUMIF($C$225:$C$240,$J48,AM$225:AM$240)+SUMIF($C$38:$C$53,$J48,H$38:H$53),'2A Input Climat Scen. Pass.'!N29)","v":0},null,0,0,0,0,0,null,null,null,null,null,null,null,0,0,0,0,0]
[null,"BAU",{"$f":"lightLCV","v":"Very light LCV"},{"$f":"SUMIF('4A Calcul. BAU city'!$C$13:$C$61,'4B Calcul. Climat Scen.'!$C49,'4A Calcul. BAU city'!H$13:H$61)-SUMIF('4A Calcul. BAU city'!$C$13:$C$61,'4B Calcul. Climat Scen.'!$C49,'4A Calcul. BAU city'!G$13:G$61)","v":0},{"$f":"SUMIF('4A Calcul. BAU city'!$C$13:$C$61,'4B Calcul. Climat Scen.'!$C49,'4A Calcul. BAU city'!I$13:I$61)-SUMIF('4A Calcul. BAU city'!$C$13:$C$61,'4B Calcul. Climat Scen.'!$C49,'4A Calcul. BAU city'!H$13:H$61)","v":0},{"$f":"SUMIF('4A Calcul. BAU city'!$C$13:$C$61,'4B Calcul. Climat Scen.'!$C49,'4A Calcul. BAU city'!J$13:J$61)-SUMIF('4A Calcul. BAU city'!$C$13:$C$61,'4B Calcul. Climat Scen.'!$C49,'4A Calcul. BAU city'!I$13:I$61)","v":0},{"$f":"SUMIF('4A Calcul. BAU city'!$C$13:$C$61,'4B Calcul. Climat Scen.'!$C49,'4A Calcul. BAU city'!K$13:K$61)-SUMIF('4A Calcul. BAU city'!$C$13:$C$61,'4B Calcul. Climat Scen.'!$C49,'4A Calcul. BAU city'!J$13:J$61)","v":0},{"$f":"SUMIF('4A Calcul. BAU city'!$C$13:$C$61,'4B Calcul. Climat Scen.'!$C49,'4A Calcul. BAU city'!L$13:L$61)-SUMIF('4A Calcul. BAU city'!$C$13:$C$61,'4B Calcul. Climat Scen.'!$C49,'4A Calcul. BAU city'!K$13:K$61)","v":0},"Achtung hier Formel freight",{"$f":"lightLCV","v":"Very light LCV"},{"$f":"SUMIF($C$12:$C$33,$J49,$F$12:$F$33)","v":0},{"$f":"IF('2B Input Climat Scen. Freight'!J24=\"\",SUMIF($M$225:$M$240,$J49,AI$225:AI$240)+SUMIF($C$38:$C$53,$J49,D$38:D$53),'2B Input Climat Scen. Freight'!J24)","v":0},{"$f":"IF('2B Input Climat Scen. Freight'!K24=\"\",SUMIF($M$225:$M$240,$J49,AJ$225:AJ$240)+SUMIF($C$38:$C$53,$J49,E$38:E$53),'2B Input Climat Scen. Freight'!K24)","v":0},{"$f":"IF('2B Input Climat Scen. Freight'!L24=\"\",SUMIF($M$225:$M$240,$J49,AK$225:AK$240)+SUMIF($C$38:$C$53,$J49,F$38:F$53),'2B Input Climat Scen. Freight'!L24)","v":0},{"$f":"IF('2B Input Climat Scen. Freight'!M24=\"\",SUMIF($M$225:$M$240,$J49,AL$225:AL$240)+SUMIF($C$38:$C$53,$J49,G$38:G$53),'2B Input Climat Scen. Freight'!M24)","v":0},{"$f":"IF('2B Input Climat Scen. Freight'!N24=\"\",SUMIF($M$225:$M$240,$J49,AM$225:AM$240)+SUMIF($C$38:$C$53,$J49,H$38:H$53),'2B Input Climat Scen. Freight'!N24)","v":0},null,null,null,null,null,null,null,{"$f":"SUMIF($M$225:$M$240,$J49,AB$225:AB$240)","v":0},0,0,0,0,null,null,null,null,null,null,null,{"$f":"L49*X49","v":0},{"$f":"M49*Y49","v":0},{"$f":"N49*Z49","v":0},{"$f":"O49*AA49","v":0},0]
[null,"BAU",{"$f":"LCV","v":"LCV"},{"$f":"SUMIF('4A Calcul. BAU city'!$C$13:$C$61,'4B Calcul. Climat Scen.'!$C50,'4A Calcul. BAU city'!H$13:H$61)-SUMIF('4A Calcul. BAU city'!$C$13:$C$61,'4B Calcul. Climat Scen.'!$C50,'4A Calcul. BAU city'!G$13:G$61)","v":0},{"$f":"SUMIF('4A Calcul. BAU city'!$C$13:$C$61,'4B Calcul. Climat Scen.'!$C50,'4A Calcul. BAU city'!I$13:I$61)-SUMIF('4A Calcul. BAU city'!$C$13:$C$61,'4B Calcul. Climat Scen.'!$C50,'4A Calcul. BAU city'!H$13:H$61)","v":0},{"$f":"SUMIF('4A Calcul. BAU city'!$C$13:$C$61,'4B Calcul. Climat Scen.'!$C50,'4A Calcul. BAU city'!J$13:J$61)-SUMIF('4A Calcul. BAU city'!$C$13:$C$61,'4B Calcul. Climat Scen.'!$C50,'4A Calcul. BAU city'!I$13:I$61)","v":0},{"$f":"SUMIF('4A Calcul. BAU city'!$C$13:$C$61,'4B Calcul. Climat Scen.'!$C50,'4A Calcul. BAU city'!K$13:K$61)-SUMIF('4A Calcul. BAU city'!$C$13:$C$61,'4B Calcul. Climat Scen.'!$C50,'4A Calcul. BAU city'!J$13:J$61)","v":0},{"$f":"SUMIF('4A Calcul. BAU city'!$C$13:$C$61,'4B Calcul. Climat Scen.'!$C50,'4A Calcul. BAU city'!L$13:L$61)-SUMIF('4A Calcul. BAU city'!$C$13:$C$61,'4B Calcul. Climat Scen.'!$C50,'4A Calcul. BAU city'!K$13:K$61)","v":0},null,{"$f":"LCV","v":"LCV"},{"$f":"SUMIF($C$12:$C$33,$J50,$F$12:$F$33)","v":0},{"$f":"IF('2B Input Climat Scen. Freight'!J25=\"\",SUMIF($M$225:$M$240,$J50,AI$225:AI$240)+SUMIF($C$38:$C$53,$J50,D$38:D$53),'2B Input Climat Scen. Freight'!J25)","v":0},{"$f":"IF('2B Input Climat Scen. Freight'!K25=\"\",SUMIF($M$225:$M$240,$J50,AJ$225:AJ$240)+SUMIF($C$38:$C$53,$J50,E$38:E$53),'2B Input Climat Scen. Freight'!K25)","v":0},{"$f":"IF('2B Input Climat Scen. Freight'!L25=\"\",SUMIF($M$225:$M$240,$J50,AK$225:AK$240)+SUMIF($C$38:$C$53,$J50,F$38:F$53),'2B Input Climat Scen. Freight'!L25)","v":0},{"$f":"IF('2B Input Climat Scen. Freight'!M25=\"\",SUMIF($M$225:$M$240,$J50,AL$225:AL$240)+SUMIF($C$38:$C$53,$J50,G$38:G$53),'2B Input Climat Scen. Freight'!M25)","v":0},{"$f":"IF('2B Input Climat Scen. Freight'!N25=\"\",SUMIF($M$225:$M$240,$J50,AM$225:AM$240)+SUMIF($C$38:$C$53,$J50,H$38:H$53),'2B Input Climat Scen. Freight'!N25)","v":0},null,null,null,null,null,null,null,0,0,0,0,0,null,null,null,null,null,null,null,{"$f":"L50*X50","v":0},0,0,0,0]
[null,"BAU",{"$f":"Solo","v":"Solo truck"},{"$f":"SUMIF('4A Calcul. BAU city'!$C$13:$C$61,'4B Calcul. Climat Scen.'!$C51,'4A Calcul. BAU city'!H$13:H$61)-SUMIF('4A Calcul. BAU city'!$C$13:$C$61,'4B Calcul. Climat Scen.'!$C51,'4A Calcul. BAU city'!G$13:G$61)","v":0},{"$f":"SUMIF('4A Calcul. BAU city'!$C$13:$C$61,'4B Calcul. Climat Scen.'!$C51,'4A Calcul. BAU city'!I$13:I$61)-SUMIF('4A Calcul. BAU city'!$C$13:$C$61,'4B Calcul. Climat Scen.'!$C51,'4A Calcul. BAU city'!H$13:H$61)","v":0},{"$f":"SUMIF('4A Calcul. BAU city'!$C$13:$C$61,'4B Calcul. Climat Scen.'!$C51,'4A Calcul. BAU city'!J$13:J$61)-SUMIF('4A Calcul. BAU city'!$C$13:$C$61,'4B Calcul. Climat Scen.'!$C51,'4A Calcul. BAU city'!I$13:I$61)","v":0},{"$f":"SUMIF('4A Calcul. BAU city'!$C$13:$C$61,'4B Calcul. Climat Scen.'!$C51,'4A Calcul. BAU city'!K$13:K$61)-SUMIF('4A Calcul. BAU city'!$C$13:$C$61,'4B Calcul. Climat Scen.'!$C51,'4A Calcul. BAU city'!J$13:J$61)","v":0},{"$f":"SUMIF('4A Calcul. BAU city'!$C$13:$C$61,'4B Calcul. Climat Scen.'!$C51,'4A Calcul. BAU city'!L$13:L$61)-SUMIF('4A Calcul. BAU city'!$C$13:$C$61,'4B Calcul. Climat Scen.'!$C51,'4A Calcul. BAU city'!K$13:K$61)","v":0},null,{"$f":"Solo","v":"Solo truck"},0,{"$f":"IF('2B Input Climat Scen. Freight'!J26=\"\",SUMIF($M$225:$M$240,$J51,AI$225:AI$240)+SUMIF($C$38:$C$53,$J51,D$38:D$53),'2B Input Climat Scen. Freight'!J26)","v":0},{"$f":"IF('2B Input Climat Scen. Freight'!K26=\"\",SUMIF($M$225:$M$240,$J51,AJ$225:AJ$240)+SUMIF($C$38:$C$53,$J51,E$38:E$53),'2B Input Climat Scen. Freight'!K26)","v":0},{"$f":"IF('2B Input Climat Scen. Freight'!L26=\"\",SUMIF($M$225:$M$240,$J51,AK$225:AK$240)+SUMIF($C$38:$C$53,$J51,F$38:F$53),'2B Input Climat Scen. Freight'!L26)","v":0},{"$f":"IF('2B Input Climat Scen. Freight'!M26=\"\",SUMIF($M$225:$M$240,$J51,AL$225:AL$240)+SUMIF($C$38:$C$53,$J51,G$38:G$53),'2B Input Climat Scen. Freight'!M26)","v":0},{"$f":"IF('2B Input Climat Scen. Freight'!N26=\"\",SUMIF($M$225:$M$240,$J51,AM$225:AM$240)+SUMIF($C$38:$C$53,$J51,H$38:H$53),'2B Input Climat Scen. Freight'!N26)","v":0},null,null,null,null,null,null,null,0,0,0,0,0,null,null,null,null,null,null,null,0,0,0,0,0]
[null,"BAU",{"$f":"Atruck","v":"Articulated truck"},{"$f":"SUMIF('4A Calcul. BAU city'!$C$13:$C$61,'4B Calcul. Climat Scen.'!$C52,'4A Calcul. BAU city'!H$13:H$61)-SUMIF('4A Calcul. BAU city'!$C$13:$C$61,'4B Calcul. Climat Scen.'!$C52,'4A Calcul. BAU city'!G$13:G$61)","v":0},{"$f":"SUMIF('4A Calcul. BAU city'!$C$13:$C$61,'4B Calcul. Climat Scen.'!$C52,'4A Calcul. BAU city'!I$13:I$61)-SUMIF('4A Calcul. BAU city'!$C$13:$C$61,'4B Calcul. Climat Scen.'!$C52,'4A Calcul. BAU city'!H$13:H$61)","v":0},{"$f":"SUMIF('4A Calcul. BAU city'!$C$13:$C$61,'4B Calcul. Climat Scen.'!$C52,'4A Calcul. BAU city'!J$13:J$61)-SUMIF('4A Calcul. BAU city'!$C$13:$C$61,'4B Calcul. Climat Scen.'!$C52,'4A Calcul. BAU city'!I$13:I$61)","v":0},{"$f":"SUMIF('4A Calcul. BAU city'!$C$13:$C$61,'4B Calcul. Climat Scen.'!$C52,'4A Calcul. BAU city'!K$13:K$61)-SUMIF('4A Calcul. BAU city'!$C$13:$C$61,'4B Calcul. Climat Scen.'!$C52,'4A Calcul. BAU city'!J$13:J$61)","v":0},{"$f":"SUMIF('4A Calcul. BAU city'!$C$13:$C$61,'4B Calcul. Climat Scen.'!$C52,'4A Calcul. BAU city'!L$13:L$61)-SUMIF('4A Calcul. BAU city'!$C$13:$C$61,'4B Calcul. Climat Scen.'!$C52,'4A Calcul. BAU city'!K$13:K$61)","v":0},null,{"$f":"Atruck","v":"Articulated truck"},0,{"$f":"IF('2B Input Climat Scen. Freight'!J27=\"\",SUMIF($M$225:$M$240,$J52,AI$225:AI$240)+SUMIF($C$38:$C$53,$J52,D$38:D$53),'2B Input Climat Scen. Freight'!J27)","v":0},{"$f":"IF('2B Input Climat Scen. Freight'!K27=\"\",SUMIF($M$225:$M$240,$J52,AJ$225:AJ$240)+SUMIF($C$38:$C$53,$J52,E$38:E$53),'2B Input Climat Scen. Freight'!K27)","v":0},{"$f":"IF('2B Input Climat Scen. Freight'!L27=\"\",SUMIF($M$225:$M$240,$J52,AK$225:AK$240)+SUMIF($C$38:$C$53,$J52,F$38:F$53),'2B Input Climat Scen. Freight'!L27)","v":0},{"$f":"IF('2B Input Climat Scen. Freight'!M27=\"\",SUMIF($M$225:$M$240,$J52,AL$225:AL$240)+SUMIF($C$38:$C$53,$J52,G$38:G$53),'2B Input Climat Scen. Freight'!M27)","v":0},{"$f":"IF('2B Input Climat Scen. Freight'!N27=\"\",SUMIF($M$225:$M$240,$J52,AM$225:AM$240)+SUMIF($C$38:$C$53,$J52,H$38:H$53),'2B Input Climat Scen. Freight'!N27)","v":0},null,null,null,null,null,null,null,0,0,0,0,0,null,null,null,null,null,null,null,0,0,0,0,0]
[null,"BAU",{"$f":"Ftrain","v":"Freight train"},{"$f":"SUMIF('4A Calcul. BAU city'!$C$13:$C$61,'4B Calcul. Climat Scen.'!$C53,'4A Calcul. BAU city'!H$13:H$61)-SUMIF('4A Calcul. BAU city'!$C$13:$C$61,'4B Calcul. Climat Scen.'!$C53,'4A Calcul. BAU city'!G$13:G$61)","v":0},{"$f":"SUMIF('4A Calcul. BAU city'!$C$13:$C$61,'4B Calcul. Climat Scen.'!$C53,'4A Calcul. BAU city'!I$13:I$61)-SUMIF('4A Calcul. BAU city'!$C$13:$C$61,'4B Calcul. Climat Scen.'!$C53,'4A Calcul. BAU city'!H$13:H$61)","v":0},{"$f":"SUMIF('4A Calcul. BAU city'!$C$13:$C$61,'4B Calcul. Climat Scen.'!$C53,'4A Calcul. BAU city'!J$13:J$61)-SUMIF('4A Calcul. BAU city'!$C$13:$C$61,'4B Calcul. Climat Scen.'!$C53,'4A Calcul. BAU city'!I$13:I$61)","v":0},{"$f":"SUMIF('4A Calcul. BAU city'!$C$13:$C$61,'4B Calcul. Climat Scen.'!$C53,'4A Calcul. BAU city'!K$13:K$61)-SUMIF('4A Calcul. BAU city'!$C$13:$C$61,'4B Calcul. Climat Scen.'!$C53,'4A Calcul. BAU city'!J$13:J$61)","v":0},{"$f":"SUMIF('4A Calcul. BAU city'!$C$13:$C$61,'4B Calcul. Climat Scen.'!$C53,'4A Calcul. BAU city'!L$13:L$61)-SUMIF('4A Calcul. BAU city'!$C$13:$C$61,'4B Calcul. Climat Scen.'!$C53,'4A Calcul. BAU city'!K$13:K$61)","v":0},null,{"$f":"Ftrain","v":"Freight train"},0,{"$f":"IF('2B Input Climat Scen. Freight'!J28=\"\",SUMIF($M$225:$M$240,$J53,AI$225:AI$240)+SUMIF($C$38:$C$53,$J53,D$38:D$53),'2B Input Climat Scen. Freight'!J28)","v":0},{"$f":"IF('2B Input Climat Scen. Freight'!K28=\"\",SUMIF($M$225:$M$240,$J53,AJ$225:AJ$240)+SUMIF($C$38:$C$53,$J53,E$38:E$53),'2B Input Climat Scen. Freight'!K28)","v":0},{"$f":"IF('2B Input Climat Scen. Freight'!L28=\"\",SUMIF($M$225:$M$240,$J53,AK$225:AK$240)+SUMIF($C$38:$C$53,$J53,F$38:F$53),'2B Input Climat Scen. Freight'!L28)","v":0},{"$f":"IF('2B Input Climat Scen. Freight'!M28=\"\",SUMIF($M$225:$M$240,$J53,AL$225:AL$240)+SUMIF($C$38:$C$53,$J53,G$38:G$53),'2B Input Climat Scen. Freight'!M28)","v":0},{"$f":"IF('2B Input Climat Scen. Freight'!N28=\"\",SUMIF($M$225:$M$240,$J53,AM$225:AM$240)+SUMIF($C$38:$C$53,$J53,H$38:H$53),'2B Input Climat Scen. Freight'!N28)","v":0},null,null,null,null,null,null,null,0,0,0,0,0,null,null,null,null,null,null,null,0,0,0,0,0]
[]
[null,null,null,null,null,null,null,null,null,{"$f":"totalindividualtransport","v":"Total individual transport"},{"$f":"SUM(K39:K42)","v":0},{"$f":"SUM(L39:L41)","v":0},{"$f":"SUM(M39:M41)","v":0},{"$f":"SUM(N39:N41)","v":0},{"$f":"SUM(O39:O41)","v":0},{"$f":"SUM(P39:P41)","v":0},null,null,null,null,null,null,null,null,null,null,null,null,null,{"$f":"SUM(AD39:AD42)","v":0},{"$f":"SUM(AE39:AE42)","v":0},{"$f":"SUM(AF39:AF42)","v":0},{"$f":"SUM(AG39:AG42)","v":0},{"$f":"SUM(AH39:AH42)","v":0}]
[null,null,null,null,null,null,null,null,null,{"$f":"totalpublictransport","v":"Total public transport"},{"$f":"SUM(K43:K48)","v":0},0,0,0,0,0,null,null,null,null,null,null,null,null,null,null,null,null,null,{"$f":"SUM(AD43:AD48)","v":0},{"$f":"SUM(AE43:AE48)","v":0},{"$f":"SUM(AF43:AF48)","v":0},{"$f":"SUM(AG43:AG48)","v":0},{"$f":"SUM(AH43:AH48)","v":0}]
[null,null,null,null,null,null,null,null,null,{"$f":"Passtrans","v":"Passenger transportation"},{"$f":"SUM(K55:K56)","v":0},{"$f":"SUM(L55:L56)","v":0},0,0,0,0,null,null,null,null,null,null,null,null,null,null,null,null,null,{"$f":"SUM(AD55:AD56)","v":0},{"$f":"SUM(AE55:AE56)","v":0},0,0,0]
[null,null,null,null,null,null,null,null,null,{"$f":"Freighttrans","v":"Freight transportation"},{"$f":"SUM(K49:K53)","v":0},{"$f":"SUM(L49:L53)","v":0},{"$f":"SUM(M49:M53)","v":0},{"$f":"SUM(N49:N53)","v":0},0,0,null,null,null,null,null,null,null,null,null,null,null,null,null,null,null,null,null,null,null,{"$f":"SUM(AJ49:AJ53)","v":0},{"$f":"SUM(AK49:AK53)","v":0},{"$f":"SUM(AL49:AL53)","v":0},{"$f":"SUM(AM49:AM53)","v":0},0]
[null,null,null,null,null,null,null,null,null,{"$f":"all","v":"all"},{"$f":"SUM(K57+K58)","v":0},{"$f":"SUM(L57+L58)","v":0},{"$f":"SUM(M57+M58)","v":0},0,0,0]
[]
[]
["ONLY WITH TRANSPORT PLANNING TOOL"]
[null,{"$f":"Input","v":"Data input"},null,null,null,null,null,null,null,null,null,null,"Input ",null,null,null,null,null,null,null,"Input "]
[null,{"$f":"scenario","v":"Scenario"},{"$f":"Subcategory","v":"Subcategory"},{"$f":"Transporttype","v":"Transport type"},{"$f":"Fuel","v":"Fuel type"},"Million Pkm",null,null,null,null,null,null,{"$f":"Subcategory","v":"Subcategory"},"Million Tkm",null,null,null,null,null,null,{"$f":"vktMilkm","v":"Vkt [Mio. km]"},null,null,null,null,null,{"$f":"Occuprate","v":"occupancy [Person/vehicle]"},null,null,null,null,null,{"$f":"loadvehicle","v":"Load per vehicle [Tons/vehicle]"}]
[null,null,null,null,null,{"$f":"$B$3","v":0},2020,2025,2030,2040,2050,null,null,{"$f":"$B$3","v":0},2020,2025,2030,2040,2050,null,2020,2025,2030,2040,2050,null,2020,2025,2030,2040,2050,null,2020,2025,2030,2040,2050]
[null,{"$f":"Scen1","v":"Scenario 1)"},{"$f":"NMT","v":"NMT"},{"$f":"Pass","v":"Passengers"},{"$f":"all","v":"all"},{"$f":"SUMIF($C$12:$F$27,$C66,$AA$12:$AA$27)","v":0},{"$f":"SUMIF('2A Input Climat Scen. Pass.'!$I$19:$I$29,'4B Calcul. Climat Scen.'!$C66,'2A Input Climat Scen. Pass.'!C$19:C$29)","v":0},{"$f":"SUMIF('2A Input Climat Scen. Pass.'!$I$19:$I$29,'4B Calcul. Climat Scen.'!$C66,'2A Input Climat Scen. Pass.'!D$19:D$29)","v":0},{"$f":"SUMIF('2A Input Climat Scen. Pass.'!$I$19:$I$29,'4B Calcul. Climat Scen.'!$C66,'2A Input Climat Scen. Pass.'!E$19:E$29)","v":0},{"$f":"SUMIF('2A Input Climat Scen. Pass.'!$I$19:$I$29,'4B Calcul. Climat Scen.'!$C66,'2A Input Climat Scen. Pass.'!F$19:F$29)","v":0},{"$f":"SUMIF('2A Input Climat Scen. Pass.'!$I$19:$I$29,'4B Calcul. Climat Scen.'!$C66,'2A Input Climat Scen. Pass.'!G$19:G$29)","v":0},null,null,null,null,null,null,null,null,null,{"$f":"SUMIF('2A Input Climat Scen. Pass.'!$B$19:$B$29,$C66,'2A Input Climat Scen. Pass.'!J$19:J$29)","v":0},{"$f":"SUMIF('2A Input Climat Scen. Pass.'!$B$19:$B$29,$C66,'2A Input Climat Scen. Pass.'!K$19:K$29)","v":0},{"$f":"SUMIF('2A Input Climat Scen. Pass.'!$B$19:$B$29,$C66,'2A Input Climat Scen. Pass.'!L$19:L$29)","v":0},{"$f":"SUMIF('2A Input Climat Scen. Pass.'!$B$19:$B$29,$C66,'2A Input Climat Scen. Pass.'!M$19:M$29)","v":0},{"$f":"SUMIF('2A Input Climat Scen. Pass.'!$B$19:$B$29,$C66,'2A Input Climat Scen. Pass.'!N$19:N$29)","v":0},null,{"$f":"IFERROR(G66/U66,\"\")","v":""},{"$f":"IFERROR(H66/V66,\"\")","v":""},{"$f":"IFERROR(I66/W66,\"\")","v":""},{"$f":"IFERROR(J66/X66,\"\")","v":""},{"$f":"IFERROR(K66/Y66,\"\")","v":""}]
[null,"Scenario 1)",{"$f":"Pcar","v":"Private car"},"Passengers","all",{"$f":"SUMIF($C$12:$D$27,$C67,$AA$12:$AA$27)","v":0},{"$f":"SUMIF('2A Input Climat Scen. Pass.'!$I$19:$I$29,'4B Calcul. Climat Scen.'!$C67,'2A Input Climat Scen. Pass.'!C$19:C$29)","v":0},{"$f":"SUMIF('2A Input Climat Scen. Pass.'!$I$19:$I$29,'4B Calcul. Climat Scen.'!$C67,'2A Input Climat Scen. Pass.'!D$19:D$29)","v":0},{"$f":"SUMIF('2A Input Climat Scen. Pass.'!$I$19:$I$29,'4B Calcul. Climat Scen.'!$C67,'2A Input Climat Scen. Pass.'!E$19:E$29)","v":0},{"$f":"SUMIF('2A Input Climat Scen. Pass.'!$I$19:$I$29,'4B Calcul. Climat Scen.'!$C67,'2A Input Climat Scen. Pass.'!F$19:F$29)","v":0},{"$f":"SUMIF('2A Input Climat Scen. Pass.'!$I$19:$I$29,'4B Calcul. Climat Scen.'!$C67,'2A Input Climat Scen. Pass.'!G$19:G$29)","v":0},null,null,null,null,null,null,null,null,null,{"$f":"SUMIF('2A Input Climat Scen. Pass.'!$B$19:$B$29,$C67,'2A Input Climat Scen. Pass.'!J$19:J$29)","v":0},{"$f":"SUMIF('2A Input Climat Scen. Pass.'!$B$19:$B$29,$C67,'2A Input Climat Scen. Pass.'!K$19:K$29)","v":0},{"$f":"SUMIF('2A Input Climat Scen. Pass.'!$B$19:$B$29,$C67,'2A Input Climat Scen. Pass.'!L$19:L$29)","v":0},{"$f":"SUMIF('2A Input Climat Scen. Pass.'!$B$19:$B$29,$C67,'2A Input Climat Scen. Pass.'!M$19:M$29)","v":0},{"$f":"SUMIF('2A Input Climat Scen. Pass.'!$B$19:$B$29,$C67,'2A Input Climat Scen. Pass.'!N$19:N$29)","v":0},null,{"$f":"IFERROR(G67/U67,\"\")","v":""},{"$f":"IFERROR(H67/V67,\"\")","v":""},"","",""]
[null,"Scenario 1)",{"$f":"Itaxi","v":"Individual taxi"},"Passengers","all",{"$f":"SUMIF($C$12:$F$27,$C68,$AA$12:$AA$27)","v":0},{"$f":"SUMIF('2A Input Climat Scen. Pass.'!$I$19:$I$29,'4B Calcul. Climat Scen.'!$C68,'2A Input Climat Scen. Pass.'!C$19:C$29)","v":0},{"$f":"SUMIF('2A Input Climat Scen. Pass.'!$I$19:$I$29,'4B Calcul. Climat Scen.'!$C68,'2A Input Climat Scen. Pass.'!D$19:D$29)","v":0},{"$f":"SUMIF('2A Input Climat Scen. Pass.'!$I$19:$I$29,'4B Calcul. Climat Scen.'!$C68,'2A Input Climat Scen. Pass.'!E$19:E$29)","v":0},{"$f":"SUMIF('2A Input Climat Scen. Pass.'!$I$19:$I$29,'4B Calcul. Climat Scen.'!$C68,'2A Input Climat Scen. Pass.'!F$19:F$29)","v":0},{"$f":"SUMIF('2A Input Climat Scen. Pass.'!$I$19:$I$29,'4B Calcul. Climat Scen.'!$C68,'2A Input Climat Scen. Pass.'!G$19:G$29)","v":0},null,null,null,null,null,null,null,null,null,{"$f":"SUMIF('2A Input Climat Scen. Pass.'!$B$19:$B$29,$C68,'2A Input Climat Scen. Pass.'!J$19:J$29)","v":0},{"$f":"SUMIF('2A Input Climat Scen. Pass.'!$B$19:$B$29,$C68,'2A Input Climat Scen. Pass.'!K$19:K$29)","v":0},{"$f":"SUMIF('2A Input Climat Scen. Pass.'!$B$19:$B$29,$C68,'2A Input Climat Scen. Pass.'!L$19:L$29)","v":0},{"$f":"SUMIF('2A Input Climat Scen. Pass.'!$B$19:$B$29,$C68,'2A Input Climat Scen. Pass.'!M$19:M$29)","v":0},{"$f":"SUMIF('2A Input Climat Scen. Pass.'!$B$19:$B$29,$C68,'2A Input Climat Scen. Pass.'!N$19:N$29)","v":0},null,"","","","",""]
[null,"Scenario 1)",{"$f":"Motorcycle","v":"Motorcycle"},"Passengers","all",{"$f":"SUMIF($C$12:$F$27,$C69,$AA$12:$AA$27)","v":0},{"$f":"SUMIF('2A Input Climat Scen. Pass.'!$I$19:$I$29,'4B Calcul. Climat Scen.'!$C69,'2A Input Climat Scen. Pass.'!C$19:C$29)","v":0},{"$f":"SUMIF('2A Input Climat Scen. Pass.'!$I$19:$I$29,'4B Calcul. Climat Scen.'!$C69,'2A Input Climat Scen. Pass.'!D$19:D$29)","v":0},{"$f":"SUMIF('2A Input Climat Scen. Pass.'!$I$19:$I$29,'4B Calcul. Climat Scen.'!$C69,'2A Input Climat Scen. Pass.'!E$19:E$29)","v":0},{"$f":"SUMIF('2A Input Climat Scen. Pass.'!$I$19:$I$29,'4B Calcul. Climat Scen.'!$C69,'2A Input Climat Scen. Pass.'!F$19:F$29)","v":0},{"$f":"SUMIF('2A Input Climat Scen. Pass.'!$I$19:$I$29,'4B Calcul. Climat Scen.'!$C69,'2A Input Climat Scen. Pass.'!G$19:G$29)","v":0},null,null,null,null,null,null,null,null,null,{"$f":"SUMIF('2A Input Climat Scen. Pass.'!$B$19:$B$29,$C69,'2A Input Climat Scen. Pass.'!J$19:J$29)","v":0},{"$f":"SUMIF('2A Input Climat Scen. Pass.'!$B$19:$B$29,$C69,'2A Input Climat Scen. Pass.'!K$19:K$29)","v":0},{"$f":"SUMIF('2A Input Climat Scen. Pass.'!$B$19:$B$29,$C69,'2A Input Climat Scen. Pass.'!L$19:L$29)","v":0},{"$f":"SUMIF('2A Input Climat Scen. Pass.'!$B$19:$B$29,$C69,'2A Input Climat Scen. Pass.'!M$19:M$29)","v":0},{"$f":"SUMIF('2A Input Climat Scen. Pass.'!$B$19:$B$29,$C69,'2A Input Climat Scen. Pass.'!N$19:N$29)","v":0},null,"","","","",""]
[null,"Scenario 1)",{"$f":"Mototaxi","v":"Motorcycle taxi"},"Passengers","all",{"$f":"SUMIF($C$12:$F$27,$C70,$AA$12:$AA$27)","v":0},{"$f":"SUMIF('2A Input Climat Scen. Pass.'!$I$19:$I$29,'4B Calcul. Climat Scen.'!$C70,'2A Input Climat Scen. Pass.'!C$19:C$29)","v":0},{"$f":"SUMIF('2A Input Climat Scen. Pass.'!$I$19:$I$29,'4B Calcul. Climat Scen.'!$C70,'2A Input Climat Scen. Pass.'!D$19:D$29)","v":0},{"$f":"SUMIF('2A Input Climat Scen. Pass.'!$I$19:$I$29,'4B Calcul. Climat Scen.'!$C70,'2A Input Climat Scen. Pass.'!E$19:E$29)","v":0},{"$f":"SUMIF('2A Input Climat Scen. Pass.'!$I$19:$I$29,'4B Calcul. Climat Scen.'!$C70,'2A Input Climat Scen. Pass.'!F$19:F$29)","v":0},{"$f":"SUMIF('2A Input Climat Scen. Pass.'!$I$19:$I$29,'4B Calcul. Climat Scen.'!$C70,'2A Input Climat Scen. Pass.'!G$19:G$29)","v":0},null,null,null,null,null,null,null,null,null,{"$f":"SUMIF('2A Input Climat Scen. Pass.'!$B$19:$B$29,$C70,'2A Input Climat Scen. Pass.'!J$19:J$29)","v":0},{"$f":"SUMIF('2A Input Climat Scen. Pass.'!$B$19:$B$29,$C70,'2A Input Climat Scen. Pass.'!K$19:K$29)","v":0},{"$f":"SUMIF('2A Input Climat Scen. Pass.'!$B$19:$B$29,$C70,'2A Input Climat Scen. Pass.'!L$19:L$29)","v":0},{"$f":"SUMIF('2A Input Climat Scen. Pass.'!$B$19:$B$29,$C70,'2A Input Climat Scen. Pass.'!M$19:M$29)","v":0},{"$f":"SUMIF('2A Input Climat Scen. Pass.'!$B$19:$B$29,$C70,'2A Input Climat Scen. Pass.'!N$19:N$29)","v":0},null,"","","","",""]
[null,"Scenario 1)",{"$f":"Minibus","v":"Minibus"},"Passengers","all",0,{"$f":"SUMIF('2A Input Climat Scen. Pass.'!$I$19:$I$29,'4B Calcul. Climat Scen.'!$C71,'2A Input Climat Scen. Pass.'!C$19:C$29)","v":0},{"$f":"SUMIF('2A Input Climat Scen. Pass.'!$I$19:$I$29,'4B Calcul. Climat Scen.'!$C71,'2A Input Climat Scen. Pass.'!D$19:D$29)","v":0},{"$f":"SUMIF('2A Input Climat Scen. Pass.'!$I$19:$I$29,'4B Calcul. Climat Scen.'!$C71,'2A Input Climat Scen. Pass.'!E$19:E$29)","v":0},{"$f":"SUMIF('2A Input Climat Scen. Pass.'!$I$19:$I$29,'4B Calcul. Climat Scen.'!$C71,'2A Input Climat Scen. Pass.'!F$19:F$29)","v":0},{"$f":"SUMIF('2A Input Climat Scen. Pass.'!$I$19:$I$29,'4B Calcul. Climat Scen.'!$C71,'2A Input Climat Scen. Pass.'!G$19:G$29)","v":0},null,null,null,null,null,null,null,null,null,{"$f":"SUMIF('2A Input Climat Scen. Pass.'!$B$19:$B$29,$C71,'2A Input Climat Scen. Pass.'!J$19:J$29)","v":0},{"$f":"SUMIF('2A Input Climat Scen. Pass.'!$B$19:$B$29,$C71,'2A Input Climat Scen. Pass.'!K$19:K$29)","v":0},{"$f":"SUMIF('2A Input Climat Scen. Pass.'!$B$19:$B$29,$C71,'2A Input Climat Scen. Pass.'!L$19:L$29)","v":0},{"$f":"SUMIF('2A Input Climat Scen. Pass.'!$B$19:$B$29,$C71,'2A Input Climat Scen. Pass.'!M$19:M$29)","v":0},{"$f":"SUMIF('2A Input Climat Scen. Pass.'!$B$19:$B$29,$C71,'2A Input Climat Scen. Pass.'!N$19:N$29)","v":0},null,"","","","",""]
[null,"Scenario 1)",{"$f":"Bus","v":"Bus"},"Passengers","all",{"$f":"SUMIF($C$12:$F$27,$C72,$AA$12:$AA$27)","v":0},{"$f":"SUMIF('2A Input Climat Scen. Pass.'!$I$19:$I$29,'4B Calcul. Climat Scen.'!$C72,'2A Input Climat Scen. Pass.'!C$19:C$29)","v":0},{"$f":"SUMIF('2A Input Climat Scen. Pass.'!$I$19:$I$29,'4B Calcul. Climat Scen.'!$C72,'2A Input Climat Scen. Pass.'!D$19:D$29)","v":0},{"$f":"SUMIF('2A Input Climat Scen. Pass.'!$I$19:$I$29,'4B Calcul. Climat Scen.'!$C72,'2A Input Climat Scen. Pass.'!E$19:E$29)","v":0},{"$f":"SUMIF('2A Input Climat Scen. Pass.'!$I$19:$I$29,'4B Calcul. Climat Scen.'!$C72,'2A Input Climat Scen. Pass.'!F$19:F$29)","v":0},{"$f":"SUMIF('2A Input Climat Scen. Pass.'!$I$19:$I$29,'4B Calcul. Climat Scen.'!$C72,'2A Input Climat Scen. Pass.'!G$19:G$29)","v":0},null,null,null,null,null,null,null,null,null,{"$f":"SUMIF('2A Input Climat Scen. Pass.'!$B$19:$B$29,$C72,'2A Input Climat Scen. Pass.'!J$19:J$29)","v":0},{"$f":"SUMIF('2A Input Climat Scen. Pass.'!$B$19:$B$29,$C72,'2A Input Climat Scen. Pass.'!K$19:K$29)","v":0},{"$f":"SUMIF('2A Input Climat Scen. Pass.'!$B$19:$B$29,$C72,'2A Input Climat Scen. Pass.'!L$19:L$29)","v":0},{"$f":"SUMIF('2A Input Climat Scen. Pass.'!$B$19:$B$29,$C72,'2A Input Climat Scen. Pass.'!M$19:M$29)","v":0},{"$f":"SUMIF('2A Input Climat Scen. Pass.'!$B$19:$B$29,$C72,'2A Input Climat Scen. Pass.'!N$19:N$29)","v":0},null,"","","","",""]
[null,"Scenario 1)",{"$f":"BRT","v":"BRT"},"Passengers","all",0,{"$f":"SUMIF('2A Input Climat Scen. Pass.'!$I$19:$I$29,'4B Calcul. Climat Scen.'!$C73,'2A Input Climat Scen. Pass.'!C$19:C$29)","v":0},{"$f":"SUMIF('2A Input Climat Scen. Pass.'!$I$19:$I$29,'4B Calcul. Climat Scen.'!$C73,'2A Input Climat Scen. Pass.'!D$19:D$29)","v":0},{"$f":"SUMIF('2A Input Climat Scen. Pass.'!$I$19:$I$29,'4B Calcul. Climat Scen.'!$C73,'2A Input Climat Scen. Pass.'!E$19:E$29)","v":0},{"$f":"SUMIF('2A Input Climat Scen. Pass.'!$I$19:$I$29,'4B Calcul. Climat Scen.'!$C73,'2A Input Climat Scen. Pass.'!F$19:F$29)","v":0},{"$f":"SUMIF('2A Input Climat Scen. Pass.'!$I$19:$I$29,'4B Calcul. Climat Scen.'!$C73,'2A Input Climat Scen. Pass.'!G$19:G$29)","v":0},null,null,null,null,null,null,null,null,null,{"$f":"SUMIF('2A Input Climat Scen. Pass.'!$B$19:$B$29,$C73,'2A Input Climat Scen. Pass.'!J$19:J$29)","v":0},{"$f":"SUMIF('2A Input Climat Scen. Pass.'!$B$19:$B$29,$C73,'2A Input Climat Scen. Pass.'!K$19:K$29)","v":0},{"$f":"SUMIF('2A Input Climat Scen. Pass.'!$B$19:$B$29,$C73,'2A Input Climat Scen. Pass.'!L$19:L$29)","v":0},{"$f":"SUMIF('2A Input Climat Scen. Pass.'!$B$19:$B$29,$C73,'2A Input Climat Scen. Pass.'!M$19:M$29)","v":0},{"$f":"SUMIF('2A Input Climat Scen. Pass.'!$B$19:$B$29,$C73,'2A Input Climat Scen. Pass.'!N$19:N$29)","v":0},null,"",{"$f":"IFERROR(H73/V73,\"\")","v":""},"","",""]
[null,"Scenario 1)",{"$f":"Train","v":"Long distance train"},"Passengers","all",0,{"$f":"SUMIF('2A Input Climat Scen. Pass.'!$I$19:$I$29,'4B Calcul. Climat Scen.'!$C74,'2A Input Climat Scen. Pass.'!C$19:C$29)","v":0},{"$f":"SUMIF('2A Input Climat Scen. Pass.'!$I$19:$I$29,'4B Calcul. Climat Scen.'!$C74,'2A Input Climat Scen. Pass.'!D$19:D$29)","v":0},{"$f":"SUMIF('2A Input Climat Scen. Pass.'!$I$19:$I$29,'4B Calcul. Climat Scen.'!$C74,'2A Input Climat Scen. Pass.'!E$19:E$29)","v":0},{"$f":"SUMIF('2A Input Climat Scen. Pass.'!$I$19:$I$29,'4B Calcul. Climat Scen.'!$C74,'2A Input Climat Scen. Pass.'!F$19:F$29)","v":0},{"$f":"SUMIF('2A Input Climat Scen. Pass.'!$I$19:$I$29,'4B Calcul. Climat Scen.'!$C74,'2A Input Climat Scen. Pass.'!G$19:G$29)","v":0},null,null,null,null,null,null,null,null,null,{"$f":"SUMIF('2A Input Climat Scen. Pass.'!$B$19:$B$29,$C74,'2A Input Climat Scen. Pass.'!J$19:J$29)","v":0},{"$f":"SUMIF('2A Input Climat Scen. Pass.'!$B$19:$B$29,$C74,'2A Input Climat Scen. Pass.'!K$19:K$29)","v":0},{"$f":"SUMIF('2A Input Climat Scen. Pass.'!$B$19:$B$29,$C74,'2A Input Climat Scen. Pass.'!L$19:L$29)","v":0},{"$f":"SUMIF('2A Input Climat Scen. Pass.'!$B$19:$B$29,$C74,'2A Input Climat Scen. Pass.'!M$19:M$29)","v":0},{"$f":"SUMIF('2A Input Climat Scen. Pass.'!$B$19:$B$29,$C74,'2A Input Climat Scen. Pass.'!N$19:N$29)","v":0},null,"","","","",""]
[null,"Scenario 1)",{"$f":"Utrain","v":"Urban train"},"Passengers","all",0,{"$f":"SUMIF('2A Input Climat Scen. Pass.'!$I$19:$I$29,'4B Calcul. Climat Scen.'!$C75,'2A Input Climat Scen. Pass.'!C$19:C$29)","v":0},{"$f":"SUMIF('2A Input Climat Scen. Pass.'!$I$19:$I$29,'4B Calcul. Climat Scen.'!$C75,'2A Input Climat Scen. Pass.'!D$19:D$29)","v":0},{"$f":"SUMIF('2A Input Climat Scen. Pass.'!$I$19:$I$29,'4B Calcul. Climat Scen.'!$C75,'2A Input Climat Scen. Pass.'!E$19:E$29)","v":0},{"$f":"SUMIF('2A Input Climat Scen. Pass.'!$I$19:$I$29,'4B Calcul. Climat Scen.'!$C75,'2A Input Climat Scen. Pass.'!F$19:F$29)","v":0},{"$f":"SUMIF('2A Input Climat Scen. Pass.'!$I$19:$I$29,'4B Calcul. Climat Scen.'!$C75,'2A Input Climat Scen. Pass.'!G$19:G$29)","v":0},null,null,null,null,null,null,null,null,null,{"$f":"SUMIF('2A Input Climat Scen. Pass.'!$B$19:$B$29,$C75,'2A Input Climat Scen. Pass.'!J$19:J$29)","v":0},{"$f":"SUMIF('2A Input Climat Scen. Pass.'!$B$19:$B$29,$C75,'2A Input Climat Scen. Pass.'!K$19:K$29)","v":0},{"$f":"SUMIF('2A Input Climat Scen. Pass.'!$B$19:$B$29,$C75,'2A Input Climat Scen. Pass.'!L$19:L$29)","v":0},{"$f":"SUMIF('2A Input Climat Scen. Pass.'!$B$19:$B$29,$C75,'2A Input Climat Scen. Pass.'!M$19:M$29)","v":0},{"$f":"SUMIF('2A Input Climat Scen. Pass.'!$B$19:$B$29,$C75,'2A Input Climat Scen. Pass.'!N$19:N$29)","v":0},null,"","","","",""]
[null,"Scenario 1)",{"$f":"Metro","v":"Metro"},"Passengers","all",0,{"$f":"SUMIF('2A Input Climat Scen. Pass.'!$I$19:$I$29,'4B Calcul. Climat Scen.'!$C76,'2A Input Climat Scen. Pass.'!C$19:C$29)","v":0},{"$f":"SUMIF('2A Input Climat Scen. Pass.'!$I$19:$I$29,'4B Calcul. Climat Scen.'!$C76,'2A Input Climat Scen. Pass.'!D$19:D$29)","v":0},{"$f":"SUMIF('2A Input Climat Scen. Pass.'!$I$19:$I$29,'4B Calcul. Climat Scen.'!$C76,'2A Input Climat Scen. Pass.'!E$19:E$29)","v":0},{"$f":"SUMIF('2A Input Climat Scen. Pass.'!$I$19:$I$29,'4B Calcul. Climat Scen.'!$C76,'2A Input Climat Scen. Pass.'!F$19:F$29)","v":0},{"$f":"SUMIF('2A Input Climat Scen. Pass.'!$I$19:$I$29,'4B Calcul. Climat Scen.'!$C76,'2A Input Climat Scen. Pass.'!G$19:G$29)","v":0},null,null,null,null,null,null,null,null,null,{"$f":"SUMIF('2A Input Climat Scen. Pass.'!$B$19:$B$29,$C76,'2A Input Climat Scen. Pass.'!J$19:J$29)","v":0},{"$f":"SUMIF('2A Input Climat Scen. Pass.'!$B$19:$B$29,$C76,'2A Input Climat Scen. Pass.'!K$19:K$29)","v":0},{"$f":"SUMIF('2A Input Climat Scen. Pass.'!$B$19:$B$29,$C76,'2A Input Climat Scen. Pass.'!L$19:L$29)","v":0},{"$f":"SUMIF('2A Input Climat Scen. Pass.'!$B$19:$B$29,$C76,'2A Input Climat Scen. Pass.'!M$19:M$29)","v":0},{"$f":"SUMIF('2A Input Climat Scen. Pass.'!$B$19:$B$29,$C76,'2A Input Climat Scen. Pass.'!N$19:N$29)","v":0},null,"","","","",""]
[null,"Scenario 1)",{"$f":"lightLCV","v":"Very light LCV"},{"$f":"freight","v":"Freight"},"all",null,null,null,null,null,null,null,{"$f":"lightLCV","v":"Very light LCV"},{"$f":"SUMIF($C$12:$C$27,$M77,$AH$12:$AH$27)","v":0},{"$f":"SUMIF('2B Input Climat Scen. Freight'!$B$24:$B$28,$M77,'2B Input Climat Scen. Freight'!C$24:C$28)","v":0},{"$f":"SUMIF('2B Input Climat Scen. Freight'!$B$24:$B$28,$M77,'2B Input Climat Scen. Freight'!D$24:D$28)","v":0},{"$f":"SUMIF('2B Input Climat Scen. Freight'!$B$24:$B$28,$M77,'2B Input Climat Scen. Freight'!E$24:E$28)","v":0},{"$f":"SUMIF('2B Input Climat Scen. Freight'!$B$24:$B$28,$M77,'2B Input Climat Scen. Freight'!F$24:F$28)","v":0},{"$f":"SUMIF('2B Input Climat Scen. Freight'!$B$24:$B$28,$M77,'2B Input Climat Scen. Freight'!G$24:G$28)","v":0},"achtung hiier Formel für Freight",{"$f":"SUMIF('2B Input Climat Scen. Freight'!$I$24:$I$28,'4B Calcul. Climat Scen.'!$M77,'2B Input Climat Scen. Freight'!J$24:J$28)","v":0},{"$f":"SUMIF('2B Input Climat Scen. Freight'!$I$24:$I$28,'4B Calcul. Climat Scen.'!$M77,'2B Input Climat Scen. Freight'!K$24:K$28)","v":0},{"$f":"SUMIF('2B Input Climat Scen. Freight'!$I$24:$I$28,'4B Calcul. Climat Scen.'!$M77,'2B Input Climat Scen. Freight'!L$24:L$28)","v":0},{"$f":"SUMIF('2B Input Climat Scen. Freight'!$I$24:$I$28,'4B Calcul. Climat Scen.'!$M77,'2B Input Climat Scen. Freight'!M$24:M$28)","v":0},{"$f":"SUMIF('2B Input Climat Scen. Freight'!$I$24:$I$28,'4B Calcul. Climat Scen.'!$M77,'2B Input Climat Scen. Freight'!N$24:N$28)","v":0},null,null,null,null,null,null,null,{"$f":"IFERROR(O77/U77,\"\")","v":""},{"$f":"IFERROR(P77/V77,\"\")","v":""},"","",""]
[null,"Scenario 1)",{"$f":"LCV","v":"LCV"},{"$f":"freight","v":"Freight"},"all",null,null,null,null,null,null,null,{"$f":"LCV","v":"LCV"},{"$f":"SUMIF($C$12:$C$27,$M78,$AH$12:$AH$27)","v":0},{"$f":"SUMIF('2B Input Climat Scen. Freight'!$B$24:$B$28,$M78,'2B Input Climat Scen. Freight'!C$24:C$28)","v":0},{"$f":"SUMIF('2B Input Climat Scen. Freight'!$B$24:$B$28,$M78,'2B Input Climat Scen. Freight'!D$24:D$28)","v":0},{"$f":"SUMIF('2B Input Climat Scen. Freight'!$B$24:$B$28,$M78,'2B Input Climat Scen. Freight'!E$24:E$28)","v":0},{"$f":"SUMIF('2B Input Climat Scen. Freight'!$B$24:$B$28,$M78,'2B Input Climat Scen. Freight'!F$24:F$28)","v":0},{"$f":"SUMIF('2B Input Climat Scen. Freight'!$B$24:$B$28,$M78,'2B Input Climat Scen. Freight'!G$24:G$28)","v":0},null,{"$f":"SUMIF('2B Input Climat Scen. Freight'!$I$24:$I$28,'4B Calcul. Climat Scen.'!$M78,'2B Input Climat Scen. Freight'!J$24:J$28)","v":0},{"$f":"SUMIF('2B Input Climat Scen. Freight'!$I$24:$I$28,'4B Calcul. Climat Scen.'!$M78,'2B Input Climat Scen. Freight'!K$24:K$28)","v":0},{"$f":"SUMIF('2B Input Climat Scen. Freight'!$I$24:$I$28,'4B Calcul. Climat Scen.'!$M78,'2B Input Climat Scen. Freight'!L$24:L$28)","v":0},{"$f":"SUMIF('2B Input Climat Scen. Freight'!$I$24:$I$28,'4B Calcul. Climat Scen.'!$M78,'2B Input Climat Scen. Freight'!M$24:M$28)","v":0},{"$f":"SUMIF('2B Input Climat Scen. Freight'!$I$24:$I$28,'4B Calcul. Climat Scen.'!$M78,'2B Input Climat Scen. Freight'!N$24:N$28)","v":0},null,null,null,null,null,null,null,{"$f":"IFERROR(O78/U78,\"\")","v":""},"","","",""]
[null,"Scenario 1)",{"$f":"Solo","v":"Solo truck"},{"$f":"freight","v":"Freight"},"all",null,null,null,null,null,null,null,{"$f":"Solo","v":"Solo truck"},{"$f":"SUMIF($C$12:$C$27,$M79,$AH$12:$AH$27)","v":0},{"$f":"SUMIF('2B Input Climat Scen. Freight'!$B$24:$B$28,$M79,'2B Input Climat Scen. Freight'!C$24:C$28)","v":0},{"$f":"SUMIF('2B Input Climat Scen. Freight'!$B$24:$B$28,$M79,'2B Input Climat Scen. Freight'!D$24:D$28)","v":0},{"$f":"SUMIF('2B Input Climat Scen. Freight'!$B$24:$B$28,$M79,'2B Input Climat Scen. Freight'!E$24:E$28)","v":0},{"$f":"SUMIF('2B Input Climat Scen. Freight'!$B$24:$B$28,$M79,'2B Input Climat Scen. Freight'!F$24:F$28)","v":0},{"$f":"SUMIF('2B Input Climat Scen. Freight'!$B$24:$B$28,$M79,'2B Input Climat Scen. Freight'!G$24:G$28)","v":0},null,{"$f":"SUMIF('2B Input Climat Scen. Freight'!$I$24:$I$28,'4B Calcul. Climat Scen.'!$M79,'2B Input Climat Scen. Freight'!J$24:J$28)","v":0},{"$f":"SUMIF('2B Input Climat Scen. Freight'!$I$24:$I$28,'4B Calcul. Climat Scen.'!$M79,'2B Input Climat Scen. Freight'!K$24:K$28)","v":0},{"$f":"SUMIF('2B Input Climat Scen. Freight'!$I$24:$I$28,'4B Calcul. Climat Scen.'!$M79,'2B Input Climat Scen. Freight'!L$24:L$28)","v":0},{"$f":"SUMIF('2B Input Climat Scen. Freight'!$I$24:$I$28,'4B Calcul. Climat Scen.'!$M79,'2B Input Climat Scen. Freight'!M$24:M$28)","v":0},{"$f":"SUMIF('2B Input Climat Scen. Freight'!$I$24:$I$28,'4B Calcul. Climat Scen.'!$M79,'2B Input Climat Scen. Freight'!N$24:N$28)","v":0},null,null,null,null,null,null,null,"","","","",""]
[null,"Scenario 1)",{"$f":"Atruck","v":"Articulated truck"},{"$f":"freight","v":"Freight"},"all",null,null,null,null,null,null,null,{"$f":"Atruck","v":"Articulated truck"},{"$f":"SUMIF($C$12:$C$27,$M80,$AH$12:$AH$27)","v":0},{"$f":"SUMIF('2B Input Climat Scen. Freight'!$B$24:$B$28,$M80,'2B Input Climat Scen. Freight'!C$24:C$28)","v":0},{"$f":"SUMIF('2B Input Climat Scen. Freight'!$B$24:$B$28,$M80,'2B Input Climat Scen. Freight'!D$24:D$28)","v":0},{"$f":"SUMIF('2B Input Climat Scen. Freight'!$B$24:$B$28,$M80,'2B Input Climat Scen. Freight'!E$24:E$28)","v":0},{"$f":"SUMIF('2B Input Climat Scen. Freight'!$B$24:$B$28,$M80,'2B Input Climat Scen. Freight'!F$24:F$28)","v":0},{"$f":"SUMIF('2B Input Climat Scen. Freight'!$B$24:$B$28,$M80,'2B Input Climat Scen. Freight'!G$24:G$28)","v":0},null,{"$f":"SUMIF('2B Input Climat Scen. Freight'!$I$24:$I$28,'4B Calcul. Climat Scen.'!$M80,'2B Input Climat Scen. Freight'!J$24:J$28)","v":0},{"$f":"SUMIF('2B Input Climat Scen. Freight'!$I$24:$I$28,'4B Calcul. Climat Scen.'!$M80,'2B Input Climat Scen. Freight'!K$24:K$28)","v":0},{"$f":"SUMIF('2B Input Climat Scen. Freight'!$I$24:$I$28,'4B Calcul. Climat Scen.'!$M80,'2B Input Climat Scen. Freight'!L$24:L$28)","v":0},{"$f":"SUMIF('2B Input Climat Scen. Freight'!$I$24:$I$28,'4B Calcul. Climat Scen.'!$M80,'2B Input Climat Scen. Freight'!M$24:M$28)","v":0},{"$f":"SUMIF('2B Input Climat Scen. Freight'!$I$24:$I$28,'4B Calcul. Climat Scen.'!$M80,'2B Input Climat Scen. Freight'!N$24:N$28)","v":0},null,null,null,null,null,null,null,"","","","",""]
[null,"Scenario 1)",{"$f":"Ftrain","v":"Freight train"},{"$f":"freight","v":"Freight"},"all",null,null,null,null,null,null,null,{"$f":"Ftrain","v":"Freight train"},{"$f":"SUMIF($C$12:$C$27,$M81,$AH$12:$AH$27)","v":0},{"$f":"SUMIF('2B Input Climat Scen. Freight'!$B$24:$B$28,$M81,'2B Input Climat Scen. Freight'!C$24:C$28)","v":0},{"$f":"SUMIF('2B Input Climat Scen. Freight'!$B$24:$B$28,$M81,'2B Input Climat Scen. Freight'!D$24:D$28)","v":0},{"$f":"SUMIF('2B Input Climat Scen. Freight'!$B$24:$B$28,$M81,'2B Input Climat Scen. Freight'!E$24:E$28)","v":0},{"$f":"SUMIF('2B Input Climat Scen. Freight'!$B$24:$B$28,$M81,'2B Input Climat Scen. Freight'!F$24:F$28)","v":0},{"$f":"SUMIF('2B Input Climat Scen. Freight'!$B$24:$B$28,$M81,'2B Input Climat Scen. Freight'!G$24:G$28)","v":0},null,{"$f":"SUMIF('2B Input Climat Scen. Freight'!$I$24:$I$28,'4B Calcul. Climat Scen.'!$M81,'2B Input Climat Scen. Freight'!J$24:J$28)","v":0},{"$f":"SUMIF('2B Input Climat Scen. Freight'!$I$24:$I$28,'4B Calcul. Climat Scen.'!$M81,'2B Input Climat Scen. Freight'!K$24:K$28)","v":0},{"$f":"SUMIF('2B Input Climat Scen. Freight'!$I$24:$I$28,'4B Calcul. Climat Scen.'!$M81,'2B Input Climat Scen. Freight'!L$24:L$28)","v":0},{"$f":"SUMIF('2B Input Climat Scen. Freight'!$I$24:$I$28,'4B Calcul. Climat Scen.'!$M81,'2B Input Climat Scen. Freight'!M$24:M$28)","v":0},{"$f":"SUMIF('2B Input Climat Scen. Freight'!$I$24:$I$28,'4B Calcul. Climat Scen.'!$M81,'2B Input Climat Scen. Freight'!N$24:N$28)","v":0},null,null,null,null,null,null,null,"","","","",""]
[]
[]
[]
[]
[{"$f":"Descri65","v":"Climate scenario by category: 1) Avoid motorised vkt"}]
[null,{"$f":"Input","v":"Data input"},{"$f":"avoidedvkt","v":"Avoided motorised vkt [%]"},null,null,null,null,null,{"$f":"scenario","v":"Scenario"},{"$f":"Category","v":"Category"},{"$f":"Transporttype","v":"Transport type"},{"$f":"Fuel","v":"Fuel type"},{"$f":"vktMilkm","v":"Vkt [Mio. km]"},null,null,null,null,null,{"$f":"Occuprate","v":"occupancy [Person/vehicle]"},null,null,null,null,null,{"$f":"loadvehicle","v":"Load per vehicle [Tons/vehicle]"},null,null,null,null,null,"Million Pkm",null,null,null,null,null,"Million Tkm",null,null,null,null,null,{"$f":"TotalGHGTTW1000t","v":"Total emission CO2 eq [1000t] TTW"}]
[null,{"$f":"Subcategory","v":"Subcategory"},2020,2025,2030,2040,2050,null,null,null,null,null,2020,2025,2030,2040,2050,null,2020,2025,2030,2040,2050,null,2020,2025,2030,2040,2050,null,2020,2025,2030,2040,2050,null,2020,2025,2030,2040,2050,null,2020,2025,2030,2040,2050]
[null,{"$f":"NMT","v":"NMT"},{"$f":"SUMIF('2A Input Climat Scen. Pass.'!$B$38:$B$49,'4B Calcul. Climat Scen.'!$B89,'2A Input Climat Scen. Pass.'!J$38:J$49)","v":0},{"$f":"SUMIF('2A Input Climat Scen. Pass.'!$B$38:$B$49,'4B Calcul. Climat Scen.'!$B89,'2A Input Climat Scen. Pass.'!K$38:K$49)","v":0},{"$f":"SUMIF('2A Input Climat Scen. Pass.'!$B$38:$B$49,'4B Calcul. Climat Scen.'!$B89,'2A Input Climat Scen. Pass.'!L$38:L$49)","v":0},{"$f":"SUMIF('2A Input Climat Scen. Pass.'!$B$38:$B$49,'4B Calcul. Climat Scen.'!$B89,'2A Input Climat Scen. Pass.'!M$38:M$49)","v":0},{"$f":"SUMIF('2A Input Climat Scen. Pass.'!$B$38:$B$49,'4B Calcul. Climat Scen.'!$B89,'2A Input Climat Scen. Pass.'!N$38:N$49)","v":0},null,{"$f":"Scen1","v":"Scenario 1)"},{"$f":"NMT","v":"NMT"},{"$f":"Pass","v":"Passengers"},{"$f":"all","v":"all"},{"$f":"L38*(1-'4B Calcul. Climat Scen.'!C89)","v":0},{"$f":"M38*(1-'4B Calcul. Climat Scen.'!D89)","v":0},{"$f":"N38*(1-'4B Calcul. Climat Scen.'!E89)","v":0},{"$f":"O38*(1-'4B Calcul. Climat Scen.'!F89)","v":0},{"$f":"P38*(1-'4B Calcul. Climat Scen.'!G89)","v":0},null,{"$f":"IF(AA66=\"\",R38,AA66)","v":0},{"$f":"IF(AB66=\"\",S38,AB66)","v":1},{"$f":"IF(AC66=\"\",T38,AC66)","v":1},1,1,null,null,null,null,null,null,null,{"$f":"+M89*S89","v":0},{"$f":"+N89*T89","v":0},0,0,0,null,null,null,null,null,null,null,{"$f":"SUMIF($J$89:$J$104,$J89,M$89:M$104)*SUMIF($AP$375:$AP$390,$J89,AQ$375:AQ$390)","v":0},{"$f":"SUMIF($J$89:$J$104,$J89,N$89:N$104)*SUMIF($AP$375:$AP$390,$J89,AR$375:AR$390)","v":0},{"$f":"SUMIF($J$89:$J$104,$J89,O$89:O$104)*SUMIF($AP$375:$AP$390,$J89,AS$375:AS$390)","v":0},{"$f":"SUMIF($J$89:$J$104,$J89,P$89:P$104)*SUMIF($AP$375:$AP$390,$J89,AT$375:AT$390)","v":0},{"$f":"SUMIF($J$89:$J$104,$J89,Q$89:Q$104)*SUMIF($AP$375:$AP$390,$J89,AU$375:AU$390)","v":0}]
[null,{"$f":"Pcar","v":"Private car"},{"$f":"SUMIF('2A Input Climat Scen. Pass.'!$B$38:$B$49,'4B Calcul. Climat Scen.'!$B90,'2A Input Climat Scen. Pass.'!J$38:J$49)","v":0},{"$f":"SUMIF('2A Input Climat Scen. Pass.'!$B$38:$B$49,'4B Calcul. Climat Scen.'!$B90,'2A Input Climat Scen. Pass.'!K$38:K$49)","v":0},{"$f":"SUMIF('2A Input Climat Scen. Pass.'!$B$38:$B$49,'4B Calcul. Climat Scen.'!$B90,'2A Input Climat Scen. Pass.'!L$38:L$49)","v":0},{"$f":"SUMIF('2A Input Climat Scen. Pass.'!$B$38:$B$49,'4B Calcul. Climat Scen.'!$B90,'2A Input Climat Scen. Pass.'!M$38:M$49)","v":0},{"$f":"SUMIF('2A Input Climat Scen. Pass.'!$B$38:$B$49,'4B Calcul. Climat Scen.'!$B90,'2A Input Climat Scen. Pass.'!N$38:N$49)","v":0},null,"Scenario 1)",{"$f":"Pcar","v":"Private car"},"Passengers","all",{"$f":"L39*(1-'4B Calcul. Climat Scen.'!C90)","v":0},{"$f":"M39*(1-'4B Calcul. Climat Scen.'!D90)","v":0},{"$f":"N39*(1-'4B Calcul. Climat Scen.'!E90)","v":0},{"$f":"O39*(1-'4B Calcul. Climat Scen.'!F90)","v":0},{"$f":"P39*(1-'4B Calcul. Climat Scen.'!G90)","v":0},null,{"$f":"IF(AA67=\"\",R39,AA67)","v":0},0,0,0,0,null,null,null,null,null,null,null,{"$f":"+M90*S90","v":0},{"$f":"+N90*T90","v":0},0,0,0,null,null,null,null,null,null,null,{"$f":"SUMIF($J$89:$J$104,$J90,M$89:M$104)*SUMIF($AP$375:$AP$390,$J90,AQ$375:AQ$390)","v":0},0,{"$f":"SUMIF($J$89:$J$104,$J90,O$89:O$104)*SUMIF($AP$375:$AP$390,$J90,AS$375:AS$390)","v":0},0,0]
[null,{"$f":"Itaxi","v":"Individual taxi"},{"$f":"SUMIF('2A Input Climat Scen. Pass.'!$B$38:$B$49,'4B Calcul. Climat Scen.'!$B91,'2A Input Climat Scen. Pass.'!J$38:J$49)","v":0},{"$f":"SUMIF('2A Input Climat Scen. Pass.'!$B$38:$B$49,'4B Calcul. Climat Scen.'!$B91,'2A Input Climat Scen. Pass.'!K$38:K$49)","v":0},{"$f":"SUMIF('2A Input Climat Scen. Pass.'!$B$38:$B$49,'4B Calcul. Climat Scen.'!$B91,'2A Input Climat Scen. Pass.'!L$38:L$49)","v":0},{"$f":"SUMIF('2A Input Climat Scen. Pass.'!$B$38:$B$49,'4B Calcul. Climat Scen.'!$B91,'2A Input Climat Scen. Pass.'!M$38:M$49)","v":0},{"$f":"SUMIF('2A Input Climat Scen. Pass.'!$B$38:$B$49,'4B Calcul. Climat Scen.'!$B91,'2A Input Climat Scen. Pass.'!N$38:N$49)","v":0},null,{"$f":"Scen1","v":"Scenario 1)"},{"$f":"Itaxi","v":"Individual taxi"},{"$f":"Pass","v":"Passengers"},{"$f":"all","v":"all"},{"$f":"L40*(1-'4B Calcul. Climat Scen.'!C91)","v":0},{"$f":"M40*(1-'4B Calcul. Climat Scen.'!D91)","v":0},{"$f":"N40*(1-'4B Calcul. Climat Scen.'!E91)","v":0},{"$f":"O40*(1-'4B Calcul. Climat Scen.'!F91)","v":0},{"$f":"P40*(1-'4B Calcul. Climat Scen.'!G91)","v":0},null,{"$f":"IF(AA68=\"\",R40,AA68)","v":0},0,0,0,0,null,null,null,null,null,null,null,{"$f":"+M91*S91","v":0},{"$f":"+N91*T91","v":0},{"$f":"+O91*U91","v":0},{"$f":"+P91*V91","v":0},{"$f":"+Q91*W91","v":0},null,null,null,null,null,null,null,0,0,0,0,0]
[null,{"$f":"Motorcycle","v":"Motorcycle"},{"$f":"SUMIF('2A Input Climat Scen. Pass.'!$B$38:$B$49,'4B Calcul. Climat Scen.'!$B92,'2A Input Climat Scen. Pass.'!J$38:J$49)","v":0},{"$f":"SUMIF('2A Input Climat Scen. Pass.'!$B$38:$B$49,'4B Calcul. Climat Scen.'!$B92,'2A Input Climat Scen. Pass.'!K$38:K$49)","v":0},{"$f":"SUMIF('2A Input Climat Scen. Pass.'!$B$38:$B$49,'4B Calcul. Climat Scen.'!$B92,'2A Input Climat Scen. Pass.'!L$38:L$49)","v":0},{"$f":"SUMIF('2A Input Climat Scen. Pass.'!$B$38:$B$49,'4B Calcul. Climat Scen.'!$B92,'2A Input Climat Scen. Pass.'!M$38:M$49)","v":0},{"$f":"SUMIF('2A Input Climat Scen. Pass.'!$B$38:$B$49,'4B Calcul. Climat Scen.'!$B92,'2A Input Climat Scen. Pass.'!N$38:N$49)","v":0},null,"Scenario 1)",{"$f":"Motorcycle","v":"Motorcycle"},"Passengers","all",{"$f":"L41*(1-'4B Calcul. Climat Scen.'!C92)","v":0},{"$f":"M41*(1-'4B Calcul. Climat Scen.'!D92)","v":0},{"$f":"N41*(1-'4B Calcul. Climat Scen.'!E92)","v":0},{"$f":"O41*(1-'4B Calcul. Climat Scen.'!F92)","v":0},{"$f":"P41*(1-'4B Calcul. Climat Scen.'!G92)","v":0},null,0,0,0,0,0,null,null,null,null,null,null,null,0,0,0,0,0,null,null,null,null,null,null,null,0,0,0,0,0]
[null,{"$f":"Mototaxi","v":"Motorcycle taxi"},{"$f":"SUMIF('2A Input Climat Scen. Pass.'!$B$38:$B$49,'4B Calcul. Climat Scen.'!$B93,'2A Input Climat Scen. Pass.'!J$38:J$49)","v":0},{"$f":"SUMIF('2A Input Climat Scen. Pass.'!$B$38:$B$49,'4B Calcul. Climat Scen.'!$B93,'2A Input Climat Scen. Pass.'!K$38:K$49)","v":0},{"$f":"SUMIF('2A Input Climat Scen. Pass.'!$B$38:$B$49,'4B Calcul. Climat Scen.'!$B93,'2A Input Climat Scen. Pass.'!L$38:L$49)","v":0},{"$f":"SUMIF('2A Input Climat Scen. Pass.'!$B$38:$B$49,'4B Calcul. Climat Scen.'!$B93,'2A Input Climat Scen. Pass.'!M$38:M$49)","v":0},{"$f":"SUMIF('2A Input Climat Scen. Pass.'!$B$38:$B$49,'4B Calcul. Climat Scen.'!$B93,'2A Input Climat Scen. Pass.'!N$38:N$49)","v":0},null,"Scenario 1)",{"$f":"Mototaxi","v":"Motorcycle taxi"},"Passengers","all",{"$f":"L42*(1-'4B Calcul. Climat Scen.'!C93)","v":0},{"$f":"M42*(1-'4B Calcul. Climat Scen.'!D93)","v":0},{"$f":"N42*(1-'4B Calcul. Climat Scen.'!E93)","v":0},{"$f":"O42*(1-'4B Calcul. Climat Scen.'!F93)","v":0},{"$f":"P42*(1-'4B Calcul. Climat Scen.'!G93)","v":0},null,0,0,0,0,0,null,null,null,null,null,null,null,0,0,0,0,0,null,null,null,null,null,null,null,0,0,0,0,0]
[null,{"$f":"Minibus","v":"Minibus"},{"$f":"SUMIF('2A Input Climat Scen. Pass.'!$B$38:$B$49,'4B Calcul. Climat Scen.'!$B94,'2A Input Climat Scen. Pass.'!J$38:J$49)","v":0},{"$f":"SUMIF('2A Input Climat Scen. Pass.'!$B$38:$B$49,'4B Calcul. Climat Scen.'!$B94,'2A Input Climat Scen. Pass.'!K$38:K$49)","v":0},{"$f":"SUMIF('2A Input Climat Scen. Pass.'!$B$38:$B$49,'4B Calcul. Climat Scen.'!$B94,'2A Input Climat Scen. Pass.'!L$38:L$49)","v":0},{"$f":"SUMIF('2A Input Climat Scen. Pass.'!$B$38:$B$49,'4B Calcul. Climat Scen.'!$B94,'2A Input Climat Scen. Pass.'!M$38:M$49)","v":0},{"$f":"SUMIF('2A Input Climat Scen. Pass.'!$B$38:$B$49,'4B Calcul. Climat Scen.'!$B94,'2A Input Climat Scen. Pass.'!N$38:N$49)","v":0},null,"Scenario 1)",{"$f":"Minibus","v":"Minibus"},"Passengers","all",{"$f":"L43*(1-'4B Calcul. Climat Scen.'!C94)","v":0},{"$f":"M43*(1-'4B Calcul. Climat Scen.'!D94)","v":0},{"$f":"N43*(1-'4B Calcul. Climat Scen.'!E94)","v":0},{"$f":"O43*(1-'4B Calcul. Climat Scen.'!F94)","v":0},{"$f":"P43*(1-'4B Calcul. Climat Scen.'!G94)","v":0},null,0,0,{"$f":"IF(AC71=\"\",T43,AC71)","v":0},0,0,null,null,null,null,null,null,null,0,0,0,0,0,null,null,null,null,null,null,null,0,0,0,0,0]
[null,{"$f":"Bus","v":"Bus"},{"$f":"SUMIF('2A Input Climat Scen. Pass.'!$B$38:$B$49,'4B Calcul. Climat Scen.'!$B95,'2A Input Climat Scen. Pass.'!J$38:J$49)","v":0},{"$f":"SUMIF('2A Input Climat Scen. Pass.'!$B$38:$B$49,'4B Calcul. Climat Scen.'!$B95,'2A Input Climat Scen. Pass.'!K$38:K$49)","v":0},{"$f":"SUMIF('2A Input Climat Scen. Pass.'!$B$38:$B$49,'4B Calcul. Climat Scen.'!$B95,'2A Input Climat Scen. Pass.'!L$38:L$49)","v":0},{"$f":"SUMIF('2A Input Climat Scen. Pass.'!$B$38:$B$49,'4B Calcul. Climat Scen.'!$B95,'2A Input Climat Scen. Pass.'!M$38:M$49)","v":0},{"$f":"SUMIF('2A Input Climat Scen. Pass.'!$B$38:$B$49,'4B Calcul. Climat Scen.'!$B95,'2A Input Climat Scen. Pass.'!N$38:N$49)","v":0},null,"Scenario 1)",{"$f":"Bus","v":"Bus"},"Passengers","all",{"$f":"L44*(1-'4B Calcul. Climat Scen.'!C95)","v":0},{"$f":"M44*(1-'4B Calcul. Climat Scen.'!D95)","v":0},{"$f":"N44*(1-'4B Calcul. Climat Scen.'!E95)","v":0},{"$f":"O44*(1-'4B Calcul. Climat Scen.'!F95)","v":0},{"$f":"P44*(1-'4B Calcul. Climat Scen.'!G95)","v":0},null,0,{"$f":"IF(AB72=\"\",S44,AB72)","v":0},0,0,0,null,null,null,null,null,null,null,0,0,0,0,0,null,null,null,null,null,null,null,0,0,0,0,0]
[null,{"$f":"BRT","v":"BRT"},{"$f":"SUMIF('2A Input Climat Scen. Pass.'!$B$38:$B$49,'4B Calcul. Climat Scen.'!$B96,'2A Input Climat Scen. Pass.'!J$38:J$49)","v":0},{"$f":"SUMIF('2A Input Climat Scen. Pass.'!$B$38:$B$49,'4B Calcul. Climat Scen.'!$B96,'2A Input Climat Scen. Pass.'!K$38:K$49)","v":0},{"$f":"SUMIF('2A Input Climat Scen. Pass.'!$B$38:$B$49,'4B Calcul. Climat Scen.'!$B96,'2A Input Climat Scen. Pass.'!L$38:L$49)","v":0},{"$f":"SUMIF('2A Input Climat Scen. Pass.'!$B$38:$B$49,'4B Calcul. Climat Scen.'!$B96,'2A Input Climat Scen. Pass.'!M$38:M$49)","v":0},{"$f":"SUMIF('2A Input Climat Scen. Pass.'!$B$38:$B$49,'4B Calcul. Climat Scen.'!$B96,'2A Input Climat Scen. Pass.'!N$38:N$49)","v":0},null,"Scenario 1)",{"$f":"BRT","v":"BRT"},"Passengers","all",{"$f":"L45*(1-'4B Calcul. Climat Scen.'!C96)","v":0},{"$f":"M45*(1-'4B Calcul. Climat Scen.'!D96)","v":0},{"$f":"N45*(1-'4B Calcul. Climat Scen.'!E96)","v":0},{"$f":"O45*(1-'4B Calcul. Climat Scen.'!F96)","v":0},{"$f":"P45*(1-'4B Calcul. Climat Scen.'!G96)","v":0},null,{"$f":"IF(AA73=\"\",R45,AA73)","v":0},0,0,0,0,null,null,null,null,null,null,null,0,0,{"$f":"+O96*U96","v":0},0,0,null,null,null,null,null,null,null,0,0,0,0,0]
[null,{"$f":"Train","v":"Long distance train"},{"$f":"SUMIF('2A Input Climat Scen. Pass.'!$B$38:$B$49,'4B Calcul. Climat Scen.'!$B97,'2A Input Climat Scen. Pass.'!J$38:J$49)","v":0},{"$f":"SUMIF('2A Input Climat Scen. Pass.'!$B$38:$B$49,'4B Calcul. Climat Scen.'!$B97,'2A Input Climat Scen. Pass.'!K$38:K$49)","v":0},{"$f":"SUMIF('2A Input Climat Scen. Pass.'!$B$38:$B$49,'4B Calcul. Climat Scen.'!$B97,'2A Input Climat Scen. Pass.'!L$38:L$49)","v":0},{"$f":"SUMIF('2A Input Climat Scen. Pass.'!$B$38:$B$49,'4B Calcul. Climat Scen.'!$B97,'2A Input Climat Scen. Pass.'!M$38:M$49)","v":0},{"$f":"SUMIF('2A Input Climat Scen. Pass.'!$B$38:$B$49,'4B Calcul. Climat Scen.'!$B97,'2A Input Climat Scen. Pass.'!N$38:N$49)","v":0},null,"Scenario 1)",{"$f":"Train","v":"Long distance train"},"Passengers","all",{"$f":"L46*(1-'4B Calcul. Climat Scen.'!C97)","v":0},{"$f":"M46*(1-'4B Calcul. Climat Scen.'!D97)","v":0},{"$f":"N46*(1-'4B Calcul. Climat Scen.'!E97)","v":0},{"$f":"O46*(1-'4B Calcul. Climat Scen.'!F97)","v":0},{"$f":"P46*(1-'4B Calcul. Climat Scen.'!G97)","v":0},null,0,0,0,0,0,null,null,null,null,null,null,null,0,0,0,0,0,null,null,null,null,null,null,null,0,0,0,0,0]
[null,{"$f":"Utrain","v":"Urban train"},{"$f":"SUMIF('2A Input Climat Scen. Pass.'!$B$38:$B$49,'4B Calcul. Climat Scen.'!$B98,'2A Input Climat Scen. Pass.'!J$38:J$49)","v":0},{"$f":"SUMIF('2A Input Climat Scen. Pass.'!$B$38:$B$49,'4B Calcul. Climat Scen.'!$B98,'2A Input Climat Scen. Pass.'!K$38:K$49)","v":0},{"$f":"SUMIF('2A Input Climat Scen. Pass.'!$B$38:$B$49,'4B Calcul. Climat Scen.'!$B98,'2A Input Climat Scen. Pass.'!L$38:L$49)","v":0},{"$f":"SUMIF('2A Input Climat Scen. Pass.'!$B$38:$B$49,'4B Calcul. Climat Scen.'!$B98,'2A Input Climat Scen. Pass.'!M$38:M$49)","v":0},{"$f":"SUMIF('2A Input Climat Scen. Pass.'!$B$38:$B$49,'4B Calcul. Climat Scen.'!$B98,'2A Input Climat Scen. Pass.'!N$38:N$49)","v":0},null,"Scenario 1)",{"$f":"Utrain","v":"Urban train"},"Passengers","all",{"$f":"L47*(1-'4B Calcul. Climat Scen.'!C98)","v":0},{"$f":"M47*(1-'4B Calcul. Climat Scen.'!D98)","v":0},{"$f":"N47*(1-'4B Calcul. Climat Scen.'!E98)","v":0},{"$f":"O47*(1-'4B Calcul. Climat Scen.'!F98)","v":0},{"$f":"P47*(1-'4B Calcul. Climat Scen.'!G98)","v":0},null,0,0,0,0,0,null,null,null,null,null,null,null,0,0,0,0,0,null,null,null,null,null,null,null,0,0,0,0,0]
[null,{"$f":"Metro","v":"Metro"},{"$f":"SUMIF('2A Input Climat Scen. Pass.'!$B$38:$B$49,'4B Calcul. Climat Scen.'!$B99,'2A Input Climat Scen. Pass.'!J$38:J$49)","v":0},{"$f":"SUMIF('2A Input Climat Scen. Pass.'!$B$38:$B$49,'4B Calcul. Climat Scen.'!$B99,'2A Input Climat Scen. Pass.'!K$38:K$49)","v":0},{"$f":"SUMIF('2A Input Climat Scen. Pass.'!$B$38:$B$49,'4B Calcul. Climat Scen.'!$B99,'2A Input Climat Scen. Pass.'!L$38:L$49)","v":0},{"$f":"SUMIF('2A Input Climat Scen. Pass.'!$B$38:$B$49,'4B Calcul. Climat Scen.'!$B99,'2A Input Climat Scen. Pass.'!M$38:M$49)","v":0},{"$f":"SUMIF('2A Input Climat Scen. Pass.'!$B$38:$B$49,'4B Calcul. Climat Scen.'!$B99,'2A Input Climat Scen. Pass.'!N$38:N$49)","v":0},null,"Scenario 1)",{"$f":"Metro","v":"Metro"},"Passengers","all",{"$f":"L48*(1-'4B Calcul. Climat Scen.'!C99)","v":0},{"$f":"M48*(1-'4B Calcul. Climat Scen.'!D99)","v":0},{"$f":"N48*(1-'4B Calcul. Climat Scen.'!E99)","v":0},{"$f":"O48*(1-'4B Calcul. Climat Scen.'!F99)","v":0},{"$f":"P48*(1-'4B Calcul. Climat Scen.'!G99)","v":0},null,0,0,0,0,0,null,null,null,null,null,null,null,0,0,0,0,0,null,null,null,null,null,null,null,0,0,0,0,0]
["achtung hiier Formel für Freight",{"$f":"lightLCV","v":"Very light LCV"},{"$f":"SUMIF('2B Input Climat Scen. Freight'!$B$38:$B$42,'4B Calcul. Climat Scen.'!$B100,'2B Input Climat Scen. Freight'!I$38:I$42)","v":0},{"$f":"SUMIF('2B Input Climat Scen. Freight'!$B$38:$B$42,'4B Calcul. Climat Scen.'!$B100,'2B Input Climat Scen. Freight'!J$38:J$42)","v":0},{"$f":"SUMIF('2B Input Climat Scen. Freight'!$B$38:$B$42,'4B Calcul. Climat Scen.'!$B100,'2B Input Climat Scen. Freight'!K$38:K$42)","v":0},{"$f":"SUMIF('2B Input Climat Scen. Freight'!$B$38:$B$42,'4B Calcul. Climat Scen.'!$B100,'2B Input Climat Scen. Freight'!L$38:L$42)","v":0},{"$f":"SUMIF('2B Input Climat Scen. Freight'!$B$38:$B$42,'4B Calcul. Climat Scen.'!$B100,'2B Input Climat Scen. Freight'!M$38:M$42)","v":0},null,"Scenario 1)",{"$f":"lightLCV","v":"Very light LCV"},{"$f":"goods","v":"Freight"},"all",{"$f":"L49*(1-'4B Calcul. Climat Scen.'!C100)","v":0},{"$f":"M49*(1-'4B Calcul. Climat Scen.'!D100)","v":0},{"$f":"N49*(1-'4B Calcul. Climat Scen.'!E100)","v":0},{"$f":"O49*(1-'4B Calcul. Climat Scen.'!F100)","v":0},{"$f":"P49*(1-'4B Calcul. Climat Scen.'!G100)","v":0},null,null,null,null,null,null,null,{"$f":"IF(AG77=\"\",X49,AG77)","v":0},{"$f":"IF(AH77=\"\",Y49,AH77)","v":0},0,0,0,null,null,null,null,null,null,null,{"$f":"+M100*Y100","v":0},{"$f":"+N100*Z100","v":0},{"$f":"+O100*AA100","v":0},{"$f":"+P100*AB100","v":0},{"$f":"+Q100*AC100","v":0},null,0,0,0,0,0]
[null,{"$f":"LCV","v":"LCV"},{"$f":"SUMIF('2B Input Climat Scen. Freight'!$B$38:$B$42,'4B Calcul. Climat Scen.'!$B101,'2B Input Climat Scen. Freight'!I$38:I$42)","v":0},{"$f":"SUMIF('2B Input Climat Scen. Freight'!$B$38:$B$42,'4B Calcul. Climat Scen.'!$B101,'2B Input Climat Scen. Freight'!J$38:J$42)","v":0},{"$f":"SUMIF('2B Input Climat Scen. Freight'!$B$38:$B$42,'4B Calcul. Climat Scen.'!$B101,'2B Input Climat Scen. Freight'!K$38:K$42)","v":0},{"$f":"SUMIF('2B Input Climat Scen. Freight'!$B$38:$B$42,'4B Calcul. Climat Scen.'!$B101,'2B Input Climat Scen. Freight'!L$38:L$42)","v":0},{"$f":"SUMIF('2B Input Climat Scen. Freight'!$B$38:$B$42,'4B Calcul. Climat Scen.'!$B101,'2B Input Climat Scen. Freight'!M$38:M$42)","v":0},null,"Scenario 1)",{"$f":"LCV","v":"LCV"},{"$f":"goods","v":"Freight"},"all",{"$f":"L50*(1-'4B Calcul. Climat Scen.'!C101)","v":0},{"$f":"M50*(1-'4B Calcul. Climat Scen.'!D101)","v":0},{"$f":"N50*(1-'4B Calcul. Climat Scen.'!E101)","v":0},{"$f":"O50*(1-'4B Calcul. Climat Scen.'!F101)","v":0},{"$f":"P50*(1-'4B Calcul. Climat Scen.'!G101)","v":0},null,null,null,null,null,null,null,{"$f":"IF(AG78=\"\",X50,AG78)","v":0},0,0,0,0,null,null,null,null,null,null,null,{"$f":"+M101*Y101","v":0},{"$f":"+N101*Z101","v":0},0,0,0,null,0,0,0,0,0]
[null,{"$f":"Solo","v":"Solo truck"},{"$f":"SUMIF('2B Input Climat Scen. Freight'!$B$38:$B$42,'4B Calcul. Climat Scen.'!$B102,'2B Input Climat Scen. Freight'!I$38:I$42)","v":0},{"$f":"SUMIF('2B Input Climat Scen. Freight'!$B$38:$B$42,'4B Calcul. Climat Scen.'!$B102,'2B Input Climat Scen. Freight'!J$38:J$42)","v":0},{"$f":"SUMIF('2B Input Climat Scen. Freight'!$B$38:$B$42,'4B Calcul. Climat Scen.'!$B102,'2B Input Climat Scen. Freight'!K$38:K$42)","v":0},{"$f":"SUMIF('2B Input Climat Scen. Freight'!$B$38:$B$42,'4B Calcul. Climat Scen.'!$B102,'2B Input Climat Scen. Freight'!L$38:L$42)","v":0},{"$f":"SUMIF('2B Input Climat Scen. Freight'!$B$38:$B$42,'4B Calcul. Climat Scen.'!$B102,'2B Input Climat Scen. Freight'!M$38:M$42)","v":0},null,"Scenario 1)",{"$f":"Solo","v":"Solo truck"},{"$f":"goods","v":"Freight"},"all",{"$f":"L51*(1-'4B Calcul. Climat Scen.'!C102)","v":0},{"$f":"M51*(1-'4B Calcul. Climat Scen.'!D102)","v":0},{"$f":"N51*(1-'4B Calcul. Climat Scen.'!E102)","v":0},{"$f":"O51*(1-'4B Calcul. Climat Scen.'!F102)","v":0},{"$f":"P51*(1-'4B Calcul. Climat Scen.'!G102)","v":0},null,null,null,null,null,null,null,0,0,0,0,0,null,null,null,null,null,null,null,{"$f":"+M102*Y102","v":0},{"$f":"+N102*Z102","v":0},{"$f":"+O102*AA102","v":0},{"$f":"+P102*AB102","v":0},{"$f":"+Q102*AC102","v":0},null,0,0,0,0,0]
[null,{"$f":"Atruck","v":"Articulated truck"},{"$f":"SUMIF('2B Input Climat Scen. Freight'!$B$38:$B$42,'4B Calcul. Climat Scen.'!$B103,'2B Input Climat Scen. Freight'!I$38:I$42)","v":0},{"$f":"SUMIF('2B Input Climat Scen. Freight'!$B$38:$B$42,'4B Calcul. Climat Scen.'!$B103,'2B Input Climat Scen. Freight'!J$38:J$42)","v":0},{"$f":"SUMIF('2B Input Climat Scen. Freight'!$B$38:$B$42,'4B Calcul. Climat Scen.'!$B103,'2B Input Climat Scen. Freight'!K$38:K$42)","v":0},{"$f":"SUMIF('2B Input Climat Scen. Freight'!$B$38:$B$42,'4B Calcul. Climat Scen.'!$B103,'2B Input Climat Scen. Freight'!L$38:L$42)","v":0},{"$f":"SUMIF('2B Input Climat Scen. Freight'!$B$38:$B$42,'4B Calcul. Climat Scen.'!$B103,'2B Input Climat Scen. Freight'!M$38:M$42)","v":0},null,"Scenario 1)",{"$f":"Atruck","v":"Articulated truck"},{"$f":"goods","v":"Freight"},"all",{"$f":"L52*(1-'4B Calcul. Climat Scen.'!C103)","v":0},{"$f":"M52*(1-'4B Calcul. Climat Scen.'!D103)","v":0},{"$f":"N52*(1-'4B Calcul. Climat Scen.'!E103)","v":0},{"$f":"O52*(1-'4B Calcul. Climat Scen.'!F103)","v":0},{"$f":"P52*(1-'4B Calcul. Climat Scen.'!G103)","v":0},null,null,null,null,null,null,null,0,0,0,0,0,null,null,null,null,null,null,null,0,0,0,0,0,null,0,0,0,0,0]
[null,{"$f":"Ftrain","v":"Freight train"},{"$f":"SUMIF('2B Input Climat Scen. Freight'!$B$38:$B$42,'4B Calcul. Climat Scen.'!$B104,'2B Input Climat Scen. Freight'!I$38:I$42)","v":0},{"$f":"SUMIF('2B Input Climat Scen. Freight'!$B$38:$B$42,'4B Calcul. Climat Scen.'!$B104,'2B Input Climat Scen. Freight'!J$38:J$42)","v":0},{"$f":"SUMIF('2B Input Climat Scen. Freight'!$B$38:$B$42,'4B Calcul. Climat Scen.'!$B104,'2B Input Climat Scen. Freight'!K$38:K$42)","v":0},{"$f":"SUMIF('2B Input Climat Scen. Freight'!$B$38:$B$42,'4B Calcul. Climat Scen.'!$B104,'2B Input Climat Scen. Freight'!L$38:L$42)","v":0},{"$f":"SUMIF('2B Input Climat Scen. Freight'!$B$38:$B$42,'4B Calcul. Climat Scen.'!$B104,'2B Input Climat Scen. Freight'!M$38:M$42)","v":0},null,"Scenario 1)",{"$f":"Ftrain","v":"Freight train"},{"$f":"goods","v":"Freight"},"all",{"$f":"L53*(1-'4B Calcul. Climat Scen.'!C104)","v":0},{"$f":"M53*(1-'4B Calcul. Climat Scen.'!D104)","v":0},{"$f":"N53*(1-'4B Calcul. Climat Scen.'!E104)","v":0},{"$f":"O53*(1-'4B Calcul. Climat Scen.'!F104)","v":0},{"$f":"P53*(1-'4B Calcul. Climat Scen.'!G104)","v":0},null,null,null,null,null,null,null,0,0,0,0,0,null,null,null,null,null,null,null,0,0,0,0,0,null,0,0,0,0,0]
[]
[null,null,null,null,null,null,null,null,"Scenario 1)",{"$f":"totalindividualtransport","v":"Total individual transport"},{"$f":"Pass","v":"Passengers"},"all",{"$f":"SUM(M90:M93)","v":0},{"$f":"SUM(N90:N92)","v":0},{"$f":"SUM(O90:O92)","v":0},{"$f":"SUM(P90:P92)","v":0},{"$f":"SUM(Q90:Q92)","v":0},null,null,null,null,null,null,null,null,null,null,null,null,null,{"$f":"SUM(AE90:AE93)","v":0},{"$f":"SUM(AF90:AF93)","v":0},0,0,0,null,null,null,null,null,null,null,{"$f":"SUM(AQ90:AQ93)","v":0},{"$f":"SUM(AR90:AR93)","v":0},{"$f":"SUM(AS90:AS93)","v":0},{"$f":"SUM(AT90:AT93)","v":0},{"$f":"SUM(AU90:AU93)","v":0}]
[null,null,null,null,null,null,null,null,"Scenario 1)",{"$f":"totalpublictransport","v":"Total public transport"},{"$f":"Pass","v":"Passengers"},"all",{"$f":"SUM(M94:M99)","v":0},{"$f":"SUM(N94:N99)","v":0},{"$f":"SUM(O94:O99)","v":0},{"$f":"SUM(P94:P99)","v":0},{"$f":"SUM(Q94:Q99)","v":0},null,null,null,null,null,null,null,null,null,null,null,null,null,{"$f":"SUM(AE94:AE99)","v":0},{"$f":"SUM(AF94:AF99)","v":0},0,0,0,null,null,null,null,null,null,null,{"$f":"SUM(AQ94:AQ99)","v":0},{"$f":"SUM(AR94:AR99)","v":0},0,0,0]
[null,null,null,null,null,null,null,null,"Scenario 1)",{"$f":"Passtrans","v":"Passenger transportation"},{"$f":"Pass","v":"Passengers"},{"$f":"all","v":"all"},{"$f":"SUM(M106:M107)","v":0},{"$f":"SUM(N106:N107)","v":0},{"$f":"SUM(O106:O107)","v":0},{"$f":"SUM(P106:P107)","v":0},{"$f":"SUM(Q106:Q107)","v":0},null,null,null,null,null,null,null,null,null,null,null,null,null,{"$f":"SUM(AE106:AE107)","v":0},{"$f":"SUM(AF106:AF107)","v":0},0,0,0,null,null,null,null,null,null,null,{"$f":"SUM(AQ106:AQ107)","v":0},{"$f":"SUM(AR106:AR107)","v":0},0,0,0]
[null,null,null,null,null,null,null,null,"Scenario 1)",{"$f":"Freighttrans","v":"Freight transportation"},{"$f":"freight","v":"Freight"},{"$f":"all","v":"all"},{"$f":"SUM(M100:M104)","v":0},{"$f":"SUM(N100:N104)","v":0},0,0,0,null,null,null,null,null,null,null,null,null,null,null,null,null,null,null,null,null,null,null,{"$f":"SUM(AK100:AK104)","v":0},{"$f":"SUM(AL100:AL104)","v":0},0,0,0,null,{"$f":"SUM(AQ100:AQ104)","v":0},{"$f":"SUM(AR100:AR104)","v":0},0,0,0]
[null,null," ",null,null,null,null,null,"Scenario 1)",{"$f":"all","v":"all"},{"$f":"all","v":"all"},{"$f":"all","v":"all"},{"$f":"SUM(M108+M109)","v":0},{"$f":"SUM(N108+N109)","v":0},{"$f":"SUM(O108+O109)","v":0},{"$f":"SUM(P108+P109)","v":0},{"$f":"SUM(Q108+Q109)","v":0},null,null,null,null,null,null,null,null,null,null,null,null,null,null,null,null,null,null,null,null,null,null,null,null,null,{"$f":"SUM(AQ108+AQ109)","v":0},{"$f":"SUM(AR108+AR109)","v":0},0,0,0]
[]
["2) Passenger Shift measures: expansion of network and increase of the occupancy rate",null,null,null,null,null,null,null,null,{"$f":"IFERROR(\"\",IF(C126>0,C126,SUMIFS(S$89:S$99,$J$89:$J$99,$B126))*SUMIFS(I$116:I$122,$B$116:$B$122,$B126)/SUMIFS(S$89:S$99,$J$89:$J$99,$B126))","v":""}]
["PASSENGER",null,null,null,null,null,null,null,null,null,null,null,null,null,null,null,null,null,null,null,null,null,null,"FREIGHT"]
["WITHOUT TRANSPORT PLANNING TOOL",{"$f":"Input","v":"Data input"},{"$f":"'2A Input Climat Scen. Pass.'!C66","v":"Additional vkt [Mio. km]"},null,null,null,null,null,{"$f":"Transportperf","v":"Transport performance [Mio. Pkm]"},null,null,null,null,null,null,null,null,null,null,null,null,null,null,"Input ",{"$f":"addmileage","v":"Additional vkt [Mio. km]"},null,null,null,null,null,{"$f":"Transportperf","v":"Transport performance [Mio. Pkm]"}]
[null,{"$f":"Subcategory","v":"Subcategory"},2020,2025,2030,2040,2050,null,2020,2025,2030,2040,2050,null,"Check",null,null,null,null,null,null,null,null,{"$f":"Subcategory","v":"Subcategory"},{"$f":"'2B Input Climat Scen. Freight'!C60","v":2020},{"$f":"'2B Input Climat Scen. Freight'!D60","v":2025},{"$f":"'2B Input Climat Scen. Freight'!E60","v":2030},{"$f":"'2B Input Climat Scen. Freight'!F60","v":2040},{"$f":"'2B Input Climat Scen. Freight'!G60","v":2050},null,2020,2025,2030,2040,2050,null,null,"Check"]
[null,{"$f":"NMT","v":"NMT"},{"$f":"'2A Input Climat Scen. Pass.'!C68","v":0},{"$f":"'2A Input Climat Scen. Pass.'!D68","v":0},{"$f":"'2A Input Climat Scen. Pass.'!E68","v":0},{"$f":"'2A Input Climat Scen. Pass.'!F68","v":0},{"$f":"'2A Input Climat Scen. Pass.'!G68","v":0},null,{"$f":"(SUMIFS(M$89:M$99,$J$89:$J$99,$B116)+C116)*SUMIFS(S$89:S$99,$J$89:$J$99,$B116)","v":0},{"$f":"(SUMIFS(N$89:N$99,$J$89:$J$99,$B116)+D116)*SUMIFS(T$89:T$99,$J$89:$J$99,$B116)","v":0},{"$f":"(SUMIFS(O$89:O$99,$J$89:$J$99,$B116)+E116)*SUMIFS(U$89:U$99,$J$89:$J$99,$B116)","v":0},0,0,null,{"$f":"I116-AE89","v":0},{"$f":"J116-AF89","v":0},0,0,0,null,null,null,null,{"$f":"lightLCV","v":"Very light LCV"},{"$f":"'2B Input Climat Scen. Freight'!C61","v":0},{"$f":"'2B Input Climat Scen. Freight'!D61","v":0},{"$f":"'2B Input Climat Scen. Freight'!E61","v":0},{"$f":"'2B Input Climat Scen. Freight'!F61","v":0},{"$f":"'2B Input Climat Scen. Freight'!G61","v":0},null,{"$f":"(SUMIFS(M$100:M$104,$J$100:$J$104,$X116)+Y116)*SUMIFS(Y$100:Y$104,$J$100:$J$104,$X116)","v":0},{"$f":"(SUMIFS(N$100:N$104,$J$100:$J$104,$X116)+Z116)*SUMIFS(Z$100:Z$104,$J$100:$J$104,$X116)","v":0},{"$f":"(SUMIFS(O$100:O$104,$J$100:$J$104,$X116)+AA116)*SUMIFS(AA$100:AA$104,$J$100:$J$104,$X116)","v":0},0,0,null,null,{"$f":"AE116-AK100","v":0},{"$f":"AF116-AL100","v":0},0,0,0]
[null,{"$f":"Minibus","v":"Minibus"},{"$f":"'2A Input Climat Scen. Pass.'!C69","v":0},{"$f":"'2A Input Climat Scen. Pass.'!D69","v":0},{"$f":"'2A Input Climat Scen. Pass.'!E69","v":0},{"$f":"'2A Input Climat Scen. Pass.'!F69","v":0},{"$f":"'2A Input Climat Scen. Pass.'!G69","v":0},null,{"$f":"(SUMIFS(M$89:M$99,$J$89:$J$99,$B117)+C117)*SUMIFS(S$89:S$99,$J$89:$J$99,$B117)","v":0},{"$f":"(SUMIFS(N$89:N$99,$J$89:$J$99,$B117)+D117)*SUMIFS(T$89:T$99,$J$89:$J$99,$B117)","v":0},{"$f":"(SUMIFS(O$89:O$99,$J$89:$J$99,$B117)+E117)*SUMIFS(U$89:U$99,$J$89:$J$99,$B117)","v":0},{"$f":"(SUMIFS(P$89:P$99,$J$89:$J$99,$B117)+F117)*SUMIFS(V$89:V$99,$J$89:$J$99,$B117)","v":0},{"$f":"(SUMIFS(Q$89:Q$99,$J$89:$J$99,$B117)+G117)*SUMIFS(W$89:W$99,$J$89:$J$99,$B117)","v":0},null,{"$f":"I117-AE94","v":0},{"$f":"J117-AF94","v":0},0,0,0,null,null,null,null,{"$f":"LCV","v":"LCV"},{"$f":"'2B Input Climat Scen. Freight'!C62","v":0},{"$f":"'2B Input Climat Scen. Freight'!D62","v":0},{"$f":"'2B Input Climat Scen. Freight'!E62","v":0},{"$f":"'2B Input Climat Scen. Freight'!F62","v":0},{"$f":"'2B Input Climat Scen. Freight'!G62","v":0},null,{"$f":"(SUMIFS(M$100:M$104,$J$100:$J$104,$X117)+Y117)*SUMIFS(Y$100:Y$104,$J$100:$J$104,$X117)","v":0},{"$f":"(SUMIFS(N$100:N$104,$J$100:$J$104,$X117)+Z117)*SUMIFS(Z$100:Z$104,$J$100:$J$104,$X117)","v":0},{"$f":"(SUMIFS(O$100:O$104,$J$100:$J$104,$X117)+AA117)*SUMIFS(AA$100:AA$104,$J$100:$J$104,$X117)","v":0},{"$f":"(SUMIFS(P$100:P$104,$J$100:$J$104,$X117)+AB117)*SUMIFS(AB$100:AB$104,$J$100:$J$104,$X117)","v":0},{"$f":"(SUMIFS(Q$100:Q$104,$J$100:$J$104,$X117)+AC117)*SUMIFS(AC$100:AC$104,$J$100:$J$104,$X117)","v":0},null,null,{"$f":"AE117-AK101","v":0},{"$f":"AF117-AL101","v":0},{"$f":"AG117-AM101","v":0},{"$f":"AH117-AN101","v":0},{"$f":"AI117-AO101","v":0}]
[null,{"$f":"Bus","v":"Bus"},{"$f":"'2A Input Climat Scen. Pass.'!C70","v":0},{"$f":"'2A Input Climat Scen. Pass.'!D70","v":0},{"$f":"'2A Input Climat Scen. Pass.'!E70","v":0},{"$f":"'2A Input Climat Scen. Pass.'!F70","v":0},{"$f":"'2A Input Climat Scen. Pass.'!G70","v":0},null,{"$f":"(SUMIFS(M$89:M$99,$J$89:$J$99,$B118)+C118)*SUMIFS(S$89:S$99,$J$89:$J$99,$B118)","v":0},0,0,0,0,null,{"$f":"I118-AE95","v":0},{"$f":"J118-AF95","v":0},{"$f":"K118-AG95","v":0},{"$f":"L118-AH95","v":0},{"$f":"M118-AI95","v":0},null,null,null,null,{"$f":"Solo","v":"Solo truck"},{"$f":"'2B Input Climat Scen. Freight'!C63","v":0},{"$f":"'2B Input Climat Scen. Freight'!D63","v":0},{"$f":"'2B Input Climat Scen. Freight'!E63","v":0},{"$f":"'2B Input Climat Scen. Freight'!F63","v":0},{"$f":"'2B Input Climat Scen. Freight'!G63","v":0},null,0,0,0,0,0,null,null,0,0,0,0,0]
[null,{"$f":"BRT","v":"BRT"},{"$f":"'2A Input Climat Scen. Pass.'!C71","v":0},{"$f":"'2A Input Climat Scen. Pass.'!D71","v":0},{"$f":"'2A Input Climat Scen. Pass.'!E71","v":0},{"$f":"'2A Input Climat Scen. Pass.'!F71","v":0},{"$f":"'2A Input Climat Scen. Pass.'!G71","v":0},null,{"$f":"(SUMIFS(M$89:M$99,$J$89:$J$99,$B119)+C119)*SUMIFS(S$89:S$99,$J$89:$J$99,$B119)","v":0},0,0,0,0,null,0,0,0,0,0,null,null,null,null,{"$f":"Atruck","v":"Articulated truck"},{"$f":"'2B Input Climat Scen. Freight'!C64","v":0},{"$f":"'2B Input Climat Scen. Freight'!D64","v":0},{"$f":"'2B Input Climat Scen. Freight'!E64","v":0},{"$f":"'2B Input Climat Scen. Freight'!F64","v":0},{"$f":"'2B Input Climat Scen. Freight'!G64","v":0},null,0,0,0,0,0,null,null,0,0,0,0,0]
[null,{"$f":"Train","v":"Long distance train"},{"$f":"'2A Input Climat Scen. Pass.'!C72","v":0},{"$f":"'2A Input Climat Scen. Pass.'!D72","v":0},{"$f":"'2A Input Climat Scen. Pass.'!E72","v":0},{"$f":"'2A Input Climat Scen. Pass.'!F72","v":0},{"$f":"'2A Input Climat Scen. Pass.'!G72","v":0},null,{"$f":"(SUMIFS(M$89:M$99,$J$89:$J$99,$B120)+C120)*SUMIFS(S$89:S$99,$J$89:$J$99,$B120)","v":0},0,0,0,0,null,0,0,0,0,0,null,null,null,null,{"$f":"Ftrain","v":"Freight train"},{"$f":"'2B Input Climat Scen. Freight'!C65","v":0},{"$f":"'2B Input Climat Scen. Freight'!D65","v":0},{"$f":"'2B Input Climat Scen. Freight'!E65","v":0},{"$f":"'2B Input Climat Scen. Freight'!F65","v":0},{"$f":"'2B Input Climat Scen. Freight'!G65","v":0},null,0,0,0,0,0,null,null,0,0,0,0,0]
[null,{"$f":"Utrain","v":"Urban train"},{"$f":"'2A Input Climat Scen. Pass.'!C73","v":0},{"$f":"'2A Input Climat Scen. Pass.'!D73","v":0},{"$f":"'2A Input Climat Scen. Pass.'!E73","v":0},{"$f":"'2A Input Climat Scen. Pass.'!F73","v":0},{"$f":"'2A Input Climat Scen. Pass.'!G73","v":0},null,0,0,0,0,0,null,0,0,0,0,0]
[null,{"$f":"Metro","v":"Metro"},{"$f":"'2A Input Climat Scen. Pass.'!C74","v":0},{"$f":"'2A Input Climat Scen. Pass.'!D74","v":0},{"$f":"'2A Input Climat Scen. Pass.'!E74","v":0},{"$f":"'2A Input Climat Scen. Pass.'!F74","v":0},{"$f":"'2A Input Climat Scen. Pass.'!G74","v":0},null,0,0,0,0,0,null,0,0,0,0,0,null,null,null,null,"Input ",{"$f":"'2B Input Climat Scen. Freight'!C67","v":"Load per vehicle [Tons/vehicle]"},{"$f":"'2B Input Climat Scen. Freight'!E67","v":0},{"$f":"'2B Input Climat Scen. Freight'!F67","v":0},{"$f":"'2B Input Climat Scen. Freight'!G67","v":0},{"$f":"'2B Input Climat Scen. Freight'!H67","v":0},null,{"$f":"Transportperf","v":"Transport performance [Mio. Pkm]"},null,null,null,null,null,null,{"$f":"addipkm","v":"Additional pkm [MioPkm]"}]
[null,null,null,null,null,null,null,null,null,null,null,null,null,null,null,null,null,null,null,null,null,null,null,{"$f":"'2B Input Climat Scen. Freight'!B68","v":"Subcategory"},{"$f":"'2B Input Climat Scen. Freight'!D68","v":2020},{"$f":"'2B Input Climat Scen. Freight'!E68","v":2025},{"$f":"'2B Input Climat Scen. Freight'!F68","v":2030},{"$f":"'2B Input Climat Scen. Freight'!G68","v":2040},{"$f":"'2B Input Climat Scen. Freight'!H68","v":2050},null,2020,2025,2030,2040,2050,null,null,2020,2025,2030,2040,2050]
[null,{"$f":"Input","v":"Data input"},{"$f":"Occupancyratescen","v":"Occupancy rate [Passengers/vehicle]"},null,null,null,null,null,{"$f":"Transportperf","v":"Transport performance [Mio. Pkm]"},null,null,null,null,null,{"$f":"addipkm","v":"Additional pkm [MioPkm]"},null,null,null,null,null,null,null,null,{"$f":"lightLCV","v":"Very light LCV"},{"$f":"'2B Input Climat Scen. Freight'!D69","v":0},{"$f":"'2B Input Climat Scen. Freight'!E69","v":0},{"$f":"'2B Input Climat Scen. Freight'!F69","v":0},{"$f":"'2B Input Climat Scen. Freight'!G69","v":0},{"$f":"'2B Input Climat Scen. Freight'!H69","v":0},null,{"$f":"IFERROR(IF(Y124>0,Y124,SUMIFS(Y$100:Y$104,$J$100:$J$104,$X124))*SUMIFS(AE$116:AE$120,$X$116:$X$120,$X116)/SUMIFS(Y$100:Y$104,$J$100:$J$104,$X124),\"\")","v":""},{"$f":"IFERROR(IF(Z124>0,Z124,SUMIFS(Z$100:Z$104,$J$100:$J$104,$X124))*SUMIFS(AF$116:AF$120,$X$116:$X$120,$X116)/SUMIFS(Z$100:Z$104,$J$100:$J$104,$X124),\"\")","v":""},"","","",null,null,{"$f":"IFERROR(AE124-SUMIFS(AK$100:AK$104,$J$100:$J$104,$X124),\"\")","v":""},{"$f":"IFERROR(AF124-SUMIFS(AL$100:AL$104,$J$100:$J$104,$X124),\"\")","v":""},"","",""]
[null,{"$f":"Subcategory","v":"Subcategory"},2020,2025,2030,2040,2050,null,2020,2025,2030,2040,2050,null,2020,2025,2030,2040,2050,null,null,null,null,{"$f":"LCV","v":"LCV"},{"$f":"'2B Input Climat Scen. Freight'!D70","v":0},{"$f":"'2B Input Climat Scen. Freight'!E70","v":0},{"$f":"'2B Input Climat Scen. Freight'!F70","v":0},{"$f":"'2B Input Climat Scen. Freight'!G70","v":0},{"$f":"'2B Input Climat Scen. Freight'!H70","v":0},null,{"$f":"IFERROR(IF(Y125>0,Y125,SUMIFS(Y$100:Y$104,$J$100:$J$104,$X125))*SUMIFS(AE$116:AE$120,$X$116:$X$120,$X117)/SUMIFS(Y$100:Y$104,$J$100:$J$104,$X125),\"\")","v":""},"","","","",null,null,{"$f":"IFERROR(AE125-SUMIFS(AK$100:AK$104,$J$100:$J$104,$X125),\"\")","v":""},"","","",""]
[null,{"$f":"NMT","v":"NMT"},{"$f":"'2A Input Climat Scen. Pass.'!D78","v":1},{"$f":"'2A Input Climat Scen. Pass.'!E78","v":1},{"$f":"'2A Input Climat Scen. Pass.'!F78","v":1},{"$f":"'2A Input Climat Scen. Pass.'!G78","v":1},{"$f":"'2A Input Climat Scen. Pass.'!H78","v":1},null,{"$f":"IFERROR(IF(C126>0,C126,SUMIFS(S$89:S$99,$J$89:$J$99,$B126))*SUMIFS(I$116:I$122,$B$116:$B$122,$B126)/SUMIFS(S$89:S$99,$J$89:$J$99,$B126),\"\")","v":""},{"$f":"IFERROR(IF(D126>0,D126,SUMIFS(T$89:T$99,$J$89:$J$99,$B126))*SUMIFS(J$116:J$122,$B$116:$B$122,$B126)/SUMIFS(T$89:T$99,$J$89:$J$99,$B126),\"\")","v":0},0,0,0,null,{"$f":"IFERROR(I126-SUMIFS(AE$89:AE$99,$J$89:$J$99,$B126),\"\")","v":""},{"$f":"IFERROR(J126-SUMIFS(AF$89:AF$99,$J$89:$J$99,$B126),\"\")","v":0},0,0,0,null,null,null,null,{"$f":"Solo","v":"Solo truck"},{"$f":"'2B Input Climat Scen. Freight'!D71","v":0},{"$f":"'2B Input Climat Scen. Freight'!E71","v":0},{"$f":"'2B Input Climat Scen. Freight'!F71","v":0},{"$f":"'2B Input Climat Scen. Freight'!G71","v":0},{"$f":"'2B Input Climat Scen. Freight'!H71","v":0},null,"","","","","",null,null,"","","","",""]
[null,{"$f":"Minibus","v":"Minibus"},{"$f":"'2A Input Climat Scen. Pass.'!D79","v":0},{"$f":"'2A Input Climat Scen. Pass.'!E79","v":0},{"$f":"'2A Input Climat Scen. Pass.'!F79","v":0},{"$f":"'2A Input Climat Scen. Pass.'!G79","v":0},{"$f":"'2A Input Climat Scen. Pass.'!H79","v":0},null,{"$f":"IFERROR(IF(C127>0,C127,SUMIFS(S$89:S$99,$J$89:$J$99,$B127))*SUMIFS(I$116:I$122,$B$116:$B$122,$B127)/SUMIFS(S$89:S$99,$J$89:$J$99,$B127),\"\")","v":""},"","","","",null,{"$f":"IFERROR(I127-SUMIFS(AE$89:AE$99,$J$89:$J$99,$B127),\"\")","v":""},"","","","",null,null,null,null,{"$f":"Atruck","v":"Articulated truck"},{"$f":"'2B Input Climat Scen. Freight'!D72","v":0},{"$f":"'2B Input Climat Scen. Freight'!E72","v":0},{"$f":"'2B Input Climat Scen. Freight'!F72","v":0},{"$f":"'2B Input Climat Scen. Freight'!G72","v":0},{"$f":"'2B Input Climat Scen. Freight'!H72","v":0},null,"","","","","",null,null,"","","","",""]
[null,{"$f":"Bus","v":"Bus"},{"$f":"'2A Input Climat Scen. Pass.'!D80","v":0},{"$f":"'2A Input Climat Scen. Pass.'!E80","v":0},{"$f":"'2A Input Climat Scen. Pass.'!F80","v":0},{"$f":"'2A Input Climat Scen. Pass.'!G80","v":0},{"$f":"'2A Input Climat Scen. Pass.'!H80","v":0},null,"","","","","",null,{"$f":"IFERROR(I128-SUMIFS(AE$89:AE$99,$J$89:$J$99,$B128),\"\")","v":""},"","","","",null,null,null,null,{"$f":"Ftrain","v":"Freight train"},{"$f":"'2B Input Climat Scen. Freight'!D73","v":0},{"$f":"'2B Input Climat Scen. Freight'!E73","v":0},{"$f":"'2B Input Climat Scen. Freight'!F73","v":0},{"$f":"'2B Input Climat Scen. Freight'!G73","v":0},{"$f":"'2B Input Climat Scen. Freight'!H73","v":0},null,"","","","","",null,null,"","","","",""]
[null,{"$f":"BRT","v":"BRT"},{"$f":"'2A Input Climat Scen. Pass.'!D81","v":0},{"$f":"'2A Input Climat Scen. Pass.'!E81","v":0},{"$f":"'2A Input Climat Scen. Pass.'!F81","v":0},{"$f":"'2A Input Climat Scen. Pass.'!G81","v":0},{"$f":"'2A Input Climat Scen. Pass.'!H81","v":0},null,"","","","","",null,"","","","",""]
[null,{"$f":"Train","v":"Long distance train"},{"$f":"'2A Input Climat Scen. Pass.'!D82","v":0},{"$f":"'2A Input Climat Scen. Pass.'!E82","v":0},{"$f":"'2A Input Climat Scen. Pass.'!F82","v":0},{"$f":"'2A Input Climat Scen. Pass.'!G82","v":0},{"$f":"'2A Input Climat Scen. Pass.'!H82","v":0},null,"","","","","",null,"","","","",""]
[null,{"$f":"Utrain","v":"Urban train"},{"$f":"'2A Input Climat Scen. Pass.'!D83","v":0},{"$f":"'2A Input Climat Scen. Pass.'!E83","v":0},{"$f":"'2A Input Climat Scen. Pass.'!F83","v":0},{"$f":"'2A Input Climat Scen. Pass.'!G83","v":0},{"$f":"'2A Input Climat Scen. Pass.'!H83","v":0},null,"","","","","",null,"","","","",""]
[null,{"$f":"Metro","v":"Metro"},{"$f":"'2A Input Climat Scen. Pass.'!D84","v":0},{"$f":"'2A Input Climat Scen. Pass.'!E84","v":0},{"$f":"'2A Input Climat Scen. Pass.'!F84","v":0},{"$f":"'2A Input Climat Scen. Pass.'!G84","v":0},{"$f":"'2A Input Climat Scen. Pass.'!H84","v":0},null,"","","","","",null,"","","","",""]
[]
[null,{"$f":"Input","v":"Data input"},{"$f":"'2A Input Climat Scen. Pass.'!C86","v":0},{"$f":"'2A Input Climat Scen. Pass.'!D86","v":"Origin mode of transportation of new PT passengers [% of the trips]"},null,null,null,null,null,"Reduced pkm [Mio Pkm]",null,null,null,null,null,null,{"$f":"redpkm","v":"Reduced pkm [Mio Pkm]"},null,null,null,null,null,null,{"$f":"'2B Input Climat Scen. Freight'!B75","v":"Subcategory"},{"$f":"'2B Input Climat Scen. Freight'!C75","v":"Origin mode of the shifted tkm  [%]"},{"$f":"'2B Input Climat Scen. Freight'!D75","v":0},{"$f":"'2B Input Climat Scen. Freight'!E75","v":0},{"$f":"'2B Input Climat Scen. Freight'!F75","v":0},{"$f":"'2B Input Climat Scen. Freight'!G75","v":0},null,"Reduced pkm [Mio Pkm]",null,null,null,null,null,null,{"$f":"redpkm","v":"Reduced pkm [Mio Pkm]"}]
[{"$f":"goaltransportmode","v":"Goal transport mode (above categories)/sourced from (below categories)"},"Source transport mode",null,{"$f":"'2A Input Climat Scen. Pass.'!D87","v":2020},{"$f":"'2A Input Climat Scen. Pass.'!E87","v":2025},{"$f":"'2A Input Climat Scen. Pass.'!F87","v":2030},{"$f":"'2A Input Climat Scen. Pass.'!G87","v":2040},{"$f":"'2A Input Climat Scen. Pass.'!H87","v":2050},null,2020,2025,2030,2040,2050,null,{"$f":"Subcategory","v":"Subcategory"},2020,2025,2030,2040,2050,null,null,null,{"$f":"'2B Input Climat Scen. Freight'!C76","v":2020},{"$f":"'2B Input Climat Scen. Freight'!D76","v":2025},{"$f":"'2B Input Climat Scen. Freight'!E76","v":2030},{"$f":"'2B Input Climat Scen. Freight'!F76","v":2040},{"$f":"'2B Input Climat Scen. Freight'!G76","v":2050},null,2020,2025,2030,2040,2050,null,{"$f":"Subcategory","v":"Subcategory"},2020,2025,2030,2040,2050]
[{"$f":"NMT","v":"NMT"},null,null,{"$f":"'2A Input Climat Scen. Pass.'!D88","v":"-"},{"$f":"'2A Input Climat Scen. Pass.'!E88","v":"-"},{"$f":"'2A Input Climat Scen. Pass.'!F88","v":"-"},{"$f":"'2A Input Climat Scen. Pass.'!G88","v":"-"},{"$f":"'2A Input Climat Scen. Pass.'!H88","v":"-"},"Achtung liks pro Block kopieren (pro Goal transport mode)",{"$f":"SUMIF($B$126:$B$132,$A136,O$126:O$132)","v":0},{"$f":"SUMIF($B$126:$B$132,$A136,P$126:P$132)","v":0},{"$f":"SUMIF($B$126:$B$132,$A136,Q$126:Q$132)","v":0},0,0,null,{"$f":"NMT","v":"NMT"},{"$f":"SUMIF($B$136:$B$219,$P136,J$136:J$219)","v":0},{"$f":"SUMIF($B$136:$B$219,$P136,K$136:K$219)","v":0},0,0,0,null,{"$f":"lightLCV","v":"Very light LCV"},null,null,null,null,null,null,null,{"$f":"SUMIF($X$116:$X$120,$W136,AL$124:AL$128)","v":0},{"$f":"SUMIF($X$116:$X$120,$W136,AM$124:AM$128)","v":0},{"$f":"SUMIF($X$116:$X$120,$W136,AN$124:AN$128)","v":0},{"$f":"SUMIF($X$116:$X$120,$W136,AO$124:AO$128)","v":0},{"$f":"SUMIF($X$116:$X$120,$W136,AP$124:AP$128)","v":0},null,{"$f":"lightLCV","v":"Very light LCV"},{"$f":"SUMIF($X$137:$X$160,$AK136,AE$137:AE$160)","v":0},0,0,0,0]
[null,{"$f":"Pcar","v":"Private car"},{"$f":"'2A Input Climat Scen. Pass.'!C89","v":0},{"$f":"IF('2A Input Climat Scen. Pass.'!D89=0,\"\",'2A Input Climat Scen. Pass.'!D89)","v":""},{"$f":"IF('2A Input Climat Scen. Pass.'!E89=0,\"\",'2A Input Climat Scen. Pass.'!E89)","v":""},{"$f":"IF('2A Input Climat Scen. Pass.'!F89=0,\"\",'2A Input Climat Scen. Pass.'!F89)","v":""},{"$f":"IF('2A Input Climat Scen. Pass.'!G89=0,\"\",'2A Input Climat Scen. Pass.'!G89)","v":""},{"$f":"IF('2A Input Climat Scen. Pass.'!H89=0,\"\",'2A Input Climat Scen. Pass.'!H89)","v":""},null,{"$f":"IF(OR(J$136=0,D137=\"\"),\"\",J$136*$C137*D137/(SUMPRODUCT($C$137:$C$147,D$137:D$147)))","v":""},{"$f":"IF(OR(K$136=0,E137=\"\"),\"\",K$136*$C137*E137/(SUMPRODUCT($C$137:$C$147,E$137:E$147)))","v":""},"","","",null,{"$f":"Pcar","v":"Private car"},{"$f":"SUMIF($B$136:$B$219,$P137,J$136:J$219)","v":0},0,0,0,0,null,null,{"$f":"LCV","v":"LCV"},{"$f":"'2B Input Climat Scen. Freight'!C78","v":0},{"$f":"'2B Input Climat Scen. Freight'!D78","v":0},{"$f":"'2B Input Climat Scen. Freight'!E78","v":0},{"$f":"'2B Input Climat Scen. Freight'!F78","v":0},{"$f":"'2B Input Climat Scen. Freight'!G78","v":0},null,{"$f":"IF(OR(AE$136=0,Y137=\"\"),\"\",AE$136*Y137)","v":""},"","","","",null,{"$f":"LCV","v":"LCV"},0,0,0,0,0]
[null,{"$f":"Itaxi","v":"Individual taxi"},{"$f":"'2A Input Climat Scen. Pass.'!C90","v":0},{"$f":"IF('2A Input Climat Scen. Pass.'!D90=0,\"\",'2A Input Climat Scen. Pass.'!D90)","v":""},{"$f":"IF('2A Input Climat Scen. Pass.'!E90=0,\"\",'2A Input Climat Scen. Pass.'!E90)","v":""},{"$f":"IF('2A Input Climat Scen. Pass.'!F90=0,\"\",'2A Input Climat Scen. Pass.'!F90)","v":""},{"$f":"IF('2A Input Climat Scen. Pass.'!G90=0,\"\",'2A Input Climat Scen. Pass.'!G90)","v":""},{"$f":"IF('2A Input Climat Scen. Pass.'!H90=0,\"\",'2A Input Climat Scen. Pass.'!H90)","v":""},null,{"$f":"IF(OR(J$136=0,D138=\"\"),\"\",J$136*$C138*D138/(SUMPRODUCT($C$137:$C$147,D$137:D$147)))","v":""},"","","","",null,{"$f":"Itaxi","v":"Individual taxi"},{"$f":"SUMIF($B$136:$B$219,$P138,J$136:J$219)","v":0},0,0,0,0,null,null,{"$f":"Solo","v":"Solo truck"},{"$f":"'2B Input Climat Scen. Freight'!C79","v":0},{"$f":"'2B Input Climat Scen. Freight'!D79","v":0},{"$f":"'2B Input Climat Scen. Freight'!E79","v":0},{"$f":"'2B Input Climat Scen. Freight'!F79","v":0},{"$f":"'2B Input Climat Scen. Freight'!G79","v":0},null,"","","","","",null,{"$f":"Solo","v":"Solo truck"},0,0,0,0,0]
[null,{"$f":"Motorcycle","v":"Motorcycle"},{"$f":"'2A Input Climat Scen. Pass.'!C91","v":0},{"$f":"IF('2A Input Climat Scen. Pass.'!D91=0,\"\",'2A Input Climat Scen. Pass.'!D91)","v":""},{"$f":"IF('2A Input Climat Scen. Pass.'!E91=0,\"\",'2A Input Climat Scen. Pass.'!E91)","v":""},{"$f":"IF('2A Input Climat Scen. Pass.'!F91=0,\"\",'2A Input Climat Scen. Pass.'!F91)","v":""},{"$f":"IF('2A Input Climat Scen. Pass.'!G91=0,\"\",'2A Input Climat Scen. Pass.'!G91)","v":""},{"$f":"IF('2A Input Climat Scen. Pass.'!H91=0,\"\",'2A Input Climat Scen. Pass.'!H91)","v":""},null,"","","","","",null,{"$f":"Motorcycle","v":"Motorcycle"},0,0,0,0,0,null,null,{"$f":"Atruck","v":"Articulated truck"},{"$f":"'2B Input Climat Scen. Freight'!C80","v":0},{"$f":"'2B Input Climat Scen. Freight'!D80","v":0},{"$f":"'2B Input Climat Scen. Freight'!E80","v":0},{"$f":"'2B Input Climat Scen. Freight'!F80","v":0},{"$f":"'2B Input Climat Scen. Freight'!G80","v":0},null,"","","","","",null,{"$f":"Atruck","v":"Articulated truck"},0,0,0,0,0]
[null,{"$f":"Mototaxi","v":"Motorcycle taxi"},{"$f":"'2A Input Climat Scen. Pass.'!C92","v":0},{"$f":"IF('2A Input Climat Scen. Pass.'!D92=0,\"\",'2A Input Climat Scen. Pass.'!D92)","v":""},{"$f":"IF('2A Input Climat Scen. Pass.'!E92=0,\"\",'2A Input Climat Scen. Pass.'!E92)","v":""},{"$f":"IF('2A Input Climat Scen. Pass.'!F92=0,\"\",'2A Input Climat Scen. Pass.'!F92)","v":""},{"$f":"IF('2A Input Climat Scen. Pass.'!G92=0,\"\",'2A Input Climat Scen. Pass.'!G92)","v":""},{"$f":"IF('2A Input Climat Scen. Pass.'!H92=0,\"\",'2A Input Climat Scen. Pass.'!H92)","v":""},null,"","","","","",null,{"$f":"Mototaxi","v":"Motorcycle taxi"},0,0,0,0,0,null,null,{"$f":"Ftrain","v":"Freight train"},{"$f":"'2B Input Climat Scen. Freight'!C81","v":0},{"$f":"'2B Input Climat Scen. Freight'!D81","v":0},{"$f":"'2B Input Climat Scen. Freight'!E81","v":0},{"$f":"'2B Input Climat Scen. Freight'!F81","v":0},{"$f":"'2B Input Climat Scen. Freight'!G81","v":0},null,"","","","","",null,{"$f":"Ftrain","v":"Freight train"},0,0,0,0,0]
[null,{"$f":"Minibus","v":"Minibus"},{"$f":"'2A Input Climat Scen. Pass.'!C93","v":0},{"$f":"IF('2A Input Climat Scen. Pass.'!D93=0,\"\",'2A Input Climat Scen. Pass.'!D93)","v":""},{"$f":"IF('2A Input Climat Scen. Pass.'!E93=0,\"\",'2A Input Climat Scen. Pass.'!E93)","v":""},{"$f":"IF('2A Input Climat Scen. Pass.'!F93=0,\"\",'2A Input Climat Scen. Pass.'!F93)","v":""},{"$f":"IF('2A Input Climat Scen. Pass.'!G93=0,\"\",'2A Input Climat Scen. Pass.'!G93)","v":""},{"$f":"IF('2A Input Climat Scen. Pass.'!H93=0,\"\",'2A Input Climat Scen. Pass.'!H93)","v":""},null,"","","","","",null,{"$f":"Minibus","v":"Minibus"},0,0,0,0,0,null,{"$f":"LCV","v":"LCV"},null,null,null,null,null,null,null,{"$f":"SUMIF($X$116:$X$120,$W141,AL$124:AL$128)","v":0},{"$f":"SUMIF($X$116:$X$120,$W141,AM$124:AM$128)","v":0},{"$f":"SUMIF($X$116:$X$120,$W141,AN$124:AN$128)","v":0},{"$f":"SUMIF($X$116:$X$120,$W141,AO$124:AO$128)","v":0},{"$f":"SUMIF($X$116:$X$120,$W141,AP$124:AP$128)","v":0}]
[null,{"$f":"Bus","v":"Bus"},{"$f":"'2A Input Climat Scen. Pass.'!C94","v":0},{"$f":"IF('2A Input Climat Scen. Pass.'!D94=0,\"\",'2A Input Climat Scen. Pass.'!D94)","v":""},{"$f":"IF('2A Input Climat Scen. Pass.'!E94=0,\"\",'2A Input Climat Scen. Pass.'!E94)","v":""},{"$f":"IF('2A Input Climat Scen. Pass.'!F94=0,\"\",'2A Input Climat Scen. Pass.'!F94)","v":""},{"$f":"IF('2A Input Climat Scen. Pass.'!G94=0,\"\",'2A Input Climat Scen. Pass.'!G94)","v":""},{"$f":"IF('2A Input Climat Scen. Pass.'!H94=0,\"\",'2A Input Climat Scen. Pass.'!H94)","v":""},null,"","","","","",null,{"$f":"Bus","v":"Bus"},0,0,0,0,0,null,null,{"$f":"lightLCV","v":"Very light LCV"},{"$f":"'2B Input Climat Scen. Freight'!C83","v":0},{"$f":"'2B Input Climat Scen. Freight'!D83","v":0},{"$f":"'2B Input Climat Scen. Freight'!E83","v":0},{"$f":"'2B Input Climat Scen. Freight'!F83","v":0},{"$f":"'2B Input Climat Scen. Freight'!G83","v":0},null,{"$f":"IF(OR(AE$141=0,Y142=\"\"),\"\",AE$141*Y142)","v":""},{"$f":"IF(OR(AF$141=0,Z142=\"\"),\"\",AF$141*Z142)","v":""},"","","",null,null,{"$f":"Transportperformancefreight","v":"Transport performance [Mio. tkm]"}]
[null,{"$f":"BRT","v":"BRT"},{"$f":"'2A Input Climat Scen. Pass.'!C95","v":0},{"$f":"IF('2A Input Climat Scen. Pass.'!D95=0,\"\",'2A Input Climat Scen. Pass.'!D95)","v":""},{"$f":"IF('2A Input Climat Scen. Pass.'!E95=0,\"\",'2A Input Climat Scen. Pass.'!E95)","v":""},{"$f":"IF('2A Input Climat Scen. Pass.'!F95=0,\"\",'2A Input Climat Scen. Pass.'!F95)","v":""},{"$f":"IF('2A Input Climat Scen. Pass.'!G95=0,\"\",'2A Input Climat Scen. Pass.'!G95)","v":""},{"$f":"IF('2A Input Climat Scen. Pass.'!H95=0,\"\",'2A Input Climat Scen. Pass.'!H95)","v":""},null,"","","","","",null,{"$f":"BRT","v":"BRT"},0,0,0,0,0,null,null,{"$f":"Solo","v":"Solo truck"},{"$f":"'2B Input Climat Scen. Freight'!C84","v":0},{"$f":"'2B Input Climat Scen. Freight'!D84","v":0},{"$f":"'2B Input Climat Scen. Freight'!E84","v":0},{"$f":"'2B Input Climat Scen. Freight'!F84","v":0},{"$f":"'2B Input Climat Scen. Freight'!G84","v":0},null,{"$f":"IF(OR(AE$141=0,Y143=\"\"),\"\",AE$141*Y143)","v":""},{"$f":"IF(OR(AF$141=0,Z143=\"\"),\"\",AF$141*Z143)","v":""},{"$f":"IF(OR(AG$141=0,AA143=\"\"),\"\",AG$141*AA143)","v":""},{"$f":"IF(OR(AH$141=0,AB143=\"\"),\"\",AH$141*AB143)","v":""},{"$f":"IF(OR(AI$141=0,AC143=\"\"),\"\",AI$141*AC143)","v":""},null,{"$f":"Subcategory","v":"Subcategory"},2020,2025,2030,2040,2050]
[null,{"$f":"Train","v":"Long distance train"},{"$f":"'2A Input Climat Scen. Pass.'!C96","v":0},{"$f":"IF('2A Input Climat Scen. Pass.'!D96=0,\"\",'2A Input Climat Scen. Pass.'!D96)","v":""},{"$f":"IF('2A Input Climat Scen. Pass.'!E96=0,\"\",'2A Input Climat Scen. Pass.'!E96)","v":""},{"$f":"IF('2A Input Climat Scen. Pass.'!F96=0,\"\",'2A Input Climat Scen. Pass.'!F96)","v":""},{"$f":"IF('2A Input Climat Scen. Pass.'!G96=0,\"\",'2A Input Climat Scen. Pass.'!G96)","v":""},{"$f":"IF('2A Input Climat Scen. Pass.'!H96=0,\"\",'2A Input Climat Scen. Pass.'!H96)","v":""},null,"","","","","",null,{"$f":"Train","v":"Long distance train"},0,0,0,0,0,null,null,{"$f":"Atruck","v":"Articulated truck"},{"$f":"'2B Input Climat Scen. Freight'!C85","v":0},{"$f":"'2B Input Climat Scen. Freight'!D85","v":0},{"$f":"'2B Input Climat Scen. Freight'!E85","v":0},{"$f":"'2B Input Climat Scen. Freight'!F85","v":0},{"$f":"'2B Input Climat Scen. Freight'!G85","v":0},null,"","","","","",null,{"$f":"lightLCV","v":"Very light LCV"},{"$f":"SUMIF($J$100:$J$104,$AK144,AK$100:AK$104)+SUMIF($X$124:$X$128,$AK144,AL$124:AL$128)-SUMIF($AK$136:$AK$140,$AK144,AL$136:AL$140)","v":0},{"$f":"SUMIF($J$100:$J$104,$AK144,AL$100:AL$104)+SUMIF($X$116:$X$120,$AK144,AM$124:AM$128)-SUMIF($AK$136:$AK$140,$AK144,AM$136:AM$140)","v":0},0,0,0]
[null,{"$f":"Utrain","v":"Urban train"},{"$f":"'2A Input Climat Scen. Pass.'!C97","v":0},{"$f":"IF('2A Input Climat Scen. Pass.'!D97=0,\"\",'2A Input Climat Scen. Pass.'!D97)","v":""},{"$f":"IF('2A Input Climat Scen. Pass.'!E97=0,\"\",'2A Input Climat Scen. Pass.'!E97)","v":""},{"$f":"IF('2A Input Climat Scen. Pass.'!F97=0,\"\",'2A Input Climat Scen. Pass.'!F97)","v":""},{"$f":"IF('2A Input Climat Scen. Pass.'!G97=0,\"\",'2A Input Climat Scen. Pass.'!G97)","v":""},{"$f":"IF('2A Input Climat Scen. Pass.'!H97=0,\"\",'2A Input Climat Scen. Pass.'!H97)","v":""},null,"","","","","",null,{"$f":"Utrain","v":"Urban train"},0,0,0,0,0,null,null,{"$f":"Ftrain","v":"Freight train"},{"$f":"'2B Input Climat Scen. Freight'!C86","v":0},{"$f":"'2B Input Climat Scen. Freight'!D86","v":0},{"$f":"'2B Input Climat Scen. Freight'!E86","v":0},{"$f":"'2B Input Climat Scen. Freight'!F86","v":0},{"$f":"'2B Input Climat Scen. Freight'!G86","v":0},null,"","","","","",null,{"$f":"LCV","v":"LCV"},{"$f":"SUMIF($J$100:$J$104,$AK145,AK$100:AK$104)+SUMIF($X$116:$X$120,$AK145,AL$124:AL$128)-SUMIF($AK$136:$AK$140,$AK145,AL$136:AL$140)","v":0},0,0,0,0]
[null,{"$f":"Metro","v":"Metro"},{"$f":"'2A Input Climat Scen. Pass.'!C98","v":0},{"$f":"IF('2A Input Climat Scen. Pass.'!D98=0,\"\",'2A Input Climat Scen. Pass.'!D98)","v":""},{"$f":"IF('2A Input Climat Scen. Pass.'!E98=0,\"\",'2A Input Climat Scen. Pass.'!E98)","v":""},{"$f":"IF('2A Input Climat Scen. Pass.'!F98=0,\"\",'2A Input Climat Scen. Pass.'!F98)","v":""},{"$f":"IF('2A Input Climat Scen. Pass.'!G98=0,\"\",'2A Input Climat Scen. Pass.'!G98)","v":""},{"$f":"IF('2A Input Climat Scen. Pass.'!H98=0,\"\",'2A Input Climat Scen. Pass.'!H98)","v":""},null,"","","","","",null,{"$f":"Metro","v":"Metro"},0,0,0,0,0,null,{"$f":"Solo","v":"Solo truck"},null,null,null,null,null,null,null,{"$f":"SUMIF($X$116:$X$120,$W146,AL$124:AL$128)","v":0},{"$f":"SUMIF($X$116:$X$120,$W146,AM$124:AM$128)","v":0},{"$f":"SUMIF($X$116:$X$120,$W146,AN$124:AN$128)","v":0},{"$f":"SUMIF($X$116:$X$120,$W146,AO$124:AO$128)","v":0},{"$f":"SUMIF($X$116:$X$120,$W146,AP$124:AP$128)","v":0},null,{"$f":"Solo","v":"Solo truck"},{"$f":"SUMIF($J$100:$J$104,$AK146,AK$100:AK$104)+SUMIF($X$116:$X$120,$AK146,AL$124:AL$128)-SUMIF($AK$136:$AK$140,$AK146,AL$136:AL$140)","v":0},0,0,0,0]
[null,{"$f":"Inducedtraffic","v":"Induced traffic"},{"$f":"'2A Input Climat Scen. Pass.'!C99","v":0},{"$f":"IF('2A Input Climat Scen. Pass.'!D99=0,\"\",'2A Input Climat Scen. Pass.'!D99)","v":""},{"$f":"IF('2A Input Climat Scen. Pass.'!E99=0,\"\",'2A Input Climat Scen. Pass.'!E99)","v":""},{"$f":"IF('2A Input Climat Scen. Pass.'!F99=0,\"\",'2A Input Climat Scen. Pass.'!F99)","v":""},{"$f":"IF('2A Input Climat Scen. Pass.'!G99=0,\"\",'2A Input Climat Scen. Pass.'!G99)","v":""},{"$f":"IF('2A Input Climat Scen. Pass.'!H99=0,\"\",'2A Input Climat Scen. Pass.'!H99)","v":""},null,"","","","","",null,null,null,null,null,null,null,null,null,{"$f":"lightLCV","v":"Very light LCV"},{"$f":"'2B Input Climat Scen. Freight'!C88","v":0},{"$f":"'2B Input Climat Scen. Freight'!D88","v":0},{"$f":"'2B Input Climat Scen. Freight'!E88","v":0},{"$f":"'2B Input Climat Scen. Freight'!F88","v":0},{"$f":"'2B Input Climat Scen. Freight'!G88","v":0},null,{"$f":"IF(OR(AE$146=0,Y147=\"\"),\"\",AE$146*Y147)","v":""},"","","","",null,{"$f":"Atruck","v":"Articulated truck"},{"$f":"SUMIF($J$100:$J$104,$AK147,AK$100:AK$104)+SUMIF($X$116:$X$120,$AK147,AL$124:AL$128)-SUMIF($AK$136:$AK$140,$AK147,AL$136:AL$140)","v":0},0,0,0,0]
[{"$f":"Minibus","v":"Minibus"},null,null,{"$f":"'2A Input Climat Scen. Pass.'!D100","v":"-"},{"$f":"'2A Input Climat Scen. Pass.'!E100","v":"-"},{"$f":"'2A Input Climat Scen. Pass.'!F100","v":"-"},{"$f":"'2A Input Climat Scen. Pass.'!G100","v":"-"},{"$f":"'2A Input Climat Scen. Pass.'!H100","v":"-"},null,{"$f":"SUMIF($B$126:$B$132,$A148,O$126:O$132)","v":0},{"$f":"SUMIF($B$126:$B$132,$A148,P$126:P$132)","v":0},0,0,0,null,null,{"$f":"Transportperf","v":"Transport performance [Mio. Pkm]"},null,null,null,null,null,null,{"$f":"LCV","v":"LCV"},{"$f":"'2B Input Climat Scen. Freight'!C89","v":0},{"$f":"'2B Input Climat Scen. Freight'!D89","v":0},{"$f":"'2B Input Climat Scen. Freight'!E89","v":0},{"$f":"'2B Input Climat Scen. Freight'!F89","v":0},{"$f":"'2B Input Climat Scen. Freight'!G89","v":0},null,"","","","","",null,{"$f":"Ftrain","v":"Freight train"},{"$f":"SUMIF($J$100:$J$104,$AK148,AK$100:AK$104)+SUMIF($X$116:$X$120,$AK148,AL$124:AL$128)-SUMIF($AK$136:$AK$140,$AK148,AL$136:AL$140)","v":0},0,0,0,0]
[null,{"$f":"NMT","v":"NMT"},{"$f":"'2A Input Climat Scen. Pass.'!C101","v":0},{"$f":"IF('2A Input Climat Scen. Pass.'!D101=\"\",\"\",'2A Input Climat Scen. Pass.'!D101)","v":""},{"$f":"IF('2A Input Climat Scen. Pass.'!E101=\"\",\"\",'2A Input Climat Scen. Pass.'!E101)","v":""},{"$f":"IF('2A Input Climat Scen. Pass.'!F101=\"\",\"\",'2A Input Climat Scen. Pass.'!F101)","v":""},{"$f":"IF('2A Input Climat Scen. Pass.'!G101=\"\",\"\",'2A Input Climat Scen. Pass.'!G101)","v":""},{"$f":"IF('2A Input Climat Scen. Pass.'!H101=\"\",\"\",'2A Input Climat Scen. Pass.'!H101)","v":""},null,{"$f":"IF((OR(D149=\"\",J$148=0)),\"\",J$148*$C149*D149/(SUMPRODUCT($C$149:$C$159,D$149:D$159)))","v":""},{"$f":"IF((OR(E149=\"\",K$148=0)),\"\",K$148*$C149*E149/(SUMPRODUCT($C$149:$C$159,E$149:E$159)))","v":""},"","","",null,{"$f":"Subcategory","v":"Subcategory"},2020,2025,2030,2040,2050,null,null,{"$f":"Atruck","v":"Articulated truck"},{"$f":"'2B Input Climat Scen. Freight'!C90","v":0},{"$f":"'2B Input Climat Scen. Freight'!D90","v":0},{"$f":"'2B Input Climat Scen. Freight'!E90","v":0},{"$f":"'2B Input Climat Scen. Freight'!F90","v":0},{"$f":"'2B Input Climat Scen. Freight'!G90","v":0},null,"","","","",""]
[null,{"$f":"Pcar","v":"Private car"},{"$f":"'2A Input Climat Scen. Pass.'!C102","v":0},{"$f":"IF('2A Input Climat Scen. Pass.'!D102=\"\",\"\",'2A Input Climat Scen. Pass.'!D102)","v":""},{"$f":"IF('2A Input Climat Scen. Pass.'!E102=\"\",\"\",'2A Input Climat Scen. Pass.'!E102)","v":""},{"$f":"IF('2A Input Climat Scen. Pass.'!F102=\"\",\"\",'2A Input Climat Scen. Pass.'!F102)","v":""},{"$f":"IF('2A Input Climat Scen. Pass.'!G102=\"\",\"\",'2A Input Climat Scen. Pass.'!G102)","v":""},{"$f":"IF('2A Input Climat Scen. Pass.'!H102=\"\",\"\",'2A Input Climat Scen. Pass.'!H102)","v":""},null,{"$f":"IF((OR(D150=\"\",J$148=0)),\"\",J$148*$C150*D150/(SUMPRODUCT($C$149:$C$159,D$149:D$159)))","v":""},"","","","",null,{"$f":"NMT","v":"NMT"},{"$f":"SUMIF($J$89:$J$104,$P150,AE$89:AE$99)+SUMIF($B$126:$B$132,$P150,O$126:O$132)-SUMIF($P$136:$P$146,$P150,Q$136:Q$146)","v":0},{"$f":"SUMIF($J$89:$J$104,$P150,AF$89:AF$99)+SUMIF($B$126:$B$132,$P150,P$126:P$132)-SUMIF($P$136:$P$146,$P150,R$136:R$146)","v":0},0,0,0,null,null,{"$f":"Ftrain","v":"Freight train"},{"$f":"'2B Input Climat Scen. Freight'!C91","v":0},{"$f":"'2B Input Climat Scen. Freight'!D91","v":0},{"$f":"'2B Input Climat Scen. Freight'!E91","v":0},{"$f":"'2B Input Climat Scen. Freight'!F91","v":0},{"$f":"'2B Input Climat Scen. Freight'!G91","v":0},null,"","","","",""]
[null,{"$f":"Itaxi","v":"Individual taxi"},{"$f":"'2A Input Climat Scen. Pass.'!C103","v":0},{"$f":"IF('2A Input Climat Scen. Pass.'!D103=\"\",\"\",'2A Input Climat Scen. Pass.'!D103)","v":""},{"$f":"IF('2A Input Climat Scen. Pass.'!E103=\"\",\"\",'2A Input Climat Scen. Pass.'!E103)","v":""},{"$f":"IF('2A Input Climat Scen. Pass.'!F103=\"\",\"\",'2A Input Climat Scen. Pass.'!F103)","v":""},{"$f":"IF('2A Input Climat Scen. Pass.'!G103=\"\",\"\",'2A Input Climat Scen. Pass.'!G103)","v":""},{"$f":"IF('2A Input Climat Scen. Pass.'!H103=\"\",\"\",'2A Input Climat Scen. Pass.'!H103)","v":""},null,"","","","","",null,{"$f":"Pcar","v":"Private car"},{"$f":"SUMIF($J$89:$J$104,$P151,AE$89:AE$99)+SUMIF($B$126:$B$132,$P151,O$126:O$132)-SUMIF($P$136:$P$146,$P151,Q$136:Q$146)","v":0},0,0,0,0,null,{"$f":"Atruck","v":"Articulated truck"},null,null,null,null,null,null,null,{"$f":"SUMIF($X$116:$X$120,$W151,AL$124:AL$128)","v":0},{"$f":"SUMIF($X$116:$X$120,$W151,AM$124:AM$128)","v":0},{"$f":"SUMIF($X$116:$X$120,$W151,AN$124:AN$128)","v":0},{"$f":"SUMIF($X$116:$X$120,$W151,AO$124:AO$128)","v":0},{"$f":"SUMIF($X$116:$X$120,$W151,AP$124:AP$128)","v":0}]
[null,{"$f":"Motorcycle","v":"Motorcycle"},{"$f":"'2A Input Climat Scen. Pass.'!C104","v":0},{"$f":"IF('2A Input Climat Scen. Pass.'!D104=\"\",\"\",'2A Input Climat Scen. Pass.'!D104)","v":""},{"$f":"IF('2A Input Climat Scen. Pass.'!E104=\"\",\"\",'2A Input Climat Scen. Pass.'!E104)","v":""},{"$f":"IF('2A Input Climat Scen. Pass.'!F104=\"\",\"\",'2A Input Climat Scen. Pass.'!F104)","v":""},{"$f":"IF('2A Input Climat Scen. Pass.'!G104=\"\",\"\",'2A Input Climat Scen. Pass.'!G104)","v":""},{"$f":"IF('2A Input Climat Scen. Pass.'!H104=\"\",\"\",'2A Input Climat Scen. Pass.'!H104)","v":""},null,"","","","","",null,{"$f":"Itaxi","v":"Individual taxi"},0,0,0,0,0,null,null,{"$f":"lightLCV","v":"Very light LCV"},{"$f":"'2B Input Climat Scen. Freight'!C93","v":0},{"$f":"'2B Input Climat Scen. Freight'!D93","v":0},{"$f":"'2B Input Climat Scen. Freight'!E93","v":0},{"$f":"'2B Input Climat Scen. Freight'!F93","v":0},{"$f":"'2B Input Climat Scen. Freight'!G93","v":0},null,{"$f":"IF(OR(AE$151=0,Y152=\"\"),\"\",AE$151*Y152)","v":""},"","","",""]
[null,{"$f":"Mototaxi","v":"Motorcycle taxi"},{"$f":"'2A Input Climat Scen. Pass.'!C105","v":0},{"$f":"IF('2A Input Climat Scen. Pass.'!D105=\"\",\"\",'2A Input Climat Scen. Pass.'!D105)","v":""},{"$f":"IF('2A Input Climat Scen. Pass.'!E105=\"\",\"\",'2A Input Climat Scen. Pass.'!E105)","v":""},{"$f":"IF('2A Input Climat Scen. Pass.'!F105=\"\",\"\",'2A Input Climat Scen. Pass.'!F105)","v":""},{"$f":"IF('2A Input Climat Scen. Pass.'!G105=\"\",\"\",'2A Input Climat Scen. Pass.'!G105)","v":""},{"$f":"IF('2A Input Climat Scen. Pass.'!H105=\"\",\"\",'2A Input Climat Scen. Pass.'!H105)","v":""},null,"","","","","",null,{"$f":"Motorcycle","v":"Motorcycle"},0,0,0,0,0,null,null,{"$f":"LCV","v":"LCV"},{"$f":"'2B Input Climat Scen. Freight'!C94","v":0},{"$f":"'2B Input Climat Scen. Freight'!D94","v":0},{"$f":"'2B Input Climat Scen. Freight'!E94","v":0},{"$f":"'2B Input Climat Scen. Freight'!F94","v":0},{"$f":"'2B Input Climat Scen. Freight'!G94","v":0},null,"","","","",""]
[null,{"$f":"Bus","v":"Bus"},{"$f":"'2A Input Climat Scen. Pass.'!C106","v":0},{"$f":"IF('2A Input Climat Scen. Pass.'!D106=\"\",\"\",'2A Input Climat Scen. Pass.'!D106)","v":""},{"$f":"IF('2A Input Climat Scen. Pass.'!E106=\"\",\"\",'2A Input Climat Scen. Pass.'!E106)","v":""},{"$f":"IF('2A Input Climat Scen. Pass.'!F106=\"\",\"\",'2A Input Climat Scen. Pass.'!F106)","v":""},{"$f":"IF('2A Input Climat Scen. Pass.'!G106=\"\",\"\",'2A Input Climat Scen. Pass.'!G106)","v":""},{"$f":"IF('2A Input Climat Scen. Pass.'!H106=\"\",\"\",'2A Input Climat Scen. Pass.'!H106)","v":""},null,"","","","","",null,{"$f":"Mototaxi","v":"Motorcycle taxi"},0,0,0,0,0,null,null,{"$f":"Solo","v":"Solo truck"},{"$f":"'2B Input Climat Scen. Freight'!C95","v":0},{"$f":"'2B Input Climat Scen. Freight'!D95","v":0},{"$f":"'2B Input Climat Scen. Freight'!E95","v":0},{"$f":"'2B Input Climat Scen. Freight'!F95","v":0},{"$f":"'2B Input Climat Scen. Freight'!G95","v":0},null,"","","","",""]
[null,{"$f":"BRT","v":"BRT"},{"$f":"'2A Input Climat Scen. Pass.'!C107","v":0},{"$f":"IF('2A Input Climat Scen. Pass.'!D107=\"\",\"\",'2A Input Climat Scen. Pass.'!D107)","v":""},{"$f":"IF('2A Input Climat Scen. Pass.'!E107=\"\",\"\",'2A Input Climat Scen. Pass.'!E107)","v":""},{"$f":"IF('2A Input Climat Scen. Pass.'!F107=\"\",\"\",'2A Input Climat Scen. Pass.'!F107)","v":""},{"$f":"IF('2A Input Climat Scen. Pass.'!G107=\"\",\"\",'2A Input Climat Scen. Pass.'!G107)","v":""},{"$f":"IF('2A Input Climat Scen. Pass.'!H107=\"\",\"\",'2A Input Climat Scen. Pass.'!H107)","v":""},null,"","","","","",null,{"$f":"Minibus","v":"Minibus"},0,0,0,0,0,null,null,{"$f":"Ftrain","v":"Freight train"},{"$f":"'2B Input Climat Scen. Freight'!C96","v":0},{"$f":"'2B Input Climat Scen. Freight'!D96","v":0},{"$f":"'2B Input Climat Scen. Freight'!E96","v":0},{"$f":"'2B Input Climat Scen. Freight'!F96","v":0},{"$f":"'2B Input Climat Scen. Freight'!G96","v":0},null,"","","","",""]
[null,{"$f":"Train","v":"Long distance train"},{"$f":"'2A Input Climat Scen. Pass.'!C108","v":0},{"$f":"IF('2A Input Climat Scen. Pass.'!D108=\"\",\"\",'2A Input Climat Scen. Pass.'!D108)","v":""},{"$f":"IF('2A Input Climat Scen. Pass.'!E108=\"\",\"\",'2A Input Climat Scen. Pass.'!E108)","v":""},{"$f":"IF('2A Input Climat Scen. Pass.'!F108=\"\",\"\",'2A Input Climat Scen. Pass.'!F108)","v":""},{"$f":"IF('2A Input Climat Scen. Pass.'!G108=\"\",\"\",'2A Input Climat Scen. Pass.'!G108)","v":""},{"$f":"IF('2A Input Climat Scen. Pass.'!H108=\"\",\"\",'2A Input Climat Scen. Pass.'!H108)","v":""},null,"","","","","",null,{"$f":"Bus","v":"Bus"},0,0,0,0,0,null,{"$f":"Ftrain","v":"Freight train"},null,null,null,null,null,null,null,{"$f":"SUMIF($X$116:$X$120,$W156,AL$124:AL$128)","v":0},{"$f":"SUMIF($X$116:$X$120,$W156,AM$124:AM$128)","v":0},{"$f":"SUMIF($X$116:$X$120,$W156,AN$124:AN$128)","v":0},{"$f":"SUMIF($X$116:$X$120,$W156,AO$124:AO$128)","v":0},{"$f":"SUMIF($X$116:$X$120,$W156,AP$124:AP$128)","v":0}]
[null,{"$f":"Utrain","v":"Urban train"},{"$f":"'2A Input Climat Scen. Pass.'!C109","v":0},{"$f":"IF('2A Input Climat Scen. Pass.'!D109=\"\",\"\",'2A Input Climat Scen. Pass.'!D109)","v":""},{"$f":"IF('2A Input Climat Scen. Pass.'!E109=\"\",\"\",'2A Input Climat Scen. Pass.'!E109)","v":""},{"$f":"IF('2A Input Climat Scen. Pass.'!F109=\"\",\"\",'2A Input Climat Scen. Pass.'!F109)","v":""},{"$f":"IF('2A Input Climat Scen. Pass.'!G109=\"\",\"\",'2A Input Climat Scen. Pass.'!G109)","v":""},{"$f":"IF('2A Input Climat Scen. Pass.'!H109=\"\",\"\",'2A Input Climat Scen. Pass.'!H109)","v":""},null,"","","","","",null,{"$f":"BRT","v":"BRT"},0,0,0,0,0,null,null,{"$f":"lightLCV","v":"Very light LCV"},{"$f":"'2B Input Climat Scen. Freight'!C98","v":0},{"$f":"'2B Input Climat Scen. Freight'!D98","v":0},{"$f":"'2B Input Climat Scen. Freight'!E98","v":0},{"$f":"'2B Input Climat Scen. Freight'!F98","v":0},{"$f":"'2B Input Climat Scen. Freight'!G98","v":0},null,{"$f":"IF(OR(AE$156=0,Y157=\"\"),\"\",AE$156*Y157)","v":""},"","","",""]
[null,{"$f":"Metro","v":"Metro"},{"$f":"'2A Input Climat Scen. Pass.'!C110","v":0},{"$f":"IF('2A Input Climat Scen. Pass.'!D110=\"\",\"\",'2A Input Climat Scen. Pass.'!D110)","v":""},{"$f":"IF('2A Input Climat Scen. Pass.'!E110=\"\",\"\",'2A Input Climat Scen. Pass.'!E110)","v":""},{"$f":"IF('2A Input Climat Scen. Pass.'!F110=\"\",\"\",'2A Input Climat Scen. Pass.'!F110)","v":""},{"$f":"IF('2A Input Climat Scen. Pass.'!G110=\"\",\"\",'2A Input Climat Scen. Pass.'!G110)","v":""},{"$f":"IF('2A Input Climat Scen. Pass.'!H110=\"\",\"\",'2A Input Climat Scen. Pass.'!H110)","v":""},null,"","","","","",null,{"$f":"Train","v":"Long distance train"},0,0,0,0,0,null,null,{"$f":"LCV","v":"LCV"},{"$f":"'2B Input Climat Scen. Freight'!C99","v":0},{"$f":"'2B Input Climat Scen. Freight'!D99","v":0},{"$f":"'2B Input Climat Scen. Freight'!E99","v":0},{"$f":"'2B Input Climat Scen. Freight'!F99","v":0},{"$f":"'2B Input Climat Scen. Freight'!G99","v":0},null,"","","","",""]
[null,{"$f":"Inducedtraffic","v":"Induced traffic"},{"$f":"'2A Input Climat Scen. Pass.'!C111","v":0},{"$f":"IF('2A Input Climat Scen. Pass.'!D111=\"\",\"\",'2A Input Climat Scen. Pass.'!D111)","v":""},{"$f":"IF('2A Input Climat Scen. Pass.'!E111=\"\",\"\",'2A Input Climat Scen. Pass.'!E111)","v":""},{"$f":"IF('2A Input Climat Scen. Pass.'!F111=\"\",\"\",'2A Input Climat Scen. Pass.'!F111)","v":""},{"$f":"IF('2A Input Climat Scen. Pass.'!G111=\"\",\"\",'2A Input Climat Scen. Pass.'!G111)","v":""},{"$f":"IF('2A Input Climat Scen. Pass.'!H111=\"\",\"\",'2A Input Climat Scen. Pass.'!H111)","v":""},null,"","","","","",null,{"$f":"Utrain","v":"Urban train"},0,0,0,0,0,null,null,{"$f":"Solo","v":"Solo truck"},{"$f":"'2B Input Climat Scen. Freight'!C100","v":0},{"$f":"'2B Input Climat Scen. Freight'!D100","v":0},{"$f":"'2B Input Climat Scen. Freight'!E100","v":0},{"$f":"'2B Input Climat Scen. Freight'!F100","v":0},{"$f":"'2B Input Climat Scen. Freight'!G100","v":0},null,"","","","",""]
[{"$f":"Bus","v":"Bus"},null,null,{"$f":"'2A Input Climat Scen. Pass.'!D112","v":"-"},{"$f":"'2A Input Climat Scen. Pass.'!E112","v":"-"},{"$f":"'2A Input Climat Scen. Pass.'!F112","v":"-"},{"$f":"'2A Input Climat Scen. Pass.'!G112","v":"-"},{"$f":"'2A Input Climat Scen. Pass.'!H112","v":"-"},null,{"$f":"SUMIF($B$126:$B$132,$A160,O$126:O$132)","v":0},{"$f":"SUMIF($B$126:$B$132,$A160,P$126:P$132)","v":0},0,0,0,null,{"$f":"Metro","v":"Metro"},0,0,0,0,0,null,null,{"$f":"Atruck","v":"Articulated truck"},{"$f":"'2B Input Climat Scen. Freight'!C101","v":0},{"$f":"'2B Input Climat Scen. Freight'!D101","v":0},{"$f":"'2B Input Climat Scen. Freight'!E101","v":0},{"$f":"'2B Input Climat Scen. Freight'!F101","v":0},{"$f":"'2B Input Climat Scen. Freight'!G101","v":0},null,"","","","",""]
[null,{"$f":"NMT","v":"NMT"},{"$f":"'2A Input Climat Scen. Pass.'!C113","v":0},{"$f":"IF('2A Input Climat Scen. Pass.'!D113=\"\",\"\",'2A Input Climat Scen. Pass.'!D113)","v":""},{"$f":"IF('2A Input Climat Scen. Pass.'!E113=\"\",\"\",'2A Input Climat Scen. Pass.'!E113)","v":""},{"$f":"IF('2A Input Climat Scen. Pass.'!F113=\"\",\"\",'2A Input Climat Scen. Pass.'!F113)","v":""},{"$f":"IF('2A Input Climat Scen. Pass.'!G113=\"\",\"\",'2A Input Climat Scen. Pass.'!G113)","v":""},{"$f":"IF('2A Input Climat Scen. Pass.'!H113=\"\",\"\",'2A Input Climat Scen. Pass.'!H113)","v":""},null,{"$f":"IF(OR(J$160=0,D161=\"\"),\"\",J$160*$C161*D161/(SUMPRODUCT($C$161:$C$171,D$161:D$171)))","v":""},{"$f":"IF(OR(K$160=0,E161=\"\"),\"\",K$160*$C161*E161/(SUMPRODUCT($C$161:$C$171,E$161:E$171)))","v":""},"","",""]
[null,{"$f":"Pcar","v":"Private car"},{"$f":"'2A Input Climat Scen. Pass.'!C114","v":0},{"$f":"IF('2A Input Climat Scen. Pass.'!D114=\"\",\"\",'2A Input Climat Scen. Pass.'!D114)","v":""},{"$f":"IF('2A Input Climat Scen. Pass.'!E114=\"\",\"\",'2A Input Climat Scen. Pass.'!E114)","v":""},{"$f":"IF('2A Input Climat Scen. Pass.'!F114=\"\",\"\",'2A Input Climat Scen. Pass.'!F114)","v":""},{"$f":"IF('2A Input Climat Scen. Pass.'!G114=\"\",\"\",'2A Input Climat Scen. Pass.'!G114)","v":""},{"$f":"IF('2A Input Climat Scen. Pass.'!H114=\"\",\"\",'2A Input Climat Scen. Pass.'!H114)","v":""},null,{"$f":"IF(OR(J$160=0,D162=\"\"),\"\",J$160*$C162*D162/(SUMPRODUCT($C$161:$C$171,D$161:D$171)))","v":""},"","","",""]
[null,{"$f":"Itaxi","v":"Individual taxi"},{"$f":"'2A Input Climat Scen. Pass.'!C115","v":0},{"$f":"IF('2A Input Climat Scen. Pass.'!D115=\"\",\"\",'2A Input Climat Scen. Pass.'!D115)","v":""},{"$f":"IF('2A Input Climat Scen. Pass.'!E115=\"\",\"\",'2A Input Climat Scen. Pass.'!E115)","v":""},{"$f":"IF('2A Input Climat Scen. Pass.'!F115=\"\",\"\",'2A Input Climat Scen. Pass.'!F115)","v":""},{"$f":"IF('2A Input Climat Scen. Pass.'!G115=\"\",\"\",'2A Input Climat Scen. Pass.'!G115)","v":""},{"$f":"IF('2A Input Climat Scen. Pass.'!H115=\"\",\"\",'2A Input Climat Scen. Pass.'!H115)","v":""},null,"","","","",""]
[null,{"$f":"Motorcycle","v":"Motorcycle"},{"$f":"'2A Input Climat Scen. Pass.'!C116","v":0},{"$f":"IF('2A Input Climat Scen. Pass.'!D116=\"\",\"\",'2A Input Climat Scen. Pass.'!D116)","v":""},{"$f":"IF('2A Input Climat Scen. Pass.'!E116=\"\",\"\",'2A Input Climat Scen. Pass.'!E116)","v":""},{"$f":"IF('2A Input Climat Scen. Pass.'!F116=\"\",\"\",'2A Input Climat Scen. Pass.'!F116)","v":""},{"$f":"IF('2A Input Climat Scen. Pass.'!G116=\"\",\"\",'2A Input Climat Scen. Pass.'!G116)","v":""},{"$f":"IF('2A Input Climat Scen. Pass.'!H116=\"\",\"\",'2A Input Climat Scen. Pass.'!H116)","v":""},null,"","","","",""]
[null,{"$f":"Mototaxi","v":"Motorcycle taxi"},{"$f":"'2A Input Climat Scen. Pass.'!C117","v":0},{"$f":"IF('2A Input Climat Scen. Pass.'!D117=\"\",\"\",'2A Input Climat Scen. Pass.'!D117)","v":""},{"$f":"IF('2A Input Climat Scen. Pass.'!E117=\"\",\"\",'2A Input Climat Scen. Pass.'!E117)","v":""},{"$f":"IF('2A Input Climat Scen. Pass.'!F117=\"\",\"\",'2A Input Climat Scen. Pass.'!F117)","v":""},{"$f":"IF('2A Input Climat Scen. Pass.'!G117=\"\",\"\",'2A Input Climat Scen. Pass.'!G117)","v":""},{"$f":"IF('2A Input Climat Scen. Pass.'!H117=\"\",\"\",'2A Input Climat Scen. Pass.'!H117)","v":""},null,"","","","",""]
[null,{"$f":"Minibus","v":"Minibus"},{"$f":"'2A Input Climat Scen. Pass.'!C118","v":0},{"$f":"IF('2A Input Climat Scen. Pass.'!D118=\"\",\"\",'2A Input Climat Scen. Pass.'!D118)","v":""},{"$f":"IF('2A Input Climat Scen. Pass.'!E118=\"\",\"\",'2A Input Climat Scen. Pass.'!E118)","v":""},{"$f":"IF('2A Input Climat Scen. Pass.'!F118=\"\",\"\",'2A Input Climat Scen. Pass.'!F118)","v":""},{"$f":"IF('2A Input Climat Scen. Pass.'!G118=\"\",\"\",'2A Input Climat Scen. Pass.'!G118)","v":""},{"$f":"IF('2A Input Climat Scen. Pass.'!H118=\"\",\"\",'2A Input Climat Scen. Pass.'!H118)","v":""},null,"","","","",""]
[null,{"$f":"BRT","v":"BRT"},{"$f":"'2A Input Climat Scen. Pass.'!C119","v":0},{"$f":"IF('2A Input Climat Scen. Pass.'!D119=\"\",\"\",'2A Input Climat Scen. Pass.'!D119)","v":""},{"$f":"IF('2A Input Climat Scen. Pass.'!E119=\"\",\"\",'2A Input Climat Scen. Pass.'!E119)","v":""},{"$f":"IF('2A Input Climat Scen. Pass.'!F119=\"\",\"\",'2A Input Climat Scen. Pass.'!F119)","v":""},{"$f":"IF('2A Input Climat Scen. Pass.'!G119=\"\",\"\",'2A Input Climat Scen. Pass.'!G119)","v":""},{"$f":"IF('2A Input Climat Scen. Pass.'!H119=\"\",\"\",'2A Input Climat Scen. Pass.'!H119)","v":""},null,"","","","",""]
[null,{"$f":"Train","v":"Long distance train"},{"$f":"'2A Input Climat Scen. Pass.'!C120","v":0},{"$f":"IF('2A Input Climat Scen. Pass.'!D120=\"\",\"\",'2A Input Climat Scen. Pass.'!D120)","v":""},{"$f":"IF('2A Input Climat Scen. Pass.'!E120=\"\",\"\",'2A Input Climat Scen. Pass.'!E120)","v":""},{"$f":"IF('2A Input Climat Scen. Pass.'!F120=\"\",\"\",'2A Input Climat Scen. Pass.'!F120)","v":""},{"$f":"IF('2A Input Climat Scen. Pass.'!G120=\"\",\"\",'2A Input Climat Scen. Pass.'!G120)","v":""},{"$f":"IF('2A Input Climat Scen. Pass.'!H120=\"\",\"\",'2A Input Climat Scen. Pass.'!H120)","v":""},null,"","","","",""]
[null,{"$f":"Utrain","v":"Urban train"},{"$f":"'2A Input Climat Scen. Pass.'!C121","v":0},{"$f":"IF('2A Input Climat Scen. Pass.'!D121=\"\",\"\",'2A Input Climat Scen. Pass.'!D121)","v":""},{"$f":"IF('2A Input Climat Scen. Pass.'!E121=\"\",\"\",'2A Input Climat Scen. Pass.'!E121)","v":""},{"$f":"IF('2A Input Climat Scen. Pass.'!F121=\"\",\"\",'2A Input Climat Scen. Pass.'!F121)","v":""},{"$f":"IF('2A Input Climat Scen. Pass.'!G121=\"\",\"\",'2A Input Climat Scen. Pass.'!G121)","v":""},{"$f":"IF('2A Input Climat Scen. Pass.'!H121=\"\",\"\",'2A Input Climat Scen. Pass.'!H121)","v":""},null,"","","","",""]
[null,{"$f":"Metro","v":"Metro"},{"$f":"'2A Input Climat Scen. Pass.'!C122","v":0},{"$f":"IF('2A Input Climat Scen. Pass.'!D122=\"\",\"\",'2A Input Climat Scen. Pass.'!D122)","v":""},{"$f":"IF('2A Input Climat Scen. Pass.'!E122=\"\",\"\",'2A Input Climat Scen. Pass.'!E122)","v":""},{"$f":"IF('2A Input Climat Scen. Pass.'!F122=\"\",\"\",'2A Input Climat Scen. Pass.'!F122)","v":""},{"$f":"IF('2A Input Climat Scen. Pass.'!G122=\"\",\"\",'2A Input Climat Scen. Pass.'!G122)","v":""},{"$f":"IF('2A Input Climat Scen. Pass.'!H122=\"\",\"\",'2A Input Climat Scen. Pass.'!H122)","v":""},null,"","","","",""]
[null,{"$f":"Inducedtraffic","v":"Induced traffic"},{"$f":"'2A Input Climat Scen. Pass.'!C123","v":0},{"$f":"IF('2A Input Climat Scen. Pass.'!D123=\"\",\"\",'2A Input Climat Scen. Pass.'!D123)","v":""},{"$f":"IF('2A Input Climat Scen. Pass.'!E123=\"\",\"\",'2A Input Climat Scen. Pass.'!E123)","v":""},{"$f":"IF('2A Input Climat Scen. Pass.'!F123=\"\",\"\",'2A Input Climat Scen. Pass.'!F123)","v":""},{"$f":"IF('2A Input Climat Scen. Pass.'!G123=\"\",\"\",'2A Input Climat Scen. Pass.'!G123)","v":""},{"$f":"IF('2A Input Climat Scen. Pass.'!H123=\"\",\"\",'2A Input Climat Scen. Pass.'!H123)","v":""},null,"","","","",""]
[{"$f":"BRT","v":"BRT"},null,null,{"$f":"'2A Input Climat Scen. Pass.'!D124","v":"-"},{"$f":"'2A Input Climat Scen. Pass.'!E124","v":"-"},{"$f":"'2A Input Climat Scen. Pass.'!F124","v":"-"},{"$f":"'2A Input Climat Scen. Pass.'!G124","v":"-"},{"$f":"'2A Input Climat Scen. Pass.'!H124","v":"-"},null,{"$f":"SUMIF($B$126:$B$132,$A172,O$126:O$132)","v":0},{"$f":"SUMIF($B$126:$B$132,$A172,P$126:P$132)","v":0},0,0,0]
[null,{"$f":"NMT","v":"NMT"},{"$f":"'2A Input Climat Scen. Pass.'!C125","v":0},{"$f":"IF('2A Input Climat Scen. Pass.'!D125=\"\",\"\",'2A Input Climat Scen. Pass.'!D125)","v":""},{"$f":"IF('2A Input Climat Scen. Pass.'!E125=\"\",\"\",'2A Input Climat Scen. Pass.'!E125)","v":""},{"$f":"IF('2A Input Climat Scen. Pass.'!F125=\"\",\"\",'2A Input Climat Scen. Pass.'!F125)","v":""},{"$f":"IF('2A Input Climat Scen. Pass.'!G125=\"\",\"\",'2A Input Climat Scen. Pass.'!G125)","v":""},{"$f":"IF('2A Input Climat Scen. Pass.'!H125=\"\",\"\",'2A Input Climat Scen. Pass.'!H125)","v":""},null,{"$f":"IF(OR(J$172=0,D173=\"\"),\"\",J$172*$C173*D173/(SUMPRODUCT($C$173:$C$183,D$173:D$183)))","v":""},{"$f":"IF(OR(K$172=0,E173=\"\"),\"\",K$172*$C173*E173/(SUMPRODUCT($C$173:$C$183,E$173:E$183)))","v":""},"","",{"$f":"IF(OR(N$172=0,H173=\"\"),\"\",N$172*$C173*H173/(SUMPRODUCT($C$173:$C$183,H$173:H$183)))","v":""}]
[null,{"$f":"Pcar","v":"Private car"},{"$f":"'2A Input Climat Scen. Pass.'!C126","v":0},{"$f":"IF('2A Input Climat Scen. Pass.'!D126=\"\",\"\",'2A Input Climat Scen. Pass.'!D126)","v":""},{"$f":"IF('2A Input Climat Scen. Pass.'!E126=\"\",\"\",'2A Input Climat Scen. Pass.'!E126)","v":""},{"$f":"IF('2A Input Climat Scen. Pass.'!F126=\"\",\"\",'2A Input Climat Scen. Pass.'!F126)","v":""},{"$f":"IF('2A Input Climat Scen. Pass.'!G126=\"\",\"\",'2A Input Climat Scen. Pass.'!G126)","v":""},{"$f":"IF('2A Input Climat Scen. Pass.'!H126=\"\",\"\",'2A Input Climat Scen. Pass.'!H126)","v":""},null,{"$f":"IF(OR(J$172=0,D174=\"\"),\"\",J$172*$C174*D174/(SUMPRODUCT($C$173:$C$183,D$173:D$183)))","v":""},"","","",""]
[null,{"$f":"Itaxi","v":"Individual taxi"},{"$f":"'2A Input Climat Scen. Pass.'!C127","v":0},{"$f":"IF('2A Input Climat Scen. Pass.'!D127=\"\",\"\",'2A Input Climat Scen. Pass.'!D127)","v":""},{"$f":"IF('2A Input Climat Scen. Pass.'!E127=\"\",\"\",'2A Input Climat Scen. Pass.'!E127)","v":""},{"$f":"IF('2A Input Climat Scen. Pass.'!F127=\"\",\"\",'2A Input Climat Scen. Pass.'!F127)","v":""},{"$f":"IF('2A Input Climat Scen. Pass.'!G127=\"\",\"\",'2A Input Climat Scen. Pass.'!G127)","v":""},{"$f":"IF('2A Input Climat Scen. Pass.'!H127=\"\",\"\",'2A Input Climat Scen. Pass.'!H127)","v":""},null,"","","","",""]
[null,{"$f":"Motorcycle","v":"Motorcycle"},{"$f":"'2A Input Climat Scen. Pass.'!C128","v":0},{"$f":"IF('2A Input Climat Scen. Pass.'!D128=\"\",\"\",'2A Input Climat Scen. Pass.'!D128)","v":""},{"$f":"IF('2A Input Climat Scen. Pass.'!E128=\"\",\"\",'2A Input Climat Scen. Pass.'!E128)","v":""},{"$f":"IF('2A Input Climat Scen. Pass.'!F128=\"\",\"\",'2A Input Climat Scen. Pass.'!F128)","v":""},{"$f":"IF('2A Input Climat Scen. Pass.'!G128=\"\",\"\",'2A Input Climat Scen. Pass.'!G128)","v":""},{"$f":"IF('2A Input Climat Scen. Pass.'!H128=\"\",\"\",'2A Input Climat Scen. Pass.'!H128)","v":""},null,"","","","",""]
[null,{"$f":"Mototaxi","v":"Motorcycle taxi"},{"$f":"'2A Input Climat Scen. Pass.'!C129","v":0},{"$f":"IF('2A Input Climat Scen. Pass.'!D129=\"\",\"\",'2A Input Climat Scen. Pass.'!D129)","v":""},{"$f":"IF('2A Input Climat Scen. Pass.'!E129=\"\",\"\",'2A Input Climat Scen. Pass.'!E129)","v":""},{"$f":"IF('2A Input Climat Scen. Pass.'!F129=\"\",\"\",'2A Input Climat Scen. Pass.'!F129)","v":""},{"$f":"IF('2A Input Climat Scen. Pass.'!G129=\"\",\"\",'2A Input Climat Scen. Pass.'!G129)","v":""},{"$f":"IF('2A Input Climat Scen. Pass.'!H129=\"\",\"\",'2A Input Climat Scen. Pass.'!H129)","v":""},null,"","","","",""]
[null,{"$f":"Minibus","v":"Minibus"},{"$f":"'2A Input Climat Scen. Pass.'!C130","v":0},{"$f":"IF('2A Input Climat Scen. Pass.'!D130=\"\",\"\",'2A Input Climat Scen. Pass.'!D130)","v":""},{"$f":"IF('2A Input Climat Scen. Pass.'!E130=\"\",\"\",'2A Input Climat Scen. Pass.'!E130)","v":""},{"$f":"IF('2A Input Climat Scen. Pass.'!F130=\"\",\"\",'2A Input Climat Scen. Pass.'!F130)","v":""},{"$f":"IF('2A Input Climat Scen. Pass.'!G130=\"\",\"\",'2A Input Climat Scen. Pass.'!G130)","v":""},{"$f":"IF('2A Input Climat Scen. Pass.'!H130=\"\",\"\",'2A Input Climat Scen. Pass.'!H130)","v":""},null,"","","","",""]
[null,{"$f":"Bus","v":"Bus"},{"$f":"'2A Input Climat Scen. Pass.'!C131","v":0},{"$f":"IF('2A Input Climat Scen. Pass.'!D131=\"\",\"\",'2A Input Climat Scen. Pass.'!D131)","v":""},{"$f":"IF('2A Input Climat Scen. Pass.'!E131=\"\",\"\",'2A Input Climat Scen. Pass.'!E131)","v":""},{"$f":"IF('2A Input Climat Scen. Pass.'!F131=\"\",\"\",'2A Input Climat Scen. Pass.'!F131)","v":""},{"$f":"IF('2A Input Climat Scen. Pass.'!G131=\"\",\"\",'2A Input Climat Scen. Pass.'!G131)","v":""},{"$f":"IF('2A Input Climat Scen. Pass.'!H131=\"\",\"\",'2A Input Climat Scen. Pass.'!H131)","v":""},null,"","","","",""]
[null,{"$f":"Train","v":"Long distance train"},{"$f":"'2A Input Climat Scen. Pass.'!C132","v":0},{"$f":"IF('2A Input Climat Scen. Pass.'!D132=\"\",\"\",'2A Input Climat Scen. Pass.'!D132)","v":""},{"$f":"IF('2A Input Climat Scen. Pass.'!E132=\"\",\"\",'2A Input Climat Scen. Pass.'!E132)","v":""},{"$f":"IF('2A Input Climat Scen. Pass.'!F132=\"\",\"\",'2A Input Climat Scen. Pass.'!F132)","v":""},{"$f":"IF('2A Input Climat Scen. Pass.'!G132=\"\",\"\",'2A Input Climat Scen. Pass.'!G132)","v":""},{"$f":"IF('2A Input Climat Scen. Pass.'!H132=\"\",\"\",'2A Input Climat Scen. Pass.'!H132)","v":""},null,"","","","",""]
[null,{"$f":"Utrain","v":"Urban train"},{"$f":"'2A Input Climat Scen. Pass.'!C133","v":0},{"$f":"IF('2A Input Climat Scen. Pass.'!D133=\"\",\"\",'2A Input Climat Scen. Pass.'!D133)","v":""},{"$f":"IF('2A Input Climat Scen. Pass.'!E133=\"\",\"\",'2A Input Climat Scen. Pass.'!E133)","v":""},{"$f":"IF('2A Input Climat Scen. Pass.'!F133=\"\",\"\",'2A Input Climat Scen. Pass.'!F133)","v":""},{"$f":"IF('2A Input Climat Scen. Pass.'!G133=\"\",\"\",'2A Input Climat Scen. Pass.'!G133)","v":""},{"$f":"IF('2A Input Climat Scen. Pass.'!H133=\"\",\"\",'2A Input Climat Scen. Pass.'!H133)","v":""},null,"","","","",""]
[null,{"$f":"Metro","v":"Metro"},{"$f":"'2A Input Climat Scen. Pass.'!C134","v":0},{"$f":"IF('2A Input Climat Scen. Pass.'!D134=\"\",\"\",'2A Input Climat Scen. Pass.'!D134)","v":""},{"$f":"IF('2A Input Climat Scen. Pass.'!E134=\"\",\"\",'2A Input Climat Scen. Pass.'!E134)","v":""},{"$f":"IF('2A Input Climat Scen. Pass.'!F134=\"\",\"\",'2A Input Climat Scen. Pass.'!F134)","v":""},{"$f":"IF('2A Input Climat Scen. Pass.'!G134=\"\",\"\",'2A Input Climat Scen. Pass.'!G134)","v":""},{"$f":"IF('2A Input Climat Scen. Pass.'!H134=\"\",\"\",'2A Input Climat Scen. Pass.'!H134)","v":""},null,"","","","",""]
[null,{"$f":"Inducedtraffic","v":"Induced traffic"},{"$f":"'2A Input Climat Scen. Pass.'!C135","v":0},{"$f":"IF('2A Input Climat Scen. Pass.'!D135=\"\",\"\",'2A Input Climat Scen. Pass.'!D135)","v":""},{"$f":"IF('2A Input Climat Scen. Pass.'!E135=\"\",\"\",'2A Input Climat Scen. Pass.'!E135)","v":""},{"$f":"IF('2A Input Climat Scen. Pass.'!F135=\"\",\"\",'2A Input Climat Scen. Pass.'!F135)","v":""},{"$f":"IF('2A Input Climat Scen. Pass.'!G135=\"\",\"\",'2A Input Climat Scen. Pass.'!G135)","v":""},{"$f":"IF('2A Input Climat Scen. Pass.'!H135=\"\",\"\",'2A Input Climat Scen. Pass.'!H135)","v":""},null,"","","","",""]
[{"$f":"Train","v":"Long distance train"},null,null,{"$f":"'2A Input Climat Scen. Pass.'!D136","v":"-"},{"$f":"'2A Input Climat Scen. Pass.'!E136","v":"-"},{"$f":"'2A Input Climat Scen. Pass.'!F136","v":"-"},{"$f":"'2A Input Climat Scen. Pass.'!G136","v":"-"},{"$f":"'2A Input Climat Scen. Pass.'!H136","v":"-"},null,{"$f":"SUMIF($B$126:$B$132,$A184,O$126:O$132)","v":0},{"$f":"SUMIF($B$126:$B$132,$A184,P$126:P$132)","v":0},0,0,0]
[null,{"$f":"NMT","v":"NMT"},{"$f":"'2A Input Climat Scen. Pass.'!C137","v":0},{"$f":"IF('2A Input Climat Scen. Pass.'!D137=\"\",\"\",'2A Input Climat Scen. Pass.'!D137)","v":""},{"$f":"IF('2A Input Climat Scen. Pass.'!E137=\"\",\"\",'2A Input Climat Scen. Pass.'!E137)","v":""},{"$f":"IF('2A Input Climat Scen. Pass.'!F137=\"\",\"\",'2A Input Climat Scen. Pass.'!F137)","v":""},{"$f":"IF('2A Input Climat Scen. Pass.'!G137=\"\",\"\",'2A Input Climat Scen. Pass.'!G137)","v":""},{"$f":"IF('2A Input Climat Scen. Pass.'!H137=\"\",\"\",'2A Input Climat Scen. Pass.'!H137)","v":""},null,{"$f":"IF(OR(J$184=0,D185=\"\"),\"\",J$184*$C185*D185/(SUMPRODUCT($C$185:$C$195,D$185:D$195)))","v":""},{"$f":"IF(OR(K$184=0,E185=\"\"),\"\",K$184*$C185*E185/(SUMPRODUCT($C$185:$C$195,E$185:E$195)))","v":""},"","",""]
[null,{"$f":"Pcar","v":"Private car"},{"$f":"'2A Input Climat Scen. Pass.'!C138","v":0},{"$f":"IF('2A Input Climat Scen. Pass.'!D138=\"\",\"\",'2A Input Climat Scen. Pass.'!D138)","v":""},{"$f":"IF('2A Input Climat Scen. Pass.'!E138=\"\",\"\",'2A Input Climat Scen. Pass.'!E138)","v":""},{"$f":"IF('2A Input Climat Scen. Pass.'!F138=\"\",\"\",'2A Input Climat Scen. Pass.'!F138)","v":""},{"$f":"IF('2A Input Climat Scen. Pass.'!G138=\"\",\"\",'2A Input Climat Scen. Pass.'!G138)","v":""},{"$f":"IF('2A Input Climat Scen. Pass.'!H138=\"\",\"\",'2A Input Climat Scen. Pass.'!H138)","v":""},null,{"$f":"IF(OR(J$184=0,D186=\"\"),\"\",J$184*$C186*D186/(SUMPRODUCT($C$185:$C$195,D$185:D$195)))","v":""},"","","",""]
[null,{"$f":"Itaxi","v":"Individual taxi"},{"$f":"'2A Input Climat Scen. Pass.'!C139","v":0},{"$f":"IF('2A Input Climat Scen. Pass.'!D139=\"\",\"\",'2A Input Climat Scen. Pass.'!D139)","v":""},{"$f":"IF('2A Input Climat Scen. Pass.'!E139=\"\",\"\",'2A Input Climat Scen. Pass.'!E139)","v":""},{"$f":"IF('2A Input Climat Scen. Pass.'!F139=\"\",\"\",'2A Input Climat Scen. Pass.'!F139)","v":""},{"$f":"IF('2A Input Climat Scen. Pass.'!G139=\"\",\"\",'2A Input Climat Scen. Pass.'!G139)","v":""},{"$f":"IF('2A Input Climat Scen. Pass.'!H139=\"\",\"\",'2A Input Climat Scen. Pass.'!H139)","v":""},null,"","","","",""]
[null,{"$f":"Motorcycle","v":"Motorcycle"},{"$f":"'2A Input Climat Scen. Pass.'!C140","v":0},{"$f":"IF('2A Input Climat Scen. Pass.'!D140=\"\",\"\",'2A Input Climat Scen. Pass.'!D140)","v":""},{"$f":"IF('2A Input Climat Scen. Pass.'!E140=\"\",\"\",'2A Input Climat Scen. Pass.'!E140)","v":""},{"$f":"IF('2A Input Climat Scen. Pass.'!F140=\"\",\"\",'2A Input Climat Scen. Pass.'!F140)","v":""},{"$f":"IF('2A Input Climat Scen. Pass.'!G140=\"\",\"\",'2A Input Climat Scen. Pass.'!G140)","v":""},{"$f":"IF('2A Input Climat Scen. Pass.'!H140=\"\",\"\",'2A Input Climat Scen. Pass.'!H140)","v":""},null,"","","","",""]
[null,{"$f":"Mototaxi","v":"Motorcycle taxi"},{"$f":"'2A Input Climat Scen. Pass.'!C141","v":0},{"$f":"IF('2A Input Climat Scen. Pass.'!D141=\"\",\"\",'2A Input Climat Scen. Pass.'!D141)","v":""},{"$f":"IF('2A Input Climat Scen. Pass.'!E141=\"\",\"\",'2A Input Climat Scen. Pass.'!E141)","v":""},{"$f":"IF('2A Input Climat Scen. Pass.'!F141=\"\",\"\",'2A Input Climat Scen. Pass.'!F141)","v":""},{"$f":"IF('2A Input Climat Scen. Pass.'!G141=\"\",\"\",'2A Input Climat Scen. Pass.'!G141)","v":""},{"$f":"IF('2A Input Climat Scen. Pass.'!H141=\"\",\"\",'2A Input Climat Scen. Pass.'!H141)","v":""},null,"","","","",""]
[null,{"$f":"Minibus","v":"Minibus"},{"$f":"'2A Input Climat Scen. Pass.'!C142","v":0},{"$f":"IF('2A Input Climat Scen. Pass.'!D142=\"\",\"\",'2A Input Climat Scen. Pass.'!D142)","v":""},{"$f":"IF('2A Input Climat Scen. Pass.'!E142=\"\",\"\",'2A Input Climat Scen. Pass.'!E142)","v":""},{"$f":"IF('2A Input Climat Scen. Pass.'!F142=\"\",\"\",'2A Input Climat Scen. Pass.'!F142)","v":""},{"$f":"IF('2A Input Climat Scen. Pass.'!G142=\"\",\"\",'2A Input Climat Scen. Pass.'!G142)","v":""},{"$f":"IF('2A Input Climat Scen. Pass.'!H142=\"\",\"\",'2A Input Climat Scen. Pass.'!H142)","v":""},null,"","","","",""]
[null,{"$f":"Bus","v":"Bus"},{"$f":"'2A Input Climat Scen. Pass.'!C143","v":0},{"$f":"IF('2A Input Climat Scen. Pass.'!D143=\"\",\"\",'2A Input Climat Scen. Pass.'!D143)","v":""},{"$f":"IF('2A Input Climat Scen. Pass.'!E143=\"\",\"\",'2A Input Climat Scen. Pass.'!E143)","v":""},{"$f":"IF('2A Input Climat Scen. Pass.'!F143=\"\",\"\",'2A Input Climat Scen. Pass.'!F143)","v":""},{"$f":"IF('2A Input Climat Scen. Pass.'!G143=\"\",\"\",'2A Input Climat Scen. Pass.'!G143)","v":""},{"$f":"IF('2A Input Climat Scen. Pass.'!H143=\"\",\"\",'2A Input Climat Scen. Pass.'!H143)","v":""},null,"","","","",""]
[null,{"$f":"BRT","v":"BRT"},{"$f":"'2A Input Climat Scen. Pass.'!C144","v":0},{"$f":"IF('2A Input Climat Scen. Pass.'!D144=\"\",\"\",'2A Input Climat Scen. Pass.'!D144)","v":""},{"$f":"IF('2A Input Climat Scen. Pass.'!E144=\"\",\"\",'2A Input Climat Scen. Pass.'!E144)","v":""},{"$f":"IF('2A Input Climat Scen. Pass.'!F144=\"\",\"\",'2A Input Climat Scen. Pass.'!F144)","v":""},{"$f":"IF('2A Input Climat Scen. Pass.'!G144=\"\",\"\",'2A Input Climat Scen. Pass.'!G144)","v":""},{"$f":"IF('2A Input Climat Scen. Pass.'!H144=\"\",\"\",'2A Input Climat Scen. Pass.'!H144)","v":""},null,"","","","",""]
[null,{"$f":"Utrain","v":"Urban train"},{"$f":"'2A Input Climat Scen. Pass.'!C145","v":0},{"$f":"IF('2A Input Climat Scen. Pass.'!D145=\"\",\"\",'2A Input Climat Scen. Pass.'!D145)","v":""},{"$f":"IF('2A Input Climat Scen. Pass.'!E145=\"\",\"\",'2A Input Climat Scen. Pass.'!E145)","v":""},{"$f":"IF('2A Input Climat Scen. Pass.'!F145=\"\",\"\",'2A Input Climat Scen. Pass.'!F145)","v":""},{"$f":"IF('2A Input Climat Scen. Pass.'!G145=\"\",\"\",'2A Input Climat Scen. Pass.'!G145)","v":""},{"$f":"IF('2A Input Climat Scen. Pass.'!H145=\"\",\"\",'2A Input Climat Scen. Pass.'!H145)","v":""},null,"","","","",""]
[null,{"$f":"Metro","v":"Metro"},{"$f":"'2A Input Climat Scen. Pass.'!C146","v":0},{"$f":"IF('2A Input Climat Scen. Pass.'!D146=\"\",\"\",'2A Input Climat Scen. Pass.'!D146)","v":""},{"$f":"IF('2A Input Climat Scen. Pass.'!E146=\"\",\"\",'2A Input Climat Scen. Pass.'!E146)","v":""},{"$f":"IF('2A Input Climat Scen. Pass.'!F146=\"\",\"\",'2A Input Climat Scen. Pass.'!F146)","v":""},{"$f":"IF('2A Input Climat Scen. Pass.'!G146=\"\",\"\",'2A Input Climat Scen. Pass.'!G146)","v":""},{"$f":"IF('2A Input Climat Scen. Pass.'!H146=\"\",\"\",'2A Input Climat Scen. Pass.'!H146)","v":""},null,"","","","",""]
[null,{"$f":"Inducedtraffic","v":"Induced traffic"},{"$f":"'2A Input Climat Scen. Pass.'!C147","v":0},{"$f":"IF('2A Input Climat Scen. Pass.'!D147=\"\",\"\",'2A Input Climat Scen. Pass.'!D147)","v":""},{"$f":"IF('2A Input Climat Scen. Pass.'!E147=\"\",\"\",'2A Input Climat Scen. Pass.'!E147)","v":""},{"$f":"IF('2A Input Climat Scen. Pass.'!F147=\"\",\"\",'2A Input Climat Scen. Pass.'!F147)","v":""},{"$f":"IF('2A Input Climat Scen. Pass.'!G147=\"\",\"\",'2A Input Climat Scen. Pass.'!G147)","v":""},{"$f":"IF('2A Input Climat Scen. Pass.'!H147=\"\",\"\",'2A Input Climat Scen. Pass.'!H147)","v":""},null,"","","","",""]
[{"$f":"Utrain","v":"Urban train"},null,null,{"$f":"'2A Input Climat Scen. Pass.'!D148","v":"-"},{"$f":"'2A Input Climat Scen. Pass.'!E148","v":"-"},{"$f":"'2A Input Climat Scen. Pass.'!F148","v":"-"},{"$f":"'2A Input Climat Scen. Pass.'!G148","v":"-"},{"$f":"'2A Input Climat Scen. Pass.'!H148","v":"-"},null,{"$f":"SUMIF($B$126:$B$132,$A196,O$126:O$132)","v":0},{"$f":"SUMIF($B$126:$B$132,$A196,P$126:P$132)","v":0},0,0,0]
[null,{"$f":"NMT","v":"NMT"},{"$f":"'2A Input Climat Scen. Pass.'!C149","v":0},{"$f":"IF('2A Input Climat Scen. Pass.'!D149=\"\",\"\",'2A Input Climat Scen. Pass.'!D149)","v":""},{"$f":"IF('2A Input Climat Scen. Pass.'!E149=\"\",\"\",'2A Input Climat Scen. Pass.'!E149)","v":""},{"$f":"IF('2A Input Climat Scen. Pass.'!F149=\"\",\"\",'2A Input Climat Scen. Pass.'!F149)","v":""},{"$f":"IF('2A Input Climat Scen. Pass.'!G149=\"\",\"\",'2A Input Climat Scen. Pass.'!G149)","v":""},{"$f":"IF('2A Input Climat Scen. Pass.'!H149=\"\",\"\",'2A Input Climat Scen. Pass.'!H149)","v":""},null,{"$f":"IF(OR(J$196=0,D197=\"\"),\"\",J$196*$C197*D197/(SUMPRODUCT($C$197:$C$207,D$197:D$207)))","v":""},{"$f":"IF(OR(K$196=0,E197=\"\"),\"\",K$196*$C197*E197/(SUMPRODUCT($C$197:$C$207,E$197:E$207)))","v":""},"","",""]
[null,{"$f":"Pcar","v":"Private car"},{"$f":"'2A Input Climat Scen. Pass.'!C150","v":0},{"$f":"IF('2A Input Climat Scen. Pass.'!D150=\"\",\"\",'2A Input Climat Scen. Pass.'!D150)","v":""},{"$f":"IF('2A Input Climat Scen. Pass.'!E150=\"\",\"\",'2A Input Climat Scen. Pass.'!E150)","v":""},{"$f":"IF('2A Input Climat Scen. Pass.'!F150=\"\",\"\",'2A Input Climat Scen. Pass.'!F150)","v":""},{"$f":"IF('2A Input Climat Scen. Pass.'!G150=\"\",\"\",'2A Input Climat Scen. Pass.'!G150)","v":""},{"$f":"IF('2A Input Climat Scen. Pass.'!H150=\"\",\"\",'2A Input Climat Scen. Pass.'!H150)","v":""},null,{"$f":"IF(OR(J$196=0,D198=\"\"),\"\",J$196*$C198*D198/(SUMPRODUCT($C$197:$C$207,D$197:D$207)))","v":""},"","","",""]
[null,{"$f":"Itaxi","v":"Individual taxi"},{"$f":"'2A Input Climat Scen. Pass.'!C151","v":0},{"$f":"IF('2A Input Climat Scen. Pass.'!D151=\"\",\"\",'2A Input Climat Scen. Pass.'!D151)","v":""},{"$f":"IF('2A Input Climat Scen. Pass.'!E151=\"\",\"\",'2A Input Climat Scen. Pass.'!E151)","v":""},{"$f":"IF('2A Input Climat Scen. Pass.'!F151=\"\",\"\",'2A Input Climat Scen. Pass.'!F151)","v":""},{"$f":"IF('2A Input Climat Scen. Pass.'!G151=\"\",\"\",'2A Input Climat Scen. Pass.'!G151)","v":""},{"$f":"IF('2A Input Climat Scen. Pass.'!H151=\"\",\"\",'2A Input Climat Scen. Pass.'!H151)","v":""},null,"","","","",""]
[null,{"$f":"Motorcycle","v":"Motorcycle"},{"$f":"'2A Input Climat Scen. Pass.'!C152","v":0},{"$f":"IF('2A Input Climat Scen. Pass.'!D152=\"\",\"\",'2A Input Climat Scen. Pass.'!D152)","v":""},{"$f":"IF('2A Input Climat Scen. Pass.'!E152=\"\",\"\",'2A Input Climat Scen. Pass.'!E152)","v":""},{"$f":"IF('2A Input Climat Scen. Pass.'!F152=\"\",\"\",'2A Input Climat Scen. Pass.'!F152)","v":""},{"$f":"IF('2A Input Climat Scen. Pass.'!G152=\"\",\"\",'2A Input Climat Scen. Pass.'!G152)","v":""},{"$f":"IF('2A Input Climat Scen. Pass.'!H152=\"\",\"\",'2A Input Climat Scen. Pass.'!H152)","v":""},null,"","","","",""]
[null,{"$f":"Mototaxi","v":"Motorcycle taxi"},{"$f":"'2A Input Climat Scen. Pass.'!C153","v":0},{"$f":"IF('2A Input Climat Scen. Pass.'!D153=\"\",\"\",'2A Input Climat Scen. Pass.'!D153)","v":""},{"$f":"IF('2A Input Climat Scen. Pass.'!E153=\"\",\"\",'2A Input Climat Scen. Pass.'!E153)","v":""},{"$f":"IF('2A Input Climat Scen. Pass.'!F153=\"\",\"\",'2A Input Climat Scen. Pass.'!F153)","v":""},{"$f":"IF('2A Input Climat Scen. Pass.'!G153=\"\",\"\",'2A Input Climat Scen. Pass.'!G153)","v":""},{"$f":"IF('2A Input Climat Scen. Pass.'!H153=\"\",\"\",'2A Input Climat Scen. Pass.'!H153)","v":""},null,"","","","",""]
[null,{"$f":"Minibus","v":"Minibus"},{"$f":"'2A Input Climat Scen. Pass.'!C154","v":0},{"$f":"IF('2A Input Climat Scen. Pass.'!D154=\"\",\"\",'2A Input Climat Scen. Pass.'!D154)","v":""},{"$f":"IF('2A Input Climat Scen. Pass.'!E154=\"\",\"\",'2A Input Climat Scen. Pass.'!E154)","v":""},{"$f":"IF('2A Input Climat Scen. Pass.'!F154=\"\",\"\",'2A Input Climat Scen. Pass.'!F154)","v":""},{"$f":"IF('2A Input Climat Scen. Pass.'!G154=\"\",\"\",'2A Input Climat Scen. Pass.'!G154)","v":""},{"$f":"IF('2A Input Climat Scen. Pass.'!H154=\"\",\"\",'2A Input Climat Scen. Pass.'!H154)","v":""},null,"","","","",""]
[null,{"$f":"Bus","v":"Bus"},{"$f":"'2A Input Climat Scen. Pass.'!C155","v":0},{"$f":"IF('2A Input Climat Scen. Pass.'!D155=\"\",\"\",'2A Input Climat Scen. Pass.'!D155)","v":""},{"$f":"IF('2A Input Climat Scen. Pass.'!E155=\"\",\"\",'2A Input Climat Scen. Pass.'!E155)","v":""},{"$f":"IF('2A Input Climat Scen. Pass.'!F155=\"\",\"\",'2A Input Climat Scen. Pass.'!F155)","v":""},{"$f":"IF('2A Input Climat Scen. Pass.'!G155=\"\",\"\",'2A Input Climat Scen. Pass.'!G155)","v":""},{"$f":"IF('2A Input Climat Scen. Pass.'!H155=\"\",\"\",'2A Input Climat Scen. Pass.'!H155)","v":""},null,"","","","",""]
[null,{"$f":"BRT","v":"BRT"},{"$f":"'2A Input Climat Scen. Pass.'!C156","v":0},{"$f":"IF('2A Input Climat Scen. Pass.'!D156=\"\",\"\",'2A Input Climat Scen. Pass.'!D156)","v":""},{"$f":"IF('2A Input Climat Scen. Pass.'!E156=\"\",\"\",'2A Input Climat Scen. Pass.'!E156)","v":""},{"$f":"IF('2A Input Climat Scen. Pass.'!F156=\"\",\"\",'2A Input Climat Scen. Pass.'!F156)","v":""},{"$f":"IF('2A Input Climat Scen. Pass.'!G156=\"\",\"\",'2A Input Climat Scen. Pass.'!G156)","v":""},{"$f":"IF('2A Input Climat Scen. Pass.'!H156=\"\",\"\",'2A Input Climat Scen. Pass.'!H156)","v":""},null,"","","","",""]
[null,{"$f":"Train","v":"Long distance train"},{"$f":"'2A Input Climat Scen. Pass.'!C157","v":0},{"$f":"IF('2A Input Climat Scen. Pass.'!D157=\"\",\"\",'2A Input Climat Scen. Pass.'!D157)","v":""},{"$f":"IF('2A Input Climat Scen. Pass.'!E157=\"\",\"\",'2A Input Climat Scen. Pass.'!E157)","v":""},{"$f":"IF('2A Input Climat Scen. Pass.'!F157=\"\",\"\",'2A Input Climat Scen. Pass.'!F157)","v":""},{"$f":"IF('2A Input Climat Scen. Pass.'!G157=\"\",\"\",'2A Input Climat Scen. Pass.'!G157)","v":""},{"$f":"IF('2A Input Climat Scen. Pass.'!H157=\"\",\"\",'2A Input Climat Scen. Pass.'!H157)","v":""},null,"","","","",""]
[null,{"$f":"Metro","v":"Metro"},{"$f":"'2A Input Climat Scen. Pass.'!C158","v":0},{"$f":"IF('2A Input Climat Scen. Pass.'!D158=\"\",\"\",'2A Input Climat Scen. Pass.'!D158)","v":""},{"$f":"IF('2A Input Climat Scen. Pass.'!E158=\"\",\"\",'2A Input Climat Scen. Pass.'!E158)","v":""},{"$f":"IF('2A Input Climat Scen. Pass.'!F158=\"\",\"\",'2A Input Climat Scen. Pass.'!F158)","v":""},{"$f":"IF('2A Input Climat Scen. Pass.'!G158=\"\",\"\",'2A Input Climat Scen. Pass.'!G158)","v":""},{"$f":"IF('2A Input Climat Scen. Pass.'!H158=\"\",\"\",'2A Input Climat Scen. Pass.'!H158)","v":""},null,"","","","",""]
[null,{"$f":"Inducedtraffic","v":"Induced traffic"},{"$f":"'2A Input Climat Scen. Pass.'!C159","v":0},{"$f":"IF('2A Input Climat Scen. Pass.'!D159=\"\",\"\",'2A Input Climat Scen. Pass.'!D159)","v":""},{"$f":"IF('2A Input Climat Scen. Pass.'!E159=\"\",\"\",'2A Input Climat Scen. Pass.'!E159)","v":""},{"$f":"IF('2A Input Climat Scen. Pass.'!F159=\"\",\"\",'2A Input Climat Scen. Pass.'!F159)","v":""},{"$f":"IF('2A Input Climat Scen. Pass.'!G159=\"\",\"\",'2A Input Climat Scen. Pass.'!G159)","v":""},{"$f":"IF('2A Input Climat Scen. Pass.'!H159=\"\",\"\",'2A Input Climat Scen. Pass.'!H159)","v":""},null,"","","","",""]
[{"$f":"Metro","v":"Metro"},null,null,{"$f":"'2A Input Climat Scen. Pass.'!D160","v":"-"},{"$f":"'2A Input Climat Scen. Pass.'!E160","v":"-"},{"$f":"'2A Input Climat Scen. Pass.'!F160","v":"-"},{"$f":"'2A Input Climat Scen. Pass.'!G160","v":"-"},{"$f":"'2A Input Climat Scen. Pass.'!H160","v":"-"},null,{"$f":"SUMIF($B$126:$B$132,$A208,O$126:O$132)","v":0},{"$f":"SUMIF($B$126:$B$132,$A208,P$126:P$132)","v":0},0,0,0]
[null,{"$f":"NMT","v":"NMT"},{"$f":"'2A Input Climat Scen. Pass.'!C161","v":0},{"$f":"IF('2A Input Climat Scen. Pass.'!D161=\"\",\"\",'2A Input Climat Scen. Pass.'!D161)","v":""},{"$f":"IF('2A Input Climat Scen. Pass.'!E161=\"\",\"\",'2A Input Climat Scen. Pass.'!E161)","v":""},{"$f":"IF('2A Input Climat Scen. Pass.'!F161=\"\",\"\",'2A Input Climat Scen. Pass.'!F161)","v":""},{"$f":"IF('2A Input Climat Scen. Pass.'!G161=\"\",\"\",'2A Input Climat Scen. Pass.'!G161)","v":""},{"$f":"IF('2A Input Climat Scen. Pass.'!H161=\"\",\"\",'2A Input Climat Scen. Pass.'!H161)","v":""},null,{"$f":"IF(OR(D209=\"\",J$208=\"\"),\"\",J$208*$C209*D209/(SUMPRODUCT($C$209:$C$219,D$209:D$219)))","v":""},{"$f":"IF(OR(E209=\"\",K$208=\"\"),\"\",K$208*$C209*E209/(SUMPRODUCT($C$209:$C$219,E$209:E$219)))","v":""},"","",""]
[null,{"$f":"Pcar","v":"Private car"},{"$f":"'2A Input Climat Scen. Pass.'!C162","v":0},{"$f":"IF('2A Input Climat Scen. Pass.'!D162=\"\",\"\",'2A Input Climat Scen. Pass.'!D162)","v":""},{"$f":"IF('2A Input Climat Scen. Pass.'!E162=\"\",\"\",'2A Input Climat Scen. Pass.'!E162)","v":""},{"$f":"IF('2A Input Climat Scen. Pass.'!F162=\"\",\"\",'2A Input Climat Scen. Pass.'!F162)","v":""},{"$f":"IF('2A Input Climat Scen. Pass.'!G162=\"\",\"\",'2A Input Climat Scen. Pass.'!G162)","v":""},{"$f":"IF('2A Input Climat Scen. Pass.'!H162=\"\",\"\",'2A Input Climat Scen. Pass.'!H162)","v":""},null,{"$f":"IF(OR(D210=\"\",J$208=\"\"),\"\",J$208*$C210*D210/(SUMPRODUCT($C$209:$C$219,D$209:D$219)))","v":""},"","","",""]
[null,{"$f":"Itaxi","v":"Individual taxi"},{"$f":"'2A Input Climat Scen. Pass.'!C163","v":0},{"$f":"IF('2A Input Climat Scen. Pass.'!D163=\"\",\"\",'2A Input Climat Scen. Pass.'!D163)","v":""},{"$f":"IF('2A Input Climat Scen. Pass.'!E163=\"\",\"\",'2A Input Climat Scen. Pass.'!E163)","v":""},{"$f":"IF('2A Input Climat Scen. Pass.'!F163=\"\",\"\",'2A Input Climat Scen. Pass.'!F163)","v":""},{"$f":"IF('2A Input Climat Scen. Pass.'!G163=\"\",\"\",'2A Input Climat Scen. Pass.'!G163)","v":""},{"$f":"IF('2A Input Climat Scen. Pass.'!H163=\"\",\"\",'2A Input Climat Scen. Pass.'!H163)","v":""},null,"","","","",""]
[null,{"$f":"Motorcycle","v":"Motorcycle"},{"$f":"'2A Input Climat Scen. Pass.'!C164","v":0},{"$f":"IF('2A Input Climat Scen. Pass.'!D164=\"\",\"\",'2A Input Climat Scen. Pass.'!D164)","v":""},{"$f":"IF('2A Input Climat Scen. Pass.'!E164=\"\",\"\",'2A Input Climat Scen. Pass.'!E164)","v":""},{"$f":"IF('2A Input Climat Scen. Pass.'!F164=\"\",\"\",'2A Input Climat Scen. Pass.'!F164)","v":""},{"$f":"IF('2A Input Climat Scen. Pass.'!G164=\"\",\"\",'2A Input Climat Scen. Pass.'!G164)","v":""},{"$f":"IF('2A Input Climat Scen. Pass.'!H164=\"\",\"\",'2A Input Climat Scen. Pass.'!H164)","v":""},null,"","","","",""]
[null,{"$f":"Mototaxi","v":"Motorcycle taxi"},{"$f":"'2A Input Climat Scen. Pass.'!C165","v":0},{"$f":"IF('2A Input Climat Scen. Pass.'!D165=\"\",\"\",'2A Input Climat Scen. Pass.'!D165)","v":""},{"$f":"IF('2A Input Climat Scen. Pass.'!E165=\"\",\"\",'2A Input Climat Scen. Pass.'!E165)","v":""},{"$f":"IF('2A Input Climat Scen. Pass.'!F165=\"\",\"\",'2A Input Climat Scen. Pass.'!F165)","v":""},{"$f":"IF('2A Input Climat Scen. Pass.'!G165=\"\",\"\",'2A Input Climat Scen. Pass.'!G165)","v":""},{"$f":"IF('2A Input Climat Scen. Pass.'!H165=\"\",\"\",'2A Input Climat Scen. Pass.'!H165)","v":""},null,"","","","",""]
[null,{"$f":"Minibus","v":"Minibus"},{"$f":"'2A Input Climat Scen. Pass.'!C166","v":0},{"$f":"IF('2A Input Climat Scen. Pass.'!D166=\"\",\"\",'2A Input Climat Scen. Pass.'!D166)","v":""},{"$f":"IF('2A Input Climat Scen. Pass.'!E166=\"\",\"\",'2A Input Climat Scen. Pass.'!E166)","v":""},{"$f":"IF('2A Input Climat Scen. Pass.'!F166=\"\",\"\",'2A Input Climat Scen. Pass.'!F166)","v":""},{"$f":"IF('2A Input Climat Scen. Pass.'!G166=\"\",\"\",'2A Input Climat Scen. Pass.'!G166)","v":""},{"$f":"IF('2A Input Climat Scen. Pass.'!H166=\"\",\"\",'2A Input Climat Scen. Pass.'!H166)","v":""},null,"","","","",""]
[null,{"$f":"Bus","v":"Bus"},{"$f":"'2A Input Climat Scen. Pass.'!C167","v":0},{"$f":"IF('2A Input Climat Scen. Pass.'!D167=\"\",\"\",'2A Input Climat Scen. Pass.'!D167)","v":""},{"$f":"IF('2A Input Climat Scen. Pass.'!E167=\"\",\"\",'2A Input Climat Scen. Pass.'!E167)","v":""},{"$f":"IF('2A Input Climat Scen. Pass.'!F167=\"\",\"\",'2A Input Climat Scen. Pass.'!F167)","v":""},{"$f":"IF('2A Input Climat Scen. Pass.'!G167=\"\",\"\",'2A Input Climat Scen. Pass.'!G167)","v":""},{"$f":"IF('2A Input Climat Scen. Pass.'!H167=\"\",\"\",'2A Input Climat Scen. Pass.'!H167)","v":""},null,"","","","",""]
[null,{"$f":"BRT","v":"BRT"},{"$f":"'2A Input Climat Scen. Pass.'!C168","v":0},{"$f":"IF('2A Input Climat Scen. Pass.'!D168=\"\",\"\",'2A Input Climat Scen. Pass.'!D168)","v":""},{"$f":"IF('2A Input Climat Scen. Pass.'!E168=\"\",\"\",'2A Input Climat Scen. Pass.'!E168)","v":""},{"$f":"IF('2A Input Climat Scen. Pass.'!F168=\"\",\"\",'2A Input Climat Scen. Pass.'!F168)","v":""},{"$f":"IF('2A Input Climat Scen. Pass.'!G168=\"\",\"\",'2A Input Climat Scen. Pass.'!G168)","v":""},{"$f":"IF('2A Input Climat Scen. Pass.'!H168=\"\",\"\",'2A Input Climat Scen. Pass.'!H168)","v":""},null,"","","","",""]
[null,{"$f":"Train","v":"Long distance train"},{"$f":"'2A Input Climat Scen. Pass.'!C169","v":0},{"$f":"IF('2A Input Climat Scen. Pass.'!D169=\"\",\"\",'2A Input Climat Scen. Pass.'!D169)","v":""},{"$f":"IF('2A Input Climat Scen. Pass.'!E169=\"\",\"\",'2A Input Climat Scen. Pass.'!E169)","v":""},{"$f":"IF('2A Input Climat Scen. Pass.'!F169=\"\",\"\",'2A Input Climat Scen. Pass.'!F169)","v":""},{"$f":"IF('2A Input Climat Scen. Pass.'!G169=\"\",\"\",'2A Input Climat Scen. Pass.'!G169)","v":""},{"$f":"IF('2A Input Climat Scen. Pass.'!H169=\"\",\"\",'2A Input Climat Scen. Pass.'!H169)","v":""},null,"","","","",""]
[null,{"$f":"Utrain","v":"Urban train"},{"$f":"'2A Input Climat Scen. Pass.'!C170","v":0},{"$f":"IF('2A Input Climat Scen. Pass.'!D170=\"\",\"\",'2A Input Climat Scen. Pass.'!D170)","v":""},{"$f":"IF('2A Input Climat Scen. Pass.'!E170=\"\",\"\",'2A Input Climat Scen. Pass.'!E170)","v":""},{"$f":"IF('2A Input Climat Scen. Pass.'!F170=\"\",\"\",'2A Input Climat Scen. Pass.'!F170)","v":""},{"$f":"IF('2A Input Climat Scen. Pass.'!G170=\"\",\"\",'2A Input Climat Scen. Pass.'!G170)","v":""},{"$f":"IF('2A Input Climat Scen. Pass.'!H170=\"\",\"\",'2A Input Climat Scen. Pass.'!H170)","v":""},null,"","","","",""]
[null,{"$f":"Inducedtraffic","v":"Induced traffic"},{"$f":"'2A Input Climat Scen. Pass.'!C171","v":0},{"$f":"IF('2A Input Climat Scen. Pass.'!D171=\"\",\"\",'2A Input Climat Scen. Pass.'!D171)","v":""},{"$f":"IF('2A Input Climat Scen. Pass.'!E171=\"\",\"\",'2A Input Climat Scen. Pass.'!E171)","v":""},{"$f":"IF('2A Input Climat Scen. Pass.'!F171=\"\",\"\",'2A Input Climat Scen. Pass.'!F171)","v":""},{"$f":"IF('2A Input Climat Scen. Pass.'!G171=\"\",\"\",'2A Input Climat Scen. Pass.'!G171)","v":""},{"$f":"IF('2A Input Climat Scen. Pass.'!H171=\"\",\"\",'2A Input Climat Scen. Pass.'!H171)","v":""},null,"","","","",""]
[null,null,null,null,null,null,null,null,null,null,null,null,null,null,null,null,null,null,null,null,"Verify occupancy rate tramsport planning tool, then Input 1 -2 ) and finally BAU"]
[]
["Result of AVOID/SHIFT"]
[null,{"$f":"scenario","v":"Scenario"},{"$f":"Subcategory","v":"Subcategory"},{"$f":"Transporttype","v":"Transport type"},{"$f":"Fuel","v":"Fuel type"},"Million Pkm",null,null,null,null,null,null,{"$f":"Subcategory","v":"Subcategory"},"Million Tkm",null,null,null,null,null,null,{"$f":"Occuprate","v":"occupancy [Person/vehicle]"},null,null,null,null,null,null,{"$f":"loadvehicle","v":"Load per vehicle [Tons/vehicle]"},null,null,null,null,null,null,{"$f":"scenariovkt","v":"Scenario vkt [Mio. km]"},null,null,null,null,null,null,{"$f":"TotalGHGTTW1000t","v":"Total emission CO2 eq [1000t] TTW"}]
[null,null,null,null,null,{"$f":"$B$3","v":0},2020,2025,2030,2040,2050,null,null,{"$f":"$B$3","v":0},2020,2025,2030,2040,2050,null,{"$f":"$B$3","v":0},2020,2025,2030,2040,2050,null,{"$f":"$B$3","v":0},2020,2025,2030,2040,2050,null,{"$f":"$B$3","v":0},2020,2025,2030,2040,2050,null,{"$f":"$B$3","v":0},2020,2025,2030,2040,2050]
[null,{"$f":"Scen1","v":"Scenario 1)"},{"$f":"NMT","v":"NMT"},{"$f":"Pass","v":"Passengers"},{"$f":"all","v":"all"},{"$f":"SUMIF($C$12:$F$27,$C225,$AA$12:$AA$27)","v":0},{"$f":"IF(G66=0,Q150,G66)","v":0},{"$f":"IF(H66=0,R150,H66)","v":0},{"$f":"IF(I66=0,S150,I66)","v":0},{"$f":"IF(J66=0,T150,J66)","v":0},{"$f":"IF(K66=0,U150,K66)","v":0},null,null,null,null,null,null,null,null,null,{"$f":"M12","v":0},{"$f":"IF(AA66=\"\",IF(ISERROR(VLOOKUP($C225,$B$126:$B$132,1,FALSE)),SUMIF($J$89:$J$99,$C225,S$89:S$99),IF(SUMIF($B$126:$B$132,$P150,C$126:C$132)>0,SUMIF($B$126:$B$132,$P150,C$126:C$132),SUMIF($J$89:$J$99,$C225,S$89:S$99))),SUMIF($C$66:$C$76,$C225,AA$66:AA$76))","v":1},{"$f":"IF(AB66=\"\",IF(ISERROR(VLOOKUP($C225,$B$126:$B$132,1,FALSE)),SUMIF($J$89:$J$99,$C225,T$89:T$99),IF(SUMIF($B$126:$B$132,$P150,D$126:D$132)>0,SUMIF($B$126:$B$132,$P150,D$126:D$132),SUMIF($J$89:$J$99,$C225,T$89:T$99))),SUMIF($C$66:$C$76,$C225,AB$66:AB$76))","v":1},1,1,1,null,null,null,null,null,null,null,null,{"$f":"SUMIF('4A Calcul. BAU city'!$C$13:$C$61,'4B Calcul. Climat Scen.'!$C225,'4A Calcul. BAU city'!$G$13:$G$61)","v":0},{"$f":"IF(U66=0,IF(V225=0,0,G225/V225),U66)","v":0},{"$f":"IF(V66=0,IF(W225=0,0,H225/W225),V66)","v":0},{"$f":"IF(W66=0,IF(X225=0,0,I225/X225),W66)","v":0},{"$f":"IF(X66=0,IF(Y225=0,0,J225/Y225),X66)","v":0},{"$f":"IF(Y66=0,IF(Z225=0,0,K225/Z225),Y66)","v":0},null,{"$f":"AO12","v":0},{"$f":"SUMIF($C$225:$C$240,$C225,AJ$225:AJ$240)*SUMIF($AP$375:$AP$390,$C225,AR$375:AR$390)/1000","v":0},{"$f":"SUMIF($C$225:$C$240,$C225,AK$225:AK$240)*SUMIF($AP$375:$AP$390,$C225,AS$375:AS$390)/1000","v":0},{"$f":"SUMIF($C$225:$C$240,$C225,AL$225:AL$240)*SUMIF($AP$375:$AP$390,$C225,AT$375:AT$390)/1000","v":0},{"$f":"SUMIF($C$225:$C$240,$C225,AM$225:AM$240)*SUMIF($AP$375:$AP$390,$C225,AU$375:AU$390)/1000","v":0},{"$f":"SUMIF($C$225:$C$240,$C225,AN$225:AN$240)*SUMIF($AP$375:$AP$390,$C225,AV$375:AV$390)/1000","v":0}]
[null,"Scenario 1)",{"$f":"Pcar","v":"Private car"},"Passengers","all",{"$f":"SUMIF($C$12:$F$27,$C226,$AA$12:$AA$27)","v":0},0,0,0,0,0,null,null,null,null,null,null,null,null,null,0,{"$f":"IF(AA67=\"\",IF(ISERROR(VLOOKUP($C226,$B$126:$B$132,1,FALSE)),SUMIF($J$89:$J$99,$C226,S$89:S$99),IF(SUMIF($B$126:$B$132,$P151,C$126:C$132)>0,SUMIF($B$126:$B$132,$P151,C$126:C$132),SUMIF($J$89:$J$99,$C226,S$89:S$99))),SUMIF($C$66:$C$76,$C226,AA$66:AA$76))","v":0},{"$f":"IF(AB67=\"\",IF(ISERROR(VLOOKUP($C226,$B$126:$B$132,1,FALSE)),SUMIF($J$89:$J$99,$C226,T$89:T$99),IF(SUMIF($B$126:$B$132,$P151,D$126:D$132)>0,SUMIF($B$126:$B$132,$P151,D$126:D$132),SUMIF($J$89:$J$99,$C226,T$89:T$99))),SUMIF($C$66:$C$76,$C226,AB$66:AB$76))","v":0},{"$f":"IF(AC67=\"\",IF(ISERROR(VLOOKUP($C226,$B$126:$B$132,1,FALSE)),SUMIF($J$89:$J$99,$C226,U$89:U$99),IF(SUMIF($B$126:$B$132,$P151,E$126:E$132)>0,SUMIF($B$126:$B$132,$P151,E$126:E$132),SUMIF($J$89:$J$99,$C226,U$89:U$99))),SUMIF($C$66:$C$76,$C226,AC$66:AC$76))","v":0},{"$f":"IF(AD67=\"\",IF(ISERROR(VLOOKUP($C226,$B$126:$B$132,1,FALSE)),SUMIF($J$89:$J$99,$C226,V$89:V$99),IF(SUMIF($B$126:$B$132,$P151,F$126:F$132)>0,SUMIF($B$126:$B$132,$P151,F$126:F$132),SUMIF($J$89:$J$99,$C226,V$89:V$99))),SUMIF($C$66:$C$76,$C226,AD$66:AD$76))","v":0},{"$f":"IF(AE67=\"\",IF(ISERROR(VLOOKUP($C226,$B$126:$B$132,1,FALSE)),SUMIF($J$89:$J$99,$C226,W$89:W$99),IF(SUMIF($B$126:$B$132,$P151,G$126:G$132)>0,SUMIF($B$126:$B$132,$P151,G$126:G$132),SUMIF($J$89:$J$99,$C226,W$89:W$99))),SUMIF($C$66:$C$76,$C226,AE$66:AE$76))","v":0},null,null,null,null,null,null,null,null,{"$f":"SUMIF('4A Calcul. BAU city'!$C$13:$C$61,'4B Calcul. Climat Scen.'!$C226,'4A Calcul. BAU city'!$G$13:$G$61)","v":0},0,0,0,0,0,null,0,0,0,0,0,0]
[null,"Scenario 1)",{"$f":"Itaxi","v":"Individual taxi"},"Passengers","all",{"$f":"SUMIF($C$12:$F$27,$C227,$AA$12:$AA$27)","v":0},0,0,0,0,0,null,null,null,null,null,null,null,null,null,0,0,0,0,0,0,null,null,null,null,null,null,null,null,{"$f":"SUMIF('4A Calcul. BAU city'!$C$13:$C$61,'4B Calcul. Climat Scen.'!$C227,'4A Calcul. BAU city'!$G$13:$G$61)","v":0},0,0,0,0,0,null,0,0,0,0,0,0]
[null,"Scenario 1)",{"$f":"Motorcycle","v":"Motorcycle"},"Passengers","all",{"$f":"SUMIF($C$12:$F$27,$C228,$AA$12:$AA$27)","v":0},0,0,0,0,0,null,null,null,null,null,null,null,null,null,0,0,0,0,0,0,null,null,null,null,null,null,null,null,{"$f":"SUMIF('4A Calcul. BAU city'!$C$13:$C$61,'4B Calcul. Climat Scen.'!$C228,'4A Calcul. BAU city'!$G$13:$G$61)","v":0},0,0,0,0,0,null,0,0,0,0,0,0]
[null,"Scenario 1)",{"$f":"Mototaxi","v":"Motorcycle taxi"},"Passengers","all",0,0,0,0,0,0,null,null,null,null,null,null,null,null,null,0,0,0,0,0,0,null,null,null,null,null,null,null,null,{"$f":"SUMIF('4A Calcul. BAU city'!$C$13:$C$61,'4B Calcul. Climat Scen.'!$C229,'4A Calcul. BAU city'!$G$13:$G$61)","v":0},0,0,0,0,0,null,0,0,0,0,0,0]
[null,"Scenario 1)",{"$f":"Minibus","v":"Minibus"},"Passengers","all",0,0,0,0,0,0,null,null,null,null,null,null,null,null,null,0,0,0,0,0,0,null,null,null,null,null,null,null,null,{"$f":"SUMIF('4A Calcul. BAU city'!$C$13:$C$61,'4B Calcul. Climat Scen.'!$C230,'4A Calcul. BAU city'!$G$13:$G$61)","v":0},0,0,0,0,0,null,0,0,0,0,0,0]
[null,"Scenario 1)",{"$f":"Bus","v":"Bus"},"Passengers","all",0,0,0,0,0,0,null,null,null,null,null,null,null,null,null,{"$f":"M18","v":0},0,0,0,0,0,null,null,null,null,null,null,null,null,{"$f":"SUMIF('4A Calcul. BAU city'!$C$13:$C$61,'4B Calcul. Climat Scen.'!$C231,'4A Calcul. BAU city'!$G$13:$G$61)","v":0},0,0,0,0,0,null,0,0,0,0,0,0]
[null,"Scenario 1)",{"$f":"BRT","v":"BRT"},"Passengers","all",0,0,0,0,0,0,null,null,null,null,null,null,null,null,null,{"$f":"M19","v":0},0,0,0,0,0,null,null,null,null,null,null,null,null,{"$f":"SUMIF('4A Calcul. BAU city'!$C$13:$C$61,'4B Calcul. Climat Scen.'!$C232,'4A Calcul. BAU city'!$G$13:$G$61)","v":0},0,0,0,0,0,null,0,0,0,0,0,0]
[null,"Scenario 1)",{"$f":"Train","v":"Long distance train"},"Passengers","all",0,0,0,0,0,0,null,null,null,null,null,null,null,null,null,0,0,0,0,0,0,null,null,null,null,null,null,null,null,{"$f":"SUMIF('4A Calcul. BAU city'!$C$13:$C$61,'4B Calcul. Climat Scen.'!$C233,'4A Calcul. BAU city'!$G$13:$G$61)","v":0},0,0,0,0,0,null,0,0,0,0,0,0]
[null,"Scenario 1)",{"$f":"Utrain","v":"Urban train"},"Passengers","all",0,0,0,0,0,0,null,null,null,null,null,null,null,null,null,0,0,0,0,0,0,null,null,null,null,null,null,null,null,{"$f":"SUMIF('4A Calcul. BAU city'!$C$13:$C$61,'4B Calcul. Climat Scen.'!$C234,'4A Calcul. BAU city'!$G$13:$G$61)","v":0},0,0,0,0,0,null,0,0,0,0,0,0]
[null,"Scenario 1)",{"$f":"Metro","v":"Metro"},"Passengers","all",0,0,0,0,0,0,null,null,null,null,null,null,null,null,null,0,0,0,0,0,0,null,null,null,null,null,null,null,null,{"$f":"SUMIF('4A Calcul. BAU city'!$C$13:$C$61,'4B Calcul. Climat Scen.'!$C235,'4A Calcul. BAU city'!$G$13:$G$61)","v":0},0,0,0,0,0,null,0,0,0,0,0,0]
[null,"Scenario 1)",{"$f":"lightLCV","v":"Very light LCV"},null,null,null,null,null,null,null,null,null,{"$f":"lightLCV","v":"Very light LCV"},{"$f":"SUMIF($C$12:$C$27,$M236,$AH$12:$AH$27)","v":0},{"$f":"IF(O77=0,AL144,O77)","v":0},0,0,0,0,null,null,null,null,null,null,null,null,{"$f":"SUMIF($C$23:$C$27,$M236,T$23:T$27)","v":0},{"$f":"IF(AG77=\"\",IF(ISERROR(VLOOKUP($M236,$X$124:$X$128,1,FALSE)),SUMIF($J$100:$J$104,$M236,Y$100:Y$104),IF(SUMIF($X$124:$X$128,$M236,Y$124:Y$128)>0,SUMIF($X$124:$X$128,$M236,Y$124:Y$128),SUMIF($J$100:$J$104,$M236,Y$100:Y$104))),SUMIF(M$77:M$81,$M236,AG$77:AG$81))","v":0},{"$f":"IF(AH77=\"\",IF(ISERROR(VLOOKUP($M236,$X$124:$X$128,1,FALSE)),SUMIF($J$100:$J$104,$M236,Z$100:Z$104),IF(SUMIF($X$124:$X$128,$M236,Z$124:Z$128)>0,SUMIF($X$124:$X$128,$M236,Z$124:Z$128),SUMIF($J$100:$J$104,$M236,Z$100:Z$104))),SUMIF(N$77:N$81,$M236,AH$77:AH$81))","v":0},0,0,0,"Achtung andere Formel für Freight",{"$f":"SUMIF('4A Calcul. BAU city'!$C$13:$C$61,'4B Calcul. Climat Scen.'!$M236,'4A Calcul. BAU city'!$G$13:$G$61)","v":0},{"$f":"IF(U77=0,IF(AC236=0,0,O236/AC236),U77)","v":0},0,0,0,0,null,0,0,0,0,0,0]
[null,"Scenario 1)",{"$f":"LCV","v":"LCV"},null,null,null,null,null,null,null,null,null,{"$f":"LCV","v":"LCV"},{"$f":"SUMIF($C$12:$C$27,$M237,$AH$12:$AH$27)","v":0},0,0,0,0,0,null,null,null,null,null,null,null,null,{"$f":"SUMIF($C$23:$C$27,$M237,T$23:T$27)","v":0},{"$f":"IF(AG78=\"\",IF(ISERROR(VLOOKUP($M237,$X$124:$X$128,1,FALSE)),SUMIF($J$100:$J$104,$M237,Y$100:Y$104),IF(SUMIF($X$124:$X$128,$M237,Y$124:Y$128)>0,SUMIF($X$124:$X$128,$M237,Y$124:Y$128),SUMIF($J$100:$J$104,$M237,Y$100:Y$104))),SUMIF(M$77:M$81,$M237,AG$77:AG$81))","v":0},{"$f":"IF(AH78=\"\",IF(ISERROR(VLOOKUP($M237,$X$124:$X$128,1,FALSE)),SUMIF($J$100:$J$104,$M237,Z$100:Z$104),IF(SUMIF($X$124:$X$128,$M237,Z$124:Z$128)>0,SUMIF($X$124:$X$128,$M237,Z$124:Z$128),SUMIF($J$100:$J$104,$M237,Z$100:Z$104))),SUMIF(N$77:N$81,$M237,AH$77:AH$81))","v":0},{"$f":"IF(AI78=\"\",IF(ISERROR(VLOOKUP($M237,$X$124:$X$128,1,FALSE)),SUMIF($J$100:$J$104,$M237,AA$100:AA$104),IF(SUMIF($X$124:$X$128,$M237,AA$124:AA$128)>0,SUMIF($X$124:$X$128,$M237,AA$124:AA$128),SUMIF($J$100:$J$104,$M237,AA$100:AA$104))),SUMIF(O$77:O$81,$M237,AI$77:AI$81))","v":0},{"$f":"IF(AJ78=\"\",IF(ISERROR(VLOOKUP($M237,$X$124:$X$128,1,FALSE)),SUMIF($J$100:$J$104,$M237,AB$100:AB$104),IF(SUMIF($X$124:$X$128,$M237,AB$124:AB$128)>0,SUMIF($X$124:$X$128,$M237,AB$124:AB$128),SUMIF($J$100:$J$104,$M237,AB$100:AB$104))),SUMIF(P$77:P$81,$M237,AJ$77:AJ$81))","v":0},{"$f":"IF(AK78=\"\",IF(ISERROR(VLOOKUP($M237,$X$124:$X$128,1,FALSE)),SUMIF($J$100:$J$104,$M237,AC$100:AC$104),IF(SUMIF($X$124:$X$128,$M237,AC$124:AC$128)>0,SUMIF($X$124:$X$128,$M237,AC$124:AC$128),SUMIF($J$100:$J$104,$M237,AC$100:AC$104))),SUMIF(Q$77:Q$81,$M237,AK$77:AK$81))","v":0},null,{"$f":"SUMIF('4A Calcul. BAU city'!$C$13:$C$61,'4B Calcul. Climat Scen.'!$M237,'4A Calcul. BAU city'!$G$13:$G$61)","v":0},0,0,0,0,0,null,0,0,0,0,0,0]
[null,"Scenario 1)",{"$f":"Solo","v":"Solo truck"},null,null,null,null,null,null,null,null,null,{"$f":"Solo","v":"Solo truck"},0,0,0,0,0,0,null,null,null,null,null,null,null,null,{"$f":"SUMIF($C$23:$C$27,$M238,T$23:T$27)","v":0},0,0,0,0,0,null,{"$f":"SUMIF('4A Calcul. BAU city'!$C$13:$C$61,'4B Calcul. Climat Scen.'!$M238,'4A Calcul. BAU city'!$G$13:$G$61)","v":0},0,0,0,0,0,null,0,0,0,0,0,0]
[null,"Scenario 1)",{"$f":"Atruck","v":"Articulated truck"},null,null,null,null,null,null,null,null,null,{"$f":"Atruck","v":"Articulated truck"},0,0,0,0,0,0,null,null,null,null,null,null,null,null,{"$f":"SUMIF($C$23:$C$27,$M239,T$23:T$27)","v":0},0,0,0,0,0,null,{"$f":"SUMIF('4A Calcul. BAU city'!$C$13:$C$61,'4B Calcul. Climat Scen.'!$M239,'4A Calcul. BAU city'!$G$13:$G$61)","v":0},0,0,0,0,0,null,0,0,0,0,0,0]
[null,"Scenario 1)",{"$f":"Ftrain","v":"Freight train"},null,null,null,null,null,null,null,null,null,{"$f":"Ftrain","v":"Freight train"},0,0,0,0,0,0,null,null,null,null,null,null,null,null,{"$f":"SUMIF($C$23:$C$27,$M240,T$23:T$27)","v":0},0,0,0,0,0,null,{"$f":"SUMIF('4A Calcul. BAU city'!$C$13:$C$61,'4B Calcul. Climat Scen.'!$M240,'4A Calcul. BAU city'!$G$13:$G$61)","v":0},0,0,0,0,0,null,0,0,0,0,0,0]
[]
[null,{"$f":"Scen1","v":"Scenario 1)"},{"$f":"totalindividualtransport","v":"Total individual transport"},null,"all",{"$f":"SUM(F226:F229)","v":0},0,0,0,0,0,null,null,null,null,null,null,null,null,null,null,null,null,null,null,null,null,null,null,null,null,null,null,null,{"$f":"SUM(AI226:AI229)","v":0},{"$f":"SUM(AJ226:AJ229)","v":0},0,0,{"$f":"SUM(AM226:AM229)","v":0},0,null,{"$f":"SUM(AP226:AP229)","v":0},{"$f":"SUM(AQ226:AQ229)","v":0},0,0,0,0]
[null,{"$f":"Scen1","v":"Scenario 1)"},{"$f":"totalpublictransport","v":"Total public transport"},null,"all",{"$f":"SUM(F230:F235)","v":0},0,0,0,0,0,null,null,null,null,null,null,null,null,null,null,null,null,null,null,null,null,null,null,null,null,null,null,null,{"$f":"SUM(AI230:AI235)","v":0},{"$f":"SUM(AJ230:AJ235)","v":0},0,0,{"$f":"SUM(AM230:AM235)","v":0},0,null,{"$f":"SUM(AP230:AP235)","v":0},0,0,0,0,0]
[null,{"$f":"Scen1","v":"Scenario 1)"},{"$f":"Passtrans","v":"Passenger transportation"},null,"all",{"$f":"SUM(F242:F243)","v":0},{"$f":"SUM(G242:G243)","v":0},0,0,0,0,null,null,null,null,null,null,null,null,null,null,null,null,null,null,null,null,null,null,null,null,null,null,null,{"$f":"SUM(AI242:AI243)","v":0},{"$f":"SUM(AJ242:AJ243)","v":0},0,0,0,0,null,{"$f":"SUM(AP242:AP243)","v":0},0,0,0,0,0]
[null,{"$f":"Scen1","v":"Scenario 1)"},{"$f":"Freighttrans","v":"Freight transportation"},null,"all",null,null,null,null,null,null,null,null,null,null,null,null,null,null,null,null,null,null,null,null,null,null,null,null,null,null,null,null,null,{"$f":"SUM(AI236:AI240)","v":0},{"$f":"SUM(AJ236:AJ240)","v":0},0,0,0,0,null,{"$f":"SUM(AP236:AP240)","v":0},{"$f":"SUM(AQ236:AQ240)","v":0},0,0,0,0]
[null,{"$f":"Scen1","v":"Scenario 1)"},{"$f":"all","v":"all"},null,"all",null,null,null,null,null,null,null,null,null,null,null,null,null,null,null,null,null,null,null,null,null,null,null,null,null,null,null,null,null,{"$f":"SUM(AI244+AI245)","v":0},{"$f":"SUM(AJ244+AJ245)","v":0},0,0,{"$f":"SUM(AM244+AM245)","v":0},0,null,{"$f":"SUM(AP244+AP245)","v":0},0,0,0,0,0]
[]
[]
[{"$f":"Descri68","v":"BAU scenario by category and type of fuel"}]
["Codes  ",{"$f":"scenario","v":"Scenario"},{"$f":"Category","v":"Category"},{"$f":"Fuel","v":"Fuel type"},{"$f":"Fuel","v":"Fuel type"},{"$f":"vktMilkm","v":"Vkt [Mio. km]"},null,null,null,null,null,null,null,null,null,null,null,null,null,null,null,null,null,null,null,null,{"$f":"FuelConTJ","v":"Fuel Consumption [TJ]"},null,null,null,null,null,null,{"$f":"TotalGHGTTW1000t","v":"Total emission CO2 eq [1000t] TTW"}]
[null,null,null,null,null,{"$f":"$B$3","v":0},2020,2025,2030,2040,2050,null,null,null,null,null,null,null,null,null,null,null,null,null,null,null,{"$f":"$B$3","v":0},2020,2025,2030,2040,2050,null,{"$f":"$B$3","v":0},2020,2025,2030,2040,2050]
["1.A.3.b.i",{"$f":"BAU","v":"BAU"},{"$f":"Pcar","v":"Private car"},{"$f":"RoadG","v":"Road - Gasoline"},{"$f":"Gasoline","v":"Gasoline"},{"$f":"+SUMIFS('4A Calcul. BAU city'!G:G,'4A Calcul. BAU city'!$C:$C,$C252,'4A Calcul. BAU city'!$E:$E,'4B Calcul. Climat Scen.'!$E252)","v":0},{"$f":"+SUMIFS('4A Calcul. BAU city'!H:H,'4A Calcul. BAU city'!$C:$C,$C252,'4A Calcul. BAU city'!$E:$E,'4B Calcul. Climat Scen.'!$E252)","v":0},{"$f":"+SUMIFS('4A Calcul. BAU city'!I:I,'4A Calcul. BAU city'!$C:$C,$C252,'4A Calcul. BAU city'!$E:$E,'4B Calcul. Climat Scen.'!$E252)","v":0},{"$f":"+SUMIFS('4A Calcul. BAU city'!J:J,'4A Calcul. BAU city'!$C:$C,$C252,'4A Calcul. BAU city'!$E:$E,'4B Calcul. Climat Scen.'!$E252)","v":0},{"$f":"+SUMIFS('4A Calcul. BAU city'!K:K,'4A Calcul. BAU city'!$C:$C,$C252,'4A Calcul. BAU city'!$E:$E,'4B Calcul. Climat Scen.'!$E252)","v":0},{"$f":"+SUMIFS('4A Calcul. BAU city'!L:L,'4A Calcul. BAU city'!$C:$C,$C252,'4A Calcul. BAU city'!$E:$E,'4B Calcul. Climat Scen.'!$E252)","v":0},null,null,null,null,null,null,null,null,null,null,null,null,null,null,null,{"$f":"+SUMIFS('4A Calcul. BAU city'!AD:AD,'4A Calcul. BAU city'!$C:$C,$C252,'4A Calcul. BAU city'!$E:$E,'4B Calcul. Climat Scen.'!$E252)","v":0},{"$f":"+SUMIFS('4A Calcul. BAU city'!AE:AE,'4A Calcul. BAU city'!$C:$C,$C252,'4A Calcul. BAU city'!$E:$E,'4B Calcul. Climat Scen.'!$E252)","v":0},{"$f":"+SUMIFS('4A Calcul. BAU city'!AF:AF,'4A Calcul. BAU city'!$C:$C,$C252,'4A Calcul. BAU city'!$E:$E,'4B Calcul. Climat Scen.'!$E252)","v":0},{"$f":"+SUMIFS('4A Calcul. BAU city'!AG:AG,'4A Calcul. BAU city'!$C:$C,$C252,'4A Calcul. BAU city'!$E:$E,'4B Calcul. Climat Scen.'!$E252)","v":0},{"$f":"+SUMIFS('4A Calcul. BAU city'!AH:AH,'4A Calcul. BAU city'!$C:$C,$C252,'4A Calcul. BAU city'!$E:$E,'4B Calcul. Climat Scen.'!$E252)","v":0},{"$f":"+SUMIFS('4A Calcul. BAU city'!AI:AI,'4A Calcul. BAU city'!$C:$C,$C252,'4A Calcul. BAU city'!$E:$E,'4B Calcul. Climat Scen.'!$E252)","v":0},null,{"$f":"+SUMIFS('4A Calcul. BAU city'!AJ:AJ,'4A Calcul. BAU city'!$C:$C,$C252,'4A Calcul. BAU city'!$E:$E,'4B Calcul. Climat Scen.'!$E252)","v":0},{"$f":"+SUMIFS('4A Calcul. BAU city'!AK:AK,'4A Calcul. BAU city'!$C:$C,$C252,'4A Calcul. BAU city'!$E:$E,'4B Calcul. Climat Scen.'!$E252)","v":0},{"$f":"+SUMIFS('4A Calcul. BAU city'!AL:AL,'4A Calcul. BAU city'!$C:$C,$C252,'4A Calcul. BAU city'!$E:$E,'4B Calcul. Climat Scen.'!$E252)","v":0},{"$f":"+SUMIFS('4A Calcul. BAU city'!AM:AM,'4A Calcul. BAU city'!$C:$C,$C252,'4A Calcul. BAU city'!$E:$E,'4B Calcul. Climat Scen.'!$E252)","v":0},{"$f":"+SUMIFS('4A Calcul. BAU city'!AN:AN,'4A Calcul. BAU city'!$C:$C,$C252,'4A Calcul. BAU city'!$E:$E,'4B Calcul. Climat Scen.'!$E252)","v":0},{"$f":"+SUMIFS('4A Calcul. BAU city'!AO:AO,'4A Calcul. BAU city'!$C:$C,$C252,'4A Calcul. BAU city'!$E:$E,'4B Calcul. Climat Scen.'!$E252)","v":0}]
["1.A.3.b.i","BAU","Private car",{"$f":"RoadD","v":"Road - Diesel"},{"$f":"Diesel","v":"Diesel"},{"$f":"+SUMIFS('4A Calcul. BAU city'!G:G,'4A Calcul. BAU city'!$C:$C,$C253,'4A Calcul. BAU city'!$E:$E,'4B Calcul. Climat Scen.'!$E253)","v":0},{"$f":"+SUMIFS('4A Calcul. BAU city'!H:H,'4A Calcul. BAU city'!$C:$C,$C253,'4A Calcul. BAU city'!$E:$E,'4B Calcul. Climat Scen.'!$E253)","v":0},{"$f":"+SUMIFS('4A Calcul. BAU city'!I:I,'4A Calcul. BAU city'!$C:$C,$C253,'4A Calcul. BAU city'!$E:$E,'4B Calcul. Climat Scen.'!$E253)","v":0},{"$f":"+SUMIFS('4A Calcul. BAU city'!J:J,'4A Calcul. BAU city'!$C:$C,$C253,'4A Calcul. BAU city'!$E:$E,'4B Calcul. Climat Scen.'!$E253)","v":0},{"$f":"+SUMIFS('4A Calcul. BAU city'!K:K,'4A Calcul. BAU city'!$C:$C,$C253,'4A Calcul. BAU city'!$E:$E,'4B Calcul. Climat Scen.'!$E253)","v":0},{"$f":"+SUMIFS('4A Calcul. BAU city'!L:L,'4A Calcul. BAU city'!$C:$C,$C253,'4A Calcul. BAU city'!$E:$E,'4B Calcul. Climat Scen.'!$E253)","v":0},null,null,null,null,null,null,null,null,null,null,null,null,null,null,null,{"$f":"+SUMIFS('4A Calcul. BAU city'!AD:AD,'4A Calcul. BAU city'!$C:$C,$C253,'4A Calcul. BAU city'!$E:$E,'4B Calcul. Climat Scen.'!$E253)","v":0},{"$f":"+SUMIFS('4A Calcul. BAU city'!AE:AE,'4A Calcul. BAU city'!$C:$C,$C253,'4A Calcul. BAU city'!$E:$E,'4B Calcul. Climat Scen.'!$E253)","v":0},{"$f":"+SUMIFS('4A Calcul. BAU city'!AF:AF,'4A Calcul. BAU city'!$C:$C,$C253,'4A Calcul. BAU city'!$E:$E,'4B Calcul. Climat Scen.'!$E253)","v":0},{"$f":"+SUMIFS('4A Calcul. BAU city'!AG:AG,'4A Calcul. BAU city'!$C:$C,$C253,'4A Calcul. BAU city'!$E:$E,'4B Calcul. Climat Scen.'!$E253)","v":0},{"$f":"+SUMIFS('4A Calcul. BAU city'!AH:AH,'4A Calcul. BAU city'!$C:$C,$C253,'4A Calcul. BAU city'!$E:$E,'4B Calcul. Climat Scen.'!$E253)","v":0},{"$f":"+SUMIFS('4A Calcul. BAU city'!AI:AI,'4A Calcul. BAU city'!$C:$C,$C253,'4A Calcul. BAU city'!$E:$E,'4B Calcul. Climat Scen.'!$E253)","v":0},null,{"$f":"+SUMIFS('4A Calcul. BAU city'!AJ:AJ,'4A Calcul. BAU city'!$C:$C,$C253,'4A Calcul. BAU city'!$E:$E,'4B Calcul. Climat Scen.'!$E253)","v":0},{"$f":"+SUMIFS('4A Calcul. BAU city'!AK:AK,'4A Calcul. BAU city'!$C:$C,$C253,'4A Calcul. BAU city'!$E:$E,'4B Calcul. Climat Scen.'!$E253)","v":0},{"$f":"+SUMIFS('4A Calcul. BAU city'!AL:AL,'4A Calcul. BAU city'!$C:$C,$C253,'4A Calcul. BAU city'!$E:$E,'4B Calcul. Climat Scen.'!$E253)","v":0},{"$f":"+SUMIFS('4A Calcul. BAU city'!AM:AM,'4A Calcul. BAU city'!$C:$C,$C253,'4A Calcul. BAU city'!$E:$E,'4B Calcul. Climat Scen.'!$E253)","v":0},{"$f":"+SUMIFS('4A Calcul. BAU city'!AN:AN,'4A Calcul. BAU city'!$C:$C,$C253,'4A Calcul. BAU city'!$E:$E,'4B Calcul. Climat Scen.'!$E253)","v":0},{"$f":"+SUMIFS('4A Calcul. BAU city'!AO:AO,'4A Calcul. BAU city'!$C:$C,$C253,'4A Calcul. BAU city'!$E:$E,'4B Calcul. Climat Scen.'!$E253)","v":0}]
["1.A.3.b.i","BAU","Private car",{"$f":"RoadLPG","v":"Road - LPG"},{"$f":"LPG","v":"LPG"},{"$f":"+SUMIFS('4A Calcul. BAU city'!G:G,'4A Calcul. BAU city'!$C:$C,$C254,'4A Calcul. BAU city'!$E:$E,'4B Calcul. Climat Scen.'!$E254)","v":0},{"$f":"+SUMIFS('4A Calcul. BAU city'!H:H,'4A Calcul. BAU city'!$C:$C,$C254,'4A Calcul. BAU city'!$E:$E,'4B Calcul. Climat Scen.'!$E254)","v":0},{"$f":"+SUMIFS('4A Calcul. BAU city'!I:I,'4A Calcul. BAU city'!$C:$C,$C254,'4A Calcul. BAU city'!$E:$E,'4B Calcul. Climat Scen.'!$E254)","v":0},{"$f":"+SUMIFS('4A Calcul. BAU city'!J:J,'4A Calcul. BAU city'!$C:$C,$C254,'4A Calcul. BAU city'!$E:$E,'4B Calcul. Climat Scen.'!$E254)","v":0},{"$f":"+SUMIFS('4A Calcul. BAU city'!K:K,'4A Calcul. BAU city'!$C:$C,$C254,'4A Calcul. BAU city'!$E:$E,'4B Calcul. Climat Scen.'!$E254)","v":0},{"$f":"+SUMIFS('4A Calcul. BAU city'!L:L,'4A Calcul. BAU city'!$C:$C,$C254,'4A Calcul. BAU city'!$E:$E,'4B Calcul. Climat Scen.'!$E254)","v":0},null,null,null,null,null,null,null,null,null,null,null,null,null,null,null,{"$f":"+SUMIFS('4A Calcul. BAU city'!AD:AD,'4A Calcul. BAU city'!$C:$C,$C254,'4A Calcul. BAU city'!$E:$E,'4B Calcul. Climat Scen.'!$E254)","v":0},{"$f":"+SUMIFS('4A Calcul. BAU city'!AE:AE,'4A Calcul. BAU city'!$C:$C,$C254,'4A Calcul. BAU city'!$E:$E,'4B Calcul. Climat Scen.'!$E254)","v":0},{"$f":"+SUMIFS('4A Calcul. BAU city'!AF:AF,'4A Calcul. BAU city'!$C:$C,$C254,'4A Calcul. BAU city'!$E:$E,'4B Calcul. Climat Scen.'!$E254)","v":0},{"$f":"+SUMIFS('4A Calcul. BAU city'!AG:AG,'4A Calcul. BAU city'!$C:$C,$C254,'4A Calcul. BAU city'!$E:$E,'4B Calcul. Climat Scen.'!$E254)","v":0},{"$f":"+SUMIFS('4A Calcul. BAU city'!AH:AH,'4A Calcul. BAU city'!$C:$C,$C254,'4A Calcul. BAU city'!$E:$E,'4B Calcul. Climat Scen.'!$E254)","v":0},{"$f":"+SUMIFS('4A Calcul. BAU city'!AI:AI,'4A Calcul. BAU city'!$C:$C,$C254,'4A Calcul. BAU city'!$E:$E,'4B Calcul. Climat Scen.'!$E254)","v":0},null,{"$f":"+SUMIFS('4A Calcul. BAU city'!AJ:AJ,'4A Calcul. BAU city'!$C:$C,$C254,'4A Calcul. BAU city'!$E:$E,'4B Calcul. Climat Scen.'!$E254)","v":0},{"$f":"+SUMIFS('4A Calcul. BAU city'!AK:AK,'4A Calcul. BAU city'!$C:$C,$C254,'4A Calcul. BAU city'!$E:$E,'4B Calcul. Climat Scen.'!$E254)","v":0},{"$f":"+SUMIFS('4A Calcul. BAU city'!AL:AL,'4A Calcul. BAU city'!$C:$C,$C254,'4A Calcul. BAU city'!$E:$E,'4B Calcul. Climat Scen.'!$E254)","v":0},{"$f":"+SUMIFS('4A Calcul. BAU city'!AM:AM,'4A Calcul. BAU city'!$C:$C,$C254,'4A Calcul. BAU city'!$E:$E,'4B Calcul. Climat Scen.'!$E254)","v":0},{"$f":"+SUMIFS('4A Calcul. BAU city'!AN:AN,'4A Calcul. BAU city'!$C:$C,$C254,'4A Calcul. BAU city'!$E:$E,'4B Calcul. Climat Scen.'!$E254)","v":0},{"$f":"+SUMIFS('4A Calcul. BAU city'!AO:AO,'4A Calcul. BAU city'!$C:$C,$C254,'4A Calcul. BAU city'!$E:$E,'4B Calcul. Climat Scen.'!$E254)","v":0}]
["1.A.3.b.i","BAU","Private car",{"$f":"RoadNG","v":"Road - NG"},{"$f":"NG","v":"NG"},{"$f":"+SUMIFS('4A Calcul. BAU city'!G:G,'4A Calcul. BAU city'!$C:$C,$C255,'4A Calcul. BAU city'!$E:$E,'4B Calcul. Climat Scen.'!$E255)","v":0},{"$f":"+SUMIFS('4A Calcul. BAU city'!H:H,'4A Calcul. BAU city'!$C:$C,$C255,'4A Calcul. BAU city'!$E:$E,'4B Calcul. Climat Scen.'!$E255)","v":0},{"$f":"+SUMIFS('4A Calcul. BAU city'!I:I,'4A Calcul. BAU city'!$C:$C,$C255,'4A Calcul. BAU city'!$E:$E,'4B Calcul. Climat Scen.'!$E255)","v":0},{"$f":"+SUMIFS('4A Calcul. BAU city'!J:J,'4A Calcul. BAU city'!$C:$C,$C255,'4A Calcul. BAU city'!$E:$E,'4B Calcul. Climat Scen.'!$E255)","v":0},{"$f":"+SUMIFS('4A Calcul. BAU city'!K:K,'4A Calcul. BAU city'!$C:$C,$C255,'4A Calcul. BAU city'!$E:$E,'4B Calcul. Climat Scen.'!$E255)","v":0},{"$f":"+SUMIFS('4A Calcul. BAU city'!L:L,'4A Calcul. BAU city'!$C:$C,$C255,'4A Calcul. BAU city'!$E:$E,'4B Calcul. Climat Scen.'!$E255)","v":0},null,null,null,null,null,null,null,null,null,null,null,null,null,null,null,{"$f":"+SUMIFS('4A Calcul. BAU city'!AD:AD,'4A Calcul. BAU city'!$C:$C,$C255,'4A Calcul. BAU city'!$E:$E,'4B Calcul. Climat Scen.'!$E255)","v":0},{"$f":"+SUMIFS('4A Calcul. BAU city'!AE:AE,'4A Calcul. BAU city'!$C:$C,$C255,'4A Calcul. BAU city'!$E:$E,'4B Calcul. Climat Scen.'!$E255)","v":0},{"$f":"+SUMIFS('4A Calcul. BAU city'!AF:AF,'4A Calcul. BAU city'!$C:$C,$C255,'4A Calcul. BAU city'!$E:$E,'4B Calcul. Climat Scen.'!$E255)","v":0},{"$f":"+SUMIFS('4A Calcul. BAU city'!AG:AG,'4A Calcul. BAU city'!$C:$C,$C255,'4A Calcul. BAU city'!$E:$E,'4B Calcul. Climat Scen.'!$E255)","v":0},{"$f":"+SUMIFS('4A Calcul. BAU city'!AH:AH,'4A Calcul. BAU city'!$C:$C,$C255,'4A Calcul. BAU city'!$E:$E,'4B Calcul. Climat Scen.'!$E255)","v":0},{"$f":"+SUMIFS('4A Calcul. BAU city'!AI:AI,'4A Calcul. BAU city'!$C:$C,$C255,'4A Calcul. BAU city'!$E:$E,'4B Calcul. Climat Scen.'!$E255)","v":0},null,{"$f":"+SUMIFS('4A Calcul. BAU city'!AJ:AJ,'4A Calcul. BAU city'!$C:$C,$C255,'4A Calcul. BAU city'!$E:$E,'4B Calcul. Climat Scen.'!$E255)","v":0},{"$f":"+SUMIFS('4A Calcul. BAU city'!AK:AK,'4A Calcul. BAU city'!$C:$C,$C255,'4A Calcul. BAU city'!$E:$E,'4B Calcul. Climat Scen.'!$E255)","v":0},{"$f":"+SUMIFS('4A Calcul. BAU city'!AL:AL,'4A Calcul. BAU city'!$C:$C,$C255,'4A Calcul. BAU city'!$E:$E,'4B Calcul. Climat Scen.'!$E255)","v":0},{"$f":"+SUMIFS('4A Calcul. BAU city'!AM:AM,'4A Calcul. BAU city'!$C:$C,$C255,'4A Calcul. BAU city'!$E:$E,'4B Calcul. Climat Scen.'!$E255)","v":0},{"$f":"+SUMIFS('4A Calcul. BAU city'!AN:AN,'4A Calcul. BAU city'!$C:$C,$C255,'4A Calcul. BAU city'!$E:$E,'4B Calcul. Climat Scen.'!$E255)","v":0},{"$f":"+SUMIFS('4A Calcul. BAU city'!AO:AO,'4A Calcul. BAU city'!$C:$C,$C255,'4A Calcul. BAU city'!$E:$E,'4B Calcul. Climat Scen.'!$E255)","v":0}]
["1.A.3.b.i","BAU","Private car",{"$f":"RoadH","v":"Road - Hybrid"},{"$f":"Hybrid","v":"Hybrid"},{"$f":"+SUMIFS('4A Calcul. BAU city'!G:G,'4A Calcul. BAU city'!$C:$C,$C256,'4A Calcul. BAU city'!$E:$E,'4B Calcul. Climat Scen.'!$E256)","v":0},{"$f":"+SUMIFS('4A Calcul. BAU city'!H:H,'4A Calcul. BAU city'!$C:$C,$C256,'4A Calcul. BAU city'!$E:$E,'4B Calcul. Climat Scen.'!$E256)","v":0},{"$f":"+SUMIFS('4A Calcul. BAU city'!I:I,'4A Calcul. BAU city'!$C:$C,$C256,'4A Calcul. BAU city'!$E:$E,'4B Calcul. Climat Scen.'!$E256)","v":0},{"$f":"+SUMIFS('4A Calcul. BAU city'!J:J,'4A Calcul. BAU city'!$C:$C,$C256,'4A Calcul. BAU city'!$E:$E,'4B Calcul. Climat Scen.'!$E256)","v":0},{"$f":"+SUMIFS('4A Calcul. BAU city'!K:K,'4A Calcul. BAU city'!$C:$C,$C256,'4A Calcul. BAU city'!$E:$E,'4B Calcul. Climat Scen.'!$E256)","v":0},{"$f":"+SUMIFS('4A Calcul. BAU city'!L:L,'4A Calcul. BAU city'!$C:$C,$C256,'4A Calcul. BAU city'!$E:$E,'4B Calcul. Climat Scen.'!$E256)","v":0},null,null,null,null,null,null,null,null,null,null,null,null,null,null,null,{"$f":"+SUMIFS('4A Calcul. BAU city'!AD:AD,'4A Calcul. BAU city'!$C:$C,$C256,'4A Calcul. BAU city'!$E:$E,'4B Calcul. Climat Scen.'!$E256)","v":0},{"$f":"+SUMIFS('4A Calcul. BAU city'!AE:AE,'4A Calcul. BAU city'!$C:$C,$C256,'4A Calcul. BAU city'!$E:$E,'4B Calcul. Climat Scen.'!$E256)","v":0},{"$f":"+SUMIFS('4A Calcul. BAU city'!AF:AF,'4A Calcul. BAU city'!$C:$C,$C256,'4A Calcul. BAU city'!$E:$E,'4B Calcul. Climat Scen.'!$E256)","v":0},{"$f":"+SUMIFS('4A Calcul. BAU city'!AG:AG,'4A Calcul. BAU city'!$C:$C,$C256,'4A Calcul. BAU city'!$E:$E,'4B Calcul. Climat Scen.'!$E256)","v":0},{"$f":"+SUMIFS('4A Calcul. BAU city'!AH:AH,'4A Calcul. BAU city'!$C:$C,$C256,'4A Calcul. BAU city'!$E:$E,'4B Calcul. Climat Scen.'!$E256)","v":0},{"$f":"+SUMIFS('4A Calcul. BAU city'!AI:AI,'4A Calcul. BAU city'!$C:$C,$C256,'4A Calcul. BAU city'!$E:$E,'4B Calcul. Climat Scen.'!$E256)","v":0},null,{"$f":"+SUMIFS('4A Calcul. BAU city'!AJ:AJ,'4A Calcul. BAU city'!$C:$C,$C256,'4A Calcul. BAU city'!$E:$E,'4B Calcul. Climat Scen.'!$E256)","v":0},{"$f":"+SUMIFS('4A Calcul. BAU city'!AK:AK,'4A Calcul. BAU city'!$C:$C,$C256,'4A Calcul. BAU city'!$E:$E,'4B Calcul. Climat Scen.'!$E256)","v":0},{"$f":"+SUMIFS('4A Calcul. BAU city'!AL:AL,'4A Calcul. BAU city'!$C:$C,$C256,'4A Calcul. BAU city'!$E:$E,'4B Calcul. Climat Scen.'!$E256)","v":0},{"$f":"+SUMIFS('4A Calcul. BAU city'!AM:AM,'4A Calcul. BAU city'!$C:$C,$C256,'4A Calcul. BAU city'!$E:$E,'4B Calcul. Climat Scen.'!$E256)","v":0},{"$f":"+SUMIFS('4A Calcul. BAU city'!AN:AN,'4A Calcul. BAU city'!$C:$C,$C256,'4A Calcul. BAU city'!$E:$E,'4B Calcul. Climat Scen.'!$E256)","v":0},{"$f":"+SUMIFS('4A Calcul. BAU city'!AO:AO,'4A Calcul. BAU city'!$C:$C,$C256,'4A Calcul. BAU city'!$E:$E,'4B Calcul. Climat Scen.'!$E256)","v":0}]
["1.A.3.b.i","BAU","Private car",{"$f":"Roadelec","v":"Road - Electric"},{"$f":"Electric","v":"Electric"},{"$f":"+SUMIFS('4A Calcul. BAU city'!G:G,'4A Calcul. BAU city'!$C:$C,$C257,'4A Calcul. BAU city'!$E:$E,'4B Calcul. Climat Scen.'!$E257)","v":0},{"$f":"+SUMIFS('4A Calcul. BAU city'!H:H,'4A Calcul. BAU city'!$C:$C,$C257,'4A Calcul. BAU city'!$E:$E,'4B Calcul. Climat Scen.'!$E257)","v":0},{"$f":"+SUMIFS('4A Calcul. BAU city'!I:I,'4A Calcul. BAU city'!$C:$C,$C257,'4A Calcul. BAU city'!$E:$E,'4B Calcul. Climat Scen.'!$E257)","v":0},{"$f":"+SUMIFS('4A Calcul. BAU city'!J:J,'4A Calcul. BAU city'!$C:$C,$C257,'4A Calcul. BAU city'!$E:$E,'4B Calcul. Climat Scen.'!$E257)","v":0},{"$f":"+SUMIFS('4A Calcul. BAU city'!K:K,'4A Calcul. BAU city'!$C:$C,$C257,'4A Calcul. BAU city'!$E:$E,'4B Calcul. Climat Scen.'!$E257)","v":0},{"$f":"+SUMIFS('4A Calcul. BAU city'!L:L,'4A Calcul. BAU city'!$C:$C,$C257,'4A Calcul. BAU city'!$E:$E,'4B Calcul. Climat Scen.'!$E257)","v":0},null,null,null,null,null,null,null,null,null,null,null,null,null,null,null,{"$f":"+SUMIFS('4A Calcul. BAU city'!AD:AD,'4A Calcul. BAU city'!$C:$C,$C257,'4A Calcul. BAU city'!$E:$E,'4B Calcul. Climat Scen.'!$E257)","v":0},{"$f":"+SUMIFS('4A Calcul. BAU city'!AE:AE,'4A Calcul. BAU city'!$C:$C,$C257,'4A Calcul. BAU city'!$E:$E,'4B Calcul. Climat Scen.'!$E257)","v":0},{"$f":"+SUMIFS('4A Calcul. BAU city'!AF:AF,'4A Calcul. BAU city'!$C:$C,$C257,'4A Calcul. BAU city'!$E:$E,'4B Calcul. Climat Scen.'!$E257)","v":0},{"$f":"+SUMIFS('4A Calcul. BAU city'!AG:AG,'4A Calcul. BAU city'!$C:$C,$C257,'4A Calcul. BAU city'!$E:$E,'4B Calcul. Climat Scen.'!$E257)","v":0},{"$f":"+SUMIFS('4A Calcul. BAU city'!AH:AH,'4A Calcul. BAU city'!$C:$C,$C257,'4A Calcul. BAU city'!$E:$E,'4B Calcul. Climat Scen.'!$E257)","v":0},{"$f":"+SUMIFS('4A Calcul. BAU city'!AI:AI,'4A Calcul. BAU city'!$C:$C,$C257,'4A Calcul. BAU city'!$E:$E,'4B Calcul. Climat Scen.'!$E257)","v":0},null,{"$f":"+SUMIFS('4A Calcul. BAU city'!AJ:AJ,'4A Calcul. BAU city'!$C:$C,$C257,'4A Calcul. BAU city'!$E:$E,'4B Calcul. Climat Scen.'!$E257)","v":0},{"$f":"+SUMIFS('4A Calcul. BAU city'!AK:AK,'4A Calcul. BAU city'!$C:$C,$C257,'4A Calcul. BAU city'!$E:$E,'4B Calcul. Climat Scen.'!$E257)","v":0},{"$f":"+SUMIFS('4A Calcul. BAU city'!AL:AL,'4A Calcul. BAU city'!$C:$C,$C257,'4A Calcul. BAU city'!$E:$E,'4B Calcul. Climat Scen.'!$E257)","v":0},{"$f":"+SUMIFS('4A Calcul. BAU city'!AM:AM,'4A Calcul. BAU city'!$C:$C,$C257,'4A Calcul. BAU city'!$E:$E,'4B Calcul. Climat Scen.'!$E257)","v":0},{"$f":"+SUMIFS('4A Calcul. BAU city'!AN:AN,'4A Calcul. BAU city'!$C:$C,$C257,'4A Calcul. BAU city'!$E:$E,'4B Calcul. Climat Scen.'!$E257)","v":0},{"$f":"+SUMIFS('4A Calcul. BAU city'!AO:AO,'4A Calcul. BAU city'!$C:$C,$C257,'4A Calcul. BAU city'!$E:$E,'4B Calcul. Climat Scen.'!$E257)","v":0}]
["1.A.3.b.i","BAU",{"$f":"Itaxi","v":"Individual taxi"},{"$f":"RoadG","v":"Road - Gasoline"},{"$f":"Gasoline","v":"Gasoline"},{"$f":"+SUMIFS('4A Calcul. BAU city'!G:G,'4A Calcul. BAU city'!$C:$C,$C258,'4A Calcul. BAU city'!$E:$E,'4B Calcul. Climat Scen.'!$E258)","v":0},{"$f":"+SUMIFS('4A Calcul. BAU city'!H:H,'4A Calcul. BAU city'!$C:$C,$C258,'4A Calcul. BAU city'!$E:$E,'4B Calcul. Climat Scen.'!$E258)","v":0},{"$f":"+SUMIFS('4A Calcul. BAU city'!I:I,'4A Calcul. BAU city'!$C:$C,$C258,'4A Calcul. BAU city'!$E:$E,'4B Calcul. Climat Scen.'!$E258)","v":0},{"$f":"+SUMIFS('4A Calcul. BAU city'!J:J,'4A Calcul. BAU city'!$C:$C,$C258,'4A Calcul. BAU city'!$E:$E,'4B Calcul. Climat Scen.'!$E258)","v":0},{"$f":"+SUMIFS('4A Calcul. BAU city'!K:K,'4A Calcul. BAU city'!$C:$C,$C258,'4A Calcul. BAU city'!$E:$E,'4B Calcul. Climat Scen.'!$E258)","v":0},{"$f":"+SUMIFS('4A Calcul. BAU city'!L:L,'4A Calcul. BAU city'!$C:$C,$C258,'4A Calcul. BAU city'!$E:$E,'4B Calcul. Climat Scen.'!$E258)","v":0},null,null,null,null,null,null,null,null,null,null,null,null,null,null,null,{"$f":"+SUMIFS('4A Calcul. BAU city'!AD:AD,'4A Calcul. BAU city'!$C:$C,$C258,'4A Calcul. BAU city'!$E:$E,'4B Calcul. Climat Scen.'!$E258)","v":0},{"$f":"+SUMIFS('4A Calcul. BAU city'!AE:AE,'4A Calcul. BAU city'!$C:$C,$C258,'4A Calcul. BAU city'!$E:$E,'4B Calcul. Climat Scen.'!$E258)","v":0},{"$f":"+SUMIFS('4A Calcul. BAU city'!AF:AF,'4A Calcul. BAU city'!$C:$C,$C258,'4A Calcul. BAU city'!$E:$E,'4B Calcul. Climat Scen.'!$E258)","v":0},{"$f":"+SUMIFS('4A Calcul. BAU city'!AG:AG,'4A Calcul. BAU city'!$C:$C,$C258,'4A Calcul. BAU city'!$E:$E,'4B Calcul. Climat Scen.'!$E258)","v":0},{"$f":"+SUMIFS('4A Calcul. BAU city'!AH:AH,'4A Calcul. BAU city'!$C:$C,$C258,'4A Calcul. BAU city'!$E:$E,'4B Calcul. Climat Scen.'!$E258)","v":0},{"$f":"+SUMIFS('4A Calcul. BAU city'!AI:AI,'4A Calcul. BAU city'!$C:$C,$C258,'4A Calcul. BAU city'!$E:$E,'4B Calcul. Climat Scen.'!$E258)","v":0},null,{"$f":"+SUMIFS('4A Calcul. BAU city'!AJ:AJ,'4A Calcul. BAU city'!$C:$C,$C258,'4A Calcul. BAU city'!$E:$E,'4B Calcul. Climat Scen.'!$E258)","v":0},{"$f":"+SUMIFS('4A Calcul. BAU city'!AK:AK,'4A Calcul. BAU city'!$C:$C,$C258,'4A Calcul. BAU city'!$E:$E,'4B Calcul. Climat Scen.'!$E258)","v":0},{"$f":"+SUMIFS('4A Calcul. BAU city'!AL:AL,'4A Calcul. BAU city'!$C:$C,$C258,'4A Calcul. BAU city'!$E:$E,'4B Calcul. Climat Scen.'!$E258)","v":0},{"$f":"+SUMIFS('4A Calcul. BAU city'!AM:AM,'4A Calcul. BAU city'!$C:$C,$C258,'4A Calcul. BAU city'!$E:$E,'4B Calcul. Climat Scen.'!$E258)","v":0},{"$f":"+SUMIFS('4A Calcul. BAU city'!AN:AN,'4A Calcul. BAU city'!$C:$C,$C258,'4A Calcul. BAU city'!$E:$E,'4B Calcul. Climat Scen.'!$E258)","v":0},{"$f":"+SUMIFS('4A Calcul. BAU city'!AO:AO,'4A Calcul. BAU city'!$C:$C,$C258,'4A Calcul. BAU city'!$E:$E,'4B Calcul. Climat Scen.'!$E258)","v":0}]
["1.A.3.b.i","BAU","Individual taxi",{"$f":"RoadD","v":"Road - Diesel"},{"$f":"Diesel","v":"Diesel"},{"$f":"+SUMIFS('4A Calcul. BAU city'!G:G,'4A Calcul. BAU city'!$C:$C,$C259,'4A Calcul. BAU city'!$E:$E,'4B Calcul. Climat Scen.'!$E259)","v":0},{"$f":"+SUMIFS('4A Calcul. BAU city'!H:H,'4A Calcul. BAU city'!$C:$C,$C259,'4A Calcul. BAU city'!$E:$E,'4B Calcul. Climat Scen.'!$E259)","v":0},{"$f":"+SUMIFS('4A Calcul. BAU city'!I:I,'4A Calcul. BAU city'!$C:$C,$C259,'4A Calcul. BAU city'!$E:$E,'4B Calcul. Climat Scen.'!$E259)","v":0},{"$f":"+SUMIFS('4A Calcul. BAU city'!J:J,'4A Calcul. BAU city'!$C:$C,$C259,'4A Calcul. BAU city'!$E:$E,'4B Calcul. Climat Scen.'!$E259)","v":0},{"$f":"+SUMIFS('4A Calcul. BAU city'!K:K,'4A Calcul. BAU city'!$C:$C,$C259,'4A Calcul. BAU city'!$E:$E,'4B Calcul. Climat Scen.'!$E259)","v":0},{"$f":"+SUMIFS('4A Calcul. BAU city'!L:L,'4A Calcul. BAU city'!$C:$C,$C259,'4A Calcul. BAU city'!$E:$E,'4B Calcul. Climat Scen.'!$E259)","v":0},null,null,null,null,null,null,null,null,null,null,null,null,null,null,null,{"$f":"+SUMIFS('4A Calcul. BAU city'!AD:AD,'4A Calcul. BAU city'!$C:$C,$C259,'4A Calcul. BAU city'!$E:$E,'4B Calcul. Climat Scen.'!$E259)","v":0},{"$f":"+SUMIFS('4A Calcul. BAU city'!AE:AE,'4A Calcul. BAU city'!$C:$C,$C259,'4A Calcul. BAU city'!$E:$E,'4B Calcul. Climat Scen.'!$E259)","v":0},{"$f":"+SUMIFS('4A Calcul. BAU city'!AF:AF,'4A Calcul. BAU city'!$C:$C,$C259,'4A Calcul. BAU city'!$E:$E,'4B Calcul. Climat Scen.'!$E259)","v":0},{"$f":"+SUMIFS('4A Calcul. BAU city'!AG:AG,'4A Calcul. BAU city'!$C:$C,$C259,'4A Calcul. BAU city'!$E:$E,'4B Calcul. Climat Scen.'!$E259)","v":0},{"$f":"+SUMIFS('4A Calcul. BAU city'!AH:AH,'4A Calcul. BAU city'!$C:$C,$C259,'4A Calcul. BAU city'!$E:$E,'4B Calcul. Climat Scen.'!$E259)","v":0},{"$f":"+SUMIFS('4A Calcul. BAU city'!AI:AI,'4A Calcul. BAU city'!$C:$C,$C259,'4A Calcul. BAU city'!$E:$E,'4B Calcul. Climat Scen.'!$E259)","v":0},null,{"$f":"+SUMIFS('4A Calcul. BAU city'!AJ:AJ,'4A Calcul. BAU city'!$C:$C,$C259,'4A Calcul. BAU city'!$E:$E,'4B Calcul. Climat Scen.'!$E259)","v":0},{"$f":"+SUMIFS('4A Calcul. BAU city'!AK:AK,'4A Calcul. BAU city'!$C:$C,$C259,'4A Calcul. BAU city'!$E:$E,'4B Calcul. Climat Scen.'!$E259)","v":0},{"$f":"+SUMIFS('4A Calcul. BAU city'!AL:AL,'4A Calcul. BAU city'!$C:$C,$C259,'4A Calcul. BAU city'!$E:$E,'4B Calcul. Climat Scen.'!$E259)","v":0},{"$f":"+SUMIFS('4A Calcul. BAU city'!AM:AM,'4A Calcul. BAU city'!$C:$C,$C259,'4A Calcul. BAU city'!$E:$E,'4B Calcul. Climat Scen.'!$E259)","v":0},{"$f":"+SUMIFS('4A Calcul. BAU city'!AN:AN,'4A Calcul. BAU city'!$C:$C,$C259,'4A Calcul. BAU city'!$E:$E,'4B Calcul. Climat Scen.'!$E259)","v":0},{"$f":"+SUMIFS('4A Calcul. BAU city'!AO:AO,'4A Calcul. BAU city'!$C:$C,$C259,'4A Calcul. BAU city'!$E:$E,'4B Calcul. Climat Scen.'!$E259)","v":0}]
["1.A.3.b.i","BAU","Individual taxi",{"$f":"RoadLPG","v":"Road - LPG"},{"$f":"LPG","v":"LPG"},{"$f":"+SUMIFS('4A Calcul. BAU city'!G:G,'4A Calcul. BAU city'!$C:$C,$C260,'4A Calcul. BAU city'!$E:$E,'4B Calcul. Climat Scen.'!$E260)","v":0},{"$f":"+SUMIFS('4A Calcul. BAU city'!H:H,'4A Calcul. BAU city'!$C:$C,$C260,'4A Calcul. BAU city'!$E:$E,'4B Calcul. Climat Scen.'!$E260)","v":0},{"$f":"+SUMIFS('4A Calcul. BAU city'!I:I,'4A Calcul. BAU city'!$C:$C,$C260,'4A Calcul. BAU city'!$E:$E,'4B Calcul. Climat Scen.'!$E260)","v":0},{"$f":"+SUMIFS('4A Calcul. BAU city'!J:J,'4A Calcul. BAU city'!$C:$C,$C260,'4A Calcul. BAU city'!$E:$E,'4B Calcul. Climat Scen.'!$E260)","v":0},{"$f":"+SUMIFS('4A Calcul. BAU city'!K:K,'4A Calcul. BAU city'!$C:$C,$C260,'4A Calcul. BAU city'!$E:$E,'4B Calcul. Climat Scen.'!$E260)","v":0},{"$f":"+SUMIFS('4A Calcul. BAU city'!L:L,'4A Calcul. BAU city'!$C:$C,$C260,'4A Calcul. BAU city'!$E:$E,'4B Calcul. Climat Scen.'!$E260)","v":0},null,null,null,null,null,null,null,null,null,null,null,null,null,null,null,{"$f":"+SUMIFS('4A Calcul. BAU city'!AD:AD,'4A Calcul. BAU city'!$C:$C,$C260,'4A Calcul. BAU city'!$E:$E,'4B Calcul. Climat Scen.'!$E260)","v":0},{"$f":"+SUMIFS('4A Calcul. BAU city'!AE:AE,'4A Calcul. BAU city'!$C:$C,$C260,'4A Calcul. BAU city'!$E:$E,'4B Calcul. Climat Scen.'!$E260)","v":0},{"$f":"+SUMIFS('4A Calcul. BAU city'!AF:AF,'4A Calcul. BAU city'!$C:$C,$C260,'4A Calcul. BAU city'!$E:$E,'4B Calcul. Climat Scen.'!$E260)","v":0},{"$f":"+SUMIFS('4A Calcul. BAU city'!AG:AG,'4A Calcul. BAU city'!$C:$C,$C260,'4A Calcul. BAU city'!$E:$E,'4B Calcul. Climat Scen.'!$E260)","v":0},{"$f":"+SUMIFS('4A Calcul. BAU city'!AH:AH,'4A Calcul. BAU city'!$C:$C,$C260,'4A Calcul. BAU city'!$E:$E,'4B Calcul. Climat Scen.'!$E260)","v":0},{"$f":"+SUMIFS('4A Calcul. BAU city'!AI:AI,'4A Calcul. BAU city'!$C:$C,$C260,'4A Calcul. BAU city'!$E:$E,'4B Calcul. Climat Scen.'!$E260)","v":0},null,{"$f":"+SUMIFS('4A Calcul. BAU city'!AJ:AJ,'4A Calcul. BAU city'!$C:$C,$C260,'4A Calcul. BAU city'!$E:$E,'4B Calcul. Climat Scen.'!$E260)","v":0},{"$f":"+SUMIFS('4A Calcul. BAU city'!AK:AK,'4A Calcul. BAU city'!$C:$C,$C260,'4A Calcul. BAU city'!$E:$E,'4B Calcul. Climat Scen.'!$E260)","v":0},{"$f":"+SUMIFS('4A Calcul. BAU city'!AL:AL,'4A Calcul. BAU city'!$C:$C,$C260,'4A Calcul. BAU city'!$E:$E,'4B Calcul. Climat Scen.'!$E260)","v":0},{"$f":"+SUMIFS('4A Calcul. BAU city'!AM:AM,'4A Calcul. BAU city'!$C:$C,$C260,'4A Calcul. BAU city'!$E:$E,'4B Calcul. Climat Scen.'!$E260)","v":0},{"$f":"+SUMIFS('4A Calcul. BAU city'!AN:AN,'4A Calcul. BAU city'!$C:$C,$C260,'4A Calcul. BAU city'!$E:$E,'4B Calcul. Climat Scen.'!$E260)","v":0},{"$f":"+SUMIFS('4A Calcul. BAU city'!AO:AO,'4A Calcul. BAU city'!$C:$C,$C260,'4A Calcul. BAU city'!$E:$E,'4B Calcul. Climat Scen.'!$E260)","v":0}]
["1.A.3.b.i","BAU","Individual taxi",{"$f":"RoadNG","v":"Road - NG"},{"$f":"NG","v":"NG"},{"$f":"+SUMIFS('4A Calcul. BAU city'!G:G,'4A Calcul. BAU city'!$C:$C,$C261,'4A Calcul. BAU city'!$E:$E,'4B Calcul. Climat Scen.'!$E261)","v":0},{"$f":"+SUMIFS('4A Calcul. BAU city'!H:H,'4A Calcul. BAU city'!$C:$C,$C261,'4A Calcul. BAU city'!$E:$E,'4B Calcul. Climat Scen.'!$E261)","v":0},{"$f":"+SUMIFS('4A Calcul. BAU city'!I:I,'4A Calcul. BAU city'!$C:$C,$C261,'4A Calcul. BAU city'!$E:$E,'4B Calcul. Climat Scen.'!$E261)","v":0},{"$f":"+SUMIFS('4A Calcul. BAU city'!J:J,'4A Calcul. BAU city'!$C:$C,$C261,'4A Calcul. BAU city'!$E:$E,'4B Calcul. Climat Scen.'!$E261)","v":0},{"$f":"+SUMIFS('4A Calcul. BAU city'!K:K,'4A Calcul. BAU city'!$C:$C,$C261,'4A Calcul. BAU city'!$E:$E,'4B Calcul. Climat Scen.'!$E261)","v":0},{"$f":"+SUMIFS('4A Calcul. BAU city'!L:L,'4A Calcul. BAU city'!$C:$C,$C261,'4A Calcul. BAU city'!$E:$E,'4B Calcul. Climat Scen.'!$E261)","v":0},null,null,null,null,null,null,null,null,null,null,null,null,null,null,null,{"$f":"+SUMIFS('4A Calcul. BAU city'!AD:AD,'4A Calcul. BAU city'!$C:$C,$C261,'4A Calcul. BAU city'!$E:$E,'4B Calcul. Climat Scen.'!$E261)","v":0},{"$f":"+SUMIFS('4A Calcul. BAU city'!AE:AE,'4A Calcul. BAU city'!$C:$C,$C261,'4A Calcul. BAU city'!$E:$E,'4B Calcul. Climat Scen.'!$E261)","v":0},{"$f":"+SUMIFS('4A Calcul. BAU city'!AF:AF,'4A Calcul. BAU city'!$C:$C,$C261,'4A Calcul. BAU city'!$E:$E,'4B Calcul. Climat Scen.'!$E261)","v":0},{"$f":"+SUMIFS('4A Calcul. BAU city'!AG:AG,'4A Calcul. BAU city'!$C:$C,$C261,'4A Calcul. BAU city'!$E:$E,'4B Calcul. Climat Scen.'!$E261)","v":0},{"$f":"+SUMIFS('4A Calcul. BAU city'!AH:AH,'4A Calcul. BAU city'!$C:$C,$C261,'4A Calcul. BAU city'!$E:$E,'4B Calcul. Climat Scen.'!$E261)","v":0},{"$f":"+SUMIFS('4A Calcul. BAU city'!AI:AI,'4A Calcul. BAU city'!$C:$C,$C261,'4A Calcul. BAU city'!$E:$E,'4B Calcul. Climat Scen.'!$E261)","v":0},null,{"$f":"+SUMIFS('4A Calcul. BAU city'!AJ:AJ,'4A Calcul. BAU city'!$C:$C,$C261,'4A Calcul. BAU city'!$E:$E,'4B Calcul. Climat Scen.'!$E261)","v":0},{"$f":"+SUMIFS('4A Calcul. BAU city'!AK:AK,'4A Calcul. BAU city'!$C:$C,$C261,'4A Calcul. BAU city'!$E:$E,'4B Calcul. Climat Scen.'!$E261)","v":0},{"$f":"+SUMIFS('4A Calcul. BAU city'!AL:AL,'4A Calcul. BAU city'!$C:$C,$C261,'4A Calcul. BAU city'!$E:$E,'4B Calcul. Climat Scen.'!$E261)","v":0},{"$f":"+SUMIFS('4A Calcul. BAU city'!AM:AM,'4A Calcul. BAU city'!$C:$C,$C261,'4A Calcul. BAU city'!$E:$E,'4B Calcul. Climat Scen.'!$E261)","v":0},{"$f":"+SUMIFS('4A Calcul. BAU city'!AN:AN,'4A Calcul. BAU city'!$C:$C,$C261,'4A Calcul. BAU city'!$E:$E,'4B Calcul. Climat Scen.'!$E261)","v":0},{"$f":"+SUMIFS('4A Calcul. BAU city'!AO:AO,'4A Calcul. BAU city'!$C:$C,$C261,'4A Calcul. BAU city'!$E:$E,'4B Calcul. Climat Scen.'!$E261)","v":0}]
["1.A.3.b.i","BAU","Individual taxi",{"$f":"RoadH","v":"Road - Hybrid"},{"$f":"Hybrid","v":"Hybrid"},{"$f":"+SUMIFS('4A Calcul. BAU city'!G:G,'4A Calcul. BAU city'!$C:$C,$C262,'4A Calcul. BAU city'!$E:$E,'4B Calcul. Climat Scen.'!$E262)","v":0},{"$f":"+SUMIFS('4A Calcul. BAU city'!H:H,'4A Calcul. BAU city'!$C:$C,$C262,'4A Calcul. BAU city'!$E:$E,'4B Calcul. Climat Scen.'!$E262)","v":0},{"$f":"+SUMIFS('4A Calcul. BAU city'!I:I,'4A Calcul. BAU city'!$C:$C,$C262,'4A Calcul. BAU city'!$E:$E,'4B Calcul. Climat Scen.'!$E262)","v":0},{"$f":"+SUMIFS('4A Calcul. BAU city'!J:J,'4A Calcul. BAU city'!$C:$C,$C262,'4A Calcul. BAU city'!$E:$E,'4B Calcul. Climat Scen.'!$E262)","v":0},{"$f":"+SUMIFS('4A Calcul. BAU city'!K:K,'4A Calcul. BAU city'!$C:$C,$C262,'4A Calcul. BAU city'!$E:$E,'4B Calcul. Climat Scen.'!$E262)","v":0},{"$f":"+SUMIFS('4A Calcul. BAU city'!L:L,'4A Calcul. BAU city'!$C:$C,$C262,'4A Calcul. BAU city'!$E:$E,'4B Calcul. Climat Scen.'!$E262)","v":0},null,null,null,null,null,null,null,null,null,null,null,null,null,null,null,{"$f":"+SUMIFS('4A Calcul. BAU city'!AD:AD,'4A Calcul. BAU city'!$C:$C,$C262,'4A Calcul. BAU city'!$E:$E,'4B Calcul. Climat Scen.'!$E262)","v":0},{"$f":"+SUMIFS('4A Calcul. BAU city'!AE:AE,'4A Calcul. BAU city'!$C:$C,$C262,'4A Calcul. BAU city'!$E:$E,'4B Calcul. Climat Scen.'!$E262)","v":0},{"$f":"+SUMIFS('4A Calcul. BAU city'!AF:AF,'4A Calcul. BAU city'!$C:$C,$C262,'4A Calcul. BAU city'!$E:$E,'4B Calcul. Climat Scen.'!$E262)","v":0},{"$f":"+SUMIFS('4A Calcul. BAU city'!AG:AG,'4A Calcul. BAU city'!$C:$C,$C262,'4A Calcul. BAU city'!$E:$E,'4B Calcul. Climat Scen.'!$E262)","v":0},{"$f":"+SUMIFS('4A Calcul. BAU city'!AH:AH,'4A Calcul. BAU city'!$C:$C,$C262,'4A Calcul. BAU city'!$E:$E,'4B Calcul. Climat Scen.'!$E262)","v":0},{"$f":"+SUMIFS('4A Calcul. BAU city'!AI:AI,'4A Calcul. BAU city'!$C:$C,$C262,'4A Calcul. BAU city'!$E:$E,'4B Calcul. Climat Scen.'!$E262)","v":0},null,{"$f":"+SUMIFS('4A Calcul. BAU city'!AJ:AJ,'4A Calcul. BAU city'!$C:$C,$C262,'4A Calcul. BAU city'!$E:$E,'4B Calcul. Climat Scen.'!$E262)","v":0},{"$f":"+SUMIFS('4A Calcul. BAU city'!AK:AK,'4A Calcul. BAU city'!$C:$C,$C262,'4A Calcul. BAU city'!$E:$E,'4B Calcul. Climat Scen.'!$E262)","v":0},{"$f":"+SUMIFS('4A Calcul. BAU city'!AL:AL,'4A Calcul. BAU city'!$C:$C,$C262,'4A Calcul. BAU city'!$E:$E,'4B Calcul. Climat Scen.'!$E262)","v":0},{"$f":"+SUMIFS('4A Calcul. BAU city'!AM:AM,'4A Calcul. BAU city'!$C:$C,$C262,'4A Calcul. BAU city'!$E:$E,'4B Calcul. Climat Scen.'!$E262)","v":0},{"$f":"+SUMIFS('4A Calcul. BAU city'!AN:AN,'4A Calcul. BAU city'!$C:$C,$C262,'4A Calcul. BAU city'!$E:$E,'4B Calcul. Climat Scen.'!$E262)","v":0},{"$f":"+SUMIFS('4A Calcul. BAU city'!AO:AO,'4A Calcul. BAU city'!$C:$C,$C262,'4A Calcul. BAU city'!$E:$E,'4B Calcul. Climat Scen.'!$E262)","v":0}]
["1.A.3.b.i","BAU","Individual taxi",{"$f":"Roadelec","v":"Road - Electric"},{"$f":"Electric","v":"Electric"},{"$f":"+SUMIFS('4A Calcul. BAU city'!G:G,'4A Calcul. BAU city'!$C:$C,$C263,'4A Calcul. BAU city'!$E:$E,'4B Calcul. Climat Scen.'!$E263)","v":0},{"$f":"+SUMIFS('4A Calcul. BAU city'!H:H,'4A Calcul. BAU city'!$C:$C,$C263,'4A Calcul. BAU city'!$E:$E,'4B Calcul. Climat Scen.'!$E263)","v":0},{"$f":"+SUMIFS('4A Calcul. BAU city'!I:I,'4A Calcul. BAU city'!$C:$C,$C263,'4A Calcul. BAU city'!$E:$E,'4B Calcul. Climat Scen.'!$E263)","v":0},{"$f":"+SUMIFS('4A Calcul. BAU city'!J:J,'4A Calcul. BAU city'!$C:$C,$C263,'4A Calcul. BAU city'!$E:$E,'4B Calcul. Climat Scen.'!$E263)","v":0},{"$f":"+SUMIFS('4A Calcul. BAU city'!K:K,'4A Calcul. BAU city'!$C:$C,$C263,'4A Calcul. BAU city'!$E:$E,'4B Calcul. Climat Scen.'!$E263)","v":0},{"$f":"+SUMIFS('4A Calcul. BAU city'!L:L,'4A Calcul. BAU city'!$C:$C,$C263,'4A Calcul. BAU city'!$E:$E,'4B Calcul. Climat Scen.'!$E263)","v":0},null,null,null,null,null,null,null,null,null,null,null,null,null,null,null,{"$f":"+SUMIFS('4A Calcul. BAU city'!AD:AD,'4A Calcul. BAU city'!$C:$C,$C263,'4A Calcul. BAU city'!$E:$E,'4B Calcul. Climat Scen.'!$E263)","v":0},{"$f":"+SUMIFS('4A Calcul. BAU city'!AE:AE,'4A Calcul. BAU city'!$C:$C,$C263,'4A Calcul. BAU city'!$E:$E,'4B Calcul. Climat Scen.'!$E263)","v":0},{"$f":"+SUMIFS('4A Calcul. BAU city'!AF:AF,'4A Calcul. BAU city'!$C:$C,$C263,'4A Calcul. BAU city'!$E:$E,'4B Calcul. Climat Scen.'!$E263)","v":0},{"$f":"+SUMIFS('4A Calcul. BAU city'!AG:AG,'4A Calcul. BAU city'!$C:$C,$C263,'4A Calcul. BAU city'!$E:$E,'4B Calcul. Climat Scen.'!$E263)","v":0},{"$f":"+SUMIFS('4A Calcul. BAU city'!AH:AH,'4A Calcul. BAU city'!$C:$C,$C263,'4A Calcul. BAU city'!$E:$E,'4B Calcul. Climat Scen.'!$E263)","v":0},{"$f":"+SUMIFS('4A Calcul. BAU city'!AI:AI,'4A Calcul. BAU city'!$C:$C,$C263,'4A Calcul. BAU city'!$E:$E,'4B Calcul. Climat Scen.'!$E263)","v":0},null,{"$f":"+SUMIFS('4A Calcul. BAU city'!AJ:AJ,'4A Calcul. BAU city'!$C:$C,$C263,'4A Calcul. BAU city'!$E:$E,'4B Calcul. Climat Scen.'!$E263)","v":0},{"$f":"+SUMIFS('4A Calcul. BAU city'!AK:AK,'4A Calcul. BAU city'!$C:$C,$C263,'4A Calcul. BAU city'!$E:$E,'4B Calcul. Climat Scen.'!$E263)","v":0},{"$f":"+SUMIFS('4A Calcul. BAU city'!AL:AL,'4A Calcul. BAU city'!$C:$C,$C263,'4A Calcul. BAU city'!$E:$E,'4B Calcul. Climat Scen.'!$E263)","v":0},{"$f":"+SUMIFS('4A Calcul. BAU city'!AM:AM,'4A Calcul. BAU city'!$C:$C,$C263,'4A Calcul. BAU city'!$E:$E,'4B Calcul. Climat Scen.'!$E263)","v":0},{"$f":"+SUMIFS('4A Calcul. BAU city'!AN:AN,'4A Calcul. BAU city'!$C:$C,$C263,'4A Calcul. BAU city'!$E:$E,'4B Calcul. Climat Scen.'!$E263)","v":0},{"$f":"+SUMIFS('4A Calcul. BAU city'!AO:AO,'4A Calcul. BAU city'!$C:$C,$C263,'4A Calcul. BAU city'!$E:$E,'4B Calcul. Climat Scen.'!$E263)","v":0}]
["1.A.3.b.iv","BAU",{"$f":"Motorcycle","v":"Motorcycle"},{"$f":"RoadG","v":"Road - Gasoline"},{"$f":"Gasoline","v":"Gasoline"},{"$f":"+SUMIFS('4A Calcul. BAU city'!G:G,'4A Calcul. BAU city'!$C:$C,$C264,'4A Calcul. BAU city'!$E:$E,'4B Calcul. Climat Scen.'!$E264)","v":0},{"$f":"+SUMIFS('4A Calcul. BAU city'!H:H,'4A Calcul. BAU city'!$C:$C,$C264,'4A Calcul. BAU city'!$E:$E,'4B Calcul. Climat Scen.'!$E264)","v":0},{"$f":"+SUMIFS('4A Calcul. BAU city'!I:I,'4A Calcul. BAU city'!$C:$C,$C264,'4A Calcul. BAU city'!$E:$E,'4B Calcul. Climat Scen.'!$E264)","v":0},{"$f":"+SUMIFS('4A Calcul. BAU city'!J:J,'4A Calcul. BAU city'!$C:$C,$C264,'4A Calcul. BAU city'!$E:$E,'4B Calcul. Climat Scen.'!$E264)","v":0},{"$f":"+SUMIFS('4A Calcul. BAU city'!K:K,'4A Calcul. BAU city'!$C:$C,$C264,'4A Calcul. BAU city'!$E:$E,'4B Calcul. Climat Scen.'!$E264)","v":0},{"$f":"+SUMIFS('4A Calcul. BAU city'!L:L,'4A Calcul. BAU city'!$C:$C,$C264,'4A Calcul. BAU city'!$E:$E,'4B Calcul. Climat Scen.'!$E264)","v":0},null,null,null,null,null,null,null,null,null,null,null,null,null,null,null,{"$f":"+SUMIFS('4A Calcul. BAU city'!AD:AD,'4A Calcul. BAU city'!$C:$C,$C264,'4A Calcul. BAU city'!$E:$E,'4B Calcul. Climat Scen.'!$E264)","v":0},{"$f":"+SUMIFS('4A Calcul. BAU city'!AE:AE,'4A Calcul. BAU city'!$C:$C,$C264,'4A Calcul. BAU city'!$E:$E,'4B Calcul. Climat Scen.'!$E264)","v":0},{"$f":"+SUMIFS('4A Calcul. BAU city'!AF:AF,'4A Calcul. BAU city'!$C:$C,$C264,'4A Calcul. BAU city'!$E:$E,'4B Calcul. Climat Scen.'!$E264)","v":0},{"$f":"+SUMIFS('4A Calcul. BAU city'!AG:AG,'4A Calcul. BAU city'!$C:$C,$C264,'4A Calcul. BAU city'!$E:$E,'4B Calcul. Climat Scen.'!$E264)","v":0},{"$f":"+SUMIFS('4A Calcul. BAU city'!AH:AH,'4A Calcul. BAU city'!$C:$C,$C264,'4A Calcul. BAU city'!$E:$E,'4B Calcul. Climat Scen.'!$E264)","v":0},{"$f":"+SUMIFS('4A Calcul. BAU city'!AI:AI,'4A Calcul. BAU city'!$C:$C,$C264,'4A Calcul. BAU city'!$E:$E,'4B Calcul. Climat Scen.'!$E264)","v":0},null,{"$f":"+SUMIFS('4A Calcul. BAU city'!AJ:AJ,'4A Calcul. BAU city'!$C:$C,$C264,'4A Calcul. BAU city'!$E:$E,'4B Calcul. Climat Scen.'!$E264)","v":0},{"$f":"+SUMIFS('4A Calcul. BAU city'!AK:AK,'4A Calcul. BAU city'!$C:$C,$C264,'4A Calcul. BAU city'!$E:$E,'4B Calcul. Climat Scen.'!$E264)","v":0},{"$f":"+SUMIFS('4A Calcul. BAU city'!AL:AL,'4A Calcul. BAU city'!$C:$C,$C264,'4A Calcul. BAU city'!$E:$E,'4B Calcul. Climat Scen.'!$E264)","v":0},{"$f":"+SUMIFS('4A Calcul. BAU city'!AM:AM,'4A Calcul. BAU city'!$C:$C,$C264,'4A Calcul. BAU city'!$E:$E,'4B Calcul. Climat Scen.'!$E264)","v":0},{"$f":"+SUMIFS('4A Calcul. BAU city'!AN:AN,'4A Calcul. BAU city'!$C:$C,$C264,'4A Calcul. BAU city'!$E:$E,'4B Calcul. Climat Scen.'!$E264)","v":0},{"$f":"+SUMIFS('4A Calcul. BAU city'!AO:AO,'4A Calcul. BAU city'!$C:$C,$C264,'4A Calcul. BAU city'!$E:$E,'4B Calcul. Climat Scen.'!$E264)","v":0}]
["1.A.3.b.iv","BAU",{"$f":"Motorcycle","v":"Motorcycle"},{"$f":"Roadelec","v":"Road - Electric"},{"$f":"Electric","v":"Electric"},{"$f":"+SUMIFS('4A Calcul. BAU city'!G:G,'4A Calcul. BAU city'!$C:$C,$C265,'4A Calcul. BAU city'!$E:$E,'4B Calcul. Climat Scen.'!$E265)","v":0},{"$f":"+SUMIFS('4A Calcul. BAU city'!H:H,'4A Calcul. BAU city'!$C:$C,$C265,'4A Calcul. BAU city'!$E:$E,'4B Calcul. Climat Scen.'!$E265)","v":0},{"$f":"+SUMIFS('4A Calcul. BAU city'!I:I,'4A Calcul. BAU city'!$C:$C,$C265,'4A Calcul. BAU city'!$E:$E,'4B Calcul. Climat Scen.'!$E265)","v":0},{"$f":"+SUMIFS('4A Calcul. BAU city'!J:J,'4A Calcul. BAU city'!$C:$C,$C265,'4A Calcul. BAU city'!$E:$E,'4B Calcul. Climat Scen.'!$E265)","v":0},{"$f":"+SUMIFS('4A Calcul. BAU city'!K:K,'4A Calcul. BAU city'!$C:$C,$C265,'4A Calcul. BAU city'!$E:$E,'4B Calcul. Climat Scen.'!$E265)","v":0},{"$f":"+SUMIFS('4A Calcul. BAU city'!L:L,'4A Calcul. BAU city'!$C:$C,$C265,'4A Calcul. BAU city'!$E:$E,'4B Calcul. Climat Scen.'!$E265)","v":0},null,null,null,null,null,null,null,null,null,null,null,null,null,null,null,{"$f":"+SUMIFS('4A Calcul. BAU city'!AD:AD,'4A Calcul. BAU city'!$C:$C,$C265,'4A Calcul. BAU city'!$E:$E,'4B Calcul. Climat Scen.'!$E265)","v":0},{"$f":"+SUMIFS('4A Calcul. BAU city'!AE:AE,'4A Calcul. BAU city'!$C:$C,$C265,'4A Calcul. BAU city'!$E:$E,'4B Calcul. Climat Scen.'!$E265)","v":0},{"$f":"+SUMIFS('4A Calcul. BAU city'!AF:AF,'4A Calcul. BAU city'!$C:$C,$C265,'4A Calcul. BAU city'!$E:$E,'4B Calcul. Climat Scen.'!$E265)","v":0},{"$f":"+SUMIFS('4A Calcul. BAU city'!AG:AG,'4A Calcul. BAU city'!$C:$C,$C265,'4A Calcul. BAU city'!$E:$E,'4B Calcul. Climat Scen.'!$E265)","v":0},{"$f":"+SUMIFS('4A Calcul. BAU city'!AH:AH,'4A Calcul. BAU city'!$C:$C,$C265,'4A Calcul. BAU city'!$E:$E,'4B Calcul. Climat Scen.'!$E265)","v":0},{"$f":"+SUMIFS('4A Calcul. BAU city'!AI:AI,'4A Calcul. BAU city'!$C:$C,$C265,'4A Calcul. BAU city'!$E:$E,'4B Calcul. Climat Scen.'!$E265)","v":0},null,{"$f":"+SUMIFS('4A Calcul. BAU city'!AJ:AJ,'4A Calcul. BAU city'!$C:$C,$C265,'4A Calcul. BAU city'!$E:$E,'4B Calcul. Climat Scen.'!$E265)","v":0},{"$f":"+SUMIFS('4A Calcul. BAU city'!AK:AK,'4A Calcul. BAU city'!$C:$C,$C265,'4A Calcul. BAU city'!$E:$E,'4B Calcul. Climat Scen.'!$E265)","v":0},{"$f":"+SUMIFS('4A Calcul. BAU city'!AL:AL,'4A Calcul. BAU city'!$C:$C,$C265,'4A Calcul. BAU city'!$E:$E,'4B Calcul. Climat Scen.'!$E265)","v":0},{"$f":"+SUMIFS('4A Calcul. BAU city'!AM:AM,'4A Calcul. BAU city'!$C:$C,$C265,'4A Calcul. BAU city'!$E:$E,'4B Calcul. Climat Scen.'!$E265)","v":0},{"$f":"+SUMIFS('4A Calcul. BAU city'!AN:AN,'4A Calcul. BAU city'!$C:$C,$C265,'4A Calcul. BAU city'!$E:$E,'4B Calcul. Climat Scen.'!$E265)","v":0},{"$f":"+SUMIFS('4A Calcul. BAU city'!AO:AO,'4A Calcul. BAU city'!$C:$C,$C265,'4A Calcul. BAU city'!$E:$E,'4B Calcul. Climat Scen.'!$E265)","v":0}]
["1.A.3.b.iv","BAU",{"$f":"Mototaxi","v":"Motorcycle taxi"},{"$f":"RoadG","v":"Road - Gasoline"},{"$f":"Gasoline","v":"Gasoline"},{"$f":"+SUMIFS('4A Calcul. BAU city'!G:G,'4A Calcul. BAU city'!$C:$C,$C266,'4A Calcul. BAU city'!$E:$E,'4B Calcul. Climat Scen.'!$E266)","v":0},{"$f":"+SUMIFS('4A Calcul. BAU city'!H:H,'4A Calcul. BAU city'!$C:$C,$C266,'4A Calcul. BAU city'!$E:$E,'4B Calcul. Climat Scen.'!$E266)","v":0},{"$f":"+SUMIFS('4A Calcul. BAU city'!I:I,'4A Calcul. BAU city'!$C:$C,$C266,'4A Calcul. BAU city'!$E:$E,'4B Calcul. Climat Scen.'!$E266)","v":0},{"$f":"+SUMIFS('4A Calcul. BAU city'!J:J,'4A Calcul. BAU city'!$C:$C,$C266,'4A Calcul. BAU city'!$E:$E,'4B Calcul. Climat Scen.'!$E266)","v":0},{"$f":"+SUMIFS('4A Calcul. BAU city'!K:K,'4A Calcul. BAU city'!$C:$C,$C266,'4A Calcul. BAU city'!$E:$E,'4B Calcul. Climat Scen.'!$E266)","v":0},{"$f":"+SUMIFS('4A Calcul. BAU city'!L:L,'4A Calcul. BAU city'!$C:$C,$C266,'4A Calcul. BAU city'!$E:$E,'4B Calcul. Climat Scen.'!$E266)","v":0},null,null,null,null,null,null,null,null,null,null,null,null,null,null,null,{"$f":"+SUMIFS('4A Calcul. BAU city'!AD:AD,'4A Calcul. BAU city'!$C:$C,$C266,'4A Calcul. BAU city'!$E:$E,'4B Calcul. Climat Scen.'!$E266)","v":0},{"$f":"+SUMIFS('4A Calcul. BAU city'!AE:AE,'4A Calcul. BAU city'!$C:$C,$C266,'4A Calcul. BAU city'!$E:$E,'4B Calcul. Climat Scen.'!$E266)","v":0},{"$f":"+SUMIFS('4A Calcul. BAU city'!AF:AF,'4A Calcul. BAU city'!$C:$C,$C266,'4A Calcul. BAU city'!$E:$E,'4B Calcul. Climat Scen.'!$E266)","v":0},{"$f":"+SUMIFS('4A Calcul. BAU city'!AG:AG,'4A Calcul. BAU city'!$C:$C,$C266,'4A Calcul. BAU city'!$E:$E,'4B Calcul. Climat Scen.'!$E266)","v":0},{"$f":"+SUMIFS('4A Calcul. BAU city'!AH:AH,'4A Calcul. BAU city'!$C:$C,$C266,'4A Calcul. BAU city'!$E:$E,'4B Calcul. Climat Scen.'!$E266)","v":0},{"$f":"+SUMIFS('4A Calcul. BAU city'!AI:AI,'4A Calcul. BAU city'!$C:$C,$C266,'4A Calcul. BAU city'!$E:$E,'4B Calcul. Climat Scen.'!$E266)","v":0},null,{"$f":"+SUMIFS('4A Calcul. BAU city'!AJ:AJ,'4A Calcul. BAU city'!$C:$C,$C266,'4A Calcul. BAU city'!$E:$E,'4B Calcul. Climat Scen.'!$E266)","v":0},{"$f":"+SUMIFS('4A Calcul. BAU city'!AK:AK,'4A Calcul. BAU city'!$C:$C,$C266,'4A Calcul. BAU city'!$E:$E,'4B Calcul. Climat Scen.'!$E266)","v":0},{"$f":"+SUMIFS('4A Calcul. BAU city'!AL:AL,'4A Calcul. BAU city'!$C:$C,$C266,'4A Calcul. BAU city'!$E:$E,'4B Calcul. Climat Scen.'!$E266)","v":0},{"$f":"+SUMIFS('4A Calcul. BAU city'!AM:AM,'4A Calcul. BAU city'!$C:$C,$C266,'4A Calcul. BAU city'!$E:$E,'4B Calcul. Climat Scen.'!$E266)","v":0},{"$f":"+SUMIFS('4A Calcul. BAU city'!AN:AN,'4A Calcul. BAU city'!$C:$C,$C266,'4A Calcul. BAU city'!$E:$E,'4B Calcul. Climat Scen.'!$E266)","v":0},{"$f":"+SUMIFS('4A Calcul. BAU city'!AO:AO,'4A Calcul. BAU city'!$C:$C,$C266,'4A Calcul. BAU city'!$E:$E,'4B Calcul. Climat Scen.'!$E266)","v":0}]
["1.A.3.b.iv","BAU",{"$f":"Mototaxi","v":"Motorcycle taxi"},{"$f":"Roadelec","v":"Road - Electric"},{"$f":"Electric","v":"Electric"},{"$f":"+SUMIFS('4A Calcul. BAU city'!G:G,'4A Calcul. BAU city'!$C:$C,$C267,'4A Calcul. BAU city'!$E:$E,'4B Calcul. Climat Scen.'!$E267)","v":0},{"$f":"+SUMIFS('4A Calcul. BAU city'!H:H,'4A Calcul. BAU city'!$C:$C,$C267,'4A Calcul. BAU city'!$E:$E,'4B Calcul. Climat Scen.'!$E267)","v":0},{"$f":"+SUMIFS('4A Calcul. BAU city'!I:I,'4A Calcul. BAU city'!$C:$C,$C267,'4A Calcul. BAU city'!$E:$E,'4B Calcul. Climat Scen.'!$E267)","v":0},{"$f":"+SUMIFS('4A Calcul. BAU city'!J:J,'4A Calcul. BAU city'!$C:$C,$C267,'4A Calcul. BAU city'!$E:$E,'4B Calcul. Climat Scen.'!$E267)","v":0},{"$f":"+SUMIFS('4A Calcul. BAU city'!K:K,'4A Calcul. BAU city'!$C:$C,$C267,'4A Calcul. BAU city'!$E:$E,'4B Calcul. Climat Scen.'!$E267)","v":0},{"$f":"+SUMIFS('4A Calcul. BAU city'!L:L,'4A Calcul. BAU city'!$C:$C,$C267,'4A Calcul. BAU city'!$E:$E,'4B Calcul. Climat Scen.'!$E267)","v":0},null,null,null,null,null,null,null,null,null,null,null,null,null,null,null,{"$f":"+SUMIFS('4A Calcul. BAU city'!AD:AD,'4A Calcul. BAU city'!$C:$C,$C267,'4A Calcul. BAU city'!$E:$E,'4B Calcul. Climat Scen.'!$E267)","v":0},{"$f":"+SUMIFS('4A Calcul. BAU city'!AE:AE,'4A Calcul. BAU city'!$C:$C,$C267,'4A Calcul. BAU city'!$E:$E,'4B Calcul. Climat Scen.'!$E267)","v":0},{"$f":"+SUMIFS('4A Calcul. BAU city'!AF:AF,'4A Calcul. BAU city'!$C:$C,$C267,'4A Calcul. BAU city'!$E:$E,'4B Calcul. Climat Scen.'!$E267)","v":0},{"$f":"+SUMIFS('4A Calcul. BAU city'!AG:AG,'4A Calcul. BAU city'!$C:$C,$C267,'4A Calcul. BAU city'!$E:$E,'4B Calcul. Climat Scen.'!$E267)","v":0},{"$f":"+SUMIFS('4A Calcul. BAU city'!AH:AH,'4A Calcul. BAU city'!$C:$C,$C267,'4A Calcul. BAU city'!$E:$E,'4B Calcul. Climat Scen.'!$E267)","v":0},{"$f":"+SUMIFS('4A Calcul. BAU city'!AI:AI,'4A Calcul. BAU city'!$C:$C,$C267,'4A Calcul. BAU city'!$E:$E,'4B Calcul. Climat Scen.'!$E267)","v":0},null,{"$f":"+SUMIFS('4A Calcul. BAU city'!AJ:AJ,'4A Calcul. BAU city'!$C:$C,$C267,'4A Calcul. BAU city'!$E:$E,'4B Calcul. Climat Scen.'!$E267)","v":0},{"$f":"+SUMIFS('4A Calcul. BAU city'!AK:AK,'4A Calcul. BAU city'!$C:$C,$C267,'4A Calcul. BAU city'!$E:$E,'4B Calcul. Climat Scen.'!$E267)","v":0},{"$f":"+SUMIFS('4A Calcul. BAU city'!AL:AL,'4A Calcul. BAU city'!$C:$C,$C267,'4A Calcul. BAU city'!$E:$E,'4B Calcul. Climat Scen.'!$E267)","v":0},{"$f":"+SUMIFS('4A Calcul. BAU city'!AM:AM,'4A Calcul. BAU city'!$C:$C,$C267,'4A Calcul. BAU city'!$E:$E,'4B Calcul. Climat Scen.'!$E267)","v":0},{"$f":"+SUMIFS('4A Calcul. BAU city'!AN:AN,'4A Calcul. BAU city'!$C:$C,$C267,'4A Calcul. BAU city'!$E:$E,'4B Calcul. Climat Scen.'!$E267)","v":0},{"$f":"+SUMIFS('4A Calcul. BAU city'!AO:AO,'4A Calcul. BAU city'!$C:$C,$C267,'4A Calcul. BAU city'!$E:$E,'4B Calcul. Climat Scen.'!$E267)","v":0}]
["1.A.3.b.i","BAU",{"$f":"Minibus","v":"Minibus"},{"$f":"RoadG","v":"Road - Gasoline"},{"$f":"Gasoline","v":"Gasoline"},{"$f":"+SUMIFS('4A Calcul. BAU city'!G:G,'4A Calcul. BAU city'!$C:$C,$C268,'4A Calcul. BAU city'!$E:$E,'4B Calcul. Climat Scen.'!$E268)","v":0},{"$f":"+SUMIFS('4A Calcul. BAU city'!H:H,'4A Calcul. BAU city'!$C:$C,$C268,'4A Calcul. BAU city'!$E:$E,'4B Calcul. Climat Scen.'!$E268)","v":0},{"$f":"+SUMIFS('4A Calcul. BAU city'!I:I,'4A Calcul. BAU city'!$C:$C,$C268,'4A Calcul. BAU city'!$E:$E,'4B Calcul. Climat Scen.'!$E268)","v":0},{"$f":"+SUMIFS('4A Calcul. BAU city'!J:J,'4A Calcul. BAU city'!$C:$C,$C268,'4A Calcul. BAU city'!$E:$E,'4B Calcul. Climat Scen.'!$E268)","v":0},{"$f":"+SUMIFS('4A Calcul. BAU city'!K:K,'4A Calcul. BAU city'!$C:$C,$C268,'4A Calcul. BAU city'!$E:$E,'4B Calcul. Climat Scen.'!$E268)","v":0},{"$f":"+SUMIFS('4A Calcul. BAU city'!L:L,'4A Calcul. BAU city'!$C:$C,$C268,'4A Calcul. BAU city'!$E:$E,'4B Calcul. Climat Scen.'!$E268)","v":0},null,null,null,null,null,null,null,null,null,null,null,null,null,null,null,{"$f":"+SUMIFS('4A Calcul. BAU city'!AD:AD,'4A Calcul. BAU city'!$C:$C,$C268,'4A Calcul. BAU city'!$E:$E,'4B Calcul. Climat Scen.'!$E268)","v":0},{"$f":"+SUMIFS('4A Calcul. BAU city'!AE:AE,'4A Calcul. BAU city'!$C:$C,$C268,'4A Calcul. BAU city'!$E:$E,'4B Calcul. Climat Scen.'!$E268)","v":0},{"$f":"+SUMIFS('4A Calcul. BAU city'!AF:AF,'4A Calcul. BAU city'!$C:$C,$C268,'4A Calcul. BAU city'!$E:$E,'4B Calcul. Climat Scen.'!$E268)","v":0},{"$f":"+SUMIFS('4A Calcul. BAU city'!AG:AG,'4A Calcul. BAU city'!$C:$C,$C268,'4A Calcul. BAU city'!$E:$E,'4B Calcul. Climat Scen.'!$E268)","v":0},{"$f":"+SUMIFS('4A Calcul. BAU city'!AH:AH,'4A Calcul. BAU city'!$C:$C,$C268,'4A Calcul. BAU city'!$E:$E,'4B Calcul. Climat Scen.'!$E268)","v":0},{"$f":"+SUMIFS('4A Calcul. BAU city'!AI:AI,'4A Calcul. BAU city'!$C:$C,$C268,'4A Calcul. BAU city'!$E:$E,'4B Calcul. Climat Scen.'!$E268)","v":0},null,{"$f":"+SUMIFS('4A Calcul. BAU city'!AJ:AJ,'4A Calcul. BAU city'!$C:$C,$C268,'4A Calcul. BAU city'!$E:$E,'4B Calcul. Climat Scen.'!$E268)","v":0},{"$f":"+SUMIFS('4A Calcul. BAU city'!AK:AK,'4A Calcul. BAU city'!$C:$C,$C268,'4A Calcul. BAU city'!$E:$E,'4B Calcul. Climat Scen.'!$E268)","v":0},{"$f":"+SUMIFS('4A Calcul. BAU city'!AL:AL,'4A Calcul. BAU city'!$C:$C,$C268,'4A Calcul. BAU city'!$E:$E,'4B Calcul. Climat Scen.'!$E268)","v":0},{"$f":"+SUMIFS('4A Calcul. BAU city'!AM:AM,'4A Calcul. BAU city'!$C:$C,$C268,'4A Calcul. BAU city'!$E:$E,'4B Calcul. Climat Scen.'!$E268)","v":0},{"$f":"+SUMIFS('4A Calcul. BAU city'!AN:AN,'4A Calcul. BAU city'!$C:$C,$C268,'4A Calcul. BAU city'!$E:$E,'4B Calcul. Climat Scen.'!$E268)","v":0},{"$f":"+SUMIFS('4A Calcul. BAU city'!AO:AO,'4A Calcul. BAU city'!$C:$C,$C268,'4A Calcul. BAU city'!$E:$E,'4B Calcul. Climat Scen.'!$E268)","v":0}]
["1.A.3.b.i","BAU","Minibus",{"$f":"RoadD","v":"Road - Diesel"},{"$f":"Diesel","v":"Diesel"},{"$f":"+SUMIFS('4A Calcul. BAU city'!G:G,'4A Calcul. BAU city'!$C:$C,$C269,'4A Calcul. BAU city'!$E:$E,'4B Calcul. Climat Scen.'!$E269)","v":0},{"$f":"+SUMIFS('4A Calcul. BAU city'!H:H,'4A Calcul. BAU city'!$C:$C,$C269,'4A Calcul. BAU city'!$E:$E,'4B Calcul. Climat Scen.'!$E269)","v":0},{"$f":"+SUMIFS('4A Calcul. BAU city'!I:I,'4A Calcul. BAU city'!$C:$C,$C269,'4A Calcul. BAU city'!$E:$E,'4B Calcul. Climat Scen.'!$E269)","v":0},{"$f":"+SUMIFS('4A Calcul. BAU city'!J:J,'4A Calcul. BAU city'!$C:$C,$C269,'4A Calcul. BAU city'!$E:$E,'4B Calcul. Climat Scen.'!$E269)","v":0},{"$f":"+SUMIFS('4A Calcul. BAU city'!K:K,'4A Calcul. BAU city'!$C:$C,$C269,'4A Calcul. BAU city'!$E:$E,'4B Calcul. Climat Scen.'!$E269)","v":0},{"$f":"+SUMIFS('4A Calcul. BAU city'!L:L,'4A Calcul. BAU city'!$C:$C,$C269,'4A Calcul. BAU city'!$E:$E,'4B Calcul. Climat Scen.'!$E269)","v":0},null,null,null,null,null,null,null,null,null,null,null,null,null,null,null,{"$f":"+SUMIFS('4A Calcul. BAU city'!AD:AD,'4A Calcul. BAU city'!$C:$C,$C269,'4A Calcul. BAU city'!$E:$E,'4B Calcul. Climat Scen.'!$E269)","v":0},{"$f":"+SUMIFS('4A Calcul. BAU city'!AE:AE,'4A Calcul. BAU city'!$C:$C,$C269,'4A Calcul. BAU city'!$E:$E,'4B Calcul. Climat Scen.'!$E269)","v":0},{"$f":"+SUMIFS('4A Calcul. BAU city'!AF:AF,'4A Calcul. BAU city'!$C:$C,$C269,'4A Calcul. BAU city'!$E:$E,'4B Calcul. Climat Scen.'!$E269)","v":0},{"$f":"+SUMIFS('4A Calcul. BAU city'!AG:AG,'4A Calcul. BAU city'!$C:$C,$C269,'4A Calcul. BAU city'!$E:$E,'4B Calcul. Climat Scen.'!$E269)","v":0},{"$f":"+SUMIFS('4A Calcul. BAU city'!AH:AH,'4A Calcul. BAU city'!$C:$C,$C269,'4A Calcul. BAU city'!$E:$E,'4B Calcul. Climat Scen.'!$E269)","v":0},{"$f":"+SUMIFS('4A Calcul. BAU city'!AI:AI,'4A Calcul. BAU city'!$C:$C,$C269,'4A Calcul. BAU city'!$E:$E,'4B Calcul. Climat Scen.'!$E269)","v":0},null,{"$f":"+SUMIFS('4A Calcul. BAU city'!AJ:AJ,'4A Calcul. BAU city'!$C:$C,$C269,'4A Calcul. BAU city'!$E:$E,'4B Calcul. Climat Scen.'!$E269)","v":0},{"$f":"+SUMIFS('4A Calcul. BAU city'!AK:AK,'4A Calcul. BAU city'!$C:$C,$C269,'4A Calcul. BAU city'!$E:$E,'4B Calcul. Climat Scen.'!$E269)","v":0},{"$f":"+SUMIFS('4A Calcul. BAU city'!AL:AL,'4A Calcul. BAU city'!$C:$C,$C269,'4A Calcul. BAU city'!$E:$E,'4B Calcul. Climat Scen.'!$E269)","v":0},{"$f":"+SUMIFS('4A Calcul. BAU city'!AM:AM,'4A Calcul. BAU city'!$C:$C,$C269,'4A Calcul. BAU city'!$E:$E,'4B Calcul. Climat Scen.'!$E269)","v":0},{"$f":"+SUMIFS('4A Calcul. BAU city'!AN:AN,'4A Calcul. BAU city'!$C:$C,$C269,'4A Calcul. BAU city'!$E:$E,'4B Calcul. Climat Scen.'!$E269)","v":0},{"$f":"+SUMIFS('4A Calcul. BAU city'!AO:AO,'4A Calcul. BAU city'!$C:$C,$C269,'4A Calcul. BAU city'!$E:$E,'4B Calcul. Climat Scen.'!$E269)","v":0}]
["1.A.3.b.i","BAU","Minibus",{"$f":"RoadLPG","v":"Road - LPG"},{"$f":"LPG","v":"LPG"},{"$f":"+SUMIFS('4A Calcul. BAU city'!G:G,'4A Calcul. BAU city'!$C:$C,$C270,'4A Calcul. BAU city'!$E:$E,'4B Calcul. Climat Scen.'!$E270)","v":0},{"$f":"+SUMIFS('4A Calcul. BAU city'!H:H,'4A Calcul. BAU city'!$C:$C,$C270,'4A Calcul. BAU city'!$E:$E,'4B Calcul. Climat Scen.'!$E270)","v":0},{"$f":"+SUMIFS('4A Calcul. BAU city'!I:I,'4A Calcul. BAU city'!$C:$C,$C270,'4A Calcul. BAU city'!$E:$E,'4B Calcul. Climat Scen.'!$E270)","v":0},{"$f":"+SUMIFS('4A Calcul. BAU city'!J:J,'4A Calcul. BAU city'!$C:$C,$C270,'4A Calcul. BAU city'!$E:$E,'4B Calcul. Climat Scen.'!$E270)","v":0},{"$f":"+SUMIFS('4A Calcul. BAU city'!K:K,'4A Calcul. BAU city'!$C:$C,$C270,'4A Calcul. BAU city'!$E:$E,'4B Calcul. Climat Scen.'!$E270)","v":0},{"$f":"+SUMIFS('4A Calcul. BAU city'!L:L,'4A Calcul. BAU city'!$C:$C,$C270,'4A Calcul. BAU city'!$E:$E,'4B Calcul. Climat Scen.'!$E270)","v":0},null,null,null,null,null,null,null,null,null,null,null,null,null,null,null,{"$f":"+SUMIFS('4A Calcul. BAU city'!AD:AD,'4A Calcul. BAU city'!$C:$C,$C270,'4A Calcul. BAU city'!$E:$E,'4B Calcul. Climat Scen.'!$E270)","v":0},{"$f":"+SUMIFS('4A Calcul. BAU city'!AE:AE,'4A Calcul. BAU city'!$C:$C,$C270,'4A Calcul. BAU city'!$E:$E,'4B Calcul. Climat Scen.'!$E270)","v":0},{"$f":"+SUMIFS('4A Calcul. BAU city'!AF:AF,'4A Calcul. BAU city'!$C:$C,$C270,'4A Calcul. BAU city'!$E:$E,'4B Calcul. Climat Scen.'!$E270)","v":0},{"$f":"+SUMIFS('4A Calcul. BAU city'!AG:AG,'4A Calcul. BAU city'!$C:$C,$C270,'4A Calcul. BAU city'!$E:$E,'4B Calcul. Climat Scen.'!$E270)","v":0},{"$f":"+SUMIFS('4A Calcul. BAU city'!AH:AH,'4A Calcul. BAU city'!$C:$C,$C270,'4A Calcul. BAU city'!$E:$E,'4B Calcul. Climat Scen.'!$E270)","v":0},{"$f":"+SUMIFS('4A Calcul. BAU city'!AI:AI,'4A Calcul. BAU city'!$C:$C,$C270,'4A Calcul. BAU city'!$E:$E,'4B Calcul. Climat Scen.'!$E270)","v":0},null,{"$f":"+SUMIFS('4A Calcul. BAU city'!AJ:AJ,'4A Calcul. BAU city'!$C:$C,$C270,'4A Calcul. BAU city'!$E:$E,'4B Calcul. Climat Scen.'!$E270)","v":0},{"$f":"+SUMIFS('4A Calcul. BAU city'!AK:AK,'4A Calcul. BAU city'!$C:$C,$C270,'4A Calcul. BAU city'!$E:$E,'4B Calcul. Climat Scen.'!$E270)","v":0},{"$f":"+SUMIFS('4A Calcul. BAU city'!AL:AL,'4A Calcul. BAU city'!$C:$C,$C270,'4A Calcul. BAU city'!$E:$E,'4B Calcul. Climat Scen.'!$E270)","v":0},{"$f":"+SUMIFS('4A Calcul. BAU city'!AM:AM,'4A Calcul. BAU city'!$C:$C,$C270,'4A Calcul. BAU city'!$E:$E,'4B Calcul. Climat Scen.'!$E270)","v":0},{"$f":"+SUMIFS('4A Calcul. BAU city'!AN:AN,'4A Calcul. BAU city'!$C:$C,$C270,'4A Calcul. BAU city'!$E:$E,'4B Calcul. Climat Scen.'!$E270)","v":0},{"$f":"+SUMIFS('4A Calcul. BAU city'!AO:AO,'4A Calcul. BAU city'!$C:$C,$C270,'4A Calcul. BAU city'!$E:$E,'4B Calcul. Climat Scen.'!$E270)","v":0}]
["1.A.3.b.i","BAU","Minibus",{"$f":"RoadNG","v":"Road - NG"},{"$f":"NG","v":"NG"},{"$f":"+SUMIFS('4A Calcul. BAU city'!G:G,'4A Calcul. BAU city'!$C:$C,$C271,'4A Calcul. BAU city'!$E:$E,'4B Calcul. Climat Scen.'!$E271)","v":0},{"$f":"+SUMIFS('4A Calcul. BAU city'!H:H,'4A Calcul. BAU city'!$C:$C,$C271,'4A Calcul. BAU city'!$E:$E,'4B Calcul. Climat Scen.'!$E271)","v":0},{"$f":"+SUMIFS('4A Calcul. BAU city'!I:I,'4A Calcul. BAU city'!$C:$C,$C271,'4A Calcul. BAU city'!$E:$E,'4B Calcul. Climat Scen.'!$E271)","v":0},{"$f":"+SUMIFS('4A Calcul. BAU city'!J:J,'4A Calcul. BAU city'!$C:$C,$C271,'4A Calcul. BAU city'!$E:$E,'4B Calcul. Climat Scen.'!$E271)","v":0},{"$f":"+SUMIFS('4A Calcul. BAU city'!K:K,'4A Calcul. BAU city'!$C:$C,$C271,'4A Calcul. BAU city'!$E:$E,'4B Calcul. Climat Scen.'!$E271)","v":0},{"$f":"+SUMIFS('4A Calcul. BAU city'!L:L,'4A Calcul. BAU city'!$C:$C,$C271,'4A Calcul. BAU city'!$E:$E,'4B Calcul. Climat Scen.'!$E271)","v":0},null,null,null,null,null,null,null,null,null,null,null,null,null,null,null,{"$f":"+SUMIFS('4A Calcul. BAU city'!AD:AD,'4A Calcul. BAU city'!$C:$C,$C271,'4A Calcul. BAU city'!$E:$E,'4B Calcul. Climat Scen.'!$E271)","v":0},{"$f":"+SUMIFS('4A Calcul. BAU city'!AE:AE,'4A Calcul. BAU city'!$C:$C,$C271,'4A Calcul. BAU city'!$E:$E,'4B Calcul. Climat Scen.'!$E271)","v":0},{"$f":"+SUMIFS('4A Calcul. BAU city'!AF:AF,'4A Calcul. BAU city'!$C:$C,$C271,'4A Calcul. BAU city'!$E:$E,'4B Calcul. Climat Scen.'!$E271)","v":0},{"$f":"+SUMIFS('4A Calcul. BAU city'!AG:AG,'4A Calcul. BAU city'!$C:$C,$C271,'4A Calcul. BAU city'!$E:$E,'4B Calcul. Climat Scen.'!$E271)","v":0},{"$f":"+SUMIFS('4A Calcul. BAU city'!AH:AH,'4A Calcul. BAU city'!$C:$C,$C271,'4A Calcul. BAU city'!$E:$E,'4B Calcul. Climat Scen.'!$E271)","v":0},{"$f":"+SUMIFS('4A Calcul. BAU city'!AI:AI,'4A Calcul. BAU city'!$C:$C,$C271,'4A Calcul. BAU city'!$E:$E,'4B Calcul. Climat Scen.'!$E271)","v":0},null,{"$f":"+SUMIFS('4A Calcul. BAU city'!AJ:AJ,'4A Calcul. BAU city'!$C:$C,$C271,'4A Calcul. BAU city'!$E:$E,'4B Calcul. Climat Scen.'!$E271)","v":0},{"$f":"+SUMIFS('4A Calcul. BAU city'!AK:AK,'4A Calcul. BAU city'!$C:$C,$C271,'4A Calcul. BAU city'!$E:$E,'4B Calcul. Climat Scen.'!$E271)","v":0},{"$f":"+SUMIFS('4A Calcul. BAU city'!AL:AL,'4A Calcul. BAU city'!$C:$C,$C271,'4A Calcul. BAU city'!$E:$E,'4B Calcul. Climat Scen.'!$E271)","v":0},{"$f":"+SUMIFS('4A Calcul. BAU city'!AM:AM,'4A Calcul. BAU city'!$C:$C,$C271,'4A Calcul. BAU city'!$E:$E,'4B Calcul. Climat Scen.'!$E271)","v":0},{"$f":"+SUMIFS('4A Calcul. BAU city'!AN:AN,'4A Calcul. BAU city'!$C:$C,$C271,'4A Calcul. BAU city'!$E:$E,'4B Calcul. Climat Scen.'!$E271)","v":0},{"$f":"+SUMIFS('4A Calcul. BAU city'!AO:AO,'4A Calcul. BAU city'!$C:$C,$C271,'4A Calcul. BAU city'!$E:$E,'4B Calcul. Climat Scen.'!$E271)","v":0}]
["1.A.3.b.i","BAU","Minibus",{"$f":"RoadH","v":"Road - Hybrid"},{"$f":"Hybrid","v":"Hybrid"},{"$f":"+SUMIFS('4A Calcul. BAU city'!G:G,'4A Calcul. BAU city'!$C:$C,$C272,'4A Calcul. BAU city'!$E:$E,'4B Calcul. Climat Scen.'!$E272)","v":0},{"$f":"+SUMIFS('4A Calcul. BAU city'!H:H,'4A Calcul. BAU city'!$C:$C,$C272,'4A Calcul. BAU city'!$E:$E,'4B Calcul. Climat Scen.'!$E272)","v":0},{"$f":"+SUMIFS('4A Calcul. BAU city'!I:I,'4A Calcul. BAU city'!$C:$C,$C272,'4A Calcul. BAU city'!$E:$E,'4B Calcul. Climat Scen.'!$E272)","v":0},{"$f":"+SUMIFS('4A Calcul. BAU city'!J:J,'4A Calcul. BAU city'!$C:$C,$C272,'4A Calcul. BAU city'!$E:$E,'4B Calcul. Climat Scen.'!$E272)","v":0},{"$f":"+SUMIFS('4A Calcul. BAU city'!K:K,'4A Calcul. BAU city'!$C:$C,$C272,'4A Calcul. BAU city'!$E:$E,'4B Calcul. Climat Scen.'!$E272)","v":0},{"$f":"+SUMIFS('4A Calcul. BAU city'!L:L,'4A Calcul. BAU city'!$C:$C,$C272,'4A Calcul. BAU city'!$E:$E,'4B Calcul. Climat Scen.'!$E272)","v":0},null,null,null,null,null,null,null,null,null,null,null,null,null,null,null,{"$f":"+SUMIFS('4A Calcul. BAU city'!AD:AD,'4A Calcul. BAU city'!$C:$C,$C272,'4A Calcul. BAU city'!$E:$E,'4B Calcul. Climat Scen.'!$E272)","v":0},{"$f":"+SUMIFS('4A Calcul. BAU city'!AE:AE,'4A Calcul. BAU city'!$C:$C,$C272,'4A Calcul. BAU city'!$E:$E,'4B Calcul. Climat Scen.'!$E272)","v":0},{"$f":"+SUMIFS('4A Calcul. BAU city'!AF:AF,'4A Calcul. BAU city'!$C:$C,$C272,'4A Calcul. BAU city'!$E:$E,'4B Calcul. Climat Scen.'!$E272)","v":0},{"$f":"+SUMIFS('4A Calcul. BAU city'!AG:AG,'4A Calcul. BAU city'!$C:$C,$C272,'4A Calcul. BAU city'!$E:$E,'4B Calcul. Climat Scen.'!$E272)","v":0},{"$f":"+SUMIFS('4A Calcul. BAU city'!AH:AH,'4A Calcul. BAU city'!$C:$C,$C272,'4A Calcul. BAU city'!$E:$E,'4B Calcul. Climat Scen.'!$E272)","v":0},{"$f":"+SUMIFS('4A Calcul. BAU city'!AI:AI,'4A Calcul. BAU city'!$C:$C,$C272,'4A Calcul. BAU city'!$E:$E,'4B Calcul. Climat Scen.'!$E272)","v":0},null,{"$f":"+SUMIFS('4A Calcul. BAU city'!AJ:AJ,'4A Calcul. BAU city'!$C:$C,$C272,'4A Calcul. BAU city'!$E:$E,'4B Calcul. Climat Scen.'!$E272)","v":0},{"$f":"+SUMIFS('4A Calcul. BAU city'!AK:AK,'4A Calcul. BAU city'!$C:$C,$C272,'4A Calcul. BAU city'!$E:$E,'4B Calcul. Climat Scen.'!$E272)","v":0},{"$f":"+SUMIFS('4A Calcul. BAU city'!AL:AL,'4A Calcul. BAU city'!$C:$C,$C272,'4A Calcul. BAU city'!$E:$E,'4B Calcul. Climat Scen.'!$E272)","v":0},{"$f":"+SUMIFS('4A Calcul. BAU city'!AM:AM,'4A Calcul. BAU city'!$C:$C,$C272,'4A Calcul. BAU city'!$E:$E,'4B Calcul. Climat Scen.'!$E272)","v":0},{"$f":"+SUMIFS('4A Calcul. BAU city'!AN:AN,'4A Calcul. BAU city'!$C:$C,$C272,'4A Calcul. BAU city'!$E:$E,'4B Calcul. Climat Scen.'!$E272)","v":0},{"$f":"+SUMIFS('4A Calcul. BAU city'!AO:AO,'4A Calcul. BAU city'!$C:$C,$C272,'4A Calcul. BAU city'!$E:$E,'4B Calcul. Climat Scen.'!$E272)","v":0}]
["1.A.3.b.i","BAU","Minibus",{"$f":"Roadelec","v":"Road - Electric"},{"$f":"Electric","v":"Electric"},{"$f":"+SUMIFS('4A Calcul. BAU city'!G:G,'4A Calcul. BAU city'!$C:$C,$C273,'4A Calcul. BAU city'!$E:$E,'4B Calcul. Climat Scen.'!$E273)","v":0},{"$f":"+SUMIFS('4A Calcul. BAU city'!H:H,'4A Calcul. BAU city'!$C:$C,$C273,'4A Calcul. BAU city'!$E:$E,'4B Calcul. Climat Scen.'!$E273)","v":0},{"$f":"+SUMIFS('4A Calcul. BAU city'!I:I,'4A Calcul. BAU city'!$C:$C,$C273,'4A Calcul. BAU city'!$E:$E,'4B Calcul. Climat Scen.'!$E273)","v":0},{"$f":"+SUMIFS('4A Calcul. BAU city'!J:J,'4A Calcul. BAU city'!$C:$C,$C273,'4A Calcul. BAU city'!$E:$E,'4B Calcul. Climat Scen.'!$E273)","v":0},{"$f":"+SUMIFS('4A Calcul. BAU city'!K:K,'4A Calcul. BAU city'!$C:$C,$C273,'4A Calcul. BAU city'!$E:$E,'4B Calcul. Climat Scen.'!$E273)","v":0},{"$f":"+SUMIFS('4A Calcul. BAU city'!L:L,'4A Calcul. BAU city'!$C:$C,$C273,'4A Calcul. BAU city'!$E:$E,'4B Calcul. Climat Scen.'!$E273)","v":0},null,null,null,null,null,null,null,null,null,null,null,null,null,null,null,{"$f":"+SUMIFS('4A Calcul. BAU city'!AD:AD,'4A Calcul. BAU city'!$C:$C,$C273,'4A Calcul. BAU city'!$E:$E,'4B Calcul. Climat Scen.'!$E273)","v":0},{"$f":"+SUMIFS('4A Calcul. BAU city'!AE:AE,'4A Calcul. BAU city'!$C:$C,$C273,'4A Calcul. BAU city'!$E:$E,'4B Calcul. Climat Scen.'!$E273)","v":0},{"$f":"+SUMIFS('4A Calcul. BAU city'!AF:AF,'4A Calcul. BAU city'!$C:$C,$C273,'4A Calcul. BAU city'!$E:$E,'4B Calcul. Climat Scen.'!$E273)","v":0},{"$f":"+SUMIFS('4A Calcul. BAU city'!AG:AG,'4A Calcul. BAU city'!$C:$C,$C273,'4A Calcul. BAU city'!$E:$E,'4B Calcul. Climat Scen.'!$E273)","v":0},{"$f":"+SUMIFS('4A Calcul. BAU city'!AH:AH,'4A Calcul. BAU city'!$C:$C,$C273,'4A Calcul. BAU city'!$E:$E,'4B Calcul. Climat Scen.'!$E273)","v":0},{"$f":"+SUMIFS('4A Calcul. BAU city'!AI:AI,'4A Calcul. BAU city'!$C:$C,$C273,'4A Calcul. BAU city'!$E:$E,'4B Calcul. Climat Scen.'!$E273)","v":0},null,{"$f":"+SUMIFS('4A Calcul. BAU city'!AJ:AJ,'4A Calcul. BAU city'!$C:$C,$C273,'4A Calcul. BAU city'!$E:$E,'4B Calcul. Climat Scen.'!$E273)","v":0},{"$f":"+SUMIFS('4A Calcul. BAU city'!AK:AK,'4A Calcul. BAU city'!$C:$C,$C273,'4A Calcul. BAU city'!$E:$E,'4B Calcul. Climat Scen.'!$E273)","v":0},{"$f":"+SUMIFS('4A Calcul. BAU city'!AL:AL,'4A Calcul. BAU city'!$C:$C,$C273,'4A Calcul. BAU city'!$E:$E,'4B Calcul. Climat Scen.'!$E273)","v":0},{"$f":"+SUMIFS('4A Calcul. BAU city'!AM:AM,'4A Calcul. BAU city'!$C:$C,$C273,'4A Calcul. BAU city'!$E:$E,'4B Calcul. Climat Scen.'!$E273)","v":0},{"$f":"+SUMIFS('4A Calcul. BAU city'!AN:AN,'4A Calcul. BAU city'!$C:$C,$C273,'4A Calcul. BAU city'!$E:$E,'4B Calcul. Climat Scen.'!$E273)","v":0},{"$f":"+SUMIFS('4A Calcul. BAU city'!AO:AO,'4A Calcul. BAU city'!$C:$C,$C273,'4A Calcul. BAU city'!$E:$E,'4B Calcul. Climat Scen.'!$E273)","v":0}]
["1.A.3.b.iii","BAU",{"$f":"Bus","v":"Bus"},{"$f":"RoadD","v":"Road - Diesel"},{"$f":"Diesel","v":"Diesel"},{"$f":"+SUMIFS('4A Calcul. BAU city'!G:G,'4A Calcul. BAU city'!$C:$C,$C274,'4A Calcul. BAU city'!$E:$E,'4B Calcul. Climat Scen.'!$E274)","v":0},{"$f":"+SUMIFS('4A Calcul. BAU city'!H:H,'4A Calcul. BAU city'!$C:$C,$C274,'4A Calcul. BAU city'!$E:$E,'4B Calcul. Climat Scen.'!$E274)","v":0},{"$f":"+SUMIFS('4A Calcul. BAU city'!I:I,'4A Calcul. BAU city'!$C:$C,$C274,'4A Calcul. BAU city'!$E:$E,'4B Calcul. Climat Scen.'!$E274)","v":0},{"$f":"+SUMIFS('4A Calcul. BAU city'!J:J,'4A Calcul. BAU city'!$C:$C,$C274,'4A Calcul. BAU city'!$E:$E,'4B Calcul. Climat Scen.'!$E274)","v":0},{"$f":"+SUMIFS('4A Calcul. BAU city'!K:K,'4A Calcul. BAU city'!$C:$C,$C274,'4A Calcul. BAU city'!$E:$E,'4B Calcul. Climat Scen.'!$E274)","v":0},{"$f":"+SUMIFS('4A Calcul. BAU city'!L:L,'4A Calcul. BAU city'!$C:$C,$C274,'4A Calcul. BAU city'!$E:$E,'4B Calcul. Climat Scen.'!$E274)","v":0},null,null,null,null,null,null,null,null,null,null,null,null,null,null,null,{"$f":"+SUMIFS('4A Calcul. BAU city'!AD:AD,'4A Calcul. BAU city'!$C:$C,$C274,'4A Calcul. BAU city'!$E:$E,'4B Calcul. Climat Scen.'!$E274)","v":0},{"$f":"+SUMIFS('4A Calcul. BAU city'!AE:AE,'4A Calcul. BAU city'!$C:$C,$C274,'4A Calcul. BAU city'!$E:$E,'4B Calcul. Climat Scen.'!$E274)","v":0},{"$f":"+SUMIFS('4A Calcul. BAU city'!AF:AF,'4A Calcul. BAU city'!$C:$C,$C274,'4A Calcul. BAU city'!$E:$E,'4B Calcul. Climat Scen.'!$E274)","v":0},{"$f":"+SUMIFS('4A Calcul. BAU city'!AG:AG,'4A Calcul. BAU city'!$C:$C,$C274,'4A Calcul. BAU city'!$E:$E,'4B Calcul. Climat Scen.'!$E274)","v":0},{"$f":"+SUMIFS('4A Calcul. BAU city'!AH:AH,'4A Calcul. BAU city'!$C:$C,$C274,'4A Calcul. BAU city'!$E:$E,'4B Calcul. Climat Scen.'!$E274)","v":0},{"$f":"+SUMIFS('4A Calcul. BAU city'!AI:AI,'4A Calcul. BAU city'!$C:$C,$C274,'4A Calcul. BAU city'!$E:$E,'4B Calcul. Climat Scen.'!$E274)","v":0},null,{"$f":"+SUMIFS('4A Calcul. BAU city'!AJ:AJ,'4A Calcul. BAU city'!$C:$C,$C274,'4A Calcul. BAU city'!$E:$E,'4B Calcul. Climat Scen.'!$E274)","v":0},{"$f":"+SUMIFS('4A Calcul. BAU city'!AK:AK,'4A Calcul. BAU city'!$C:$C,$C274,'4A Calcul. BAU city'!$E:$E,'4B Calcul. Climat Scen.'!$E274)","v":0},{"$f":"+SUMIFS('4A Calcul. BAU city'!AL:AL,'4A Calcul. BAU city'!$C:$C,$C274,'4A Calcul. BAU city'!$E:$E,'4B Calcul. Climat Scen.'!$E274)","v":0},{"$f":"+SUMIFS('4A Calcul. BAU city'!AM:AM,'4A Calcul. BAU city'!$C:$C,$C274,'4A Calcul. BAU city'!$E:$E,'4B Calcul. Climat Scen.'!$E274)","v":0},{"$f":"+SUMIFS('4A Calcul. BAU city'!AN:AN,'4A Calcul. BAU city'!$C:$C,$C274,'4A Calcul. BAU city'!$E:$E,'4B Calcul. Climat Scen.'!$E274)","v":0},{"$f":"+SUMIFS('4A Calcul. BAU city'!AO:AO,'4A Calcul. BAU city'!$C:$C,$C274,'4A Calcul. BAU city'!$E:$E,'4B Calcul. Climat Scen.'!$E274)","v":0}]
["1.A.3.b.iii","BAU",{"$f":"Bus","v":"Bus"},{"$f":"RoadNG","v":"Road - NG"},{"$f":"NG","v":"NG"},{"$f":"+SUMIFS('4A Calcul. BAU city'!G:G,'4A Calcul. BAU city'!$C:$C,$C275,'4A Calcul. BAU city'!$E:$E,'4B Calcul. Climat Scen.'!$E275)","v":0},{"$f":"+SUMIFS('4A Calcul. BAU city'!H:H,'4A Calcul. BAU city'!$C:$C,$C275,'4A Calcul. BAU city'!$E:$E,'4B Calcul. Climat Scen.'!$E275)","v":0},{"$f":"+SUMIFS('4A Calcul. BAU city'!I:I,'4A Calcul. BAU city'!$C:$C,$C275,'4A Calcul. BAU city'!$E:$E,'4B Calcul. Climat Scen.'!$E275)","v":0},{"$f":"+SUMIFS('4A Calcul. BAU city'!J:J,'4A Calcul. BAU city'!$C:$C,$C275,'4A Calcul. BAU city'!$E:$E,'4B Calcul. Climat Scen.'!$E275)","v":0},{"$f":"+SUMIFS('4A Calcul. BAU city'!K:K,'4A Calcul. BAU city'!$C:$C,$C275,'4A Calcul. BAU city'!$E:$E,'4B Calcul. Climat Scen.'!$E275)","v":0},{"$f":"+SUMIFS('4A Calcul. BAU city'!L:L,'4A Calcul. BAU city'!$C:$C,$C275,'4A Calcul. BAU city'!$E:$E,'4B Calcul. Climat Scen.'!$E275)","v":0},null,null,null,null,null,null,null,null,null,null,null,null,null,null,null,{"$f":"+SUMIFS('4A Calcul. BAU city'!AD:AD,'4A Calcul. BAU city'!$C:$C,$C275,'4A Calcul. BAU city'!$E:$E,'4B Calcul. Climat Scen.'!$E275)","v":0},{"$f":"+SUMIFS('4A Calcul. BAU city'!AE:AE,'4A Calcul. BAU city'!$C:$C,$C275,'4A Calcul. BAU city'!$E:$E,'4B Calcul. Climat Scen.'!$E275)","v":0},{"$f":"+SUMIFS('4A Calcul. BAU city'!AF:AF,'4A Calcul. BAU city'!$C:$C,$C275,'4A Calcul. BAU city'!$E:$E,'4B Calcul. Climat Scen.'!$E275)","v":0},{"$f":"+SUMIFS('4A Calcul. BAU city'!AG:AG,'4A Calcul. BAU city'!$C:$C,$C275,'4A Calcul. BAU city'!$E:$E,'4B Calcul. Climat Scen.'!$E275)","v":0},{"$f":"+SUMIFS('4A Calcul. BAU city'!AH:AH,'4A Calcul. BAU city'!$C:$C,$C275,'4A Calcul. BAU city'!$E:$E,'4B Calcul. Climat Scen.'!$E275)","v":0},{"$f":"+SUMIFS('4A Calcul. BAU city'!AI:AI,'4A Calcul. BAU city'!$C:$C,$C275,'4A Calcul. BAU city'!$E:$E,'4B Calcul. Climat Scen.'!$E275)","v":0},null,{"$f":"+SUMIFS('4A Calcul. BAU city'!AJ:AJ,'4A Calcul. BAU city'!$C:$C,$C275,'4A Calcul. BAU city'!$E:$E,'4B Calcul. Climat Scen.'!$E275)","v":0},{"$f":"+SUMIFS('4A Calcul. BAU city'!AK:AK,'4A Calcul. BAU city'!$C:$C,$C275,'4A Calcul. BAU city'!$E:$E,'4B Calcul. Climat Scen.'!$E275)","v":0},{"$f":"+SUMIFS('4A Calcul. BAU city'!AL:AL,'4A Calcul. BAU city'!$C:$C,$C275,'4A Calcul. BAU city'!$E:$E,'4B Calcul. Climat Scen.'!$E275)","v":0},{"$f":"+SUMIFS('4A Calcul. BAU city'!AM:AM,'4A Calcul. BAU city'!$C:$C,$C275,'4A Calcul. BAU city'!$E:$E,'4B Calcul. Climat Scen.'!$E275)","v":0},{"$f":"+SUMIFS('4A Calcul. BAU city'!AN:AN,'4A Calcul. BAU city'!$C:$C,$C275,'4A Calcul. BAU city'!$E:$E,'4B Calcul. Climat Scen.'!$E275)","v":0},{"$f":"+SUMIFS('4A Calcul. BAU city'!AO:AO,'4A Calcul. BAU city'!$C:$C,$C275,'4A Calcul. BAU city'!$E:$E,'4B Calcul. Climat Scen.'!$E275)","v":0}]
["1.A.3.b.iii","BAU",{"$f":"Bus","v":"Bus"},{"$f":"RoadH","v":"Road - Hybrid"},{"$f":"Hybrid","v":"Hybrid"},{"$f":"+SUMIFS('4A Calcul. BAU city'!G:G,'4A Calcul. BAU city'!$C:$C,$C276,'4A Calcul. BAU city'!$E:$E,'4B Calcul. Climat Scen.'!$E276)","v":0},{"$f":"+SUMIFS('4A Calcul. BAU city'!H:H,'4A Calcul. BAU city'!$C:$C,$C276,'4A Calcul. BAU city'!$E:$E,'4B Calcul. Climat Scen.'!$E276)","v":0},{"$f":"+SUMIFS('4A Calcul. BAU city'!I:I,'4A Calcul. BAU city'!$C:$C,$C276,'4A Calcul. BAU city'!$E:$E,'4B Calcul. Climat Scen.'!$E276)","v":0},{"$f":"+SUMIFS('4A Calcul. BAU city'!J:J,'4A Calcul. BAU city'!$C:$C,$C276,'4A Calcul. BAU city'!$E:$E,'4B Calcul. Climat Scen.'!$E276)","v":0},{"$f":"+SUMIFS('4A Calcul. BAU city'!K:K,'4A Calcul. BAU city'!$C:$C,$C276,'4A Calcul. BAU city'!$E:$E,'4B Calcul. Climat Scen.'!$E276)","v":0},{"$f":"+SUMIFS('4A Calcul. BAU city'!L:L,'4A Calcul. BAU city'!$C:$C,$C276,'4A Calcul. BAU city'!$E:$E,'4B Calcul. Climat Scen.'!$E276)","v":0},null,null,null,null,null,null,null,null,null,null,null,null,null,null,null,{"$f":"+SUMIFS('4A Calcul. BAU city'!AD:AD,'4A Calcul. BAU city'!$C:$C,$C276,'4A Calcul. BAU city'!$E:$E,'4B Calcul. Climat Scen.'!$E276)","v":0},{"$f":"+SUMIFS('4A Calcul. BAU city'!AE:AE,'4A Calcul. BAU city'!$C:$C,$C276,'4A Calcul. BAU city'!$E:$E,'4B Calcul. Climat Scen.'!$E276)","v":0},{"$f":"+SUMIFS('4A Calcul. BAU city'!AF:AF,'4A Calcul. BAU city'!$C:$C,$C276,'4A Calcul. BAU city'!$E:$E,'4B Calcul. Climat Scen.'!$E276)","v":0},{"$f":"+SUMIFS('4A Calcul. BAU city'!AG:AG,'4A Calcul. BAU city'!$C:$C,$C276,'4A Calcul. BAU city'!$E:$E,'4B Calcul. Climat Scen.'!$E276)","v":0},{"$f":"+SUMIFS('4A Calcul. BAU city'!AH:AH,'4A Calcul. BAU city'!$C:$C,$C276,'4A Calcul. BAU city'!$E:$E,'4B Calcul. Climat Scen.'!$E276)","v":0},{"$f":"+SUMIFS('4A Calcul. BAU city'!AI:AI,'4A Calcul. BAU city'!$C:$C,$C276,'4A Calcul. BAU city'!$E:$E,'4B Calcul. Climat Scen.'!$E276)","v":0},null,{"$f":"+SUMIFS('4A Calcul. BAU city'!AJ:AJ,'4A Calcul. BAU city'!$C:$C,$C276,'4A Calcul. BAU city'!$E:$E,'4B Calcul. Climat Scen.'!$E276)","v":0},{"$f":"+SUMIFS('4A Calcul. BAU city'!AK:AK,'4A Calcul. BAU city'!$C:$C,$C276,'4A Calcul. BAU city'!$E:$E,'4B Calcul. Climat Scen.'!$E276)","v":0},{"$f":"+SUMIFS('4A Calcul. BAU city'!AL:AL,'4A Calcul. BAU city'!$C:$C,$C276,'4A Calcul. BAU city'!$E:$E,'4B Calcul. Climat Scen.'!$E276)","v":0},{"$f":"+SUMIFS('4A Calcul. BAU city'!AM:AM,'4A Calcul. BAU city'!$C:$C,$C276,'4A Calcul. BAU city'!$E:$E,'4B Calcul. Climat Scen.'!$E276)","v":0},{"$f":"+SUMIFS('4A Calcul. BAU city'!AN:AN,'4A Calcul. BAU city'!$C:$C,$C276,'4A Calcul. BAU city'!$E:$E,'4B Calcul. Climat Scen.'!$E276)","v":0},{"$f":"+SUMIFS('4A Calcul. BAU city'!AO:AO,'4A Calcul. BAU city'!$C:$C,$C276,'4A Calcul. BAU city'!$E:$E,'4B Calcul. Climat Scen.'!$E276)","v":0}]
["1.A.3.b.iii","BAU",{"$f":"Bus","v":"Bus"},{"$f":"Roadelec","v":"Road - Electric"},{"$f":"Electric","v":"Electric"},{"$f":"+SUMIFS('4A Calcul. BAU city'!G:G,'4A Calcul. BAU city'!$C:$C,$C277,'4A Calcul. BAU city'!$E:$E,'4B Calcul. Climat Scen.'!$E277)","v":0},{"$f":"+SUMIFS('4A Calcul. BAU city'!H:H,'4A Calcul. BAU city'!$C:$C,$C277,'4A Calcul. BAU city'!$E:$E,'4B Calcul. Climat Scen.'!$E277)","v":0},{"$f":"+SUMIFS('4A Calcul. BAU city'!I:I,'4A Calcul. BAU city'!$C:$C,$C277,'4A Calcul. BAU city'!$E:$E,'4B Calcul. Climat Scen.'!$E277)","v":0},{"$f":"+SUMIFS('4A Calcul. BAU city'!J:J,'4A Calcul. BAU city'!$C:$C,$C277,'4A Calcul. BAU city'!$E:$E,'4B Calcul. Climat Scen.'!$E277)","v":0},{"$f":"+SUMIFS('4A Calcul. BAU city'!K:K,'4A Calcul. BAU city'!$C:$C,$C277,'4A Calcul. BAU city'!$E:$E,'4B Calcul. Climat Scen.'!$E277)","v":0},{"$f":"+SUMIFS('4A Calcul. BAU city'!L:L,'4A Calcul. BAU city'!$C:$C,$C277,'4A Calcul. BAU city'!$E:$E,'4B Calcul. Climat Scen.'!$E277)","v":0},null,null,null,null,null,null,null,null,null,null,null,null,null,null,null,{"$f":"+SUMIFS('4A Calcul. BAU city'!AD:AD,'4A Calcul. BAU city'!$C:$C,$C277,'4A Calcul. BAU city'!$E:$E,'4B Calcul. Climat Scen.'!$E277)","v":0},{"$f":"+SUMIFS('4A Calcul. BAU city'!AE:AE,'4A Calcul. BAU city'!$C:$C,$C277,'4A Calcul. BAU city'!$E:$E,'4B Calcul. Climat Scen.'!$E277)","v":0},{"$f":"+SUMIFS('4A Calcul. BAU city'!AF:AF,'4A Calcul. BAU city'!$C:$C,$C277,'4A Calcul. BAU city'!$E:$E,'4B Calcul. Climat Scen.'!$E277)","v":0},{"$f":"+SUMIFS('4A Calcul. BAU city'!AG:AG,'4A Calcul. BAU city'!$C:$C,$C277,'4A Calcul. BAU city'!$E:$E,'4B Calcul. Climat Scen.'!$E277)","v":0},{"$f":"+SUMIFS('4A Calcul. BAU city'!AH:AH,'4A Calcul. BAU city'!$C:$C,$C277,'4A Calcul. BAU city'!$E:$E,'4B Calcul. Climat Scen.'!$E277)","v":0},{"$f":"+SUMIFS('4A Calcul. BAU city'!AI:AI,'4A Calcul. BAU city'!$C:$C,$C277,'4A Calcul. BAU city'!$E:$E,'4B Calcul. Climat Scen.'!$E277)","v":0},null,{"$f":"+SUMIFS('4A Calcul. BAU city'!AJ:AJ,'4A Calcul. BAU city'!$C:$C,$C277,'4A Calcul. BAU city'!$E:$E,'4B Calcul. Climat Scen.'!$E277)","v":0},{"$f":"+SUMIFS('4A Calcul. BAU city'!AK:AK,'4A Calcul. BAU city'!$C:$C,$C277,'4A Calcul. BAU city'!$E:$E,'4B Calcul. Climat Scen.'!$E277)","v":0},{"$f":"+SUMIFS('4A Calcul. BAU city'!AL:AL,'4A Calcul. BAU city'!$C:$C,$C277,'4A Calcul. BAU city'!$E:$E,'4B Calcul. Climat Scen.'!$E277)","v":0},{"$f":"+SUMIFS('4A Calcul. BAU city'!AM:AM,'4A Calcul. BAU city'!$C:$C,$C277,'4A Calcul. BAU city'!$E:$E,'4B Calcul. Climat Scen.'!$E277)","v":0},{"$f":"+SUMIFS('4A Calcul. BAU city'!AN:AN,'4A Calcul. BAU city'!$C:$C,$C277,'4A Calcul. BAU city'!$E:$E,'4B Calcul. Climat Scen.'!$E277)","v":0},{"$f":"+SUMIFS('4A Calcul. BAU city'!AO:AO,'4A Calcul. BAU city'!$C:$C,$C277,'4A Calcul. BAU city'!$E:$E,'4B Calcul. Climat Scen.'!$E277)","v":0}]
["1.A.3.b.iii","BAU",{"$f":"BRT","v":"BRT"},{"$f":"RoadD","v":"Road - Diesel"},{"$f":"Diesel","v":"Diesel"},{"$f":"+SUMIFS('4A Calcul. BAU city'!G:G,'4A Calcul. BAU city'!$C:$C,$C278,'4A Calcul. BAU city'!$E:$E,'4B Calcul. Climat Scen.'!$E278)","v":0},{"$f":"+SUMIFS('4A Calcul. BAU city'!H:H,'4A Calcul. BAU city'!$C:$C,$C278,'4A Calcul. BAU city'!$E:$E,'4B Calcul. Climat Scen.'!$E278)","v":0},{"$f":"+SUMIFS('4A Calcul. BAU city'!I:I,'4A Calcul. BAU city'!$C:$C,$C278,'4A Calcul. BAU city'!$E:$E,'4B Calcul. Climat Scen.'!$E278)","v":0},{"$f":"+SUMIFS('4A Calcul. BAU city'!J:J,'4A Calcul. BAU city'!$C:$C,$C278,'4A Calcul. BAU city'!$E:$E,'4B Calcul. Climat Scen.'!$E278)","v":0},{"$f":"+SUMIFS('4A Calcul. BAU city'!K:K,'4A Calcul. BAU city'!$C:$C,$C278,'4A Calcul. BAU city'!$E:$E,'4B Calcul. Climat Scen.'!$E278)","v":0},{"$f":"+SUMIFS('4A Calcul. BAU city'!L:L,'4A Calcul. BAU city'!$C:$C,$C278,'4A Calcul. BAU city'!$E:$E,'4B Calcul. Climat Scen.'!$E278)","v":0},null,null,null,null,null,null,null,null,null,null,null,null,null,null,null,{"$f":"+SUMIFS('4A Calcul. BAU city'!AD:AD,'4A Calcul. BAU city'!$C:$C,$C278,'4A Calcul. BAU city'!$E:$E,'4B Calcul. Climat Scen.'!$E278)","v":0},{"$f":"+SUMIFS('4A Calcul. BAU city'!AE:AE,'4A Calcul. BAU city'!$C:$C,$C278,'4A Calcul. BAU city'!$E:$E,'4B Calcul. Climat Scen.'!$E278)","v":0},{"$f":"+SUMIFS('4A Calcul. BAU city'!AF:AF,'4A Calcul. BAU city'!$C:$C,$C278,'4A Calcul. BAU city'!$E:$E,'4B Calcul. Climat Scen.'!$E278)","v":0},{"$f":"+SUMIFS('4A Calcul. BAU city'!AG:AG,'4A Calcul. BAU city'!$C:$C,$C278,'4A Calcul. BAU city'!$E:$E,'4B Calcul. Climat Scen.'!$E278)","v":0},{"$f":"+SUMIFS('4A Calcul. BAU city'!AH:AH,'4A Calcul. BAU city'!$C:$C,$C278,'4A Calcul. BAU city'!$E:$E,'4B Calcul. Climat Scen.'!$E278)","v":0},{"$f":"+SUMIFS('4A Calcul. BAU city'!AI:AI,'4A Calcul. BAU city'!$C:$C,$C278,'4A Calcul. BAU city'!$E:$E,'4B Calcul. Climat Scen.'!$E278)","v":0},null,{"$f":"+SUMIFS('4A Calcul. BAU city'!AJ:AJ,'4A Calcul. BAU city'!$C:$C,$C278,'4A Calcul. BAU city'!$E:$E,'4B Calcul. Climat Scen.'!$E278)","v":0},{"$f":"+SUMIFS('4A Calcul. BAU city'!AK:AK,'4A Calcul. BAU city'!$C:$C,$C278,'4A Calcul. BAU city'!$E:$E,'4B Calcul. Climat Scen.'!$E278)","v":0},{"$f":"+SUMIFS('4A Calcul. BAU city'!AL:AL,'4A Calcul. BAU city'!$C:$C,$C278,'4A Calcul. BAU city'!$E:$E,'4B Calcul. Climat Scen.'!$E278)","v":0},{"$f":"+SUMIFS('4A Calcul. BAU city'!AM:AM,'4A Calcul. BAU city'!$C:$C,$C278,'4A Calcul. BAU city'!$E:$E,'4B Calcul. Climat Scen.'!$E278)","v":0},{"$f":"+SUMIFS('4A Calcul. BAU city'!AN:AN,'4A Calcul. BAU city'!$C:$C,$C278,'4A Calcul. BAU city'!$E:$E,'4B Calcul. Climat Scen.'!$E278)","v":0},{"$f":"+SUMIFS('4A Calcul. BAU city'!AO:AO,'4A Calcul. BAU city'!$C:$C,$C278,'4A Calcul. BAU city'!$E:$E,'4B Calcul. Climat Scen.'!$E278)","v":0}]
["1.A.3.b.iii","BAU",{"$f":"BRT","v":"BRT"},{"$f":"RoadNG","v":"Road - NG"},{"$f":"NG","v":"NG"},{"$f":"+SUMIFS('4A Calcul. BAU city'!G:G,'4A Calcul. BAU city'!$C:$C,$C279,'4A Calcul. BAU city'!$E:$E,'4B Calcul. Climat Scen.'!$E279)","v":0},{"$f":"+SUMIFS('4A Calcul. BAU city'!H:H,'4A Calcul. BAU city'!$C:$C,$C279,'4A Calcul. BAU city'!$E:$E,'4B Calcul. Climat Scen.'!$E279)","v":0},{"$f":"+SUMIFS('4A Calcul. BAU city'!I:I,'4A Calcul. BAU city'!$C:$C,$C279,'4A Calcul. BAU city'!$E:$E,'4B Calcul. Climat Scen.'!$E279)","v":0},{"$f":"+SUMIFS('4A Calcul. BAU city'!J:J,'4A Calcul. BAU city'!$C:$C,$C279,'4A Calcul. BAU city'!$E:$E,'4B Calcul. Climat Scen.'!$E279)","v":0},{"$f":"+SUMIFS('4A Calcul. BAU city'!K:K,'4A Calcul. BAU city'!$C:$C,$C279,'4A Calcul. BAU city'!$E:$E,'4B Calcul. Climat Scen.'!$E279)","v":0},{"$f":"+SUMIFS('4A Calcul. BAU city'!L:L,'4A Calcul. BAU city'!$C:$C,$C279,'4A Calcul. BAU city'!$E:$E,'4B Calcul. Climat Scen.'!$E279)","v":0},null,null,null,null,null,null,null,null,null,null,null,null,null,null,null,{"$f":"+SUMIFS('4A Calcul. BAU city'!AD:AD,'4A Calcul. BAU city'!$C:$C,$C279,'4A Calcul. BAU city'!$E:$E,'4B Calcul. Climat Scen.'!$E279)","v":0},{"$f":"+SUMIFS('4A Calcul. BAU city'!AE:AE,'4A Calcul. BAU city'!$C:$C,$C279,'4A Calcul. BAU city'!$E:$E,'4B Calcul. Climat Scen.'!$E279)","v":0},{"$f":"+SUMIFS('4A Calcul. BAU city'!AF:AF,'4A Calcul. BAU city'!$C:$C,$C279,'4A Calcul. BAU city'!$E:$E,'4B Calcul. Climat Scen.'!$E279)","v":0},{"$f":"+SUMIFS('4A Calcul. BAU city'!AG:AG,'4A Calcul. BAU city'!$C:$C,$C279,'4A Calcul. BAU city'!$E:$E,'4B Calcul. Climat Scen.'!$E279)","v":0},{"$f":"+SUMIFS('4A Calcul. BAU city'!AH:AH,'4A Calcul. BAU city'!$C:$C,$C279,'4A Calcul. BAU city'!$E:$E,'4B Calcul. Climat Scen.'!$E279)","v":0},{"$f":"+SUMIFS('4A Calcul. BAU city'!AI:AI,'4A Calcul. BAU city'!$C:$C,$C279,'4A Calcul. BAU city'!$E:$E,'4B Calcul. Climat Scen.'!$E279)","v":0},null,{"$f":"+SUMIFS('4A Calcul. BAU city'!AJ:AJ,'4A Calcul. BAU city'!$C:$C,$C279,'4A Calcul. BAU city'!$E:$E,'4B Calcul. Climat Scen.'!$E279)","v":0},{"$f":"+SUMIFS('4A Calcul. BAU city'!AK:AK,'4A Calcul. BAU city'!$C:$C,$C279,'4A Calcul. BAU city'!$E:$E,'4B Calcul. Climat Scen.'!$E279)","v":0},{"$f":"+SUMIFS('4A Calcul. BAU city'!AL:AL,'4A Calcul. BAU city'!$C:$C,$C279,'4A Calcul. BAU city'!$E:$E,'4B Calcul. Climat Scen.'!$E279)","v":0},{"$f":"+SUMIFS('4A Calcul. BAU city'!AM:AM,'4A Calcul. BAU city'!$C:$C,$C279,'4A Calcul. BAU city'!$E:$E,'4B Calcul. Climat Scen.'!$E279)","v":0},{"$f":"+SUMIFS('4A Calcul. BAU city'!AN:AN,'4A Calcul. BAU city'!$C:$C,$C279,'4A Calcul. BAU city'!$E:$E,'4B Calcul. Climat Scen.'!$E279)","v":0},{"$f":"+SUMIFS('4A Calcul. BAU city'!AO:AO,'4A Calcul. BAU city'!$C:$C,$C279,'4A Calcul. BAU city'!$E:$E,'4B Calcul. Climat Scen.'!$E279)","v":0}]
["1.A.3.b.iii","BAU",{"$f":"BRT","v":"BRT"},{"$f":"RoadH","v":"Road - Hybrid"},{"$f":"Hybrid","v":"Hybrid"},{"$f":"+SUMIFS('4A Calcul. BAU city'!G:G,'4A Calcul. BAU city'!$C:$C,$C280,'4A Calcul. BAU city'!$E:$E,'4B Calcul. Climat Scen.'!$E280)","v":0},{"$f":"+SUMIFS('4A Calcul. BAU city'!H:H,'4A Calcul. BAU city'!$C:$C,$C280,'4A Calcul. BAU city'!$E:$E,'4B Calcul. Climat Scen.'!$E280)","v":0},{"$f":"+SUMIFS('4A Calcul. BAU city'!I:I,'4A Calcul. BAU city'!$C:$C,$C280,'4A Calcul. BAU city'!$E:$E,'4B Calcul. Climat Scen.'!$E280)","v":0},{"$f":"+SUMIFS('4A Calcul. BAU city'!J:J,'4A Calcul. BAU city'!$C:$C,$C280,'4A Calcul. BAU city'!$E:$E,'4B Calcul. Climat Scen.'!$E280)","v":0},{"$f":"+SUMIFS('4A Calcul. BAU city'!K:K,'4A Calcul. BAU city'!$C:$C,$C280,'4A Calcul. BAU city'!$E:$E,'4B Calcul. Climat Scen.'!$E280)","v":0},{"$f":"+SUMIFS('4A Calcul. BAU city'!L:L,'4A Calcul. BAU city'!$C:$C,$C280,'4A Calcul. BAU city'!$E:$E,'4B Calcul. Climat Scen.'!$E280)","v":0},null,null,null,null,null,null,null,null,null,null,null,null,null,null,null,{"$f":"+SUMIFS('4A Calcul. BAU city'!AD:AD,'4A Calcul. BAU city'!$C:$C,$C280,'4A Calcul. BAU city'!$E:$E,'4B Calcul. Climat Scen.'!$E280)","v":0},{"$f":"+SUMIFS('4A Calcul. BAU city'!AE:AE,'4A Calcul. BAU city'!$C:$C,$C280,'4A Calcul. BAU city'!$E:$E,'4B Calcul. Climat Scen.'!$E280)","v":0},{"$f":"+SUMIFS('4A Calcul. BAU city'!AF:AF,'4A Calcul. BAU city'!$C:$C,$C280,'4A Calcul. BAU city'!$E:$E,'4B Calcul. Climat Scen.'!$E280)","v":0},{"$f":"+SUMIFS('4A Calcul. BAU city'!AG:AG,'4A Calcul. BAU city'!$C:$C,$C280,'4A Calcul. BAU city'!$E:$E,'4B Calcul. Climat Scen.'!$E280)","v":0},{"$f":"+SUMIFS('4A Calcul. BAU city'!AH:AH,'4A Calcul. BAU city'!$C:$C,$C280,'4A Calcul. BAU city'!$E:$E,'4B Calcul. Climat Scen.'!$E280)","v":0},{"$f":"+SUMIFS('4A Calcul. BAU city'!AI:AI,'4A Calcul. BAU city'!$C:$C,$C280,'4A Calcul. BAU city'!$E:$E,'4B Calcul. Climat Scen.'!$E280)","v":0},null,{"$f":"+SUMIFS('4A Calcul. BAU city'!AJ:AJ,'4A Calcul. BAU city'!$C:$C,$C280,'4A Calcul. BAU city'!$E:$E,'4B Calcul. Climat Scen.'!$E280)","v":0},{"$f":"+SUMIFS('4A Calcul. BAU city'!AK:AK,'4A Calcul. BAU city'!$C:$C,$C280,'4A Calcul. BAU city'!$E:$E,'4B Calcul. Climat Scen.'!$E280)","v":0},{"$f":"+SUMIFS('4A Calcul. BAU city'!AL:AL,'4A Calcul. BAU city'!$C:$C,$C280,'4A Calcul. BAU city'!$E:$E,'4B Calcul. Climat Scen.'!$E280)","v":0},{"$f":"+SUMIFS('4A Calcul. BAU city'!AM:AM,'4A Calcul. BAU city'!$C:$C,$C280,'4A Calcul. BAU city'!$E:$E,'4B Calcul. Climat Scen.'!$E280)","v":0},{"$f":"+SUMIFS('4A Calcul. BAU city'!AN:AN,'4A Calcul. BAU city'!$C:$C,$C280,'4A Calcul. BAU city'!$E:$E,'4B Calcul. Climat Scen.'!$E280)","v":0},{"$f":"+SUMIFS('4A Calcul. BAU city'!AO:AO,'4A Calcul. BAU city'!$C:$C,$C280,'4A Calcul. BAU city'!$E:$E,'4B Calcul. Climat Scen.'!$E280)","v":0}]
["1.A.3.b.iii","BAU",{"$f":"BRT","v":"BRT"},{"$f":"Roadelec","v":"Road - Electric"},{"$f":"Electric","v":"Electric"},{"$f":"+SUMIFS('4A Calcul. BAU city'!G:G,'4A Calcul. BAU city'!$C:$C,$C281,'4A Calcul. BAU city'!$E:$E,'4B Calcul. Climat Scen.'!$E281)","v":0},{"$f":"+SUMIFS('4A Calcul. BAU city'!H:H,'4A Calcul. BAU city'!$C:$C,$C281,'4A Calcul. BAU city'!$E:$E,'4B Calcul. Climat Scen.'!$E281)","v":0},{"$f":"+SUMIFS('4A Calcul. BAU city'!I:I,'4A Calcul. BAU city'!$C:$C,$C281,'4A Calcul. BAU city'!$E:$E,'4B Calcul. Climat Scen.'!$E281)","v":0},{"$f":"+SUMIFS('4A Calcul. BAU city'!J:J,'4A Calcul. BAU city'!$C:$C,$C281,'4A Calcul. BAU city'!$E:$E,'4B Calcul. Climat Scen.'!$E281)","v":0},{"$f":"+SUMIFS('4A Calcul. BAU city'!K:K,'4A Calcul. BAU city'!$C:$C,$C281,'4A Calcul. BAU city'!$E:$E,'4B Calcul. Climat Scen.'!$E281)","v":0},{"$f":"+SUMIFS('4A Calcul. BAU city'!L:L,'4A Calcul. BAU city'!$C:$C,$C281,'4A Calcul. BAU city'!$E:$E,'4B Calcul. Climat Scen.'!$E281)","v":0},null,null,null,null,null,null,null,null,null,null,null,null,null,null,null,{"$f":"+SUMIFS('4A Calcul. BAU city'!AD:AD,'4A Calcul. BAU city'!$C:$C,$C281,'4A Calcul. BAU city'!$E:$E,'4B Calcul. Climat Scen.'!$E281)","v":0},{"$f":"+SUMIFS('4A Calcul. BAU city'!AE:AE,'4A Calcul. BAU city'!$C:$C,$C281,'4A Calcul. BAU city'!$E:$E,'4B Calcul. Climat Scen.'!$E281)","v":0},{"$f":"+SUMIFS('4A Calcul. BAU city'!AF:AF,'4A Calcul. BAU city'!$C:$C,$C281,'4A Calcul. BAU city'!$E:$E,'4B Calcul. Climat Scen.'!$E281)","v":0},{"$f":"+SUMIFS('4A Calcul. BAU city'!AG:AG,'4A Calcul. BAU city'!$C:$C,$C281,'4A Calcul. BAU city'!$E:$E,'4B Calcul. Climat Scen.'!$E281)","v":0},{"$f":"+SUMIFS('4A Calcul. BAU city'!AH:AH,'4A Calcul. BAU city'!$C:$C,$C281,'4A Calcul. BAU city'!$E:$E,'4B Calcul. Climat Scen.'!$E281)","v":0},{"$f":"+SUMIFS('4A Calcul. BAU city'!AI:AI,'4A Calcul. BAU city'!$C:$C,$C281,'4A Calcul. BAU city'!$E:$E,'4B Calcul. Climat Scen.'!$E281)","v":0},null,{"$f":"+SUMIFS('4A Calcul. BAU city'!AJ:AJ,'4A Calcul. BAU city'!$C:$C,$C281,'4A Calcul. BAU city'!$E:$E,'4B Calcul. Climat Scen.'!$E281)","v":0},{"$f":"+SUMIFS('4A Calcul. BAU city'!AK:AK,'4A Calcul. BAU city'!$C:$C,$C281,'4A Calcul. BAU city'!$E:$E,'4B Calcul. Climat Scen.'!$E281)","v":0},{"$f":"+SUMIFS('4A Calcul. BAU city'!AL:AL,'4A Calcul. BAU city'!$C:$C,$C281,'4A Calcul. BAU city'!$E:$E,'4B Calcul. Climat Scen.'!$E281)","v":0},{"$f":"+SUMIFS('4A Calcul. BAU city'!AM:AM,'4A Calcul. BAU city'!$C:$C,$C281,'4A Calcul. BAU city'!$E:$E,'4B Calcul. Climat Scen.'!$E281)","v":0},{"$f":"+SUMIFS('4A Calcul. BAU city'!AN:AN,'4A Calcul. BAU city'!$C:$C,$C281,'4A Calcul. BAU city'!$E:$E,'4B Calcul. Climat Scen.'!$E281)","v":0},{"$f":"+SUMIFS('4A Calcul. BAU city'!AO:AO,'4A Calcul. BAU city'!$C:$C,$C281,'4A Calcul. BAU city'!$E:$E,'4B Calcul. Climat Scen.'!$E281)","v":0}]
["1.A.3.c","BAU",{"$f":"Train","v":"Long distance train"},{"$f":"RailD","v":"Rail - Diesel"},{"$f":"Diesel","v":"Diesel"},{"$f":"+SUMIFS('4A Calcul. BAU city'!G:G,'4A Calcul. BAU city'!$C:$C,$C282,'4A Calcul. BAU city'!$E:$E,'4B Calcul. Climat Scen.'!$E282)","v":0},{"$f":"+SUMIFS('4A Calcul. BAU city'!H:H,'4A Calcul. BAU city'!$C:$C,$C282,'4A Calcul. BAU city'!$E:$E,'4B Calcul. Climat Scen.'!$E282)","v":0},{"$f":"+SUMIFS('4A Calcul. BAU city'!I:I,'4A Calcul. BAU city'!$C:$C,$C282,'4A Calcul. BAU city'!$E:$E,'4B Calcul. Climat Scen.'!$E282)","v":0},{"$f":"+SUMIFS('4A Calcul. BAU city'!J:J,'4A Calcul. BAU city'!$C:$C,$C282,'4A Calcul. BAU city'!$E:$E,'4B Calcul. Climat Scen.'!$E282)","v":0},{"$f":"+SUMIFS('4A Calcul. BAU city'!K:K,'4A Calcul. BAU city'!$C:$C,$C282,'4A Calcul. BAU city'!$E:$E,'4B Calcul. Climat Scen.'!$E282)","v":0},{"$f":"+SUMIFS('4A Calcul. BAU city'!L:L,'4A Calcul. BAU city'!$C:$C,$C282,'4A Calcul. BAU city'!$E:$E,'4B Calcul. Climat Scen.'!$E282)","v":0},null,null,null,null,null,null,null,null,null,null,null,null,null,null,null,{"$f":"+SUMIFS('4A Calcul. BAU city'!AD:AD,'4A Calcul. BAU city'!$C:$C,$C282,'4A Calcul. BAU city'!$E:$E,'4B Calcul. Climat Scen.'!$E282)","v":0},{"$f":"+SUMIFS('4A Calcul. BAU city'!AE:AE,'4A Calcul. BAU city'!$C:$C,$C282,'4A Calcul. BAU city'!$E:$E,'4B Calcul. Climat Scen.'!$E282)","v":0},{"$f":"+SUMIFS('4A Calcul. BAU city'!AF:AF,'4A Calcul. BAU city'!$C:$C,$C282,'4A Calcul. BAU city'!$E:$E,'4B Calcul. Climat Scen.'!$E282)","v":0},{"$f":"+SUMIFS('4A Calcul. BAU city'!AG:AG,'4A Calcul. BAU city'!$C:$C,$C282,'4A Calcul. BAU city'!$E:$E,'4B Calcul. Climat Scen.'!$E282)","v":0},{"$f":"+SUMIFS('4A Calcul. BAU city'!AH:AH,'4A Calcul. BAU city'!$C:$C,$C282,'4A Calcul. BAU city'!$E:$E,'4B Calcul. Climat Scen.'!$E282)","v":0},{"$f":"+SUMIFS('4A Calcul. BAU city'!AI:AI,'4A Calcul. BAU city'!$C:$C,$C282,'4A Calcul. BAU city'!$E:$E,'4B Calcul. Climat Scen.'!$E282)","v":0},null,{"$f":"+SUMIFS('4A Calcul. BAU city'!AJ:AJ,'4A Calcul. BAU city'!$C:$C,$C282,'4A Calcul. BAU city'!$E:$E,'4B Calcul. Climat Scen.'!$E282)","v":0},{"$f":"+SUMIFS('4A Calcul. BAU city'!AK:AK,'4A Calcul. BAU city'!$C:$C,$C282,'4A Calcul. BAU city'!$E:$E,'4B Calcul. Climat Scen.'!$E282)","v":0},{"$f":"+SUMIFS('4A Calcul. BAU city'!AL:AL,'4A Calcul. BAU city'!$C:$C,$C282,'4A Calcul. BAU city'!$E:$E,'4B Calcul. Climat Scen.'!$E282)","v":0},{"$f":"+SUMIFS('4A Calcul. BAU city'!AM:AM,'4A Calcul. BAU city'!$C:$C,$C282,'4A Calcul. BAU city'!$E:$E,'4B Calcul. Climat Scen.'!$E282)","v":0},{"$f":"+SUMIFS('4A Calcul. BAU city'!AN:AN,'4A Calcul. BAU city'!$C:$C,$C282,'4A Calcul. BAU city'!$E:$E,'4B Calcul. Climat Scen.'!$E282)","v":0},{"$f":"+SUMIFS('4A Calcul. BAU city'!AO:AO,'4A Calcul. BAU city'!$C:$C,$C282,'4A Calcul. BAU city'!$E:$E,'4B Calcul. Climat Scen.'!$E282)","v":0}]
["1.A.3.c","BAU",{"$f":"Train","v":"Long distance train"},{"$f":"RailElec","v":"Rail - Electric"},{"$f":"Electric","v":"Electric"},{"$f":"+SUMIFS('4A Calcul. BAU city'!G:G,'4A Calcul. BAU city'!$C:$C,$C283,'4A Calcul. BAU city'!$E:$E,'4B Calcul. Climat Scen.'!$E283)","v":0},{"$f":"+SUMIFS('4A Calcul. BAU city'!H:H,'4A Calcul. BAU city'!$C:$C,$C283,'4A Calcul. BAU city'!$E:$E,'4B Calcul. Climat Scen.'!$E283)","v":0},{"$f":"+SUMIFS('4A Calcul. BAU city'!I:I,'4A Calcul. BAU city'!$C:$C,$C283,'4A Calcul. BAU city'!$E:$E,'4B Calcul. Climat Scen.'!$E283)","v":0},{"$f":"+SUMIFS('4A Calcul. BAU city'!J:J,'4A Calcul. BAU city'!$C:$C,$C283,'4A Calcul. BAU city'!$E:$E,'4B Calcul. Climat Scen.'!$E283)","v":0},{"$f":"+SUMIFS('4A Calcul. BAU city'!K:K,'4A Calcul. BAU city'!$C:$C,$C283,'4A Calcul. BAU city'!$E:$E,'4B Calcul. Climat Scen.'!$E283)","v":0},{"$f":"+SUMIFS('4A Calcul. BAU city'!L:L,'4A Calcul. BAU city'!$C:$C,$C283,'4A Calcul. BAU city'!$E:$E,'4B Calcul. Climat Scen.'!$E283)","v":0},null,null,null,null,null,null,null,null,null,null,null,null,null,null,null,{"$f":"+SUMIFS('4A Calcul. BAU city'!AD:AD,'4A Calcul. BAU city'!$C:$C,$C283,'4A Calcul. BAU city'!$E:$E,'4B Calcul. Climat Scen.'!$E283)","v":0},{"$f":"+SUMIFS('4A Calcul. BAU city'!AE:AE,'4A Calcul. BAU city'!$C:$C,$C283,'4A Calcul. BAU city'!$E:$E,'4B Calcul. Climat Scen.'!$E283)","v":0},{"$f":"+SUMIFS('4A Calcul. BAU city'!AF:AF,'4A Calcul. BAU city'!$C:$C,$C283,'4A Calcul. BAU city'!$E:$E,'4B Calcul. Climat Scen.'!$E283)","v":0},{"$f":"+SUMIFS('4A Calcul. BAU city'!AG:AG,'4A Calcul. BAU city'!$C:$C,$C283,'4A Calcul. BAU city'!$E:$E,'4B Calcul. Climat Scen.'!$E283)","v":0},{"$f":"+SUMIFS('4A Calcul. BAU city'!AH:AH,'4A Calcul. BAU city'!$C:$C,$C283,'4A Calcul. BAU city'!$E:$E,'4B Calcul. Climat Scen.'!$E283)","v":0},{"$f":"+SUMIFS('4A Calcul. BAU city'!AI:AI,'4A Calcul. BAU city'!$C:$C,$C283,'4A Calcul. BAU city'!$E:$E,'4B Calcul. Climat Scen.'!$E283)","v":0},null,{"$f":"+SUMIFS('4A Calcul. BAU city'!AJ:AJ,'4A Calcul. BAU city'!$C:$C,$C283,'4A Calcul. BAU city'!$E:$E,'4B Calcul. Climat Scen.'!$E283)","v":0},{"$f":"+SUMIFS('4A Calcul. BAU city'!AK:AK,'4A Calcul. BAU city'!$C:$C,$C283,'4A Calcul. BAU city'!$E:$E,'4B Calcul. Climat Scen.'!$E283)","v":0},{"$f":"+SUMIFS('4A Calcul. BAU city'!AL:AL,'4A Calcul. BAU city'!$C:$C,$C283,'4A Calcul. BAU city'!$E:$E,'4B Calcul. Climat Scen.'!$E283)","v":0},{"$f":"+SUMIFS('4A Calcul. BAU city'!AM:AM,'4A Calcul. BAU city'!$C:$C,$C283,'4A Calcul. BAU city'!$E:$E,'4B Calcul. Climat Scen.'!$E283)","v":0},{"$f":"+SUMIFS('4A Calcul. BAU city'!AN:AN,'4A Calcul. BAU city'!$C:$C,$C283,'4A Calcul. BAU city'!$E:$E,'4B Calcul. Climat Scen.'!$E283)","v":0},{"$f":"+SUMIFS('4A Calcul. BAU city'!AO:AO,'4A Calcul. BAU city'!$C:$C,$C283,'4A Calcul. BAU city'!$E:$E,'4B Calcul. Climat Scen.'!$E283)","v":0}]
["1.A.3.c","BAU",{"$f":"Utrain","v":"Urban train"},{"$f":"RailElec","v":"Rail - Electric"},{"$f":"Electric","v":"Electric"},{"$f":"+SUMIFS('4A Calcul. BAU city'!G:G,'4A Calcul. BAU city'!$C:$C,$C284,'4A Calcul. BAU city'!$E:$E,'4B Calcul. Climat Scen.'!$E284)","v":0},{"$f":"+SUMIFS('4A Calcul. BAU city'!H:H,'4A Calcul. BAU city'!$C:$C,$C284,'4A Calcul. BAU city'!$E:$E,'4B Calcul. Climat Scen.'!$E284)","v":0},{"$f":"+SUMIFS('4A Calcul. BAU city'!I:I,'4A Calcul. BAU city'!$C:$C,$C284,'4A Calcul. BAU city'!$E:$E,'4B Calcul. Climat Scen.'!$E284)","v":0},{"$f":"+SUMIFS('4A Calcul. BAU city'!J:J,'4A Calcul. BAU city'!$C:$C,$C284,'4A Calcul. BAU city'!$E:$E,'4B Calcul. Climat Scen.'!$E284)","v":0},{"$f":"+SUMIFS('4A Calcul. BAU city'!K:K,'4A Calcul. BAU city'!$C:$C,$C284,'4A Calcul. BAU city'!$E:$E,'4B Calcul. Climat Scen.'!$E284)","v":0},{"$f":"+SUMIFS('4A Calcul. BAU city'!L:L,'4A Calcul. BAU city'!$C:$C,$C284,'4A Calcul. BAU city'!$E:$E,'4B Calcul. Climat Scen.'!$E284)","v":0},null,null,null,null,null,null,null,null,null,null,null,null,null,null,null,{"$f":"+SUMIFS('4A Calcul. BAU city'!AD:AD,'4A Calcul. BAU city'!$C:$C,$C284,'4A Calcul. BAU city'!$E:$E,'4B Calcul. Climat Scen.'!$E284)","v":0},{"$f":"+SUMIFS('4A Calcul. BAU city'!AE:AE,'4A Calcul. BAU city'!$C:$C,$C284,'4A Calcul. BAU city'!$E:$E,'4B Calcul. Climat Scen.'!$E284)","v":0},{"$f":"+SUMIFS('4A Calcul. BAU city'!AF:AF,'4A Calcul. BAU city'!$C:$C,$C284,'4A Calcul. BAU city'!$E:$E,'4B Calcul. Climat Scen.'!$E284)","v":0},{"$f":"+SUMIFS('4A Calcul. BAU city'!AG:AG,'4A Calcul. BAU city'!$C:$C,$C284,'4A Calcul. BAU city'!$E:$E,'4B Calcul. Climat Scen.'!$E284)","v":0},{"$f":"+SUMIFS('4A Calcul. BAU city'!AH:AH,'4A Calcul. BAU city'!$C:$C,$C284,'4A Calcul. BAU city'!$E:$E,'4B Calcul. Climat Scen.'!$E284)","v":0},{"$f":"+SUMIFS('4A Calcul. BAU city'!AI:AI,'4A Calcul. BAU city'!$C:$C,$C284,'4A Calcul. BAU city'!$E:$E,'4B Calcul. Climat Scen.'!$E284)","v":0},null,{"$f":"+SUMIFS('4A Calcul. BAU city'!AJ:AJ,'4A Calcul. BAU city'!$C:$C,$C284,'4A Calcul. BAU city'!$E:$E,'4B Calcul. Climat Scen.'!$E284)","v":0},{"$f":"+SUMIFS('4A Calcul. BAU city'!AK:AK,'4A Calcul. BAU city'!$C:$C,$C284,'4A Calcul. BAU city'!$E:$E,'4B Calcul. Climat Scen.'!$E284)","v":0},{"$f":"+SUMIFS('4A Calcul. BAU city'!AL:AL,'4A Calcul. BAU city'!$C:$C,$C284,'4A Calcul. BAU city'!$E:$E,'4B Calcul. Climat Scen.'!$E284)","v":0},{"$f":"+SUMIFS('4A Calcul. BAU city'!AM:AM,'4A Calcul. BAU city'!$C:$C,$C284,'4A Calcul. BAU city'!$E:$E,'4B Calcul. Climat Scen.'!$E284)","v":0},{"$f":"+SUMIFS('4A Calcul. BAU city'!AN:AN,'4A Calcul. BAU city'!$C:$C,$C284,'4A Calcul. BAU city'!$E:$E,'4B Calcul. Climat Scen.'!$E284)","v":0},{"$f":"+SUMIFS('4A Calcul. BAU city'!AO:AO,'4A Calcul. BAU city'!$C:$C,$C284,'4A Calcul. BAU city'!$E:$E,'4B Calcul. Climat Scen.'!$E284)","v":0}]
["1.A.3.c",{"$f":"BAU","v":"BAU"},{"$f":"Metro","v":"Metro"},{"$f":"RailElec","v":"Rail - Electric"},{"$f":"Electric","v":"Electric"},{"$f":"+SUMIFS('4A Calcul. BAU city'!G:G,'4A Calcul. BAU city'!$C:$C,$C285,'4A Calcul. BAU city'!$E:$E,'4B Calcul. Climat Scen.'!$E285)","v":0},{"$f":"+SUMIFS('4A Calcul. BAU city'!H:H,'4A Calcul. BAU city'!$C:$C,$C285,'4A Calcul. BAU city'!$E:$E,'4B Calcul. Climat Scen.'!$E285)","v":0},{"$f":"+SUMIFS('4A Calcul. BAU city'!I:I,'4A Calcul. BAU city'!$C:$C,$C285,'4A Calcul. BAU city'!$E:$E,'4B Calcul. Climat Scen.'!$E285)","v":0},{"$f":"+SUMIFS('4A Calcul. BAU city'!J:J,'4A Calcul. BAU city'!$C:$C,$C285,'4A Calcul. BAU city'!$E:$E,'4B Calcul. Climat Scen.'!$E285)","v":0},{"$f":"+SUMIFS('4A Calcul. BAU city'!K:K,'4A Calcul. BAU city'!$C:$C,$C285,'4A Calcul. BAU city'!$E:$E,'4B Calcul. Climat Scen.'!$E285)","v":0},{"$f":"+SUMIFS('4A Calcul. BAU city'!L:L,'4A Calcul. BAU city'!$C:$C,$C285,'4A Calcul. BAU city'!$E:$E,'4B Calcul. Climat Scen.'!$E285)","v":0},null,null,null,null,null,null,null,null,null,null,null,null,null,null,null,{"$f":"+SUMIFS('4A Calcul. BAU city'!AD:AD,'4A Calcul. BAU city'!$C:$C,$C285,'4A Calcul. BAU city'!$E:$E,'4B Calcul. Climat Scen.'!$E285)","v":0},{"$f":"+SUMIFS('4A Calcul. BAU city'!AE:AE,'4A Calcul. BAU city'!$C:$C,$C285,'4A Calcul. BAU city'!$E:$E,'4B Calcul. Climat Scen.'!$E285)","v":0},{"$f":"+SUMIFS('4A Calcul. BAU city'!AF:AF,'4A Calcul. BAU city'!$C:$C,$C285,'4A Calcul. BAU city'!$E:$E,'4B Calcul. Climat Scen.'!$E285)","v":0},{"$f":"+SUMIFS('4A Calcul. BAU city'!AG:AG,'4A Calcul. BAU city'!$C:$C,$C285,'4A Calcul. BAU city'!$E:$E,'4B Calcul. Climat Scen.'!$E285)","v":0},{"$f":"+SUMIFS('4A Calcul. BAU city'!AH:AH,'4A Calcul. BAU city'!$C:$C,$C285,'4A Calcul. BAU city'!$E:$E,'4B Calcul. Climat Scen.'!$E285)","v":0},{"$f":"+SUMIFS('4A Calcul. BAU city'!AI:AI,'4A Calcul. BAU city'!$C:$C,$C285,'4A Calcul. BAU city'!$E:$E,'4B Calcul. Climat Scen.'!$E285)","v":0},null,{"$f":"+SUMIFS('4A Calcul. BAU city'!AJ:AJ,'4A Calcul. BAU city'!$C:$C,$C285,'4A Calcul. BAU city'!$E:$E,'4B Calcul. Climat Scen.'!$E285)","v":0},{"$f":"+SUMIFS('4A Calcul. BAU city'!AK:AK,'4A Calcul. BAU city'!$C:$C,$C285,'4A Calcul. BAU city'!$E:$E,'4B Calcul. Climat Scen.'!$E285)","v":0},{"$f":"+SUMIFS('4A Calcul. BAU city'!AL:AL,'4A Calcul. BAU city'!$C:$C,$C285,'4A Calcul. BAU city'!$E:$E,'4B Calcul. Climat Scen.'!$E285)","v":0},{"$f":"+SUMIFS('4A Calcul. BAU city'!AM:AM,'4A Calcul. BAU city'!$C:$C,$C285,'4A Calcul. BAU city'!$E:$E,'4B Calcul. Climat Scen.'!$E285)","v":0},{"$f":"+SUMIFS('4A Calcul. BAU city'!AN:AN,'4A Calcul. BAU city'!$C:$C,$C285,'4A Calcul. BAU city'!$E:$E,'4B Calcul. Climat Scen.'!$E285)","v":0},{"$f":"+SUMIFS('4A Calcul. BAU city'!AO:AO,'4A Calcul. BAU city'!$C:$C,$C285,'4A Calcul. BAU city'!$E:$E,'4B Calcul. Climat Scen.'!$E285)","v":0}]
["1.A.3.b.ii","BAU",{"$f":"lightLCV","v":"Very light LCV"},{"$f":"RoadG","v":"Road - Gasoline"},{"$f":"Gasoline","v":"Gasoline"},{"$f":"+SUMIFS('4A Calcul. BAU city'!G:G,'4A Calcul. BAU city'!$C:$C,$C286,'4A Calcul. BAU city'!$E:$E,'4B Calcul. Climat Scen.'!$E286)","v":0},{"$f":"+SUMIFS('4A Calcul. BAU city'!H:H,'4A Calcul. BAU city'!$C:$C,$C286,'4A Calcul. BAU city'!$E:$E,'4B Calcul. Climat Scen.'!$E286)","v":0},{"$f":"+SUMIFS('4A Calcul. BAU city'!I:I,'4A Calcul. BAU city'!$C:$C,$C286,'4A Calcul. BAU city'!$E:$E,'4B Calcul. Climat Scen.'!$E286)","v":0},{"$f":"+SUMIFS('4A Calcul. BAU city'!J:J,'4A Calcul. BAU city'!$C:$C,$C286,'4A Calcul. BAU city'!$E:$E,'4B Calcul. Climat Scen.'!$E286)","v":0},{"$f":"+SUMIFS('4A Calcul. BAU city'!K:K,'4A Calcul. BAU city'!$C:$C,$C286,'4A Calcul. BAU city'!$E:$E,'4B Calcul. Climat Scen.'!$E286)","v":0},{"$f":"+SUMIFS('4A Calcul. BAU city'!L:L,'4A Calcul. BAU city'!$C:$C,$C286,'4A Calcul. BAU city'!$E:$E,'4B Calcul. Climat Scen.'!$E286)","v":0},null,null,null,null,null,null,null,null,null,null,null,null,null,null,null,{"$f":"+SUMIFS('4A Calcul. BAU city'!AD:AD,'4A Calcul. BAU city'!$C:$C,$C286,'4A Calcul. BAU city'!$E:$E,'4B Calcul. Climat Scen.'!$E286)","v":0},{"$f":"+SUMIFS('4A Calcul. BAU city'!AE:AE,'4A Calcul. BAU city'!$C:$C,$C286,'4A Calcul. BAU city'!$E:$E,'4B Calcul. Climat Scen.'!$E286)","v":0},{"$f":"+SUMIFS('4A Calcul. BAU city'!AF:AF,'4A Calcul. BAU city'!$C:$C,$C286,'4A Calcul. BAU city'!$E:$E,'4B Calcul. Climat Scen.'!$E286)","v":0},{"$f":"+SUMIFS('4A Calcul. BAU city'!AG:AG,'4A Calcul. BAU city'!$C:$C,$C286,'4A Calcul. BAU city'!$E:$E,'4B Calcul. Climat Scen.'!$E286)","v":0},{"$f":"+SUMIFS('4A Calcul. BAU city'!AH:AH,'4A Calcul. BAU city'!$C:$C,$C286,'4A Calcul. BAU city'!$E:$E,'4B Calcul. Climat Scen.'!$E286)","v":0},{"$f":"+SUMIFS('4A Calcul. BAU city'!AI:AI,'4A Calcul. BAU city'!$C:$C,$C286,'4A Calcul. BAU city'!$E:$E,'4B Calcul. Climat Scen.'!$E286)","v":0},null,{"$f":"+SUMIFS('4A Calcul. BAU city'!AJ:AJ,'4A Calcul. BAU city'!$C:$C,$C286,'4A Calcul. BAU city'!$E:$E,'4B Calcul. Climat Scen.'!$E286)","v":0},{"$f":"+SUMIFS('4A Calcul. BAU city'!AK:AK,'4A Calcul. BAU city'!$C:$C,$C286,'4A Calcul. BAU city'!$E:$E,'4B Calcul. Climat Scen.'!$E286)","v":0},{"$f":"+SUMIFS('4A Calcul. BAU city'!AL:AL,'4A Calcul. BAU city'!$C:$C,$C286,'4A Calcul. BAU city'!$E:$E,'4B Calcul. Climat Scen.'!$E286)","v":0},{"$f":"+SUMIFS('4A Calcul. BAU city'!AM:AM,'4A Calcul. BAU city'!$C:$C,$C286,'4A Calcul. BAU city'!$E:$E,'4B Calcul. Climat Scen.'!$E286)","v":0},{"$f":"+SUMIFS('4A Calcul. BAU city'!AN:AN,'4A Calcul. BAU city'!$C:$C,$C286,'4A Calcul. BAU city'!$E:$E,'4B Calcul. Climat Scen.'!$E286)","v":0},{"$f":"+SUMIFS('4A Calcul. BAU city'!AO:AO,'4A Calcul. BAU city'!$C:$C,$C286,'4A Calcul. BAU city'!$E:$E,'4B Calcul. Climat Scen.'!$E286)","v":0}]
["1.A.3.b.ii","BAU",{"$f":"lightLCV","v":"Very light LCV"},{"$f":"RoadD","v":"Road - Diesel"},{"$f":"Diesel","v":"Diesel"},{"$f":"+SUMIFS('4A Calcul. BAU city'!G:G,'4A Calcul. BAU city'!$C:$C,$C287,'4A Calcul. BAU city'!$E:$E,'4B Calcul. Climat Scen.'!$E287)","v":0},{"$f":"+SUMIFS('4A Calcul. BAU city'!H:H,'4A Calcul. BAU city'!$C:$C,$C287,'4A Calcul. BAU city'!$E:$E,'4B Calcul. Climat Scen.'!$E287)","v":0},{"$f":"+SUMIFS('4A Calcul. BAU city'!I:I,'4A Calcul. BAU city'!$C:$C,$C287,'4A Calcul. BAU city'!$E:$E,'4B Calcul. Climat Scen.'!$E287)","v":0},{"$f":"+SUMIFS('4A Calcul. BAU city'!J:J,'4A Calcul. BAU city'!$C:$C,$C287,'4A Calcul. BAU city'!$E:$E,'4B Calcul. Climat Scen.'!$E287)","v":0},{"$f":"+SUMIFS('4A Calcul. BAU city'!K:K,'4A Calcul. BAU city'!$C:$C,$C287,'4A Calcul. BAU city'!$E:$E,'4B Calcul. Climat Scen.'!$E287)","v":0},{"$f":"+SUMIFS('4A Calcul. BAU city'!L:L,'4A Calcul. BAU city'!$C:$C,$C287,'4A Calcul. BAU city'!$E:$E,'4B Calcul. Climat Scen.'!$E287)","v":0},null,null,null,null,null,null,null,null,null,null,null,null,null,null,null,{"$f":"+SUMIFS('4A Calcul. BAU city'!AD:AD,'4A Calcul. BAU city'!$C:$C,$C287,'4A Calcul. BAU city'!$E:$E,'4B Calcul. Climat Scen.'!$E287)","v":0},{"$f":"+SUMIFS('4A Calcul. BAU city'!AE:AE,'4A Calcul. BAU city'!$C:$C,$C287,'4A Calcul. BAU city'!$E:$E,'4B Calcul. Climat Scen.'!$E287)","v":0},{"$f":"+SUMIFS('4A Calcul. BAU city'!AF:AF,'4A Calcul. BAU city'!$C:$C,$C287,'4A Calcul. BAU city'!$E:$E,'4B Calcul. Climat Scen.'!$E287)","v":0},{"$f":"+SUMIFS('4A Calcul. BAU city'!AG:AG,'4A Calcul. BAU city'!$C:$C,$C287,'4A Calcul. BAU city'!$E:$E,'4B Calcul. Climat Scen.'!$E287)","v":0},{"$f":"+SUMIFS('4A Calcul. BAU city'!AH:AH,'4A Calcul. BAU city'!$C:$C,$C287,'4A Calcul. BAU city'!$E:$E,'4B Calcul. Climat Scen.'!$E287)","v":0},{"$f":"+SUMIFS('4A Calcul. BAU city'!AI:AI,'4A Calcul. BAU city'!$C:$C,$C287,'4A Calcul. BAU city'!$E:$E,'4B Calcul. Climat Scen.'!$E287)","v":0},null,{"$f":"+SUMIFS('4A Calcul. BAU city'!AJ:AJ,'4A Calcul. BAU city'!$C:$C,$C287,'4A Calcul. BAU city'!$E:$E,'4B Calcul. Climat Scen.'!$E287)","v":0},{"$f":"+SUMIFS('4A Calcul. BAU city'!AK:AK,'4A Calcul. BAU city'!$C:$C,$C287,'4A Calcul. BAU city'!$E:$E,'4B Calcul. Climat Scen.'!$E287)","v":0},{"$f":"+SUMIFS('4A Calcul. BAU city'!AL:AL,'4A Calcul. BAU city'!$C:$C,$C287,'4A Calcul. BAU city'!$E:$E,'4B Calcul. Climat Scen.'!$E287)","v":0},{"$f":"+SUMIFS('4A Calcul. BAU city'!AM:AM,'4A Calcul. BAU city'!$C:$C,$C287,'4A Calcul. BAU city'!$E:$E,'4B Calcul. Climat Scen.'!$E287)","v":0},{"$f":"+SUMIFS('4A Calcul. BAU city'!AN:AN,'4A Calcul. BAU city'!$C:$C,$C287,'4A Calcul. BAU city'!$E:$E,'4B Calcul. Climat Scen.'!$E287)","v":0},{"$f":"+SUMIFS('4A Calcul. BAU city'!AO:AO,'4A Calcul. BAU city'!$C:$C,$C287,'4A Calcul. BAU city'!$E:$E,'4B Calcul. Climat Scen.'!$E287)","v":0}]
["1.A.3.b.ii","BAU",{"$f":"lightLCV","v":"Very light LCV"},{"$f":"Roadelec","v":"Road - Electric"},{"$f":"Electric","v":"Electric"},{"$f":"+SUMIFS('4A Calcul. BAU city'!G:G,'4A Calcul. BAU city'!$C:$C,$C288,'4A Calcul. BAU city'!$E:$E,'4B Calcul. Climat Scen.'!$E288)","v":0},{"$f":"+SUMIFS('4A Calcul. BAU city'!H:H,'4A Calcul. BAU city'!$C:$C,$C288,'4A Calcul. BAU city'!$E:$E,'4B Calcul. Climat Scen.'!$E288)","v":0},{"$f":"+SUMIFS('4A Calcul. BAU city'!I:I,'4A Calcul. BAU city'!$C:$C,$C288,'4A Calcul. BAU city'!$E:$E,'4B Calcul. Climat Scen.'!$E288)","v":0},{"$f":"+SUMIFS('4A Calcul. BAU city'!J:J,'4A Calcul. BAU city'!$C:$C,$C288,'4A Calcul. BAU city'!$E:$E,'4B Calcul. Climat Scen.'!$E288)","v":0},{"$f":"+SUMIFS('4A Calcul. BAU city'!K:K,'4A Calcul. BAU city'!$C:$C,$C288,'4A Calcul. BAU city'!$E:$E,'4B Calcul. Climat Scen.'!$E288)","v":0},{"$f":"+SUMIFS('4A Calcul. BAU city'!L:L,'4A Calcul. BAU city'!$C:$C,$C288,'4A Calcul. BAU city'!$E:$E,'4B Calcul. Climat Scen.'!$E288)","v":0},null,null,null,null,null,null,null,null,null,null,null,null,null,null,null,{"$f":"+SUMIFS('4A Calcul. BAU city'!AD:AD,'4A Calcul. BAU city'!$C:$C,$C288,'4A Calcul. BAU city'!$E:$E,'4B Calcul. Climat Scen.'!$E288)","v":0},{"$f":"+SUMIFS('4A Calcul. BAU city'!AE:AE,'4A Calcul. BAU city'!$C:$C,$C288,'4A Calcul. BAU city'!$E:$E,'4B Calcul. Climat Scen.'!$E288)","v":0},{"$f":"+SUMIFS('4A Calcul. BAU city'!AF:AF,'4A Calcul. BAU city'!$C:$C,$C288,'4A Calcul. BAU city'!$E:$E,'4B Calcul. Climat Scen.'!$E288)","v":0},{"$f":"+SUMIFS('4A Calcul. BAU city'!AG:AG,'4A Calcul. BAU city'!$C:$C,$C288,'4A Calcul. BAU city'!$E:$E,'4B Calcul. Climat Scen.'!$E288)","v":0},{"$f":"+SUMIFS('4A Calcul. BAU city'!AH:AH,'4A Calcul. BAU city'!$C:$C,$C288,'4A Calcul. BAU city'!$E:$E,'4B Calcul. Climat Scen.'!$E288)","v":0},{"$f":"+SUMIFS('4A Calcul. BAU city'!AI:AI,'4A Calcul. BAU city'!$C:$C,$C288,'4A Calcul. BAU city'!$E:$E,'4B Calcul. Climat Scen.'!$E288)","v":0},null,{"$f":"+SUMIFS('4A Calcul. BAU city'!AJ:AJ,'4A Calcul. BAU city'!$C:$C,$C288,'4A Calcul. BAU city'!$E:$E,'4B Calcul. Climat Scen.'!$E288)","v":0},{"$f":"+SUMIFS('4A Calcul. BAU city'!AK:AK,'4A Calcul. BAU city'!$C:$C,$C288,'4A Calcul. BAU city'!$E:$E,'4B Calcul. Climat Scen.'!$E288)","v":0},{"$f":"+SUMIFS('4A Calcul. BAU city'!AL:AL,'4A Calcul. BAU city'!$C:$C,$C288,'4A Calcul. BAU city'!$E:$E,'4B Calcul. Climat Scen.'!$E288)","v":0},{"$f":"+SUMIFS('4A Calcul. BAU city'!AM:AM,'4A Calcul. BAU city'!$C:$C,$C288,'4A Calcul. BAU city'!$E:$E,'4B Calcul. Climat Scen.'!$E288)","v":0},{"$f":"+SUMIFS('4A Calcul. BAU city'!AN:AN,'4A Calcul. BAU city'!$C:$C,$C288,'4A Calcul. BAU city'!$E:$E,'4B Calcul. Climat Scen.'!$E288)","v":0},{"$f":"+SUMIFS('4A Calcul. BAU city'!AO:AO,'4A Calcul. BAU city'!$C:$C,$C288,'4A Calcul. BAU city'!$E:$E,'4B Calcul. Climat Scen.'!$E288)","v":0}]
["1.A.3.b.ii","BAU",{"$f":"LCV","v":"LCV"},{"$f":"RoadG","v":"Road - Gasoline"},{"$f":"Gasoline","v":"Gasoline"},{"$f":"+SUMIFS('4A Calcul. BAU city'!G:G,'4A Calcul. BAU city'!$C:$C,$C289,'4A Calcul. BAU city'!$E:$E,'4B Calcul. Climat Scen.'!$E289)","v":0},{"$f":"+SUMIFS('4A Calcul. BAU city'!H:H,'4A Calcul. BAU city'!$C:$C,$C289,'4A Calcul. BAU city'!$E:$E,'4B Calcul. Climat Scen.'!$E289)","v":0},{"$f":"+SUMIFS('4A Calcul. BAU city'!I:I,'4A Calcul. BAU city'!$C:$C,$C289,'4A Calcul. BAU city'!$E:$E,'4B Calcul. Climat Scen.'!$E289)","v":0},{"$f":"+SUMIFS('4A Calcul. BAU city'!J:J,'4A Calcul. BAU city'!$C:$C,$C289,'4A Calcul. BAU city'!$E:$E,'4B Calcul. Climat Scen.'!$E289)","v":0},{"$f":"+SUMIFS('4A Calcul. BAU city'!K:K,'4A Calcul. BAU city'!$C:$C,$C289,'4A Calcul. BAU city'!$E:$E,'4B Calcul. Climat Scen.'!$E289)","v":0},{"$f":"+SUMIFS('4A Calcul. BAU city'!L:L,'4A Calcul. BAU city'!$C:$C,$C289,'4A Calcul. BAU city'!$E:$E,'4B Calcul. Climat Scen.'!$E289)","v":0},null,null,null,null,null,null,null,null,null,null,null,null,null,null,null,{"$f":"+SUMIFS('4A Calcul. BAU city'!AD:AD,'4A Calcul. BAU city'!$C:$C,$C289,'4A Calcul. BAU city'!$E:$E,'4B Calcul. Climat Scen.'!$E289)","v":0},{"$f":"+SUMIFS('4A Calcul. BAU city'!AE:AE,'4A Calcul. BAU city'!$C:$C,$C289,'4A Calcul. BAU city'!$E:$E,'4B Calcul. Climat Scen.'!$E289)","v":0},{"$f":"+SUMIFS('4A Calcul. BAU city'!AF:AF,'4A Calcul. BAU city'!$C:$C,$C289,'4A Calcul. BAU city'!$E:$E,'4B Calcul. Climat Scen.'!$E289)","v":0},{"$f":"+SUMIFS('4A Calcul. BAU city'!AG:AG,'4A Calcul. BAU city'!$C:$C,$C289,'4A Calcul. BAU city'!$E:$E,'4B Calcul. Climat Scen.'!$E289)","v":0},{"$f":"+SUMIFS('4A Calcul. BAU city'!AH:AH,'4A Calcul. BAU city'!$C:$C,$C289,'4A Calcul. BAU city'!$E:$E,'4B Calcul. Climat Scen.'!$E289)","v":0},{"$f":"+SUMIFS('4A Calcul. BAU city'!AI:AI,'4A Calcul. BAU city'!$C:$C,$C289,'4A Calcul. BAU city'!$E:$E,'4B Calcul. Climat Scen.'!$E289)","v":0},null,{"$f":"+SUMIFS('4A Calcul. BAU city'!AJ:AJ,'4A Calcul. BAU city'!$C:$C,$C289,'4A Calcul. BAU city'!$E:$E,'4B Calcul. Climat Scen.'!$E289)","v":0},{"$f":"+SUMIFS('4A Calcul. BAU city'!AK:AK,'4A Calcul. BAU city'!$C:$C,$C289,'4A Calcul. BAU city'!$E:$E,'4B Calcul. Climat Scen.'!$E289)","v":0},{"$f":"+SUMIFS('4A Calcul. BAU city'!AL:AL,'4A Calcul. BAU city'!$C:$C,$C289,'4A Calcul. BAU city'!$E:$E,'4B Calcul. Climat Scen.'!$E289)","v":0},{"$f":"+SUMIFS('4A Calcul. BAU city'!AM:AM,'4A Calcul. BAU city'!$C:$C,$C289,'4A Calcul. BAU city'!$E:$E,'4B Calcul. Climat Scen.'!$E289)","v":0},{"$f":"+SUMIFS('4A Calcul. BAU city'!AN:AN,'4A Calcul. BAU city'!$C:$C,$C289,'4A Calcul. BAU city'!$E:$E,'4B Calcul. Climat Scen.'!$E289)","v":0},{"$f":"+SUMIFS('4A Calcul. BAU city'!AO:AO,'4A Calcul. BAU city'!$C:$C,$C289,'4A Calcul. BAU city'!$E:$E,'4B Calcul. Climat Scen.'!$E289)","v":0}]
["1.A.3.b.ii","BAU",{"$f":"LCV","v":"LCV"},{"$f":"RoadD","v":"Road - Diesel"},{"$f":"Diesel","v":"Diesel"},{"$f":"+SUMIFS('4A Calcul. BAU city'!G:G,'4A Calcul. BAU city'!$C:$C,$C290,'4A Calcul. BAU city'!$E:$E,'4B Calcul. Climat Scen.'!$E290)","v":0},{"$f":"+SUMIFS('4A Calcul. BAU city'!H:H,'4A Calcul. BAU city'!$C:$C,$C290,'4A Calcul. BAU city'!$E:$E,'4B Calcul. Climat Scen.'!$E290)","v":0},{"$f":"+SUMIFS('4A Calcul. BAU city'!I:I,'4A Calcul. BAU city'!$C:$C,$C290,'4A Calcul. BAU city'!$E:$E,'4B Calcul. Climat Scen.'!$E290)","v":0},{"$f":"+SUMIFS('4A Calcul. BAU city'!J:J,'4A Calcul. BAU city'!$C:$C,$C290,'4A Calcul. BAU city'!$E:$E,'4B Calcul. Climat Scen.'!$E290)","v":0},{"$f":"+SUMIFS('4A Calcul. BAU city'!K:K,'4A Calcul. BAU city'!$C:$C,$C290,'4A Calcul. BAU city'!$E:$E,'4B Calcul. Climat Scen.'!$E290)","v":0},{"$f":"+SUMIFS('4A Calcul. BAU city'!L:L,'4A Calcul. BAU city'!$C:$C,$C290,'4A Calcul. BAU city'!$E:$E,'4B Calcul. Climat Scen.'!$E290)","v":0},null,null,null,null,null,null,null,null,null,null,null,null,null,null,null,{"$f":"+SUMIFS('4A Calcul. BAU city'!AD:AD,'4A Calcul. BAU city'!$C:$C,$C290,'4A Calcul. BAU city'!$E:$E,'4B Calcul. Climat Scen.'!$E290)","v":0},{"$f":"+SUMIFS('4A Calcul. BAU city'!AE:AE,'4A Calcul. BAU city'!$C:$C,$C290,'4A Calcul. BAU city'!$E:$E,'4B Calcul. Climat Scen.'!$E290)","v":0},{"$f":"+SUMIFS('4A Calcul. BAU city'!AF:AF,'4A Calcul. BAU city'!$C:$C,$C290,'4A Calcul. BAU city'!$E:$E,'4B Calcul. Climat Scen.'!$E290)","v":0},{"$f":"+SUMIFS('4A Calcul. BAU city'!AG:AG,'4A Calcul. BAU city'!$C:$C,$C290,'4A Calcul. BAU city'!$E:$E,'4B Calcul. Climat Scen.'!$E290)","v":0},{"$f":"+SUMIFS('4A Calcul. BAU city'!AH:AH,'4A Calcul. BAU city'!$C:$C,$C290,'4A Calcul. BAU city'!$E:$E,'4B Calcul. Climat Scen.'!$E290)","v":0},{"$f":"+SUMIFS('4A Calcul. BAU city'!AI:AI,'4A Calcul. BAU city'!$C:$C,$C290,'4A Calcul. BAU city'!$E:$E,'4B Calcul. Climat Scen.'!$E290)","v":0},null,{"$f":"+SUMIFS('4A Calcul. BAU city'!AJ:AJ,'4A Calcul. BAU city'!$C:$C,$C290,'4A Calcul. BAU city'!$E:$E,'4B Calcul. Climat Scen.'!$E290)","v":0},{"$f":"+SUMIFS('4A Calcul. BAU city'!AK:AK,'4A Calcul. BAU city'!$C:$C,$C290,'4A Calcul. BAU city'!$E:$E,'4B Calcul. Climat Scen.'!$E290)","v":0},{"$f":"+SUMIFS('4A Calcul. BAU city'!AL:AL,'4A Calcul. BAU city'!$C:$C,$C290,'4A Calcul. BAU city'!$E:$E,'4B Calcul. Climat Scen.'!$E290)","v":0},{"$f":"+SUMIFS('4A Calcul. BAU city'!AM:AM,'4A Calcul. BAU city'!$C:$C,$C290,'4A Calcul. BAU city'!$E:$E,'4B Calcul. Climat Scen.'!$E290)","v":0},{"$f":"+SUMIFS('4A Calcul. BAU city'!AN:AN,'4A Calcul. BAU city'!$C:$C,$C290,'4A Calcul. BAU city'!$E:$E,'4B Calcul. Climat Scen.'!$E290)","v":0},{"$f":"+SUMIFS('4A Calcul. BAU city'!AO:AO,'4A Calcul. BAU city'!$C:$C,$C290,'4A Calcul. BAU city'!$E:$E,'4B Calcul. Climat Scen.'!$E290)","v":0}]
["1.A.3.b.ii","BAU",{"$f":"LCV","v":"LCV"},{"$f":"RoadLPG","v":"Road - LPG"},{"$f":"LPG","v":"LPG"},{"$f":"+SUMIFS('4A Calcul. BAU city'!G:G,'4A Calcul. BAU city'!$C:$C,$C291,'4A Calcul. BAU city'!$E:$E,'4B Calcul. Climat Scen.'!$E291)","v":0},{"$f":"+SUMIFS('4A Calcul. BAU city'!H:H,'4A Calcul. BAU city'!$C:$C,$C291,'4A Calcul. BAU city'!$E:$E,'4B Calcul. Climat Scen.'!$E291)","v":0},{"$f":"+SUMIFS('4A Calcul. BAU city'!I:I,'4A Calcul. BAU city'!$C:$C,$C291,'4A Calcul. BAU city'!$E:$E,'4B Calcul. Climat Scen.'!$E291)","v":0},{"$f":"+SUMIFS('4A Calcul. BAU city'!J:J,'4A Calcul. BAU city'!$C:$C,$C291,'4A Calcul. BAU city'!$E:$E,'4B Calcul. Climat Scen.'!$E291)","v":0},{"$f":"+SUMIFS('4A Calcul. BAU city'!K:K,'4A Calcul. BAU city'!$C:$C,$C291,'4A Calcul. BAU city'!$E:$E,'4B Calcul. Climat Scen.'!$E291)","v":0},{"$f":"+SUMIFS('4A Calcul. BAU city'!L:L,'4A Calcul. BAU city'!$C:$C,$C291,'4A Calcul. BAU city'!$E:$E,'4B Calcul. Climat Scen.'!$E291)","v":0},null,null,null,null,null,null,null,null,null,null,null,null,null,null,null,{"$f":"+SUMIFS('4A Calcul. BAU city'!AD:AD,'4A Calcul. BAU city'!$C:$C,$C291,'4A Calcul. BAU city'!$E:$E,'4B Calcul. Climat Scen.'!$E291)","v":0},{"$f":"+SUMIFS('4A Calcul. BAU city'!AE:AE,'4A Calcul. BAU city'!$C:$C,$C291,'4A Calcul. BAU city'!$E:$E,'4B Calcul. Climat Scen.'!$E291)","v":0},{"$f":"+SUMIFS('4A Calcul. BAU city'!AF:AF,'4A Calcul. BAU city'!$C:$C,$C291,'4A Calcul. BAU city'!$E:$E,'4B Calcul. Climat Scen.'!$E291)","v":0},{"$f":"+SUMIFS('4A Calcul. BAU city'!AG:AG,'4A Calcul. BAU city'!$C:$C,$C291,'4A Calcul. BAU city'!$E:$E,'4B Calcul. Climat Scen.'!$E291)","v":0},{"$f":"+SUMIFS('4A Calcul. BAU city'!AH:AH,'4A Calcul. BAU city'!$C:$C,$C291,'4A Calcul. BAU city'!$E:$E,'4B Calcul. Climat Scen.'!$E291)","v":0},{"$f":"+SUMIFS('4A Calcul. BAU city'!AI:AI,'4A Calcul. BAU city'!$C:$C,$C291,'4A Calcul. BAU city'!$E:$E,'4B Calcul. Climat Scen.'!$E291)","v":0},null,{"$f":"+SUMIFS('4A Calcul. BAU city'!AJ:AJ,'4A Calcul. BAU city'!$C:$C,$C291,'4A Calcul. BAU city'!$E:$E,'4B Calcul. Climat Scen.'!$E291)","v":0},{"$f":"+SUMIFS('4A Calcul. BAU city'!AK:AK,'4A Calcul. BAU city'!$C:$C,$C291,'4A Calcul. BAU city'!$E:$E,'4B Calcul. Climat Scen.'!$E291)","v":0},{"$f":"+SUMIFS('4A Calcul. BAU city'!AL:AL,'4A Calcul. BAU city'!$C:$C,$C291,'4A Calcul. BAU city'!$E:$E,'4B Calcul. Climat Scen.'!$E291)","v":0},{"$f":"+SUMIFS('4A Calcul. BAU city'!AM:AM,'4A Calcul. BAU city'!$C:$C,$C291,'4A Calcul. BAU city'!$E:$E,'4B Calcul. Climat Scen.'!$E291)","v":0},{"$f":"+SUMIFS('4A Calcul. BAU city'!AN:AN,'4A Calcul. BAU city'!$C:$C,$C291,'4A Calcul. BAU city'!$E:$E,'4B Calcul. Climat Scen.'!$E291)","v":0},{"$f":"+SUMIFS('4A Calcul. BAU city'!AO:AO,'4A Calcul. BAU city'!$C:$C,$C291,'4A Calcul. BAU city'!$E:$E,'4B Calcul. Climat Scen.'!$E291)","v":0}]
["1.A.3.b.ii","BAU",{"$f":"LCV","v":"LCV"},{"$f":"RoadNG","v":"Road - NG"},{"$f":"NG","v":"NG"},{"$f":"+SUMIFS('4A Calcul. BAU city'!G:G,'4A Calcul. BAU city'!$C:$C,$C292,'4A Calcul. BAU city'!$E:$E,'4B Calcul. Climat Scen.'!$E292)","v":0},{"$f":"+SUMIFS('4A Calcul. BAU city'!H:H,'4A Calcul. BAU city'!$C:$C,$C292,'4A Calcul. BAU city'!$E:$E,'4B Calcul. Climat Scen.'!$E292)","v":0},{"$f":"+SUMIFS('4A Calcul. BAU city'!I:I,'4A Calcul. BAU city'!$C:$C,$C292,'4A Calcul. BAU city'!$E:$E,'4B Calcul. Climat Scen.'!$E292)","v":0},{"$f":"+SUMIFS('4A Calcul. BAU city'!J:J,'4A Calcul. BAU city'!$C:$C,$C292,'4A Calcul. BAU city'!$E:$E,'4B Calcul. Climat Scen.'!$E292)","v":0},{"$f":"+SUMIFS('4A Calcul. BAU city'!K:K,'4A Calcul. BAU city'!$C:$C,$C292,'4A Calcul. BAU city'!$E:$E,'4B Calcul. Climat Scen.'!$E292)","v":0},{"$f":"+SUMIFS('4A Calcul. BAU city'!L:L,'4A Calcul. BAU city'!$C:$C,$C292,'4A Calcul. BAU city'!$E:$E,'4B Calcul. Climat Scen.'!$E292)","v":0},null,null,null,null,null,null,null,null,null,null,null,null,null,null,null,{"$f":"+SUMIFS('4A Calcul. BAU city'!AD:AD,'4A Calcul. BAU city'!$C:$C,$C292,'4A Calcul. BAU city'!$E:$E,'4B Calcul. Climat Scen.'!$E292)","v":0},{"$f":"+SUMIFS('4A Calcul. BAU city'!AE:AE,'4A Calcul. BAU city'!$C:$C,$C292,'4A Calcul. BAU city'!$E:$E,'4B Calcul. Climat Scen.'!$E292)","v":0},{"$f":"+SUMIFS('4A Calcul. BAU city'!AF:AF,'4A Calcul. BAU city'!$C:$C,$C292,'4A Calcul. BAU city'!$E:$E,'4B Calcul. Climat Scen.'!$E292)","v":0},{"$f":"+SUMIFS('4A Calcul. BAU city'!AG:AG,'4A Calcul. BAU city'!$C:$C,$C292,'4A Calcul. BAU city'!$E:$E,'4B Calcul. Climat Scen.'!$E292)","v":0},{"$f":"+SUMIFS('4A Calcul. BAU city'!AH:AH,'4A Calcul. BAU city'!$C:$C,$C292,'4A Calcul. BAU city'!$E:$E,'4B Calcul. Climat Scen.'!$E292)","v":0},{"$f":"+SUMIFS('4A Calcul. BAU city'!AI:AI,'4A Calcul. BAU city'!$C:$C,$C292,'4A Calcul. BAU city'!$E:$E,'4B Calcul. Climat Scen.'!$E292)","v":0},null,{"$f":"+SUMIFS('4A Calcul. BAU city'!AJ:AJ,'4A Calcul. BAU city'!$C:$C,$C292,'4A Calcul. BAU city'!$E:$E,'4B Calcul. Climat Scen.'!$E292)","v":0},{"$f":"+SUMIFS('4A Calcul. BAU city'!AK:AK,'4A Calcul. BAU city'!$C:$C,$C292,'4A Calcul. BAU city'!$E:$E,'4B Calcul. Climat Scen.'!$E292)","v":0},{"$f":"+SUMIFS('4A Calcul. BAU city'!AL:AL,'4A Calcul. BAU city'!$C:$C,$C292,'4A Calcul. BAU city'!$E:$E,'4B Calcul. Climat Scen.'!$E292)","v":0},{"$f":"+SUMIFS('4A Calcul. BAU city'!AM:AM,'4A Calcul. BAU city'!$C:$C,$C292,'4A Calcul. BAU city'!$E:$E,'4B Calcul. Climat Scen.'!$E292)","v":0},{"$f":"+SUMIFS('4A Calcul. BAU city'!AN:AN,'4A Calcul. BAU city'!$C:$C,$C292,'4A Calcul. BAU city'!$E:$E,'4B Calcul. Climat Scen.'!$E292)","v":0},{"$f":"+SUMIFS('4A Calcul. BAU city'!AO:AO,'4A Calcul. BAU city'!$C:$C,$C292,'4A Calcul. BAU city'!$E:$E,'4B Calcul. Climat Scen.'!$E292)","v":0}]
["1.A.3.b.ii","BAU",{"$f":"LCV","v":"LCV"},{"$f":"Roadelec","v":"Road - Electric"},{"$f":"Electric","v":"Electric"},{"$f":"+SUMIFS('4A Calcul. BAU city'!G:G,'4A Calcul. BAU city'!$C:$C,$C293,'4A Calcul. BAU city'!$E:$E,'4B Calcul. Climat Scen.'!$E293)","v":0},{"$f":"+SUMIFS('4A Calcul. BAU city'!H:H,'4A Calcul. BAU city'!$C:$C,$C293,'4A Calcul. BAU city'!$E:$E,'4B Calcul. Climat Scen.'!$E293)","v":0},{"$f":"+SUMIFS('4A Calcul. BAU city'!I:I,'4A Calcul. BAU city'!$C:$C,$C293,'4A Calcul. BAU city'!$E:$E,'4B Calcul. Climat Scen.'!$E293)","v":0},{"$f":"+SUMIFS('4A Calcul. BAU city'!J:J,'4A Calcul. BAU city'!$C:$C,$C293,'4A Calcul. BAU city'!$E:$E,'4B Calcul. Climat Scen.'!$E293)","v":0},{"$f":"+SUMIFS('4A Calcul. BAU city'!K:K,'4A Calcul. BAU city'!$C:$C,$C293,'4A Calcul. BAU city'!$E:$E,'4B Calcul. Climat Scen.'!$E293)","v":0},{"$f":"+SUMIFS('4A Calcul. BAU city'!L:L,'4A Calcul. BAU city'!$C:$C,$C293,'4A Calcul. BAU city'!$E:$E,'4B Calcul. Climat Scen.'!$E293)","v":0},null,null,null,null,null,null,null,null,null,null,null,null,null,null,null,{"$f":"+SUMIFS('4A Calcul. BAU city'!AD:AD,'4A Calcul. BAU city'!$C:$C,$C293,'4A Calcul. BAU city'!$E:$E,'4B Calcul. Climat Scen.'!$E293)","v":0},{"$f":"+SUMIFS('4A Calcul. BAU city'!AE:AE,'4A Calcul. BAU city'!$C:$C,$C293,'4A Calcul. BAU city'!$E:$E,'4B Calcul. Climat Scen.'!$E293)","v":0},{"$f":"+SUMIFS('4A Calcul. BAU city'!AF:AF,'4A Calcul. BAU city'!$C:$C,$C293,'4A Calcul. BAU city'!$E:$E,'4B Calcul. Climat Scen.'!$E293)","v":0},{"$f":"+SUMIFS('4A Calcul. BAU city'!AG:AG,'4A Calcul. BAU city'!$C:$C,$C293,'4A Calcul. BAU city'!$E:$E,'4B Calcul. Climat Scen.'!$E293)","v":0},{"$f":"+SUMIFS('4A Calcul. BAU city'!AH:AH,'4A Calcul. BAU city'!$C:$C,$C293,'4A Calcul. BAU city'!$E:$E,'4B Calcul. Climat Scen.'!$E293)","v":0},{"$f":"+SUMIFS('4A Calcul. BAU city'!AI:AI,'4A Calcul. BAU city'!$C:$C,$C293,'4A Calcul. BAU city'!$E:$E,'4B Calcul. Climat Scen.'!$E293)","v":0},null,{"$f":"+SUMIFS('4A Calcul. BAU city'!AJ:AJ,'4A Calcul. BAU city'!$C:$C,$C293,'4A Calcul. BAU city'!$E:$E,'4B Calcul. Climat Scen.'!$E293)","v":0},{"$f":"+SUMIFS('4A Calcul. BAU city'!AK:AK,'4A Calcul. BAU city'!$C:$C,$C293,'4A Calcul. BAU city'!$E:$E,'4B Calcul. Climat Scen.'!$E293)","v":0},{"$f":"+SUMIFS('4A Calcul. BAU city'!AL:AL,'4A Calcul. BAU city'!$C:$C,$C293,'4A Calcul. BAU city'!$E:$E,'4B Calcul. Climat Scen.'!$E293)","v":0},{"$f":"+SUMIFS('4A Calcul. BAU city'!AM:AM,'4A Calcul. BAU city'!$C:$C,$C293,'4A Calcul. BAU city'!$E:$E,'4B Calcul. Climat Scen.'!$E293)","v":0},{"$f":"+SUMIFS('4A Calcul. BAU city'!AN:AN,'4A Calcul. BAU city'!$C:$C,$C293,'4A Calcul. BAU city'!$E:$E,'4B Calcul. Climat Scen.'!$E293)","v":0},{"$f":"+SUMIFS('4A Calcul. BAU city'!AO:AO,'4A Calcul. BAU city'!$C:$C,$C293,'4A Calcul. BAU city'!$E:$E,'4B Calcul. Climat Scen.'!$E293)","v":0}]
["1.A.3.b.iii","BAU",{"$f":"Solo","v":"Solo truck"},{"$f":"RoadD","v":"Road - Diesel"},{"$f":"Diesel","v":"Diesel"},{"$f":"+SUMIFS('4A Calcul. BAU city'!G:G,'4A Calcul. BAU city'!$C:$C,$C294,'4A Calcul. BAU city'!$E:$E,'4B Calcul. Climat Scen.'!$E294)","v":0},{"$f":"+SUMIFS('4A Calcul. BAU city'!H:H,'4A Calcul. BAU city'!$C:$C,$C294,'4A Calcul. BAU city'!$E:$E,'4B Calcul. Climat Scen.'!$E294)","v":0},{"$f":"+SUMIFS('4A Calcul. BAU city'!I:I,'4A Calcul. BAU city'!$C:$C,$C294,'4A Calcul. BAU city'!$E:$E,'4B Calcul. Climat Scen.'!$E294)","v":0},{"$f":"+SUMIFS('4A Calcul. BAU city'!J:J,'4A Calcul. BAU city'!$C:$C,$C294,'4A Calcul. BAU city'!$E:$E,'4B Calcul. Climat Scen.'!$E294)","v":0},{"$f":"+SUMIFS('4A Calcul. BAU city'!K:K,'4A Calcul. BAU city'!$C:$C,$C294,'4A Calcul. BAU city'!$E:$E,'4B Calcul. Climat Scen.'!$E294)","v":0},{"$f":"+SUMIFS('4A Calcul. BAU city'!L:L,'4A Calcul. BAU city'!$C:$C,$C294,'4A Calcul. BAU city'!$E:$E,'4B Calcul. Climat Scen.'!$E294)","v":0},null,null,null,null,null,null,null,null,null,null,null,null,null,null,null,{"$f":"+SUMIFS('4A Calcul. BAU city'!AD:AD,'4A Calcul. BAU city'!$C:$C,$C294,'4A Calcul. BAU city'!$E:$E,'4B Calcul. Climat Scen.'!$E294)","v":0},{"$f":"+SUMIFS('4A Calcul. BAU city'!AE:AE,'4A Calcul. BAU city'!$C:$C,$C294,'4A Calcul. BAU city'!$E:$E,'4B Calcul. Climat Scen.'!$E294)","v":0},{"$f":"+SUMIFS('4A Calcul. BAU city'!AF:AF,'4A Calcul. BAU city'!$C:$C,$C294,'4A Calcul. BAU city'!$E:$E,'4B Calcul. Climat Scen.'!$E294)","v":0},{"$f":"+SUMIFS('4A Calcul. BAU city'!AG:AG,'4A Calcul. BAU city'!$C:$C,$C294,'4A Calcul. BAU city'!$E:$E,'4B Calcul. Climat Scen.'!$E294)","v":0},{"$f":"+SUMIFS('4A Calcul. BAU city'!AH:AH,'4A Calcul. BAU city'!$C:$C,$C294,'4A Calcul. BAU city'!$E:$E,'4B Calcul. Climat Scen.'!$E294)","v":0},{"$f":"+SUMIFS('4A Calcul. BAU city'!AI:AI,'4A Calcul. BAU city'!$C:$C,$C294,'4A Calcul. BAU city'!$E:$E,'4B Calcul. Climat Scen.'!$E294)","v":0},null,{"$f":"+SUMIFS('4A Calcul. BAU city'!AJ:AJ,'4A Calcul. BAU city'!$C:$C,$C294,'4A Calcul. BAU city'!$E:$E,'4B Calcul. Climat Scen.'!$E294)","v":0},{"$f":"+SUMIFS('4A Calcul. BAU city'!AK:AK,'4A Calcul. BAU city'!$C:$C,$C294,'4A Calcul. BAU city'!$E:$E,'4B Calcul. Climat Scen.'!$E294)","v":0},{"$f":"+SUMIFS('4A Calcul. BAU city'!AL:AL,'4A Calcul. BAU city'!$C:$C,$C294,'4A Calcul. BAU city'!$E:$E,'4B Calcul. Climat Scen.'!$E294)","v":0},{"$f":"+SUMIFS('4A Calcul. BAU city'!AM:AM,'4A Calcul. BAU city'!$C:$C,$C294,'4A Calcul. BAU city'!$E:$E,'4B Calcul. Climat Scen.'!$E294)","v":0},{"$f":"+SUMIFS('4A Calcul. BAU city'!AN:AN,'4A Calcul. BAU city'!$C:$C,$C294,'4A Calcul. BAU city'!$E:$E,'4B Calcul. Climat Scen.'!$E294)","v":0},{"$f":"+SUMIFS('4A Calcul. BAU city'!AO:AO,'4A Calcul. BAU city'!$C:$C,$C294,'4A Calcul. BAU city'!$E:$E,'4B Calcul. Climat Scen.'!$E294)","v":0}]
["1.A.3.b.iii","BAU",{"$f":"Solo","v":"Solo truck"},{"$f":"RoadNG","v":"Road - NG"},{"$f":"NG","v":"NG"},{"$f":"+SUMIFS('4A Calcul. BAU city'!G:G,'4A Calcul. BAU city'!$C:$C,$C295,'4A Calcul. BAU city'!$E:$E,'4B Calcul. Climat Scen.'!$E295)","v":0},{"$f":"+SUMIFS('4A Calcul. BAU city'!H:H,'4A Calcul. BAU city'!$C:$C,$C295,'4A Calcul. BAU city'!$E:$E,'4B Calcul. Climat Scen.'!$E295)","v":0},{"$f":"+SUMIFS('4A Calcul. BAU city'!I:I,'4A Calcul. BAU city'!$C:$C,$C295,'4A Calcul. BAU city'!$E:$E,'4B Calcul. Climat Scen.'!$E295)","v":0},{"$f":"+SUMIFS('4A Calcul. BAU city'!J:J,'4A Calcul. BAU city'!$C:$C,$C295,'4A Calcul. BAU city'!$E:$E,'4B Calcul. Climat Scen.'!$E295)","v":0},{"$f":"+SUMIFS('4A Calcul. BAU city'!K:K,'4A Calcul. BAU city'!$C:$C,$C295,'4A Calcul. BAU city'!$E:$E,'4B Calcul. Climat Scen.'!$E295)","v":0},{"$f":"+SUMIFS('4A Calcul. BAU city'!L:L,'4A Calcul. BAU city'!$C:$C,$C295,'4A Calcul. BAU city'!$E:$E,'4B Calcul. Climat Scen.'!$E295)","v":0},null,null,null,null,null,null,null,null,null,null,null,null,null,null,null,{"$f":"+SUMIFS('4A Calcul. BAU city'!AD:AD,'4A Calcul. BAU city'!$C:$C,$C295,'4A Calcul. BAU city'!$E:$E,'4B Calcul. Climat Scen.'!$E295)","v":0},{"$f":"+SUMIFS('4A Calcul. BAU city'!AE:AE,'4A Calcul. BAU city'!$C:$C,$C295,'4A Calcul. BAU city'!$E:$E,'4B Calcul. Climat Scen.'!$E295)","v":0},{"$f":"+SUMIFS('4A Calcul. BAU city'!AF:AF,'4A Calcul. BAU city'!$C:$C,$C295,'4A Calcul. BAU city'!$E:$E,'4B Calcul. Climat Scen.'!$E295)","v":0},{"$f":"+SUMIFS('4A Calcul. BAU city'!AG:AG,'4A Calcul. BAU city'!$C:$C,$C295,'4A Calcul. BAU city'!$E:$E,'4B Calcul. Climat Scen.'!$E295)","v":0},{"$f":"+SUMIFS('4A Calcul. BAU city'!AH:AH,'4A Calcul. BAU city'!$C:$C,$C295,'4A Calcul. BAU city'!$E:$E,'4B Calcul. Climat Scen.'!$E295)","v":0},{"$f":"+SUMIFS('4A Calcul. BAU city'!AI:AI,'4A Calcul. BAU city'!$C:$C,$C295,'4A Calcul. BAU city'!$E:$E,'4B Calcul. Climat Scen.'!$E295)","v":0},null,{"$f":"+SUMIFS('4A Calcul. BAU city'!AJ:AJ,'4A Calcul. BAU city'!$C:$C,$C295,'4A Calcul. BAU city'!$E:$E,'4B Calcul. Climat Scen.'!$E295)","v":0},{"$f":"+SUMIFS('4A Calcul. BAU city'!AK:AK,'4A Calcul. BAU city'!$C:$C,$C295,'4A Calcul. BAU city'!$E:$E,'4B Calcul. Climat Scen.'!$E295)","v":0},{"$f":"+SUMIFS('4A Calcul. BAU city'!AL:AL,'4A Calcul. BAU city'!$C:$C,$C295,'4A Calcul. BAU city'!$E:$E,'4B Calcul. Climat Scen.'!$E295)","v":0},{"$f":"+SUMIFS('4A Calcul. BAU city'!AM:AM,'4A Calcul. BAU city'!$C:$C,$C295,'4A Calcul. BAU city'!$E:$E,'4B Calcul. Climat Scen.'!$E295)","v":0},{"$f":"+SUMIFS('4A Calcul. BAU city'!AN:AN,'4A Calcul. BAU city'!$C:$C,$C295,'4A Calcul. BAU city'!$E:$E,'4B Calcul. Climat Scen.'!$E295)","v":0},{"$f":"+SUMIFS('4A Calcul. BAU city'!AO:AO,'4A Calcul. BAU city'!$C:$C,$C295,'4A Calcul. BAU city'!$E:$E,'4B Calcul. Climat Scen.'!$E295)","v":0}]
["1.A.3.b.iii","BAU",{"$f":"Solo","v":"Solo truck"},{"$f":"Roadelec","v":"Road - Electric"},{"$f":"Electric","v":"Electric"},{"$f":"+SUMIFS('4A Calcul. BAU city'!G:G,'4A Calcul. BAU city'!$C:$C,$C296,'4A Calcul. BAU city'!$E:$E,'4B Calcul. Climat Scen.'!$E296)","v":0},{"$f":"+SUMIFS('4A Calcul. BAU city'!H:H,'4A Calcul. BAU city'!$C:$C,$C296,'4A Calcul. BAU city'!$E:$E,'4B Calcul. Climat Scen.'!$E296)","v":0},{"$f":"+SUMIFS('4A Calcul. BAU city'!I:I,'4A Calcul. BAU city'!$C:$C,$C296,'4A Calcul. BAU city'!$E:$E,'4B Calcul. Climat Scen.'!$E296)","v":0},{"$f":"+SUMIFS('4A Calcul. BAU city'!J:J,'4A Calcul. BAU city'!$C:$C,$C296,'4A Calcul. BAU city'!$E:$E,'4B Calcul. Climat Scen.'!$E296)","v":0},{"$f":"+SUMIFS('4A Calcul. BAU city'!K:K,'4A Calcul. BAU city'!$C:$C,$C296,'4A Calcul. BAU city'!$E:$E,'4B Calcul. Climat Scen.'!$E296)","v":0},{"$f":"+SUMIFS('4A Calcul. BAU city'!L:L,'4A Calcul. BAU city'!$C:$C,$C296,'4A Calcul. BAU city'!$E:$E,'4B Calcul. Climat Scen.'!$E296)","v":0},null,null,null,null,null,null,null,null,null,null,null,null,null,null,null,{"$f":"+SUMIFS('4A Calcul. BAU city'!AD:AD,'4A Calcul. BAU city'!$C:$C,$C296,'4A Calcul. BAU city'!$E:$E,'4B Calcul. Climat Scen.'!$E296)","v":0},{"$f":"+SUMIFS('4A Calcul. BAU city'!AE:AE,'4A Calcul. BAU city'!$C:$C,$C296,'4A Calcul. BAU city'!$E:$E,'4B Calcul. Climat Scen.'!$E296)","v":0},{"$f":"+SUMIFS('4A Calcul. BAU city'!AF:AF,'4A Calcul. BAU city'!$C:$C,$C296,'4A Calcul. BAU city'!$E:$E,'4B Calcul. Climat Scen.'!$E296)","v":0},{"$f":"+SUMIFS('4A Calcul. BAU city'!AG:AG,'4A Calcul. BAU city'!$C:$C,$C296,'4A Calcul. BAU city'!$E:$E,'4B Calcul. Climat Scen.'!$E296)","v":0},{"$f":"+SUMIFS('4A Calcul. BAU city'!AH:AH,'4A Calcul. BAU city'!$C:$C,$C296,'4A Calcul. BAU city'!$E:$E,'4B Calcul. Climat Scen.'!$E296)","v":0},{"$f":"+SUMIFS('4A Calcul. BAU city'!AI:AI,'4A Calcul. BAU city'!$C:$C,$C296,'4A Calcul. BAU city'!$E:$E,'4B Calcul. Climat Scen.'!$E296)","v":0},null,{"$f":"+SUMIFS('4A Calcul. BAU city'!AJ:AJ,'4A Calcul. BAU city'!$C:$C,$C296,'4A Calcul. BAU city'!$E:$E,'4B Calcul. Climat Scen.'!$E296)","v":0},{"$f":"+SUMIFS('4A Calcul. BAU city'!AK:AK,'4A Calcul. BAU city'!$C:$C,$C296,'4A Calcul. BAU city'!$E:$E,'4B Calcul. Climat Scen.'!$E296)","v":0},{"$f":"+SUMIFS('4A Calcul. BAU city'!AL:AL,'4A Calcul. BAU city'!$C:$C,$C296,'4A Calcul. BAU city'!$E:$E,'4B Calcul. Climat Scen.'!$E296)","v":0},{"$f":"+SUMIFS('4A Calcul. BAU city'!AM:AM,'4A Calcul. BAU city'!$C:$C,$C296,'4A Calcul. BAU city'!$E:$E,'4B Calcul. Climat Scen.'!$E296)","v":0},{"$f":"+SUMIFS('4A Calcul. BAU city'!AN:AN,'4A Calcul. BAU city'!$C:$C,$C296,'4A Calcul. BAU city'!$E:$E,'4B Calcul. Climat Scen.'!$E296)","v":0},{"$f":"+SUMIFS('4A Calcul. BAU city'!AO:AO,'4A Calcul. BAU city'!$C:$C,$C296,'4A Calcul. BAU city'!$E:$E,'4B Calcul. Climat Scen.'!$E296)","v":0}]
["1.A.3.b.iii","BAU",{"$f":"Atruck","v":"Articulated truck"},{"$f":"RoadD","v":"Road - Diesel"},{"$f":"Diesel","v":"Diesel"},{"$f":"+SUMIFS('4A Calcul. BAU city'!G:G,'4A Calcul. BAU city'!$C:$C,$C297,'4A Calcul. BAU city'!$E:$E,'4B Calcul. Climat Scen.'!$E297)","v":0},{"$f":"+SUMIFS('4A Calcul. BAU city'!H:H,'4A Calcul. BAU city'!$C:$C,$C297,'4A Calcul. BAU city'!$E:$E,'4B Calcul. Climat Scen.'!$E297)","v":0},{"$f":"+SUMIFS('4A Calcul. BAU city'!I:I,'4A Calcul. BAU city'!$C:$C,$C297,'4A Calcul. BAU city'!$E:$E,'4B Calcul. Climat Scen.'!$E297)","v":0},{"$f":"+SUMIFS('4A Calcul. BAU city'!J:J,'4A Calcul. BAU city'!$C:$C,$C297,'4A Calcul. BAU city'!$E:$E,'4B Calcul. Climat Scen.'!$E297)","v":0},{"$f":"+SUMIFS('4A Calcul. BAU city'!K:K,'4A Calcul. BAU city'!$C:$C,$C297,'4A Calcul. BAU city'!$E:$E,'4B Calcul. Climat Scen.'!$E297)","v":0},{"$f":"+SUMIFS('4A Calcul. BAU city'!L:L,'4A Calcul. BAU city'!$C:$C,$C297,'4A Calcul. BAU city'!$E:$E,'4B Calcul. Climat Scen.'!$E297)","v":0},null,null,null,null,null,null,null,null,null,null,null,null,null,null,null,{"$f":"+SUMIFS('4A Calcul. BAU city'!AD:AD,'4A Calcul. BAU city'!$C:$C,$C297,'4A Calcul. BAU city'!$E:$E,'4B Calcul. Climat Scen.'!$E297)","v":0},{"$f":"+SUMIFS('4A Calcul. BAU city'!AE:AE,'4A Calcul. BAU city'!$C:$C,$C297,'4A Calcul. BAU city'!$E:$E,'4B Calcul. Climat Scen.'!$E297)","v":0},{"$f":"+SUMIFS('4A Calcul. BAU city'!AF:AF,'4A Calcul. BAU city'!$C:$C,$C297,'4A Calcul. BAU city'!$E:$E,'4B Calcul. Climat Scen.'!$E297)","v":0},{"$f":"+SUMIFS('4A Calcul. BAU city'!AG:AG,'4A Calcul. BAU city'!$C:$C,$C297,'4A Calcul. BAU city'!$E:$E,'4B Calcul. Climat Scen.'!$E297)","v":0},{"$f":"+SUMIFS('4A Calcul. BAU city'!AH:AH,'4A Calcul. BAU city'!$C:$C,$C297,'4A Calcul. BAU city'!$E:$E,'4B Calcul. Climat Scen.'!$E297)","v":0},{"$f":"+SUMIFS('4A Calcul. BAU city'!AI:AI,'4A Calcul. BAU city'!$C:$C,$C297,'4A Calcul. BAU city'!$E:$E,'4B Calcul. Climat Scen.'!$E297)","v":0},null,{"$f":"+SUMIFS('4A Calcul. BAU city'!AJ:AJ,'4A Calcul. BAU city'!$C:$C,$C297,'4A Calcul. BAU city'!$E:$E,'4B Calcul. Climat Scen.'!$E297)","v":0},{"$f":"+SUMIFS('4A Calcul. BAU city'!AK:AK,'4A Calcul. BAU city'!$C:$C,$C297,'4A Calcul. BAU city'!$E:$E,'4B Calcul. Climat Scen.'!$E297)","v":0},{"$f":"+SUMIFS('4A Calcul. BAU city'!AL:AL,'4A Calcul. BAU city'!$C:$C,$C297,'4A Calcul. BAU city'!$E:$E,'4B Calcul. Climat Scen.'!$E297)","v":0},{"$f":"+SUMIFS('4A Calcul. BAU city'!AM:AM,'4A Calcul. BAU city'!$C:$C,$C297,'4A Calcul. BAU city'!$E:$E,'4B Calcul. Climat Scen.'!$E297)","v":0},{"$f":"+SUMIFS('4A Calcul. BAU city'!AN:AN,'4A Calcul. BAU city'!$C:$C,$C297,'4A Calcul. BAU city'!$E:$E,'4B Calcul. Climat Scen.'!$E297)","v":0},{"$f":"+SUMIFS('4A Calcul. BAU city'!AO:AO,'4A Calcul. BAU city'!$C:$C,$C297,'4A Calcul. BAU city'!$E:$E,'4B Calcul. Climat Scen.'!$E297)","v":0}]
["1.A.3.b.iii","BAU",{"$f":"Atruck","v":"Articulated truck"},{"$f":"RoadNG","v":"Road - NG"},{"$f":"NG","v":"NG"},{"$f":"+SUMIFS('4A Calcul. BAU city'!G:G,'4A Calcul. BAU city'!$C:$C,$C298,'4A Calcul. BAU city'!$E:$E,'4B Calcul. Climat Scen.'!$E298)","v":0},{"$f":"+SUMIFS('4A Calcul. BAU city'!H:H,'4A Calcul. BAU city'!$C:$C,$C298,'4A Calcul. BAU city'!$E:$E,'4B Calcul. Climat Scen.'!$E298)","v":0},{"$f":"+SUMIFS('4A Calcul. BAU city'!I:I,'4A Calcul. BAU city'!$C:$C,$C298,'4A Calcul. BAU city'!$E:$E,'4B Calcul. Climat Scen.'!$E298)","v":0},{"$f":"+SUMIFS('4A Calcul. BAU city'!J:J,'4A Calcul. BAU city'!$C:$C,$C298,'4A Calcul. BAU city'!$E:$E,'4B Calcul. Climat Scen.'!$E298)","v":0},{"$f":"+SUMIFS('4A Calcul. BAU city'!K:K,'4A Calcul. BAU city'!$C:$C,$C298,'4A Calcul. BAU city'!$E:$E,'4B Calcul. Climat Scen.'!$E298)","v":0},{"$f":"+SUMIFS('4A Calcul. BAU city'!L:L,'4A Calcul. BAU city'!$C:$C,$C298,'4A Calcul. BAU city'!$E:$E,'4B Calcul. Climat Scen.'!$E298)","v":0},null,null,null,null,null,null,null,null,null,null,null,null,null,null,null,{"$f":"+SUMIFS('4A Calcul. BAU city'!AD:AD,'4A Calcul. BAU city'!$C:$C,$C298,'4A Calcul. BAU city'!$E:$E,'4B Calcul. Climat Scen.'!$E298)","v":0},{"$f":"+SUMIFS('4A Calcul. BAU city'!AE:AE,'4A Calcul. BAU city'!$C:$C,$C298,'4A Calcul. BAU city'!$E:$E,'4B Calcul. Climat Scen.'!$E298)","v":0},{"$f":"+SUMIFS('4A Calcul. BAU city'!AF:AF,'4A Calcul. BAU city'!$C:$C,$C298,'4A Calcul. BAU city'!$E:$E,'4B Calcul. Climat Scen.'!$E298)","v":0},{"$f":"+SUMIFS('4A Calcul. BAU city'!AG:AG,'4A Calcul. BAU city'!$C:$C,$C298,'4A Calcul. BAU city'!$E:$E,'4B Calcul. Climat Scen.'!$E298)","v":0},{"$f":"+SUMIFS('4A Calcul. BAU city'!AH:AH,'4A Calcul. BAU city'!$C:$C,$C298,'4A Calcul. BAU city'!$E:$E,'4B Calcul. Climat Scen.'!$E298)","v":0},{"$f":"+SUMIFS('4A Calcul. BAU city'!AI:AI,'4A Calcul. BAU city'!$C:$C,$C298,'4A Calcul. BAU city'!$E:$E,'4B Calcul. Climat Scen.'!$E298)","v":0},null,{"$f":"+SUMIFS('4A Calcul. BAU city'!AJ:AJ,'4A Calcul. BAU city'!$C:$C,$C298,'4A Calcul. BAU city'!$E:$E,'4B Calcul. Climat Scen.'!$E298)","v":0},{"$f":"+SUMIFS('4A Calcul. BAU city'!AK:AK,'4A Calcul. BAU city'!$C:$C,$C298,'4A Calcul. BAU city'!$E:$E,'4B Calcul. Climat Scen.'!$E298)","v":0},{"$f":"+SUMIFS('4A Calcul. BAU city'!AL:AL,'4A Calcul. BAU city'!$C:$C,$C298,'4A Calcul. BAU city'!$E:$E,'4B Calcul. Climat Scen.'!$E298)","v":0},{"$f":"+SUMIFS('4A Calcul. BAU city'!AM:AM,'4A Calcul. BAU city'!$C:$C,$C298,'4A Calcul. BAU city'!$E:$E,'4B Calcul. Climat Scen.'!$E298)","v":0},{"$f":"+SUMIFS('4A Calcul. BAU city'!AN:AN,'4A Calcul. BAU city'!$C:$C,$C298,'4A Calcul. BAU city'!$E:$E,'4B Calcul. Climat Scen.'!$E298)","v":0},{"$f":"+SUMIFS('4A Calcul. BAU city'!AO:AO,'4A Calcul. BAU city'!$C:$C,$C298,'4A Calcul. BAU city'!$E:$E,'4B Calcul. Climat Scen.'!$E298)","v":0}]
["1.A.3.b.iii","BAU",{"$f":"Atruck","v":"Articulated truck"},{"$f":"Roadelec","v":"Road - Electric"},{"$f":"Electric","v":"Electric"},{"$f":"+SUMIFS('4A Calcul. BAU city'!G:G,'4A Calcul. BAU city'!$C:$C,$C299,'4A Calcul. BAU city'!$E:$E,'4B Calcul. Climat Scen.'!$E299)","v":0},{"$f":"+SUMIFS('4A Calcul. BAU city'!H:H,'4A Calcul. BAU city'!$C:$C,$C299,'4A Calcul. BAU city'!$E:$E,'4B Calcul. Climat Scen.'!$E299)","v":0},{"$f":"+SUMIFS('4A Calcul. BAU city'!I:I,'4A Calcul. BAU city'!$C:$C,$C299,'4A Calcul. BAU city'!$E:$E,'4B Calcul. Climat Scen.'!$E299)","v":0},{"$f":"+SUMIFS('4A Calcul. BAU city'!J:J,'4A Calcul. BAU city'!$C:$C,$C299,'4A Calcul. BAU city'!$E:$E,'4B Calcul. Climat Scen.'!$E299)","v":0},{"$f":"+SUMIFS('4A Calcul. BAU city'!K:K,'4A Calcul. BAU city'!$C:$C,$C299,'4A Calcul. BAU city'!$E:$E,'4B Calcul. Climat Scen.'!$E299)","v":0},{"$f":"+SUMIFS('4A Calcul. BAU city'!L:L,'4A Calcul. BAU city'!$C:$C,$C299,'4A Calcul. BAU city'!$E:$E,'4B Calcul. Climat Scen.'!$E299)","v":0},null,null,null,null,null,null,null,null,null,null,null,null,null,null,null,{"$f":"+SUMIFS('4A Calcul. BAU city'!AD:AD,'4A Calcul. BAU city'!$C:$C,$C299,'4A Calcul. BAU city'!$E:$E,'4B Calcul. Climat Scen.'!$E299)","v":0},{"$f":"+SUMIFS('4A Calcul. BAU city'!AE:AE,'4A Calcul. BAU city'!$C:$C,$C299,'4A Calcul. BAU city'!$E:$E,'4B Calcul. Climat Scen.'!$E299)","v":0},{"$f":"+SUMIFS('4A Calcul. BAU city'!AF:AF,'4A Calcul. BAU city'!$C:$C,$C299,'4A Calcul. BAU city'!$E:$E,'4B Calcul. Climat Scen.'!$E299)","v":0},{"$f":"+SUMIFS('4A Calcul. BAU city'!AG:AG,'4A Calcul. BAU city'!$C:$C,$C299,'4A Calcul. BAU city'!$E:$E,'4B Calcul. Climat Scen.'!$E299)","v":0},{"$f":"+SUMIFS('4A Calcul. BAU city'!AH:AH,'4A Calcul. BAU city'!$C:$C,$C299,'4A Calcul. BAU city'!$E:$E,'4B Calcul. Climat Scen.'!$E299)","v":0},{"$f":"+SUMIFS('4A Calcul. BAU city'!AI:AI,'4A Calcul. BAU city'!$C:$C,$C299,'4A Calcul. BAU city'!$E:$E,'4B Calcul. Climat Scen.'!$E299)","v":0},null,{"$f":"+SUMIFS('4A Calcul. BAU city'!AJ:AJ,'4A Calcul. BAU city'!$C:$C,$C299,'4A Calcul. BAU city'!$E:$E,'4B Calcul. Climat Scen.'!$E299)","v":0},{"$f":"+SUMIFS('4A Calcul. BAU city'!AK:AK,'4A Calcul. BAU city'!$C:$C,$C299,'4A Calcul. BAU city'!$E:$E,'4B Calcul. Climat Scen.'!$E299)","v":0},{"$f":"+SUMIFS('4A Calcul. BAU city'!AL:AL,'4A Calcul. BAU city'!$C:$C,$C299,'4A Calcul. BAU city'!$E:$E,'4B Calcul. Climat Scen.'!$E299)","v":0},{"$f":"+SUMIFS('4A Calcul. BAU city'!AM:AM,'4A Calcul. BAU city'!$C:$C,$C299,'4A Calcul. BAU city'!$E:$E,'4B Calcul. Climat Scen.'!$E299)","v":0},{"$f":"+SUMIFS('4A Calcul. BAU city'!AN:AN,'4A Calcul. BAU city'!$C:$C,$C299,'4A Calcul. BAU city'!$E:$E,'4B Calcul. Climat Scen.'!$E299)","v":0},{"$f":"+SUMIFS('4A Calcul. BAU city'!AO:AO,'4A Calcul. BAU city'!$C:$C,$C299,'4A Calcul. BAU city'!$E:$E,'4B Calcul. Climat Scen.'!$E299)","v":0}]
["1.A.3.c","BAU",{"$f":"Ftrain","v":"Freight train"},{"$f":"RailD","v":"Rail - Diesel"},{"$f":"Diesel","v":"Diesel"},{"$f":"+SUMIFS('4A Calcul. BAU city'!G:G,'4A Calcul. BAU city'!$C:$C,$C300,'4A Calcul. BAU city'!$E:$E,'4B Calcul. Climat Scen.'!$E300)","v":0},{"$f":"+SUMIFS('4A Calcul. BAU city'!H:H,'4A Calcul. BAU city'!$C:$C,$C300,'4A Calcul. BAU city'!$E:$E,'4B Calcul. Climat Scen.'!$E300)","v":0},{"$f":"+SUMIFS('4A Calcul. BAU city'!I:I,'4A Calcul. BAU city'!$C:$C,$C300,'4A Calcul. BAU city'!$E:$E,'4B Calcul. Climat Scen.'!$E300)","v":0},{"$f":"+SUMIFS('4A Calcul. BAU city'!J:J,'4A Calcul. BAU city'!$C:$C,$C300,'4A Calcul. BAU city'!$E:$E,'4B Calcul. Climat Scen.'!$E300)","v":0},{"$f":"+SUMIFS('4A Calcul. BAU city'!K:K,'4A Calcul. BAU city'!$C:$C,$C300,'4A Calcul. BAU city'!$E:$E,'4B Calcul. Climat Scen.'!$E300)","v":0},{"$f":"+SUMIFS('4A Calcul. BAU city'!L:L,'4A Calcul. BAU city'!$C:$C,$C300,'4A Calcul. BAU city'!$E:$E,'4B Calcul. Climat Scen.'!$E300)","v":0},null,null,null,null,null,null,null,null,null,null,null,null,null,null,null,{"$f":"+SUMIFS('4A Calcul. BAU city'!AD:AD,'4A Calcul. BAU city'!$C:$C,$C300,'4A Calcul. BAU city'!$E:$E,'4B Calcul. Climat Scen.'!$E300)","v":0},{"$f":"+SUMIFS('4A Calcul. BAU city'!AE:AE,'4A Calcul. BAU city'!$C:$C,$C300,'4A Calcul. BAU city'!$E:$E,'4B Calcul. Climat Scen.'!$E300)","v":0},{"$f":"+SUMIFS('4A Calcul. BAU city'!AF:AF,'4A Calcul. BAU city'!$C:$C,$C300,'4A Calcul. BAU city'!$E:$E,'4B Calcul. Climat Scen.'!$E300)","v":0},{"$f":"+SUMIFS('4A Calcul. BAU city'!AG:AG,'4A Calcul. BAU city'!$C:$C,$C300,'4A Calcul. BAU city'!$E:$E,'4B Calcul. Climat Scen.'!$E300)","v":0},{"$f":"+SUMIFS('4A Calcul. BAU city'!AH:AH,'4A Calcul. BAU city'!$C:$C,$C300,'4A Calcul. BAU city'!$E:$E,'4B Calcul. Climat Scen.'!$E300)","v":0},{"$f":"+SUMIFS('4A Calcul. BAU city'!AI:AI,'4A Calcul. BAU city'!$C:$C,$C300,'4A Calcul. BAU city'!$E:$E,'4B Calcul. Climat Scen.'!$E300)","v":0},null,{"$f":"+SUMIFS('4A Calcul. BAU city'!AJ:AJ,'4A Calcul. BAU city'!$C:$C,$C300,'4A Calcul. BAU city'!$E:$E,'4B Calcul. Climat Scen.'!$E300)","v":0},{"$f":"+SUMIFS('4A Calcul. BAU city'!AK:AK,'4A Calcul. BAU city'!$C:$C,$C300,'4A Calcul. BAU city'!$E:$E,'4B Calcul. Climat Scen.'!$E300)","v":0},{"$f":"+SUMIFS('4A Calcul. BAU city'!AL:AL,'4A Calcul. BAU city'!$C:$C,$C300,'4A Calcul. BAU city'!$E:$E,'4B Calcul. Climat Scen.'!$E300)","v":0},{"$f":"+SUMIFS('4A Calcul. BAU city'!AM:AM,'4A Calcul. BAU city'!$C:$C,$C300,'4A Calcul. BAU city'!$E:$E,'4B Calcul. Climat Scen.'!$E300)","v":0},{"$f":"+SUMIFS('4A Calcul. BAU city'!AN:AN,'4A Calcul. BAU city'!$C:$C,$C300,'4A Calcul. BAU city'!$E:$E,'4B Calcul. Climat Scen.'!$E300)","v":0},{"$f":"+SUMIFS('4A Calcul. BAU city'!AO:AO,'4A Calcul. BAU city'!$C:$C,$C300,'4A Calcul. BAU city'!$E:$E,'4B Calcul. Climat Scen.'!$E300)","v":0}]
["1.A.3.c","BAU",{"$f":"Ftrain","v":"Freight train"},{"$f":"RailElec","v":"Rail - Electric"},{"$f":"Electric","v":"Electric"},{"$f":"+SUMIFS('4A Calcul. BAU city'!G:G,'4A Calcul. BAU city'!$C:$C,$C301,'4A Calcul. BAU city'!$E:$E,'4B Calcul. Climat Scen.'!$E301)","v":0},{"$f":"+SUMIFS('4A Calcul. BAU city'!H:H,'4A Calcul. BAU city'!$C:$C,$C301,'4A Calcul. BAU city'!$E:$E,'4B Calcul. Climat Scen.'!$E301)","v":0},{"$f":"+SUMIFS('4A Calcul. BAU city'!I:I,'4A Calcul. BAU city'!$C:$C,$C301,'4A Calcul. BAU city'!$E:$E,'4B Calcul. Climat Scen.'!$E301)","v":0},{"$f":"+SUMIFS('4A Calcul. BAU city'!J:J,'4A Calcul. BAU city'!$C:$C,$C301,'4A Calcul. BAU city'!$E:$E,'4B Calcul. Climat Scen.'!$E301)","v":0},{"$f":"+SUMIFS('4A Calcul. BAU city'!K:K,'4A Calcul. BAU city'!$C:$C,$C301,'4A Calcul. BAU city'!$E:$E,'4B Calcul. Climat Scen.'!$E301)","v":0},{"$f":"+SUMIFS('4A Calcul. BAU city'!L:L,'4A Calcul. BAU city'!$C:$C,$C301,'4A Calcul. BAU city'!$E:$E,'4B Calcul. Climat Scen.'!$E301)","v":0},null,null,null,null,null,null,null,null,null,null,null,null,null,null,null,{"$f":"+SUMIFS('4A Calcul. BAU city'!AD:AD,'4A Calcul. BAU city'!$C:$C,$C301,'4A Calcul. BAU city'!$E:$E,'4B Calcul. Climat Scen.'!$E301)","v":0},{"$f":"+SUMIFS('4A Calcul. BAU city'!AE:AE,'4A Calcul. BAU city'!$C:$C,$C301,'4A Calcul. BAU city'!$E:$E,'4B Calcul. Climat Scen.'!$E301)","v":0},{"$f":"+SUMIFS('4A Calcul. BAU city'!AF:AF,'4A Calcul. BAU city'!$C:$C,$C301,'4A Calcul. BAU city'!$E:$E,'4B Calcul. Climat Scen.'!$E301)","v":0},{"$f":"+SUMIFS('4A Calcul. BAU city'!AG:AG,'4A Calcul. BAU city'!$C:$C,$C301,'4A Calcul. BAU city'!$E:$E,'4B Calcul. Climat Scen.'!$E301)","v":0},{"$f":"+SUMIFS('4A Calcul. BAU city'!AH:AH,'4A Calcul. BAU city'!$C:$C,$C301,'4A Calcul. BAU city'!$E:$E,'4B Calcul. Climat Scen.'!$E301)","v":0},{"$f":"+SUMIFS('4A Calcul. BAU city'!AI:AI,'4A Calcul. BAU city'!$C:$C,$C301,'4A Calcul. BAU city'!$E:$E,'4B Calcul. Climat Scen.'!$E301)","v":0},null,{"$f":"+SUMIFS('4A Calcul. BAU city'!AJ:AJ,'4A Calcul. BAU city'!$C:$C,$C301,'4A Calcul. BAU city'!$E:$E,'4B Calcul. Climat Scen.'!$E301)","v":0},{"$f":"+SUMIFS('4A Calcul. BAU city'!AK:AK,'4A Calcul. BAU city'!$C:$C,$C301,'4A Calcul. BAU city'!$E:$E,'4B Calcul. Climat Scen.'!$E301)","v":0},{"$f":"+SUMIFS('4A Calcul. BAU city'!AL:AL,'4A Calcul. BAU city'!$C:$C,$C301,'4A Calcul. BAU city'!$E:$E,'4B Calcul. Climat Scen.'!$E301)","v":0},{"$f":"+SUMIFS('4A Calcul. BAU city'!AM:AM,'4A Calcul. BAU city'!$C:$C,$C301,'4A Calcul. BAU city'!$E:$E,'4B Calcul. Climat Scen.'!$E301)","v":0},{"$f":"+SUMIFS('4A Calcul. BAU city'!AN:AN,'4A Calcul. BAU city'!$C:$C,$C301,'4A Calcul. BAU city'!$E:$E,'4B Calcul. Climat Scen.'!$E301)","v":0},{"$f":"+SUMIFS('4A Calcul. BAU city'!AO:AO,'4A Calcul. BAU city'!$C:$C,$C301,'4A Calcul. BAU city'!$E:$E,'4B Calcul. Climat Scen.'!$E301)","v":0}]
[]
[null,{"$f":"BAU","v":"BAU"},{"$f":"totalindividualtransport","v":"Total individual transport"},{"$f":"all","v":"all"},"all",{"$f":"SUM(F252:F267)","v":0},0,0,0,0,0,null,null,null,null,null,null,null,null,null,null,null,null,null,null,null,{"$f":"SUM(AA252:AA267)","v":0},0,0,0,0,0,null,{"$f":"SUM(AH252:AH267)","v":0},0,0,0,0,0]
[null,{"$f":"BAU","v":"BAU"},{"$f":"totalpublictransport","v":"Total public transport"},"all","all",{"$f":"SUM(F268:F285)","v":0},0,0,0,0,0,null,null,null,null,null,null,null,null,null,null,null,null,null,null,null,{"$f":"SUM(AA268:AA285)","v":0},0,0,0,0,0,null,{"$f":"SUM(AH268:AH285)","v":0},0,0,0,0,0]
[null,{"$f":"BAU","v":"BAU"},{"$f":"Passtrans","v":"Passenger transportation"},"all","all",{"$f":"F303+F304","v":0},{"$f":"G303+G304","v":0},0,0,0,0,null,null,null,null,null,null,null,null,null,null,null,null,null,null,null,{"$f":"AA303+AA304","v":0},{"$f":"AB303+AB304","v":0},{"$f":"AC303+AC304","v":0},{"$f":"AD303+AD304","v":0},{"$f":"AE303+AE304","v":0},{"$f":"AF303+AF304","v":0},null,{"$f":"AH303+AH304","v":0},{"$f":"AI303+AI304","v":0},{"$f":"AJ303+AJ304","v":0},{"$f":"AK303+AK304","v":0},{"$f":"AL303+AL304","v":0},{"$f":"AM303+AM304","v":0}]
[null,{"$f":"BAU","v":"BAU"},{"$f":"Freighttrans","v":"Freight transportation"},"all","all",{"$f":"SUM(F286:F301)","v":0},0,0,0,0,0,null,null,null,null,null,null,null,null,null,null,null,null,null,null,null,{"$f":"SUM(AA286:AA301)","v":0},0,0,0,0,0,null,{"$f":"SUM(AH286:AH301)","v":0},0,0,0,0,0]
[null,{"$f":"BAU","v":"BAU"},{"$f":"all","v":"all"},"all","all",{"$f":"F306+F305","v":0},{"$f":"G306+G305","v":0},{"$f":"H306+H305","v":0},0,0,0,null,null,null,null,null,null,null,null,null,null,null,null,null,null,null,{"$f":"AA306+AA305","v":0},{"$f":"AB306+AB305","v":0},{"$f":"AC306+AC305","v":0},{"$f":"AD306+AD305","v":0},{"$f":"AE306+AE305","v":0},{"$f":"AF306+AF305","v":0},null,{"$f":"AH306+AH305","v":0},{"$f":"AI306+AI305","v":0},{"$f":"AJ306+AJ305","v":0},{"$f":"AK306+AK305","v":0},{"$f":"AL306+AL305","v":0},{"$f":"AM306+AM305","v":0}]
[]
[]
[]
[{"$f":"Descri69","v":"Climate scenario by category and type of fuel: 3) Penetration of alternative energies"},null,null,null,null,"input",null,null,null,null,null,null,null,null,null,null,null,null,null,null,"FC x= FC final scenario 3"]
[null,{"$f":"scenario","v":"Scenario"},{"$f":"Category","v":"Category"},"Fuel",{"$f":"Fuel","v":"Fuel type"},{"$f":"Mileageshareclimate","v":"Vkt share by fuel for Climate scenario [%]"},null,null,null,null,null,null,{"$f":"vktMilkm","v":"Vkt [Mio. km]"},null,null,null,null,null,null,"fuel consumption in liter or kg (NG) or kwh (electricity)",null,null,null,null,null,null,{"$f":"FuelConTJ","v":"Fuel Consumption [TJ]"},null,null,null,null,null,null,{"$f":"TotalGHGTTW1000t","v":"Total emission CO2 eq [1000t] TTW"}]
[null,null,null,null,null,{"$f":"$B$3","v":0},2020,2025,2030,2040,2050,null,{"$f":"$B$3","v":0},2020,2025,2030,2040,2050,null,{"$f":"$B$3","v":0},2020,2025,2030,2040,2050,null,{"$f":"$B$3","v":0},2020,2025,2030,2040,2050,null,{"$f":"$B$3","v":0},2020,2025,2030,2040,2050]
["Achtung Formel pro Kategorie",{"$f":"Scen2","v":"Scenario 2)"},{"$f":"Pcar","v":"Private car"},{"$f":"RoadG","v":"Road - Gasoline"},{"$f":"Gasoline","v":"Gasoline"},{"$f":"IFERROR(SUMIFS($F$252:$F$301,$C$252:$C$301,C314,$E$252:$E$301,E314)/SUMIF($C$252:$C$301,C314,$F$252:$F$301),0)","v":0},{"$f":"IF('2A Input Climat Scen. Pass.'!J197=\"\",SUMIFS('2A Input Climat Scen. Pass.'!D$196:D$240,'2A Input Climat Scen. Pass.'!$B$196:$B$240,'4B Calcul. Climat Scen.'!$C314,'2A Input Climat Scen. Pass.'!$C$196:$C$240,'4B Calcul. Climat Scen.'!$E314),SUMIFS('2A Input Climat Scen. Pass.'!J$196:J$239,'2A Input Climat Scen. Pass.'!$B$196:$B$239,'4B Calcul. Climat Scen.'!$C314,'2A Input Climat Scen. Pass.'!$C$196:$C$239,'4B Calcul. Climat Scen.'!$E314))","v":0},{"$f":"IF('2A Input Climat Scen. Pass.'!K197=\"\",SUMIFS('2A Input Climat Scen. Pass.'!E$196:E$240,'2A Input Climat Scen. Pass.'!$B$196:$B$240,'4B Calcul. Climat Scen.'!$C314,'2A Input Climat Scen. Pass.'!$C$196:$C$240,'4B Calcul. Climat Scen.'!$E314),SUMIFS('2A Input Climat Scen. Pass.'!K$196:K$239,'2A Input Climat Scen. Pass.'!$B$196:$B$239,'4B Calcul. Climat Scen.'!$C314,'2A Input Climat Scen. Pass.'!$C$196:$C$239,'4B Calcul. Climat Scen.'!$E314))","v":0},{"$f":"IF('2A Input Climat Scen. Pass.'!L197=\"\",SUMIFS('2A Input Climat Scen. Pass.'!F$196:F$240,'2A Input Climat Scen. Pass.'!$B$196:$B$240,'4B Calcul. Climat Scen.'!$C314,'2A Input Climat Scen. Pass.'!$C$196:$C$240,'4B Calcul. Climat Scen.'!$E314),SUMIFS('2A Input Climat Scen. Pass.'!L$196:L$239,'2A Input Climat Scen. Pass.'!$B$196:$B$239,'4B Calcul. Climat Scen.'!$C314,'2A Input Climat Scen. Pass.'!$C$196:$C$239,'4B Calcul. Climat Scen.'!$E314))","v":0},{"$f":"IF('2A Input Climat Scen. Pass.'!M197=\"\",SUMIFS('2A Input Climat Scen. Pass.'!G$196:G$240,'2A Input Climat Scen. Pass.'!$B$196:$B$240,'4B Calcul. Climat Scen.'!$C314,'2A Input Climat Scen. Pass.'!$C$196:$C$240,'4B Calcul. Climat Scen.'!$E314),SUMIFS('2A Input Climat Scen. Pass.'!M$196:M$239,'2A Input Climat Scen. Pass.'!$B$196:$B$239,'4B Calcul. Climat Scen.'!$C314,'2A Input Climat Scen. Pass.'!$C$196:$C$239,'4B Calcul. Climat Scen.'!$E314))","v":0},{"$f":"IF('2A Input Climat Scen. Pass.'!N197=\"\",SUMIFS('2A Input Climat Scen. Pass.'!H$196:H$240,'2A Input Climat Scen. Pass.'!$B$196:$B$240,'4B Calcul. Climat Scen.'!$C314,'2A Input Climat Scen. Pass.'!$C$196:$C$240,'4B Calcul. Climat Scen.'!$E314),SUMIFS('2A Input Climat Scen. Pass.'!N$196:N$239,'2A Input Climat Scen. Pass.'!$B$196:$B$239,'4B Calcul. Climat Scen.'!$C314,'2A Input Climat Scen. Pass.'!$C$196:$C$239,'4B Calcul. Climat Scen.'!$E314))","v":0},null,{"$f":"+F252","v":0},{"$f":"SUMIF($C$225:$C$240,$C314,AJ$225:AJ$240)*G314","v":0},{"$f":"SUMIF($C$225:$C$240,$C314,AK$225:AK$240)*H314","v":0},{"$f":"SUMIF($C$225:$C$240,$C314,AL$225:AL$240)*I314","v":0},{"$f":"SUMIF($C$225:$C$240,$C314,AM$225:AM$240)*J314","v":0},{"$f":"SUMIF($C$225:$C$240,$C314,AN$225:AN$240)*K314","v":0},null,{"$f":"SUMIFS('4A Calcul. BAU city'!O$13:O$61,'4A Calcul. BAU city'!$C$13:$C$61,'4B Calcul. Climat Scen.'!$C314,'4A Calcul. BAU city'!$E$13:$E$61,'4B Calcul. Climat Scen.'!$E314)*M314/100","v":0},{"$f":"SUMIFS(G$375:G$424,$C$375:$C$424,$C314,$E$375:$E$424,$E314)*N314/100","v":0},{"$f":"SUMIFS(H$375:H$424,$C$375:$C$424,$C314,$E$375:$E$424,$E314)*O314/100","v":0},{"$f":"SUMIFS(I$375:I$424,$C$375:$C$424,$C314,$E$375:$E$424,$E314)*P314/100","v":0},{"$f":"SUMIFS(J$375:J$424,$C$375:$C$424,$C314,$E$375:$E$424,$E314)*Q314/100","v":0},{"$f":"SUMIFS(K$375:K$424,$C$375:$C$424,$C314,$E$375:$E$424,$E314)*R314/100","v":0},null,{"$f":"SUMIFS('4A Calcul. BAU city'!O$13:O$61,'4A Calcul. BAU city'!$C$13:$C$61,'4B Calcul. Climat Scen.'!$C314,'4A Calcul. BAU city'!$E$13:$E$61,'4B Calcul. Climat Scen.'!$E314)*M314/100*SUMIFS('4A Calcul. BAU city'!$V$13:$V$61,'4A Calcul. BAU city'!$C$13:$C$61,'4B Calcul. Climat Scen.'!$C314,'4A Calcul. BAU city'!$E$13:$E$61,'4B Calcul. Climat Scen.'!$E314)","v":0},{"$f":"U314*SUMIFS('4A Calcul. BAU city'!$V$13:$V$61,'4A Calcul. BAU city'!$C$13:$C$61,'4B Calcul. Climat Scen.'!$C314,'4A Calcul. BAU city'!$E$13:$E$61,'4B Calcul. Climat Scen.'!$E314)","v":0},{"$f":"V314*SUMIFS('4A Calcul. BAU city'!$V$13:$V$61,'4A Calcul. BAU city'!$C$13:$C$61,'4B Calcul. Climat Scen.'!$C314,'4A Calcul. BAU city'!$E$13:$E$61,'4B Calcul. Climat Scen.'!$E314)","v":0},{"$f":"W314*SUMIFS('4A Calcul. BAU city'!$V$13:$V$61,'4A Calcul. BAU city'!$C$13:$C$61,'4B Calcul. Climat Scen.'!$C314,'4A Calcul. BAU city'!$E$13:$E$61,'4B Calcul. Climat Scen.'!$E314)","v":0},{"$f":"X314*SUMIFS('4A Calcul. BAU city'!$V$13:$V$61,'4A Calcul. BAU city'!$C$13:$C$61,'4B Calcul. Climat Scen.'!$C314,'4A Calcul. BAU city'!$E$13:$E$61,'4B Calcul. Climat Scen.'!$E314)","v":0},{"$f":"Y314*SUMIFS('4A Calcul. BAU city'!$V$13:$V$61,'4A Calcul. BAU city'!$C$13:$C$61,'4B Calcul. Climat Scen.'!$C314,'4A Calcul. BAU city'!$E$13:$E$61,'4B Calcul. Climat Scen.'!$E314)","v":0},null,{"$f":"INDEX('6 Defaults parameters'!$T$9:$Y$18,MATCH($D314,'6 Defaults parameters'!$B$9:$B$18,0),MATCH(AH$313,'6 Defaults parameters'!$T$8:$Y$8,0))*AA314/10^6","v":0},{"$f":"INDEX('6 Defaults parameters'!$T$9:$Y$18,MATCH($D314,'6 Defaults parameters'!$B$9:$B$18,0),MATCH(AI$313,'6 Defaults parameters'!$T$8:$Y$8,0))*AB314/10^6","v":0},{"$f":"INDEX('6 Defaults parameters'!$T$9:$Y$18,MATCH($D314,'6 Defaults parameters'!$B$9:$B$18,0),MATCH(AJ$313,'6 Defaults parameters'!$T$8:$Y$8,0))*AC314/10^6","v":0},{"$f":"INDEX('6 Defaults parameters'!$T$9:$Y$18,MATCH($D314,'6 Defaults parameters'!$B$9:$B$18,0),MATCH(AK$313,'6 Defaults parameters'!$T$8:$Y$8,0))*AD314/10^6","v":0},{"$f":"INDEX('6 Defaults parameters'!$T$9:$Y$18,MATCH($D314,'6 Defaults parameters'!$B$9:$B$18,0),MATCH(AL$313,'6 Defaults parameters'!$T$8:$Y$8,0))*AE314/10^6","v":0},{"$f":"INDEX('6 Defaults parameters'!$T$9:$Y$18,MATCH($D314,'6 Defaults parameters'!$B$9:$B$18,0),MATCH(AM$313,'6 Defaults parameters'!$T$8:$Y$8,0))*AF314/10^6","v":0}]
[null,"Scenario 2)","Private car",{"$f":"RoadD","v":"Road - Diesel"},{"$f":"Diesel","v":"Diesel"},0,{"$f":"IF('2A Input Climat Scen. Pass.'!J198=\"\",SUMIFS('2A Input Climat Scen. Pass.'!D$196:D$240,'2A Input Climat Scen. Pass.'!$B$196:$B$240,'4B Calcul. Climat Scen.'!$C315,'2A Input Climat Scen. Pass.'!$C$196:$C$240,'4B Calcul. Climat Scen.'!$E315),SUMIFS('2A Input Climat Scen. Pass.'!J$196:J$239,'2A Input Climat Scen. Pass.'!$B$196:$B$239,'4B Calcul. Climat Scen.'!$C315,'2A Input Climat Scen. Pass.'!$C$196:$C$239,'4B Calcul. Climat Scen.'!$E315))","v":0},{"$f":"IF('2A Input Climat Scen. Pass.'!K198=\"\",SUMIFS('2A Input Climat Scen. Pass.'!E$196:E$240,'2A Input Climat Scen. Pass.'!$B$196:$B$240,'4B Calcul. Climat Scen.'!$C315,'2A Input Climat Scen. Pass.'!$C$196:$C$240,'4B Calcul. Climat Scen.'!$E315),SUMIFS('2A Input Climat Scen. Pass.'!K$196:K$239,'2A Input Climat Scen. Pass.'!$B$196:$B$239,'4B Calcul. Climat Scen.'!$C315,'2A Input Climat Scen. Pass.'!$C$196:$C$239,'4B Calcul. Climat Scen.'!$E315))","v":0},{"$f":"IF('2A Input Climat Scen. Pass.'!L198=\"\",SUMIFS('2A Input Climat Scen. Pass.'!F$196:F$240,'2A Input Climat Scen. Pass.'!$B$196:$B$240,'4B Calcul. Climat Scen.'!$C315,'2A Input Climat Scen. Pass.'!$C$196:$C$240,'4B Calcul. Climat Scen.'!$E315),SUMIFS('2A Input Climat Scen. Pass.'!L$196:L$239,'2A Input Climat Scen. Pass.'!$B$196:$B$239,'4B Calcul. Climat Scen.'!$C315,'2A Input Climat Scen. Pass.'!$C$196:$C$239,'4B Calcul. Climat Scen.'!$E315))","v":0},{"$f":"IF('2A Input Climat Scen. Pass.'!M198=\"\",SUMIFS('2A Input Climat Scen. Pass.'!G$196:G$240,'2A Input Climat Scen. Pass.'!$B$196:$B$240,'4B Calcul. Climat Scen.'!$C315,'2A Input Climat Scen. Pass.'!$C$196:$C$240,'4B Calcul. Climat Scen.'!$E315),SUMIFS('2A Input Climat Scen. Pass.'!M$196:M$239,'2A Input Climat Scen. Pass.'!$B$196:$B$239,'4B Calcul. Climat Scen.'!$C315,'2A Input Climat Scen. Pass.'!$C$196:$C$239,'4B Calcul. Climat Scen.'!$E315))","v":0},{"$f":"IF('2A Input Climat Scen. Pass.'!N198=\"\",SUMIFS('2A Input Climat Scen. Pass.'!H$196:H$240,'2A Input Climat Scen. Pass.'!$B$196:$B$240,'4B Calcul. Climat Scen.'!$C315,'2A Input Climat Scen. Pass.'!$C$196:$C$240,'4B Calcul. Climat Scen.'!$E315),SUMIFS('2A Input Climat Scen. Pass.'!N$196:N$239,'2A Input Climat Scen. Pass.'!$B$196:$B$239,'4B Calcul. Climat Scen.'!$C315,'2A Input Climat Scen. Pass.'!$C$196:$C$239,'4B Calcul. Climat Scen.'!$E315))","v":0},null,0,{"$f":"SUMIF($C$225:$C$240,$C315,AJ$225:AJ$240)*G315","v":0},0,0,0,0,null,{"$f":"SUMIFS('4A Calcul. BAU city'!O$13:O$61,'4A Calcul. BAU city'!$C$13:$C$61,'4B Calcul. Climat Scen.'!$C315,'4A Calcul. BAU city'!$E$13:$E$61,'4B Calcul. Climat Scen.'!$E315)*M315/100","v":0},0,0,0,0,0,null,{"$f":"SUMIFS('4A Calcul. BAU city'!O$13:O$61,'4A Calcul. BAU city'!$C$13:$C$61,'4B Calcul. Climat Scen.'!$C315,'4A Calcul. BAU city'!$E$13:$E$61,'4B Calcul. Climat Scen.'!$E315)*M315/100*SUMIFS('4A Calcul. BAU city'!$V$13:$V$61,'4A Calcul. BAU city'!$C$13:$C$61,'4B Calcul. Climat Scen.'!$C315,'4A Calcul. BAU city'!$E$13:$E$61,'4B Calcul. Climat Scen.'!$E315)","v":0},{"$f":"U315*SUMIFS('4A Calcul. BAU city'!$V$13:$V$61,'4A Calcul. BAU city'!$C$13:$C$61,'4B Calcul. Climat Scen.'!$C315,'4A Calcul. BAU city'!$E$13:$E$61,'4B Calcul. Climat Scen.'!$E315)","v":0},{"$f":"V315*SUMIFS('4A Calcul. BAU city'!$V$13:$V$61,'4A Calcul. BAU city'!$C$13:$C$61,'4B Calcul. Climat Scen.'!$C315,'4A Calcul. BAU city'!$E$13:$E$61,'4B Calcul. Climat Scen.'!$E315)","v":0},{"$f":"W315*SUMIFS('4A Calcul. BAU city'!$V$13:$V$61,'4A Calcul. BAU city'!$C$13:$C$61,'4B Calcul. Climat Scen.'!$C315,'4A Calcul. BAU city'!$E$13:$E$61,'4B Calcul. Climat Scen.'!$E315)","v":0},{"$f":"X315*SUMIFS('4A Calcul. BAU city'!$V$13:$V$61,'4A Calcul. BAU city'!$C$13:$C$61,'4B Calcul. Climat Scen.'!$C315,'4A Calcul. BAU city'!$E$13:$E$61,'4B Calcul. Climat Scen.'!$E315)","v":0},{"$f":"Y315*SUMIFS('4A Calcul. BAU city'!$V$13:$V$61,'4A Calcul. BAU city'!$C$13:$C$61,'4B Calcul. Climat Scen.'!$C315,'4A Calcul. BAU city'!$E$13:$E$61,'4B Calcul. Climat Scen.'!$E315)","v":0},null,{"$f":"INDEX('6 Defaults parameters'!$T$9:$Y$18,MATCH($D315,'6 Defaults parameters'!$B$9:$B$18,0),MATCH(AH$313,'6 Defaults parameters'!$T$8:$Y$8,0))*AA315/10^6","v":0},{"$f":"INDEX('6 Defaults parameters'!$T$9:$Y$18,MATCH($D315,'6 Defaults parameters'!$B$9:$B$18,0),MATCH(AI$313,'6 Defaults parameters'!$T$8:$Y$8,0))*AB315/10^6","v":0},{"$f":"INDEX('6 Defaults parameters'!$T$9:$Y$18,MATCH($D315,'6 Defaults parameters'!$B$9:$B$18,0),MATCH(AJ$313,'6 Defaults parameters'!$T$8:$Y$8,0))*AC315/10^6","v":0},{"$f":"INDEX('6 Defaults parameters'!$T$9:$Y$18,MATCH($D315,'6 Defaults parameters'!$B$9:$B$18,0),MATCH(AK$313,'6 Defaults parameters'!$T$8:$Y$8,0))*AD315/10^6","v":0},{"$f":"INDEX('6 Defaults parameters'!$T$9:$Y$18,MATCH($D315,'6 Defaults parameters'!$B$9:$B$18,0),MATCH(AL$313,'6 Defaults parameters'!$T$8:$Y$8,0))*AE315/10^6","v":0},{"$f":"INDEX('6 Defaults parameters'!$T$9:$Y$18,MATCH($D315,'6 Defaults parameters'!$B$9:$B$18,0),MATCH(AM$313,'6 Defaults parameters'!$T$8:$Y$8,0))*AF315/10^6","v":0}]
[null,"Scenario 2)","Private car",{"$f":"RoadLPG","v":"Road - LPG"},{"$f":"LPG","v":"LPG"},0,{"$f":"IF('2A Input Climat Scen. Pass.'!J199=\"\",SUMIFS('2A Input Climat Scen. Pass.'!D$196:D$240,'2A Input Climat Scen. Pass.'!$B$196:$B$240,'4B Calcul. Climat Scen.'!$C316,'2A Input Climat Scen. Pass.'!$C$196:$C$240,'4B Calcul. Climat Scen.'!$E316),SUMIFS('2A Input Climat Scen. Pass.'!J$196:J$239,'2A Input Climat Scen. Pass.'!$B$196:$B$239,'4B Calcul. Climat Scen.'!$C316,'2A Input Climat Scen. Pass.'!$C$196:$C$239,'4B Calcul. Climat Scen.'!$E316))","v":0},{"$f":"IF('2A Input Climat Scen. Pass.'!K199=\"\",SUMIFS('2A Input Climat Scen. Pass.'!E$196:E$240,'2A Input Climat Scen. Pass.'!$B$196:$B$240,'4B Calcul. Climat Scen.'!$C316,'2A Input Climat Scen. Pass.'!$C$196:$C$240,'4B Calcul. Climat Scen.'!$E316),SUMIFS('2A Input Climat Scen. Pass.'!K$196:K$239,'2A Input Climat Scen. Pass.'!$B$196:$B$239,'4B Calcul. Climat Scen.'!$C316,'2A Input Climat Scen. Pass.'!$C$196:$C$239,'4B Calcul. Climat Scen.'!$E316))","v":0},{"$f":"IF('2A Input Climat Scen. Pass.'!L199=\"\",SUMIFS('2A Input Climat Scen. Pass.'!F$196:F$240,'2A Input Climat Scen. Pass.'!$B$196:$B$240,'4B Calcul. Climat Scen.'!$C316,'2A Input Climat Scen. Pass.'!$C$196:$C$240,'4B Calcul. Climat Scen.'!$E316),SUMIFS('2A Input Climat Scen. Pass.'!L$196:L$239,'2A Input Climat Scen. Pass.'!$B$196:$B$239,'4B Calcul. Climat Scen.'!$C316,'2A Input Climat Scen. Pass.'!$C$196:$C$239,'4B Calcul. Climat Scen.'!$E316))","v":0},{"$f":"IF('2A Input Climat Scen. Pass.'!M199=\"\",SUMIFS('2A Input Climat Scen. Pass.'!G$196:G$240,'2A Input Climat Scen. Pass.'!$B$196:$B$240,'4B Calcul. Climat Scen.'!$C316,'2A Input Climat Scen. Pass.'!$C$196:$C$240,'4B Calcul. Climat Scen.'!$E316),SUMIFS('2A Input Climat Scen. Pass.'!M$196:M$239,'2A Input Climat Scen. Pass.'!$B$196:$B$239,'4B Calcul. Climat Scen.'!$C316,'2A Input Climat Scen. Pass.'!$C$196:$C$239,'4B Calcul. Climat Scen.'!$E316))","v":0},{"$f":"IF('2A Input Climat Scen. Pass.'!N199=\"\",SUMIFS('2A Input Climat Scen. Pass.'!H$196:H$240,'2A Input Climat Scen. Pass.'!$B$196:$B$240,'4B Calcul. Climat Scen.'!$C316,'2A Input Climat Scen. Pass.'!$C$196:$C$240,'4B Calcul. Climat Scen.'!$E316),SUMIFS('2A Input Climat Scen. Pass.'!N$196:N$239,'2A Input Climat Scen. Pass.'!$B$196:$B$239,'4B Calcul. Climat Scen.'!$C316,'2A Input Climat Scen. Pass.'!$C$196:$C$239,'4B Calcul. Climat Scen.'!$E316))","v":0},null,0,0,0,0,0,0,null,{"$f":"SUMIFS('4A Calcul. BAU city'!O$13:O$61,'4A Calcul. BAU city'!$C$13:$C$61,'4B Calcul. Climat Scen.'!$C316,'4A Calcul. BAU city'!$E$13:$E$61,'4B Calcul. Climat Scen.'!$E316)*M316/100","v":0},0,0,0,0,0,null,{"$f":"SUMIFS('4A Calcul. BAU city'!O$13:O$61,'4A Calcul. BAU city'!$C$13:$C$61,'4B Calcul. Climat Scen.'!$C316,'4A Calcul. BAU city'!$E$13:$E$61,'4B Calcul. Climat Scen.'!$E316)*M316/100*SUMIFS('4A Calcul. BAU city'!$V$13:$V$61,'4A Calcul. BAU city'!$C$13:$C$61,'4B Calcul. Climat Scen.'!$C316,'4A Calcul. BAU city'!$E$13:$E$61,'4B Calcul. Climat Scen.'!$E316)","v":0},{"$f":"U316*SUMIFS('4A Calcul. BAU city'!$V$13:$V$61,'4A Calcul. BAU city'!$C$13:$C$61,'4B Calcul. Climat Scen.'!$C316,'4A Calcul. BAU city'!$E$13:$E$61,'4B Calcul. Climat Scen.'!$E316)","v":0},{"$f":"V316*SUMIFS('4A Calcul. BAU city'!$V$13:$V$61,'4A Calcul. BAU city'!$C$13:$C$61,'4B Calcul. Climat Scen.'!$C316,'4A Calcul. BAU city'!$E$13:$E$61,'4B Calcul. Climat Scen.'!$E316)","v":0},{"$f":"W316*SUMIFS('4A Calcul. BAU city'!$V$13:$V$61,'4A Calcul. BAU city'!$C$13:$C$61,'4B Calcul. Climat Scen.'!$C316,'4A Calcul. BAU city'!$E$13:$E$61,'4B Calcul. Climat Scen.'!$E316)","v":0},{"$f":"X316*SUMIFS('4A Calcul. BAU city'!$V$13:$V$61,'4A Calcul. BAU city'!$C$13:$C$61,'4B Calcul. Climat Scen.'!$C316,'4A Calcul. BAU city'!$E$13:$E$61,'4B Calcul. Climat Scen.'!$E316)","v":0},{"$f":"Y316*SUMIFS('4A Calcul. BAU city'!$V$13:$V$61,'4A Calcul. BAU city'!$C$13:$C$61,'4B Calcul. Climat Scen.'!$C316,'4A Calcul. BAU city'!$E$13:$E$61,'4B Calcul. Climat Scen.'!$E316)","v":0},null,{"$f":"INDEX('6 Defaults parameters'!$T$9:$Y$18,MATCH($D316,'6 Defaults parameters'!$B$9:$B$18,0),MATCH(AH$313,'6 Defaults parameters'!$T$8:$Y$8,0))*AA316/10^6","v":0},{"$f":"INDEX('6 Defaults parameters'!$T$9:$Y$18,MATCH($D316,'6 Defaults parameters'!$B$9:$B$18,0),MATCH(AI$313,'6 Defaults parameters'!$T$8:$Y$8,0))*AB316/10^6","v":0},{"$f":"INDEX('6 Defaults parameters'!$T$9:$Y$18,MATCH($D316,'6 Defaults parameters'!$B$9:$B$18,0),MATCH(AJ$313,'6 Defaults parameters'!$T$8:$Y$8,0))*AC316/10^6","v":0},{"$f":"INDEX('6 Defaults parameters'!$T$9:$Y$18,MATCH($D316,'6 Defaults parameters'!$B$9:$B$18,0),MATCH(AK$313,'6 Defaults parameters'!$T$8:$Y$8,0))*AD316/10^6","v":0},{"$f":"INDEX('6 Defaults parameters'!$T$9:$Y$18,MATCH($D316,'6 Defaults parameters'!$B$9:$B$18,0),MATCH(AL$313,'6 Defaults parameters'!$T$8:$Y$8,0))*AE316/10^6","v":0},{"$f":"INDEX('6 Defaults parameters'!$T$9:$Y$18,MATCH($D316,'6 Defaults parameters'!$B$9:$B$18,0),MATCH(AM$313,'6 Defaults parameters'!$T$8:$Y$8,0))*AF316/10^6","v":0}]
[null,"Scenario 2)","Private car",{"$f":"RoadNG","v":"Road - NG"},{"$f":"NG","v":"NG"},0,{"$f":"IF('2A Input Climat Scen. Pass.'!J200=\"\",SUMIFS('2A Input Climat Scen. Pass.'!D$196:D$240,'2A Input Climat Scen. Pass.'!$B$196:$B$240,'4B Calcul. Climat Scen.'!$C317,'2A Input Climat Scen. Pass.'!$C$196:$C$240,'4B Calcul. Climat Scen.'!$E317),SUMIFS('2A Input Climat Scen. Pass.'!J$196:J$239,'2A Input Climat Scen. Pass.'!$B$196:$B$239,'4B Calcul. Climat Scen.'!$C317,'2A Input Climat Scen. Pass.'!$C$196:$C$239,'4B Calcul. Climat Scen.'!$E317))","v":0},{"$f":"IF('2A Input Climat Scen. Pass.'!K200=\"\",SUMIFS('2A Input Climat Scen. Pass.'!E$196:E$240,'2A Input Climat Scen. Pass.'!$B$196:$B$240,'4B Calcul. Climat Scen.'!$C317,'2A Input Climat Scen. Pass.'!$C$196:$C$240,'4B Calcul. Climat Scen.'!$E317),SUMIFS('2A Input Climat Scen. Pass.'!K$196:K$239,'2A Input Climat Scen. Pass.'!$B$196:$B$239,'4B Calcul. Climat Scen.'!$C317,'2A Input Climat Scen. Pass.'!$C$196:$C$239,'4B Calcul. Climat Scen.'!$E317))","v":0},{"$f":"IF('2A Input Climat Scen. Pass.'!L200=\"\",SUMIFS('2A Input Climat Scen. Pass.'!F$196:F$240,'2A Input Climat Scen. Pass.'!$B$196:$B$240,'4B Calcul. Climat Scen.'!$C317,'2A Input Climat Scen. Pass.'!$C$196:$C$240,'4B Calcul. Climat Scen.'!$E317),SUMIFS('2A Input Climat Scen. Pass.'!L$196:L$239,'2A Input Climat Scen. Pass.'!$B$196:$B$239,'4B Calcul. Climat Scen.'!$C317,'2A Input Climat Scen. Pass.'!$C$196:$C$239,'4B Calcul. Climat Scen.'!$E317))","v":0},{"$f":"IF('2A Input Climat Scen. Pass.'!M200=\"\",SUMIFS('2A Input Climat Scen. Pass.'!G$196:G$240,'2A Input Climat Scen. Pass.'!$B$196:$B$240,'4B Calcul. Climat Scen.'!$C317,'2A Input Climat Scen. Pass.'!$C$196:$C$240,'4B Calcul. Climat Scen.'!$E317),SUMIFS('2A Input Climat Scen. Pass.'!M$196:M$239,'2A Input Climat Scen. Pass.'!$B$196:$B$239,'4B Calcul. Climat Scen.'!$C317,'2A Input Climat Scen. Pass.'!$C$196:$C$239,'4B Calcul. Climat Scen.'!$E317))","v":0},{"$f":"IF('2A Input Climat Scen. Pass.'!N200=\"\",SUMIFS('2A Input Climat Scen. Pass.'!H$196:H$240,'2A Input Climat Scen. Pass.'!$B$196:$B$240,'4B Calcul. Climat Scen.'!$C317,'2A Input Climat Scen. Pass.'!$C$196:$C$240,'4B Calcul. Climat Scen.'!$E317),SUMIFS('2A Input Climat Scen. Pass.'!N$196:N$239,'2A Input Climat Scen. Pass.'!$B$196:$B$239,'4B Calcul. Climat Scen.'!$C317,'2A Input Climat Scen. Pass.'!$C$196:$C$239,'4B Calcul. Climat Scen.'!$E317))","v":0},null,0,0,0,0,0,0,null,{"$f":"SUMIFS('4A Calcul. BAU city'!O$13:O$61,'4A Calcul. BAU city'!$C$13:$C$61,'4B Calcul. Climat Scen.'!$C317,'4A Calcul. BAU city'!$E$13:$E$61,'4B Calcul. Climat Scen.'!$E317)*M317/100","v":0},0,0,0,0,0,null,{"$f":"SUMIFS('4A Calcul. BAU city'!O$13:O$61,'4A Calcul. BAU city'!$C$13:$C$61,'4B Calcul. Climat Scen.'!$C317,'4A Calcul. BAU city'!$E$13:$E$61,'4B Calcul. Climat Scen.'!$E317)*M317/100*SUMIFS('4A Calcul. BAU city'!$V$13:$V$61,'4A Calcul. BAU city'!$C$13:$C$61,'4B Calcul. Climat Scen.'!$C317,'4A Calcul. BAU city'!$E$13:$E$61,'4B Calcul. Climat Scen.'!$E317)","v":0},{"$f":"U317*SUMIFS('4A Calcul. BAU city'!$V$13:$V$61,'4A Calcul. BAU city'!$C$13:$C$61,'4B Calcul. Climat Scen.'!$C317,'4A Calcul. BAU city'!$E$13:$E$61,'4B Calcul. Climat Scen.'!$E317)","v":0},{"$f":"V317*SUMIFS('4A Calcul. BAU city'!$V$13:$V$61,'4A Calcul. BAU city'!$C$13:$C$61,'4B Calcul. Climat Scen.'!$C317,'4A Calcul. BAU city'!$E$13:$E$61,'4B Calcul. Climat Scen.'!$E317)","v":0},{"$f":"W317*SUMIFS('4A Calcul. BAU city'!$V$13:$V$61,'4A Calcul. BAU city'!$C$13:$C$61,'4B Calcul. Climat Scen.'!$C317,'4A Calcul. BAU city'!$E$13:$E$61,'4B Calcul. Climat Scen.'!$E317)","v":0},{"$f":"X317*SUMIFS('4A Calcul. BAU city'!$V$13:$V$61,'4A Calcul. BAU city'!$C$13:$C$61,'4B Calcul. Climat Scen.'!$C317,'4A Calcul. BAU city'!$E$13:$E$61,'4B Calcul. Climat Scen.'!$E317)","v":0},{"$f":"Y317*SUMIFS('4A Calcul. BAU city'!$V$13:$V$61,'4A Calcul. BAU city'!$C$13:$C$61,'4B Calcul. Climat Scen.'!$C317,'4A Calcul. BAU city'!$E$13:$E$61,'4B Calcul. Climat Scen.'!$E317)","v":0},null,{"$f":"INDEX('6 Defaults parameters'!$T$9:$Y$18,MATCH($D317,'6 Defaults parameters'!$B$9:$B$18,0),MATCH(AH$313,'6 Defaults parameters'!$T$8:$Y$8,0))*AA317/10^6","v":0},{"$f":"INDEX('6 Defaults parameters'!$T$9:$Y$18,MATCH($D317,'6 Defaults parameters'!$B$9:$B$18,0),MATCH(AI$313,'6 Defaults parameters'!$T$8:$Y$8,0))*AB317/10^6","v":0},{"$f":"INDEX('6 Defaults parameters'!$T$9:$Y$18,MATCH($D317,'6 Defaults parameters'!$B$9:$B$18,0),MATCH(AJ$313,'6 Defaults parameters'!$T$8:$Y$8,0))*AC317/10^6","v":0},{"$f":"INDEX('6 Defaults parameters'!$T$9:$Y$18,MATCH($D317,'6 Defaults parameters'!$B$9:$B$18,0),MATCH(AK$313,'6 Defaults parameters'!$T$8:$Y$8,0))*AD317/10^6","v":0},{"$f":"INDEX('6 Defaults parameters'!$T$9:$Y$18,MATCH($D317,'6 Defaults parameters'!$B$9:$B$18,0),MATCH(AL$313,'6 Defaults parameters'!$T$8:$Y$8,0))*AE317/10^6","v":0},{"$f":"INDEX('6 Defaults parameters'!$T$9:$Y$18,MATCH($D317,'6 Defaults parameters'!$B$9:$B$18,0),MATCH(AM$313,'6 Defaults parameters'!$T$8:$Y$8,0))*AF317/10^6","v":0}]
[null,"Scenario 2)","Private car",{"$f":"RoadH","v":"Road - Hybrid"},{"$f":"Hybrid","v":"Hybrid"},0,{"$f":"IF('2A Input Climat Scen. Pass.'!J201=\"\",SUMIFS('2A Input Climat Scen. Pass.'!D$196:D$240,'2A Input Climat Scen. Pass.'!$B$196:$B$240,'4B Calcul. Climat Scen.'!$C318,'2A Input Climat Scen. Pass.'!$C$196:$C$240,'4B Calcul. Climat Scen.'!$E318),SUMIFS('2A Input Climat Scen. Pass.'!J$196:J$239,'2A Input Climat Scen. Pass.'!$B$196:$B$239,'4B Calcul. Climat Scen.'!$C318,'2A Input Climat Scen. Pass.'!$C$196:$C$239,'4B Calcul. Climat Scen.'!$E318))","v":0},{"$f":"IF('2A Input Climat Scen. Pass.'!K201=\"\",SUMIFS('2A Input Climat Scen. Pass.'!E$196:E$240,'2A Input Climat Scen. Pass.'!$B$196:$B$240,'4B Calcul. Climat Scen.'!$C318,'2A Input Climat Scen. Pass.'!$C$196:$C$240,'4B Calcul. Climat Scen.'!$E318),SUMIFS('2A Input Climat Scen. Pass.'!K$196:K$239,'2A Input Climat Scen. Pass.'!$B$196:$B$239,'4B Calcul. Climat Scen.'!$C318,'2A Input Climat Scen. Pass.'!$C$196:$C$239,'4B Calcul. Climat Scen.'!$E318))","v":0},{"$f":"IF('2A Input Climat Scen. Pass.'!L201=\"\",SUMIFS('2A Input Climat Scen. Pass.'!F$196:F$240,'2A Input Climat Scen. Pass.'!$B$196:$B$240,'4B Calcul. Climat Scen.'!$C318,'2A Input Climat Scen. Pass.'!$C$196:$C$240,'4B Calcul. Climat Scen.'!$E318),SUMIFS('2A Input Climat Scen. Pass.'!L$196:L$239,'2A Input Climat Scen. Pass.'!$B$196:$B$239,'4B Calcul. Climat Scen.'!$C318,'2A Input Climat Scen. Pass.'!$C$196:$C$239,'4B Calcul. Climat Scen.'!$E318))","v":0},{"$f":"IF('2A Input Climat Scen. Pass.'!M201=\"\",SUMIFS('2A Input Climat Scen. Pass.'!G$196:G$240,'2A Input Climat Scen. Pass.'!$B$196:$B$240,'4B Calcul. Climat Scen.'!$C318,'2A Input Climat Scen. Pass.'!$C$196:$C$240,'4B Calcul. Climat Scen.'!$E318),SUMIFS('2A Input Climat Scen. Pass.'!M$196:M$239,'2A Input Climat Scen. Pass.'!$B$196:$B$239,'4B Calcul. Climat Scen.'!$C318,'2A Input Climat Scen. Pass.'!$C$196:$C$239,'4B Calcul. Climat Scen.'!$E318))","v":0},{"$f":"IF('2A Input Climat Scen. Pass.'!N201=\"\",SUMIFS('2A Input Climat Scen. Pass.'!H$196:H$240,'2A Input Climat Scen. Pass.'!$B$196:$B$240,'4B Calcul. Climat Scen.'!$C318,'2A Input Climat Scen. Pass.'!$C$196:$C$240,'4B Calcul. Climat Scen.'!$E318),SUMIFS('2A Input Climat Scen. Pass.'!N$196:N$239,'2A Input Climat Scen. Pass.'!$B$196:$B$239,'4B Calcul. Climat Scen.'!$C318,'2A Input Climat Scen. Pass.'!$C$196:$C$239,'4B Calcul. Climat Scen.'!$E318))","v":0},null,0,0,0,0,0,0,null,{"$f":"SUMIFS('4A Calcul. BAU city'!O$13:O$61,'4A Calcul. BAU city'!$C$13:$C$61,'4B Calcul. Climat Scen.'!$C318,'4A Calcul. BAU city'!$E$13:$E$61,'4B Calcul. Climat Scen.'!$E318)*M318/100","v":0},0,0,0,0,0,null,{"$f":"SUMIFS('4A Calcul. BAU city'!O$13:O$61,'4A Calcul. BAU city'!$C$13:$C$61,'4B Calcul. Climat Scen.'!$C318,'4A Calcul. BAU city'!$E$13:$E$61,'4B Calcul. Climat Scen.'!$E318)*M318/100*SUMIFS('4A Calcul. BAU city'!$V$13:$V$61,'4A Calcul. BAU city'!$C$13:$C$61,'4B Calcul. Climat Scen.'!$C318,'4A Calcul. BAU city'!$E$13:$E$61,'4B Calcul. Climat Scen.'!$E318)","v":0},{"$f":"U318*SUMIFS('4A Calcul. BAU city'!$V$13:$V$61,'4A Calcul. BAU city'!$C$13:$C$61,'4B Calcul. Climat Scen.'!$C318,'4A Calcul. BAU city'!$E$13:$E$61,'4B Calcul. Climat Scen.'!$E318)","v":0},{"$f":"V318*SUMIFS('4A Calcul. BAU city'!$V$13:$V$61,'4A Calcul. BAU city'!$C$13:$C$61,'4B Calcul. Climat Scen.'!$C318,'4A Calcul. BAU city'!$E$13:$E$61,'4B Calcul. Climat Scen.'!$E318)","v":0},{"$f":"W318*SUMIFS('4A Calcul. BAU city'!$V$13:$V$61,'4A Calcul. BAU city'!$C$13:$C$61,'4B Calcul. Climat Scen.'!$C318,'4A Calcul. BAU city'!$E$13:$E$61,'4B Calcul. Climat Scen.'!$E318)","v":0},{"$f":"X318*SUMIFS('4A Calcul. BAU city'!$V$13:$V$61,'4A Calcul. BAU city'!$C$13:$C$61,'4B Calcul. Climat Scen.'!$C318,'4A Calcul. BAU city'!$E$13:$E$61,'4B Calcul. Climat Scen.'!$E318)","v":0},{"$f":"Y318*SUMIFS('4A Calcul. BAU city'!$V$13:$V$61,'4A Calcul. BAU city'!$C$13:$C$61,'4B Calcul. Climat Scen.'!$C318,'4A Calcul. BAU city'!$E$13:$E$61,'4B Calcul. Climat Scen.'!$E318)","v":0},null,{"$f":"INDEX('6 Defaults parameters'!$T$9:$Y$18,MATCH($D318,'6 Defaults parameters'!$B$9:$B$18,0),MATCH(AH$313,'6 Defaults parameters'!$T$8:$Y$8,0))*AA318/10^6","v":0},{"$f":"INDEX('6 Defaults parameters'!$T$9:$Y$18,MATCH($D318,'6 Defaults parameters'!$B$9:$B$18,0),MATCH(AI$313,'6 Defaults parameters'!$T$8:$Y$8,0))*AB318/10^6","v":0},{"$f":"INDEX('6 Defaults parameters'!$T$9:$Y$18,MATCH($D318,'6 Defaults parameters'!$B$9:$B$18,0),MATCH(AJ$313,'6 Defaults parameters'!$T$8:$Y$8,0))*AC318/10^6","v":0},{"$f":"INDEX('6 Defaults parameters'!$T$9:$Y$18,MATCH($D318,'6 Defaults parameters'!$B$9:$B$18,0),MATCH(AK$313,'6 Defaults parameters'!$T$8:$Y$8,0))*AD318/10^6","v":0},{"$f":"INDEX('6 Defaults parameters'!$T$9:$Y$18,MATCH($D318,'6 Defaults parameters'!$B$9:$B$18,0),MATCH(AL$313,'6 Defaults parameters'!$T$8:$Y$8,0))*AE318/10^6","v":0},{"$f":"INDEX('6 Defaults parameters'!$T$9:$Y$18,MATCH($D318,'6 Defaults parameters'!$B$9:$B$18,0),MATCH(AM$313,'6 Defaults parameters'!$T$8:$Y$8,0))*AF318/10^6","v":0}]
[null,"Scenario 2)","Private car",{"$f":"Roadelec","v":"Road - Electric"},{"$f":"Electric","v":"Electric"},0,{"$f":"IF('2A Input Climat Scen. Pass.'!J202=\"\",SUMIFS('2A Input Climat Scen. Pass.'!D$196:D$240,'2A Input Climat Scen. Pass.'!$B$196:$B$240,'4B Calcul. Climat Scen.'!$C319,'2A Input Climat Scen. Pass.'!$C$196:$C$240,'4B Calcul. Climat Scen.'!$E319),SUMIFS('2A Input Climat Scen. Pass.'!J$196:J$239,'2A Input Climat Scen. Pass.'!$B$196:$B$239,'4B Calcul. Climat Scen.'!$C319,'2A Input Climat Scen. Pass.'!$C$196:$C$239,'4B Calcul. Climat Scen.'!$E319))","v":0},{"$f":"IF('2A Input Climat Scen. Pass.'!K202=\"\",SUMIFS('2A Input Climat Scen. Pass.'!E$196:E$240,'2A Input Climat Scen. Pass.'!$B$196:$B$240,'4B Calcul. Climat Scen.'!$C319,'2A Input Climat Scen. Pass.'!$C$196:$C$240,'4B Calcul. Climat Scen.'!$E319),SUMIFS('2A Input Climat Scen. Pass.'!K$196:K$239,'2A Input Climat Scen. Pass.'!$B$196:$B$239,'4B Calcul. Climat Scen.'!$C319,'2A Input Climat Scen. Pass.'!$C$196:$C$239,'4B Calcul. Climat Scen.'!$E319))","v":0},{"$f":"IF('2A Input Climat Scen. Pass.'!L202=\"\",SUMIFS('2A Input Climat Scen. Pass.'!F$196:F$240,'2A Input Climat Scen. Pass.'!$B$196:$B$240,'4B Calcul. Climat Scen.'!$C319,'2A Input Climat Scen. Pass.'!$C$196:$C$240,'4B Calcul. Climat Scen.'!$E319),SUMIFS('2A Input Climat Scen. Pass.'!L$196:L$239,'2A Input Climat Scen. Pass.'!$B$196:$B$239,'4B Calcul. Climat Scen.'!$C319,'2A Input Climat Scen. Pass.'!$C$196:$C$239,'4B Calcul. Climat Scen.'!$E319))","v":0},{"$f":"IF('2A Input Climat Scen. Pass.'!M202=\"\",SUMIFS('2A Input Climat Scen. Pass.'!G$196:G$240,'2A Input Climat Scen. Pass.'!$B$196:$B$240,'4B Calcul. Climat Scen.'!$C319,'2A Input Climat Scen. Pass.'!$C$196:$C$240,'4B Calcul. Climat Scen.'!$E319),SUMIFS('2A Input Climat Scen. Pass.'!M$196:M$239,'2A Input Climat Scen. Pass.'!$B$196:$B$239,'4B Calcul. Climat Scen.'!$C319,'2A Input Climat Scen. Pass.'!$C$196:$C$239,'4B Calcul. Climat Scen.'!$E319))","v":0},{"$f":"IF('2A Input Climat Scen. Pass.'!N202=\"\",SUMIFS('2A Input Climat Scen. Pass.'!H$196:H$240,'2A Input Climat Scen. Pass.'!$B$196:$B$240,'4B Calcul. Climat Scen.'!$C319,'2A Input Climat Scen. Pass.'!$C$196:$C$240,'4B Calcul. Climat Scen.'!$E319),SUMIFS('2A Input Climat Scen. Pass.'!N$196:N$239,'2A Input Climat Scen. Pass.'!$B$196:$B$239,'4B Calcul. Climat Scen.'!$C319,'2A Input Climat Scen. Pass.'!$C$196:$C$239,'4B Calcul. Climat Scen.'!$E319))","v":0},null,0,0,0,0,0,0,null,{"$f":"SUMIFS('4A Calcul. BAU city'!O$13:O$61,'4A Calcul. BAU city'!$C$13:$C$61,'4B Calcul. Climat Scen.'!$C319,'4A Calcul. BAU city'!$E$13:$E$61,'4B Calcul. Climat Scen.'!$E319)*M319/100","v":0},0,0,0,0,0,null,{"$f":"SUMIFS('4A Calcul. BAU city'!O$13:O$61,'4A Calcul. BAU city'!$C$13:$C$61,'4B Calcul. Climat Scen.'!$C319,'4A Calcul. BAU city'!$E$13:$E$61,'4B Calcul. Climat Scen.'!$E319)*M319/100*SUMIFS('4A Calcul. BAU city'!$V$13:$V$61,'4A Calcul. BAU city'!$C$13:$C$61,'4B Calcul. Climat Scen.'!$C319,'4A Calcul. BAU city'!$E$13:$E$61,'4B Calcul. Climat Scen.'!$E319)","v":0},{"$f":"U319*SUMIFS('4A Calcul. BAU city'!$V$13:$V$61,'4A Calcul. BAU city'!$C$13:$C$61,'4B Calcul. Climat Scen.'!$C319,'4A Calcul. BAU city'!$E$13:$E$61,'4B Calcul. Climat Scen.'!$E319)","v":0},{"$f":"V319*SUMIFS('4A Calcul. BAU city'!$V$13:$V$61,'4A Calcul. BAU city'!$C$13:$C$61,'4B Calcul. Climat Scen.'!$C319,'4A Calcul. BAU city'!$E$13:$E$61,'4B Calcul. Climat Scen.'!$E319)","v":0},{"$f":"W319*SUMIFS('4A Calcul. BAU city'!$V$13:$V$61,'4A Calcul. BAU city'!$C$13:$C$61,'4B Calcul. Climat Scen.'!$C319,'4A Calcul. BAU city'!$E$13:$E$61,'4B Calcul. Climat Scen.'!$E319)","v":0},{"$f":"X319*SUMIFS('4A Calcul. BAU city'!$V$13:$V$61,'4A Calcul. BAU city'!$C$13:$C$61,'4B Calcul. Climat Scen.'!$C319,'4A Calcul. BAU city'!$E$13:$E$61,'4B Calcul. Climat Scen.'!$E319)","v":0},{"$f":"Y319*SUMIFS('4A Calcul. BAU city'!$V$13:$V$61,'4A Calcul. BAU city'!$C$13:$C$61,'4B Calcul. Climat Scen.'!$C319,'4A Calcul. BAU city'!$E$13:$E$61,'4B Calcul. Climat Scen.'!$E319)","v":0},null,{"$f":"INDEX('6 Defaults parameters'!$T$9:$Y$18,MATCH($D319,'6 Defaults parameters'!$B$9:$B$18,0),MATCH(AH$313,'6 Defaults parameters'!$T$8:$Y$8,0))*AA319/10^6","v":0},{"$f":"INDEX('6 Defaults parameters'!$T$9:$Y$18,MATCH($D319,'6 Defaults parameters'!$B$9:$B$18,0),MATCH(AI$313,'6 Defaults parameters'!$T$8:$Y$8,0))*AB319/10^6","v":0},{"$f":"INDEX('6 Defaults parameters'!$T$9:$Y$18,MATCH($D319,'6 Defaults parameters'!$B$9:$B$18,0),MATCH(AJ$313,'6 Defaults parameters'!$T$8:$Y$8,0))*AC319/10^6","v":0},{"$f":"INDEX('6 Defaults parameters'!$T$9:$Y$18,MATCH($D319,'6 Defaults parameters'!$B$9:$B$18,0),MATCH(AK$313,'6 Defaults parameters'!$T$8:$Y$8,0))*AD319/10^6","v":0},{"$f":"INDEX('6 Defaults parameters'!$T$9:$Y$18,MATCH($D319,'6 Defaults parameters'!$B$9:$B$18,0),MATCH(AL$313,'6 Defaults parameters'!$T$8:$Y$8,0))*AE319/10^6","v":0},{"$f":"INDEX('6 Defaults parameters'!$T$9:$Y$18,MATCH($D319,'6 Defaults parameters'!$B$9:$B$18,0),MATCH(AM$313,'6 Defaults parameters'!$T$8:$Y$8,0))*AF319/10^6","v":0}]
[null,"Scenario 2)",{"$f":"Itaxi","v":"Individual taxi"},{"$f":"RoadG","v":"Road - Gasoline"},{"$f":"Gasoline","v":"Gasoline"},0,{"$f":"IF('2A Input Climat Scen. Pass.'!J204=\"\",SUMIFS('2A Input Climat Scen. Pass.'!D$196:D$240,'2A Input Climat Scen. Pass.'!$B$196:$B$240,'4B Calcul. Climat Scen.'!$C320,'2A Input Climat Scen. Pass.'!$C$196:$C$240,'4B Calcul. Climat Scen.'!$E320),SUMIFS('2A Input Climat Scen. Pass.'!J$196:J$239,'2A Input Climat Scen. Pass.'!$B$196:$B$239,'4B Calcul. Climat Scen.'!$C320,'2A Input Climat Scen. Pass.'!$C$196:$C$239,'4B Calcul. Climat Scen.'!$E320))","v":0},{"$f":"IF('2A Input Climat Scen. Pass.'!K204=\"\",SUMIFS('2A Input Climat Scen. Pass.'!E$196:E$240,'2A Input Climat Scen. Pass.'!$B$196:$B$240,'4B Calcul. Climat Scen.'!$C320,'2A Input Climat Scen. Pass.'!$C$196:$C$240,'4B Calcul. Climat Scen.'!$E320),SUMIFS('2A Input Climat Scen. Pass.'!K$196:K$239,'2A Input Climat Scen. Pass.'!$B$196:$B$239,'4B Calcul. Climat Scen.'!$C320,'2A Input Climat Scen. Pass.'!$C$196:$C$239,'4B Calcul. Climat Scen.'!$E320))","v":0},{"$f":"IF('2A Input Climat Scen. Pass.'!L204=\"\",SUMIFS('2A Input Climat Scen. Pass.'!F$196:F$240,'2A Input Climat Scen. Pass.'!$B$196:$B$240,'4B Calcul. Climat Scen.'!$C320,'2A Input Climat Scen. Pass.'!$C$196:$C$240,'4B Calcul. Climat Scen.'!$E320),SUMIFS('2A Input Climat Scen. Pass.'!L$196:L$239,'2A Input Climat Scen. Pass.'!$B$196:$B$239,'4B Calcul. Climat Scen.'!$C320,'2A Input Climat Scen. Pass.'!$C$196:$C$239,'4B Calcul. Climat Scen.'!$E320))","v":0},{"$f":"IF('2A Input Climat Scen. Pass.'!M204=\"\",SUMIFS('2A Input Climat Scen. Pass.'!G$196:G$240,'2A Input Climat Scen. Pass.'!$B$196:$B$240,'4B Calcul. Climat Scen.'!$C320,'2A Input Climat Scen. Pass.'!$C$196:$C$240,'4B Calcul. Climat Scen.'!$E320),SUMIFS('2A Input Climat Scen. Pass.'!M$196:M$239,'2A Input Climat Scen. Pass.'!$B$196:$B$239,'4B Calcul. Climat Scen.'!$C320,'2A Input Climat Scen. Pass.'!$C$196:$C$239,'4B Calcul. Climat Scen.'!$E320))","v":0},{"$f":"IF('2A Input Climat Scen. Pass.'!N204=\"\",SUMIFS('2A Input Climat Scen. Pass.'!H$196:H$240,'2A Input Climat Scen. Pass.'!$B$196:$B$240,'4B Calcul. Climat Scen.'!$C320,'2A Input Climat Scen. Pass.'!$C$196:$C$240,'4B Calcul. Climat Scen.'!$E320),SUMIFS('2A Input Climat Scen. Pass.'!N$196:N$239,'2A Input Climat Scen. Pass.'!$B$196:$B$239,'4B Calcul. Climat Scen.'!$C320,'2A Input Climat Scen. Pass.'!$C$196:$C$239,'4B Calcul. Climat Scen.'!$E320))","v":0},null,0,{"$f":"SUMIF($C$225:$C$240,$C320,AJ$225:AJ$240)*G320","v":0},0,0,0,0,null,{"$f":"SUMIFS('4A Calcul. BAU city'!O$13:O$61,'4A Calcul. BAU city'!$C$13:$C$61,'4B Calcul. Climat Scen.'!$C320,'4A Calcul. BAU city'!$E$13:$E$61,'4B Calcul. Climat Scen.'!$E320)*M320/100","v":0},0,0,0,0,0,null,{"$f":"SUMIFS('4A Calcul. BAU city'!O$13:O$61,'4A Calcul. BAU city'!$C$13:$C$61,'4B Calcul. Climat Scen.'!$C320,'4A Calcul. BAU city'!$E$13:$E$61,'4B Calcul. Climat Scen.'!$E320)*M320/100*SUMIFS('4A Calcul. BAU city'!$V$13:$V$61,'4A Calcul. BAU city'!$C$13:$C$61,'4B Calcul. Climat Scen.'!$C320,'4A Calcul. BAU city'!$E$13:$E$61,'4B Calcul. Climat Scen.'!$E320)","v":0},{"$f":"U320*SUMIFS('4A Calcul. BAU city'!$V$13:$V$61,'4A Calcul. BAU city'!$C$13:$C$61,'4B Calcul. Climat Scen.'!$C320,'4A Calcul. BAU city'!$E$13:$E$61,'4B Calcul. Climat Scen.'!$E320)","v":0},{"$f":"V320*SUMIFS('4A Calcul. BAU city'!$V$13:$V$61,'4A Calcul. BAU city'!$C$13:$C$61,'4B Calcul. Climat Scen.'!$C320,'4A Calcul. BAU city'!$E$13:$E$61,'4B Calcul. Climat Scen.'!$E320)","v":0},{"$f":"W320*SUMIFS('4A Calcul. BAU city'!$V$13:$V$61,'4A Calcul. BAU city'!$C$13:$C$61,'4B Calcul. Climat Scen.'!$C320,'4A Calcul. BAU city'!$E$13:$E$61,'4B Calcul. Climat Scen.'!$E320)","v":0},{"$f":"X320*SUMIFS('4A Calcul. BAU city'!$V$13:$V$61,'4A Calcul. BAU city'!$C$13:$C$61,'4B Calcul. Climat Scen.'!$C320,'4A Calcul. BAU city'!$E$13:$E$61,'4B Calcul. Climat Scen.'!$E320)","v":0},{"$f":"Y320*SUMIFS('4A Calcul. BAU city'!$V$13:$V$61,'4A Calcul. BAU city'!$C$13:$C$61,'4B Calcul. Climat Scen.'!$C320,'4A Calcul. BAU city'!$E$13:$E$61,'4B Calcul. Climat Scen.'!$E320)","v":0},null,{"$f":"INDEX('6 Defaults parameters'!$T$9:$Y$18,MATCH($D320,'6 Defaults parameters'!$B$9:$B$18,0),MATCH(AH$313,'6 Defaults parameters'!$T$8:$Y$8,0))*AA320/10^6","v":0},{"$f":"INDEX('6 Defaults parameters'!$T$9:$Y$18,MATCH($D320,'6 Defaults parameters'!$B$9:$B$18,0),MATCH(AI$313,'6 Defaults parameters'!$T$8:$Y$8,0))*AB320/10^6","v":0},{"$f":"INDEX('6 Defaults parameters'!$T$9:$Y$18,MATCH($D320,'6 Defaults parameters'!$B$9:$B$18,0),MATCH(AJ$313,'6 Defaults parameters'!$T$8:$Y$8,0))*AC320/10^6","v":0},{"$f":"INDEX('6 Defaults parameters'!$T$9:$Y$18,MATCH($D320,'6 Defaults parameters'!$B$9:$B$18,0),MATCH(AK$313,'6 Defaults parameters'!$T$8:$Y$8,0))*AD320/10^6","v":0},{"$f":"INDEX('6 Defaults parameters'!$T$9:$Y$18,MATCH($D320,'6 Defaults parameters'!$B$9:$B$18,0),MATCH(AL$313,'6 Defaults parameters'!$T$8:$Y$8,0))*AE320/10^6","v":0},{"$f":"INDEX('6 Defaults parameters'!$T$9:$Y$18,MATCH($D320,'6 Defaults parameters'!$B$9:$B$18,0),MATCH(AM$313,'6 Defaults parameters'!$T$8:$Y$8,0))*AF320/10^6","v":0}]
[null,"Scenario 2)","Individual taxi",{"$f":"RoadD","v":"Road - Diesel"},{"$f":"Diesel","v":"Diesel"},0,{"$f":"IF('2A Input Climat Scen. Pass.'!J205=\"\",SUMIFS('2A Input Climat Scen. Pass.'!D$196:D$240,'2A Input Climat Scen. Pass.'!$B$196:$B$240,'4B Calcul. Climat Scen.'!$C321,'2A Input Climat Scen. Pass.'!$C$196:$C$240,'4B Calcul. Climat Scen.'!$E321),SUMIFS('2A Input Climat Scen. Pass.'!J$196:J$239,'2A Input Climat Scen. Pass.'!$B$196:$B$239,'4B Calcul. Climat Scen.'!$C321,'2A Input Climat Scen. Pass.'!$C$196:$C$239,'4B Calcul. Climat Scen.'!$E321))","v":0},{"$f":"IF('2A Input Climat Scen. Pass.'!K205=\"\",SUMIFS('2A Input Climat Scen. Pass.'!E$196:E$240,'2A Input Climat Scen. Pass.'!$B$196:$B$240,'4B Calcul. Climat Scen.'!$C321,'2A Input Climat Scen. Pass.'!$C$196:$C$240,'4B Calcul. Climat Scen.'!$E321),SUMIFS('2A Input Climat Scen. Pass.'!K$196:K$239,'2A Input Climat Scen. Pass.'!$B$196:$B$239,'4B Calcul. Climat Scen.'!$C321,'2A Input Climat Scen. Pass.'!$C$196:$C$239,'4B Calcul. Climat Scen.'!$E321))","v":0},{"$f":"IF('2A Input Climat Scen. Pass.'!L205=\"\",SUMIFS('2A Input Climat Scen. Pass.'!F$196:F$240,'2A Input Climat Scen. Pass.'!$B$196:$B$240,'4B Calcul. Climat Scen.'!$C321,'2A Input Climat Scen. Pass.'!$C$196:$C$240,'4B Calcul. Climat Scen.'!$E321),SUMIFS('2A Input Climat Scen. Pass.'!L$196:L$239,'2A Input Climat Scen. Pass.'!$B$196:$B$239,'4B Calcul. Climat Scen.'!$C321,'2A Input Climat Scen. Pass.'!$C$196:$C$239,'4B Calcul. Climat Scen.'!$E321))","v":0},{"$f":"IF('2A Input Climat Scen. Pass.'!M205=\"\",SUMIFS('2A Input Climat Scen. Pass.'!G$196:G$240,'2A Input Climat Scen. Pass.'!$B$196:$B$240,'4B Calcul. Climat Scen.'!$C321,'2A Input Climat Scen. Pass.'!$C$196:$C$240,'4B Calcul. Climat Scen.'!$E321),SUMIFS('2A Input Climat Scen. Pass.'!M$196:M$239,'2A Input Climat Scen. Pass.'!$B$196:$B$239,'4B Calcul. Climat Scen.'!$C321,'2A Input Climat Scen. Pass.'!$C$196:$C$239,'4B Calcul. Climat Scen.'!$E321))","v":0},{"$f":"IF('2A Input Climat Scen. Pass.'!N205=\"\",SUMIFS('2A Input Climat Scen. Pass.'!H$196:H$240,'2A Input Climat Scen. Pass.'!$B$196:$B$240,'4B Calcul. Climat Scen.'!$C321,'2A Input Climat Scen. Pass.'!$C$196:$C$240,'4B Calcul. Climat Scen.'!$E321),SUMIFS('2A Input Climat Scen. Pass.'!N$196:N$239,'2A Input Climat Scen. Pass.'!$B$196:$B$239,'4B Calcul. Climat Scen.'!$C321,'2A Input Climat Scen. Pass.'!$C$196:$C$239,'4B Calcul. Climat Scen.'!$E321))","v":0},null,0,0,0,0,0,0,null,{"$f":"SUMIFS('4A Calcul. BAU city'!O$13:O$61,'4A Calcul. BAU city'!$C$13:$C$61,'4B Calcul. Climat Scen.'!$C321,'4A Calcul. BAU city'!$E$13:$E$61,'4B Calcul. Climat Scen.'!$E321)*M321/100","v":0},0,0,0,0,0,null,{"$f":"SUMIFS('4A Calcul. BAU city'!O$13:O$61,'4A Calcul. BAU city'!$C$13:$C$61,'4B Calcul. Climat Scen.'!$C321,'4A Calcul. BAU city'!$E$13:$E$61,'4B Calcul. Climat Scen.'!$E321)*M321/100*SUMIFS('4A Calcul. BAU city'!$V$13:$V$61,'4A Calcul. BAU city'!$C$13:$C$61,'4B Calcul. Climat Scen.'!$C321,'4A Calcul. BAU city'!$E$13:$E$61,'4B Calcul. Climat Scen.'!$E321)","v":0},{"$f":"U321*SUMIFS('4A Calcul. BAU city'!$V$13:$V$61,'4A Calcul. BAU city'!$C$13:$C$61,'4B Calcul. Climat Scen.'!$C321,'4A Calcul. BAU city'!$E$13:$E$61,'4B Calcul. Climat Scen.'!$E321)","v":0},{"$f":"V321*SUMIFS('4A Calcul. BAU city'!$V$13:$V$61,'4A Calcul. BAU city'!$C$13:$C$61,'4B Calcul. Climat Scen.'!$C321,'4A Calcul. BAU city'!$E$13:$E$61,'4B Calcul. Climat Scen.'!$E321)","v":0},{"$f":"W321*SUMIFS('4A Calcul. BAU city'!$V$13:$V$61,'4A Calcul. BAU city'!$C$13:$C$61,'4B Calcul. Climat Scen.'!$C321,'4A Calcul. BAU city'!$E$13:$E$61,'4B Calcul. Climat Scen.'!$E321)","v":0},{"$f":"X321*SUMIFS('4A Calcul. BAU city'!$V$13:$V$61,'4A Calcul. BAU city'!$C$13:$C$61,'4B Calcul. Climat Scen.'!$C321,'4A Calcul. BAU city'!$E$13:$E$61,'4B Calcul. Climat Scen.'!$E321)","v":0},{"$f":"Y321*SUMIFS('4A Calcul. BAU city'!$V$13:$V$61,'4A Calcul. BAU city'!$C$13:$C$61,'4B Calcul. Climat Scen.'!$C321,'4A Calcul. BAU city'!$E$13:$E$61,'4B Calcul. Climat Scen.'!$E321)","v":0},null,{"$f":"INDEX('6 Defaults parameters'!$T$9:$Y$18,MATCH($D321,'6 Defaults parameters'!$B$9:$B$18,0),MATCH(AH$313,'6 Defaults parameters'!$T$8:$Y$8,0))*AA321/10^6","v":0},{"$f":"INDEX('6 Defaults parameters'!$T$9:$Y$18,MATCH($D321,'6 Defaults parameters'!$B$9:$B$18,0),MATCH(AI$313,'6 Defaults parameters'!$T$8:$Y$8,0))*AB321/10^6","v":0},{"$f":"INDEX('6 Defaults parameters'!$T$9:$Y$18,MATCH($D321,'6 Defaults parameters'!$B$9:$B$18,0),MATCH(AJ$313,'6 Defaults parameters'!$T$8:$Y$8,0))*AC321/10^6","v":0},{"$f":"INDEX('6 Defaults parameters'!$T$9:$Y$18,MATCH($D321,'6 Defaults parameters'!$B$9:$B$18,0),MATCH(AK$313,'6 Defaults parameters'!$T$8:$Y$8,0))*AD321/10^6","v":0},{"$f":"INDEX('6 Defaults parameters'!$T$9:$Y$18,MATCH($D321,'6 Defaults parameters'!$B$9:$B$18,0),MATCH(AL$313,'6 Defaults parameters'!$T$8:$Y$8,0))*AE321/10^6","v":0},{"$f":"INDEX('6 Defaults parameters'!$T$9:$Y$18,MATCH($D321,'6 Defaults parameters'!$B$9:$B$18,0),MATCH(AM$313,'6 Defaults parameters'!$T$8:$Y$8,0))*AF321/10^6","v":0}]
[null,"Scenario 2)","Individual taxi",{"$f":"RoadLPG","v":"Road - LPG"},{"$f":"LPG","v":"LPG"},0,{"$f":"IF('2A Input Climat Scen. Pass.'!J206=\"\",SUMIFS('2A Input Climat Scen. Pass.'!D$196:D$240,'2A Input Climat Scen. Pass.'!$B$196:$B$240,'4B Calcul. Climat Scen.'!$C322,'2A Input Climat Scen. Pass.'!$C$196:$C$240,'4B Calcul. Climat Scen.'!$E322),SUMIFS('2A Input Climat Scen. Pass.'!J$196:J$239,'2A Input Climat Scen. Pass.'!$B$196:$B$239,'4B Calcul. Climat Scen.'!$C322,'2A Input Climat Scen. Pass.'!$C$196:$C$239,'4B Calcul. Climat Scen.'!$E322))","v":0},{"$f":"IF('2A Input Climat Scen. Pass.'!K206=\"\",SUMIFS('2A Input Climat Scen. Pass.'!E$196:E$240,'2A Input Climat Scen. Pass.'!$B$196:$B$240,'4B Calcul. Climat Scen.'!$C322,'2A Input Climat Scen. Pass.'!$C$196:$C$240,'4B Calcul. Climat Scen.'!$E322),SUMIFS('2A Input Climat Scen. Pass.'!K$196:K$239,'2A Input Climat Scen. Pass.'!$B$196:$B$239,'4B Calcul. Climat Scen.'!$C322,'2A Input Climat Scen. Pass.'!$C$196:$C$239,'4B Calcul. Climat Scen.'!$E322))","v":0},{"$f":"IF('2A Input Climat Scen. Pass.'!L206=\"\",SUMIFS('2A Input Climat Scen. Pass.'!F$196:F$240,'2A Input Climat Scen. Pass.'!$B$196:$B$240,'4B Calcul. Climat Scen.'!$C322,'2A Input Climat Scen. Pass.'!$C$196:$C$240,'4B Calcul. Climat Scen.'!$E322),SUMIFS('2A Input Climat Scen. Pass.'!L$196:L$239,'2A Input Climat Scen. Pass.'!$B$196:$B$239,'4B Calcul. Climat Scen.'!$C322,'2A Input Climat Scen. Pass.'!$C$196:$C$239,'4B Calcul. Climat Scen.'!$E322))","v":0},{"$f":"IF('2A Input Climat Scen. Pass.'!M206=\"\",SUMIFS('2A Input Climat Scen. Pass.'!G$196:G$240,'2A Input Climat Scen. Pass.'!$B$196:$B$240,'4B Calcul. Climat Scen.'!$C322,'2A Input Climat Scen. Pass.'!$C$196:$C$240,'4B Calcul. Climat Scen.'!$E322),SUMIFS('2A Input Climat Scen. Pass.'!M$196:M$239,'2A Input Climat Scen. Pass.'!$B$196:$B$239,'4B Calcul. Climat Scen.'!$C322,'2A Input Climat Scen. Pass.'!$C$196:$C$239,'4B Calcul. Climat Scen.'!$E322))","v":0},{"$f":"IF('2A Input Climat Scen. Pass.'!N206=\"\",SUMIFS('2A Input Climat Scen. Pass.'!H$196:H$240,'2A Input Climat Scen. Pass.'!$B$196:$B$240,'4B Calcul. Climat Scen.'!$C322,'2A Input Climat Scen. Pass.'!$C$196:$C$240,'4B Calcul. Climat Scen.'!$E322),SUMIFS('2A Input Climat Scen. Pass.'!N$196:N$239,'2A Input Climat Scen. Pass.'!$B$196:$B$239,'4B Calcul. Climat Scen.'!$C322,'2A Input Climat Scen. Pass.'!$C$196:$C$239,'4B Calcul. Climat Scen.'!$E322))","v":0},null,0,0,0,0,0,0,null,{"$f":"SUMIFS('4A Calcul. BAU city'!O$13:O$61,'4A Calcul. BAU city'!$C$13:$C$61,'4B Calcul. Climat Scen.'!$C322,'4A Calcul. BAU city'!$E$13:$E$61,'4B Calcul. Climat Scen.'!$E322)*M322/100","v":0},0,0,0,0,0,null,{"$f":"SUMIFS('4A Calcul. BAU city'!O$13:O$61,'4A Calcul. BAU city'!$C$13:$C$61,'4B Calcul. Climat Scen.'!$C322,'4A Calcul. BAU city'!$E$13:$E$61,'4B Calcul. Climat Scen.'!$E322)*M322/100*SUMIFS('4A Calcul. BAU city'!$V$13:$V$61,'4A Calcul. BAU city'!$C$13:$C$61,'4B Calcul. Climat Scen.'!$C322,'4A Calcul. BAU city'!$E$13:$E$61,'4B Calcul. Climat Scen.'!$E322)","v":0},{"$f":"U322*SUMIFS('4A Calcul. BAU city'!$V$13:$V$61,'4A Calcul. BAU city'!$C$13:$C$61,'4B Calcul. Climat Scen.'!$C322,'4A Calcul. BAU city'!$E$13:$E$61,'4B Calcul. Climat Scen.'!$E322)","v":0},{"$f":"V322*SUMIFS('4A Calcul. BAU city'!$V$13:$V$61,'4A Calcul. BAU city'!$C$13:$C$61,'4B Calcul. Climat Scen.'!$C322,'4A Calcul. BAU city'!$E$13:$E$61,'4B Calcul. Climat Scen.'!$E322)","v":0},{"$f":"W322*SUMIFS('4A Calcul. BAU city'!$V$13:$V$61,'4A Calcul. BAU city'!$C$13:$C$61,'4B Calcul. Climat Scen.'!$C322,'4A Calcul. BAU city'!$E$13:$E$61,'4B Calcul. Climat Scen.'!$E322)","v":0},{"$f":"X322*SUMIFS('4A Calcul. BAU city'!$V$13:$V$61,'4A Calcul. BAU city'!$C$13:$C$61,'4B Calcul. Climat Scen.'!$C322,'4A Calcul. BAU city'!$E$13:$E$61,'4B Calcul. Climat Scen.'!$E322)","v":0},{"$f":"Y322*SUMIFS('4A Calcul. BAU city'!$V$13:$V$61,'4A Calcul. BAU city'!$C$13:$C$61,'4B Calcul. Climat Scen.'!$C322,'4A Calcul. BAU city'!$E$13:$E$61,'4B Calcul. Climat Scen.'!$E322)","v":0},null,{"$f":"INDEX('6 Defaults parameters'!$T$9:$Y$18,MATCH($D322,'6 Defaults parameters'!$B$9:$B$18,0),MATCH(AH$313,'6 Defaults parameters'!$T$8:$Y$8,0))*AA322/10^6","v":0},{"$f":"INDEX('6 Defaults parameters'!$T$9:$Y$18,MATCH($D322,'6 Defaults parameters'!$B$9:$B$18,0),MATCH(AI$313,'6 Defaults parameters'!$T$8:$Y$8,0))*AB322/10^6","v":0},{"$f":"INDEX('6 Defaults parameters'!$T$9:$Y$18,MATCH($D322,'6 Defaults parameters'!$B$9:$B$18,0),MATCH(AJ$313,'6 Defaults parameters'!$T$8:$Y$8,0))*AC322/10^6","v":0},{"$f":"INDEX('6 Defaults parameters'!$T$9:$Y$18,MATCH($D322,'6 Defaults parameters'!$B$9:$B$18,0),MATCH(AK$313,'6 Defaults parameters'!$T$8:$Y$8,0))*AD322/10^6","v":0},{"$f":"INDEX('6 Defaults parameters'!$T$9:$Y$18,MATCH($D322,'6 Defaults parameters'!$B$9:$B$18,0),MATCH(AL$313,'6 Defaults parameters'!$T$8:$Y$8,0))*AE322/10^6","v":0},{"$f":"INDEX('6 Defaults parameters'!$T$9:$Y$18,MATCH($D322,'6 Defaults parameters'!$B$9:$B$18,0),MATCH(AM$313,'6 Defaults parameters'!$T$8:$Y$8,0))*AF322/10^6","v":0}]
[null,"Scenario 2)","Individual taxi",{"$f":"RoadNG","v":"Road - NG"},{"$f":"NG","v":"NG"},0,{"$f":"IF('2A Input Climat Scen. Pass.'!J207=\"\",SUMIFS('2A Input Climat Scen. Pass.'!D$196:D$240,'2A Input Climat Scen. Pass.'!$B$196:$B$240,'4B Calcul. Climat Scen.'!$C323,'2A Input Climat Scen. Pass.'!$C$196:$C$240,'4B Calcul. Climat Scen.'!$E323),SUMIFS('2A Input Climat Scen. Pass.'!J$196:J$239,'2A Input Climat Scen. Pass.'!$B$196:$B$239,'4B Calcul. Climat Scen.'!$C323,'2A Input Climat Scen. Pass.'!$C$196:$C$239,'4B Calcul. Climat Scen.'!$E323))","v":0},{"$f":"IF('2A Input Climat Scen. Pass.'!K207=\"\",SUMIFS('2A Input Climat Scen. Pass.'!E$196:E$240,'2A Input Climat Scen. Pass.'!$B$196:$B$240,'4B Calcul. Climat Scen.'!$C323,'2A Input Climat Scen. Pass.'!$C$196:$C$240,'4B Calcul. Climat Scen.'!$E323),SUMIFS('2A Input Climat Scen. Pass.'!K$196:K$239,'2A Input Climat Scen. Pass.'!$B$196:$B$239,'4B Calcul. Climat Scen.'!$C323,'2A Input Climat Scen. Pass.'!$C$196:$C$239,'4B Calcul. Climat Scen.'!$E323))","v":0},{"$f":"IF('2A Input Climat Scen. Pass.'!L207=\"\",SUMIFS('2A Input Climat Scen. Pass.'!F$196:F$240,'2A Input Climat Scen. Pass.'!$B$196:$B$240,'4B Calcul. Climat Scen.'!$C323,'2A Input Climat Scen. Pass.'!$C$196:$C$240,'4B Calcul. Climat Scen.'!$E323),SUMIFS('2A Input Climat Scen. Pass.'!L$196:L$239,'2A Input Climat Scen. Pass.'!$B$196:$B$239,'4B Calcul. Climat Scen.'!$C323,'2A Input Climat Scen. Pass.'!$C$196:$C$239,'4B Calcul. Climat Scen.'!$E323))","v":0},{"$f":"IF('2A Input Climat Scen. Pass.'!M207=\"\",SUMIFS('2A Input Climat Scen. Pass.'!G$196:G$240,'2A Input Climat Scen. Pass.'!$B$196:$B$240,'4B Calcul. Climat Scen.'!$C323,'2A Input Climat Scen. Pass.'!$C$196:$C$240,'4B Calcul. Climat Scen.'!$E323),SUMIFS('2A Input Climat Scen. Pass.'!M$196:M$239,'2A Input Climat Scen. Pass.'!$B$196:$B$239,'4B Calcul. Climat Scen.'!$C323,'2A Input Climat Scen. Pass.'!$C$196:$C$239,'4B Calcul. Climat Scen.'!$E323))","v":0},{"$f":"IF('2A Input Climat Scen. Pass.'!N207=\"\",SUMIFS('2A Input Climat Scen. Pass.'!H$196:H$240,'2A Input Climat Scen. Pass.'!$B$196:$B$240,'4B Calcul. Climat Scen.'!$C323,'2A Input Climat Scen. Pass.'!$C$196:$C$240,'4B Calcul. Climat Scen.'!$E323),SUMIFS('2A Input Climat Scen. Pass.'!N$196:N$239,'2A Input Climat Scen. Pass.'!$B$196:$B$239,'4B Calcul. Climat Scen.'!$C323,'2A Input Climat Scen. Pass.'!$C$196:$C$239,'4B Calcul. Climat Scen.'!$E323))","v":0},null,0,0,0,0,0,0,null,{"$f":"SUMIFS('4A Calcul. BAU city'!O$13:O$61,'4A Calcul. BAU city'!$C$13:$C$61,'4B Calcul. Climat Scen.'!$C323,'4A Calcul. BAU city'!$E$13:$E$61,'4B Calcul. Climat Scen.'!$E323)*M323/100","v":0},0,0,0,0,0,null,{"$f":"SUMIFS('4A Calcul. BAU city'!O$13:O$61,'4A Calcul. BAU city'!$C$13:$C$61,'4B Calcul. Climat Scen.'!$C323,'4A Calcul. BAU city'!$E$13:$E$61,'4B Calcul. Climat Scen.'!$E323)*M323/100*SUMIFS('4A Calcul. BAU city'!$V$13:$V$61,'4A Calcul. BAU city'!$C$13:$C$61,'4B Calcul. Climat Scen.'!$C323,'4A Calcul. BAU city'!$E$13:$E$61,'4B Calcul. Climat Scen.'!$E323)","v":0},{"$f":"U323*SUMIFS('4A Calcul. BAU city'!$V$13:$V$61,'4A Calcul. BAU city'!$C$13:$C$61,'4B Calcul. Climat Scen.'!$C323,'4A Calcul. BAU city'!$E$13:$E$61,'4B Calcul. Climat Scen.'!$E323)","v":0},{"$f":"V323*SUMIFS('4A Calcul. BAU city'!$V$13:$V$61,'4A Calcul. BAU city'!$C$13:$C$61,'4B Calcul. Climat Scen.'!$C323,'4A Calcul. BAU city'!$E$13:$E$61,'4B Calcul. Climat Scen.'!$E323)","v":0},{"$f":"W323*SUMIFS('4A Calcul. BAU city'!$V$13:$V$61,'4A Calcul. BAU city'!$C$13:$C$61,'4B Calcul. Climat Scen.'!$C323,'4A Calcul. BAU city'!$E$13:$E$61,'4B Calcul. Climat Scen.'!$E323)","v":0},{"$f":"X323*SUMIFS('4A Calcul. BAU city'!$V$13:$V$61,'4A Calcul. BAU city'!$C$13:$C$61,'4B Calcul. Climat Scen.'!$C323,'4A Calcul. BAU city'!$E$13:$E$61,'4B Calcul. Climat Scen.'!$E323)","v":0},{"$f":"Y323*SUMIFS('4A Calcul. BAU city'!$V$13:$V$61,'4A Calcul. BAU city'!$C$13:$C$61,'4B Calcul. Climat Scen.'!$C323,'4A Calcul. BAU city'!$E$13:$E$61,'4B Calcul. Climat Scen.'!$E323)","v":0},null,{"$f":"INDEX('6 Defaults parameters'!$T$9:$Y$18,MATCH($D323,'6 Defaults parameters'!$B$9:$B$18,0),MATCH(AH$313,'6 Defaults parameters'!$T$8:$Y$8,0))*AA323/10^6","v":0},{"$f":"INDEX('6 Defaults parameters'!$T$9:$Y$18,MATCH($D323,'6 Defaults parameters'!$B$9:$B$18,0),MATCH(AI$313,'6 Defaults parameters'!$T$8:$Y$8,0))*AB323/10^6","v":0},{"$f":"INDEX('6 Defaults parameters'!$T$9:$Y$18,MATCH($D323,'6 Defaults parameters'!$B$9:$B$18,0),MATCH(AJ$313,'6 Defaults parameters'!$T$8:$Y$8,0))*AC323/10^6","v":0},{"$f":"INDEX('6 Defaults parameters'!$T$9:$Y$18,MATCH($D323,'6 Defaults parameters'!$B$9:$B$18,0),MATCH(AK$313,'6 Defaults parameters'!$T$8:$Y$8,0))*AD323/10^6","v":0},{"$f":"INDEX('6 Defaults parameters'!$T$9:$Y$18,MATCH($D323,'6 Defaults parameters'!$B$9:$B$18,0),MATCH(AL$313,'6 Defaults parameters'!$T$8:$Y$8,0))*AE323/10^6","v":0},{"$f":"INDEX('6 Defaults parameters'!$T$9:$Y$18,MATCH($D323,'6 Defaults parameters'!$B$9:$B$18,0),MATCH(AM$313,'6 Defaults parameters'!$T$8:$Y$8,0))*AF323/10^6","v":0}]
[null,"Scenario 2)","Individual taxi",{"$f":"RoadH","v":"Road - Hybrid"},{"$f":"Hybrid","v":"Hybrid"},0,{"$f":"IF('2A Input Climat Scen. Pass.'!J208=\"\",SUMIFS('2A Input Climat Scen. Pass.'!D$196:D$240,'2A Input Climat Scen. Pass.'!$B$196:$B$240,'4B Calcul. Climat Scen.'!$C324,'2A Input Climat Scen. Pass.'!$C$196:$C$240,'4B Calcul. Climat Scen.'!$E324),SUMIFS('2A Input Climat Scen. Pass.'!J$196:J$239,'2A Input Climat Scen. Pass.'!$B$196:$B$239,'4B Calcul. Climat Scen.'!$C324,'2A Input Climat Scen. Pass.'!$C$196:$C$239,'4B Calcul. Climat Scen.'!$E324))","v":0},{"$f":"IF('2A Input Climat Scen. Pass.'!K208=\"\",SUMIFS('2A Input Climat Scen. Pass.'!E$196:E$240,'2A Input Climat Scen. Pass.'!$B$196:$B$240,'4B Calcul. Climat Scen.'!$C324,'2A Input Climat Scen. Pass.'!$C$196:$C$240,'4B Calcul. Climat Scen.'!$E324),SUMIFS('2A Input Climat Scen. Pass.'!K$196:K$239,'2A Input Climat Scen. Pass.'!$B$196:$B$239,'4B Calcul. Climat Scen.'!$C324,'2A Input Climat Scen. Pass.'!$C$196:$C$239,'4B Calcul. Climat Scen.'!$E324))","v":0},{"$f":"IF('2A Input Climat Scen. Pass.'!L208=\"\",SUMIFS('2A Input Climat Scen. Pass.'!F$196:F$240,'2A Input Climat Scen. Pass.'!$B$196:$B$240,'4B Calcul. Climat Scen.'!$C324,'2A Input Climat Scen. Pass.'!$C$196:$C$240,'4B Calcul. Climat Scen.'!$E324),SUMIFS('2A Input Climat Scen. Pass.'!L$196:L$239,'2A Input Climat Scen. Pass.'!$B$196:$B$239,'4B Calcul. Climat Scen.'!$C324,'2A Input Climat Scen. Pass.'!$C$196:$C$239,'4B Calcul. Climat Scen.'!$E324))","v":0},{"$f":"IF('2A Input Climat Scen. Pass.'!M208=\"\",SUMIFS('2A Input Climat Scen. Pass.'!G$196:G$240,'2A Input Climat Scen. Pass.'!$B$196:$B$240,'4B Calcul. Climat Scen.'!$C324,'2A Input Climat Scen. Pass.'!$C$196:$C$240,'4B Calcul. Climat Scen.'!$E324),SUMIFS('2A Input Climat Scen. Pass.'!M$196:M$239,'2A Input Climat Scen. Pass.'!$B$196:$B$239,'4B Calcul. Climat Scen.'!$C324,'2A Input Climat Scen. Pass.'!$C$196:$C$239,'4B Calcul. Climat Scen.'!$E324))","v":0},{"$f":"IF('2A Input Climat Scen. Pass.'!N208=\"\",SUMIFS('2A Input Climat Scen. Pass.'!H$196:H$240,'2A Input Climat Scen. Pass.'!$B$196:$B$240,'4B Calcul. Climat Scen.'!$C324,'2A Input Climat Scen. Pass.'!$C$196:$C$240,'4B Calcul. Climat Scen.'!$E324),SUMIFS('2A Input Climat Scen. Pass.'!N$196:N$239,'2A Input Climat Scen. Pass.'!$B$196:$B$239,'4B Calcul. Climat Scen.'!$C324,'2A Input Climat Scen. Pass.'!$C$196:$C$239,'4B Calcul. Climat Scen.'!$E324))","v":0},null,0,0,0,0,0,0,null,{"$f":"SUMIFS('4A Calcul. BAU city'!O$13:O$61,'4A Calcul. BAU city'!$C$13:$C$61,'4B Calcul. Climat Scen.'!$C324,'4A Calcul. BAU city'!$E$13:$E$61,'4B Calcul. Climat Scen.'!$E324)*M324/100","v":0},0,0,0,0,0,null,{"$f":"SUMIFS('4A Calcul. BAU city'!O$13:O$61,'4A Calcul. BAU city'!$C$13:$C$61,'4B Calcul. Climat Scen.'!$C324,'4A Calcul. BAU city'!$E$13:$E$61,'4B Calcul. Climat Scen.'!$E324)*M324/100*SUMIFS('4A Calcul. BAU city'!$V$13:$V$61,'4A Calcul. BAU city'!$C$13:$C$61,'4B Calcul. Climat Scen.'!$C324,'4A Calcul. BAU city'!$E$13:$E$61,'4B Calcul. Climat Scen.'!$E324)","v":0},{"$f":"U324*SUMIFS('4A Calcul. BAU city'!$V$13:$V$61,'4A Calcul. BAU city'!$C$13:$C$61,'4B Calcul. Climat Scen.'!$C324,'4A Calcul. BAU city'!$E$13:$E$61,'4B Calcul. Climat Scen.'!$E324)","v":0},{"$f":"V324*SUMIFS('4A Calcul. BAU city'!$V$13:$V$61,'4A Calcul. BAU city'!$C$13:$C$61,'4B Calcul. Climat Scen.'!$C324,'4A Calcul. BAU city'!$E$13:$E$61,'4B Calcul. Climat Scen.'!$E324)","v":0},{"$f":"W324*SUMIFS('4A Calcul. BAU city'!$V$13:$V$61,'4A Calcul. BAU city'!$C$13:$C$61,'4B Calcul. Climat Scen.'!$C324,'4A Calcul. BAU city'!$E$13:$E$61,'4B Calcul. Climat Scen.'!$E324)","v":0},{"$f":"X324*SUMIFS('4A Calcul. BAU city'!$V$13:$V$61,'4A Calcul. BAU city'!$C$13:$C$61,'4B Calcul. Climat Scen.'!$C324,'4A Calcul. BAU city'!$E$13:$E$61,'4B Calcul. Climat Scen.'!$E324)","v":0},{"$f":"Y324*SUMIFS('4A Calcul. BAU city'!$V$13:$V$61,'4A Calcul. BAU city'!$C$13:$C$61,'4B Calcul. Climat Scen.'!$C324,'4A Calcul. BAU city'!$E$13:$E$61,'4B Calcul. Climat Scen.'!$E324)","v":0},null,{"$f":"INDEX('6 Defaults parameters'!$T$9:$Y$18,MATCH($D324,'6 Defaults parameters'!$B$9:$B$18,0),MATCH(AH$313,'6 Defaults parameters'!$T$8:$Y$8,0))*AA324/10^6","v":0},{"$f":"INDEX('6 Defaults parameters'!$T$9:$Y$18,MATCH($D324,'6 Defaults parameters'!$B$9:$B$18,0),MATCH(AI$313,'6 Defaults parameters'!$T$8:$Y$8,0))*AB324/10^6","v":0},{"$f":"INDEX('6 Defaults parameters'!$T$9:$Y$18,MATCH($D324,'6 Defaults parameters'!$B$9:$B$18,0),MATCH(AJ$313,'6 Defaults parameters'!$T$8:$Y$8,0))*AC324/10^6","v":0},{"$f":"INDEX('6 Defaults parameters'!$T$9:$Y$18,MATCH($D324,'6 Defaults parameters'!$B$9:$B$18,0),MATCH(AK$313,'6 Defaults parameters'!$T$8:$Y$8,0))*AD324/10^6","v":0},{"$f":"INDEX('6 Defaults parameters'!$T$9:$Y$18,MATCH($D324,'6 Defaults parameters'!$B$9:$B$18,0),MATCH(AL$313,'6 Defaults parameters'!$T$8:$Y$8,0))*AE324/10^6","v":0},{"$f":"INDEX('6 Defaults parameters'!$T$9:$Y$18,MATCH($D324,'6 Defaults parameters'!$B$9:$B$18,0),MATCH(AM$313,'6 Defaults parameters'!$T$8:$Y$8,0))*AF324/10^6","v":0}]
[null,"Scenario 2)","Individual taxi",{"$f":"Roadelec","v":"Road - Electric"},{"$f":"Electric","v":"Electric"},0,{"$f":"IF('2A Input Climat Scen. Pass.'!J209=\"\",SUMIFS('2A Input Climat Scen. Pass.'!D$196:D$240,'2A Input Climat Scen. Pass.'!$B$196:$B$240,'4B Calcul. Climat Scen.'!$C325,'2A Input Climat Scen. Pass.'!$C$196:$C$240,'4B Calcul. Climat Scen.'!$E325),SUMIFS('2A Input Climat Scen. Pass.'!J$196:J$239,'2A Input Climat Scen. Pass.'!$B$196:$B$239,'4B Calcul. Climat Scen.'!$C325,'2A Input Climat Scen. Pass.'!$C$196:$C$239,'4B Calcul. Climat Scen.'!$E325))","v":0},{"$f":"IF('2A Input Climat Scen. Pass.'!K209=\"\",SUMIFS('2A Input Climat Scen. Pass.'!E$196:E$240,'2A Input Climat Scen. Pass.'!$B$196:$B$240,'4B Calcul. Climat Scen.'!$C325,'2A Input Climat Scen. Pass.'!$C$196:$C$240,'4B Calcul. Climat Scen.'!$E325),SUMIFS('2A Input Climat Scen. Pass.'!K$196:K$239,'2A Input Climat Scen. Pass.'!$B$196:$B$239,'4B Calcul. Climat Scen.'!$C325,'2A Input Climat Scen. Pass.'!$C$196:$C$239,'4B Calcul. Climat Scen.'!$E325))","v":0},{"$f":"IF('2A Input Climat Scen. Pass.'!L209=\"\",SUMIFS('2A Input Climat Scen. Pass.'!F$196:F$240,'2A Input Climat Scen. Pass.'!$B$196:$B$240,'4B Calcul. Climat Scen.'!$C325,'2A Input Climat Scen. Pass.'!$C$196:$C$240,'4B Calcul. Climat Scen.'!$E325),SUMIFS('2A Input Climat Scen. Pass.'!L$196:L$239,'2A Input Climat Scen. Pass.'!$B$196:$B$239,'4B Calcul. Climat Scen.'!$C325,'2A Input Climat Scen. Pass.'!$C$196:$C$239,'4B Calcul. Climat Scen.'!$E325))","v":0},{"$f":"IF('2A Input Climat Scen. Pass.'!M209=\"\",SUMIFS('2A Input Climat Scen. Pass.'!G$196:G$240,'2A Input Climat Scen. Pass.'!$B$196:$B$240,'4B Calcul. Climat Scen.'!$C325,'2A Input Climat Scen. Pass.'!$C$196:$C$240,'4B Calcul. Climat Scen.'!$E325),SUMIFS('2A Input Climat Scen. Pass.'!M$196:M$239,'2A Input Climat Scen. Pass.'!$B$196:$B$239,'4B Calcul. Climat Scen.'!$C325,'2A Input Climat Scen. Pass.'!$C$196:$C$239,'4B Calcul. Climat Scen.'!$E325))","v":0},{"$f":"IF('2A Input Climat Scen. Pass.'!N209=\"\",SUMIFS('2A Input Climat Scen. Pass.'!H$196:H$240,'2A Input Climat Scen. Pass.'!$B$196:$B$240,'4B Calcul. Climat Scen.'!$C325,'2A Input Climat Scen. Pass.'!$C$196:$C$240,'4B Calcul. Climat Scen.'!$E325),SUMIFS('2A Input Climat Scen. Pass.'!N$196:N$239,'2A Input Climat Scen. Pass.'!$B$196:$B$239,'4B Calcul. Climat Scen.'!$C325,'2A Input Climat Scen. Pass.'!$C$196:$C$239,'4B Calcul. Climat Scen.'!$E325))","v":0},null,0,0,0,0,0,0,null,{"$f":"SUMIFS('4A Calcul. BAU city'!O$13:O$61,'4A Calcul. BAU city'!$C$13:$C$61,'4B Calcul. Climat Scen.'!$C325,'4A Calcul. BAU city'!$E$13:$E$61,'4B Calcul. Climat Scen.'!$E325)*M325/100","v":0},0,0,0,0,0,null,{"$f":"SUMIFS('4A Calcul. BAU city'!O$13:O$61,'4A Calcul. BAU city'!$C$13:$C$61,'4B Calcul. Climat Scen.'!$C325,'4A Calcul. BAU city'!$E$13:$E$61,'4B Calcul. Climat Scen.'!$E325)*M325/100*SUMIFS('4A Calcul. BAU city'!$V$13:$V$61,'4A Calcul. BAU city'!$C$13:$C$61,'4B Calcul. Climat Scen.'!$C325,'4A Calcul. BAU city'!$E$13:$E$61,'4B Calcul. Climat Scen.'!$E325)","v":0},{"$f":"U325*SUMIFS('4A Calcul. BAU city'!$V$13:$V$61,'4A Calcul. BAU city'!$C$13:$C$61,'4B Calcul. Climat Scen.'!$C325,'4A Calcul. BAU city'!$E$13:$E$61,'4B Calcul. Climat Scen.'!$E325)","v":0},{"$f":"V325*SUMIFS('4A Calcul. BAU city'!$V$13:$V$61,'4A Calcul. BAU city'!$C$13:$C$61,'4B Calcul. Climat Scen.'!$C325,'4A Calcul. BAU city'!$E$13:$E$61,'4B Calcul. Climat Scen.'!$E325)","v":0},{"$f":"W325*SUMIFS('4A Calcul. BAU city'!$V$13:$V$61,'4A Calcul. BAU city'!$C$13:$C$61,'4B Calcul. Climat Scen.'!$C325,'4A Calcul. BAU city'!$E$13:$E$61,'4B Calcul. Climat Scen.'!$E325)","v":0},{"$f":"X325*SUMIFS('4A Calcul. BAU city'!$V$13:$V$61,'4A Calcul. BAU city'!$C$13:$C$61,'4B Calcul. Climat Scen.'!$C325,'4A Calcul. BAU city'!$E$13:$E$61,'4B Calcul. Climat Scen.'!$E325)","v":0},{"$f":"Y325*SUMIFS('4A Calcul. BAU city'!$V$13:$V$61,'4A Calcul. BAU city'!$C$13:$C$61,'4B Calcul. Climat Scen.'!$C325,'4A Calcul. BAU city'!$E$13:$E$61,'4B Calcul. Climat Scen.'!$E325)","v":0},null,{"$f":"INDEX('6 Defaults parameters'!$T$9:$Y$18,MATCH($D325,'6 Defaults parameters'!$B$9:$B$18,0),MATCH(AH$313,'6 Defaults parameters'!$T$8:$Y$8,0))*AA325/10^6","v":0},{"$f":"INDEX('6 Defaults parameters'!$T$9:$Y$18,MATCH($D325,'6 Defaults parameters'!$B$9:$B$18,0),MATCH(AI$313,'6 Defaults parameters'!$T$8:$Y$8,0))*AB325/10^6","v":0},{"$f":"INDEX('6 Defaults parameters'!$T$9:$Y$18,MATCH($D325,'6 Defaults parameters'!$B$9:$B$18,0),MATCH(AJ$313,'6 Defaults parameters'!$T$8:$Y$8,0))*AC325/10^6","v":0},{"$f":"INDEX('6 Defaults parameters'!$T$9:$Y$18,MATCH($D325,'6 Defaults parameters'!$B$9:$B$18,0),MATCH(AK$313,'6 Defaults parameters'!$T$8:$Y$8,0))*AD325/10^6","v":0},{"$f":"INDEX('6 Defaults parameters'!$T$9:$Y$18,MATCH($D325,'6 Defaults parameters'!$B$9:$B$18,0),MATCH(AL$313,'6 Defaults parameters'!$T$8:$Y$8,0))*AE325/10^6","v":0},{"$f":"INDEX('6 Defaults parameters'!$T$9:$Y$18,MATCH($D325,'6 Defaults parameters'!$B$9:$B$18,0),MATCH(AM$313,'6 Defaults parameters'!$T$8:$Y$8,0))*AF325/10^6","v":0}]
[null,"Scenario 2)",{"$f":"Motorcycle","v":"Motorcycle"},{"$f":"RoadG","v":"Road - Gasoline"},{"$f":"Gasoline","v":"Gasoline"},0,{"$f":"IF('2A Input Climat Scen. Pass.'!J211=\"\",SUMIFS('2A Input Climat Scen. Pass.'!D$196:D$240,'2A Input Climat Scen. Pass.'!$B$196:$B$240,'4B Calcul. Climat Scen.'!$C326,'2A Input Climat Scen. Pass.'!$C$196:$C$240,'4B Calcul. Climat Scen.'!$E326),SUMIFS('2A Input Climat Scen. Pass.'!J$196:J$239,'2A Input Climat Scen. Pass.'!$B$196:$B$239,'4B Calcul. Climat Scen.'!$C326,'2A Input Climat Scen. Pass.'!$C$196:$C$239,'4B Calcul. Climat Scen.'!$E326))","v":0},{"$f":"IF('2A Input Climat Scen. Pass.'!K211=\"\",SUMIFS('2A Input Climat Scen. Pass.'!E$196:E$240,'2A Input Climat Scen. Pass.'!$B$196:$B$240,'4B Calcul. Climat Scen.'!$C326,'2A Input Climat Scen. Pass.'!$C$196:$C$240,'4B Calcul. Climat Scen.'!$E326),SUMIFS('2A Input Climat Scen. Pass.'!K$196:K$239,'2A Input Climat Scen. Pass.'!$B$196:$B$239,'4B Calcul. Climat Scen.'!$C326,'2A Input Climat Scen. Pass.'!$C$196:$C$239,'4B Calcul. Climat Scen.'!$E326))","v":0},{"$f":"IF('2A Input Climat Scen. Pass.'!L211=\"\",SUMIFS('2A Input Climat Scen. Pass.'!F$196:F$240,'2A Input Climat Scen. Pass.'!$B$196:$B$240,'4B Calcul. Climat Scen.'!$C326,'2A Input Climat Scen. Pass.'!$C$196:$C$240,'4B Calcul. Climat Scen.'!$E326),SUMIFS('2A Input Climat Scen. Pass.'!L$196:L$239,'2A Input Climat Scen. Pass.'!$B$196:$B$239,'4B Calcul. Climat Scen.'!$C326,'2A Input Climat Scen. Pass.'!$C$196:$C$239,'4B Calcul. Climat Scen.'!$E326))","v":0},{"$f":"IF('2A Input Climat Scen. Pass.'!M211=\"\",SUMIFS('2A Input Climat Scen. Pass.'!G$196:G$240,'2A Input Climat Scen. Pass.'!$B$196:$B$240,'4B Calcul. Climat Scen.'!$C326,'2A Input Climat Scen. Pass.'!$C$196:$C$240,'4B Calcul. Climat Scen.'!$E326),SUMIFS('2A Input Climat Scen. Pass.'!M$196:M$239,'2A Input Climat Scen. Pass.'!$B$196:$B$239,'4B Calcul. Climat Scen.'!$C326,'2A Input Climat Scen. Pass.'!$C$196:$C$239,'4B Calcul. Climat Scen.'!$E326))","v":0},{"$f":"IF('2A Input Climat Scen. Pass.'!N211=\"\",SUMIFS('2A Input Climat Scen. Pass.'!H$196:H$240,'2A Input Climat Scen. Pass.'!$B$196:$B$240,'4B Calcul. Climat Scen.'!$C326,'2A Input Climat Scen. Pass.'!$C$196:$C$240,'4B Calcul. Climat Scen.'!$E326),SUMIFS('2A Input Climat Scen. Pass.'!N$196:N$239,'2A Input Climat Scen. Pass.'!$B$196:$B$239,'4B Calcul. Climat Scen.'!$C326,'2A Input Climat Scen. Pass.'!$C$196:$C$239,'4B Calcul. Climat Scen.'!$E326))","v":0},null,0,0,0,0,0,0,null,{"$f":"SUMIFS('4A Calcul. BAU city'!O$13:O$61,'4A Calcul. BAU city'!$C$13:$C$61,'4B Calcul. Climat Scen.'!$C326,'4A Calcul. BAU city'!$E$13:$E$61,'4B Calcul. Climat Scen.'!$E326)*M326/100","v":0},0,0,0,0,0,null,{"$f":"SUMIFS('4A Calcul. BAU city'!O$13:O$61,'4A Calcul. BAU city'!$C$13:$C$61,'4B Calcul. Climat Scen.'!$C326,'4A Calcul. BAU city'!$E$13:$E$61,'4B Calcul. Climat Scen.'!$E326)*M326/100*SUMIFS('4A Calcul. BAU city'!$V$13:$V$61,'4A Calcul. BAU city'!$C$13:$C$61,'4B Calcul. Climat Scen.'!$C326,'4A Calcul. BAU city'!$E$13:$E$61,'4B Calcul. Climat Scen.'!$E326)","v":0},{"$f":"U326*SUMIFS('4A Calcul. BAU city'!$V$13:$V$61,'4A Calcul. BAU city'!$C$13:$C$61,'4B Calcul. Climat Scen.'!$C326,'4A Calcul. BAU city'!$E$13:$E$61,'4B Calcul. Climat Scen.'!$E326)","v":0},{"$f":"V326*SUMIFS('4A Calcul. BAU city'!$V$13:$V$61,'4A Calcul. BAU city'!$C$13:$C$61,'4B Calcul. Climat Scen.'!$C326,'4A Calcul. BAU city'!$E$13:$E$61,'4B Calcul. Climat Scen.'!$E326)","v":0},{"$f":"W326*SUMIFS('4A Calcul. BAU city'!$V$13:$V$61,'4A Calcul. BAU city'!$C$13:$C$61,'4B Calcul. Climat Scen.'!$C326,'4A Calcul. BAU city'!$E$13:$E$61,'4B Calcul. Climat Scen.'!$E326)","v":0},{"$f":"X326*SUMIFS('4A Calcul. BAU city'!$V$13:$V$61,'4A Calcul. BAU city'!$C$13:$C$61,'4B Calcul. Climat Scen.'!$C326,'4A Calcul. BAU city'!$E$13:$E$61,'4B Calcul. Climat Scen.'!$E326)","v":0},{"$f":"Y326*SUMIFS('4A Calcul. BAU city'!$V$13:$V$61,'4A Calcul. BAU city'!$C$13:$C$61,'4B Calcul. Climat Scen.'!$C326,'4A Calcul. BAU city'!$E$13:$E$61,'4B Calcul. Climat Scen.'!$E326)","v":0},null,{"$f":"INDEX('6 Defaults parameters'!$T$9:$Y$18,MATCH($D326,'6 Defaults parameters'!$B$9:$B$18,0),MATCH(AH$313,'6 Defaults parameters'!$T$8:$Y$8,0))*AA326/10^6","v":0},{"$f":"INDEX('6 Defaults parameters'!$T$9:$Y$18,MATCH($D326,'6 Defaults parameters'!$B$9:$B$18,0),MATCH(AI$313,'6 Defaults parameters'!$T$8:$Y$8,0))*AB326/10^6","v":0},{"$f":"INDEX('6 Defaults parameters'!$T$9:$Y$18,MATCH($D326,'6 Defaults parameters'!$B$9:$B$18,0),MATCH(AJ$313,'6 Defaults parameters'!$T$8:$Y$8,0))*AC326/10^6","v":0},{"$f":"INDEX('6 Defaults parameters'!$T$9:$Y$18,MATCH($D326,'6 Defaults parameters'!$B$9:$B$18,0),MATCH(AK$313,'6 Defaults parameters'!$T$8:$Y$8,0))*AD326/10^6","v":0},{"$f":"INDEX('6 Defaults parameters'!$T$9:$Y$18,MATCH($D326,'6 Defaults parameters'!$B$9:$B$18,0),MATCH(AL$313,'6 Defaults parameters'!$T$8:$Y$8,0))*AE326/10^6","v":0},{"$f":"INDEX('6 Defaults parameters'!$T$9:$Y$18,MATCH($D326,'6 Defaults parameters'!$B$9:$B$18,0),MATCH(AM$313,'6 Defaults parameters'!$T$8:$Y$8,0))*AF326/10^6","v":0}]
[null,"Scenario 2)",{"$f":"Motorcycle","v":"Motorcycle"},{"$f":"Roadelec","v":"Road - Electric"},{"$f":"Electric","v":"Electric"},0,{"$f":"IF('2A Input Climat Scen. Pass.'!J212=\"\",SUMIFS('2A Input Climat Scen. Pass.'!D$196:D$240,'2A Input Climat Scen. Pass.'!$B$196:$B$240,'4B Calcul. Climat Scen.'!$C327,'2A Input Climat Scen. Pass.'!$C$196:$C$240,'4B Calcul. Climat Scen.'!$E327),SUMIFS('2A Input Climat Scen. Pass.'!J$196:J$239,'2A Input Climat Scen. Pass.'!$B$196:$B$239,'4B Calcul. Climat Scen.'!$C327,'2A Input Climat Scen. Pass.'!$C$196:$C$239,'4B Calcul. Climat Scen.'!$E327))","v":0},{"$f":"IF('2A Input Climat Scen. Pass.'!K212=\"\",SUMIFS('2A Input Climat Scen. Pass.'!E$196:E$240,'2A Input Climat Scen. Pass.'!$B$196:$B$240,'4B Calcul. Climat Scen.'!$C327,'2A Input Climat Scen. Pass.'!$C$196:$C$240,'4B Calcul. Climat Scen.'!$E327),SUMIFS('2A Input Climat Scen. Pass.'!K$196:K$239,'2A Input Climat Scen. Pass.'!$B$196:$B$239,'4B Calcul. Climat Scen.'!$C327,'2A Input Climat Scen. Pass.'!$C$196:$C$239,'4B Calcul. Climat Scen.'!$E327))","v":0},{"$f":"IF('2A Input Climat Scen. Pass.'!L212=\"\",SUMIFS('2A Input Climat Scen. Pass.'!F$196:F$240,'2A Input Climat Scen. Pass.'!$B$196:$B$240,'4B Calcul. Climat Scen.'!$C327,'2A Input Climat Scen. Pass.'!$C$196:$C$240,'4B Calcul. Climat Scen.'!$E327),SUMIFS('2A Input Climat Scen. Pass.'!L$196:L$239,'2A Input Climat Scen. Pass.'!$B$196:$B$239,'4B Calcul. Climat Scen.'!$C327,'2A Input Climat Scen. Pass.'!$C$196:$C$239,'4B Calcul. Climat Scen.'!$E327))","v":0},{"$f":"IF('2A Input Climat Scen. Pass.'!M212=\"\",SUMIFS('2A Input Climat Scen. Pass.'!G$196:G$240,'2A Input Climat Scen. Pass.'!$B$196:$B$240,'4B Calcul. Climat Scen.'!$C327,'2A Input Climat Scen. Pass.'!$C$196:$C$240,'4B Calcul. Climat Scen.'!$E327),SUMIFS('2A Input Climat Scen. Pass.'!M$196:M$239,'2A Input Climat Scen. Pass.'!$B$196:$B$239,'4B Calcul. Climat Scen.'!$C327,'2A Input Climat Scen. Pass.'!$C$196:$C$239,'4B Calcul. Climat Scen.'!$E327))","v":0},{"$f":"IF('2A Input Climat Scen. Pass.'!N212=\"\",SUMIFS('2A Input Climat Scen. Pass.'!H$196:H$240,'2A Input Climat Scen. Pass.'!$B$196:$B$240,'4B Calcul. Climat Scen.'!$C327,'2A Input Climat Scen. Pass.'!$C$196:$C$240,'4B Calcul. Climat Scen.'!$E327),SUMIFS('2A Input Climat Scen. Pass.'!N$196:N$239,'2A Input Climat Scen. Pass.'!$B$196:$B$239,'4B Calcul. Climat Scen.'!$C327,'2A Input Climat Scen. Pass.'!$C$196:$C$239,'4B Calcul. Climat Scen.'!$E327))","v":0},null,0,0,0,0,0,0,null,{"$f":"SUMIFS('4A Calcul. BAU city'!O$13:O$61,'4A Calcul. BAU city'!$C$13:$C$61,'4B Calcul. Climat Scen.'!$C327,'4A Calcul. BAU city'!$E$13:$E$61,'4B Calcul. Climat Scen.'!$E327)*M327/100","v":0},0,0,0,0,0,null,{"$f":"SUMIFS('4A Calcul. BAU city'!O$13:O$61,'4A Calcul. BAU city'!$C$13:$C$61,'4B Calcul. Climat Scen.'!$C327,'4A Calcul. BAU city'!$E$13:$E$61,'4B Calcul. Climat Scen.'!$E327)*M327/100*SUMIFS('4A Calcul. BAU city'!$V$13:$V$61,'4A Calcul. BAU city'!$C$13:$C$61,'4B Calcul. Climat Scen.'!$C327,'4A Calcul. BAU city'!$E$13:$E$61,'4B Calcul. Climat Scen.'!$E327)","v":0},{"$f":"U327*SUMIFS('4A Calcul. BAU city'!$V$13:$V$61,'4A Calcul. BAU city'!$C$13:$C$61,'4B Calcul. Climat Scen.'!$C327,'4A Calcul. BAU city'!$E$13:$E$61,'4B Calcul. Climat Scen.'!$E327)","v":0},{"$f":"V327*SUMIFS('4A Calcul. BAU city'!$V$13:$V$61,'4A Calcul. BAU city'!$C$13:$C$61,'4B Calcul. Climat Scen.'!$C327,'4A Calcul. BAU city'!$E$13:$E$61,'4B Calcul. Climat Scen.'!$E327)","v":0},{"$f":"W327*SUMIFS('4A Calcul. BAU city'!$V$13:$V$61,'4A Calcul. BAU city'!$C$13:$C$61,'4B Calcul. Climat Scen.'!$C327,'4A Calcul. BAU city'!$E$13:$E$61,'4B Calcul. Climat Scen.'!$E327)","v":0},{"$f":"X327*SUMIFS('4A Calcul. BAU city'!$V$13:$V$61,'4A Calcul. BAU city'!$C$13:$C$61,'4B Calcul. Climat Scen.'!$C327,'4A Calcul. BAU city'!$E$13:$E$61,'4B Calcul. Climat Scen.'!$E327)","v":0},{"$f":"Y327*SUMIFS('4A Calcul. BAU city'!$V$13:$V$61,'4A Calcul. BAU city'!$C$13:$C$61,'4B Calcul. Climat Scen.'!$C327,'4A Calcul. BAU city'!$E$13:$E$61,'4B Calcul. Climat Scen.'!$E327)","v":0},null,{"$f":"INDEX('6 Defaults parameters'!$T$9:$Y$18,MATCH($D327,'6 Defaults parameters'!$B$9:$B$18,0),MATCH(AH$313,'6 Defaults parameters'!$T$8:$Y$8,0))*AA327/10^6","v":0},{"$f":"INDEX('6 Defaults parameters'!$T$9:$Y$18,MATCH($D327,'6 Defaults parameters'!$B$9:$B$18,0),MATCH(AI$313,'6 Defaults parameters'!$T$8:$Y$8,0))*AB327/10^6","v":0},{"$f":"INDEX('6 Defaults parameters'!$T$9:$Y$18,MATCH($D327,'6 Defaults parameters'!$B$9:$B$18,0),MATCH(AJ$313,'6 Defaults parameters'!$T$8:$Y$8,0))*AC327/10^6","v":0},{"$f":"INDEX('6 Defaults parameters'!$T$9:$Y$18,MATCH($D327,'6 Defaults parameters'!$B$9:$B$18,0),MATCH(AK$313,'6 Defaults parameters'!$T$8:$Y$8,0))*AD327/10^6","v":0},{"$f":"INDEX('6 Defaults parameters'!$T$9:$Y$18,MATCH($D327,'6 Defaults parameters'!$B$9:$B$18,0),MATCH(AL$313,'6 Defaults parameters'!$T$8:$Y$8,0))*AE327/10^6","v":0},{"$f":"INDEX('6 Defaults parameters'!$T$9:$Y$18,MATCH($D327,'6 Defaults parameters'!$B$9:$B$18,0),MATCH(AM$313,'6 Defaults parameters'!$T$8:$Y$8,0))*AF327/10^6","v":0}]
[null,"Scenario 2)",{"$f":"Mototaxi","v":"Motorcycle taxi"},{"$f":"RoadG","v":"Road - Gasoline"},{"$f":"Gasoline","v":"Gasoline"},0,{"$f":"IF('2A Input Climat Scen. Pass.'!J214=\"\",SUMIFS('2A Input Climat Scen. Pass.'!D$196:D$240,'2A Input Climat Scen. Pass.'!$B$196:$B$240,'4B Calcul. Climat Scen.'!$C328,'2A Input Climat Scen. Pass.'!$C$196:$C$240,'4B Calcul. Climat Scen.'!$E328),SUMIFS('2A Input Climat Scen. Pass.'!J$196:J$239,'2A Input Climat Scen. Pass.'!$B$196:$B$239,'4B Calcul. Climat Scen.'!$C328,'2A Input Climat Scen. Pass.'!$C$196:$C$239,'4B Calcul. Climat Scen.'!$E328))","v":0},{"$f":"IF('2A Input Climat Scen. Pass.'!K214=\"\",SUMIFS('2A Input Climat Scen. Pass.'!E$196:E$240,'2A Input Climat Scen. Pass.'!$B$196:$B$240,'4B Calcul. Climat Scen.'!$C328,'2A Input Climat Scen. Pass.'!$C$196:$C$240,'4B Calcul. Climat Scen.'!$E328),SUMIFS('2A Input Climat Scen. Pass.'!K$196:K$239,'2A Input Climat Scen. Pass.'!$B$196:$B$239,'4B Calcul. Climat Scen.'!$C328,'2A Input Climat Scen. Pass.'!$C$196:$C$239,'4B Calcul. Climat Scen.'!$E328))","v":0},{"$f":"IF('2A Input Climat Scen. Pass.'!L214=\"\",SUMIFS('2A Input Climat Scen. Pass.'!F$196:F$240,'2A Input Climat Scen. Pass.'!$B$196:$B$240,'4B Calcul. Climat Scen.'!$C328,'2A Input Climat Scen. Pass.'!$C$196:$C$240,'4B Calcul. Climat Scen.'!$E328),SUMIFS('2A Input Climat Scen. Pass.'!L$196:L$239,'2A Input Climat Scen. Pass.'!$B$196:$B$239,'4B Calcul. Climat Scen.'!$C328,'2A Input Climat Scen. Pass.'!$C$196:$C$239,'4B Calcul. Climat Scen.'!$E328))","v":0},{"$f":"IF('2A Input Climat Scen. Pass.'!M214=\"\",SUMIFS('2A Input Climat Scen. Pass.'!G$196:G$240,'2A Input Climat Scen. Pass.'!$B$196:$B$240,'4B Calcul. Climat Scen.'!$C328,'2A Input Climat Scen. Pass.'!$C$196:$C$240,'4B Calcul. Climat Scen.'!$E328),SUMIFS('2A Input Climat Scen. Pass.'!M$196:M$239,'2A Input Climat Scen. Pass.'!$B$196:$B$239,'4B Calcul. Climat Scen.'!$C328,'2A Input Climat Scen. Pass.'!$C$196:$C$239,'4B Calcul. Climat Scen.'!$E328))","v":0},{"$f":"IF('2A Input Climat Scen. Pass.'!N214=\"\",SUMIFS('2A Input Climat Scen. Pass.'!H$196:H$240,'2A Input Climat Scen. Pass.'!$B$196:$B$240,'4B Calcul. Climat Scen.'!$C328,'2A Input Climat Scen. Pass.'!$C$196:$C$240,'4B Calcul. Climat Scen.'!$E328),SUMIFS('2A Input Climat Scen. Pass.'!N$196:N$239,'2A Input Climat Scen. Pass.'!$B$196:$B$239,'4B Calcul. Climat Scen.'!$C328,'2A Input Climat Scen. Pass.'!$C$196:$C$239,'4B Calcul. Climat Scen.'!$E328))","v":0},null,0,0,0,0,0,0,null,{"$f":"SUMIFS('4A Calcul. BAU city'!O$13:O$61,'4A Calcul. BAU city'!$C$13:$C$61,'4B Calcul. Climat Scen.'!$C328,'4A Calcul. BAU city'!$E$13:$E$61,'4B Calcul. Climat Scen.'!$E328)*M328/100","v":0},0,0,0,0,0,null,{"$f":"SUMIFS('4A Calcul. BAU city'!O$13:O$61,'4A Calcul. BAU city'!$C$13:$C$61,'4B Calcul. Climat Scen.'!$C328,'4A Calcul. BAU city'!$E$13:$E$61,'4B Calcul. Climat Scen.'!$E328)*M328/100*SUMIFS('4A Calcul. BAU city'!$V$13:$V$61,'4A Calcul. BAU city'!$C$13:$C$61,'4B Calcul. Climat Scen.'!$C328,'4A Calcul. BAU city'!$E$13:$E$61,'4B Calcul. Climat Scen.'!$E328)","v":0},{"$f":"U328*SUMIFS('4A Calcul. BAU city'!$V$13:$V$61,'4A Calcul. BAU city'!$C$13:$C$61,'4B Calcul. Climat Scen.'!$C328,'4A Calcul. BAU city'!$E$13:$E$61,'4B Calcul. Climat Scen.'!$E328)","v":0},{"$f":"V328*SUMIFS('4A Calcul. BAU city'!$V$13:$V$61,'4A Calcul. BAU city'!$C$13:$C$61,'4B Calcul. Climat Scen.'!$C328,'4A Calcul. BAU city'!$E$13:$E$61,'4B Calcul. Climat Scen.'!$E328)","v":0},{"$f":"W328*SUMIFS('4A Calcul. BAU city'!$V$13:$V$61,'4A Calcul. BAU city'!$C$13:$C$61,'4B Calcul. Climat Scen.'!$C328,'4A Calcul. BAU city'!$E$13:$E$61,'4B Calcul. Climat Scen.'!$E328)","v":0},{"$f":"X328*SUMIFS('4A Calcul. BAU city'!$V$13:$V$61,'4A Calcul. BAU city'!$C$13:$C$61,'4B Calcul. Climat Scen.'!$C328,'4A Calcul. BAU city'!$E$13:$E$61,'4B Calcul. Climat Scen.'!$E328)","v":0},{"$f":"Y328*SUMIFS('4A Calcul. BAU city'!$V$13:$V$61,'4A Calcul. BAU city'!$C$13:$C$61,'4B Calcul. Climat Scen.'!$C328,'4A Calcul. BAU city'!$E$13:$E$61,'4B Calcul. Climat Scen.'!$E328)","v":0},null,{"$f":"INDEX('6 Defaults parameters'!$T$9:$Y$18,MATCH($D328,'6 Defaults parameters'!$B$9:$B$18,0),MATCH(AH$313,'6 Defaults parameters'!$T$8:$Y$8,0))*AA328/10^6","v":0},{"$f":"INDEX('6 Defaults parameters'!$T$9:$Y$18,MATCH($D328,'6 Defaults parameters'!$B$9:$B$18,0),MATCH(AI$313,'6 Defaults parameters'!$T$8:$Y$8,0))*AB328/10^6","v":0},{"$f":"INDEX('6 Defaults parameters'!$T$9:$Y$18,MATCH($D328,'6 Defaults parameters'!$B$9:$B$18,0),MATCH(AJ$313,'6 Defaults parameters'!$T$8:$Y$8,0))*AC328/10^6","v":0},{"$f":"INDEX('6 Defaults parameters'!$T$9:$Y$18,MATCH($D328,'6 Defaults parameters'!$B$9:$B$18,0),MATCH(AK$313,'6 Defaults parameters'!$T$8:$Y$8,0))*AD328/10^6","v":0},{"$f":"INDEX('6 Defaults parameters'!$T$9:$Y$18,MATCH($D328,'6 Defaults parameters'!$B$9:$B$18,0),MATCH(AL$313,'6 Defaults parameters'!$T$8:$Y$8,0))*AE328/10^6","v":0},{"$f":"INDEX('6 Defaults parameters'!$T$9:$Y$18,MATCH($D328,'6 Defaults parameters'!$B$9:$B$18,0),MATCH(AM$313,'6 Defaults parameters'!$T$8:$Y$8,0))*AF328/10^6","v":0}]
[null,"Scenario 2)",{"$f":"Mototaxi","v":"Motorcycle taxi"},{"$f":"Roadelec","v":"Road - Electric"},{"$f":"Electric","v":"Electric"},0,{"$f":"IF('2A Input Climat Scen. Pass.'!J215=\"\",SUMIFS('2A Input Climat Scen. Pass.'!D$196:D$240,'2A Input Climat Scen. Pass.'!$B$196:$B$240,'4B Calcul. Climat Scen.'!$C329,'2A Input Climat Scen. Pass.'!$C$196:$C$240,'4B Calcul. Climat Scen.'!$E329),SUMIFS('2A Input Climat Scen. Pass.'!J$196:J$239,'2A Input Climat Scen. Pass.'!$B$196:$B$239,'4B Calcul. Climat Scen.'!$C329,'2A Input Climat Scen. Pass.'!$C$196:$C$239,'4B Calcul. Climat Scen.'!$E329))","v":0},{"$f":"IF('2A Input Climat Scen. Pass.'!K215=\"\",SUMIFS('2A Input Climat Scen. Pass.'!E$196:E$240,'2A Input Climat Scen. Pass.'!$B$196:$B$240,'4B Calcul. Climat Scen.'!$C329,'2A Input Climat Scen. Pass.'!$C$196:$C$240,'4B Calcul. Climat Scen.'!$E329),SUMIFS('2A Input Climat Scen. Pass.'!K$196:K$239,'2A Input Climat Scen. Pass.'!$B$196:$B$239,'4B Calcul. Climat Scen.'!$C329,'2A Input Climat Scen. Pass.'!$C$196:$C$239,'4B Calcul. Climat Scen.'!$E329))","v":0},{"$f":"IF('2A Input Climat Scen. Pass.'!L215=\"\",SUMIFS('2A Input Climat Scen. Pass.'!F$196:F$240,'2A Input Climat Scen. Pass.'!$B$196:$B$240,'4B Calcul. Climat Scen.'!$C329,'2A Input Climat Scen. Pass.'!$C$196:$C$240,'4B Calcul. Climat Scen.'!$E329),SUMIFS('2A Input Climat Scen. Pass.'!L$196:L$239,'2A Input Climat Scen. Pass.'!$B$196:$B$239,'4B Calcul. Climat Scen.'!$C329,'2A Input Climat Scen. Pass.'!$C$196:$C$239,'4B Calcul. Climat Scen.'!$E329))","v":0},{"$f":"IF('2A Input Climat Scen. Pass.'!M215=\"\",SUMIFS('2A Input Climat Scen. Pass.'!G$196:G$240,'2A Input Climat Scen. Pass.'!$B$196:$B$240,'4B Calcul. Climat Scen.'!$C329,'2A Input Climat Scen. Pass.'!$C$196:$C$240,'4B Calcul. Climat Scen.'!$E329),SUMIFS('2A Input Climat Scen. Pass.'!M$196:M$239,'2A Input Climat Scen. Pass.'!$B$196:$B$239,'4B Calcul. Climat Scen.'!$C329,'2A Input Climat Scen. Pass.'!$C$196:$C$239,'4B Calcul. Climat Scen.'!$E329))","v":0},{"$f":"IF('2A Input Climat Scen. Pass.'!N215=\"\",SUMIFS('2A Input Climat Scen. Pass.'!H$196:H$240,'2A Input Climat Scen. Pass.'!$B$196:$B$240,'4B Calcul. Climat Scen.'!$C329,'2A Input Climat Scen. Pass.'!$C$196:$C$240,'4B Calcul. Climat Scen.'!$E329),SUMIFS('2A Input Climat Scen. Pass.'!N$196:N$239,'2A Input Climat Scen. Pass.'!$B$196:$B$239,'4B Calcul. Climat Scen.'!$C329,'2A Input Climat Scen. Pass.'!$C$196:$C$239,'4B Calcul. Climat Scen.'!$E329))","v":0},null,0,0,0,0,0,0,null,{"$f":"SUMIFS('4A Calcul. BAU city'!O$13:O$61,'4A Calcul. BAU city'!$C$13:$C$61,'4B Calcul. Climat Scen.'!$C329,'4A Calcul. BAU city'!$E$13:$E$61,'4B Calcul. Climat Scen.'!$E329)*M329/100","v":0},0,0,0,0,0,null,{"$f":"SUMIFS('4A Calcul. BAU city'!O$13:O$61,'4A Calcul. BAU city'!$C$13:$C$61,'4B Calcul. Climat Scen.'!$C329,'4A Calcul. BAU city'!$E$13:$E$61,'4B Calcul. Climat Scen.'!$E329)*M329/100*SUMIFS('4A Calcul. BAU city'!$V$13:$V$61,'4A Calcul. BAU city'!$C$13:$C$61,'4B Calcul. Climat Scen.'!$C329,'4A Calcul. BAU city'!$E$13:$E$61,'4B Calcul. Climat Scen.'!$E329)","v":0},{"$f":"U329*SUMIFS('4A Calcul. BAU city'!$V$13:$V$61,'4A Calcul. BAU city'!$C$13:$C$61,'4B Calcul. Climat Scen.'!$C329,'4A Calcul. BAU city'!$E$13:$E$61,'4B Calcul. Climat Scen.'!$E329)","v":0},{"$f":"V329*SUMIFS('4A Calcul. BAU city'!$V$13:$V$61,'4A Calcul. BAU city'!$C$13:$C$61,'4B Calcul. Climat Scen.'!$C329,'4A Calcul. BAU city'!$E$13:$E$61,'4B Calcul. Climat Scen.'!$E329)","v":0},{"$f":"W329*SUMIFS('4A Calcul. BAU city'!$V$13:$V$61,'4A Calcul. BAU city'!$C$13:$C$61,'4B Calcul. Climat Scen.'!$C329,'4A Calcul. BAU city'!$E$13:$E$61,'4B Calcul. Climat Scen.'!$E329)","v":0},{"$f":"X329*SUMIFS('4A Calcul. BAU city'!$V$13:$V$61,'4A Calcul. BAU city'!$C$13:$C$61,'4B Calcul. Climat Scen.'!$C329,'4A Calcul. BAU city'!$E$13:$E$61,'4B Calcul. Climat Scen.'!$E329)","v":0},{"$f":"Y329*SUMIFS('4A Calcul. BAU city'!$V$13:$V$61,'4A Calcul. BAU city'!$C$13:$C$61,'4B Calcul. Climat Scen.'!$C329,'4A Calcul. BAU city'!$E$13:$E$61,'4B Calcul. Climat Scen.'!$E329)","v":0},null,{"$f":"INDEX('6 Defaults parameters'!$T$9:$Y$18,MATCH($D329,'6 Defaults parameters'!$B$9:$B$18,0),MATCH(AH$313,'6 Defaults parameters'!$T$8:$Y$8,0))*AA329/10^6","v":0},{"$f":"INDEX('6 Defaults parameters'!$T$9:$Y$18,MATCH($D329,'6 Defaults parameters'!$B$9:$B$18,0),MATCH(AI$313,'6 Defaults parameters'!$T$8:$Y$8,0))*AB329/10^6","v":0},{"$f":"INDEX('6 Defaults parameters'!$T$9:$Y$18,MATCH($D329,'6 Defaults parameters'!$B$9:$B$18,0),MATCH(AJ$313,'6 Defaults parameters'!$T$8:$Y$8,0))*AC329/10^6","v":0},{"$f":"INDEX('6 Defaults parameters'!$T$9:$Y$18,MATCH($D329,'6 Defaults parameters'!$B$9:$B$18,0),MATCH(AK$313,'6 Defaults parameters'!$T$8:$Y$8,0))*AD329/10^6","v":0},{"$f":"INDEX('6 Defaults parameters'!$T$9:$Y$18,MATCH($D329,'6 Defaults parameters'!$B$9:$B$18,0),MATCH(AL$313,'6 Defaults parameters'!$T$8:$Y$8,0))*AE329/10^6","v":0},{"$f":"INDEX('6 Defaults parameters'!$T$9:$Y$18,MATCH($D329,'6 Defaults parameters'!$B$9:$B$18,0),MATCH(AM$313,'6 Defaults parameters'!$T$8:$Y$8,0))*AF329/10^6","v":0}]
[null,"Scenario 2)",{"$f":"Minibus","v":"Minibus"},{"$f":"RoadG","v":"Road - Gasoline"},{"$f":"Gasoline","v":"Gasoline"},0,{"$f":"IF('2A Input Climat Scen. Pass.'!J217=\"\",SUMIFS('2A Input Climat Scen. Pass.'!D$196:D$240,'2A Input Climat Scen. Pass.'!$B$196:$B$240,'4B Calcul. Climat Scen.'!$C330,'2A Input Climat Scen. Pass.'!$C$196:$C$240,'4B Calcul. Climat Scen.'!$E330),SUMIFS('2A Input Climat Scen. Pass.'!J$196:J$239,'2A Input Climat Scen. Pass.'!$B$196:$B$239,'4B Calcul. Climat Scen.'!$C330,'2A Input Climat Scen. Pass.'!$C$196:$C$239,'4B Calcul. Climat Scen.'!$E330))","v":0},{"$f":"IF('2A Input Climat Scen. Pass.'!K217=\"\",SUMIFS('2A Input Climat Scen. Pass.'!E$196:E$240,'2A Input Climat Scen. Pass.'!$B$196:$B$240,'4B Calcul. Climat Scen.'!$C330,'2A Input Climat Scen. Pass.'!$C$196:$C$240,'4B Calcul. Climat Scen.'!$E330),SUMIFS('2A Input Climat Scen. Pass.'!K$196:K$239,'2A Input Climat Scen. Pass.'!$B$196:$B$239,'4B Calcul. Climat Scen.'!$C330,'2A Input Climat Scen. Pass.'!$C$196:$C$239,'4B Calcul. Climat Scen.'!$E330))","v":0},{"$f":"IF('2A Input Climat Scen. Pass.'!L217=\"\",SUMIFS('2A Input Climat Scen. Pass.'!F$196:F$240,'2A Input Climat Scen. Pass.'!$B$196:$B$240,'4B Calcul. Climat Scen.'!$C330,'2A Input Climat Scen. Pass.'!$C$196:$C$240,'4B Calcul. Climat Scen.'!$E330),SUMIFS('2A Input Climat Scen. Pass.'!L$196:L$239,'2A Input Climat Scen. Pass.'!$B$196:$B$239,'4B Calcul. Climat Scen.'!$C330,'2A Input Climat Scen. Pass.'!$C$196:$C$239,'4B Calcul. Climat Scen.'!$E330))","v":0},{"$f":"IF('2A Input Climat Scen. Pass.'!M217=\"\",SUMIFS('2A Input Climat Scen. Pass.'!G$196:G$240,'2A Input Climat Scen. Pass.'!$B$196:$B$240,'4B Calcul. Climat Scen.'!$C330,'2A Input Climat Scen. Pass.'!$C$196:$C$240,'4B Calcul. Climat Scen.'!$E330),SUMIFS('2A Input Climat Scen. Pass.'!M$196:M$239,'2A Input Climat Scen. Pass.'!$B$196:$B$239,'4B Calcul. Climat Scen.'!$C330,'2A Input Climat Scen. Pass.'!$C$196:$C$239,'4B Calcul. Climat Scen.'!$E330))","v":0},{"$f":"IF('2A Input Climat Scen. Pass.'!N217=\"\",SUMIFS('2A Input Climat Scen. Pass.'!H$196:H$240,'2A Input Climat Scen. Pass.'!$B$196:$B$240,'4B Calcul. Climat Scen.'!$C330,'2A Input Climat Scen. Pass.'!$C$196:$C$240,'4B Calcul. Climat Scen.'!$E330),SUMIFS('2A Input Climat Scen. Pass.'!N$196:N$239,'2A Input Climat Scen. Pass.'!$B$196:$B$239,'4B Calcul. Climat Scen.'!$C330,'2A Input Climat Scen. Pass.'!$C$196:$C$239,'4B Calcul. Climat Scen.'!$E330))","v":0},null,0,0,0,0,0,0,null,{"$f":"SUMIFS('4A Calcul. BAU city'!O$13:O$61,'4A Calcul. BAU city'!$C$13:$C$61,'4B Calcul. Climat Scen.'!$C330,'4A Calcul. BAU city'!$E$13:$E$61,'4B Calcul. Climat Scen.'!$E330)*M330/100","v":0},0,0,0,0,0,null,{"$f":"SUMIFS('4A Calcul. BAU city'!O$13:O$61,'4A Calcul. BAU city'!$C$13:$C$61,'4B Calcul. Climat Scen.'!$C330,'4A Calcul. BAU city'!$E$13:$E$61,'4B Calcul. Climat Scen.'!$E330)*M330/100*SUMIFS('4A Calcul. BAU city'!$V$13:$V$61,'4A Calcul. BAU city'!$C$13:$C$61,'4B Calcul. Climat Scen.'!$C330,'4A Calcul. BAU city'!$E$13:$E$61,'4B Calcul. Climat Scen.'!$E330)","v":0},{"$f":"U330*SUMIFS('4A Calcul. BAU city'!$V$13:$V$61,'4A Calcul. BAU city'!$C$13:$C$61,'4B Calcul. Climat Scen.'!$C330,'4A Calcul. BAU city'!$E$13:$E$61,'4B Calcul. Climat Scen.'!$E330)","v":0},{"$f":"V330*SUMIFS('4A Calcul. BAU city'!$V$13:$V$61,'4A Calcul. BAU city'!$C$13:$C$61,'4B Calcul. Climat Scen.'!$C330,'4A Calcul. BAU city'!$E$13:$E$61,'4B Calcul. Climat Scen.'!$E330)","v":0},{"$f":"W330*SUMIFS('4A Calcul. BAU city'!$V$13:$V$61,'4A Calcul. BAU city'!$C$13:$C$61,'4B Calcul. Climat Scen.'!$C330,'4A Calcul. BAU city'!$E$13:$E$61,'4B Calcul. Climat Scen.'!$E330)","v":0},{"$f":"X330*SUMIFS('4A Calcul. BAU city'!$V$13:$V$61,'4A Calcul. BAU city'!$C$13:$C$61,'4B Calcul. Climat Scen.'!$C330,'4A Calcul. BAU city'!$E$13:$E$61,'4B Calcul. Climat Scen.'!$E330)","v":0},{"$f":"Y330*SUMIFS('4A Calcul. BAU city'!$V$13:$V$61,'4A Calcul. BAU city'!$C$13:$C$61,'4B Calcul. Climat Scen.'!$C330,'4A Calcul. BAU city'!$E$13:$E$61,'4B Calcul. Climat Scen.'!$E330)","v":0},null,{"$f":"INDEX('6 Defaults parameters'!$T$9:$Y$18,MATCH($D330,'6 Defaults parameters'!$B$9:$B$18,0),MATCH(AH$313,'6 Defaults parameters'!$T$8:$Y$8,0))*AA330/10^6","v":0},{"$f":"INDEX('6 Defaults parameters'!$T$9:$Y$18,MATCH($D330,'6 Defaults parameters'!$B$9:$B$18,0),MATCH(AI$313,'6 Defaults parameters'!$T$8:$Y$8,0))*AB330/10^6","v":0},{"$f":"INDEX('6 Defaults parameters'!$T$9:$Y$18,MATCH($D330,'6 Defaults parameters'!$B$9:$B$18,0),MATCH(AJ$313,'6 Defaults parameters'!$T$8:$Y$8,0))*AC330/10^6","v":0},{"$f":"INDEX('6 Defaults parameters'!$T$9:$Y$18,MATCH($D330,'6 Defaults parameters'!$B$9:$B$18,0),MATCH(AK$313,'6 Defaults parameters'!$T$8:$Y$8,0))*AD330/10^6","v":0},{"$f":"INDEX('6 Defaults parameters'!$T$9:$Y$18,MATCH($D330,'6 Defaults parameters'!$B$9:$B$18,0),MATCH(AL$313,'6 Defaults parameters'!$T$8:$Y$8,0))*AE330/10^6","v":0},{"$f":"INDEX('6 Defaults parameters'!$T$9:$Y$18,MATCH($D330,'6 Defaults parameters'!$B$9:$B$18,0),MATCH(AM$313,'6 Defaults parameters'!$T$8:$Y$8,0))*AF330/10^6","v":0}]
[null,"Scenario 2)","Minibus",{"$f":"RoadD","v":"Road - Diesel"},{"$f":"Diesel","v":"Diesel"},0,{"$f":"IF('2A Input Climat Scen. Pass.'!J218=\"\",SUMIFS('2A Input Climat Scen. Pass.'!D$196:D$240,'2A Input Climat Scen. Pass.'!$B$196:$B$240,'4B Calcul. Climat Scen.'!$C331,'2A Input Climat Scen. Pass.'!$C$196:$C$240,'4B Calcul. Climat Scen.'!$E331),SUMIFS('2A Input Climat Scen. Pass.'!J$196:J$239,'2A Input Climat Scen. Pass.'!$B$196:$B$239,'4B Calcul. Climat Scen.'!$C331,'2A Input Climat Scen. Pass.'!$C$196:$C$239,'4B Calcul. Climat Scen.'!$E331))","v":0},{"$f":"IF('2A Input Climat Scen. Pass.'!K218=\"\",SUMIFS('2A Input Climat Scen. Pass.'!E$196:E$240,'2A Input Climat Scen. Pass.'!$B$196:$B$240,'4B Calcul. Climat Scen.'!$C331,'2A Input Climat Scen. Pass.'!$C$196:$C$240,'4B Calcul. Climat Scen.'!$E331),SUMIFS('2A Input Climat Scen. Pass.'!K$196:K$239,'2A Input Climat Scen. Pass.'!$B$196:$B$239,'4B Calcul. Climat Scen.'!$C331,'2A Input Climat Scen. Pass.'!$C$196:$C$239,'4B Calcul. Climat Scen.'!$E331))","v":0},{"$f":"IF('2A Input Climat Scen. Pass.'!L218=\"\",SUMIFS('2A Input Climat Scen. Pass.'!F$196:F$240,'2A Input Climat Scen. Pass.'!$B$196:$B$240,'4B Calcul. Climat Scen.'!$C331,'2A Input Climat Scen. Pass.'!$C$196:$C$240,'4B Calcul. Climat Scen.'!$E331),SUMIFS('2A Input Climat Scen. Pass.'!L$196:L$239,'2A Input Climat Scen. Pass.'!$B$196:$B$239,'4B Calcul. Climat Scen.'!$C331,'2A Input Climat Scen. Pass.'!$C$196:$C$239,'4B Calcul. Climat Scen.'!$E331))","v":0},{"$f":"IF('2A Input Climat Scen. Pass.'!M218=\"\",SUMIFS('2A Input Climat Scen. Pass.'!G$196:G$240,'2A Input Climat Scen. Pass.'!$B$196:$B$240,'4B Calcul. Climat Scen.'!$C331,'2A Input Climat Scen. Pass.'!$C$196:$C$240,'4B Calcul. Climat Scen.'!$E331),SUMIFS('2A Input Climat Scen. Pass.'!M$196:M$239,'2A Input Climat Scen. Pass.'!$B$196:$B$239,'4B Calcul. Climat Scen.'!$C331,'2A Input Climat Scen. Pass.'!$C$196:$C$239,'4B Calcul. Climat Scen.'!$E331))","v":0},{"$f":"IF('2A Input Climat Scen. Pass.'!N218=\"\",SUMIFS('2A Input Climat Scen. Pass.'!H$196:H$240,'2A Input Climat Scen. Pass.'!$B$196:$B$240,'4B Calcul. Climat Scen.'!$C331,'2A Input Climat Scen. Pass.'!$C$196:$C$240,'4B Calcul. Climat Scen.'!$E331),SUMIFS('2A Input Climat Scen. Pass.'!N$196:N$239,'2A Input Climat Scen. Pass.'!$B$196:$B$239,'4B Calcul. Climat Scen.'!$C331,'2A Input Climat Scen. Pass.'!$C$196:$C$239,'4B Calcul. Climat Scen.'!$E331))","v":0},null,0,0,0,0,0,0,null,{"$f":"SUMIFS('4A Calcul. BAU city'!O$13:O$61,'4A Calcul. BAU city'!$C$13:$C$61,'4B Calcul. Climat Scen.'!$C331,'4A Calcul. BAU city'!$E$13:$E$61,'4B Calcul. Climat Scen.'!$E331)*M331/100","v":0},0,0,0,0,0,null,{"$f":"SUMIFS('4A Calcul. BAU city'!O$13:O$61,'4A Calcul. BAU city'!$C$13:$C$61,'4B Calcul. Climat Scen.'!$C331,'4A Calcul. BAU city'!$E$13:$E$61,'4B Calcul. Climat Scen.'!$E331)*M331/100*SUMIFS('4A Calcul. BAU city'!$V$13:$V$61,'4A Calcul. BAU city'!$C$13:$C$61,'4B Calcul. Climat Scen.'!$C331,'4A Calcul. BAU city'!$E$13:$E$61,'4B Calcul. Climat Scen.'!$E331)","v":0},{"$f":"U331*SUMIFS('4A Calcul. BAU city'!$V$13:$V$61,'4A Calcul. BAU city'!$C$13:$C$61,'4B Calcul. Climat Scen.'!$C331,'4A Calcul. BAU city'!$E$13:$E$61,'4B Calcul. Climat Scen.'!$E331)","v":0},{"$f":"V331*SUMIFS('4A Calcul. BAU city'!$V$13:$V$61,'4A Calcul. BAU city'!$C$13:$C$61,'4B Calcul. Climat Scen.'!$C331,'4A Calcul. BAU city'!$E$13:$E$61,'4B Calcul. Climat Scen.'!$E331)","v":0},{"$f":"W331*SUMIFS('4A Calcul. BAU city'!$V$13:$V$61,'4A Calcul. BAU city'!$C$13:$C$61,'4B Calcul. Climat Scen.'!$C331,'4A Calcul. BAU city'!$E$13:$E$61,'4B Calcul. Climat Scen.'!$E331)","v":0},{"$f":"X331*SUMIFS('4A Calcul. BAU city'!$V$13:$V$61,'4A Calcul. BAU city'!$C$13:$C$61,'4B Calcul. Climat Scen.'!$C331,'4A Calcul. BAU city'!$E$13:$E$61,'4B Calcul. Climat Scen.'!$E331)","v":0},{"$f":"Y331*SUMIFS('4A Calcul. BAU city'!$V$13:$V$61,'4A Calcul. BAU city'!$C$13:$C$61,'4B Calcul. Climat Scen.'!$C331,'4A Calcul. BAU city'!$E$13:$E$61,'4B Calcul. Climat Scen.'!$E331)","v":0},null,{"$f":"INDEX('6 Defaults parameters'!$T$9:$Y$18,MATCH($D331,'6 Defaults parameters'!$B$9:$B$18,0),MATCH(AH$313,'6 Defaults parameters'!$T$8:$Y$8,0))*AA331/10^6","v":0},{"$f":"INDEX('6 Defaults parameters'!$T$9:$Y$18,MATCH($D331,'6 Defaults parameters'!$B$9:$B$18,0),MATCH(AI$313,'6 Defaults parameters'!$T$8:$Y$8,0))*AB331/10^6","v":0},{"$f":"INDEX('6 Defaults parameters'!$T$9:$Y$18,MATCH($D331,'6 Defaults parameters'!$B$9:$B$18,0),MATCH(AJ$313,'6 Defaults parameters'!$T$8:$Y$8,0))*AC331/10^6","v":0},{"$f":"INDEX('6 Defaults parameters'!$T$9:$Y$18,MATCH($D331,'6 Defaults parameters'!$B$9:$B$18,0),MATCH(AK$313,'6 Defaults parameters'!$T$8:$Y$8,0))*AD331/10^6","v":0},{"$f":"INDEX('6 Defaults parameters'!$T$9:$Y$18,MATCH($D331,'6 Defaults parameters'!$B$9:$B$18,0),MATCH(AL$313,'6 Defaults parameters'!$T$8:$Y$8,0))*AE331/10^6","v":0},{"$f":"INDEX('6 Defaults parameters'!$T$9:$Y$18,MATCH($D331,'6 Defaults parameters'!$B$9:$B$18,0),MATCH(AM$313,'6 Defaults parameters'!$T$8:$Y$8,0))*AF331/10^6","v":0}]
[null,"Scenario 2)","Minibus",{"$f":"RoadLPG","v":"Road - LPG"},{"$f":"LPG","v":"LPG"},0,{"$f":"IF('2A Input Climat Scen. Pass.'!J219=\"\",SUMIFS('2A Input Climat Scen. Pass.'!D$196:D$240,'2A Input Climat Scen. Pass.'!$B$196:$B$240,'4B Calcul. Climat Scen.'!$C332,'2A Input Climat Scen. Pass.'!$C$196:$C$240,'4B Calcul. Climat Scen.'!$E332),SUMIFS('2A Input Climat Scen. Pass.'!J$196:J$239,'2A Input Climat Scen. Pass.'!$B$196:$B$239,'4B Calcul. Climat Scen.'!$C332,'2A Input Climat Scen. Pass.'!$C$196:$C$239,'4B Calcul. Climat Scen.'!$E332))","v":0},{"$f":"IF('2A Input Climat Scen. Pass.'!K219=\"\",SUMIFS('2A Input Climat Scen. Pass.'!E$196:E$240,'2A Input Climat Scen. Pass.'!$B$196:$B$240,'4B Calcul. Climat Scen.'!$C332,'2A Input Climat Scen. Pass.'!$C$196:$C$240,'4B Calcul. Climat Scen.'!$E332),SUMIFS('2A Input Climat Scen. Pass.'!K$196:K$239,'2A Input Climat Scen. Pass.'!$B$196:$B$239,'4B Calcul. Climat Scen.'!$C332,'2A Input Climat Scen. Pass.'!$C$196:$C$239,'4B Calcul. Climat Scen.'!$E332))","v":0},{"$f":"IF('2A Input Climat Scen. Pass.'!L219=\"\",SUMIFS('2A Input Climat Scen. Pass.'!F$196:F$240,'2A Input Climat Scen. Pass.'!$B$196:$B$240,'4B Calcul. Climat Scen.'!$C332,'2A Input Climat Scen. Pass.'!$C$196:$C$240,'4B Calcul. Climat Scen.'!$E332),SUMIFS('2A Input Climat Scen. Pass.'!L$196:L$239,'2A Input Climat Scen. Pass.'!$B$196:$B$239,'4B Calcul. Climat Scen.'!$C332,'2A Input Climat Scen. Pass.'!$C$196:$C$239,'4B Calcul. Climat Scen.'!$E332))","v":0},{"$f":"IF('2A Input Climat Scen. Pass.'!M219=\"\",SUMIFS('2A Input Climat Scen. Pass.'!G$196:G$240,'2A Input Climat Scen. Pass.'!$B$196:$B$240,'4B Calcul. Climat Scen.'!$C332,'2A Input Climat Scen. Pass.'!$C$196:$C$240,'4B Calcul. Climat Scen.'!$E332),SUMIFS('2A Input Climat Scen. Pass.'!M$196:M$239,'2A Input Climat Scen. Pass.'!$B$196:$B$239,'4B Calcul. Climat Scen.'!$C332,'2A Input Climat Scen. Pass.'!$C$196:$C$239,'4B Calcul. Climat Scen.'!$E332))","v":0},{"$f":"IF('2A Input Climat Scen. Pass.'!N219=\"\",SUMIFS('2A Input Climat Scen. Pass.'!H$196:H$240,'2A Input Climat Scen. Pass.'!$B$196:$B$240,'4B Calcul. Climat Scen.'!$C332,'2A Input Climat Scen. Pass.'!$C$196:$C$240,'4B Calcul. Climat Scen.'!$E332),SUMIFS('2A Input Climat Scen. Pass.'!N$196:N$239,'2A Input Climat Scen. Pass.'!$B$196:$B$239,'4B Calcul. Climat Scen.'!$C332,'2A Input Climat Scen. Pass.'!$C$196:$C$239,'4B Calcul. Climat Scen.'!$E332))","v":0},null,0,0,0,0,0,0,null,{"$f":"SUMIFS('4A Calcul. BAU city'!O$13:O$61,'4A Calcul. BAU city'!$C$13:$C$61,'4B Calcul. Climat Scen.'!$C332,'4A Calcul. BAU city'!$E$13:$E$61,'4B Calcul. Climat Scen.'!$E332)*M332/100","v":0},0,0,0,0,0,null,{"$f":"SUMIFS('4A Calcul. BAU city'!O$13:O$61,'4A Calcul. BAU city'!$C$13:$C$61,'4B Calcul. Climat Scen.'!$C332,'4A Calcul. BAU city'!$E$13:$E$61,'4B Calcul. Climat Scen.'!$E332)*M332/100*SUMIFS('4A Calcul. BAU city'!$V$13:$V$61,'4A Calcul. BAU city'!$C$13:$C$61,'4B Calcul. Climat Scen.'!$C332,'4A Calcul. BAU city'!$E$13:$E$61,'4B Calcul. Climat Scen.'!$E332)","v":0},{"$f":"U332*SUMIFS('4A Calcul. BAU city'!$V$13:$V$61,'4A Calcul. BAU city'!$C$13:$C$61,'4B Calcul. Climat Scen.'!$C332,'4A Calcul. BAU city'!$E$13:$E$61,'4B Calcul. Climat Scen.'!$E332)","v":0},{"$f":"V332*SUMIFS('4A Calcul. BAU city'!$V$13:$V$61,'4A Calcul. BAU city'!$C$13:$C$61,'4B Calcul. Climat Scen.'!$C332,'4A Calcul. BAU city'!$E$13:$E$61,'4B Calcul. Climat Scen.'!$E332)","v":0},{"$f":"W332*SUMIFS('4A Calcul. BAU city'!$V$13:$V$61,'4A Calcul. BAU city'!$C$13:$C$61,'4B Calcul. Climat Scen.'!$C332,'4A Calcul. BAU city'!$E$13:$E$61,'4B Calcul. Climat Scen.'!$E332)","v":0},{"$f":"X332*SUMIFS('4A Calcul. BAU city'!$V$13:$V$61,'4A Calcul. BAU city'!$C$13:$C$61,'4B Calcul. Climat Scen.'!$C332,'4A Calcul. BAU city'!$E$13:$E$61,'4B Calcul. Climat Scen.'!$E332)","v":0},{"$f":"Y332*SUMIFS('4A Calcul. BAU city'!$V$13:$V$61,'4A Calcul. BAU city'!$C$13:$C$61,'4B Calcul. Climat Scen.'!$C332,'4A Calcul. BAU city'!$E$13:$E$61,'4B Calcul. Climat Scen.'!$E332)","v":0},null,{"$f":"INDEX('6 Defaults parameters'!$T$9:$Y$18,MATCH($D332,'6 Defaults parameters'!$B$9:$B$18,0),MATCH(AH$313,'6 Defaults parameters'!$T$8:$Y$8,0))*AA332/10^6","v":0},{"$f":"INDEX('6 Defaults parameters'!$T$9:$Y$18,MATCH($D332,'6 Defaults parameters'!$B$9:$B$18,0),MATCH(AI$313,'6 Defaults parameters'!$T$8:$Y$8,0))*AB332/10^6","v":0},{"$f":"INDEX('6 Defaults parameters'!$T$9:$Y$18,MATCH($D332,'6 Defaults parameters'!$B$9:$B$18,0),MATCH(AJ$313,'6 Defaults parameters'!$T$8:$Y$8,0))*AC332/10^6","v":0},{"$f":"INDEX('6 Defaults parameters'!$T$9:$Y$18,MATCH($D332,'6 Defaults parameters'!$B$9:$B$18,0),MATCH(AK$313,'6 Defaults parameters'!$T$8:$Y$8,0))*AD332/10^6","v":0},{"$f":"INDEX('6 Defaults parameters'!$T$9:$Y$18,MATCH($D332,'6 Defaults parameters'!$B$9:$B$18,0),MATCH(AL$313,'6 Defaults parameters'!$T$8:$Y$8,0))*AE332/10^6","v":0},{"$f":"INDEX('6 Defaults parameters'!$T$9:$Y$18,MATCH($D332,'6 Defaults parameters'!$B$9:$B$18,0),MATCH(AM$313,'6 Defaults parameters'!$T$8:$Y$8,0))*AF332/10^6","v":0}]
[null,"Scenario 2)","Minibus",{"$f":"RoadNG","v":"Road - NG"},{"$f":"NG","v":"NG"},0,{"$f":"IF('2A Input Climat Scen. Pass.'!J220=\"\",SUMIFS('2A Input Climat Scen. Pass.'!D$196:D$240,'2A Input Climat Scen. Pass.'!$B$196:$B$240,'4B Calcul. Climat Scen.'!$C333,'2A Input Climat Scen. Pass.'!$C$196:$C$240,'4B Calcul. Climat Scen.'!$E333),SUMIFS('2A Input Climat Scen. Pass.'!J$196:J$239,'2A Input Climat Scen. Pass.'!$B$196:$B$239,'4B Calcul. Climat Scen.'!$C333,'2A Input Climat Scen. Pass.'!$C$196:$C$239,'4B Calcul. Climat Scen.'!$E333))","v":0},{"$f":"IF('2A Input Climat Scen. Pass.'!K220=\"\",SUMIFS('2A Input Climat Scen. Pass.'!E$196:E$240,'2A Input Climat Scen. Pass.'!$B$196:$B$240,'4B Calcul. Climat Scen.'!$C333,'2A Input Climat Scen. Pass.'!$C$196:$C$240,'4B Calcul. Climat Scen.'!$E333),SUMIFS('2A Input Climat Scen. Pass.'!K$196:K$239,'2A Input Climat Scen. Pass.'!$B$196:$B$239,'4B Calcul. Climat Scen.'!$C333,'2A Input Climat Scen. Pass.'!$C$196:$C$239,'4B Calcul. Climat Scen.'!$E333))","v":0},{"$f":"IF('2A Input Climat Scen. Pass.'!L220=\"\",SUMIFS('2A Input Climat Scen. Pass.'!F$196:F$240,'2A Input Climat Scen. Pass.'!$B$196:$B$240,'4B Calcul. Climat Scen.'!$C333,'2A Input Climat Scen. Pass.'!$C$196:$C$240,'4B Calcul. Climat Scen.'!$E333),SUMIFS('2A Input Climat Scen. Pass.'!L$196:L$239,'2A Input Climat Scen. Pass.'!$B$196:$B$239,'4B Calcul. Climat Scen.'!$C333,'2A Input Climat Scen. Pass.'!$C$196:$C$239,'4B Calcul. Climat Scen.'!$E333))","v":0},{"$f":"IF('2A Input Climat Scen. Pass.'!M220=\"\",SUMIFS('2A Input Climat Scen. Pass.'!G$196:G$240,'2A Input Climat Scen. Pass.'!$B$196:$B$240,'4B Calcul. Climat Scen.'!$C333,'2A Input Climat Scen. Pass.'!$C$196:$C$240,'4B Calcul. Climat Scen.'!$E333),SUMIFS('2A Input Climat Scen. Pass.'!M$196:M$239,'2A Input Climat Scen. Pass.'!$B$196:$B$239,'4B Calcul. Climat Scen.'!$C333,'2A Input Climat Scen. Pass.'!$C$196:$C$239,'4B Calcul. Climat Scen.'!$E333))","v":0},{"$f":"IF('2A Input Climat Scen. Pass.'!N220=\"\",SUMIFS('2A Input Climat Scen. Pass.'!H$196:H$240,'2A Input Climat Scen. Pass.'!$B$196:$B$240,'4B Calcul. Climat Scen.'!$C333,'2A Input Climat Scen. Pass.'!$C$196:$C$240,'4B Calcul. Climat Scen.'!$E333),SUMIFS('2A Input Climat Scen. Pass.'!N$196:N$239,'2A Input Climat Scen. Pass.'!$B$196:$B$239,'4B Calcul. Climat Scen.'!$C333,'2A Input Climat Scen. Pass.'!$C$196:$C$239,'4B Calcul. Climat Scen.'!$E333))","v":0},null,0,0,0,0,0,0,null,{"$f":"SUMIFS('4A Calcul. BAU city'!O$13:O$61,'4A Calcul. BAU city'!$C$13:$C$61,'4B Calcul. Climat Scen.'!$C333,'4A Calcul. BAU city'!$E$13:$E$61,'4B Calcul. Climat Scen.'!$E333)*M333/100","v":0},0,0,0,0,0,null,{"$f":"SUMIFS('4A Calcul. BAU city'!O$13:O$61,'4A Calcul. BAU city'!$C$13:$C$61,'4B Calcul. Climat Scen.'!$C333,'4A Calcul. BAU city'!$E$13:$E$61,'4B Calcul. Climat Scen.'!$E333)*M333/100*SUMIFS('4A Calcul. BAU city'!$V$13:$V$61,'4A Calcul. BAU city'!$C$13:$C$61,'4B Calcul. Climat Scen.'!$C333,'4A Calcul. BAU city'!$E$13:$E$61,'4B Calcul. Climat Scen.'!$E333)","v":0},{"$f":"U333*SUMIFS('4A Calcul. BAU city'!$V$13:$V$61,'4A Calcul. BAU city'!$C$13:$C$61,'4B Calcul. Climat Scen.'!$C333,'4A Calcul. BAU city'!$E$13:$E$61,'4B Calcul. Climat Scen.'!$E333)","v":0},{"$f":"V333*SUMIFS('4A Calcul. BAU city'!$V$13:$V$61,'4A Calcul. BAU city'!$C$13:$C$61,'4B Calcul. Climat Scen.'!$C333,'4A Calcul. BAU city'!$E$13:$E$61,'4B Calcul. Climat Scen.'!$E333)","v":0},{"$f":"W333*SUMIFS('4A Calcul. BAU city'!$V$13:$V$61,'4A Calcul. BAU city'!$C$13:$C$61,'4B Calcul. Climat Scen.'!$C333,'4A Calcul. BAU city'!$E$13:$E$61,'4B Calcul. Climat Scen.'!$E333)","v":0},{"$f":"X333*SUMIFS('4A Calcul. BAU city'!$V$13:$V$61,'4A Calcul. BAU city'!$C$13:$C$61,'4B Calcul. Climat Scen.'!$C333,'4A Calcul. BAU city'!$E$13:$E$61,'4B Calcul. Climat Scen.'!$E333)","v":0},{"$f":"Y333*SUMIFS('4A Calcul. BAU city'!$V$13:$V$61,'4A Calcul. BAU city'!$C$13:$C$61,'4B Calcul. Climat Scen.'!$C333,'4A Calcul. BAU city'!$E$13:$E$61,'4B Calcul. Climat Scen.'!$E333)","v":0},null,{"$f":"INDEX('6 Defaults parameters'!$T$9:$Y$18,MATCH($D333,'6 Defaults parameters'!$B$9:$B$18,0),MATCH(AH$313,'6 Defaults parameters'!$T$8:$Y$8,0))*AA333/10^6","v":0},{"$f":"INDEX('6 Defaults parameters'!$T$9:$Y$18,MATCH($D333,'6 Defaults parameters'!$B$9:$B$18,0),MATCH(AI$313,'6 Defaults parameters'!$T$8:$Y$8,0))*AB333/10^6","v":0},{"$f":"INDEX('6 Defaults parameters'!$T$9:$Y$18,MATCH($D333,'6 Defaults parameters'!$B$9:$B$18,0),MATCH(AJ$313,'6 Defaults parameters'!$T$8:$Y$8,0))*AC333/10^6","v":0},{"$f":"INDEX('6 Defaults parameters'!$T$9:$Y$18,MATCH($D333,'6 Defaults parameters'!$B$9:$B$18,0),MATCH(AK$313,'6 Defaults parameters'!$T$8:$Y$8,0))*AD333/10^6","v":0},{"$f":"INDEX('6 Defaults parameters'!$T$9:$Y$18,MATCH($D333,'6 Defaults parameters'!$B$9:$B$18,0),MATCH(AL$313,'6 Defaults parameters'!$T$8:$Y$8,0))*AE333/10^6","v":0},{"$f":"INDEX('6 Defaults parameters'!$T$9:$Y$18,MATCH($D333,'6 Defaults parameters'!$B$9:$B$18,0),MATCH(AM$313,'6 Defaults parameters'!$T$8:$Y$8,0))*AF333/10^6","v":0}]
[null,"Scenario 2)","Minibus",{"$f":"RoadH","v":"Road - Hybrid"},{"$f":"Hybrid","v":"Hybrid"},{"$f":"IFERROR(SUMIFS($F$252:$F$301,$C$252:$C$301,C334,$E$252:$E$301,E334)/SUMIF($C$252:$C$301,C334,$F$252:$F$301),0)","v":0},{"$f":"IF('2A Input Climat Scen. Pass.'!J221=\"\",SUMIFS('2A Input Climat Scen. Pass.'!D$196:D$240,'2A Input Climat Scen. Pass.'!$B$196:$B$240,'4B Calcul. Climat Scen.'!$C334,'2A Input Climat Scen. Pass.'!$C$196:$C$240,'4B Calcul. Climat Scen.'!$E334),SUMIFS('2A Input Climat Scen. Pass.'!J$196:J$239,'2A Input Climat Scen. Pass.'!$B$196:$B$239,'4B Calcul. Climat Scen.'!$C334,'2A Input Climat Scen. Pass.'!$C$196:$C$239,'4B Calcul. Climat Scen.'!$E334))","v":0},{"$f":"IF('2A Input Climat Scen. Pass.'!K221=\"\",SUMIFS('2A Input Climat Scen. Pass.'!E$196:E$240,'2A Input Climat Scen. Pass.'!$B$196:$B$240,'4B Calcul. Climat Scen.'!$C334,'2A Input Climat Scen. Pass.'!$C$196:$C$240,'4B Calcul. Climat Scen.'!$E334),SUMIFS('2A Input Climat Scen. Pass.'!K$196:K$239,'2A Input Climat Scen. Pass.'!$B$196:$B$239,'4B Calcul. Climat Scen.'!$C334,'2A Input Climat Scen. Pass.'!$C$196:$C$239,'4B Calcul. Climat Scen.'!$E334))","v":0},{"$f":"IF('2A Input Climat Scen. Pass.'!L221=\"\",SUMIFS('2A Input Climat Scen. Pass.'!F$196:F$240,'2A Input Climat Scen. Pass.'!$B$196:$B$240,'4B Calcul. Climat Scen.'!$C334,'2A Input Climat Scen. Pass.'!$C$196:$C$240,'4B Calcul. Climat Scen.'!$E334),SUMIFS('2A Input Climat Scen. Pass.'!L$196:L$239,'2A Input Climat Scen. Pass.'!$B$196:$B$239,'4B Calcul. Climat Scen.'!$C334,'2A Input Climat Scen. Pass.'!$C$196:$C$239,'4B Calcul. Climat Scen.'!$E334))","v":0},{"$f":"IF('2A Input Climat Scen. Pass.'!M221=\"\",SUMIFS('2A Input Climat Scen. Pass.'!G$196:G$240,'2A Input Climat Scen. Pass.'!$B$196:$B$240,'4B Calcul. Climat Scen.'!$C334,'2A Input Climat Scen. Pass.'!$C$196:$C$240,'4B Calcul. Climat Scen.'!$E334),SUMIFS('2A Input Climat Scen. Pass.'!M$196:M$239,'2A Input Climat Scen. Pass.'!$B$196:$B$239,'4B Calcul. Climat Scen.'!$C334,'2A Input Climat Scen. Pass.'!$C$196:$C$239,'4B Calcul. Climat Scen.'!$E334))","v":0},{"$f":"IF('2A Input Climat Scen. Pass.'!N221=\"\",SUMIFS('2A Input Climat Scen. Pass.'!H$196:H$240,'2A Input Climat Scen. Pass.'!$B$196:$B$240,'4B Calcul. Climat Scen.'!$C334,'2A Input Climat Scen. Pass.'!$C$196:$C$240,'4B Calcul. Climat Scen.'!$E334),SUMIFS('2A Input Climat Scen. Pass.'!N$196:N$239,'2A Input Climat Scen. Pass.'!$B$196:$B$239,'4B Calcul. Climat Scen.'!$C334,'2A Input Climat Scen. Pass.'!$C$196:$C$239,'4B Calcul. Climat Scen.'!$E334))","v":0},null,{"$f":"+F272","v":0},0,0,0,0,0,null,{"$f":"SUMIFS('4A Calcul. BAU city'!O$13:O$61,'4A Calcul. BAU city'!$C$13:$C$61,'4B Calcul. Climat Scen.'!$C334,'4A Calcul. BAU city'!$E$13:$E$61,'4B Calcul. Climat Scen.'!$E334)*M334/100","v":0},0,0,0,0,0,null,{"$f":"SUMIFS('4A Calcul. BAU city'!O$13:O$61,'4A Calcul. BAU city'!$C$13:$C$61,'4B Calcul. Climat Scen.'!$C334,'4A Calcul. BAU city'!$E$13:$E$61,'4B Calcul. Climat Scen.'!$E334)*M334/100*SUMIFS('4A Calcul. BAU city'!$V$13:$V$61,'4A Calcul. BAU city'!$C$13:$C$61,'4B Calcul. Climat Scen.'!$C334,'4A Calcul. BAU city'!$E$13:$E$61,'4B Calcul. Climat Scen.'!$E334)","v":0},{"$f":"U334*SUMIFS('4A Calcul. BAU city'!$V$13:$V$61,'4A Calcul. BAU city'!$C$13:$C$61,'4B Calcul. Climat Scen.'!$C334,'4A Calcul. BAU city'!$E$13:$E$61,'4B Calcul. Climat Scen.'!$E334)","v":0},{"$f":"V334*SUMIFS('4A Calcul. BAU city'!$V$13:$V$61,'4A Calcul. BAU city'!$C$13:$C$61,'4B Calcul. Climat Scen.'!$C334,'4A Calcul. BAU city'!$E$13:$E$61,'4B Calcul. Climat Scen.'!$E334)","v":0},{"$f":"W334*SUMIFS('4A Calcul. BAU city'!$V$13:$V$61,'4A Calcul. BAU city'!$C$13:$C$61,'4B Calcul. Climat Scen.'!$C334,'4A Calcul. BAU city'!$E$13:$E$61,'4B Calcul. Climat Scen.'!$E334)","v":0},{"$f":"X334*SUMIFS('4A Calcul. BAU city'!$V$13:$V$61,'4A Calcul. BAU city'!$C$13:$C$61,'4B Calcul. Climat Scen.'!$C334,'4A Calcul. BAU city'!$E$13:$E$61,'4B Calcul. Climat Scen.'!$E334)","v":0},{"$f":"Y334*SUMIFS('4A Calcul. BAU city'!$V$13:$V$61,'4A Calcul. BAU city'!$C$13:$C$61,'4B Calcul. Climat Scen.'!$C334,'4A Calcul. BAU city'!$E$13:$E$61,'4B Calcul. Climat Scen.'!$E334)","v":0},null,{"$f":"INDEX('6 Defaults parameters'!$T$9:$Y$18,MATCH($D334,'6 Defaults parameters'!$B$9:$B$18,0),MATCH(AH$313,'6 Defaults parameters'!$T$8:$Y$8,0))*AA334/10^6","v":0},{"$f":"INDEX('6 Defaults parameters'!$T$9:$Y$18,MATCH($D334,'6 Defaults parameters'!$B$9:$B$18,0),MATCH(AI$313,'6 Defaults parameters'!$T$8:$Y$8,0))*AB334/10^6","v":0},{"$f":"INDEX('6 Defaults parameters'!$T$9:$Y$18,MATCH($D334,'6 Defaults parameters'!$B$9:$B$18,0),MATCH(AJ$313,'6 Defaults parameters'!$T$8:$Y$8,0))*AC334/10^6","v":0},{"$f":"INDEX('6 Defaults parameters'!$T$9:$Y$18,MATCH($D334,'6 Defaults parameters'!$B$9:$B$18,0),MATCH(AK$313,'6 Defaults parameters'!$T$8:$Y$8,0))*AD334/10^6","v":0},{"$f":"INDEX('6 Defaults parameters'!$T$9:$Y$18,MATCH($D334,'6 Defaults parameters'!$B$9:$B$18,0),MATCH(AL$313,'6 Defaults parameters'!$T$8:$Y$8,0))*AE334/10^6","v":0},{"$f":"INDEX('6 Defaults parameters'!$T$9:$Y$18,MATCH($D334,'6 Defaults parameters'!$B$9:$B$18,0),MATCH(AM$313,'6 Defaults parameters'!$T$8:$Y$8,0))*AF334/10^6","v":0}]
[null,"Scenario 2)","Minibus",{"$f":"Roadelec","v":"Road - Electric"},{"$f":"Electric","v":"Electric"},0,{"$f":"IF('2A Input Climat Scen. Pass.'!J222=\"\",SUMIFS('2A Input Climat Scen. Pass.'!D$196:D$240,'2A Input Climat Scen. Pass.'!$B$196:$B$240,'4B Calcul. Climat Scen.'!$C335,'2A Input Climat Scen. Pass.'!$C$196:$C$240,'4B Calcul. Climat Scen.'!$E335),SUMIFS('2A Input Climat Scen. Pass.'!J$196:J$239,'2A Input Climat Scen. Pass.'!$B$196:$B$239,'4B Calcul. Climat Scen.'!$C335,'2A Input Climat Scen. Pass.'!$C$196:$C$239,'4B Calcul. Climat Scen.'!$E335))","v":0},{"$f":"IF('2A Input Climat Scen. Pass.'!K222=\"\",SUMIFS('2A Input Climat Scen. Pass.'!E$196:E$240,'2A Input Climat Scen. Pass.'!$B$196:$B$240,'4B Calcul. Climat Scen.'!$C335,'2A Input Climat Scen. Pass.'!$C$196:$C$240,'4B Calcul. Climat Scen.'!$E335),SUMIFS('2A Input Climat Scen. Pass.'!K$196:K$239,'2A Input Climat Scen. Pass.'!$B$196:$B$239,'4B Calcul. Climat Scen.'!$C335,'2A Input Climat Scen. Pass.'!$C$196:$C$239,'4B Calcul. Climat Scen.'!$E335))","v":0},{"$f":"IF('2A Input Climat Scen. Pass.'!L222=\"\",SUMIFS('2A Input Climat Scen. Pass.'!F$196:F$240,'2A Input Climat Scen. Pass.'!$B$196:$B$240,'4B Calcul. Climat Scen.'!$C335,'2A Input Climat Scen. Pass.'!$C$196:$C$240,'4B Calcul. Climat Scen.'!$E335),SUMIFS('2A Input Climat Scen. Pass.'!L$196:L$239,'2A Input Climat Scen. Pass.'!$B$196:$B$239,'4B Calcul. Climat Scen.'!$C335,'2A Input Climat Scen. Pass.'!$C$196:$C$239,'4B Calcul. Climat Scen.'!$E335))","v":0},{"$f":"IF('2A Input Climat Scen. Pass.'!M222=\"\",SUMIFS('2A Input Climat Scen. Pass.'!G$196:G$240,'2A Input Climat Scen. Pass.'!$B$196:$B$240,'4B Calcul. Climat Scen.'!$C335,'2A Input Climat Scen. Pass.'!$C$196:$C$240,'4B Calcul. Climat Scen.'!$E335),SUMIFS('2A Input Climat Scen. Pass.'!M$196:M$239,'2A Input Climat Scen. Pass.'!$B$196:$B$239,'4B Calcul. Climat Scen.'!$C335,'2A Input Climat Scen. Pass.'!$C$196:$C$239,'4B Calcul. Climat Scen.'!$E335))","v":0},{"$f":"IF('2A Input Climat Scen. Pass.'!N222=\"\",SUMIFS('2A Input Climat Scen. Pass.'!H$196:H$240,'2A Input Climat Scen. Pass.'!$B$196:$B$240,'4B Calcul. Climat Scen.'!$C335,'2A Input Climat Scen. Pass.'!$C$196:$C$240,'4B Calcul. Climat Scen.'!$E335),SUMIFS('2A Input Climat Scen. Pass.'!N$196:N$239,'2A Input Climat Scen. Pass.'!$B$196:$B$239,'4B Calcul. Climat Scen.'!$C335,'2A Input Climat Scen. Pass.'!$C$196:$C$239,'4B Calcul. Climat Scen.'!$E335))","v":0},null,0,0,0,0,0,0,null,{"$f":"SUMIFS('4A Calcul. BAU city'!O$13:O$61,'4A Calcul. BAU city'!$C$13:$C$61,'4B Calcul. Climat Scen.'!$C335,'4A Calcul. BAU city'!$E$13:$E$61,'4B Calcul. Climat Scen.'!$E335)*M335/100","v":0},0,0,0,0,0,null,{"$f":"SUMIFS('4A Calcul. BAU city'!O$13:O$61,'4A Calcul. BAU city'!$C$13:$C$61,'4B Calcul. Climat Scen.'!$C335,'4A Calcul. BAU city'!$E$13:$E$61,'4B Calcul. Climat Scen.'!$E335)*M335/100*SUMIFS('4A Calcul. BAU city'!$V$13:$V$61,'4A Calcul. BAU city'!$C$13:$C$61,'4B Calcul. Climat Scen.'!$C335,'4A Calcul. BAU city'!$E$13:$E$61,'4B Calcul. Climat Scen.'!$E335)","v":0},{"$f":"U335*SUMIFS('4A Calcul. BAU city'!$V$13:$V$61,'4A Calcul. BAU city'!$C$13:$C$61,'4B Calcul. Climat Scen.'!$C335,'4A Calcul. BAU city'!$E$13:$E$61,'4B Calcul. Climat Scen.'!$E335)","v":0},{"$f":"V335*SUMIFS('4A Calcul. BAU city'!$V$13:$V$61,'4A Calcul. BAU city'!$C$13:$C$61,'4B Calcul. Climat Scen.'!$C335,'4A Calcul. BAU city'!$E$13:$E$61,'4B Calcul. Climat Scen.'!$E335)","v":0},{"$f":"W335*SUMIFS('4A Calcul. BAU city'!$V$13:$V$61,'4A Calcul. BAU city'!$C$13:$C$61,'4B Calcul. Climat Scen.'!$C335,'4A Calcul. BAU city'!$E$13:$E$61,'4B Calcul. Climat Scen.'!$E335)","v":0},{"$f":"X335*SUMIFS('4A Calcul. BAU city'!$V$13:$V$61,'4A Calcul. BAU city'!$C$13:$C$61,'4B Calcul. Climat Scen.'!$C335,'4A Calcul. BAU city'!$E$13:$E$61,'4B Calcul. Climat Scen.'!$E335)","v":0},{"$f":"Y335*SUMIFS('4A Calcul. BAU city'!$V$13:$V$61,'4A Calcul. BAU city'!$C$13:$C$61,'4B Calcul. Climat Scen.'!$C335,'4A Calcul. BAU city'!$E$13:$E$61,'4B Calcul. Climat Scen.'!$E335)","v":0},null,{"$f":"INDEX('6 Defaults parameters'!$T$9:$Y$18,MATCH($D335,'6 Defaults parameters'!$B$9:$B$18,0),MATCH(AH$313,'6 Defaults parameters'!$T$8:$Y$8,0))*AA335/10^6","v":0},{"$f":"INDEX('6 Defaults parameters'!$T$9:$Y$18,MATCH($D335,'6 Defaults parameters'!$B$9:$B$18,0),MATCH(AI$313,'6 Defaults parameters'!$T$8:$Y$8,0))*AB335/10^6","v":0},{"$f":"INDEX('6 Defaults parameters'!$T$9:$Y$18,MATCH($D335,'6 Defaults parameters'!$B$9:$B$18,0),MATCH(AJ$313,'6 Defaults parameters'!$T$8:$Y$8,0))*AC335/10^6","v":0},{"$f":"INDEX('6 Defaults parameters'!$T$9:$Y$18,MATCH($D335,'6 Defaults parameters'!$B$9:$B$18,0),MATCH(AK$313,'6 Defaults parameters'!$T$8:$Y$8,0))*AD335/10^6","v":0},{"$f":"INDEX('6 Defaults parameters'!$T$9:$Y$18,MATCH($D335,'6 Defaults parameters'!$B$9:$B$18,0),MATCH(AL$313,'6 Defaults parameters'!$T$8:$Y$8,0))*AE335/10^6","v":0},{"$f":"INDEX('6 Defaults parameters'!$T$9:$Y$18,MATCH($D335,'6 Defaults parameters'!$B$9:$B$18,0),MATCH(AM$313,'6 Defaults parameters'!$T$8:$Y$8,0))*AF335/10^6","v":0}]
[null,"Scenario 2)",{"$f":"Bus","v":"Bus"},{"$f":"RoadD","v":"Road - Diesel"},{"$f":"Diesel","v":"Diesel"},{"$f":"IFERROR(SUMIFS($F$252:$F$301,$C$252:$C$301,C336,$E$252:$E$301,E336)/SUMIF($C$252:$C$301,C336,$F$252:$F$301),0)","v":0},{"$f":"IF('2A Input Climat Scen. Pass.'!J224=\"\",SUMIFS('2A Input Climat Scen. Pass.'!D$196:D$240,'2A Input Climat Scen. Pass.'!$B$196:$B$240,'4B Calcul. Climat Scen.'!$C336,'2A Input Climat Scen. Pass.'!$C$196:$C$240,'4B Calcul. Climat Scen.'!$E336),SUMIFS('2A Input Climat Scen. Pass.'!J$196:J$239,'2A Input Climat Scen. Pass.'!$B$196:$B$239,'4B Calcul. Climat Scen.'!$C336,'2A Input Climat Scen. Pass.'!$C$196:$C$239,'4B Calcul. Climat Scen.'!$E336))","v":0},{"$f":"IF('2A Input Climat Scen. Pass.'!K224=\"\",SUMIFS('2A Input Climat Scen. Pass.'!E$196:E$240,'2A Input Climat Scen. Pass.'!$B$196:$B$240,'4B Calcul. Climat Scen.'!$C336,'2A Input Climat Scen. Pass.'!$C$196:$C$240,'4B Calcul. Climat Scen.'!$E336),SUMIFS('2A Input Climat Scen. Pass.'!K$196:K$239,'2A Input Climat Scen. Pass.'!$B$196:$B$239,'4B Calcul. Climat Scen.'!$C336,'2A Input Climat Scen. Pass.'!$C$196:$C$239,'4B Calcul. Climat Scen.'!$E336))","v":0},{"$f":"IF('2A Input Climat Scen. Pass.'!L224=\"\",SUMIFS('2A Input Climat Scen. Pass.'!F$196:F$240,'2A Input Climat Scen. Pass.'!$B$196:$B$240,'4B Calcul. Climat Scen.'!$C336,'2A Input Climat Scen. Pass.'!$C$196:$C$240,'4B Calcul. Climat Scen.'!$E336),SUMIFS('2A Input Climat Scen. Pass.'!L$196:L$239,'2A Input Climat Scen. Pass.'!$B$196:$B$239,'4B Calcul. Climat Scen.'!$C336,'2A Input Climat Scen. Pass.'!$C$196:$C$239,'4B Calcul. Climat Scen.'!$E336))","v":0},{"$f":"IF('2A Input Climat Scen. Pass.'!M224=\"\",SUMIFS('2A Input Climat Scen. Pass.'!G$196:G$240,'2A Input Climat Scen. Pass.'!$B$196:$B$240,'4B Calcul. Climat Scen.'!$C336,'2A Input Climat Scen. Pass.'!$C$196:$C$240,'4B Calcul. Climat Scen.'!$E336),SUMIFS('2A Input Climat Scen. Pass.'!M$196:M$239,'2A Input Climat Scen. Pass.'!$B$196:$B$239,'4B Calcul. Climat Scen.'!$C336,'2A Input Climat Scen. Pass.'!$C$196:$C$239,'4B Calcul. Climat Scen.'!$E336))","v":0},{"$f":"IF('2A Input Climat Scen. Pass.'!N224=\"\",SUMIFS('2A Input Climat Scen. Pass.'!H$196:H$240,'2A Input Climat Scen. Pass.'!$B$196:$B$240,'4B Calcul. Climat Scen.'!$C336,'2A Input Climat Scen. Pass.'!$C$196:$C$240,'4B Calcul. Climat Scen.'!$E336),SUMIFS('2A Input Climat Scen. Pass.'!N$196:N$239,'2A Input Climat Scen. Pass.'!$B$196:$B$239,'4B Calcul. Climat Scen.'!$C336,'2A Input Climat Scen. Pass.'!$C$196:$C$239,'4B Calcul. Climat Scen.'!$E336))","v":0},null,{"$f":"+F274","v":0},{"$f":"SUMIF($C$225:$C$240,$C336,AJ$225:AJ$240)*G336","v":0},0,0,0,0,null,{"$f":"SUMIFS('4A Calcul. BAU city'!O$13:O$61,'4A Calcul. BAU city'!$C$13:$C$61,'4B Calcul. Climat Scen.'!$C336,'4A Calcul. BAU city'!$E$13:$E$61,'4B Calcul. Climat Scen.'!$E336)*M336/100","v":0},0,0,0,0,0,null,{"$f":"SUMIFS('4A Calcul. BAU city'!O$13:O$61,'4A Calcul. BAU city'!$C$13:$C$61,'4B Calcul. Climat Scen.'!$C336,'4A Calcul. BAU city'!$E$13:$E$61,'4B Calcul. Climat Scen.'!$E336)*M336/100*SUMIFS('4A Calcul. BAU city'!$V$13:$V$61,'4A Calcul. BAU city'!$C$13:$C$61,'4B Calcul. Climat Scen.'!$C336,'4A Calcul. BAU city'!$E$13:$E$61,'4B Calcul. Climat Scen.'!$E336)","v":0},{"$f":"U336*SUMIFS('4A Calcul. BAU city'!$V$13:$V$61,'4A Calcul. BAU city'!$C$13:$C$61,'4B Calcul. Climat Scen.'!$C336,'4A Calcul. BAU city'!$E$13:$E$61,'4B Calcul. Climat Scen.'!$E336)","v":0},{"$f":"V336*SUMIFS('4A Calcul. BAU city'!$V$13:$V$61,'4A Calcul. BAU city'!$C$13:$C$61,'4B Calcul. Climat Scen.'!$C336,'4A Calcul. BAU city'!$E$13:$E$61,'4B Calcul. Climat Scen.'!$E336)","v":0},{"$f":"W336*SUMIFS('4A Calcul. BAU city'!$V$13:$V$61,'4A Calcul. BAU city'!$C$13:$C$61,'4B Calcul. Climat Scen.'!$C336,'4A Calcul. BAU city'!$E$13:$E$61,'4B Calcul. Climat Scen.'!$E336)","v":0},{"$f":"X336*SUMIFS('4A Calcul. BAU city'!$V$13:$V$61,'4A Calcul. BAU city'!$C$13:$C$61,'4B Calcul. Climat Scen.'!$C336,'4A Calcul. BAU city'!$E$13:$E$61,'4B Calcul. Climat Scen.'!$E336)","v":0},{"$f":"Y336*SUMIFS('4A Calcul. BAU city'!$V$13:$V$61,'4A Calcul. BAU city'!$C$13:$C$61,'4B Calcul. Climat Scen.'!$C336,'4A Calcul. BAU city'!$E$13:$E$61,'4B Calcul. Climat Scen.'!$E336)","v":0},null,{"$f":"INDEX('6 Defaults parameters'!$T$9:$Y$18,MATCH($D336,'6 Defaults parameters'!$B$9:$B$18,0),MATCH(AH$313,'6 Defaults parameters'!$T$8:$Y$8,0))*AA336/10^6","v":0},{"$f":"INDEX('6 Defaults parameters'!$T$9:$Y$18,MATCH($D336,'6 Defaults parameters'!$B$9:$B$18,0),MATCH(AI$313,'6 Defaults parameters'!$T$8:$Y$8,0))*AB336/10^6","v":0},{"$f":"INDEX('6 Defaults parameters'!$T$9:$Y$18,MATCH($D336,'6 Defaults parameters'!$B$9:$B$18,0),MATCH(AJ$313,'6 Defaults parameters'!$T$8:$Y$8,0))*AC336/10^6","v":0},{"$f":"INDEX('6 Defaults parameters'!$T$9:$Y$18,MATCH($D336,'6 Defaults parameters'!$B$9:$B$18,0),MATCH(AK$313,'6 Defaults parameters'!$T$8:$Y$8,0))*AD336/10^6","v":0},{"$f":"INDEX('6 Defaults parameters'!$T$9:$Y$18,MATCH($D336,'6 Defaults parameters'!$B$9:$B$18,0),MATCH(AL$313,'6 Defaults parameters'!$T$8:$Y$8,0))*AE336/10^6","v":0},{"$f":"INDEX('6 Defaults parameters'!$T$9:$Y$18,MATCH($D336,'6 Defaults parameters'!$B$9:$B$18,0),MATCH(AM$313,'6 Defaults parameters'!$T$8:$Y$8,0))*AF336/10^6","v":0}]
[null,"Scenario 2)",{"$f":"Bus","v":"Bus"},{"$f":"RoadNG","v":"Road - NG"},{"$f":"NG","v":"NG"},0,{"$f":"IF('2A Input Climat Scen. Pass.'!J225=\"\",SUMIFS('2A Input Climat Scen. Pass.'!D$196:D$240,'2A Input Climat Scen. Pass.'!$B$196:$B$240,'4B Calcul. Climat Scen.'!$C337,'2A Input Climat Scen. Pass.'!$C$196:$C$240,'4B Calcul. Climat Scen.'!$E337),SUMIFS('2A Input Climat Scen. Pass.'!J$196:J$239,'2A Input Climat Scen. Pass.'!$B$196:$B$239,'4B Calcul. Climat Scen.'!$C337,'2A Input Climat Scen. Pass.'!$C$196:$C$239,'4B Calcul. Climat Scen.'!$E337))","v":0},{"$f":"IF('2A Input Climat Scen. Pass.'!K225=\"\",SUMIFS('2A Input Climat Scen. Pass.'!E$196:E$240,'2A Input Climat Scen. Pass.'!$B$196:$B$240,'4B Calcul. Climat Scen.'!$C337,'2A Input Climat Scen. Pass.'!$C$196:$C$240,'4B Calcul. Climat Scen.'!$E337),SUMIFS('2A Input Climat Scen. Pass.'!K$196:K$239,'2A Input Climat Scen. Pass.'!$B$196:$B$239,'4B Calcul. Climat Scen.'!$C337,'2A Input Climat Scen. Pass.'!$C$196:$C$239,'4B Calcul. Climat Scen.'!$E337))","v":0},{"$f":"IF('2A Input Climat Scen. Pass.'!L225=\"\",SUMIFS('2A Input Climat Scen. Pass.'!F$196:F$240,'2A Input Climat Scen. Pass.'!$B$196:$B$240,'4B Calcul. Climat Scen.'!$C337,'2A Input Climat Scen. Pass.'!$C$196:$C$240,'4B Calcul. Climat Scen.'!$E337),SUMIFS('2A Input Climat Scen. Pass.'!L$196:L$239,'2A Input Climat Scen. Pass.'!$B$196:$B$239,'4B Calcul. Climat Scen.'!$C337,'2A Input Climat Scen. Pass.'!$C$196:$C$239,'4B Calcul. Climat Scen.'!$E337))","v":0},{"$f":"IF('2A Input Climat Scen. Pass.'!M225=\"\",SUMIFS('2A Input Climat Scen. Pass.'!G$196:G$240,'2A Input Climat Scen. Pass.'!$B$196:$B$240,'4B Calcul. Climat Scen.'!$C337,'2A Input Climat Scen. Pass.'!$C$196:$C$240,'4B Calcul. Climat Scen.'!$E337),SUMIFS('2A Input Climat Scen. Pass.'!M$196:M$239,'2A Input Climat Scen. Pass.'!$B$196:$B$239,'4B Calcul. Climat Scen.'!$C337,'2A Input Climat Scen. Pass.'!$C$196:$C$239,'4B Calcul. Climat Scen.'!$E337))","v":0},{"$f":"IF('2A Input Climat Scen. Pass.'!N225=\"\",SUMIFS('2A Input Climat Scen. Pass.'!H$196:H$240,'2A Input Climat Scen. Pass.'!$B$196:$B$240,'4B Calcul. Climat Scen.'!$C337,'2A Input Climat Scen. Pass.'!$C$196:$C$240,'4B Calcul. Climat Scen.'!$E337),SUMIFS('2A Input Climat Scen. Pass.'!N$196:N$239,'2A Input Climat Scen. Pass.'!$B$196:$B$239,'4B Calcul. Climat Scen.'!$C337,'2A Input Climat Scen. Pass.'!$C$196:$C$239,'4B Calcul. Climat Scen.'!$E337))","v":0},null,0,0,0,0,0,0,null,{"$f":"SUMIFS('4A Calcul. BAU city'!O$13:O$61,'4A Calcul. BAU city'!$C$13:$C$61,'4B Calcul. Climat Scen.'!$C337,'4A Calcul. BAU city'!$E$13:$E$61,'4B Calcul. Climat Scen.'!$E337)*M337/100","v":0},0,0,0,0,0,null,{"$f":"SUMIFS('4A Calcul. BAU city'!O$13:O$61,'4A Calcul. BAU city'!$C$13:$C$61,'4B Calcul. Climat Scen.'!$C337,'4A Calcul. BAU city'!$E$13:$E$61,'4B Calcul. Climat Scen.'!$E337)*M337/100*SUMIFS('4A Calcul. BAU city'!$V$13:$V$61,'4A Calcul. BAU city'!$C$13:$C$61,'4B Calcul. Climat Scen.'!$C337,'4A Calcul. BAU city'!$E$13:$E$61,'4B Calcul. Climat Scen.'!$E337)","v":0},{"$f":"U337*SUMIFS('4A Calcul. BAU city'!$V$13:$V$61,'4A Calcul. BAU city'!$C$13:$C$61,'4B Calcul. Climat Scen.'!$C337,'4A Calcul. BAU city'!$E$13:$E$61,'4B Calcul. Climat Scen.'!$E337)","v":0},{"$f":"V337*SUMIFS('4A Calcul. BAU city'!$V$13:$V$61,'4A Calcul. BAU city'!$C$13:$C$61,'4B Calcul. Climat Scen.'!$C337,'4A Calcul. BAU city'!$E$13:$E$61,'4B Calcul. Climat Scen.'!$E337)","v":0},{"$f":"W337*SUMIFS('4A Calcul. BAU city'!$V$13:$V$61,'4A Calcul. BAU city'!$C$13:$C$61,'4B Calcul. Climat Scen.'!$C337,'4A Calcul. BAU city'!$E$13:$E$61,'4B Calcul. Climat Scen.'!$E337)","v":0},{"$f":"X337*SUMIFS('4A Calcul. BAU city'!$V$13:$V$61,'4A Calcul. BAU city'!$C$13:$C$61,'4B Calcul. Climat Scen.'!$C337,'4A Calcul. BAU city'!$E$13:$E$61,'4B Calcul. Climat Scen.'!$E337)","v":0},{"$f":"Y337*SUMIFS('4A Calcul. BAU city'!$V$13:$V$61,'4A Calcul. BAU city'!$C$13:$C$61,'4B Calcul. Climat Scen.'!$C337,'4A Calcul. BAU city'!$E$13:$E$61,'4B Calcul. Climat Scen.'!$E337)","v":0},null,{"$f":"INDEX('6 Defaults parameters'!$T$9:$Y$18,MATCH($D337,'6 Defaults parameters'!$B$9:$B$18,0),MATCH(AH$313,'6 Defaults parameters'!$T$8:$Y$8,0))*AA337/10^6","v":0},{"$f":"INDEX('6 Defaults parameters'!$T$9:$Y$18,MATCH($D337,'6 Defaults parameters'!$B$9:$B$18,0),MATCH(AI$313,'6 Defaults parameters'!$T$8:$Y$8,0))*AB337/10^6","v":0},{"$f":"INDEX('6 Defaults parameters'!$T$9:$Y$18,MATCH($D337,'6 Defaults parameters'!$B$9:$B$18,0),MATCH(AJ$313,'6 Defaults parameters'!$T$8:$Y$8,0))*AC337/10^6","v":0},{"$f":"INDEX('6 Defaults parameters'!$T$9:$Y$18,MATCH($D337,'6 Defaults parameters'!$B$9:$B$18,0),MATCH(AK$313,'6 Defaults parameters'!$T$8:$Y$8,0))*AD337/10^6","v":0},{"$f":"INDEX('6 Defaults parameters'!$T$9:$Y$18,MATCH($D337,'6 Defaults parameters'!$B$9:$B$18,0),MATCH(AL$313,'6 Defaults parameters'!$T$8:$Y$8,0))*AE337/10^6","v":0},{"$f":"INDEX('6 Defaults parameters'!$T$9:$Y$18,MATCH($D337,'6 Defaults parameters'!$B$9:$B$18,0),MATCH(AM$313,'6 Defaults parameters'!$T$8:$Y$8,0))*AF337/10^6","v":0}]
[null,"Scenario 2)",{"$f":"Bus","v":"Bus"},{"$f":"RoadH","v":"Road - Hybrid"},{"$f":"Hybrid","v":"Hybrid"},0,{"$f":"IF('2A Input Climat Scen. Pass.'!J226=\"\",SUMIFS('2A Input Climat Scen. Pass.'!D$196:D$240,'2A Input Climat Scen. Pass.'!$B$196:$B$240,'4B Calcul. Climat Scen.'!$C338,'2A Input Climat Scen. Pass.'!$C$196:$C$240,'4B Calcul. Climat Scen.'!$E338),SUMIFS('2A Input Climat Scen. Pass.'!J$196:J$239,'2A Input Climat Scen. Pass.'!$B$196:$B$239,'4B Calcul. Climat Scen.'!$C338,'2A Input Climat Scen. Pass.'!$C$196:$C$239,'4B Calcul. Climat Scen.'!$E338))","v":0},{"$f":"IF('2A Input Climat Scen. Pass.'!K226=\"\",SUMIFS('2A Input Climat Scen. Pass.'!E$196:E$240,'2A Input Climat Scen. Pass.'!$B$196:$B$240,'4B Calcul. Climat Scen.'!$C338,'2A Input Climat Scen. Pass.'!$C$196:$C$240,'4B Calcul. Climat Scen.'!$E338),SUMIFS('2A Input Climat Scen. Pass.'!K$196:K$239,'2A Input Climat Scen. Pass.'!$B$196:$B$239,'4B Calcul. Climat Scen.'!$C338,'2A Input Climat Scen. Pass.'!$C$196:$C$239,'4B Calcul. Climat Scen.'!$E338))","v":0},{"$f":"IF('2A Input Climat Scen. Pass.'!L226=\"\",SUMIFS('2A Input Climat Scen. Pass.'!F$196:F$240,'2A Input Climat Scen. Pass.'!$B$196:$B$240,'4B Calcul. Climat Scen.'!$C338,'2A Input Climat Scen. Pass.'!$C$196:$C$240,'4B Calcul. Climat Scen.'!$E338),SUMIFS('2A Input Climat Scen. Pass.'!L$196:L$239,'2A Input Climat Scen. Pass.'!$B$196:$B$239,'4B Calcul. Climat Scen.'!$C338,'2A Input Climat Scen. Pass.'!$C$196:$C$239,'4B Calcul. Climat Scen.'!$E338))","v":0},{"$f":"IF('2A Input Climat Scen. Pass.'!M226=\"\",SUMIFS('2A Input Climat Scen. Pass.'!G$196:G$240,'2A Input Climat Scen. Pass.'!$B$196:$B$240,'4B Calcul. Climat Scen.'!$C338,'2A Input Climat Scen. Pass.'!$C$196:$C$240,'4B Calcul. Climat Scen.'!$E338),SUMIFS('2A Input Climat Scen. Pass.'!M$196:M$239,'2A Input Climat Scen. Pass.'!$B$196:$B$239,'4B Calcul. Climat Scen.'!$C338,'2A Input Climat Scen. Pass.'!$C$196:$C$239,'4B Calcul. Climat Scen.'!$E338))","v":0},{"$f":"IF('2A Input Climat Scen. Pass.'!N226=\"\",SUMIFS('2A Input Climat Scen. Pass.'!H$196:H$240,'2A Input Climat Scen. Pass.'!$B$196:$B$240,'4B Calcul. Climat Scen.'!$C338,'2A Input Climat Scen. Pass.'!$C$196:$C$240,'4B Calcul. Climat Scen.'!$E338),SUMIFS('2A Input Climat Scen. Pass.'!N$196:N$239,'2A Input Climat Scen. Pass.'!$B$196:$B$239,'4B Calcul. Climat Scen.'!$C338,'2A Input Climat Scen. Pass.'!$C$196:$C$239,'4B Calcul. Climat Scen.'!$E338))","v":0},null,0,0,0,0,0,0,null,{"$f":"SUMIFS('4A Calcul. BAU city'!O$13:O$61,'4A Calcul. BAU city'!$C$13:$C$61,'4B Calcul. Climat Scen.'!$C338,'4A Calcul. BAU city'!$E$13:$E$61,'4B Calcul. Climat Scen.'!$E338)*M338/100","v":0},0,0,0,0,0,null,{"$f":"SUMIFS('4A Calcul. BAU city'!O$13:O$61,'4A Calcul. BAU city'!$C$13:$C$61,'4B Calcul. Climat Scen.'!$C338,'4A Calcul. BAU city'!$E$13:$E$61,'4B Calcul. Climat Scen.'!$E338)*M338/100*SUMIFS('4A Calcul. BAU city'!$V$13:$V$61,'4A Calcul. BAU city'!$C$13:$C$61,'4B Calcul. Climat Scen.'!$C338,'4A Calcul. BAU city'!$E$13:$E$61,'4B Calcul. Climat Scen.'!$E338)","v":0},{"$f":"U338*SUMIFS('4A Calcul. BAU city'!$V$13:$V$61,'4A Calcul. BAU city'!$C$13:$C$61,'4B Calcul. Climat Scen.'!$C338,'4A Calcul. BAU city'!$E$13:$E$61,'4B Calcul. Climat Scen.'!$E338)","v":0},{"$f":"V338*SUMIFS('4A Calcul. BAU city'!$V$13:$V$61,'4A Calcul. BAU city'!$C$13:$C$61,'4B Calcul. Climat Scen.'!$C338,'4A Calcul. BAU city'!$E$13:$E$61,'4B Calcul. Climat Scen.'!$E338)","v":0},{"$f":"W338*SUMIFS('4A Calcul. BAU city'!$V$13:$V$61,'4A Calcul. BAU city'!$C$13:$C$61,'4B Calcul. Climat Scen.'!$C338,'4A Calcul. BAU city'!$E$13:$E$61,'4B Calcul. Climat Scen.'!$E338)","v":0},{"$f":"X338*SUMIFS('4A Calcul. BAU city'!$V$13:$V$61,'4A Calcul. BAU city'!$C$13:$C$61,'4B Calcul. Climat Scen.'!$C338,'4A Calcul. BAU city'!$E$13:$E$61,'4B Calcul. Climat Scen.'!$E338)","v":0},{"$f":"Y338*SUMIFS('4A Calcul. BAU city'!$V$13:$V$61,'4A Calcul. BAU city'!$C$13:$C$61,'4B Calcul. Climat Scen.'!$C338,'4A Calcul. BAU city'!$E$13:$E$61,'4B Calcul. Climat Scen.'!$E338)","v":0},null,{"$f":"INDEX('6 Defaults parameters'!$T$9:$Y$18,MATCH($D338,'6 Defaults parameters'!$B$9:$B$18,0),MATCH(AH$313,'6 Defaults parameters'!$T$8:$Y$8,0))*AA338/10^6","v":0},{"$f":"INDEX('6 Defaults parameters'!$T$9:$Y$18,MATCH($D338,'6 Defaults parameters'!$B$9:$B$18,0),MATCH(AI$313,'6 Defaults parameters'!$T$8:$Y$8,0))*AB338/10^6","v":0},{"$f":"INDEX('6 Defaults parameters'!$T$9:$Y$18,MATCH($D338,'6 Defaults parameters'!$B$9:$B$18,0),MATCH(AJ$313,'6 Defaults parameters'!$T$8:$Y$8,0))*AC338/10^6","v":0},{"$f":"INDEX('6 Defaults parameters'!$T$9:$Y$18,MATCH($D338,'6 Defaults parameters'!$B$9:$B$18,0),MATCH(AK$313,'6 Defaults parameters'!$T$8:$Y$8,0))*AD338/10^6","v":0},{"$f":"INDEX('6 Defaults parameters'!$T$9:$Y$18,MATCH($D338,'6 Defaults parameters'!$B$9:$B$18,0),MATCH(AL$313,'6 Defaults parameters'!$T$8:$Y$8,0))*AE338/10^6","v":0},{"$f":"INDEX('6 Defaults parameters'!$T$9:$Y$18,MATCH($D338,'6 Defaults parameters'!$B$9:$B$18,0),MATCH(AM$313,'6 Defaults parameters'!$T$8:$Y$8,0))*AF338/10^6","v":0}]
[null,"Scenario 2)",{"$f":"Bus","v":"Bus"},{"$f":"Roadelec","v":"Road - Electric"},{"$f":"Electric","v":"Electric"},0,{"$f":"IF('2A Input Climat Scen. Pass.'!J227=\"\",SUMIFS('2A Input Climat Scen. Pass.'!D$196:D$240,'2A Input Climat Scen. Pass.'!$B$196:$B$240,'4B Calcul. Climat Scen.'!$C339,'2A Input Climat Scen. Pass.'!$C$196:$C$240,'4B Calcul. Climat Scen.'!$E339),SUMIFS('2A Input Climat Scen. Pass.'!J$196:J$239,'2A Input Climat Scen. Pass.'!$B$196:$B$239,'4B Calcul. Climat Scen.'!$C339,'2A Input Climat Scen. Pass.'!$C$196:$C$239,'4B Calcul. Climat Scen.'!$E339))","v":0},{"$f":"IF('2A Input Climat Scen. Pass.'!K227=\"\",SUMIFS('2A Input Climat Scen. Pass.'!E$196:E$240,'2A Input Climat Scen. Pass.'!$B$196:$B$240,'4B Calcul. Climat Scen.'!$C339,'2A Input Climat Scen. Pass.'!$C$196:$C$240,'4B Calcul. Climat Scen.'!$E339),SUMIFS('2A Input Climat Scen. Pass.'!K$196:K$239,'2A Input Climat Scen. Pass.'!$B$196:$B$239,'4B Calcul. Climat Scen.'!$C339,'2A Input Climat Scen. Pass.'!$C$196:$C$239,'4B Calcul. Climat Scen.'!$E339))","v":0},{"$f":"IF('2A Input Climat Scen. Pass.'!L227=\"\",SUMIFS('2A Input Climat Scen. Pass.'!F$196:F$240,'2A Input Climat Scen. Pass.'!$B$196:$B$240,'4B Calcul. Climat Scen.'!$C339,'2A Input Climat Scen. Pass.'!$C$196:$C$240,'4B Calcul. Climat Scen.'!$E339),SUMIFS('2A Input Climat Scen. Pass.'!L$196:L$239,'2A Input Climat Scen. Pass.'!$B$196:$B$239,'4B Calcul. Climat Scen.'!$C339,'2A Input Climat Scen. Pass.'!$C$196:$C$239,'4B Calcul. Climat Scen.'!$E339))","v":0},{"$f":"IF('2A Input Climat Scen. Pass.'!M227=\"\",SUMIFS('2A Input Climat Scen. Pass.'!G$196:G$240,'2A Input Climat Scen. Pass.'!$B$196:$B$240,'4B Calcul. Climat Scen.'!$C339,'2A Input Climat Scen. Pass.'!$C$196:$C$240,'4B Calcul. Climat Scen.'!$E339),SUMIFS('2A Input Climat Scen. Pass.'!M$196:M$239,'2A Input Climat Scen. Pass.'!$B$196:$B$239,'4B Calcul. Climat Scen.'!$C339,'2A Input Climat Scen. Pass.'!$C$196:$C$239,'4B Calcul. Climat Scen.'!$E339))","v":0},{"$f":"IF('2A Input Climat Scen. Pass.'!N227=\"\",SUMIFS('2A Input Climat Scen. Pass.'!H$196:H$240,'2A Input Climat Scen. Pass.'!$B$196:$B$240,'4B Calcul. Climat Scen.'!$C339,'2A Input Climat Scen. Pass.'!$C$196:$C$240,'4B Calcul. Climat Scen.'!$E339),SUMIFS('2A Input Climat Scen. Pass.'!N$196:N$239,'2A Input Climat Scen. Pass.'!$B$196:$B$239,'4B Calcul. Climat Scen.'!$C339,'2A Input Climat Scen. Pass.'!$C$196:$C$239,'4B Calcul. Climat Scen.'!$E339))","v":0},null,0,0,0,0,0,0,null,{"$f":"SUMIFS('4A Calcul. BAU city'!O$13:O$61,'4A Calcul. BAU city'!$C$13:$C$61,'4B Calcul. Climat Scen.'!$C339,'4A Calcul. BAU city'!$E$13:$E$61,'4B Calcul. Climat Scen.'!$E339)*M339/100","v":0},0,0,0,0,0,null,{"$f":"SUMIFS('4A Calcul. BAU city'!O$13:O$61,'4A Calcul. BAU city'!$C$13:$C$61,'4B Calcul. Climat Scen.'!$C339,'4A Calcul. BAU city'!$E$13:$E$61,'4B Calcul. Climat Scen.'!$E339)*M339/100*SUMIFS('4A Calcul. BAU city'!$V$13:$V$61,'4A Calcul. BAU city'!$C$13:$C$61,'4B Calcul. Climat Scen.'!$C339,'4A Calcul. BAU city'!$E$13:$E$61,'4B Calcul. Climat Scen.'!$E339)","v":0},{"$f":"U339*SUMIFS('4A Calcul. BAU city'!$V$13:$V$61,'4A Calcul. BAU city'!$C$13:$C$61,'4B Calcul. Climat Scen.'!$C339,'4A Calcul. BAU city'!$E$13:$E$61,'4B Calcul. Climat Scen.'!$E339)","v":0},{"$f":"V339*SUMIFS('4A Calcul. BAU city'!$V$13:$V$61,'4A Calcul. BAU city'!$C$13:$C$61,'4B Calcul. Climat Scen.'!$C339,'4A Calcul. BAU city'!$E$13:$E$61,'4B Calcul. Climat Scen.'!$E339)","v":0},{"$f":"W339*SUMIFS('4A Calcul. BAU city'!$V$13:$V$61,'4A Calcul. BAU city'!$C$13:$C$61,'4B Calcul. Climat Scen.'!$C339,'4A Calcul. BAU city'!$E$13:$E$61,'4B Calcul. Climat Scen.'!$E339)","v":0},{"$f":"X339*SUMIFS('4A Calcul. BAU city'!$V$13:$V$61,'4A Calcul. BAU city'!$C$13:$C$61,'4B Calcul. Climat Scen.'!$C339,'4A Calcul. BAU city'!$E$13:$E$61,'4B Calcul. Climat Scen.'!$E339)","v":0},{"$f":"Y339*SUMIFS('4A Calcul. BAU city'!$V$13:$V$61,'4A Calcul. BAU city'!$C$13:$C$61,'4B Calcul. Climat Scen.'!$C339,'4A Calcul. BAU city'!$E$13:$E$61,'4B Calcul. Climat Scen.'!$E339)","v":0},null,{"$f":"INDEX('6 Defaults parameters'!$T$9:$Y$18,MATCH($D339,'6 Defaults parameters'!$B$9:$B$18,0),MATCH(AH$313,'6 Defaults parameters'!$T$8:$Y$8,0))*AA339/10^6","v":0},{"$f":"INDEX('6 Defaults parameters'!$T$9:$Y$18,MATCH($D339,'6 Defaults parameters'!$B$9:$B$18,0),MATCH(AI$313,'6 Defaults parameters'!$T$8:$Y$8,0))*AB339/10^6","v":0},{"$f":"INDEX('6 Defaults parameters'!$T$9:$Y$18,MATCH($D339,'6 Defaults parameters'!$B$9:$B$18,0),MATCH(AJ$313,'6 Defaults parameters'!$T$8:$Y$8,0))*AC339/10^6","v":0},{"$f":"INDEX('6 Defaults parameters'!$T$9:$Y$18,MATCH($D339,'6 Defaults parameters'!$B$9:$B$18,0),MATCH(AK$313,'6 Defaults parameters'!$T$8:$Y$8,0))*AD339/10^6","v":0},{"$f":"INDEX('6 Defaults parameters'!$T$9:$Y$18,MATCH($D339,'6 Defaults parameters'!$B$9:$B$18,0),MATCH(AL$313,'6 Defaults parameters'!$T$8:$Y$8,0))*AE339/10^6","v":0},{"$f":"INDEX('6 Defaults parameters'!$T$9:$Y$18,MATCH($D339,'6 Defaults parameters'!$B$9:$B$18,0),MATCH(AM$313,'6 Defaults parameters'!$T$8:$Y$8,0))*AF339/10^6","v":0}]
[null,"Scenario 2)",{"$f":"BRT","v":"BRT"},{"$f":"RoadD","v":"Road - Diesel"},{"$f":"Diesel","v":"Diesel"},0,{"$f":"IF('2A Input Climat Scen. Pass.'!J229=\"\",SUMIFS('2A Input Climat Scen. Pass.'!D$196:D$240,'2A Input Climat Scen. Pass.'!$B$196:$B$240,'4B Calcul. Climat Scen.'!$C340,'2A Input Climat Scen. Pass.'!$C$196:$C$240,'4B Calcul. Climat Scen.'!$E340),SUMIFS('2A Input Climat Scen. Pass.'!J$196:J$239,'2A Input Climat Scen. Pass.'!$B$196:$B$239,'4B Calcul. Climat Scen.'!$C340,'2A Input Climat Scen. Pass.'!$C$196:$C$239,'4B Calcul. Climat Scen.'!$E340))","v":0},{"$f":"IF('2A Input Climat Scen. Pass.'!K229=\"\",SUMIFS('2A Input Climat Scen. Pass.'!E$196:E$240,'2A Input Climat Scen. Pass.'!$B$196:$B$240,'4B Calcul. Climat Scen.'!$C340,'2A Input Climat Scen. Pass.'!$C$196:$C$240,'4B Calcul. Climat Scen.'!$E340),SUMIFS('2A Input Climat Scen. Pass.'!K$196:K$239,'2A Input Climat Scen. Pass.'!$B$196:$B$239,'4B Calcul. Climat Scen.'!$C340,'2A Input Climat Scen. Pass.'!$C$196:$C$239,'4B Calcul. Climat Scen.'!$E340))","v":0},{"$f":"IF('2A Input Climat Scen. Pass.'!L229=\"\",SUMIFS('2A Input Climat Scen. Pass.'!F$196:F$240,'2A Input Climat Scen. Pass.'!$B$196:$B$240,'4B Calcul. Climat Scen.'!$C340,'2A Input Climat Scen. Pass.'!$C$196:$C$240,'4B Calcul. Climat Scen.'!$E340),SUMIFS('2A Input Climat Scen. Pass.'!L$196:L$239,'2A Input Climat Scen. Pass.'!$B$196:$B$239,'4B Calcul. Climat Scen.'!$C340,'2A Input Climat Scen. Pass.'!$C$196:$C$239,'4B Calcul. Climat Scen.'!$E340))","v":0},{"$f":"IF('2A Input Climat Scen. Pass.'!M229=\"\",SUMIFS('2A Input Climat Scen. Pass.'!G$196:G$240,'2A Input Climat Scen. Pass.'!$B$196:$B$240,'4B Calcul. Climat Scen.'!$C340,'2A Input Climat Scen. Pass.'!$C$196:$C$240,'4B Calcul. Climat Scen.'!$E340),SUMIFS('2A Input Climat Scen. Pass.'!M$196:M$239,'2A Input Climat Scen. Pass.'!$B$196:$B$239,'4B Calcul. Climat Scen.'!$C340,'2A Input Climat Scen. Pass.'!$C$196:$C$239,'4B Calcul. Climat Scen.'!$E340))","v":0},{"$f":"IF('2A Input Climat Scen. Pass.'!N229=\"\",SUMIFS('2A Input Climat Scen. Pass.'!H$196:H$240,'2A Input Climat Scen. Pass.'!$B$196:$B$240,'4B Calcul. Climat Scen.'!$C340,'2A Input Climat Scen. Pass.'!$C$196:$C$240,'4B Calcul. Climat Scen.'!$E340),SUMIFS('2A Input Climat Scen. Pass.'!N$196:N$239,'2A Input Climat Scen. Pass.'!$B$196:$B$239,'4B Calcul. Climat Scen.'!$C340,'2A Input Climat Scen. Pass.'!$C$196:$C$239,'4B Calcul. Climat Scen.'!$E340))","v":0},null,0,0,0,0,0,0,null,{"$f":"SUMIFS('4A Calcul. BAU city'!O$13:O$61,'4A Calcul. BAU city'!$C$13:$C$61,'4B Calcul. Climat Scen.'!$C340,'4A Calcul. BAU city'!$E$13:$E$61,'4B Calcul. Climat Scen.'!$E340)*M340/100","v":0},0,0,0,0,0,null,{"$f":"SUMIFS('4A Calcul. BAU city'!O$13:O$61,'4A Calcul. BAU city'!$C$13:$C$61,'4B Calcul. Climat Scen.'!$C340,'4A Calcul. BAU city'!$E$13:$E$61,'4B Calcul. Climat Scen.'!$E340)*M340/100*SUMIFS('4A Calcul. BAU city'!$V$13:$V$61,'4A Calcul. BAU city'!$C$13:$C$61,'4B Calcul. Climat Scen.'!$C340,'4A Calcul. BAU city'!$E$13:$E$61,'4B Calcul. Climat Scen.'!$E340)","v":0},{"$f":"U340*SUMIFS('4A Calcul. BAU city'!$V$13:$V$61,'4A Calcul. BAU city'!$C$13:$C$61,'4B Calcul. Climat Scen.'!$C340,'4A Calcul. BAU city'!$E$13:$E$61,'4B Calcul. Climat Scen.'!$E340)","v":0},{"$f":"V340*SUMIFS('4A Calcul. BAU city'!$V$13:$V$61,'4A Calcul. BAU city'!$C$13:$C$61,'4B Calcul. Climat Scen.'!$C340,'4A Calcul. BAU city'!$E$13:$E$61,'4B Calcul. Climat Scen.'!$E340)","v":0},{"$f":"W340*SUMIFS('4A Calcul. BAU city'!$V$13:$V$61,'4A Calcul. BAU city'!$C$13:$C$61,'4B Calcul. Climat Scen.'!$C340,'4A Calcul. BAU city'!$E$13:$E$61,'4B Calcul. Climat Scen.'!$E340)","v":0},{"$f":"X340*SUMIFS('4A Calcul. BAU city'!$V$13:$V$61,'4A Calcul. BAU city'!$C$13:$C$61,'4B Calcul. Climat Scen.'!$C340,'4A Calcul. BAU city'!$E$13:$E$61,'4B Calcul. Climat Scen.'!$E340)","v":0},{"$f":"Y340*SUMIFS('4A Calcul. BAU city'!$V$13:$V$61,'4A Calcul. BAU city'!$C$13:$C$61,'4B Calcul. Climat Scen.'!$C340,'4A Calcul. BAU city'!$E$13:$E$61,'4B Calcul. Climat Scen.'!$E340)","v":0},null,{"$f":"INDEX('6 Defaults parameters'!$T$9:$Y$18,MATCH($D340,'6 Defaults parameters'!$B$9:$B$18,0),MATCH(AH$313,'6 Defaults parameters'!$T$8:$Y$8,0))*AA340/10^6","v":0},{"$f":"INDEX('6 Defaults parameters'!$T$9:$Y$18,MATCH($D340,'6 Defaults parameters'!$B$9:$B$18,0),MATCH(AI$313,'6 Defaults parameters'!$T$8:$Y$8,0))*AB340/10^6","v":0},{"$f":"INDEX('6 Defaults parameters'!$T$9:$Y$18,MATCH($D340,'6 Defaults parameters'!$B$9:$B$18,0),MATCH(AJ$313,'6 Defaults parameters'!$T$8:$Y$8,0))*AC340/10^6","v":0},{"$f":"INDEX('6 Defaults parameters'!$T$9:$Y$18,MATCH($D340,'6 Defaults parameters'!$B$9:$B$18,0),MATCH(AK$313,'6 Defaults parameters'!$T$8:$Y$8,0))*AD340/10^6","v":0},{"$f":"INDEX('6 Defaults parameters'!$T$9:$Y$18,MATCH($D340,'6 Defaults parameters'!$B$9:$B$18,0),MATCH(AL$313,'6 Defaults parameters'!$T$8:$Y$8,0))*AE340/10^6","v":0},{"$f":"INDEX('6 Defaults parameters'!$T$9:$Y$18,MATCH($D340,'6 Defaults parameters'!$B$9:$B$18,0),MATCH(AM$313,'6 Defaults parameters'!$T$8:$Y$8,0))*AF340/10^6","v":0}]
[null,"Scenario 2)",{"$f":"BRT","v":"BRT"},{"$f":"RoadNG","v":"Road - NG"},{"$f":"NG","v":"NG"},0,{"$f":"IF('2A Input Climat Scen. Pass.'!J230=\"\",SUMIFS('2A Input Climat Scen. Pass.'!D$196:D$240,'2A Input Climat Scen. Pass.'!$B$196:$B$240,'4B Calcul. Climat Scen.'!$C341,'2A Input Climat Scen. Pass.'!$C$196:$C$240,'4B Calcul. Climat Scen.'!$E341),SUMIFS('2A Input Climat Scen. Pass.'!J$196:J$239,'2A Input Climat Scen. Pass.'!$B$196:$B$239,'4B Calcul. Climat Scen.'!$C341,'2A Input Climat Scen. Pass.'!$C$196:$C$239,'4B Calcul. Climat Scen.'!$E341))","v":0},{"$f":"IF('2A Input Climat Scen. Pass.'!K230=\"\",SUMIFS('2A Input Climat Scen. Pass.'!E$196:E$240,'2A Input Climat Scen. Pass.'!$B$196:$B$240,'4B Calcul. Climat Scen.'!$C341,'2A Input Climat Scen. Pass.'!$C$196:$C$240,'4B Calcul. Climat Scen.'!$E341),SUMIFS('2A Input Climat Scen. Pass.'!K$196:K$239,'2A Input Climat Scen. Pass.'!$B$196:$B$239,'4B Calcul. Climat Scen.'!$C341,'2A Input Climat Scen. Pass.'!$C$196:$C$239,'4B Calcul. Climat Scen.'!$E341))","v":0},{"$f":"IF('2A Input Climat Scen. Pass.'!L230=\"\",SUMIFS('2A Input Climat Scen. Pass.'!F$196:F$240,'2A Input Climat Scen. Pass.'!$B$196:$B$240,'4B Calcul. Climat Scen.'!$C341,'2A Input Climat Scen. Pass.'!$C$196:$C$240,'4B Calcul. Climat Scen.'!$E341),SUMIFS('2A Input Climat Scen. Pass.'!L$196:L$239,'2A Input Climat Scen. Pass.'!$B$196:$B$239,'4B Calcul. Climat Scen.'!$C341,'2A Input Climat Scen. Pass.'!$C$196:$C$239,'4B Calcul. Climat Scen.'!$E341))","v":0},{"$f":"IF('2A Input Climat Scen. Pass.'!M230=\"\",SUMIFS('2A Input Climat Scen. Pass.'!G$196:G$240,'2A Input Climat Scen. Pass.'!$B$196:$B$240,'4B Calcul. Climat Scen.'!$C341,'2A Input Climat Scen. Pass.'!$C$196:$C$240,'4B Calcul. Climat Scen.'!$E341),SUMIFS('2A Input Climat Scen. Pass.'!M$196:M$239,'2A Input Climat Scen. Pass.'!$B$196:$B$239,'4B Calcul. Climat Scen.'!$C341,'2A Input Climat Scen. Pass.'!$C$196:$C$239,'4B Calcul. Climat Scen.'!$E341))","v":0},{"$f":"IF('2A Input Climat Scen. Pass.'!N230=\"\",SUMIFS('2A Input Climat Scen. Pass.'!H$196:H$240,'2A Input Climat Scen. Pass.'!$B$196:$B$240,'4B Calcul. Climat Scen.'!$C341,'2A Input Climat Scen. Pass.'!$C$196:$C$240,'4B Calcul. Climat Scen.'!$E341),SUMIFS('2A Input Climat Scen. Pass.'!N$196:N$239,'2A Input Climat Scen. Pass.'!$B$196:$B$239,'4B Calcul. Climat Scen.'!$C341,'2A Input Climat Scen. Pass.'!$C$196:$C$239,'4B Calcul. Climat Scen.'!$E341))","v":0},null,0,0,0,0,0,0,null,{"$f":"SUMIFS('4A Calcul. BAU city'!O$13:O$61,'4A Calcul. BAU city'!$C$13:$C$61,'4B Calcul. Climat Scen.'!$C341,'4A Calcul. BAU city'!$E$13:$E$61,'4B Calcul. Climat Scen.'!$E341)*M341/100","v":0},0,0,0,0,0,null,{"$f":"SUMIFS('4A Calcul. BAU city'!O$13:O$61,'4A Calcul. BAU city'!$C$13:$C$61,'4B Calcul. Climat Scen.'!$C341,'4A Calcul. BAU city'!$E$13:$E$61,'4B Calcul. Climat Scen.'!$E341)*M341/100*SUMIFS('4A Calcul. BAU city'!$V$13:$V$61,'4A Calcul. BAU city'!$C$13:$C$61,'4B Calcul. Climat Scen.'!$C341,'4A Calcul. BAU city'!$E$13:$E$61,'4B Calcul. Climat Scen.'!$E341)","v":0},{"$f":"U341*SUMIFS('4A Calcul. BAU city'!$V$13:$V$61,'4A Calcul. BAU city'!$C$13:$C$61,'4B Calcul. Climat Scen.'!$C341,'4A Calcul. BAU city'!$E$13:$E$61,'4B Calcul. Climat Scen.'!$E341)","v":0},{"$f":"V341*SUMIFS('4A Calcul. BAU city'!$V$13:$V$61,'4A Calcul. BAU city'!$C$13:$C$61,'4B Calcul. Climat Scen.'!$C341,'4A Calcul. BAU city'!$E$13:$E$61,'4B Calcul. Climat Scen.'!$E341)","v":0},{"$f":"W341*SUMIFS('4A Calcul. BAU city'!$V$13:$V$61,'4A Calcul. BAU city'!$C$13:$C$61,'4B Calcul. Climat Scen.'!$C341,'4A Calcul. BAU city'!$E$13:$E$61,'4B Calcul. Climat Scen.'!$E341)","v":0},{"$f":"X341*SUMIFS('4A Calcul. BAU city'!$V$13:$V$61,'4A Calcul. BAU city'!$C$13:$C$61,'4B Calcul. Climat Scen.'!$C341,'4A Calcul. BAU city'!$E$13:$E$61,'4B Calcul. Climat Scen.'!$E341)","v":0},{"$f":"Y341*SUMIFS('4A Calcul. BAU city'!$V$13:$V$61,'4A Calcul. BAU city'!$C$13:$C$61,'4B Calcul. Climat Scen.'!$C341,'4A Calcul. BAU city'!$E$13:$E$61,'4B Calcul. Climat Scen.'!$E341)","v":0},null,{"$f":"INDEX('6 Defaults parameters'!$T$9:$Y$18,MATCH($D341,'6 Defaults parameters'!$B$9:$B$18,0),MATCH(AH$313,'6 Defaults parameters'!$T$8:$Y$8,0))*AA341/10^6","v":0},{"$f":"INDEX('6 Defaults parameters'!$T$9:$Y$18,MATCH($D341,'6 Defaults parameters'!$B$9:$B$18,0),MATCH(AI$313,'6 Defaults parameters'!$T$8:$Y$8,0))*AB341/10^6","v":0},{"$f":"INDEX('6 Defaults parameters'!$T$9:$Y$18,MATCH($D341,'6 Defaults parameters'!$B$9:$B$18,0),MATCH(AJ$313,'6 Defaults parameters'!$T$8:$Y$8,0))*AC341/10^6","v":0},{"$f":"INDEX('6 Defaults parameters'!$T$9:$Y$18,MATCH($D341,'6 Defaults parameters'!$B$9:$B$18,0),MATCH(AK$313,'6 Defaults parameters'!$T$8:$Y$8,0))*AD341/10^6","v":0},{"$f":"INDEX('6 Defaults parameters'!$T$9:$Y$18,MATCH($D341,'6 Defaults parameters'!$B$9:$B$18,0),MATCH(AL$313,'6 Defaults parameters'!$T$8:$Y$8,0))*AE341/10^6","v":0},{"$f":"INDEX('6 Defaults parameters'!$T$9:$Y$18,MATCH($D341,'6 Defaults parameters'!$B$9:$B$18,0),MATCH(AM$313,'6 Defaults parameters'!$T$8:$Y$8,0))*AF341/10^6","v":0}]
[null,"Scenario 2)",{"$f":"BRT","v":"BRT"},{"$f":"RoadH","v":"Road - Hybrid"},{"$f":"Hybrid","v":"Hybrid"},0,{"$f":"IF('2A Input Climat Scen. Pass.'!J231=\"\",SUMIFS('2A Input Climat Scen. Pass.'!D$196:D$240,'2A Input Climat Scen. Pass.'!$B$196:$B$240,'4B Calcul. Climat Scen.'!$C342,'2A Input Climat Scen. Pass.'!$C$196:$C$240,'4B Calcul. Climat Scen.'!$E342),SUMIFS('2A Input Climat Scen. Pass.'!J$196:J$239,'2A Input Climat Scen. Pass.'!$B$196:$B$239,'4B Calcul. Climat Scen.'!$C342,'2A Input Climat Scen. Pass.'!$C$196:$C$239,'4B Calcul. Climat Scen.'!$E342))","v":0},{"$f":"IF('2A Input Climat Scen. Pass.'!K231=\"\",SUMIFS('2A Input Climat Scen. Pass.'!E$196:E$240,'2A Input Climat Scen. Pass.'!$B$196:$B$240,'4B Calcul. Climat Scen.'!$C342,'2A Input Climat Scen. Pass.'!$C$196:$C$240,'4B Calcul. Climat Scen.'!$E342),SUMIFS('2A Input Climat Scen. Pass.'!K$196:K$239,'2A Input Climat Scen. Pass.'!$B$196:$B$239,'4B Calcul. Climat Scen.'!$C342,'2A Input Climat Scen. Pass.'!$C$196:$C$239,'4B Calcul. Climat Scen.'!$E342))","v":0},{"$f":"IF('2A Input Climat Scen. Pass.'!L231=\"\",SUMIFS('2A Input Climat Scen. Pass.'!F$196:F$240,'2A Input Climat Scen. Pass.'!$B$196:$B$240,'4B Calcul. Climat Scen.'!$C342,'2A Input Climat Scen. Pass.'!$C$196:$C$240,'4B Calcul. Climat Scen.'!$E342),SUMIFS('2A Input Climat Scen. Pass.'!L$196:L$239,'2A Input Climat Scen. Pass.'!$B$196:$B$239,'4B Calcul. Climat Scen.'!$C342,'2A Input Climat Scen. Pass.'!$C$196:$C$239,'4B Calcul. Climat Scen.'!$E342))","v":0},{"$f":"IF('2A Input Climat Scen. Pass.'!M231=\"\",SUMIFS('2A Input Climat Scen. Pass.'!G$196:G$240,'2A Input Climat Scen. Pass.'!$B$196:$B$240,'4B Calcul. Climat Scen.'!$C342,'2A Input Climat Scen. Pass.'!$C$196:$C$240,'4B Calcul. Climat Scen.'!$E342),SUMIFS('2A Input Climat Scen. Pass.'!M$196:M$239,'2A Input Climat Scen. Pass.'!$B$196:$B$239,'4B Calcul. Climat Scen.'!$C342,'2A Input Climat Scen. Pass.'!$C$196:$C$239,'4B Calcul. Climat Scen.'!$E342))","v":0},{"$f":"IF('2A Input Climat Scen. Pass.'!N231=\"\",SUMIFS('2A Input Climat Scen. Pass.'!H$196:H$240,'2A Input Climat Scen. Pass.'!$B$196:$B$240,'4B Calcul. Climat Scen.'!$C342,'2A Input Climat Scen. Pass.'!$C$196:$C$240,'4B Calcul. Climat Scen.'!$E342),SUMIFS('2A Input Climat Scen. Pass.'!N$196:N$239,'2A Input Climat Scen. Pass.'!$B$196:$B$239,'4B Calcul. Climat Scen.'!$C342,'2A Input Climat Scen. Pass.'!$C$196:$C$239,'4B Calcul. Climat Scen.'!$E342))","v":0},null,0,0,0,0,0,0,null,{"$f":"SUMIFS('4A Calcul. BAU city'!O$13:O$61,'4A Calcul. BAU city'!$C$13:$C$61,'4B Calcul. Climat Scen.'!$C342,'4A Calcul. BAU city'!$E$13:$E$61,'4B Calcul. Climat Scen.'!$E342)*M342/100","v":0},0,0,0,0,0,null,{"$f":"SUMIFS('4A Calcul. BAU city'!O$13:O$61,'4A Calcul. BAU city'!$C$13:$C$61,'4B Calcul. Climat Scen.'!$C342,'4A Calcul. BAU city'!$E$13:$E$61,'4B Calcul. Climat Scen.'!$E342)*M342/100*SUMIFS('4A Calcul. BAU city'!$V$13:$V$61,'4A Calcul. BAU city'!$C$13:$C$61,'4B Calcul. Climat Scen.'!$C342,'4A Calcul. BAU city'!$E$13:$E$61,'4B Calcul. Climat Scen.'!$E342)","v":0},{"$f":"U342*SUMIFS('4A Calcul. BAU city'!$V$13:$V$61,'4A Calcul. BAU city'!$C$13:$C$61,'4B Calcul. Climat Scen.'!$C342,'4A Calcul. BAU city'!$E$13:$E$61,'4B Calcul. Climat Scen.'!$E342)","v":0},{"$f":"V342*SUMIFS('4A Calcul. BAU city'!$V$13:$V$61,'4A Calcul. BAU city'!$C$13:$C$61,'4B Calcul. Climat Scen.'!$C342,'4A Calcul. BAU city'!$E$13:$E$61,'4B Calcul. Climat Scen.'!$E342)","v":0},{"$f":"W342*SUMIFS('4A Calcul. BAU city'!$V$13:$V$61,'4A Calcul. BAU city'!$C$13:$C$61,'4B Calcul. Climat Scen.'!$C342,'4A Calcul. BAU city'!$E$13:$E$61,'4B Calcul. Climat Scen.'!$E342)","v":0},{"$f":"X342*SUMIFS('4A Calcul. BAU city'!$V$13:$V$61,'4A Calcul. BAU city'!$C$13:$C$61,'4B Calcul. Climat Scen.'!$C342,'4A Calcul. BAU city'!$E$13:$E$61,'4B Calcul. Climat Scen.'!$E342)","v":0},{"$f":"Y342*SUMIFS('4A Calcul. BAU city'!$V$13:$V$61,'4A Calcul. BAU city'!$C$13:$C$61,'4B Calcul. Climat Scen.'!$C342,'4A Calcul. BAU city'!$E$13:$E$61,'4B Calcul. Climat Scen.'!$E342)","v":0},null,{"$f":"INDEX('6 Defaults parameters'!$T$9:$Y$18,MATCH($D342,'6 Defaults parameters'!$B$9:$B$18,0),MATCH(AH$313,'6 Defaults parameters'!$T$8:$Y$8,0))*AA342/10^6","v":0},{"$f":"INDEX('6 Defaults parameters'!$T$9:$Y$18,MATCH($D342,'6 Defaults parameters'!$B$9:$B$18,0),MATCH(AI$313,'6 Defaults parameters'!$T$8:$Y$8,0))*AB342/10^6","v":0},{"$f":"INDEX('6 Defaults parameters'!$T$9:$Y$18,MATCH($D342,'6 Defaults parameters'!$B$9:$B$18,0),MATCH(AJ$313,'6 Defaults parameters'!$T$8:$Y$8,0))*AC342/10^6","v":0},{"$f":"INDEX('6 Defaults parameters'!$T$9:$Y$18,MATCH($D342,'6 Defaults parameters'!$B$9:$B$18,0),MATCH(AK$313,'6 Defaults parameters'!$T$8:$Y$8,0))*AD342/10^6","v":0},{"$f":"INDEX('6 Defaults parameters'!$T$9:$Y$18,MATCH($D342,'6 Defaults parameters'!$B$9:$B$18,0),MATCH(AL$313,'6 Defaults parameters'!$T$8:$Y$8,0))*AE342/10^6","v":0},{"$f":"INDEX('6 Defaults parameters'!$T$9:$Y$18,MATCH($D342,'6 Defaults parameters'!$B$9:$B$18,0),MATCH(AM$313,'6 Defaults parameters'!$T$8:$Y$8,0))*AF342/10^6","v":0}]
[null,"Scenario 2)",{"$f":"BRT","v":"BRT"},{"$f":"Roadelec","v":"Road - Electric"},{"$f":"Electric","v":"Electric"},0,{"$f":"IF('2A Input Climat Scen. Pass.'!J232=\"\",SUMIFS('2A Input Climat Scen. Pass.'!D$196:D$240,'2A Input Climat Scen. Pass.'!$B$196:$B$240,'4B Calcul. Climat Scen.'!$C343,'2A Input Climat Scen. Pass.'!$C$196:$C$240,'4B Calcul. Climat Scen.'!$E343),SUMIFS('2A Input Climat Scen. Pass.'!J$196:J$239,'2A Input Climat Scen. Pass.'!$B$196:$B$239,'4B Calcul. Climat Scen.'!$C343,'2A Input Climat Scen. Pass.'!$C$196:$C$239,'4B Calcul. Climat Scen.'!$E343))","v":0},{"$f":"IF('2A Input Climat Scen. Pass.'!K232=\"\",SUMIFS('2A Input Climat Scen. Pass.'!E$196:E$240,'2A Input Climat Scen. Pass.'!$B$196:$B$240,'4B Calcul. Climat Scen.'!$C343,'2A Input Climat Scen. Pass.'!$C$196:$C$240,'4B Calcul. Climat Scen.'!$E343),SUMIFS('2A Input Climat Scen. Pass.'!K$196:K$239,'2A Input Climat Scen. Pass.'!$B$196:$B$239,'4B Calcul. Climat Scen.'!$C343,'2A Input Climat Scen. Pass.'!$C$196:$C$239,'4B Calcul. Climat Scen.'!$E343))","v":0},{"$f":"IF('2A Input Climat Scen. Pass.'!L232=\"\",SUMIFS('2A Input Climat Scen. Pass.'!F$196:F$240,'2A Input Climat Scen. Pass.'!$B$196:$B$240,'4B Calcul. Climat Scen.'!$C343,'2A Input Climat Scen. Pass.'!$C$196:$C$240,'4B Calcul. Climat Scen.'!$E343),SUMIFS('2A Input Climat Scen. Pass.'!L$196:L$239,'2A Input Climat Scen. Pass.'!$B$196:$B$239,'4B Calcul. Climat Scen.'!$C343,'2A Input Climat Scen. Pass.'!$C$196:$C$239,'4B Calcul. Climat Scen.'!$E343))","v":0},{"$f":"IF('2A Input Climat Scen. Pass.'!M232=\"\",SUMIFS('2A Input Climat Scen. Pass.'!G$196:G$240,'2A Input Climat Scen. Pass.'!$B$196:$B$240,'4B Calcul. Climat Scen.'!$C343,'2A Input Climat Scen. Pass.'!$C$196:$C$240,'4B Calcul. Climat Scen.'!$E343),SUMIFS('2A Input Climat Scen. Pass.'!M$196:M$239,'2A Input Climat Scen. Pass.'!$B$196:$B$239,'4B Calcul. Climat Scen.'!$C343,'2A Input Climat Scen. Pass.'!$C$196:$C$239,'4B Calcul. Climat Scen.'!$E343))","v":0},{"$f":"IF('2A Input Climat Scen. Pass.'!N232=\"\",SUMIFS('2A Input Climat Scen. Pass.'!H$196:H$240,'2A Input Climat Scen. Pass.'!$B$196:$B$240,'4B Calcul. Climat Scen.'!$C343,'2A Input Climat Scen. Pass.'!$C$196:$C$240,'4B Calcul. Climat Scen.'!$E343),SUMIFS('2A Input Climat Scen. Pass.'!N$196:N$239,'2A Input Climat Scen. Pass.'!$B$196:$B$239,'4B Calcul. Climat Scen.'!$C343,'2A Input Climat Scen. Pass.'!$C$196:$C$239,'4B Calcul. Climat Scen.'!$E343))","v":0},null,0,0,0,0,0,0,null,{"$f":"SUMIFS('4A Calcul. BAU city'!O$13:O$61,'4A Calcul. BAU city'!$C$13:$C$61,'4B Calcul. Climat Scen.'!$C343,'4A Calcul. BAU city'!$E$13:$E$61,'4B Calcul. Climat Scen.'!$E343)*M343/100","v":0},0,0,0,0,0,null,{"$f":"SUMIFS('4A Calcul. BAU city'!O$13:O$61,'4A Calcul. BAU city'!$C$13:$C$61,'4B Calcul. Climat Scen.'!$C343,'4A Calcul. BAU city'!$E$13:$E$61,'4B Calcul. Climat Scen.'!$E343)*M343/100*SUMIFS('4A Calcul. BAU city'!$V$13:$V$61,'4A Calcul. BAU city'!$C$13:$C$61,'4B Calcul. Climat Scen.'!$C343,'4A Calcul. BAU city'!$E$13:$E$61,'4B Calcul. Climat Scen.'!$E343)","v":0},{"$f":"U343*SUMIFS('4A Calcul. BAU city'!$V$13:$V$61,'4A Calcul. BAU city'!$C$13:$C$61,'4B Calcul. Climat Scen.'!$C343,'4A Calcul. BAU city'!$E$13:$E$61,'4B Calcul. Climat Scen.'!$E343)","v":0},{"$f":"V343*SUMIFS('4A Calcul. BAU city'!$V$13:$V$61,'4A Calcul. BAU city'!$C$13:$C$61,'4B Calcul. Climat Scen.'!$C343,'4A Calcul. BAU city'!$E$13:$E$61,'4B Calcul. Climat Scen.'!$E343)","v":0},{"$f":"W343*SUMIFS('4A Calcul. BAU city'!$V$13:$V$61,'4A Calcul. BAU city'!$C$13:$C$61,'4B Calcul. Climat Scen.'!$C343,'4A Calcul. BAU city'!$E$13:$E$61,'4B Calcul. Climat Scen.'!$E343)","v":0},{"$f":"X343*SUMIFS('4A Calcul. BAU city'!$V$13:$V$61,'4A Calcul. BAU city'!$C$13:$C$61,'4B Calcul. Climat Scen.'!$C343,'4A Calcul. BAU city'!$E$13:$E$61,'4B Calcul. Climat Scen.'!$E343)","v":0},{"$f":"Y343*SUMIFS('4A Calcul. BAU city'!$V$13:$V$61,'4A Calcul. BAU city'!$C$13:$C$61,'4B Calcul. Climat Scen.'!$C343,'4A Calcul. BAU city'!$E$13:$E$61,'4B Calcul. Climat Scen.'!$E343)","v":0},null,{"$f":"INDEX('6 Defaults parameters'!$T$9:$Y$18,MATCH($D343,'6 Defaults parameters'!$B$9:$B$18,0),MATCH(AH$313,'6 Defaults parameters'!$T$8:$Y$8,0))*AA343/10^6","v":0},{"$f":"INDEX('6 Defaults parameters'!$T$9:$Y$18,MATCH($D343,'6 Defaults parameters'!$B$9:$B$18,0),MATCH(AI$313,'6 Defaults parameters'!$T$8:$Y$8,0))*AB343/10^6","v":0},{"$f":"INDEX('6 Defaults parameters'!$T$9:$Y$18,MATCH($D343,'6 Defaults parameters'!$B$9:$B$18,0),MATCH(AJ$313,'6 Defaults parameters'!$T$8:$Y$8,0))*AC343/10^6","v":0},{"$f":"INDEX('6 Defaults parameters'!$T$9:$Y$18,MATCH($D343,'6 Defaults parameters'!$B$9:$B$18,0),MATCH(AK$313,'6 Defaults parameters'!$T$8:$Y$8,0))*AD343/10^6","v":0},{"$f":"INDEX('6 Defaults parameters'!$T$9:$Y$18,MATCH($D343,'6 Defaults parameters'!$B$9:$B$18,0),MATCH(AL$313,'6 Defaults parameters'!$T$8:$Y$8,0))*AE343/10^6","v":0},{"$f":"INDEX('6 Defaults parameters'!$T$9:$Y$18,MATCH($D343,'6 Defaults parameters'!$B$9:$B$18,0),MATCH(AM$313,'6 Defaults parameters'!$T$8:$Y$8,0))*AF343/10^6","v":0}]
[null,"Scenario 2)",{"$f":"Train","v":"Long distance train"},{"$f":"RailD","v":"Rail - Diesel"},{"$f":"Diesel","v":"Diesel"},0,{"$f":"IF('2A Input Climat Scen. Pass.'!J234=\"\",SUMIFS('2A Input Climat Scen. Pass.'!D$196:D$240,'2A Input Climat Scen. Pass.'!$B$196:$B$240,'4B Calcul. Climat Scen.'!$C344,'2A Input Climat Scen. Pass.'!$C$196:$C$240,'4B Calcul. Climat Scen.'!$E344),SUMIFS('2A Input Climat Scen. Pass.'!J$196:J$239,'2A Input Climat Scen. Pass.'!$B$196:$B$239,'4B Calcul. Climat Scen.'!$C344,'2A Input Climat Scen. Pass.'!$C$196:$C$239,'4B Calcul. Climat Scen.'!$E344))","v":0},{"$f":"IF('2A Input Climat Scen. Pass.'!K234=\"\",SUMIFS('2A Input Climat Scen. Pass.'!E$196:E$240,'2A Input Climat Scen. Pass.'!$B$196:$B$240,'4B Calcul. Climat Scen.'!$C344,'2A Input Climat Scen. Pass.'!$C$196:$C$240,'4B Calcul. Climat Scen.'!$E344),SUMIFS('2A Input Climat Scen. Pass.'!K$196:K$239,'2A Input Climat Scen. Pass.'!$B$196:$B$239,'4B Calcul. Climat Scen.'!$C344,'2A Input Climat Scen. Pass.'!$C$196:$C$239,'4B Calcul. Climat Scen.'!$E344))","v":0},{"$f":"IF('2A Input Climat Scen. Pass.'!L234=\"\",SUMIFS('2A Input Climat Scen. Pass.'!F$196:F$240,'2A Input Climat Scen. Pass.'!$B$196:$B$240,'4B Calcul. Climat Scen.'!$C344,'2A Input Climat Scen. Pass.'!$C$196:$C$240,'4B Calcul. Climat Scen.'!$E344),SUMIFS('2A Input Climat Scen. Pass.'!L$196:L$239,'2A Input Climat Scen. Pass.'!$B$196:$B$239,'4B Calcul. Climat Scen.'!$C344,'2A Input Climat Scen. Pass.'!$C$196:$C$239,'4B Calcul. Climat Scen.'!$E344))","v":0},{"$f":"IF('2A Input Climat Scen. Pass.'!M234=\"\",SUMIFS('2A Input Climat Scen. Pass.'!G$196:G$240,'2A Input Climat Scen. Pass.'!$B$196:$B$240,'4B Calcul. Climat Scen.'!$C344,'2A Input Climat Scen. Pass.'!$C$196:$C$240,'4B Calcul. Climat Scen.'!$E344),SUMIFS('2A Input Climat Scen. Pass.'!M$196:M$239,'2A Input Climat Scen. Pass.'!$B$196:$B$239,'4B Calcul. Climat Scen.'!$C344,'2A Input Climat Scen. Pass.'!$C$196:$C$239,'4B Calcul. Climat Scen.'!$E344))","v":0},{"$f":"IF('2A Input Climat Scen. Pass.'!N234=\"\",SUMIFS('2A Input Climat Scen. Pass.'!H$196:H$240,'2A Input Climat Scen. Pass.'!$B$196:$B$240,'4B Calcul. Climat Scen.'!$C344,'2A Input Climat Scen. Pass.'!$C$196:$C$240,'4B Calcul. Climat Scen.'!$E344),SUMIFS('2A Input Climat Scen. Pass.'!N$196:N$239,'2A Input Climat Scen. Pass.'!$B$196:$B$239,'4B Calcul. Climat Scen.'!$C344,'2A Input Climat Scen. Pass.'!$C$196:$C$239,'4B Calcul. Climat Scen.'!$E344))","v":0},null,0,0,0,0,0,0,null,{"$f":"SUMIFS('4A Calcul. BAU city'!O$13:O$61,'4A Calcul. BAU city'!$C$13:$C$61,'4B Calcul. Climat Scen.'!$C344,'4A Calcul. BAU city'!$E$13:$E$61,'4B Calcul. Climat Scen.'!$E344)*M344/100","v":0},0,0,0,0,0,null,{"$f":"SUMIFS('4A Calcul. BAU city'!O$13:O$61,'4A Calcul. BAU city'!$C$13:$C$61,'4B Calcul. Climat Scen.'!$C344,'4A Calcul. BAU city'!$E$13:$E$61,'4B Calcul. Climat Scen.'!$E344)*M344/100*SUMIFS('4A Calcul. BAU city'!$V$13:$V$61,'4A Calcul. BAU city'!$C$13:$C$61,'4B Calcul. Climat Scen.'!$C344,'4A Calcul. BAU city'!$E$13:$E$61,'4B Calcul. Climat Scen.'!$E344)","v":0},{"$f":"U344*SUMIFS('4A Calcul. BAU city'!$V$13:$V$61,'4A Calcul. BAU city'!$C$13:$C$61,'4B Calcul. Climat Scen.'!$C344,'4A Calcul. BAU city'!$E$13:$E$61,'4B Calcul. Climat Scen.'!$E344)","v":0},{"$f":"V344*SUMIFS('4A Calcul. BAU city'!$V$13:$V$61,'4A Calcul. BAU city'!$C$13:$C$61,'4B Calcul. Climat Scen.'!$C344,'4A Calcul. BAU city'!$E$13:$E$61,'4B Calcul. Climat Scen.'!$E344)","v":0},{"$f":"W344*SUMIFS('4A Calcul. BAU city'!$V$13:$V$61,'4A Calcul. BAU city'!$C$13:$C$61,'4B Calcul. Climat Scen.'!$C344,'4A Calcul. BAU city'!$E$13:$E$61,'4B Calcul. Climat Scen.'!$E344)","v":0},{"$f":"X344*SUMIFS('4A Calcul. BAU city'!$V$13:$V$61,'4A Calcul. BAU city'!$C$13:$C$61,'4B Calcul. Climat Scen.'!$C344,'4A Calcul. BAU city'!$E$13:$E$61,'4B Calcul. Climat Scen.'!$E344)","v":0},{"$f":"Y344*SUMIFS('4A Calcul. BAU city'!$V$13:$V$61,'4A Calcul. BAU city'!$C$13:$C$61,'4B Calcul. Climat Scen.'!$C344,'4A Calcul. BAU city'!$E$13:$E$61,'4B Calcul. Climat Scen.'!$E344)","v":0},null,{"$f":"INDEX('6 Defaults parameters'!$T$9:$Y$18,MATCH($D344,'6 Defaults parameters'!$B$9:$B$18,0),MATCH(AH$313,'6 Defaults parameters'!$T$8:$Y$8,0))*AA344/10^6","v":0},{"$f":"INDEX('6 Defaults parameters'!$T$9:$Y$18,MATCH($D344,'6 Defaults parameters'!$B$9:$B$18,0),MATCH(AI$313,'6 Defaults parameters'!$T$8:$Y$8,0))*AB344/10^6","v":0},{"$f":"INDEX('6 Defaults parameters'!$T$9:$Y$18,MATCH($D344,'6 Defaults parameters'!$B$9:$B$18,0),MATCH(AJ$313,'6 Defaults parameters'!$T$8:$Y$8,0))*AC344/10^6","v":0},{"$f":"INDEX('6 Defaults parameters'!$T$9:$Y$18,MATCH($D344,'6 Defaults parameters'!$B$9:$B$18,0),MATCH(AK$313,'6 Defaults parameters'!$T$8:$Y$8,0))*AD344/10^6","v":0},{"$f":"INDEX('6 Defaults parameters'!$T$9:$Y$18,MATCH($D344,'6 Defaults parameters'!$B$9:$B$18,0),MATCH(AL$313,'6 Defaults parameters'!$T$8:$Y$8,0))*AE344/10^6","v":0},{"$f":"INDEX('6 Defaults parameters'!$T$9:$Y$18,MATCH($D344,'6 Defaults parameters'!$B$9:$B$18,0),MATCH(AM$313,'6 Defaults parameters'!$T$8:$Y$8,0))*AF344/10^6","v":0}]
[null,"Scenario 2)",{"$f":"Train","v":"Long distance train"},{"$f":"RailElec","v":"Rail - Electric"},{"$f":"Electric","v":"Electric"},0,{"$f":"IF('2A Input Climat Scen. Pass.'!J235=\"\",SUMIFS('2A Input Climat Scen. Pass.'!D$196:D$240,'2A Input Climat Scen. Pass.'!$B$196:$B$240,'4B Calcul. Climat Scen.'!$C345,'2A Input Climat Scen. Pass.'!$C$196:$C$240,'4B Calcul. Climat Scen.'!$E345),SUMIFS('2A Input Climat Scen. Pass.'!J$196:J$239,'2A Input Climat Scen. Pass.'!$B$196:$B$239,'4B Calcul. Climat Scen.'!$C345,'2A Input Climat Scen. Pass.'!$C$196:$C$239,'4B Calcul. Climat Scen.'!$E345))","v":0},{"$f":"IF('2A Input Climat Scen. Pass.'!K235=\"\",SUMIFS('2A Input Climat Scen. Pass.'!E$196:E$240,'2A Input Climat Scen. Pass.'!$B$196:$B$240,'4B Calcul. Climat Scen.'!$C345,'2A Input Climat Scen. Pass.'!$C$196:$C$240,'4B Calcul. Climat Scen.'!$E345),SUMIFS('2A Input Climat Scen. Pass.'!K$196:K$239,'2A Input Climat Scen. Pass.'!$B$196:$B$239,'4B Calcul. Climat Scen.'!$C345,'2A Input Climat Scen. Pass.'!$C$196:$C$239,'4B Calcul. Climat Scen.'!$E345))","v":0},{"$f":"IF('2A Input Climat Scen. Pass.'!L235=\"\",SUMIFS('2A Input Climat Scen. Pass.'!F$196:F$240,'2A Input Climat Scen. Pass.'!$B$196:$B$240,'4B Calcul. Climat Scen.'!$C345,'2A Input Climat Scen. Pass.'!$C$196:$C$240,'4B Calcul. Climat Scen.'!$E345),SUMIFS('2A Input Climat Scen. Pass.'!L$196:L$239,'2A Input Climat Scen. Pass.'!$B$196:$B$239,'4B Calcul. Climat Scen.'!$C345,'2A Input Climat Scen. Pass.'!$C$196:$C$239,'4B Calcul. Climat Scen.'!$E345))","v":0},{"$f":"IF('2A Input Climat Scen. Pass.'!M235=\"\",SUMIFS('2A Input Climat Scen. Pass.'!G$196:G$240,'2A Input Climat Scen. Pass.'!$B$196:$B$240,'4B Calcul. Climat Scen.'!$C345,'2A Input Climat Scen. Pass.'!$C$196:$C$240,'4B Calcul. Climat Scen.'!$E345),SUMIFS('2A Input Climat Scen. Pass.'!M$196:M$239,'2A Input Climat Scen. Pass.'!$B$196:$B$239,'4B Calcul. Climat Scen.'!$C345,'2A Input Climat Scen. Pass.'!$C$196:$C$239,'4B Calcul. Climat Scen.'!$E345))","v":0},{"$f":"IF('2A Input Climat Scen. Pass.'!N235=\"\",SUMIFS('2A Input Climat Scen. Pass.'!H$196:H$240,'2A Input Climat Scen. Pass.'!$B$196:$B$240,'4B Calcul. Climat Scen.'!$C345,'2A Input Climat Scen. Pass.'!$C$196:$C$240,'4B Calcul. Climat Scen.'!$E345),SUMIFS('2A Input Climat Scen. Pass.'!N$196:N$239,'2A Input Climat Scen. Pass.'!$B$196:$B$239,'4B Calcul. Climat Scen.'!$C345,'2A Input Climat Scen. Pass.'!$C$196:$C$239,'4B Calcul. Climat Scen.'!$E345))","v":0},null,0,0,0,0,0,0,null,{"$f":"SUMIFS('4A Calcul. BAU city'!O$13:O$61,'4A Calcul. BAU city'!$C$13:$C$61,'4B Calcul. Climat Scen.'!$C345,'4A Calcul. BAU city'!$E$13:$E$61,'4B Calcul. Climat Scen.'!$E345)*M345/100","v":0},0,0,0,0,0,null,{"$f":"SUMIFS('4A Calcul. BAU city'!O$13:O$61,'4A Calcul. BAU city'!$C$13:$C$61,'4B Calcul. Climat Scen.'!$C345,'4A Calcul. BAU city'!$E$13:$E$61,'4B Calcul. Climat Scen.'!$E345)*M345/100*SUMIFS('4A Calcul. BAU city'!$V$13:$V$61,'4A Calcul. BAU city'!$C$13:$C$61,'4B Calcul. Climat Scen.'!$C345,'4A Calcul. BAU city'!$E$13:$E$61,'4B Calcul. Climat Scen.'!$E345)","v":0},{"$f":"U345*SUMIFS('4A Calcul. BAU city'!$V$13:$V$61,'4A Calcul. BAU city'!$C$13:$C$61,'4B Calcul. Climat Scen.'!$C345,'4A Calcul. BAU city'!$E$13:$E$61,'4B Calcul. Climat Scen.'!$E345)","v":0},{"$f":"V345*SUMIFS('4A Calcul. BAU city'!$V$13:$V$61,'4A Calcul. BAU city'!$C$13:$C$61,'4B Calcul. Climat Scen.'!$C345,'4A Calcul. BAU city'!$E$13:$E$61,'4B Calcul. Climat Scen.'!$E345)","v":0},{"$f":"W345*SUMIFS('4A Calcul. BAU city'!$V$13:$V$61,'4A Calcul. BAU city'!$C$13:$C$61,'4B Calcul. Climat Scen.'!$C345,'4A Calcul. BAU city'!$E$13:$E$61,'4B Calcul. Climat Scen.'!$E345)","v":0},{"$f":"X345*SUMIFS('4A Calcul. BAU city'!$V$13:$V$61,'4A Calcul. BAU city'!$C$13:$C$61,'4B Calcul. Climat Scen.'!$C345,'4A Calcul. BAU city'!$E$13:$E$61,'4B Calcul. Climat Scen.'!$E345)","v":0},{"$f":"Y345*SUMIFS('4A Calcul. BAU city'!$V$13:$V$61,'4A Calcul. BAU city'!$C$13:$C$61,'4B Calcul. Climat Scen.'!$C345,'4A Calcul. BAU city'!$E$13:$E$61,'4B Calcul. Climat Scen.'!$E345)","v":0},null,{"$f":"INDEX('6 Defaults parameters'!$T$9:$Y$18,MATCH($D345,'6 Defaults parameters'!$B$9:$B$18,0),MATCH(AH$313,'6 Defaults parameters'!$T$8:$Y$8,0))*AA345/10^6","v":0},{"$f":"INDEX('6 Defaults parameters'!$T$9:$Y$18,MATCH($D345,'6 Defaults parameters'!$B$9:$B$18,0),MATCH(AI$313,'6 Defaults parameters'!$T$8:$Y$8,0))*AB345/10^6","v":0},{"$f":"INDEX('6 Defaults parameters'!$T$9:$Y$18,MATCH($D345,'6 Defaults parameters'!$B$9:$B$18,0),MATCH(AJ$313,'6 Defaults parameters'!$T$8:$Y$8,0))*AC345/10^6","v":0},{"$f":"INDEX('6 Defaults parameters'!$T$9:$Y$18,MATCH($D345,'6 Defaults parameters'!$B$9:$B$18,0),MATCH(AK$313,'6 Defaults parameters'!$T$8:$Y$8,0))*AD345/10^6","v":0},{"$f":"INDEX('6 Defaults parameters'!$T$9:$Y$18,MATCH($D345,'6 Defaults parameters'!$B$9:$B$18,0),MATCH(AL$313,'6 Defaults parameters'!$T$8:$Y$8,0))*AE345/10^6","v":0},{"$f":"INDEX('6 Defaults parameters'!$T$9:$Y$18,MATCH($D345,'6 Defaults parameters'!$B$9:$B$18,0),MATCH(AM$313,'6 Defaults parameters'!$T$8:$Y$8,0))*AF345/10^6","v":0}]
[null,"Scenario 2)",{"$f":"Utrain","v":"Urban train"},{"$f":"RailElec","v":"Rail - Electric"},{"$f":"Electric","v":"Electric"},0,{"$f":"IF('2A Input Climat Scen. Pass.'!J237=\"\",SUMIFS('2A Input Climat Scen. Pass.'!D$196:D$240,'2A Input Climat Scen. Pass.'!$B$196:$B$240,'4B Calcul. Climat Scen.'!$C346,'2A Input Climat Scen. Pass.'!$C$196:$C$240,'4B Calcul. Climat Scen.'!$E346),SUMIFS('2A Input Climat Scen. Pass.'!J$196:J$239,'2A Input Climat Scen. Pass.'!$B$196:$B$239,'4B Calcul. Climat Scen.'!$C346,'2A Input Climat Scen. Pass.'!$C$196:$C$239,'4B Calcul. Climat Scen.'!$E346))","v":0},{"$f":"IF('2A Input Climat Scen. Pass.'!K237=\"\",SUMIFS('2A Input Climat Scen. Pass.'!E$196:E$240,'2A Input Climat Scen. Pass.'!$B$196:$B$240,'4B Calcul. Climat Scen.'!$C346,'2A Input Climat Scen. Pass.'!$C$196:$C$240,'4B Calcul. Climat Scen.'!$E346),SUMIFS('2A Input Climat Scen. Pass.'!K$196:K$239,'2A Input Climat Scen. Pass.'!$B$196:$B$239,'4B Calcul. Climat Scen.'!$C346,'2A Input Climat Scen. Pass.'!$C$196:$C$239,'4B Calcul. Climat Scen.'!$E346))","v":0},{"$f":"IF('2A Input Climat Scen. Pass.'!L237=\"\",SUMIFS('2A Input Climat Scen. Pass.'!F$196:F$240,'2A Input Climat Scen. Pass.'!$B$196:$B$240,'4B Calcul. Climat Scen.'!$C346,'2A Input Climat Scen. Pass.'!$C$196:$C$240,'4B Calcul. Climat Scen.'!$E346),SUMIFS('2A Input Climat Scen. Pass.'!L$196:L$239,'2A Input Climat Scen. Pass.'!$B$196:$B$239,'4B Calcul. Climat Scen.'!$C346,'2A Input Climat Scen. Pass.'!$C$196:$C$239,'4B Calcul. Climat Scen.'!$E346))","v":0},{"$f":"IF('2A Input Climat Scen. Pass.'!M237=\"\",SUMIFS('2A Input Climat Scen. Pass.'!G$196:G$240,'2A Input Climat Scen. Pass.'!$B$196:$B$240,'4B Calcul. Climat Scen.'!$C346,'2A Input Climat Scen. Pass.'!$C$196:$C$240,'4B Calcul. Climat Scen.'!$E346),SUMIFS('2A Input Climat Scen. Pass.'!M$196:M$239,'2A Input Climat Scen. Pass.'!$B$196:$B$239,'4B Calcul. Climat Scen.'!$C346,'2A Input Climat Scen. Pass.'!$C$196:$C$239,'4B Calcul. Climat Scen.'!$E346))","v":0},{"$f":"IF('2A Input Climat Scen. Pass.'!N237=\"\",SUMIFS('2A Input Climat Scen. Pass.'!H$196:H$240,'2A Input Climat Scen. Pass.'!$B$196:$B$240,'4B Calcul. Climat Scen.'!$C346,'2A Input Climat Scen. Pass.'!$C$196:$C$240,'4B Calcul. Climat Scen.'!$E346),SUMIFS('2A Input Climat Scen. Pass.'!N$196:N$239,'2A Input Climat Scen. Pass.'!$B$196:$B$239,'4B Calcul. Climat Scen.'!$C346,'2A Input Climat Scen. Pass.'!$C$196:$C$239,'4B Calcul. Climat Scen.'!$E346))","v":0},null,0,0,0,0,0,0,null,{"$f":"SUMIFS('4A Calcul. BAU city'!O$13:O$61,'4A Calcul. BAU city'!$C$13:$C$61,'4B Calcul. Climat Scen.'!$C346,'4A Calcul. BAU city'!$E$13:$E$61,'4B Calcul. Climat Scen.'!$E346)*M346/100","v":0},{"$f":"SUMIFS(G$375:G$424,$C$375:$C$424,$C346,$E$375:$E$424,$E346)*N346/100","v":0},{"$f":"SUMIFS(H$375:H$424,$C$375:$C$424,$C346,$E$375:$E$424,$E346)*O346/100","v":0},{"$f":"SUMIFS(I$375:I$424,$C$375:$C$424,$C346,$E$375:$E$424,$E346)*P346/100","v":0},{"$f":"SUMIFS(J$375:J$424,$C$375:$C$424,$C346,$E$375:$E$424,$E346)*Q346/100","v":0},{"$f":"SUMIFS(K$375:K$424,$C$375:$C$424,$C346,$E$375:$E$424,$E346)*R346/100","v":0},null,{"$f":"SUMIFS('4A Calcul. BAU city'!O$13:O$61,'4A Calcul. BAU city'!$C$13:$C$61,'4B Calcul. Climat Scen.'!$C346,'4A Calcul. BAU city'!$E$13:$E$61,'4B Calcul. Climat Scen.'!$E346)*M346/100*SUMIFS('4A Calcul. BAU city'!$V$13:$V$61,'4A Calcul. BAU city'!$C$13:$C$61,'4B Calcul. Climat Scen.'!$C346,'4A Calcul. BAU city'!$E$13:$E$61,'4B Calcul. Climat Scen.'!$E346)","v":0},{"$f":"U346*SUMIFS('4A Calcul. BAU city'!$V$13:$V$61,'4A Calcul. BAU city'!$C$13:$C$61,'4B Calcul. Climat Scen.'!$C346,'4A Calcul. BAU city'!$E$13:$E$61,'4B Calcul. Climat Scen.'!$E346)","v":0},{"$f":"V346*SUMIFS('4A Calcul. BAU city'!$V$13:$V$61,'4A Calcul. BAU city'!$C$13:$C$61,'4B Calcul. Climat Scen.'!$C346,'4A Calcul. BAU city'!$E$13:$E$61,'4B Calcul. Climat Scen.'!$E346)","v":0},{"$f":"W346*SUMIFS('4A Calcul. BAU city'!$V$13:$V$61,'4A Calcul. BAU city'!$C$13:$C$61,'4B Calcul. Climat Scen.'!$C346,'4A Calcul. BAU city'!$E$13:$E$61,'4B Calcul. Climat Scen.'!$E346)","v":0},{"$f":"X346*SUMIFS('4A Calcul. BAU city'!$V$13:$V$61,'4A Calcul. BAU city'!$C$13:$C$61,'4B Calcul. Climat Scen.'!$C346,'4A Calcul. BAU city'!$E$13:$E$61,'4B Calcul. Climat Scen.'!$E346)","v":0},{"$f":"Y346*SUMIFS('4A Calcul. BAU city'!$V$13:$V$61,'4A Calcul. BAU city'!$C$13:$C$61,'4B Calcul. Climat Scen.'!$C346,'4A Calcul. BAU city'!$E$13:$E$61,'4B Calcul. Climat Scen.'!$E346)","v":0},null,{"$f":"INDEX('6 Defaults parameters'!$T$9:$Y$18,MATCH($D346,'6 Defaults parameters'!$B$9:$B$18,0),MATCH(AH$313,'6 Defaults parameters'!$T$8:$Y$8,0))*AA346/10^6","v":0},{"$f":"INDEX('6 Defaults parameters'!$T$9:$Y$18,MATCH($D346,'6 Defaults parameters'!$B$9:$B$18,0),MATCH(AI$313,'6 Defaults parameters'!$T$8:$Y$8,0))*AB346/10^6","v":0},{"$f":"INDEX('6 Defaults parameters'!$T$9:$Y$18,MATCH($D346,'6 Defaults parameters'!$B$9:$B$18,0),MATCH(AJ$313,'6 Defaults parameters'!$T$8:$Y$8,0))*AC346/10^6","v":0},{"$f":"INDEX('6 Defaults parameters'!$T$9:$Y$18,MATCH($D346,'6 Defaults parameters'!$B$9:$B$18,0),MATCH(AK$313,'6 Defaults parameters'!$T$8:$Y$8,0))*AD346/10^6","v":0},{"$f":"INDEX('6 Defaults parameters'!$T$9:$Y$18,MATCH($D346,'6 Defaults parameters'!$B$9:$B$18,0),MATCH(AL$313,'6 Defaults parameters'!$T$8:$Y$8,0))*AE346/10^6","v":0},{"$f":"INDEX('6 Defaults parameters'!$T$9:$Y$18,MATCH($D346,'6 Defaults parameters'!$B$9:$B$18,0),MATCH(AM$313,'6 Defaults parameters'!$T$8:$Y$8,0))*AF346/10^6","v":0}]
[null,{"$f":"Scen2","v":"Scenario 2)"},{"$f":"Metro","v":"Metro"},{"$f":"RailElec","v":"Rail - Electric"},{"$f":"Electric","v":"Electric"},0,{"$f":"IF('2A Input Climat Scen. Pass.'!J239=\"\",SUMIFS('2A Input Climat Scen. Pass.'!D$196:D$240,'2A Input Climat Scen. Pass.'!$B$196:$B$240,'4B Calcul. Climat Scen.'!$C347,'2A Input Climat Scen. Pass.'!$C$196:$C$240,'4B Calcul. Climat Scen.'!$E347),SUMIFS('2A Input Climat Scen. Pass.'!J$196:J$239,'2A Input Climat Scen. Pass.'!$B$196:$B$239,'4B Calcul. Climat Scen.'!$C347,'2A Input Climat Scen. Pass.'!$C$196:$C$239,'4B Calcul. Climat Scen.'!$E347))","v":0},{"$f":"IF('2A Input Climat Scen. Pass.'!K239=\"\",SUMIFS('2A Input Climat Scen. Pass.'!E$196:E$240,'2A Input Climat Scen. Pass.'!$B$196:$B$240,'4B Calcul. Climat Scen.'!$C347,'2A Input Climat Scen. Pass.'!$C$196:$C$240,'4B Calcul. Climat Scen.'!$E347),SUMIFS('2A Input Climat Scen. Pass.'!K$196:K$239,'2A Input Climat Scen. Pass.'!$B$196:$B$239,'4B Calcul. Climat Scen.'!$C347,'2A Input Climat Scen. Pass.'!$C$196:$C$239,'4B Calcul. Climat Scen.'!$E347))","v":0},{"$f":"IF('2A Input Climat Scen. Pass.'!L239=\"\",SUMIFS('2A Input Climat Scen. Pass.'!F$196:F$240,'2A Input Climat Scen. Pass.'!$B$196:$B$240,'4B Calcul. Climat Scen.'!$C347,'2A Input Climat Scen. Pass.'!$C$196:$C$240,'4B Calcul. Climat Scen.'!$E347),SUMIFS('2A Input Climat Scen. Pass.'!L$196:L$239,'2A Input Climat Scen. Pass.'!$B$196:$B$239,'4B Calcul. Climat Scen.'!$C347,'2A Input Climat Scen. Pass.'!$C$196:$C$239,'4B Calcul. Climat Scen.'!$E347))","v":0},{"$f":"IF('2A Input Climat Scen. Pass.'!M239=\"\",SUMIFS('2A Input Climat Scen. Pass.'!G$196:G$240,'2A Input Climat Scen. Pass.'!$B$196:$B$240,'4B Calcul. Climat Scen.'!$C347,'2A Input Climat Scen. Pass.'!$C$196:$C$240,'4B Calcul. Climat Scen.'!$E347),SUMIFS('2A Input Climat Scen. Pass.'!M$196:M$239,'2A Input Climat Scen. Pass.'!$B$196:$B$239,'4B Calcul. Climat Scen.'!$C347,'2A Input Climat Scen. Pass.'!$C$196:$C$239,'4B Calcul. Climat Scen.'!$E347))","v":0},{"$f":"IF('2A Input Climat Scen. Pass.'!N239=\"\",SUMIFS('2A Input Climat Scen. Pass.'!H$196:H$240,'2A Input Climat Scen. Pass.'!$B$196:$B$240,'4B Calcul. Climat Scen.'!$C347,'2A Input Climat Scen. Pass.'!$C$196:$C$240,'4B Calcul. Climat Scen.'!$E347),SUMIFS('2A Input Climat Scen. Pass.'!N$196:N$239,'2A Input Climat Scen. Pass.'!$B$196:$B$239,'4B Calcul. Climat Scen.'!$C347,'2A Input Climat Scen. Pass.'!$C$196:$C$239,'4B Calcul. Climat Scen.'!$E347))","v":0},null,0,0,0,0,0,0,null,{"$f":"SUMIFS('4A Calcul. BAU city'!O$13:O$61,'4A Calcul. BAU city'!$C$13:$C$61,'4B Calcul. Climat Scen.'!$C347,'4A Calcul. BAU city'!$E$13:$E$61,'4B Calcul. Climat Scen.'!$E347)*M347/100","v":0},0,0,0,0,0,null,{"$f":"SUMIFS('4A Calcul. BAU city'!O$13:O$61,'4A Calcul. BAU city'!$C$13:$C$61,'4B Calcul. Climat Scen.'!$C347,'4A Calcul. BAU city'!$E$13:$E$61,'4B Calcul. Climat Scen.'!$E347)*M347/100*SUMIFS('4A Calcul. BAU city'!$V$13:$V$61,'4A Calcul. BAU city'!$C$13:$C$61,'4B Calcul. Climat Scen.'!$C347,'4A Calcul. BAU city'!$E$13:$E$61,'4B Calcul. Climat Scen.'!$E347)","v":0},{"$f":"U347*SUMIFS('4A Calcul. BAU city'!$V$13:$V$61,'4A Calcul. BAU city'!$C$13:$C$61,'4B Calcul. Climat Scen.'!$C347,'4A Calcul. BAU city'!$E$13:$E$61,'4B Calcul. Climat Scen.'!$E347)","v":0},{"$f":"V347*SUMIFS('4A Calcul. BAU city'!$V$13:$V$61,'4A Calcul. BAU city'!$C$13:$C$61,'4B Calcul. Climat Scen.'!$C347,'4A Calcul. BAU city'!$E$13:$E$61,'4B Calcul. Climat Scen.'!$E347)","v":0},{"$f":"W347*SUMIFS('4A Calcul. BAU city'!$V$13:$V$61,'4A Calcul. BAU city'!$C$13:$C$61,'4B Calcul. Climat Scen.'!$C347,'4A Calcul. BAU city'!$E$13:$E$61,'4B Calcul. Climat Scen.'!$E347)","v":0},{"$f":"X347*SUMIFS('4A Calcul. BAU city'!$V$13:$V$61,'4A Calcul. BAU city'!$C$13:$C$61,'4B Calcul. Climat Scen.'!$C347,'4A Calcul. BAU city'!$E$13:$E$61,'4B Calcul. Climat Scen.'!$E347)","v":0},{"$f":"Y347*SUMIFS('4A Calcul. BAU city'!$V$13:$V$61,'4A Calcul. BAU city'!$C$13:$C$61,'4B Calcul. Climat Scen.'!$C347,'4A Calcul. BAU city'!$E$13:$E$61,'4B Calcul. Climat Scen.'!$E347)","v":0},null,{"$f":"INDEX('6 Defaults parameters'!$T$9:$Y$18,MATCH($D347,'6 Defaults parameters'!$B$9:$B$18,0),MATCH(AH$313,'6 Defaults parameters'!$T$8:$Y$8,0))*AA347/10^6","v":0},{"$f":"INDEX('6 Defaults parameters'!$T$9:$Y$18,MATCH($D347,'6 Defaults parameters'!$B$9:$B$18,0),MATCH(AI$313,'6 Defaults parameters'!$T$8:$Y$8,0))*AB347/10^6","v":0},{"$f":"INDEX('6 Defaults parameters'!$T$9:$Y$18,MATCH($D347,'6 Defaults parameters'!$B$9:$B$18,0),MATCH(AJ$313,'6 Defaults parameters'!$T$8:$Y$8,0))*AC347/10^6","v":0},{"$f":"INDEX('6 Defaults parameters'!$T$9:$Y$18,MATCH($D347,'6 Defaults parameters'!$B$9:$B$18,0),MATCH(AK$313,'6 Defaults parameters'!$T$8:$Y$8,0))*AD347/10^6","v":0},{"$f":"INDEX('6 Defaults parameters'!$T$9:$Y$18,MATCH($D347,'6 Defaults parameters'!$B$9:$B$18,0),MATCH(AL$313,'6 Defaults parameters'!$T$8:$Y$8,0))*AE347/10^6","v":0},{"$f":"INDEX('6 Defaults parameters'!$T$9:$Y$18,MATCH($D347,'6 Defaults parameters'!$B$9:$B$18,0),MATCH(AM$313,'6 Defaults parameters'!$T$8:$Y$8,0))*AF347/10^6","v":0}]
["Achtung: Formel nur für freight","Scenario 2)",{"$f":"lightLCV","v":"Very light LCV"},{"$f":"RoadG","v":"Road - Gasoline"},{"$f":"Gasoline","v":"Gasoline"},0,{"$f":"IF('2B Input Climat Scen. Freight'!J121=\"\",SUMIFS('2B Input Climat Scen. Freight'!D$120:D$140,'2B Input Climat Scen. Freight'!$B$120:$B$140,'4B Calcul. Climat Scen.'!$C348,'2B Input Climat Scen. Freight'!$C$120:$C$140,'4B Calcul. Climat Scen.'!$E348),SUMIFS('2B Input Climat Scen. Freight'!J$120:J$140,'2B Input Climat Scen. Freight'!$B$120:$B$140,'4B Calcul. Climat Scen.'!$C348,'2B Input Climat Scen. Freight'!$C$120:$C$140,'4B Calcul. Climat Scen.'!$E348))","v":0},{"$f":"IF('2B Input Climat Scen. Freight'!K121=\"\",SUMIFS('2B Input Climat Scen. Freight'!E$120:E$140,'2B Input Climat Scen. Freight'!$B$120:$B$140,'4B Calcul. Climat Scen.'!$C348,'2B Input Climat Scen. Freight'!$C$120:$C$140,'4B Calcul. Climat Scen.'!$E348),SUMIFS('2B Input Climat Scen. Freight'!K$120:K$140,'2B Input Climat Scen. Freight'!$B$120:$B$140,'4B Calcul. Climat Scen.'!$C348,'2B Input Climat Scen. Freight'!$C$120:$C$140,'4B Calcul. Climat Scen.'!$E348))","v":0},{"$f":"IF('2B Input Climat Scen. Freight'!L121=\"\",SUMIFS('2B Input Climat Scen. Freight'!F$120:F$140,'2B Input Climat Scen. Freight'!$B$120:$B$140,'4B Calcul. Climat Scen.'!$C348,'2B Input Climat Scen. Freight'!$C$120:$C$140,'4B Calcul. Climat Scen.'!$E348),SUMIFS('2B Input Climat Scen. Freight'!L$120:L$140,'2B Input Climat Scen. Freight'!$B$120:$B$140,'4B Calcul. Climat Scen.'!$C348,'2B Input Climat Scen. Freight'!$C$120:$C$140,'4B Calcul. Climat Scen.'!$E348))","v":0},{"$f":"IF('2B Input Climat Scen. Freight'!M121=\"\",SUMIFS('2B Input Climat Scen. Freight'!G$120:G$140,'2B Input Climat Scen. Freight'!$B$120:$B$140,'4B Calcul. Climat Scen.'!$C348,'2B Input Climat Scen. Freight'!$C$120:$C$140,'4B Calcul. Climat Scen.'!$E348),SUMIFS('2B Input Climat Scen. Freight'!M$120:M$140,'2B Input Climat Scen. Freight'!$B$120:$B$140,'4B Calcul. Climat Scen.'!$C348,'2B Input Climat Scen. Freight'!$C$120:$C$140,'4B Calcul. Climat Scen.'!$E348))","v":0},{"$f":"IF('2B Input Climat Scen. Freight'!N121=\"\",SUMIFS('2B Input Climat Scen. Freight'!H$120:H$140,'2B Input Climat Scen. Freight'!$B$120:$B$140,'4B Calcul. Climat Scen.'!$C348,'2B Input Climat Scen. Freight'!$C$120:$C$140,'4B Calcul. Climat Scen.'!$E348),SUMIFS('2B Input Climat Scen. Freight'!N$120:N$140,'2B Input Climat Scen. Freight'!$B$120:$B$140,'4B Calcul. Climat Scen.'!$C348,'2B Input Climat Scen. Freight'!$C$120:$C$140,'4B Calcul. Climat Scen.'!$E348))","v":0},"Achtung: Formel nur für freight",0,{"$f":"SUMIF($M$236:$M$240,$C348,AJ$236:AJ$240)*G348","v":0},{"$f":"SUMIF($M$236:$M$240,$C348,AK$236:AK$240)*H348","v":0},{"$f":"SUMIF($M$236:$M$240,$C348,AL$236:AL$240)*I348","v":0},0,0,null,{"$f":"SUMIFS('4A Calcul. BAU city'!O$13:O$61,'4A Calcul. BAU city'!$C$13:$C$61,'4B Calcul. Climat Scen.'!$C348,'4A Calcul. BAU city'!$E$13:$E$61,'4B Calcul. Climat Scen.'!$E348)*M348/100","v":0},0,0,0,0,0,null,{"$f":"SUMIFS('4A Calcul. BAU city'!O$13:O$61,'4A Calcul. BAU city'!$C$13:$C$61,'4B Calcul. Climat Scen.'!$C348,'4A Calcul. BAU city'!$E$13:$E$61,'4B Calcul. Climat Scen.'!$E348)*M348/100*SUMIFS('4A Calcul. BAU city'!$V$13:$V$61,'4A Calcul. BAU city'!$C$13:$C$61,'4B Calcul. Climat Scen.'!$C348,'4A Calcul. BAU city'!$E$13:$E$61,'4B Calcul. Climat Scen.'!$E348)","v":0},{"$f":"U348*SUMIFS('4A Calcul. BAU city'!$V$13:$V$61,'4A Calcul. BAU city'!$C$13:$C$61,'4B Calcul. Climat Scen.'!$C348,'4A Calcul. BAU city'!$E$13:$E$61,'4B Calcul. Climat Scen.'!$E348)","v":0},{"$f":"V348*SUMIFS('4A Calcul. BAU city'!$V$13:$V$61,'4A Calcul. BAU city'!$C$13:$C$61,'4B Calcul. Climat Scen.'!$C348,'4A Calcul. BAU city'!$E$13:$E$61,'4B Calcul. Climat Scen.'!$E348)","v":0},{"$f":"W348*SUMIFS('4A Calcul. BAU city'!$V$13:$V$61,'4A Calcul. BAU city'!$C$13:$C$61,'4B Calcul. Climat Scen.'!$C348,'4A Calcul. BAU city'!$E$13:$E$61,'4B Calcul. Climat Scen.'!$E348)","v":0},{"$f":"X348*SUMIFS('4A Calcul. BAU city'!$V$13:$V$61,'4A Calcul. BAU city'!$C$13:$C$61,'4B Calcul. Climat Scen.'!$C348,'4A Calcul. BAU city'!$E$13:$E$61,'4B Calcul. Climat Scen.'!$E348)","v":0},{"$f":"Y348*SUMIFS('4A Calcul. BAU city'!$V$13:$V$61,'4A Calcul. BAU city'!$C$13:$C$61,'4B Calcul. Climat Scen.'!$C348,'4A Calcul. BAU city'!$E$13:$E$61,'4B Calcul. Climat Scen.'!$E348)","v":0},null,{"$f":"INDEX('6 Defaults parameters'!$T$9:$Y$18,MATCH($D348,'6 Defaults parameters'!$B$9:$B$18,0),MATCH(AH$313,'6 Defaults parameters'!$T$8:$Y$8,0))*AA348/10^6","v":0},{"$f":"INDEX('6 Defaults parameters'!$T$9:$Y$18,MATCH($D348,'6 Defaults parameters'!$B$9:$B$18,0),MATCH(AI$313,'6 Defaults parameters'!$T$8:$Y$8,0))*AB348/10^6","v":0},{"$f":"INDEX('6 Defaults parameters'!$T$9:$Y$18,MATCH($D348,'6 Defaults parameters'!$B$9:$B$18,0),MATCH(AJ$313,'6 Defaults parameters'!$T$8:$Y$8,0))*AC348/10^6","v":0},{"$f":"INDEX('6 Defaults parameters'!$T$9:$Y$18,MATCH($D348,'6 Defaults parameters'!$B$9:$B$18,0),MATCH(AK$313,'6 Defaults parameters'!$T$8:$Y$8,0))*AD348/10^6","v":0},{"$f":"INDEX('6 Defaults parameters'!$T$9:$Y$18,MATCH($D348,'6 Defaults parameters'!$B$9:$B$18,0),MATCH(AL$313,'6 Defaults parameters'!$T$8:$Y$8,0))*AE348/10^6","v":0},{"$f":"INDEX('6 Defaults parameters'!$T$9:$Y$18,MATCH($D348,'6 Defaults parameters'!$B$9:$B$18,0),MATCH(AM$313,'6 Defaults parameters'!$T$8:$Y$8,0))*AF348/10^6","v":0}]
[null,"Scenario 2)",{"$f":"lightLCV","v":"Very light LCV"},{"$f":"RoadD","v":"Road - Diesel"},{"$f":"Diesel","v":"Diesel"},0,{"$f":"IF('2B Input Climat Scen. Freight'!J122=\"\",SUMIFS('2B Input Climat Scen. Freight'!D$120:D$140,'2B Input Climat Scen. Freight'!$B$120:$B$140,'4B Calcul. Climat Scen.'!$C349,'2B Input Climat Scen. Freight'!$C$120:$C$140,'4B Calcul. Climat Scen.'!$E349),SUMIFS('2B Input Climat Scen. Freight'!J$120:J$140,'2B Input Climat Scen. Freight'!$B$120:$B$140,'4B Calcul. Climat Scen.'!$C349,'2B Input Climat Scen. Freight'!$C$120:$C$140,'4B Calcul. Climat Scen.'!$E349))","v":0},{"$f":"IF('2B Input Climat Scen. Freight'!K122=\"\",SUMIFS('2B Input Climat Scen. Freight'!E$120:E$140,'2B Input Climat Scen. Freight'!$B$120:$B$140,'4B Calcul. Climat Scen.'!$C349,'2B Input Climat Scen. Freight'!$C$120:$C$140,'4B Calcul. Climat Scen.'!$E349),SUMIFS('2B Input Climat Scen. Freight'!K$120:K$140,'2B Input Climat Scen. Freight'!$B$120:$B$140,'4B Calcul. Climat Scen.'!$C349,'2B Input Climat Scen. Freight'!$C$120:$C$140,'4B Calcul. Climat Scen.'!$E349))","v":0},{"$f":"IF('2B Input Climat Scen. Freight'!L122=\"\",SUMIFS('2B Input Climat Scen. Freight'!F$120:F$140,'2B Input Climat Scen. Freight'!$B$120:$B$140,'4B Calcul. Climat Scen.'!$C349,'2B Input Climat Scen. Freight'!$C$120:$C$140,'4B Calcul. Climat Scen.'!$E349),SUMIFS('2B Input Climat Scen. Freight'!L$120:L$140,'2B Input Climat Scen. Freight'!$B$120:$B$140,'4B Calcul. Climat Scen.'!$C349,'2B Input Climat Scen. Freight'!$C$120:$C$140,'4B Calcul. Climat Scen.'!$E349))","v":0},{"$f":"IF('2B Input Climat Scen. Freight'!M122=\"\",SUMIFS('2B Input Climat Scen. Freight'!G$120:G$140,'2B Input Climat Scen. Freight'!$B$120:$B$140,'4B Calcul. Climat Scen.'!$C349,'2B Input Climat Scen. Freight'!$C$120:$C$140,'4B Calcul. Climat Scen.'!$E349),SUMIFS('2B Input Climat Scen. Freight'!M$120:M$140,'2B Input Climat Scen. Freight'!$B$120:$B$140,'4B Calcul. Climat Scen.'!$C349,'2B Input Climat Scen. Freight'!$C$120:$C$140,'4B Calcul. Climat Scen.'!$E349))","v":0},{"$f":"IF('2B Input Climat Scen. Freight'!N122=\"\",SUMIFS('2B Input Climat Scen. Freight'!H$120:H$140,'2B Input Climat Scen. Freight'!$B$120:$B$140,'4B Calcul. Climat Scen.'!$C349,'2B Input Climat Scen. Freight'!$C$120:$C$140,'4B Calcul. Climat Scen.'!$E349),SUMIFS('2B Input Climat Scen. Freight'!N$120:N$140,'2B Input Climat Scen. Freight'!$B$120:$B$140,'4B Calcul. Climat Scen.'!$C349,'2B Input Climat Scen. Freight'!$C$120:$C$140,'4B Calcul. Climat Scen.'!$E349))","v":0},null,0,{"$f":"SUMIF($M$236:$M$240,$C349,AJ$236:AJ$240)*G349","v":0},{"$f":"SUMIF($M$236:$M$240,$C349,AK$236:AK$240)*H349","v":0},{"$f":"SUMIF($M$236:$M$240,$C349,AL$236:AL$240)*I349","v":0},{"$f":"SUMIF($M$236:$M$240,$C349,AM$236:AM$240)*J349","v":0},{"$f":"SUMIF($M$236:$M$240,$C349,AN$236:AN$240)*K349","v":0},null,{"$f":"SUMIFS('4A Calcul. BAU city'!O$13:O$61,'4A Calcul. BAU city'!$C$13:$C$61,'4B Calcul. Climat Scen.'!$C349,'4A Calcul. BAU city'!$E$13:$E$61,'4B Calcul. Climat Scen.'!$E349)*M349/100","v":0},0,0,0,0,0,null,{"$f":"SUMIFS('4A Calcul. BAU city'!O$13:O$61,'4A Calcul. BAU city'!$C$13:$C$61,'4B Calcul. Climat Scen.'!$C349,'4A Calcul. BAU city'!$E$13:$E$61,'4B Calcul. Climat Scen.'!$E349)*M349/100*SUMIFS('4A Calcul. BAU city'!$V$13:$V$61,'4A Calcul. BAU city'!$C$13:$C$61,'4B Calcul. Climat Scen.'!$C349,'4A Calcul. BAU city'!$E$13:$E$61,'4B Calcul. Climat Scen.'!$E349)","v":0},{"$f":"U349*SUMIFS('4A Calcul. BAU city'!$V$13:$V$61,'4A Calcul. BAU city'!$C$13:$C$61,'4B Calcul. Climat Scen.'!$C349,'4A Calcul. BAU city'!$E$13:$E$61,'4B Calcul. Climat Scen.'!$E349)","v":0},{"$f":"V349*SUMIFS('4A Calcul. BAU city'!$V$13:$V$61,'4A Calcul. BAU city'!$C$13:$C$61,'4B Calcul. Climat Scen.'!$C349,'4A Calcul. BAU city'!$E$13:$E$61,'4B Calcul. Climat Scen.'!$E349)","v":0},{"$f":"W349*SUMIFS('4A Calcul. BAU city'!$V$13:$V$61,'4A Calcul. BAU city'!$C$13:$C$61,'4B Calcul. Climat Scen.'!$C349,'4A Calcul. BAU city'!$E$13:$E$61,'4B Calcul. Climat Scen.'!$E349)","v":0},{"$f":"X349*SUMIFS('4A Calcul. BAU city'!$V$13:$V$61,'4A Calcul. BAU city'!$C$13:$C$61,'4B Calcul. Climat Scen.'!$C349,'4A Calcul. BAU city'!$E$13:$E$61,'4B Calcul. Climat Scen.'!$E349)","v":0},{"$f":"Y349*SUMIFS('4A Calcul. BAU city'!$V$13:$V$61,'4A Calcul. BAU city'!$C$13:$C$61,'4B Calcul. Climat Scen.'!$C349,'4A Calcul. BAU city'!$E$13:$E$61,'4B Calcul. Climat Scen.'!$E349)","v":0},null,{"$f":"INDEX('6 Defaults parameters'!$T$9:$Y$18,MATCH($D349,'6 Defaults parameters'!$B$9:$B$18,0),MATCH(AH$313,'6 Defaults parameters'!$T$8:$Y$8,0))*AA349/10^6","v":0},{"$f":"INDEX('6 Defaults parameters'!$T$9:$Y$18,MATCH($D349,'6 Defaults parameters'!$B$9:$B$18,0),MATCH(AI$313,'6 Defaults parameters'!$T$8:$Y$8,0))*AB349/10^6","v":0},{"$f":"INDEX('6 Defaults parameters'!$T$9:$Y$18,MATCH($D349,'6 Defaults parameters'!$B$9:$B$18,0),MATCH(AJ$313,'6 Defaults parameters'!$T$8:$Y$8,0))*AC349/10^6","v":0},{"$f":"INDEX('6 Defaults parameters'!$T$9:$Y$18,MATCH($D349,'6 Defaults parameters'!$B$9:$B$18,0),MATCH(AK$313,'6 Defaults parameters'!$T$8:$Y$8,0))*AD349/10^6","v":0},{"$f":"INDEX('6 Defaults parameters'!$T$9:$Y$18,MATCH($D349,'6 Defaults parameters'!$B$9:$B$18,0),MATCH(AL$313,'6 Defaults parameters'!$T$8:$Y$8,0))*AE349/10^6","v":0},{"$f":"INDEX('6 Defaults parameters'!$T$9:$Y$18,MATCH($D349,'6 Defaults parameters'!$B$9:$B$18,0),MATCH(AM$313,'6 Defaults parameters'!$T$8:$Y$8,0))*AF349/10^6","v":0}]
[null,"Scenario 2)",{"$f":"lightLCV","v":"Very light LCV"},{"$f":"Roadelec","v":"Road - Electric"},{"$f":"Electric","v":"Electric"},0,{"$f":"IF('2B Input Climat Scen. Freight'!J123=\"\",SUMIFS('2B Input Climat Scen. Freight'!D$120:D$140,'2B Input Climat Scen. Freight'!$B$120:$B$140,'4B Calcul. Climat Scen.'!$C350,'2B Input Climat Scen. Freight'!$C$120:$C$140,'4B Calcul. Climat Scen.'!$E350),SUMIFS('2B Input Climat Scen. Freight'!J$120:J$140,'2B Input Climat Scen. Freight'!$B$120:$B$140,'4B Calcul. Climat Scen.'!$C350,'2B Input Climat Scen. Freight'!$C$120:$C$140,'4B Calcul. Climat Scen.'!$E350))","v":0},{"$f":"IF('2B Input Climat Scen. Freight'!K123=\"\",SUMIFS('2B Input Climat Scen. Freight'!E$120:E$140,'2B Input Climat Scen. Freight'!$B$120:$B$140,'4B Calcul. Climat Scen.'!$C350,'2B Input Climat Scen. Freight'!$C$120:$C$140,'4B Calcul. Climat Scen.'!$E350),SUMIFS('2B Input Climat Scen. Freight'!K$120:K$140,'2B Input Climat Scen. Freight'!$B$120:$B$140,'4B Calcul. Climat Scen.'!$C350,'2B Input Climat Scen. Freight'!$C$120:$C$140,'4B Calcul. Climat Scen.'!$E350))","v":0},{"$f":"IF('2B Input Climat Scen. Freight'!L123=\"\",SUMIFS('2B Input Climat Scen. Freight'!F$120:F$140,'2B Input Climat Scen. Freight'!$B$120:$B$140,'4B Calcul. Climat Scen.'!$C350,'2B Input Climat Scen. Freight'!$C$120:$C$140,'4B Calcul. Climat Scen.'!$E350),SUMIFS('2B Input Climat Scen. Freight'!L$120:L$140,'2B Input Climat Scen. Freight'!$B$120:$B$140,'4B Calcul. Climat Scen.'!$C350,'2B Input Climat Scen. Freight'!$C$120:$C$140,'4B Calcul. Climat Scen.'!$E350))","v":0},{"$f":"IF('2B Input Climat Scen. Freight'!M123=\"\",SUMIFS('2B Input Climat Scen. Freight'!G$120:G$140,'2B Input Climat Scen. Freight'!$B$120:$B$140,'4B Calcul. Climat Scen.'!$C350,'2B Input Climat Scen. Freight'!$C$120:$C$140,'4B Calcul. Climat Scen.'!$E350),SUMIFS('2B Input Climat Scen. Freight'!M$120:M$140,'2B Input Climat Scen. Freight'!$B$120:$B$140,'4B Calcul. Climat Scen.'!$C350,'2B Input Climat Scen. Freight'!$C$120:$C$140,'4B Calcul. Climat Scen.'!$E350))","v":0},{"$f":"IF('2B Input Climat Scen. Freight'!N123=\"\",SUMIFS('2B Input Climat Scen. Freight'!H$120:H$140,'2B Input Climat Scen. Freight'!$B$120:$B$140,'4B Calcul. Climat Scen.'!$C350,'2B Input Climat Scen. Freight'!$C$120:$C$140,'4B Calcul. Climat Scen.'!$E350),SUMIFS('2B Input Climat Scen. Freight'!N$120:N$140,'2B Input Climat Scen. Freight'!$B$120:$B$140,'4B Calcul. Climat Scen.'!$C350,'2B Input Climat Scen. Freight'!$C$120:$C$140,'4B Calcul. Climat Scen.'!$E350))","v":0},null,0,0,0,0,0,0,null,{"$f":"SUMIFS('4A Calcul. BAU city'!O$13:O$61,'4A Calcul. BAU city'!$C$13:$C$61,'4B Calcul. Climat Scen.'!$C350,'4A Calcul. BAU city'!$E$13:$E$61,'4B Calcul. Climat Scen.'!$E350)*M350/100","v":0},0,0,0,0,0,null,{"$f":"SUMIFS('4A Calcul. BAU city'!O$13:O$61,'4A Calcul. BAU city'!$C$13:$C$61,'4B Calcul. Climat Scen.'!$C350,'4A Calcul. BAU city'!$E$13:$E$61,'4B Calcul. Climat Scen.'!$E350)*M350/100*SUMIFS('4A Calcul. BAU city'!$V$13:$V$61,'4A Calcul. BAU city'!$C$13:$C$61,'4B Calcul. Climat Scen.'!$C350,'4A Calcul. BAU city'!$E$13:$E$61,'4B Calcul. Climat Scen.'!$E350)","v":0},{"$f":"U350*SUMIFS('4A Calcul. BAU city'!$V$13:$V$61,'4A Calcul. BAU city'!$C$13:$C$61,'4B Calcul. Climat Scen.'!$C350,'4A Calcul. BAU city'!$E$13:$E$61,'4B Calcul. Climat Scen.'!$E350)","v":0},{"$f":"V350*SUMIFS('4A Calcul. BAU city'!$V$13:$V$61,'4A Calcul. BAU city'!$C$13:$C$61,'4B Calcul. Climat Scen.'!$C350,'4A Calcul. BAU city'!$E$13:$E$61,'4B Calcul. Climat Scen.'!$E350)","v":0},{"$f":"W350*SUMIFS('4A Calcul. BAU city'!$V$13:$V$61,'4A Calcul. BAU city'!$C$13:$C$61,'4B Calcul. Climat Scen.'!$C350,'4A Calcul. BAU city'!$E$13:$E$61,'4B Calcul. Climat Scen.'!$E350)","v":0},{"$f":"X350*SUMIFS('4A Calcul. BAU city'!$V$13:$V$61,'4A Calcul. BAU city'!$C$13:$C$61,'4B Calcul. Climat Scen.'!$C350,'4A Calcul. BAU city'!$E$13:$E$61,'4B Calcul. Climat Scen.'!$E350)","v":0},{"$f":"Y350*SUMIFS('4A Calcul. BAU city'!$V$13:$V$61,'4A Calcul. BAU city'!$C$13:$C$61,'4B Calcul. Climat Scen.'!$C350,'4A Calcul. BAU city'!$E$13:$E$61,'4B Calcul. Climat Scen.'!$E350)","v":0},null,{"$f":"INDEX('6 Defaults parameters'!$T$9:$Y$18,MATCH($D350,'6 Defaults parameters'!$B$9:$B$18,0),MATCH(AH$313,'6 Defaults parameters'!$T$8:$Y$8,0))*AA350/10^6","v":0},{"$f":"INDEX('6 Defaults parameters'!$T$9:$Y$18,MATCH($D350,'6 Defaults parameters'!$B$9:$B$18,0),MATCH(AI$313,'6 Defaults parameters'!$T$8:$Y$8,0))*AB350/10^6","v":0},{"$f":"INDEX('6 Defaults parameters'!$T$9:$Y$18,MATCH($D350,'6 Defaults parameters'!$B$9:$B$18,0),MATCH(AJ$313,'6 Defaults parameters'!$T$8:$Y$8,0))*AC350/10^6","v":0},{"$f":"INDEX('6 Defaults parameters'!$T$9:$Y$18,MATCH($D350,'6 Defaults parameters'!$B$9:$B$18,0),MATCH(AK$313,'6 Defaults parameters'!$T$8:$Y$8,0))*AD350/10^6","v":0},{"$f":"INDEX('6 Defaults parameters'!$T$9:$Y$18,MATCH($D350,'6 Defaults parameters'!$B$9:$B$18,0),MATCH(AL$313,'6 Defaults parameters'!$T$8:$Y$8,0))*AE350/10^6","v":0},{"$f":"INDEX('6 Defaults parameters'!$T$9:$Y$18,MATCH($D350,'6 Defaults parameters'!$B$9:$B$18,0),MATCH(AM$313,'6 Defaults parameters'!$T$8:$Y$8,0))*AF350/10^6","v":0}]
[null,"Scenario 2)",{"$f":"LCV","v":"LCV"},{"$f":"RoadG","v":"Road - Gasoline"},{"$f":"Gasoline","v":"Gasoline"},0,{"$f":"IF('2B Input Climat Scen. Freight'!J125=\"\",SUMIFS('2B Input Climat Scen. Freight'!D$120:D$140,'2B Input Climat Scen. Freight'!$B$120:$B$140,'4B Calcul. Climat Scen.'!$C351,'2B Input Climat Scen. Freight'!$C$120:$C$140,'4B Calcul. Climat Scen.'!$E351),SUMIFS('2B Input Climat Scen. Freight'!J$120:J$140,'2B Input Climat Scen. Freight'!$B$120:$B$140,'4B Calcul. Climat Scen.'!$C351,'2B Input Climat Scen. Freight'!$C$120:$C$140,'4B Calcul. Climat Scen.'!$E351))","v":0},{"$f":"IF('2B Input Climat Scen. Freight'!K125=\"\",SUMIFS('2B Input Climat Scen. Freight'!E$120:E$140,'2B Input Climat Scen. Freight'!$B$120:$B$140,'4B Calcul. Climat Scen.'!$C351,'2B Input Climat Scen. Freight'!$C$120:$C$140,'4B Calcul. Climat Scen.'!$E351),SUMIFS('2B Input Climat Scen. Freight'!K$120:K$140,'2B Input Climat Scen. Freight'!$B$120:$B$140,'4B Calcul. Climat Scen.'!$C351,'2B Input Climat Scen. Freight'!$C$120:$C$140,'4B Calcul. Climat Scen.'!$E351))","v":0},{"$f":"IF('2B Input Climat Scen. Freight'!L125=\"\",SUMIFS('2B Input Climat Scen. Freight'!F$120:F$140,'2B Input Climat Scen. Freight'!$B$120:$B$140,'4B Calcul. Climat Scen.'!$C351,'2B Input Climat Scen. Freight'!$C$120:$C$140,'4B Calcul. Climat Scen.'!$E351),SUMIFS('2B Input Climat Scen. Freight'!L$120:L$140,'2B Input Climat Scen. Freight'!$B$120:$B$140,'4B Calcul. Climat Scen.'!$C351,'2B Input Climat Scen. Freight'!$C$120:$C$140,'4B Calcul. Climat Scen.'!$E351))","v":0},{"$f":"IF('2B Input Climat Scen. Freight'!M125=\"\",SUMIFS('2B Input Climat Scen. Freight'!G$120:G$140,'2B Input Climat Scen. Freight'!$B$120:$B$140,'4B Calcul. Climat Scen.'!$C351,'2B Input Climat Scen. Freight'!$C$120:$C$140,'4B Calcul. Climat Scen.'!$E351),SUMIFS('2B Input Climat Scen. Freight'!M$120:M$140,'2B Input Climat Scen. Freight'!$B$120:$B$140,'4B Calcul. Climat Scen.'!$C351,'2B Input Climat Scen. Freight'!$C$120:$C$140,'4B Calcul. Climat Scen.'!$E351))","v":0},{"$f":"IF('2B Input Climat Scen. Freight'!N125=\"\",SUMIFS('2B Input Climat Scen. Freight'!H$120:H$140,'2B Input Climat Scen. Freight'!$B$120:$B$140,'4B Calcul. Climat Scen.'!$C351,'2B Input Climat Scen. Freight'!$C$120:$C$140,'4B Calcul. Climat Scen.'!$E351),SUMIFS('2B Input Climat Scen. Freight'!N$120:N$140,'2B Input Climat Scen. Freight'!$B$120:$B$140,'4B Calcul. Climat Scen.'!$C351,'2B Input Climat Scen. Freight'!$C$120:$C$140,'4B Calcul. Climat Scen.'!$E351))","v":0},null,0,0,0,0,0,0,null,{"$f":"SUMIFS('4A Calcul. BAU city'!O$13:O$61,'4A Calcul. BAU city'!$C$13:$C$61,'4B Calcul. Climat Scen.'!$C351,'4A Calcul. BAU city'!$E$13:$E$61,'4B Calcul. Climat Scen.'!$E351)*M351/100","v":0},0,0,0,0,0,null,{"$f":"SUMIFS('4A Calcul. BAU city'!O$13:O$61,'4A Calcul. BAU city'!$C$13:$C$61,'4B Calcul. Climat Scen.'!$C351,'4A Calcul. BAU city'!$E$13:$E$61,'4B Calcul. Climat Scen.'!$E351)*M351/100*SUMIFS('4A Calcul. BAU city'!$V$13:$V$61,'4A Calcul. BAU city'!$C$13:$C$61,'4B Calcul. Climat Scen.'!$C351,'4A Calcul. BAU city'!$E$13:$E$61,'4B Calcul. Climat Scen.'!$E351)","v":0},{"$f":"U351*SUMIFS('4A Calcul. BAU city'!$V$13:$V$61,'4A Calcul. BAU city'!$C$13:$C$61,'4B Calcul. Climat Scen.'!$C351,'4A Calcul. BAU city'!$E$13:$E$61,'4B Calcul. Climat Scen.'!$E351)","v":0},{"$f":"V351*SUMIFS('4A Calcul. BAU city'!$V$13:$V$61,'4A Calcul. BAU city'!$C$13:$C$61,'4B Calcul. Climat Scen.'!$C351,'4A Calcul. BAU city'!$E$13:$E$61,'4B Calcul. Climat Scen.'!$E351)","v":0},{"$f":"W351*SUMIFS('4A Calcul. BAU city'!$V$13:$V$61,'4A Calcul. BAU city'!$C$13:$C$61,'4B Calcul. Climat Scen.'!$C351,'4A Calcul. BAU city'!$E$13:$E$61,'4B Calcul. Climat Scen.'!$E351)","v":0},{"$f":"X351*SUMIFS('4A Calcul. BAU city'!$V$13:$V$61,'4A Calcul. BAU city'!$C$13:$C$61,'4B Calcul. Climat Scen.'!$C351,'4A Calcul. BAU city'!$E$13:$E$61,'4B Calcul. Climat Scen.'!$E351)","v":0},{"$f":"Y351*SUMIFS('4A Calcul. BAU city'!$V$13:$V$61,'4A Calcul. BAU city'!$C$13:$C$61,'4B Calcul. Climat Scen.'!$C351,'4A Calcul. BAU city'!$E$13:$E$61,'4B Calcul. Climat Scen.'!$E351)","v":0},null,{"$f":"INDEX('6 Defaults parameters'!$T$9:$Y$18,MATCH($D351,'6 Defaults parameters'!$B$9:$B$18,0),MATCH(AH$313,'6 Defaults parameters'!$T$8:$Y$8,0))*AA351/10^6","v":0},{"$f":"INDEX('6 Defaults parameters'!$T$9:$Y$18,MATCH($D351,'6 Defaults parameters'!$B$9:$B$18,0),MATCH(AI$313,'6 Defaults parameters'!$T$8:$Y$8,0))*AB351/10^6","v":0},{"$f":"INDEX('6 Defaults parameters'!$T$9:$Y$18,MATCH($D351,'6 Defaults parameters'!$B$9:$B$18,0),MATCH(AJ$313,'6 Defaults parameters'!$T$8:$Y$8,0))*AC351/10^6","v":0},{"$f":"INDEX('6 Defaults parameters'!$T$9:$Y$18,MATCH($D351,'6 Defaults parameters'!$B$9:$B$18,0),MATCH(AK$313,'6 Defaults parameters'!$T$8:$Y$8,0))*AD351/10^6","v":0},{"$f":"INDEX('6 Defaults parameters'!$T$9:$Y$18,MATCH($D351,'6 Defaults parameters'!$B$9:$B$18,0),MATCH(AL$313,'6 Defaults parameters'!$T$8:$Y$8,0))*AE351/10^6","v":0},{"$f":"INDEX('6 Defaults parameters'!$T$9:$Y$18,MATCH($D351,'6 Defaults parameters'!$B$9:$B$18,0),MATCH(AM$313,'6 Defaults parameters'!$T$8:$Y$8,0))*AF351/10^6","v":0}]
[null,"Scenario 2)",{"$f":"LCV","v":"LCV"},{"$f":"RoadD","v":"Road - Diesel"},{"$f":"Diesel","v":"Diesel"},0,{"$f":"IF('2B Input Climat Scen. Freight'!J126=\"\",SUMIFS('2B Input Climat Scen. Freight'!D$120:D$140,'2B Input Climat Scen. Freight'!$B$120:$B$140,'4B Calcul. Climat Scen.'!$C352,'2B Input Climat Scen. Freight'!$C$120:$C$140,'4B Calcul. Climat Scen.'!$E352),SUMIFS('2B Input Climat Scen. Freight'!J$120:J$140,'2B Input Climat Scen. Freight'!$B$120:$B$140,'4B Calcul. Climat Scen.'!$C352,'2B Input Climat Scen. Freight'!$C$120:$C$140,'4B Calcul. Climat Scen.'!$E352))","v":0},{"$f":"IF('2B Input Climat Scen. Freight'!K126=\"\",SUMIFS('2B Input Climat Scen. Freight'!E$120:E$140,'2B Input Climat Scen. Freight'!$B$120:$B$140,'4B Calcul. Climat Scen.'!$C352,'2B Input Climat Scen. Freight'!$C$120:$C$140,'4B Calcul. Climat Scen.'!$E352),SUMIFS('2B Input Climat Scen. Freight'!K$120:K$140,'2B Input Climat Scen. Freight'!$B$120:$B$140,'4B Calcul. Climat Scen.'!$C352,'2B Input Climat Scen. Freight'!$C$120:$C$140,'4B Calcul. Climat Scen.'!$E352))","v":0},{"$f":"IF('2B Input Climat Scen. Freight'!L126=\"\",SUMIFS('2B Input Climat Scen. Freight'!F$120:F$140,'2B Input Climat Scen. Freight'!$B$120:$B$140,'4B Calcul. Climat Scen.'!$C352,'2B Input Climat Scen. Freight'!$C$120:$C$140,'4B Calcul. Climat Scen.'!$E352),SUMIFS('2B Input Climat Scen. Freight'!L$120:L$140,'2B Input Climat Scen. Freight'!$B$120:$B$140,'4B Calcul. Climat Scen.'!$C352,'2B Input Climat Scen. Freight'!$C$120:$C$140,'4B Calcul. Climat Scen.'!$E352))","v":0},{"$f":"IF('2B Input Climat Scen. Freight'!M126=\"\",SUMIFS('2B Input Climat Scen. Freight'!G$120:G$140,'2B Input Climat Scen. Freight'!$B$120:$B$140,'4B Calcul. Climat Scen.'!$C352,'2B Input Climat Scen. Freight'!$C$120:$C$140,'4B Calcul. Climat Scen.'!$E352),SUMIFS('2B Input Climat Scen. Freight'!M$120:M$140,'2B Input Climat Scen. Freight'!$B$120:$B$140,'4B Calcul. Climat Scen.'!$C352,'2B Input Climat Scen. Freight'!$C$120:$C$140,'4B Calcul. Climat Scen.'!$E352))","v":0},{"$f":"IF('2B Input Climat Scen. Freight'!N126=\"\",SUMIFS('2B Input Climat Scen. Freight'!H$120:H$140,'2B Input Climat Scen. Freight'!$B$120:$B$140,'4B Calcul. Climat Scen.'!$C352,'2B Input Climat Scen. Freight'!$C$120:$C$140,'4B Calcul. Climat Scen.'!$E352),SUMIFS('2B Input Climat Scen. Freight'!N$120:N$140,'2B Input Climat Scen. Freight'!$B$120:$B$140,'4B Calcul. Climat Scen.'!$C352,'2B Input Climat Scen. Freight'!$C$120:$C$140,'4B Calcul. Climat Scen.'!$E352))","v":0},null,0,0,0,0,0,0,null,{"$f":"SUMIFS('4A Calcul. BAU city'!O$13:O$61,'4A Calcul. BAU city'!$C$13:$C$61,'4B Calcul. Climat Scen.'!$C352,'4A Calcul. BAU city'!$E$13:$E$61,'4B Calcul. Climat Scen.'!$E352)*M352/100","v":0},0,0,0,0,0,null,{"$f":"SUMIFS('4A Calcul. BAU city'!O$13:O$61,'4A Calcul. BAU city'!$C$13:$C$61,'4B Calcul. Climat Scen.'!$C352,'4A Calcul. BAU city'!$E$13:$E$61,'4B Calcul. Climat Scen.'!$E352)*M352/100*SUMIFS('4A Calcul. BAU city'!$V$13:$V$61,'4A Calcul. BAU city'!$C$13:$C$61,'4B Calcul. Climat Scen.'!$C352,'4A Calcul. BAU city'!$E$13:$E$61,'4B Calcul. Climat Scen.'!$E352)","v":0},{"$f":"U352*SUMIFS('4A Calcul. BAU city'!$V$13:$V$61,'4A Calcul. BAU city'!$C$13:$C$61,'4B Calcul. Climat Scen.'!$C352,'4A Calcul. BAU city'!$E$13:$E$61,'4B Calcul. Climat Scen.'!$E352)","v":0},{"$f":"V352*SUMIFS('4A Calcul. BAU city'!$V$13:$V$61,'4A Calcul. BAU city'!$C$13:$C$61,'4B Calcul. Climat Scen.'!$C352,'4A Calcul. BAU city'!$E$13:$E$61,'4B Calcul. Climat Scen.'!$E352)","v":0},{"$f":"W352*SUMIFS('4A Calcul. BAU city'!$V$13:$V$61,'4A Calcul. BAU city'!$C$13:$C$61,'4B Calcul. Climat Scen.'!$C352,'4A Calcul. BAU city'!$E$13:$E$61,'4B Calcul. Climat Scen.'!$E352)","v":0},{"$f":"X352*SUMIFS('4A Calcul. BAU city'!$V$13:$V$61,'4A Calcul. BAU city'!$C$13:$C$61,'4B Calcul. Climat Scen.'!$C352,'4A Calcul. BAU city'!$E$13:$E$61,'4B Calcul. Climat Scen.'!$E352)","v":0},{"$f":"Y352*SUMIFS('4A Calcul. BAU city'!$V$13:$V$61,'4A Calcul. BAU city'!$C$13:$C$61,'4B Calcul. Climat Scen.'!$C352,'4A Calcul. BAU city'!$E$13:$E$61,'4B Calcul. Climat Scen.'!$E352)","v":0},null,{"$f":"INDEX('6 Defaults parameters'!$T$9:$Y$18,MATCH($D352,'6 Defaults parameters'!$B$9:$B$18,0),MATCH(AH$313,'6 Defaults parameters'!$T$8:$Y$8,0))*AA352/10^6","v":0},{"$f":"INDEX('6 Defaults parameters'!$T$9:$Y$18,MATCH($D352,'6 Defaults parameters'!$B$9:$B$18,0),MATCH(AI$313,'6 Defaults parameters'!$T$8:$Y$8,0))*AB352/10^6","v":0},{"$f":"INDEX('6 Defaults parameters'!$T$9:$Y$18,MATCH($D352,'6 Defaults parameters'!$B$9:$B$18,0),MATCH(AJ$313,'6 Defaults parameters'!$T$8:$Y$8,0))*AC352/10^6","v":0},{"$f":"INDEX('6 Defaults parameters'!$T$9:$Y$18,MATCH($D352,'6 Defaults parameters'!$B$9:$B$18,0),MATCH(AK$313,'6 Defaults parameters'!$T$8:$Y$8,0))*AD352/10^6","v":0},{"$f":"INDEX('6 Defaults parameters'!$T$9:$Y$18,MATCH($D352,'6 Defaults parameters'!$B$9:$B$18,0),MATCH(AL$313,'6 Defaults parameters'!$T$8:$Y$8,0))*AE352/10^6","v":0},{"$f":"INDEX('6 Defaults parameters'!$T$9:$Y$18,MATCH($D352,'6 Defaults parameters'!$B$9:$B$18,0),MATCH(AM$313,'6 Defaults parameters'!$T$8:$Y$8,0))*AF352/10^6","v":0}]
[null,"Scenario 2)",{"$f":"LCV","v":"LCV"},{"$f":"RoadLPG","v":"Road - LPG"},{"$f":"LPG","v":"LPG"},0,{"$f":"IF('2B Input Climat Scen. Freight'!J127=\"\",SUMIFS('2B Input Climat Scen. Freight'!D$120:D$140,'2B Input Climat Scen. Freight'!$B$120:$B$140,'4B Calcul. Climat Scen.'!$C353,'2B Input Climat Scen. Freight'!$C$120:$C$140,'4B Calcul. Climat Scen.'!$E353),SUMIFS('2B Input Climat Scen. Freight'!J$120:J$140,'2B Input Climat Scen. Freight'!$B$120:$B$140,'4B Calcul. Climat Scen.'!$C353,'2B Input Climat Scen. Freight'!$C$120:$C$140,'4B Calcul. Climat Scen.'!$E353))","v":0},{"$f":"IF('2B Input Climat Scen. Freight'!K127=\"\",SUMIFS('2B Input Climat Scen. Freight'!E$120:E$140,'2B Input Climat Scen. Freight'!$B$120:$B$140,'4B Calcul. Climat Scen.'!$C353,'2B Input Climat Scen. Freight'!$C$120:$C$140,'4B Calcul. Climat Scen.'!$E353),SUMIFS('2B Input Climat Scen. Freight'!K$120:K$140,'2B Input Climat Scen. Freight'!$B$120:$B$140,'4B Calcul. Climat Scen.'!$C353,'2B Input Climat Scen. Freight'!$C$120:$C$140,'4B Calcul. Climat Scen.'!$E353))","v":0},{"$f":"IF('2B Input Climat Scen. Freight'!L127=\"\",SUMIFS('2B Input Climat Scen. Freight'!F$120:F$140,'2B Input Climat Scen. Freight'!$B$120:$B$140,'4B Calcul. Climat Scen.'!$C353,'2B Input Climat Scen. Freight'!$C$120:$C$140,'4B Calcul. Climat Scen.'!$E353),SUMIFS('2B Input Climat Scen. Freight'!L$120:L$140,'2B Input Climat Scen. Freight'!$B$120:$B$140,'4B Calcul. Climat Scen.'!$C353,'2B Input Climat Scen. Freight'!$C$120:$C$140,'4B Calcul. Climat Scen.'!$E353))","v":0},{"$f":"IF('2B Input Climat Scen. Freight'!M127=\"\",SUMIFS('2B Input Climat Scen. Freight'!G$120:G$140,'2B Input Climat Scen. Freight'!$B$120:$B$140,'4B Calcul. Climat Scen.'!$C353,'2B Input Climat Scen. Freight'!$C$120:$C$140,'4B Calcul. Climat Scen.'!$E353),SUMIFS('2B Input Climat Scen. Freight'!M$120:M$140,'2B Input Climat Scen. Freight'!$B$120:$B$140,'4B Calcul. Climat Scen.'!$C353,'2B Input Climat Scen. Freight'!$C$120:$C$140,'4B Calcul. Climat Scen.'!$E353))","v":0},{"$f":"IF('2B Input Climat Scen. Freight'!N127=\"\",SUMIFS('2B Input Climat Scen. Freight'!H$120:H$140,'2B Input Climat Scen. Freight'!$B$120:$B$140,'4B Calcul. Climat Scen.'!$C353,'2B Input Climat Scen. Freight'!$C$120:$C$140,'4B Calcul. Climat Scen.'!$E353),SUMIFS('2B Input Climat Scen. Freight'!N$120:N$140,'2B Input Climat Scen. Freight'!$B$120:$B$140,'4B Calcul. Climat Scen.'!$C353,'2B Input Climat Scen. Freight'!$C$120:$C$140,'4B Calcul. Climat Scen.'!$E353))","v":0},null,0,0,0,0,0,0,null,{"$f":"SUMIFS('4A Calcul. BAU city'!O$13:O$61,'4A Calcul. BAU city'!$C$13:$C$61,'4B Calcul. Climat Scen.'!$C353,'4A Calcul. BAU city'!$E$13:$E$61,'4B Calcul. Climat Scen.'!$E353)*M353/100","v":0},0,0,0,0,0,null,{"$f":"SUMIFS('4A Calcul. BAU city'!O$13:O$61,'4A Calcul. BAU city'!$C$13:$C$61,'4B Calcul. Climat Scen.'!$C353,'4A Calcul. BAU city'!$E$13:$E$61,'4B Calcul. Climat Scen.'!$E353)*M353/100*SUMIFS('4A Calcul. BAU city'!$V$13:$V$61,'4A Calcul. BAU city'!$C$13:$C$61,'4B Calcul. Climat Scen.'!$C353,'4A Calcul. BAU city'!$E$13:$E$61,'4B Calcul. Climat Scen.'!$E353)","v":0},{"$f":"U353*SUMIFS('4A Calcul. BAU city'!$V$13:$V$61,'4A Calcul. BAU city'!$C$13:$C$61,'4B Calcul. Climat Scen.'!$C353,'4A Calcul. BAU city'!$E$13:$E$61,'4B Calcul. Climat Scen.'!$E353)","v":0},{"$f":"V353*SUMIFS('4A Calcul. BAU city'!$V$13:$V$61,'4A Calcul. BAU city'!$C$13:$C$61,'4B Calcul. Climat Scen.'!$C353,'4A Calcul. BAU city'!$E$13:$E$61,'4B Calcul. Climat Scen.'!$E353)","v":0},{"$f":"W353*SUMIFS('4A Calcul. BAU city'!$V$13:$V$61,'4A Calcul. BAU city'!$C$13:$C$61,'4B Calcul. Climat Scen.'!$C353,'4A Calcul. BAU city'!$E$13:$E$61,'4B Calcul. Climat Scen.'!$E353)","v":0},{"$f":"X353*SUMIFS('4A Calcul. BAU city'!$V$13:$V$61,'4A Calcul. BAU city'!$C$13:$C$61,'4B Calcul. Climat Scen.'!$C353,'4A Calcul. BAU city'!$E$13:$E$61,'4B Calcul. Climat Scen.'!$E353)","v":0},{"$f":"Y353*SUMIFS('4A Calcul. BAU city'!$V$13:$V$61,'4A Calcul. BAU city'!$C$13:$C$61,'4B Calcul. Climat Scen.'!$C353,'4A Calcul. BAU city'!$E$13:$E$61,'4B Calcul. Climat Scen.'!$E353)","v":0},null,{"$f":"INDEX('6 Defaults parameters'!$T$9:$Y$18,MATCH($D353,'6 Defaults parameters'!$B$9:$B$18,0),MATCH(AH$313,'6 Defaults parameters'!$T$8:$Y$8,0))*AA353/10^6","v":0},{"$f":"INDEX('6 Defaults parameters'!$T$9:$Y$18,MATCH($D353,'6 Defaults parameters'!$B$9:$B$18,0),MATCH(AI$313,'6 Defaults parameters'!$T$8:$Y$8,0))*AB353/10^6","v":0},{"$f":"INDEX('6 Defaults parameters'!$T$9:$Y$18,MATCH($D353,'6 Defaults parameters'!$B$9:$B$18,0),MATCH(AJ$313,'6 Defaults parameters'!$T$8:$Y$8,0))*AC353/10^6","v":0},{"$f":"INDEX('6 Defaults parameters'!$T$9:$Y$18,MATCH($D353,'6 Defaults parameters'!$B$9:$B$18,0),MATCH(AK$313,'6 Defaults parameters'!$T$8:$Y$8,0))*AD353/10^6","v":0},{"$f":"INDEX('6 Defaults parameters'!$T$9:$Y$18,MATCH($D353,'6 Defaults parameters'!$B$9:$B$18,0),MATCH(AL$313,'6 Defaults parameters'!$T$8:$Y$8,0))*AE353/10^6","v":0},{"$f":"INDEX('6 Defaults parameters'!$T$9:$Y$18,MATCH($D353,'6 Defaults parameters'!$B$9:$B$18,0),MATCH(AM$313,'6 Defaults parameters'!$T$8:$Y$8,0))*AF353/10^6","v":0}]
[null,"Scenario 2)",{"$f":"LCV","v":"LCV"},{"$f":"RoadNG","v":"Road - NG"},{"$f":"NG","v":"NG"},0,{"$f":"IF('2B Input Climat Scen. Freight'!J128=\"\",SUMIFS('2B Input Climat Scen. Freight'!D$120:D$140,'2B Input Climat Scen. Freight'!$B$120:$B$140,'4B Calcul. Climat Scen.'!$C354,'2B Input Climat Scen. Freight'!$C$120:$C$140,'4B Calcul. Climat Scen.'!$E354),SUMIFS('2B Input Climat Scen. Freight'!J$120:J$140,'2B Input Climat Scen. Freight'!$B$120:$B$140,'4B Calcul. Climat Scen.'!$C354,'2B Input Climat Scen. Freight'!$C$120:$C$140,'4B Calcul. Climat Scen.'!$E354))","v":0},{"$f":"IF('2B Input Climat Scen. Freight'!K128=\"\",SUMIFS('2B Input Climat Scen. Freight'!E$120:E$140,'2B Input Climat Scen. Freight'!$B$120:$B$140,'4B Calcul. Climat Scen.'!$C354,'2B Input Climat Scen. Freight'!$C$120:$C$140,'4B Calcul. Climat Scen.'!$E354),SUMIFS('2B Input Climat Scen. Freight'!K$120:K$140,'2B Input Climat Scen. Freight'!$B$120:$B$140,'4B Calcul. Climat Scen.'!$C354,'2B Input Climat Scen. Freight'!$C$120:$C$140,'4B Calcul. Climat Scen.'!$E354))","v":0},{"$f":"IF('2B Input Climat Scen. Freight'!L128=\"\",SUMIFS('2B Input Climat Scen. Freight'!F$120:F$140,'2B Input Climat Scen. Freight'!$B$120:$B$140,'4B Calcul. Climat Scen.'!$C354,'2B Input Climat Scen. Freight'!$C$120:$C$140,'4B Calcul. Climat Scen.'!$E354),SUMIFS('2B Input Climat Scen. Freight'!L$120:L$140,'2B Input Climat Scen. Freight'!$B$120:$B$140,'4B Calcul. Climat Scen.'!$C354,'2B Input Climat Scen. Freight'!$C$120:$C$140,'4B Calcul. Climat Scen.'!$E354))","v":0},{"$f":"IF('2B Input Climat Scen. Freight'!M128=\"\",SUMIFS('2B Input Climat Scen. Freight'!G$120:G$140,'2B Input Climat Scen. Freight'!$B$120:$B$140,'4B Calcul. Climat Scen.'!$C354,'2B Input Climat Scen. Freight'!$C$120:$C$140,'4B Calcul. Climat Scen.'!$E354),SUMIFS('2B Input Climat Scen. Freight'!M$120:M$140,'2B Input Climat Scen. Freight'!$B$120:$B$140,'4B Calcul. Climat Scen.'!$C354,'2B Input Climat Scen. Freight'!$C$120:$C$140,'4B Calcul. Climat Scen.'!$E354))","v":0},{"$f":"IF('2B Input Climat Scen. Freight'!N128=\"\",SUMIFS('2B Input Climat Scen. Freight'!H$120:H$140,'2B Input Climat Scen. Freight'!$B$120:$B$140,'4B Calcul. Climat Scen.'!$C354,'2B Input Climat Scen. Freight'!$C$120:$C$140,'4B Calcul. Climat Scen.'!$E354),SUMIFS('2B Input Climat Scen. Freight'!N$120:N$140,'2B Input Climat Scen. Freight'!$B$120:$B$140,'4B Calcul. Climat Scen.'!$C354,'2B Input Climat Scen. Freight'!$C$120:$C$140,'4B Calcul. Climat Scen.'!$E354))","v":0},null,0,0,0,0,0,0,null,{"$f":"SUMIFS('4A Calcul. BAU city'!O$13:O$61,'4A Calcul. BAU city'!$C$13:$C$61,'4B Calcul. Climat Scen.'!$C354,'4A Calcul. BAU city'!$E$13:$E$61,'4B Calcul. Climat Scen.'!$E354)*M354/100","v":0},0,0,0,0,0,null,{"$f":"SUMIFS('4A Calcul. BAU city'!O$13:O$61,'4A Calcul. BAU city'!$C$13:$C$61,'4B Calcul. Climat Scen.'!$C354,'4A Calcul. BAU city'!$E$13:$E$61,'4B Calcul. Climat Scen.'!$E354)*M354/100*SUMIFS('4A Calcul. BAU city'!$V$13:$V$61,'4A Calcul. BAU city'!$C$13:$C$61,'4B Calcul. Climat Scen.'!$C354,'4A Calcul. BAU city'!$E$13:$E$61,'4B Calcul. Climat Scen.'!$E354)","v":0},{"$f":"U354*SUMIFS('4A Calcul. BAU city'!$V$13:$V$61,'4A Calcul. BAU city'!$C$13:$C$61,'4B Calcul. Climat Scen.'!$C354,'4A Calcul. BAU city'!$E$13:$E$61,'4B Calcul. Climat Scen.'!$E354)","v":0},{"$f":"V354*SUMIFS('4A Calcul. BAU city'!$V$13:$V$61,'4A Calcul. BAU city'!$C$13:$C$61,'4B Calcul. Climat Scen.'!$C354,'4A Calcul. BAU city'!$E$13:$E$61,'4B Calcul. Climat Scen.'!$E354)","v":0},{"$f":"W354*SUMIFS('4A Calcul. BAU city'!$V$13:$V$61,'4A Calcul. BAU city'!$C$13:$C$61,'4B Calcul. Climat Scen.'!$C354,'4A Calcul. BAU city'!$E$13:$E$61,'4B Calcul. Climat Scen.'!$E354)","v":0},{"$f":"X354*SUMIFS('4A Calcul. BAU city'!$V$13:$V$61,'4A Calcul. BAU city'!$C$13:$C$61,'4B Calcul. Climat Scen.'!$C354,'4A Calcul. BAU city'!$E$13:$E$61,'4B Calcul. Climat Scen.'!$E354)","v":0},{"$f":"Y354*SUMIFS('4A Calcul. BAU city'!$V$13:$V$61,'4A Calcul. BAU city'!$C$13:$C$61,'4B Calcul. Climat Scen.'!$C354,'4A Calcul. BAU city'!$E$13:$E$61,'4B Calcul. Climat Scen.'!$E354)","v":0},null,{"$f":"INDEX('6 Defaults parameters'!$T$9:$Y$18,MATCH($D354,'6 Defaults parameters'!$B$9:$B$18,0),MATCH(AH$313,'6 Defaults parameters'!$T$8:$Y$8,0))*AA354/10^6","v":0},{"$f":"INDEX('6 Defaults parameters'!$T$9:$Y$18,MATCH($D354,'6 Defaults parameters'!$B$9:$B$18,0),MATCH(AI$313,'6 Defaults parameters'!$T$8:$Y$8,0))*AB354/10^6","v":0},{"$f":"INDEX('6 Defaults parameters'!$T$9:$Y$18,MATCH($D354,'6 Defaults parameters'!$B$9:$B$18,0),MATCH(AJ$313,'6 Defaults parameters'!$T$8:$Y$8,0))*AC354/10^6","v":0},{"$f":"INDEX('6 Defaults parameters'!$T$9:$Y$18,MATCH($D354,'6 Defaults parameters'!$B$9:$B$18,0),MATCH(AK$313,'6 Defaults parameters'!$T$8:$Y$8,0))*AD354/10^6","v":0},{"$f":"INDEX('6 Defaults parameters'!$T$9:$Y$18,MATCH($D354,'6 Defaults parameters'!$B$9:$B$18,0),MATCH(AL$313,'6 Defaults parameters'!$T$8:$Y$8,0))*AE354/10^6","v":0},{"$f":"INDEX('6 Defaults parameters'!$T$9:$Y$18,MATCH($D354,'6 Defaults parameters'!$B$9:$B$18,0),MATCH(AM$313,'6 Defaults parameters'!$T$8:$Y$8,0))*AF354/10^6","v":0}]
[null,"Scenario 2)",{"$f":"LCV","v":"LCV"},{"$f":"Roadelec","v":"Road - Electric"},{"$f":"Electric","v":"Electric"},0,{"$f":"IF('2B Input Climat Scen. Freight'!J129=\"\",SUMIFS('2B Input Climat Scen. Freight'!D$120:D$140,'2B Input Climat Scen. Freight'!$B$120:$B$140,'4B Calcul. Climat Scen.'!$C355,'2B Input Climat Scen. Freight'!$C$120:$C$140,'4B Calcul. Climat Scen.'!$E355),SUMIFS('2B Input Climat Scen. Freight'!J$120:J$140,'2B Input Climat Scen. Freight'!$B$120:$B$140,'4B Calcul. Climat Scen.'!$C355,'2B Input Climat Scen. Freight'!$C$120:$C$140,'4B Calcul. Climat Scen.'!$E355))","v":0},{"$f":"IF('2B Input Climat Scen. Freight'!K129=\"\",SUMIFS('2B Input Climat Scen. Freight'!E$120:E$140,'2B Input Climat Scen. Freight'!$B$120:$B$140,'4B Calcul. Climat Scen.'!$C355,'2B Input Climat Scen. Freight'!$C$120:$C$140,'4B Calcul. Climat Scen.'!$E355),SUMIFS('2B Input Climat Scen. Freight'!K$120:K$140,'2B Input Climat Scen. Freight'!$B$120:$B$140,'4B Calcul. Climat Scen.'!$C355,'2B Input Climat Scen. Freight'!$C$120:$C$140,'4B Calcul. Climat Scen.'!$E355))","v":0},{"$f":"IF('2B Input Climat Scen. Freight'!L129=\"\",SUMIFS('2B Input Climat Scen. Freight'!F$120:F$140,'2B Input Climat Scen. Freight'!$B$120:$B$140,'4B Calcul. Climat Scen.'!$C355,'2B Input Climat Scen. Freight'!$C$120:$C$140,'4B Calcul. Climat Scen.'!$E355),SUMIFS('2B Input Climat Scen. Freight'!L$120:L$140,'2B Input Climat Scen. Freight'!$B$120:$B$140,'4B Calcul. Climat Scen.'!$C355,'2B Input Climat Scen. Freight'!$C$120:$C$140,'4B Calcul. Climat Scen.'!$E355))","v":0},{"$f":"IF('2B Input Climat Scen. Freight'!M129=\"\",SUMIFS('2B Input Climat Scen. Freight'!G$120:G$140,'2B Input Climat Scen. Freight'!$B$120:$B$140,'4B Calcul. Climat Scen.'!$C355,'2B Input Climat Scen. Freight'!$C$120:$C$140,'4B Calcul. Climat Scen.'!$E355),SUMIFS('2B Input Climat Scen. Freight'!M$120:M$140,'2B Input Climat Scen. Freight'!$B$120:$B$140,'4B Calcul. Climat Scen.'!$C355,'2B Input Climat Scen. Freight'!$C$120:$C$140,'4B Calcul. Climat Scen.'!$E355))","v":0},{"$f":"IF('2B Input Climat Scen. Freight'!N129=\"\",SUMIFS('2B Input Climat Scen. Freight'!H$120:H$140,'2B Input Climat Scen. Freight'!$B$120:$B$140,'4B Calcul. Climat Scen.'!$C355,'2B Input Climat Scen. Freight'!$C$120:$C$140,'4B Calcul. Climat Scen.'!$E355),SUMIFS('2B Input Climat Scen. Freight'!N$120:N$140,'2B Input Climat Scen. Freight'!$B$120:$B$140,'4B Calcul. Climat Scen.'!$C355,'2B Input Climat Scen. Freight'!$C$120:$C$140,'4B Calcul. Climat Scen.'!$E355))","v":0},null,0,0,0,0,0,0,null,{"$f":"SUMIFS('4A Calcul. BAU city'!O$13:O$61,'4A Calcul. BAU city'!$C$13:$C$61,'4B Calcul. Climat Scen.'!$C355,'4A Calcul. BAU city'!$E$13:$E$61,'4B Calcul. Climat Scen.'!$E355)*M355/100","v":0},0,0,0,0,0,null,{"$f":"SUMIFS('4A Calcul. BAU city'!O$13:O$61,'4A Calcul. BAU city'!$C$13:$C$61,'4B Calcul. Climat Scen.'!$C355,'4A Calcul. BAU city'!$E$13:$E$61,'4B Calcul. Climat Scen.'!$E355)*M355/100*SUMIFS('4A Calcul. BAU city'!$V$13:$V$61,'4A Calcul. BAU city'!$C$13:$C$61,'4B Calcul. Climat Scen.'!$C355,'4A Calcul. BAU city'!$E$13:$E$61,'4B Calcul. Climat Scen.'!$E355)","v":0},{"$f":"U355*SUMIFS('4A Calcul. BAU city'!$V$13:$V$61,'4A Calcul. BAU city'!$C$13:$C$61,'4B Calcul. Climat Scen.'!$C355,'4A Calcul. BAU city'!$E$13:$E$61,'4B Calcul. Climat Scen.'!$E355)","v":0},{"$f":"V355*SUMIFS('4A Calcul. BAU city'!$V$13:$V$61,'4A Calcul. BAU city'!$C$13:$C$61,'4B Calcul. Climat Scen.'!$C355,'4A Calcul. BAU city'!$E$13:$E$61,'4B Calcul. Climat Scen.'!$E355)","v":0},{"$f":"W355*SUMIFS('4A Calcul. BAU city'!$V$13:$V$61,'4A Calcul. BAU city'!$C$13:$C$61,'4B Calcul. Climat Scen.'!$C355,'4A Calcul. BAU city'!$E$13:$E$61,'4B Calcul. Climat Scen.'!$E355)","v":0},{"$f":"X355*SUMIFS('4A Calcul. BAU city'!$V$13:$V$61,'4A Calcul. BAU city'!$C$13:$C$61,'4B Calcul. Climat Scen.'!$C355,'4A Calcul. BAU city'!$E$13:$E$61,'4B Calcul. Climat Scen.'!$E355)","v":0},{"$f":"Y355*SUMIFS('4A Calcul. BAU city'!$V$13:$V$61,'4A Calcul. BAU city'!$C$13:$C$61,'4B Calcul. Climat Scen.'!$C355,'4A Calcul. BAU city'!$E$13:$E$61,'4B Calcul. Climat Scen.'!$E355)","v":0},null,{"$f":"INDEX('6 Defaults parameters'!$T$9:$Y$18,MATCH($D355,'6 Defaults parameters'!$B$9:$B$18,0),MATCH(AH$313,'6 Defaults parameters'!$T$8:$Y$8,0))*AA355/10^6","v":0},{"$f":"INDEX('6 Defaults parameters'!$T$9:$Y$18,MATCH($D355,'6 Defaults parameters'!$B$9:$B$18,0),MATCH(AI$313,'6 Defaults parameters'!$T$8:$Y$8,0))*AB355/10^6","v":0},{"$f":"INDEX('6 Defaults parameters'!$T$9:$Y$18,MATCH($D355,'6 Defaults parameters'!$B$9:$B$18,0),MATCH(AJ$313,'6 Defaults parameters'!$T$8:$Y$8,0))*AC355/10^6","v":0},{"$f":"INDEX('6 Defaults parameters'!$T$9:$Y$18,MATCH($D355,'6 Defaults parameters'!$B$9:$B$18,0),MATCH(AK$313,'6 Defaults parameters'!$T$8:$Y$8,0))*AD355/10^6","v":0},{"$f":"INDEX('6 Defaults parameters'!$T$9:$Y$18,MATCH($D355,'6 Defaults parameters'!$B$9:$B$18,0),MATCH(AL$313,'6 Defaults parameters'!$T$8:$Y$8,0))*AE355/10^6","v":0},{"$f":"INDEX('6 Defaults parameters'!$T$9:$Y$18,MATCH($D355,'6 Defaults parameters'!$B$9:$B$18,0),MATCH(AM$313,'6 Defaults parameters'!$T$8:$Y$8,0))*AF355/10^6","v":0}]
[null,"Scenario 2)",{"$f":"Solo","v":"Solo truck"},{"$f":"RoadD","v":"Road - Diesel"},{"$f":"Diesel","v":"Diesel"},0,{"$f":"IF('2B Input Climat Scen. Freight'!J131=\"\",SUMIFS('2B Input Climat Scen. Freight'!D$120:D$140,'2B Input Climat Scen. Freight'!$B$120:$B$140,'4B Calcul. Climat Scen.'!$C356,'2B Input Climat Scen. Freight'!$C$120:$C$140,'4B Calcul. Climat Scen.'!$E356),SUMIFS('2B Input Climat Scen. Freight'!J$120:J$140,'2B Input Climat Scen. Freight'!$B$120:$B$140,'4B Calcul. Climat Scen.'!$C356,'2B Input Climat Scen. Freight'!$C$120:$C$140,'4B Calcul. Climat Scen.'!$E356))","v":0},{"$f":"IF('2B Input Climat Scen. Freight'!K131=\"\",SUMIFS('2B Input Climat Scen. Freight'!E$120:E$140,'2B Input Climat Scen. Freight'!$B$120:$B$140,'4B Calcul. Climat Scen.'!$C356,'2B Input Climat Scen. Freight'!$C$120:$C$140,'4B Calcul. Climat Scen.'!$E356),SUMIFS('2B Input Climat Scen. Freight'!K$120:K$140,'2B Input Climat Scen. Freight'!$B$120:$B$140,'4B Calcul. Climat Scen.'!$C356,'2B Input Climat Scen. Freight'!$C$120:$C$140,'4B Calcul. Climat Scen.'!$E356))","v":0},{"$f":"IF('2B Input Climat Scen. Freight'!L131=\"\",SUMIFS('2B Input Climat Scen. Freight'!F$120:F$140,'2B Input Climat Scen. Freight'!$B$120:$B$140,'4B Calcul. Climat Scen.'!$C356,'2B Input Climat Scen. Freight'!$C$120:$C$140,'4B Calcul. Climat Scen.'!$E356),SUMIFS('2B Input Climat Scen. Freight'!L$120:L$140,'2B Input Climat Scen. Freight'!$B$120:$B$140,'4B Calcul. Climat Scen.'!$C356,'2B Input Climat Scen. Freight'!$C$120:$C$140,'4B Calcul. Climat Scen.'!$E356))","v":0},{"$f":"IF('2B Input Climat Scen. Freight'!M131=\"\",SUMIFS('2B Input Climat Scen. Freight'!G$120:G$140,'2B Input Climat Scen. Freight'!$B$120:$B$140,'4B Calcul. Climat Scen.'!$C356,'2B Input Climat Scen. Freight'!$C$120:$C$140,'4B Calcul. Climat Scen.'!$E356),SUMIFS('2B Input Climat Scen. Freight'!M$120:M$140,'2B Input Climat Scen. Freight'!$B$120:$B$140,'4B Calcul. Climat Scen.'!$C356,'2B Input Climat Scen. Freight'!$C$120:$C$140,'4B Calcul. Climat Scen.'!$E356))","v":0},{"$f":"IF('2B Input Climat Scen. Freight'!N131=\"\",SUMIFS('2B Input Climat Scen. Freight'!H$120:H$140,'2B Input Climat Scen. Freight'!$B$120:$B$140,'4B Calcul. Climat Scen.'!$C356,'2B Input Climat Scen. Freight'!$C$120:$C$140,'4B Calcul. Climat Scen.'!$E356),SUMIFS('2B Input Climat Scen. Freight'!N$120:N$140,'2B Input Climat Scen. Freight'!$B$120:$B$140,'4B Calcul. Climat Scen.'!$C356,'2B Input Climat Scen. Freight'!$C$120:$C$140,'4B Calcul. Climat Scen.'!$E356))","v":0},null,0,0,0,0,0,0,null,{"$f":"SUMIFS('4A Calcul. BAU city'!O$13:O$61,'4A Calcul. BAU city'!$C$13:$C$61,'4B Calcul. Climat Scen.'!$C356,'4A Calcul. BAU city'!$E$13:$E$61,'4B Calcul. Climat Scen.'!$E356)*M356/100","v":0},0,0,0,0,0,null,{"$f":"SUMIFS('4A Calcul. BAU city'!O$13:O$61,'4A Calcul. BAU city'!$C$13:$C$61,'4B Calcul. Climat Scen.'!$C356,'4A Calcul. BAU city'!$E$13:$E$61,'4B Calcul. Climat Scen.'!$E356)*M356/100*SUMIFS('4A Calcul. BAU city'!$V$13:$V$61,'4A Calcul. BAU city'!$C$13:$C$61,'4B Calcul. Climat Scen.'!$C356,'4A Calcul. BAU city'!$E$13:$E$61,'4B Calcul. Climat Scen.'!$E356)","v":0},{"$f":"U356*SUMIFS('4A Calcul. BAU city'!$V$13:$V$61,'4A Calcul. BAU city'!$C$13:$C$61,'4B Calcul. Climat Scen.'!$C356,'4A Calcul. BAU city'!$E$13:$E$61,'4B Calcul. Climat Scen.'!$E356)","v":0},{"$f":"V356*SUMIFS('4A Calcul. BAU city'!$V$13:$V$61,'4A Calcul. BAU city'!$C$13:$C$61,'4B Calcul. Climat Scen.'!$C356,'4A Calcul. BAU city'!$E$13:$E$61,'4B Calcul. Climat Scen.'!$E356)","v":0},{"$f":"W356*SUMIFS('4A Calcul. BAU city'!$V$13:$V$61,'4A Calcul. BAU city'!$C$13:$C$61,'4B Calcul. Climat Scen.'!$C356,'4A Calcul. BAU city'!$E$13:$E$61,'4B Calcul. Climat Scen.'!$E356)","v":0},{"$f":"X356*SUMIFS('4A Calcul. BAU city'!$V$13:$V$61,'4A Calcul. BAU city'!$C$13:$C$61,'4B Calcul. Climat Scen.'!$C356,'4A Calcul. BAU city'!$E$13:$E$61,'4B Calcul. Climat Scen.'!$E356)","v":0},{"$f":"Y356*SUMIFS('4A Calcul. BAU city'!$V$13:$V$61,'4A Calcul. BAU city'!$C$13:$C$61,'4B Calcul. Climat Scen.'!$C356,'4A Calcul. BAU city'!$E$13:$E$61,'4B Calcul. Climat Scen.'!$E356)","v":0},null,{"$f":"INDEX('6 Defaults parameters'!$T$9:$Y$18,MATCH($D356,'6 Defaults parameters'!$B$9:$B$18,0),MATCH(AH$313,'6 Defaults parameters'!$T$8:$Y$8,0))*AA356/10^6","v":0},{"$f":"INDEX('6 Defaults parameters'!$T$9:$Y$18,MATCH($D356,'6 Defaults parameters'!$B$9:$B$18,0),MATCH(AI$313,'6 Defaults parameters'!$T$8:$Y$8,0))*AB356/10^6","v":0},{"$f":"INDEX('6 Defaults parameters'!$T$9:$Y$18,MATCH($D356,'6 Defaults parameters'!$B$9:$B$18,0),MATCH(AJ$313,'6 Defaults parameters'!$T$8:$Y$8,0))*AC356/10^6","v":0},{"$f":"INDEX('6 Defaults parameters'!$T$9:$Y$18,MATCH($D356,'6 Defaults parameters'!$B$9:$B$18,0),MATCH(AK$313,'6 Defaults parameters'!$T$8:$Y$8,0))*AD356/10^6","v":0},{"$f":"INDEX('6 Defaults parameters'!$T$9:$Y$18,MATCH($D356,'6 Defaults parameters'!$B$9:$B$18,0),MATCH(AL$313,'6 Defaults parameters'!$T$8:$Y$8,0))*AE356/10^6","v":0},{"$f":"INDEX('6 Defaults parameters'!$T$9:$Y$18,MATCH($D356,'6 Defaults parameters'!$B$9:$B$18,0),MATCH(AM$313,'6 Defaults parameters'!$T$8:$Y$8,0))*AF356/10^6","v":0}]
[null,"Scenario 2)",{"$f":"Solo","v":"Solo truck"},{"$f":"RoadNG","v":"Road - NG"},{"$f":"NG","v":"NG"},0,{"$f":"IF('2B Input Climat Scen. Freight'!J132=\"\",SUMIFS('2B Input Climat Scen. Freight'!D$120:D$140,'2B Input Climat Scen. Freight'!$B$120:$B$140,'4B Calcul. Climat Scen.'!$C357,'2B Input Climat Scen. Freight'!$C$120:$C$140,'4B Calcul. Climat Scen.'!$E357),SUMIFS('2B Input Climat Scen. Freight'!J$120:J$140,'2B Input Climat Scen. Freight'!$B$120:$B$140,'4B Calcul. Climat Scen.'!$C357,'2B Input Climat Scen. Freight'!$C$120:$C$140,'4B Calcul. Climat Scen.'!$E357))","v":0},{"$f":"IF('2B Input Climat Scen. Freight'!K132=\"\",SUMIFS('2B Input Climat Scen. Freight'!E$120:E$140,'2B Input Climat Scen. Freight'!$B$120:$B$140,'4B Calcul. Climat Scen.'!$C357,'2B Input Climat Scen. Freight'!$C$120:$C$140,'4B Calcul. Climat Scen.'!$E357),SUMIFS('2B Input Climat Scen. Freight'!K$120:K$140,'2B Input Climat Scen. Freight'!$B$120:$B$140,'4B Calcul. Climat Scen.'!$C357,'2B Input Climat Scen. Freight'!$C$120:$C$140,'4B Calcul. Climat Scen.'!$E357))","v":0},{"$f":"IF('2B Input Climat Scen. Freight'!L132=\"\",SUMIFS('2B Input Climat Scen. Freight'!F$120:F$140,'2B Input Climat Scen. Freight'!$B$120:$B$140,'4B Calcul. Climat Scen.'!$C357,'2B Input Climat Scen. Freight'!$C$120:$C$140,'4B Calcul. Climat Scen.'!$E357),SUMIFS('2B Input Climat Scen. Freight'!L$120:L$140,'2B Input Climat Scen. Freight'!$B$120:$B$140,'4B Calcul. Climat Scen.'!$C357,'2B Input Climat Scen. Freight'!$C$120:$C$140,'4B Calcul. Climat Scen.'!$E357))","v":0},{"$f":"IF('2B Input Climat Scen. Freight'!M132=\"\",SUMIFS('2B Input Climat Scen. Freight'!G$120:G$140,'2B Input Climat Scen. Freight'!$B$120:$B$140,'4B Calcul. Climat Scen.'!$C357,'2B Input Climat Scen. Freight'!$C$120:$C$140,'4B Calcul. Climat Scen.'!$E357),SUMIFS('2B Input Climat Scen. Freight'!M$120:M$140,'2B Input Climat Scen. Freight'!$B$120:$B$140,'4B Calcul. Climat Scen.'!$C357,'2B Input Climat Scen. Freight'!$C$120:$C$140,'4B Calcul. Climat Scen.'!$E357))","v":0},{"$f":"IF('2B Input Climat Scen. Freight'!N132=\"\",SUMIFS('2B Input Climat Scen. Freight'!H$120:H$140,'2B Input Climat Scen. Freight'!$B$120:$B$140,'4B Calcul. Climat Scen.'!$C357,'2B Input Climat Scen. Freight'!$C$120:$C$140,'4B Calcul. Climat Scen.'!$E357),SUMIFS('2B Input Climat Scen. Freight'!N$120:N$140,'2B Input Climat Scen. Freight'!$B$120:$B$140,'4B Calcul. Climat Scen.'!$C357,'2B Input Climat Scen. Freight'!$C$120:$C$140,'4B Calcul. Climat Scen.'!$E357))","v":0},null,0,0,0,0,0,0,null,{"$f":"SUMIFS('4A Calcul. BAU city'!O$13:O$61,'4A Calcul. BAU city'!$C$13:$C$61,'4B Calcul. Climat Scen.'!$C357,'4A Calcul. BAU city'!$E$13:$E$61,'4B Calcul. Climat Scen.'!$E357)*M357/100","v":0},0,0,0,0,0,null,{"$f":"SUMIFS('4A Calcul. BAU city'!O$13:O$61,'4A Calcul. BAU city'!$C$13:$C$61,'4B Calcul. Climat Scen.'!$C357,'4A Calcul. BAU city'!$E$13:$E$61,'4B Calcul. Climat Scen.'!$E357)*M357/100*SUMIFS('4A Calcul. BAU city'!$V$13:$V$61,'4A Calcul. BAU city'!$C$13:$C$61,'4B Calcul. Climat Scen.'!$C357,'4A Calcul. BAU city'!$E$13:$E$61,'4B Calcul. Climat Scen.'!$E357)","v":0},{"$f":"U357*SUMIFS('4A Calcul. BAU city'!$V$13:$V$61,'4A Calcul. BAU city'!$C$13:$C$61,'4B Calcul. Climat Scen.'!$C357,'4A Calcul. BAU city'!$E$13:$E$61,'4B Calcul. Climat Scen.'!$E357)","v":0},{"$f":"V357*SUMIFS('4A Calcul. BAU city'!$V$13:$V$61,'4A Calcul. BAU city'!$C$13:$C$61,'4B Calcul. Climat Scen.'!$C357,'4A Calcul. BAU city'!$E$13:$E$61,'4B Calcul. Climat Scen.'!$E357)","v":0},{"$f":"W357*SUMIFS('4A Calcul. BAU city'!$V$13:$V$61,'4A Calcul. BAU city'!$C$13:$C$61,'4B Calcul. Climat Scen.'!$C357,'4A Calcul. BAU city'!$E$13:$E$61,'4B Calcul. Climat Scen.'!$E357)","v":0},{"$f":"X357*SUMIFS('4A Calcul. BAU city'!$V$13:$V$61,'4A Calcul. BAU city'!$C$13:$C$61,'4B Calcul. Climat Scen.'!$C357,'4A Calcul. BAU city'!$E$13:$E$61,'4B Calcul. Climat Scen.'!$E357)","v":0},{"$f":"Y357*SUMIFS('4A Calcul. BAU city'!$V$13:$V$61,'4A Calcul. BAU city'!$C$13:$C$61,'4B Calcul. Climat Scen.'!$C357,'4A Calcul. BAU city'!$E$13:$E$61,'4B Calcul. Climat Scen.'!$E357)","v":0},null,{"$f":"INDEX('6 Defaults parameters'!$T$9:$Y$18,MATCH($D357,'6 Defaults parameters'!$B$9:$B$18,0),MATCH(AH$313,'6 Defaults parameters'!$T$8:$Y$8,0))*AA357/10^6","v":0},{"$f":"INDEX('6 Defaults parameters'!$T$9:$Y$18,MATCH($D357,'6 Defaults parameters'!$B$9:$B$18,0),MATCH(AI$313,'6 Defaults parameters'!$T$8:$Y$8,0))*AB357/10^6","v":0},{"$f":"INDEX('6 Defaults parameters'!$T$9:$Y$18,MATCH($D357,'6 Defaults parameters'!$B$9:$B$18,0),MATCH(AJ$313,'6 Defaults parameters'!$T$8:$Y$8,0))*AC357/10^6","v":0},{"$f":"INDEX('6 Defaults parameters'!$T$9:$Y$18,MATCH($D357,'6 Defaults parameters'!$B$9:$B$18,0),MATCH(AK$313,'6 Defaults parameters'!$T$8:$Y$8,0))*AD357/10^6","v":0},{"$f":"INDEX('6 Defaults parameters'!$T$9:$Y$18,MATCH($D357,'6 Defaults parameters'!$B$9:$B$18,0),MATCH(AL$313,'6 Defaults parameters'!$T$8:$Y$8,0))*AE357/10^6","v":0},{"$f":"INDEX('6 Defaults parameters'!$T$9:$Y$18,MATCH($D357,'6 Defaults parameters'!$B$9:$B$18,0),MATCH(AM$313,'6 Defaults parameters'!$T$8:$Y$8,0))*AF357/10^6","v":0}]
[null,"Scenario 2)",{"$f":"Solo","v":"Solo truck"},{"$f":"Roadelec","v":"Road - Electric"},{"$f":"Electric","v":"Electric"},0,{"$f":"IF('2B Input Climat Scen. Freight'!J133=\"\",SUMIFS('2B Input Climat Scen. Freight'!D$120:D$140,'2B Input Climat Scen. Freight'!$B$120:$B$140,'4B Calcul. Climat Scen.'!$C358,'2B Input Climat Scen. Freight'!$C$120:$C$140,'4B Calcul. Climat Scen.'!$E358),SUMIFS('2B Input Climat Scen. Freight'!J$120:J$140,'2B Input Climat Scen. Freight'!$B$120:$B$140,'4B Calcul. Climat Scen.'!$C358,'2B Input Climat Scen. Freight'!$C$120:$C$140,'4B Calcul. Climat Scen.'!$E358))","v":0},{"$f":"IF('2B Input Climat Scen. Freight'!K133=\"\",SUMIFS('2B Input Climat Scen. Freight'!E$120:E$140,'2B Input Climat Scen. Freight'!$B$120:$B$140,'4B Calcul. Climat Scen.'!$C358,'2B Input Climat Scen. Freight'!$C$120:$C$140,'4B Calcul. Climat Scen.'!$E358),SUMIFS('2B Input Climat Scen. Freight'!K$120:K$140,'2B Input Climat Scen. Freight'!$B$120:$B$140,'4B Calcul. Climat Scen.'!$C358,'2B Input Climat Scen. Freight'!$C$120:$C$140,'4B Calcul. Climat Scen.'!$E358))","v":0},{"$f":"IF('2B Input Climat Scen. Freight'!L133=\"\",SUMIFS('2B Input Climat Scen. Freight'!F$120:F$140,'2B Input Climat Scen. Freight'!$B$120:$B$140,'4B Calcul. Climat Scen.'!$C358,'2B Input Climat Scen. Freight'!$C$120:$C$140,'4B Calcul. Climat Scen.'!$E358),SUMIFS('2B Input Climat Scen. Freight'!L$120:L$140,'2B Input Climat Scen. Freight'!$B$120:$B$140,'4B Calcul. Climat Scen.'!$C358,'2B Input Climat Scen. Freight'!$C$120:$C$140,'4B Calcul. Climat Scen.'!$E358))","v":0},{"$f":"IF('2B Input Climat Scen. Freight'!M133=\"\",SUMIFS('2B Input Climat Scen. Freight'!G$120:G$140,'2B Input Climat Scen. Freight'!$B$120:$B$140,'4B Calcul. Climat Scen.'!$C358,'2B Input Climat Scen. Freight'!$C$120:$C$140,'4B Calcul. Climat Scen.'!$E358),SUMIFS('2B Input Climat Scen. Freight'!M$120:M$140,'2B Input Climat Scen. Freight'!$B$120:$B$140,'4B Calcul. Climat Scen.'!$C358,'2B Input Climat Scen. Freight'!$C$120:$C$140,'4B Calcul. Climat Scen.'!$E358))","v":0},{"$f":"IF('2B Input Climat Scen. Freight'!N133=\"\",SUMIFS('2B Input Climat Scen. Freight'!H$120:H$140,'2B Input Climat Scen. Freight'!$B$120:$B$140,'4B Calcul. Climat Scen.'!$C358,'2B Input Climat Scen. Freight'!$C$120:$C$140,'4B Calcul. Climat Scen.'!$E358),SUMIFS('2B Input Climat Scen. Freight'!N$120:N$140,'2B Input Climat Scen. Freight'!$B$120:$B$140,'4B Calcul. Climat Scen.'!$C358,'2B Input Climat Scen. Freight'!$C$120:$C$140,'4B Calcul. Climat Scen.'!$E358))","v":0},null,0,0,0,0,0,0,null,{"$f":"SUMIFS('4A Calcul. BAU city'!O$13:O$61,'4A Calcul. BAU city'!$C$13:$C$61,'4B Calcul. Climat Scen.'!$C358,'4A Calcul. BAU city'!$E$13:$E$61,'4B Calcul. Climat Scen.'!$E358)*M358/100","v":0},0,0,0,0,0,null,{"$f":"SUMIFS('4A Calcul. BAU city'!O$13:O$61,'4A Calcul. BAU city'!$C$13:$C$61,'4B Calcul. Climat Scen.'!$C358,'4A Calcul. BAU city'!$E$13:$E$61,'4B Calcul. Climat Scen.'!$E358)*M358/100*SUMIFS('4A Calcul. BAU city'!$V$13:$V$61,'4A Calcul. BAU city'!$C$13:$C$61,'4B Calcul. Climat Scen.'!$C358,'4A Calcul. BAU city'!$E$13:$E$61,'4B Calcul. Climat Scen.'!$E358)","v":0},{"$f":"U358*SUMIFS('4A Calcul. BAU city'!$V$13:$V$61,'4A Calcul. BAU city'!$C$13:$C$61,'4B Calcul. Climat Scen.'!$C358,'4A Calcul. BAU city'!$E$13:$E$61,'4B Calcul. Climat Scen.'!$E358)","v":0},{"$f":"V358*SUMIFS('4A Calcul. BAU city'!$V$13:$V$61,'4A Calcul. BAU city'!$C$13:$C$61,'4B Calcul. Climat Scen.'!$C358,'4A Calcul. BAU city'!$E$13:$E$61,'4B Calcul. Climat Scen.'!$E358)","v":0},{"$f":"W358*SUMIFS('4A Calcul. BAU city'!$V$13:$V$61,'4A Calcul. BAU city'!$C$13:$C$61,'4B Calcul. Climat Scen.'!$C358,'4A Calcul. BAU city'!$E$13:$E$61,'4B Calcul. Climat Scen.'!$E358)","v":0},{"$f":"X358*SUMIFS('4A Calcul. BAU city'!$V$13:$V$61,'4A Calcul. BAU city'!$C$13:$C$61,'4B Calcul. Climat Scen.'!$C358,'4A Calcul. BAU city'!$E$13:$E$61,'4B Calcul. Climat Scen.'!$E358)","v":0},{"$f":"Y358*SUMIFS('4A Calcul. BAU city'!$V$13:$V$61,'4A Calcul. BAU city'!$C$13:$C$61,'4B Calcul. Climat Scen.'!$C358,'4A Calcul. BAU city'!$E$13:$E$61,'4B Calcul. Climat Scen.'!$E358)","v":0},null,{"$f":"INDEX('6 Defaults parameters'!$T$9:$Y$18,MATCH($D358,'6 Defaults parameters'!$B$9:$B$18,0),MATCH(AH$313,'6 Defaults parameters'!$T$8:$Y$8,0))*AA358/10^6","v":0},{"$f":"INDEX('6 Defaults parameters'!$T$9:$Y$18,MATCH($D358,'6 Defaults parameters'!$B$9:$B$18,0),MATCH(AI$313,'6 Defaults parameters'!$T$8:$Y$8,0))*AB358/10^6","v":0},{"$f":"INDEX('6 Defaults parameters'!$T$9:$Y$18,MATCH($D358,'6 Defaults parameters'!$B$9:$B$18,0),MATCH(AJ$313,'6 Defaults parameters'!$T$8:$Y$8,0))*AC358/10^6","v":0},{"$f":"INDEX('6 Defaults parameters'!$T$9:$Y$18,MATCH($D358,'6 Defaults parameters'!$B$9:$B$18,0),MATCH(AK$313,'6 Defaults parameters'!$T$8:$Y$8,0))*AD358/10^6","v":0},{"$f":"INDEX('6 Defaults parameters'!$T$9:$Y$18,MATCH($D358,'6 Defaults parameters'!$B$9:$B$18,0),MATCH(AL$313,'6 Defaults parameters'!$T$8:$Y$8,0))*AE358/10^6","v":0},{"$f":"INDEX('6 Defaults parameters'!$T$9:$Y$18,MATCH($D358,'6 Defaults parameters'!$B$9:$B$18,0),MATCH(AM$313,'6 Defaults parameters'!$T$8:$Y$8,0))*AF358/10^6","v":0}]
[null,"Scenario 2)",{"$f":"Atruck","v":"Articulated truck"},{"$f":"RoadD","v":"Road - Diesel"},{"$f":"Diesel","v":"Diesel"},0,{"$f":"IF('2B Input Climat Scen. Freight'!J135=\"\",SUMIFS('2B Input Climat Scen. Freight'!D$120:D$140,'2B Input Climat Scen. Freight'!$B$120:$B$140,'4B Calcul. Climat Scen.'!$C359,'2B Input Climat Scen. Freight'!$C$120:$C$140,'4B Calcul. Climat Scen.'!$E359),SUMIFS('2B Input Climat Scen. Freight'!J$120:J$140,'2B Input Climat Scen. Freight'!$B$120:$B$140,'4B Calcul. Climat Scen.'!$C359,'2B Input Climat Scen. Freight'!$C$120:$C$140,'4B Calcul. Climat Scen.'!$E359))","v":0},{"$f":"IF('2B Input Climat Scen. Freight'!K135=\"\",SUMIFS('2B Input Climat Scen. Freight'!E$120:E$140,'2B Input Climat Scen. Freight'!$B$120:$B$140,'4B Calcul. Climat Scen.'!$C359,'2B Input Climat Scen. Freight'!$C$120:$C$140,'4B Calcul. Climat Scen.'!$E359),SUMIFS('2B Input Climat Scen. Freight'!K$120:K$140,'2B Input Climat Scen. Freight'!$B$120:$B$140,'4B Calcul. Climat Scen.'!$C359,'2B Input Climat Scen. Freight'!$C$120:$C$140,'4B Calcul. Climat Scen.'!$E359))","v":0},{"$f":"IF('2B Input Climat Scen. Freight'!L135=\"\",SUMIFS('2B Input Climat Scen. Freight'!F$120:F$140,'2B Input Climat Scen. Freight'!$B$120:$B$140,'4B Calcul. Climat Scen.'!$C359,'2B Input Climat Scen. Freight'!$C$120:$C$140,'4B Calcul. Climat Scen.'!$E359),SUMIFS('2B Input Climat Scen. Freight'!L$120:L$140,'2B Input Climat Scen. Freight'!$B$120:$B$140,'4B Calcul. Climat Scen.'!$C359,'2B Input Climat Scen. Freight'!$C$120:$C$140,'4B Calcul. Climat Scen.'!$E359))","v":0},{"$f":"IF('2B Input Climat Scen. Freight'!M135=\"\",SUMIFS('2B Input Climat Scen. Freight'!G$120:G$140,'2B Input Climat Scen. Freight'!$B$120:$B$140,'4B Calcul. Climat Scen.'!$C359,'2B Input Climat Scen. Freight'!$C$120:$C$140,'4B Calcul. Climat Scen.'!$E359),SUMIFS('2B Input Climat Scen. Freight'!M$120:M$140,'2B Input Climat Scen. Freight'!$B$120:$B$140,'4B Calcul. Climat Scen.'!$C359,'2B Input Climat Scen. Freight'!$C$120:$C$140,'4B Calcul. Climat Scen.'!$E359))","v":0},{"$f":"IF('2B Input Climat Scen. Freight'!N135=\"\",SUMIFS('2B Input Climat Scen. Freight'!H$120:H$140,'2B Input Climat Scen. Freight'!$B$120:$B$140,'4B Calcul. Climat Scen.'!$C359,'2B Input Climat Scen. Freight'!$C$120:$C$140,'4B Calcul. Climat Scen.'!$E359),SUMIFS('2B Input Climat Scen. Freight'!N$120:N$140,'2B Input Climat Scen. Freight'!$B$120:$B$140,'4B Calcul. Climat Scen.'!$C359,'2B Input Climat Scen. Freight'!$C$120:$C$140,'4B Calcul. Climat Scen.'!$E359))","v":0},null,0,0,0,0,0,0,null,{"$f":"SUMIFS('4A Calcul. BAU city'!O$13:O$61,'4A Calcul. BAU city'!$C$13:$C$61,'4B Calcul. Climat Scen.'!$C359,'4A Calcul. BAU city'!$E$13:$E$61,'4B Calcul. Climat Scen.'!$E359)*M359/100","v":0},0,0,0,0,0,null,{"$f":"SUMIFS('4A Calcul. BAU city'!O$13:O$61,'4A Calcul. BAU city'!$C$13:$C$61,'4B Calcul. Climat Scen.'!$C359,'4A Calcul. BAU city'!$E$13:$E$61,'4B Calcul. Climat Scen.'!$E359)*M359/100*SUMIFS('4A Calcul. BAU city'!$V$13:$V$61,'4A Calcul. BAU city'!$C$13:$C$61,'4B Calcul. Climat Scen.'!$C359,'4A Calcul. BAU city'!$E$13:$E$61,'4B Calcul. Climat Scen.'!$E359)","v":0},{"$f":"U359*SUMIFS('4A Calcul. BAU city'!$V$13:$V$61,'4A Calcul. BAU city'!$C$13:$C$61,'4B Calcul. Climat Scen.'!$C359,'4A Calcul. BAU city'!$E$13:$E$61,'4B Calcul. Climat Scen.'!$E359)","v":0},{"$f":"V359*SUMIFS('4A Calcul. BAU city'!$V$13:$V$61,'4A Calcul. BAU city'!$C$13:$C$61,'4B Calcul. Climat Scen.'!$C359,'4A Calcul. BAU city'!$E$13:$E$61,'4B Calcul. Climat Scen.'!$E359)","v":0},{"$f":"W359*SUMIFS('4A Calcul. BAU city'!$V$13:$V$61,'4A Calcul. BAU city'!$C$13:$C$61,'4B Calcul. Climat Scen.'!$C359,'4A Calcul. BAU city'!$E$13:$E$61,'4B Calcul. Climat Scen.'!$E359)","v":0},{"$f":"X359*SUMIFS('4A Calcul. BAU city'!$V$13:$V$61,'4A Calcul. BAU city'!$C$13:$C$61,'4B Calcul. Climat Scen.'!$C359,'4A Calcul. BAU city'!$E$13:$E$61,'4B Calcul. Climat Scen.'!$E359)","v":0},{"$f":"Y359*SUMIFS('4A Calcul. BAU city'!$V$13:$V$61,'4A Calcul. BAU city'!$C$13:$C$61,'4B Calcul. Climat Scen.'!$C359,'4A Calcul. BAU city'!$E$13:$E$61,'4B Calcul. Climat Scen.'!$E359)","v":0},null,{"$f":"INDEX('6 Defaults parameters'!$T$9:$Y$18,MATCH($D359,'6 Defaults parameters'!$B$9:$B$18,0),MATCH(AH$313,'6 Defaults parameters'!$T$8:$Y$8,0))*AA359/10^6","v":0},{"$f":"INDEX('6 Defaults parameters'!$T$9:$Y$18,MATCH($D359,'6 Defaults parameters'!$B$9:$B$18,0),MATCH(AI$313,'6 Defaults parameters'!$T$8:$Y$8,0))*AB359/10^6","v":0},{"$f":"INDEX('6 Defaults parameters'!$T$9:$Y$18,MATCH($D359,'6 Defaults parameters'!$B$9:$B$18,0),MATCH(AJ$313,'6 Defaults parameters'!$T$8:$Y$8,0))*AC359/10^6","v":0},{"$f":"INDEX('6 Defaults parameters'!$T$9:$Y$18,MATCH($D359,'6 Defaults parameters'!$B$9:$B$18,0),MATCH(AK$313,'6 Defaults parameters'!$T$8:$Y$8,0))*AD359/10^6","v":0},{"$f":"INDEX('6 Defaults parameters'!$T$9:$Y$18,MATCH($D359,'6 Defaults parameters'!$B$9:$B$18,0),MATCH(AL$313,'6 Defaults parameters'!$T$8:$Y$8,0))*AE359/10^6","v":0},{"$f":"INDEX('6 Defaults parameters'!$T$9:$Y$18,MATCH($D359,'6 Defaults parameters'!$B$9:$B$18,0),MATCH(AM$313,'6 Defaults parameters'!$T$8:$Y$8,0))*AF359/10^6","v":0}]
[null,"Scenario 2)",{"$f":"Atruck","v":"Articulated truck"},{"$f":"RoadNG","v":"Road - NG"},{"$f":"NG","v":"NG"},0,{"$f":"IF('2B Input Climat Scen. Freight'!J136=\"\",SUMIFS('2B Input Climat Scen. Freight'!D$120:D$140,'2B Input Climat Scen. Freight'!$B$120:$B$140,'4B Calcul. Climat Scen.'!$C360,'2B Input Climat Scen. Freight'!$C$120:$C$140,'4B Calcul. Climat Scen.'!$E360),SUMIFS('2B Input Climat Scen. Freight'!J$120:J$140,'2B Input Climat Scen. Freight'!$B$120:$B$140,'4B Calcul. Climat Scen.'!$C360,'2B Input Climat Scen. Freight'!$C$120:$C$140,'4B Calcul. Climat Scen.'!$E360))","v":0},{"$f":"IF('2B Input Climat Scen. Freight'!K136=\"\",SUMIFS('2B Input Climat Scen. Freight'!E$120:E$140,'2B Input Climat Scen. Freight'!$B$120:$B$140,'4B Calcul. Climat Scen.'!$C360,'2B Input Climat Scen. Freight'!$C$120:$C$140,'4B Calcul. Climat Scen.'!$E360),SUMIFS('2B Input Climat Scen. Freight'!K$120:K$140,'2B Input Climat Scen. Freight'!$B$120:$B$140,'4B Calcul. Climat Scen.'!$C360,'2B Input Climat Scen. Freight'!$C$120:$C$140,'4B Calcul. Climat Scen.'!$E360))","v":0},{"$f":"IF('2B Input Climat Scen. Freight'!L136=\"\",SUMIFS('2B Input Climat Scen. Freight'!F$120:F$140,'2B Input Climat Scen. Freight'!$B$120:$B$140,'4B Calcul. Climat Scen.'!$C360,'2B Input Climat Scen. Freight'!$C$120:$C$140,'4B Calcul. Climat Scen.'!$E360),SUMIFS('2B Input Climat Scen. Freight'!L$120:L$140,'2B Input Climat Scen. Freight'!$B$120:$B$140,'4B Calcul. Climat Scen.'!$C360,'2B Input Climat Scen. Freight'!$C$120:$C$140,'4B Calcul. Climat Scen.'!$E360))","v":0},{"$f":"IF('2B Input Climat Scen. Freight'!M136=\"\",SUMIFS('2B Input Climat Scen. Freight'!G$120:G$140,'2B Input Climat Scen. Freight'!$B$120:$B$140,'4B Calcul. Climat Scen.'!$C360,'2B Input Climat Scen. Freight'!$C$120:$C$140,'4B Calcul. Climat Scen.'!$E360),SUMIFS('2B Input Climat Scen. Freight'!M$120:M$140,'2B Input Climat Scen. Freight'!$B$120:$B$140,'4B Calcul. Climat Scen.'!$C360,'2B Input Climat Scen. Freight'!$C$120:$C$140,'4B Calcul. Climat Scen.'!$E360))","v":0},{"$f":"IF('2B Input Climat Scen. Freight'!N136=\"\",SUMIFS('2B Input Climat Scen. Freight'!H$120:H$140,'2B Input Climat Scen. Freight'!$B$120:$B$140,'4B Calcul. Climat Scen.'!$C360,'2B Input Climat Scen. Freight'!$C$120:$C$140,'4B Calcul. Climat Scen.'!$E360),SUMIFS('2B Input Climat Scen. Freight'!N$120:N$140,'2B Input Climat Scen. Freight'!$B$120:$B$140,'4B Calcul. Climat Scen.'!$C360,'2B Input Climat Scen. Freight'!$C$120:$C$140,'4B Calcul. Climat Scen.'!$E360))","v":0},null,0,0,0,0,0,0,null,{"$f":"SUMIFS('4A Calcul. BAU city'!O$13:O$61,'4A Calcul. BAU city'!$C$13:$C$61,'4B Calcul. Climat Scen.'!$C360,'4A Calcul. BAU city'!$E$13:$E$61,'4B Calcul. Climat Scen.'!$E360)*M360/100","v":0},0,0,0,0,0,null,{"$f":"SUMIFS('4A Calcul. BAU city'!O$13:O$61,'4A Calcul. BAU city'!$C$13:$C$61,'4B Calcul. Climat Scen.'!$C360,'4A Calcul. BAU city'!$E$13:$E$61,'4B Calcul. Climat Scen.'!$E360)*M360/100*SUMIFS('4A Calcul. BAU city'!$V$13:$V$61,'4A Calcul. BAU city'!$C$13:$C$61,'4B Calcul. Climat Scen.'!$C360,'4A Calcul. BAU city'!$E$13:$E$61,'4B Calcul. Climat Scen.'!$E360)","v":0},{"$f":"U360*SUMIFS('4A Calcul. BAU city'!$V$13:$V$61,'4A Calcul. BAU city'!$C$13:$C$61,'4B Calcul. Climat Scen.'!$C360,'4A Calcul. BAU city'!$E$13:$E$61,'4B Calcul. Climat Scen.'!$E360)","v":0},{"$f":"V360*SUMIFS('4A Calcul. BAU city'!$V$13:$V$61,'4A Calcul. BAU city'!$C$13:$C$61,'4B Calcul. Climat Scen.'!$C360,'4A Calcul. BAU city'!$E$13:$E$61,'4B Calcul. Climat Scen.'!$E360)","v":0},{"$f":"W360*SUMIFS('4A Calcul. BAU city'!$V$13:$V$61,'4A Calcul. BAU city'!$C$13:$C$61,'4B Calcul. Climat Scen.'!$C360,'4A Calcul. BAU city'!$E$13:$E$61,'4B Calcul. Climat Scen.'!$E360)","v":0},{"$f":"X360*SUMIFS('4A Calcul. BAU city'!$V$13:$V$61,'4A Calcul. BAU city'!$C$13:$C$61,'4B Calcul. Climat Scen.'!$C360,'4A Calcul. BAU city'!$E$13:$E$61,'4B Calcul. Climat Scen.'!$E360)","v":0},{"$f":"Y360*SUMIFS('4A Calcul. BAU city'!$V$13:$V$61,'4A Calcul. BAU city'!$C$13:$C$61,'4B Calcul. Climat Scen.'!$C360,'4A Calcul. BAU city'!$E$13:$E$61,'4B Calcul. Climat Scen.'!$E360)","v":0},null,{"$f":"INDEX('6 Defaults parameters'!$T$9:$Y$18,MATCH($D360,'6 Defaults parameters'!$B$9:$B$18,0),MATCH(AH$313,'6 Defaults parameters'!$T$8:$Y$8,0))*AA360/10^6","v":0},{"$f":"INDEX('6 Defaults parameters'!$T$9:$Y$18,MATCH($D360,'6 Defaults parameters'!$B$9:$B$18,0),MATCH(AI$313,'6 Defaults parameters'!$T$8:$Y$8,0))*AB360/10^6","v":0},{"$f":"INDEX('6 Defaults parameters'!$T$9:$Y$18,MATCH($D360,'6 Defaults parameters'!$B$9:$B$18,0),MATCH(AJ$313,'6 Defaults parameters'!$T$8:$Y$8,0))*AC360/10^6","v":0},{"$f":"INDEX('6 Defaults parameters'!$T$9:$Y$18,MATCH($D360,'6 Defaults parameters'!$B$9:$B$18,0),MATCH(AK$313,'6 Defaults parameters'!$T$8:$Y$8,0))*AD360/10^6","v":0},{"$f":"INDEX('6 Defaults parameters'!$T$9:$Y$18,MATCH($D360,'6 Defaults parameters'!$B$9:$B$18,0),MATCH(AL$313,'6 Defaults parameters'!$T$8:$Y$8,0))*AE360/10^6","v":0},{"$f":"INDEX('6 Defaults parameters'!$T$9:$Y$18,MATCH($D360,'6 Defaults parameters'!$B$9:$B$18,0),MATCH(AM$313,'6 Defaults parameters'!$T$8:$Y$8,0))*AF360/10^6","v":0}]
[null,"Scenario 2)",{"$f":"Atruck","v":"Articulated truck"},{"$f":"Roadelec","v":"Road - Electric"},{"$f":"Electric","v":"Electric"},0,{"$f":"IF('2B Input Climat Scen. Freight'!J137=\"\",SUMIFS('2B Input Climat Scen. Freight'!D$120:D$140,'2B Input Climat Scen. Freight'!$B$120:$B$140,'4B Calcul. Climat Scen.'!$C361,'2B Input Climat Scen. Freight'!$C$120:$C$140,'4B Calcul. Climat Scen.'!$E361),SUMIFS('2B Input Climat Scen. Freight'!J$120:J$140,'2B Input Climat Scen. Freight'!$B$120:$B$140,'4B Calcul. Climat Scen.'!$C361,'2B Input Climat Scen. Freight'!$C$120:$C$140,'4B Calcul. Climat Scen.'!$E361))","v":0},{"$f":"IF('2B Input Climat Scen. Freight'!K137=\"\",SUMIFS('2B Input Climat Scen. Freight'!E$120:E$140,'2B Input Climat Scen. Freight'!$B$120:$B$140,'4B Calcul. Climat Scen.'!$C361,'2B Input Climat Scen. Freight'!$C$120:$C$140,'4B Calcul. Climat Scen.'!$E361),SUMIFS('2B Input Climat Scen. Freight'!K$120:K$140,'2B Input Climat Scen. Freight'!$B$120:$B$140,'4B Calcul. Climat Scen.'!$C361,'2B Input Climat Scen. Freight'!$C$120:$C$140,'4B Calcul. Climat Scen.'!$E361))","v":0},{"$f":"IF('2B Input Climat Scen. Freight'!L137=\"\",SUMIFS('2B Input Climat Scen. Freight'!F$120:F$140,'2B Input Climat Scen. Freight'!$B$120:$B$140,'4B Calcul. Climat Scen.'!$C361,'2B Input Climat Scen. Freight'!$C$120:$C$140,'4B Calcul. Climat Scen.'!$E361),SUMIFS('2B Input Climat Scen. Freight'!L$120:L$140,'2B Input Climat Scen. Freight'!$B$120:$B$140,'4B Calcul. Climat Scen.'!$C361,'2B Input Climat Scen. Freight'!$C$120:$C$140,'4B Calcul. Climat Scen.'!$E361))","v":0},{"$f":"IF('2B Input Climat Scen. Freight'!M137=\"\",SUMIFS('2B Input Climat Scen. Freight'!G$120:G$140,'2B Input Climat Scen. Freight'!$B$120:$B$140,'4B Calcul. Climat Scen.'!$C361,'2B Input Climat Scen. Freight'!$C$120:$C$140,'4B Calcul. Climat Scen.'!$E361),SUMIFS('2B Input Climat Scen. Freight'!M$120:M$140,'2B Input Climat Scen. Freight'!$B$120:$B$140,'4B Calcul. Climat Scen.'!$C361,'2B Input Climat Scen. Freight'!$C$120:$C$140,'4B Calcul. Climat Scen.'!$E361))","v":0},{"$f":"IF('2B Input Climat Scen. Freight'!N137=\"\",SUMIFS('2B Input Climat Scen. Freight'!H$120:H$140,'2B Input Climat Scen. Freight'!$B$120:$B$140,'4B Calcul. Climat Scen.'!$C361,'2B Input Climat Scen. Freight'!$C$120:$C$140,'4B Calcul. Climat Scen.'!$E361),SUMIFS('2B Input Climat Scen. Freight'!N$120:N$140,'2B Input Climat Scen. Freight'!$B$120:$B$140,'4B Calcul. Climat Scen.'!$C361,'2B Input Climat Scen. Freight'!$C$120:$C$140,'4B Calcul. Climat Scen.'!$E361))","v":0},null,0,{"$f":"SUMIF($M$236:$M$240,$C361,AJ$236:AJ$240)*G361","v":0},{"$f":"SUMIF($M$236:$M$240,$C361,AK$236:AK$240)*H361","v":0},{"$f":"SUMIF($M$236:$M$240,$C361,AL$236:AL$240)*I361","v":0},{"$f":"SUMIF($M$236:$M$240,$C361,AM$236:AM$240)*J361","v":0},{"$f":"SUMIF($M$236:$M$240,$C361,AN$236:AN$240)*K361","v":0},null,{"$f":"SUMIFS('4A Calcul. BAU city'!O$13:O$61,'4A Calcul. BAU city'!$C$13:$C$61,'4B Calcul. Climat Scen.'!$C361,'4A Calcul. BAU city'!$E$13:$E$61,'4B Calcul. Climat Scen.'!$E361)*M361/100","v":0},0,0,0,0,0,null,{"$f":"SUMIFS('4A Calcul. BAU city'!O$13:O$61,'4A Calcul. BAU city'!$C$13:$C$61,'4B Calcul. Climat Scen.'!$C361,'4A Calcul. BAU city'!$E$13:$E$61,'4B Calcul. Climat Scen.'!$E361)*M361/100*SUMIFS('4A Calcul. BAU city'!$V$13:$V$61,'4A Calcul. BAU city'!$C$13:$C$61,'4B Calcul. Climat Scen.'!$C361,'4A Calcul. BAU city'!$E$13:$E$61,'4B Calcul. Climat Scen.'!$E361)","v":0},{"$f":"U361*SUMIFS('4A Calcul. BAU city'!$V$13:$V$61,'4A Calcul. BAU city'!$C$13:$C$61,'4B Calcul. Climat Scen.'!$C361,'4A Calcul. BAU city'!$E$13:$E$61,'4B Calcul. Climat Scen.'!$E361)","v":0},{"$f":"V361*SUMIFS('4A Calcul. BAU city'!$V$13:$V$61,'4A Calcul. BAU city'!$C$13:$C$61,'4B Calcul. Climat Scen.'!$C361,'4A Calcul. BAU city'!$E$13:$E$61,'4B Calcul. Climat Scen.'!$E361)","v":0},{"$f":"W361*SUMIFS('4A Calcul. BAU city'!$V$13:$V$61,'4A Calcul. BAU city'!$C$13:$C$61,'4B Calcul. Climat Scen.'!$C361,'4A Calcul. BAU city'!$E$13:$E$61,'4B Calcul. Climat Scen.'!$E361)","v":0},{"$f":"X361*SUMIFS('4A Calcul. BAU city'!$V$13:$V$61,'4A Calcul. BAU city'!$C$13:$C$61,'4B Calcul. Climat Scen.'!$C361,'4A Calcul. BAU city'!$E$13:$E$61,'4B Calcul. Climat Scen.'!$E361)","v":0},{"$f":"Y361*SUMIFS('4A Calcul. BAU city'!$V$13:$V$61,'4A Calcul. BAU city'!$C$13:$C$61,'4B Calcul. Climat Scen.'!$C361,'4A Calcul. BAU city'!$E$13:$E$61,'4B Calcul. Climat Scen.'!$E361)","v":0},null,{"$f":"INDEX('6 Defaults parameters'!$T$9:$Y$18,MATCH($D361,'6 Defaults parameters'!$B$9:$B$18,0),MATCH(AH$313,'6 Defaults parameters'!$T$8:$Y$8,0))*AA361/10^6","v":0},{"$f":"INDEX('6 Defaults parameters'!$T$9:$Y$18,MATCH($D361,'6 Defaults parameters'!$B$9:$B$18,0),MATCH(AI$313,'6 Defaults parameters'!$T$8:$Y$8,0))*AB361/10^6","v":0},{"$f":"INDEX('6 Defaults parameters'!$T$9:$Y$18,MATCH($D361,'6 Defaults parameters'!$B$9:$B$18,0),MATCH(AJ$313,'6 Defaults parameters'!$T$8:$Y$8,0))*AC361/10^6","v":0},{"$f":"INDEX('6 Defaults parameters'!$T$9:$Y$18,MATCH($D361,'6 Defaults parameters'!$B$9:$B$18,0),MATCH(AK$313,'6 Defaults parameters'!$T$8:$Y$8,0))*AD361/10^6","v":0},{"$f":"INDEX('6 Defaults parameters'!$T$9:$Y$18,MATCH($D361,'6 Defaults parameters'!$B$9:$B$18,0),MATCH(AL$313,'6 Defaults parameters'!$T$8:$Y$8,0))*AE361/10^6","v":0},{"$f":"INDEX('6 Defaults parameters'!$T$9:$Y$18,MATCH($D361,'6 Defaults parameters'!$B$9:$B$18,0),MATCH(AM$313,'6 Defaults parameters'!$T$8:$Y$8,0))*AF361/10^6","v":0}]
[null,"Scenario 2)",{"$f":"Ftrain","v":"Freight train"},{"$f":"RailD","v":"Rail - Diesel"},{"$f":"Diesel","v":"Diesel"},0,{"$f":"IF('2B Input Climat Scen. Freight'!J139=\"\",SUMIFS('2B Input Climat Scen. Freight'!D$120:D$140,'2B Input Climat Scen. Freight'!$B$120:$B$140,'4B Calcul. Climat Scen.'!$C362,'2B Input Climat Scen. Freight'!$C$120:$C$140,'4B Calcul. Climat Scen.'!$E362),SUMIFS('2B Input Climat Scen. Freight'!J$120:J$140,'2B Input Climat Scen. Freight'!$B$120:$B$140,'4B Calcul. Climat Scen.'!$C362,'2B Input Climat Scen. Freight'!$C$120:$C$140,'4B Calcul. Climat Scen.'!$E362))","v":0},{"$f":"IF('2B Input Climat Scen. Freight'!K139=\"\",SUMIFS('2B Input Climat Scen. Freight'!E$120:E$140,'2B Input Climat Scen. Freight'!$B$120:$B$140,'4B Calcul. Climat Scen.'!$C362,'2B Input Climat Scen. Freight'!$C$120:$C$140,'4B Calcul. Climat Scen.'!$E362),SUMIFS('2B Input Climat Scen. Freight'!K$120:K$140,'2B Input Climat Scen. Freight'!$B$120:$B$140,'4B Calcul. Climat Scen.'!$C362,'2B Input Climat Scen. Freight'!$C$120:$C$140,'4B Calcul. Climat Scen.'!$E362))","v":0},{"$f":"IF('2B Input Climat Scen. Freight'!L139=\"\",SUMIFS('2B Input Climat Scen. Freight'!F$120:F$140,'2B Input Climat Scen. Freight'!$B$120:$B$140,'4B Calcul. Climat Scen.'!$C362,'2B Input Climat Scen. Freight'!$C$120:$C$140,'4B Calcul. Climat Scen.'!$E362),SUMIFS('2B Input Climat Scen. Freight'!L$120:L$140,'2B Input Climat Scen. Freight'!$B$120:$B$140,'4B Calcul. Climat Scen.'!$C362,'2B Input Climat Scen. Freight'!$C$120:$C$140,'4B Calcul. Climat Scen.'!$E362))","v":0},{"$f":"IF('2B Input Climat Scen. Freight'!M139=\"\",SUMIFS('2B Input Climat Scen. Freight'!G$120:G$140,'2B Input Climat Scen. Freight'!$B$120:$B$140,'4B Calcul. Climat Scen.'!$C362,'2B Input Climat Scen. Freight'!$C$120:$C$140,'4B Calcul. Climat Scen.'!$E362),SUMIFS('2B Input Climat Scen. Freight'!M$120:M$140,'2B Input Climat Scen. Freight'!$B$120:$B$140,'4B Calcul. Climat Scen.'!$C362,'2B Input Climat Scen. Freight'!$C$120:$C$140,'4B Calcul. Climat Scen.'!$E362))","v":0},{"$f":"IF('2B Input Climat Scen. Freight'!N139=\"\",SUMIFS('2B Input Climat Scen. Freight'!H$120:H$140,'2B Input Climat Scen. Freight'!$B$120:$B$140,'4B Calcul. Climat Scen.'!$C362,'2B Input Climat Scen. Freight'!$C$120:$C$140,'4B Calcul. Climat Scen.'!$E362),SUMIFS('2B Input Climat Scen. Freight'!N$120:N$140,'2B Input Climat Scen. Freight'!$B$120:$B$140,'4B Calcul. Climat Scen.'!$C362,'2B Input Climat Scen. Freight'!$C$120:$C$140,'4B Calcul. Climat Scen.'!$E362))","v":0},null,0,0,0,0,0,0,null,{"$f":"SUMIFS('4A Calcul. BAU city'!O$13:O$61,'4A Calcul. BAU city'!$C$13:$C$61,'4B Calcul. Climat Scen.'!$C362,'4A Calcul. BAU city'!$E$13:$E$61,'4B Calcul. Climat Scen.'!$E362)*M362/100","v":0},0,0,0,0,0,null,{"$f":"SUMIFS('4A Calcul. BAU city'!O$13:O$61,'4A Calcul. BAU city'!$C$13:$C$61,'4B Calcul. Climat Scen.'!$C362,'4A Calcul. BAU city'!$E$13:$E$61,'4B Calcul. Climat Scen.'!$E362)*M362/100*SUMIFS('4A Calcul. BAU city'!$V$13:$V$61,'4A Calcul. BAU city'!$C$13:$C$61,'4B Calcul. Climat Scen.'!$C362,'4A Calcul. BAU city'!$E$13:$E$61,'4B Calcul. Climat Scen.'!$E362)","v":0},{"$f":"U362*SUMIFS('4A Calcul. BAU city'!$V$13:$V$61,'4A Calcul. BAU city'!$C$13:$C$61,'4B Calcul. Climat Scen.'!$C362,'4A Calcul. BAU city'!$E$13:$E$61,'4B Calcul. Climat Scen.'!$E362)","v":0},{"$f":"V362*SUMIFS('4A Calcul. BAU city'!$V$13:$V$61,'4A Calcul. BAU city'!$C$13:$C$61,'4B Calcul. Climat Scen.'!$C362,'4A Calcul. BAU city'!$E$13:$E$61,'4B Calcul. Climat Scen.'!$E362)","v":0},{"$f":"W362*SUMIFS('4A Calcul. BAU city'!$V$13:$V$61,'4A Calcul. BAU city'!$C$13:$C$61,'4B Calcul. Climat Scen.'!$C362,'4A Calcul. BAU city'!$E$13:$E$61,'4B Calcul. Climat Scen.'!$E362)","v":0},{"$f":"X362*SUMIFS('4A Calcul. BAU city'!$V$13:$V$61,'4A Calcul. BAU city'!$C$13:$C$61,'4B Calcul. Climat Scen.'!$C362,'4A Calcul. BAU city'!$E$13:$E$61,'4B Calcul. Climat Scen.'!$E362)","v":0},{"$f":"Y362*SUMIFS('4A Calcul. BAU city'!$V$13:$V$61,'4A Calcul. BAU city'!$C$13:$C$61,'4B Calcul. Climat Scen.'!$C362,'4A Calcul. BAU city'!$E$13:$E$61,'4B Calcul. Climat Scen.'!$E362)","v":0},null,{"$f":"INDEX('6 Defaults parameters'!$T$9:$Y$18,MATCH($D362,'6 Defaults parameters'!$B$9:$B$18,0),MATCH(AH$313,'6 Defaults parameters'!$T$8:$Y$8,0))*AA362/10^6","v":0},{"$f":"INDEX('6 Defaults parameters'!$T$9:$Y$18,MATCH($D362,'6 Defaults parameters'!$B$9:$B$18,0),MATCH(AI$313,'6 Defaults parameters'!$T$8:$Y$8,0))*AB362/10^6","v":0},{"$f":"INDEX('6 Defaults parameters'!$T$9:$Y$18,MATCH($D362,'6 Defaults parameters'!$B$9:$B$18,0),MATCH(AJ$313,'6 Defaults parameters'!$T$8:$Y$8,0))*AC362/10^6","v":0},{"$f":"INDEX('6 Defaults parameters'!$T$9:$Y$18,MATCH($D362,'6 Defaults parameters'!$B$9:$B$18,0),MATCH(AK$313,'6 Defaults parameters'!$T$8:$Y$8,0))*AD362/10^6","v":0},{"$f":"INDEX('6 Defaults parameters'!$T$9:$Y$18,MATCH($D362,'6 Defaults parameters'!$B$9:$B$18,0),MATCH(AL$313,'6 Defaults parameters'!$T$8:$Y$8,0))*AE362/10^6","v":0},{"$f":"INDEX('6 Defaults parameters'!$T$9:$Y$18,MATCH($D362,'6 Defaults parameters'!$B$9:$B$18,0),MATCH(AM$313,'6 Defaults parameters'!$T$8:$Y$8,0))*AF362/10^6","v":0}]
[null,"Scenario 2)",{"$f":"Ftrain","v":"Freight train"},{"$f":"RailElec","v":"Rail - Electric"},{"$f":"Electric","v":"Electric"},0,{"$f":"IF('2B Input Climat Scen. Freight'!J140=\"\",SUMIFS('2B Input Climat Scen. Freight'!D$120:D$140,'2B Input Climat Scen. Freight'!$B$120:$B$140,'4B Calcul. Climat Scen.'!$C363,'2B Input Climat Scen. Freight'!$C$120:$C$140,'4B Calcul. Climat Scen.'!$E363),SUMIFS('2B Input Climat Scen. Freight'!J$120:J$140,'2B Input Climat Scen. Freight'!$B$120:$B$140,'4B Calcul. Climat Scen.'!$C363,'2B Input Climat Scen. Freight'!$C$120:$C$140,'4B Calcul. Climat Scen.'!$E363))","v":0},{"$f":"IF('2B Input Climat Scen. Freight'!K140=\"\",SUMIFS('2B Input Climat Scen. Freight'!E$120:E$140,'2B Input Climat Scen. Freight'!$B$120:$B$140,'4B Calcul. Climat Scen.'!$C363,'2B Input Climat Scen. Freight'!$C$120:$C$140,'4B Calcul. Climat Scen.'!$E363),SUMIFS('2B Input Climat Scen. Freight'!K$120:K$140,'2B Input Climat Scen. Freight'!$B$120:$B$140,'4B Calcul. Climat Scen.'!$C363,'2B Input Climat Scen. Freight'!$C$120:$C$140,'4B Calcul. Climat Scen.'!$E363))","v":0},{"$f":"IF('2B Input Climat Scen. Freight'!L140=\"\",SUMIFS('2B Input Climat Scen. Freight'!F$120:F$140,'2B Input Climat Scen. Freight'!$B$120:$B$140,'4B Calcul. Climat Scen.'!$C363,'2B Input Climat Scen. Freight'!$C$120:$C$140,'4B Calcul. Climat Scen.'!$E363),SUMIFS('2B Input Climat Scen. Freight'!L$120:L$140,'2B Input Climat Scen. Freight'!$B$120:$B$140,'4B Calcul. Climat Scen.'!$C363,'2B Input Climat Scen. Freight'!$C$120:$C$140,'4B Calcul. Climat Scen.'!$E363))","v":0},{"$f":"IF('2B Input Climat Scen. Freight'!M140=\"\",SUMIFS('2B Input Climat Scen. Freight'!G$120:G$140,'2B Input Climat Scen. Freight'!$B$120:$B$140,'4B Calcul. Climat Scen.'!$C363,'2B Input Climat Scen. Freight'!$C$120:$C$140,'4B Calcul. Climat Scen.'!$E363),SUMIFS('2B Input Climat Scen. Freight'!M$120:M$140,'2B Input Climat Scen. Freight'!$B$120:$B$140,'4B Calcul. Climat Scen.'!$C363,'2B Input Climat Scen. Freight'!$C$120:$C$140,'4B Calcul. Climat Scen.'!$E363))","v":0},{"$f":"IF('2B Input Climat Scen. Freight'!N140=\"\",SUMIFS('2B Input Climat Scen. Freight'!H$120:H$140,'2B Input Climat Scen. Freight'!$B$120:$B$140,'4B Calcul. Climat Scen.'!$C363,'2B Input Climat Scen. Freight'!$C$120:$C$140,'4B Calcul. Climat Scen.'!$E363),SUMIFS('2B Input Climat Scen. Freight'!N$120:N$140,'2B Input Climat Scen. Freight'!$B$120:$B$140,'4B Calcul. Climat Scen.'!$C363,'2B Input Climat Scen. Freight'!$C$120:$C$140,'4B Calcul. Climat Scen.'!$E363))","v":0},null,0,0,0,0,0,0,null,{"$f":"SUMIFS('4A Calcul. BAU city'!O$13:O$61,'4A Calcul. BAU city'!$C$13:$C$61,'4B Calcul. Climat Scen.'!$C363,'4A Calcul. BAU city'!$E$13:$E$61,'4B Calcul. Climat Scen.'!$E363)*M363/100","v":0},0,0,0,0,0,null,{"$f":"SUMIFS('4A Calcul. BAU city'!O$13:O$61,'4A Calcul. BAU city'!$C$13:$C$61,'4B Calcul. Climat Scen.'!$C363,'4A Calcul. BAU city'!$E$13:$E$61,'4B Calcul. Climat Scen.'!$E363)*M363/100*SUMIFS('4A Calcul. BAU city'!$V$13:$V$61,'4A Calcul. BAU city'!$C$13:$C$61,'4B Calcul. Climat Scen.'!$C363,'4A Calcul. BAU city'!$E$13:$E$61,'4B Calcul. Climat Scen.'!$E363)","v":0},{"$f":"U363*SUMIFS('4A Calcul. BAU city'!$V$13:$V$61,'4A Calcul. BAU city'!$C$13:$C$61,'4B Calcul. Climat Scen.'!$C363,'4A Calcul. BAU city'!$E$13:$E$61,'4B Calcul. Climat Scen.'!$E363)","v":0},{"$f":"V363*SUMIFS('4A Calcul. BAU city'!$V$13:$V$61,'4A Calcul. BAU city'!$C$13:$C$61,'4B Calcul. Climat Scen.'!$C363,'4A Calcul. BAU city'!$E$13:$E$61,'4B Calcul. Climat Scen.'!$E363)","v":0},{"$f":"W363*SUMIFS('4A Calcul. BAU city'!$V$13:$V$61,'4A Calcul. BAU city'!$C$13:$C$61,'4B Calcul. Climat Scen.'!$C363,'4A Calcul. BAU city'!$E$13:$E$61,'4B Calcul. Climat Scen.'!$E363)","v":0},{"$f":"X363*SUMIFS('4A Calcul. BAU city'!$V$13:$V$61,'4A Calcul. BAU city'!$C$13:$C$61,'4B Calcul. Climat Scen.'!$C363,'4A Calcul. BAU city'!$E$13:$E$61,'4B Calcul. Climat Scen.'!$E363)","v":0},{"$f":"Y363*SUMIFS('4A Calcul. BAU city'!$V$13:$V$61,'4A Calcul. BAU city'!$C$13:$C$61,'4B Calcul. Climat Scen.'!$C363,'4A Calcul. BAU city'!$E$13:$E$61,'4B Calcul. Climat Scen.'!$E363)","v":0},null,{"$f":"INDEX('6 Defaults parameters'!$T$9:$Y$18,MATCH($D363,'6 Defaults parameters'!$B$9:$B$18,0),MATCH(AH$313,'6 Defaults parameters'!$T$8:$Y$8,0))*AA363/10^6","v":0},{"$f":"INDEX('6 Defaults parameters'!$T$9:$Y$18,MATCH($D363,'6 Defaults parameters'!$B$9:$B$18,0),MATCH(AI$313,'6 Defaults parameters'!$T$8:$Y$8,0))*AB363/10^6","v":0},{"$f":"INDEX('6 Defaults parameters'!$T$9:$Y$18,MATCH($D363,'6 Defaults parameters'!$B$9:$B$18,0),MATCH(AJ$313,'6 Defaults parameters'!$T$8:$Y$8,0))*AC363/10^6","v":0},{"$f":"INDEX('6 Defaults parameters'!$T$9:$Y$18,MATCH($D363,'6 Defaults parameters'!$B$9:$B$18,0),MATCH(AK$313,'6 Defaults parameters'!$T$8:$Y$8,0))*AD363/10^6","v":0},{"$f":"INDEX('6 Defaults parameters'!$T$9:$Y$18,MATCH($D363,'6 Defaults parameters'!$B$9:$B$18,0),MATCH(AL$313,'6 Defaults parameters'!$T$8:$Y$8,0))*AE363/10^6","v":0},{"$f":"INDEX('6 Defaults parameters'!$T$9:$Y$18,MATCH($D363,'6 Defaults parameters'!$B$9:$B$18,0),MATCH(AM$313,'6 Defaults parameters'!$T$8:$Y$8,0))*AF363/10^6","v":0}]
[]
[null,{"$f":"Scen2","v":"Scenario 2)"},{"$f":"totalindividualtransport","v":"Total individual transport"},{"$f":"all","v":"all"},"all",null,null,null,null,null,null,null,{"$f":"SUM(M314:M329)","v":0},0,0,0,0,0,null,{"$f":"SUM(T314:T329)","v":0},0,0,0,0,0,null,{"$f":"SUM(AA314:AA329)","v":0},0,0,0,0,0,null,{"$f":"SUM(AH314:AH329)","v":0},0,0,0,0,0]
[null,{"$f":"Scen2","v":"Scenario 2)"},{"$f":"totalpublictransport","v":"Total public transport"},"all","all",null,null,null,null,null,null,null,{"$f":"SUM(M330:M347)","v":0},0,0,0,0,0,null,{"$f":"SUM(T330:T347)","v":0},0,0,0,0,0,null,{"$f":"SUM(AA330:AA347)","v":0},0,0,0,0,0,null,{"$f":"SUM(AH330:AH347)","v":0},0,0,0,0,0]
[null,{"$f":"Scen2","v":"Scenario 2)"},{"$f":"Passtrans","v":"Passenger transportation"},"all","all",null,null,null,null,null,null,null,{"$f":"M365+M366","v":0},{"$f":"N365+N366","v":0},0,0,0,0,null,{"$f":"T365+T366","v":0},{"$f":"U365+U366","v":0},{"$f":"V365+V366","v":0},{"$f":"W365+W366","v":0},{"$f":"X365+X366","v":0},{"$f":"Y365+Y366","v":0},null,{"$f":"AA365+AA366","v":0},{"$f":"AB365+AB366","v":0},{"$f":"AC365+AC366","v":0},{"$f":"AD365+AD366","v":0},{"$f":"AE365+AE366","v":0},{"$f":"AF365+AF366","v":0},null,{"$f":"AH365+AH366","v":0},{"$f":"AI365+AI366","v":0},{"$f":"AJ365+AJ366","v":0},{"$f":"AK365+AK366","v":0},{"$f":"AL365+AL366","v":0},{"$f":"AM365+AM366","v":0}]
[null,{"$f":"Scen2","v":"Scenario 2)"},{"$f":"Freighttrans","v":"Freight transportation"},"all","all",null,null,null,null,null,null,null,{"$f":"SUM(M348:M363)","v":0},{"$f":"SUM(N348:N363)","v":0},0,0,0,0,null,{"$f":"SUM(T348:T363)","v":0},{"$f":"SUM(U348:U363)","v":0},0,0,0,0,null,{"$f":"SUM(AA348:AA363)","v":0},{"$f":"SUM(AB348:AB363)","v":0},0,0,0,0,null,{"$f":"SUM(AH348:AH363)","v":0},{"$f":"SUM(AI348:AI363)","v":0},0,0,0,0]
[null,{"$f":"Scen2","v":"Scenario 2)"},{"$f":"all","v":"all"},"all","all",null,null,null,null,null,null,null,{"$f":"M368+M367","v":0},{"$f":"N368+N367","v":0},0,0,0,0,null,{"$f":"T368+T367","v":0},{"$f":"U368+U367","v":0},{"$f":"V368+V367","v":0},{"$f":"W368+W367","v":0},{"$f":"X368+X367","v":0},{"$f":"Y368+Y367","v":0},null,{"$f":"AA368+AA367","v":0},{"$f":"AB368+AB367","v":0},{"$f":"AC368+AC367","v":0},{"$f":"AD368+AD367","v":0},{"$f":"AE368+AE367","v":0},{"$f":"AF368+AF367","v":0},null,{"$f":"AH368+AH367","v":0},{"$f":"AI368+AI367","v":0},{"$f":"AJ368+AJ367","v":0},{"$f":"AK368+AK367","v":0},{"$f":"AL368+AL367","v":0},{"$f":"AM368+AM367","v":0}]
[]
[]
[{"$f":"Descri70","v":"Climate scenario by category and type of fuel 4) Improve: adjust the specific fuel consumption of vehicles"}]
[null,{"$f":"scenario","v":"Scenario"},{"$f":"Category","v":"Category"},{"$f":"Fuel","v":"Fuel type"},{"$f":"Fuel","v":"Fuel type"},"Specific fuel consumption",null,null,null,null,null,null,{"$f":"vktMilkm","v":"Vkt [Mio. km]"},null,null,null,null,null,null,"Total fuel consumption (million liters, Gg, GWh)",null,null,null,null,null,null,{"$f":"FuelConTJ","v":"Fuel Consumption [TJ]"},null,null,null,null,null,null,{"$f":"TotalGHGTTW1000t","v":"Total emission CO2 eq [1000t] TTW"},null,null,null,null,null,null,null,"Ratio g CO2eq/Fz-km"]
[null,null,null,null,null,{"$f":"$B$3","v":0},2020,2025,2030,2040,2050,null,{"$f":"$B$3","v":0},2020,2025,2030,2040,2050,null,{"$f":"$B$3","v":0},2020,2025,2030,2040,2050,null,{"$f":"$B$3","v":0},2020,2025,2030,2040,2050,null,{"$f":"$B$3","v":0},2020,2025,2030,2040,2050,null,null,null,{"$f":"$B$3","v":0},2020,2025,2030,2040,2050]
[null,{"$f":"Scen3","v":"Scenario 3)"},{"$f":"Pcar","v":"Private car"},{"$f":"RoadG","v":"Road - Gasoline"},{"$f":"Gasoline","v":"Gasoline"},{"$f":"SUMIFS('4A Calcul. BAU city'!O$13:O$61,'4A Calcul. BAU city'!$C$13:$C$61,'4B Calcul. Climat Scen.'!$C375,'4A Calcul. BAU city'!$E$13:$E$61,'4B Calcul. Climat Scen.'!$E375)","v":0},{"$f":"IF('2A Input Climat Scen. Pass.'!J249=\"\",SUMIFS('2A Input Climat Scen. Pass.'!D$248:D$291,'2A Input Climat Scen. Pass.'!$B$248:$B$291,'4B Calcul. Climat Scen.'!$C375,'2A Input Climat Scen. Pass.'!$C$248:$C$291,'4B Calcul. Climat Scen.'!$E375),SUMIFS('2A Input Climat Scen. Pass.'!J$248:J$291,'2A Input Climat Scen. Pass.'!$B$248:$B$291,'4B Calcul. Climat Scen.'!$C375,'2A Input Climat Scen. Pass.'!$C$248:$C$291,'4B Calcul. Climat Scen.'!$E375))","v":0},{"$f":"IF('2A Input Climat Scen. Pass.'!K249=\"\",SUMIFS('2A Input Climat Scen. Pass.'!E$248:E$291,'2A Input Climat Scen. Pass.'!$B$248:$B$291,'4B Calcul. Climat Scen.'!$C375,'2A Input Climat Scen. Pass.'!$C$248:$C$291,'4B Calcul. Climat Scen.'!$E375),SUMIFS('2A Input Climat Scen. Pass.'!K$248:K$291,'2A Input Climat Scen. Pass.'!$B$248:$B$291,'4B Calcul. Climat Scen.'!$C375,'2A Input Climat Scen. Pass.'!$C$248:$C$291,'4B Calcul. Climat Scen.'!$E375))","v":0},{"$f":"IF('2A Input Climat Scen. Pass.'!L249=\"\",SUMIFS('2A Input Climat Scen. Pass.'!F$248:F$291,'2A Input Climat Scen. Pass.'!$B$248:$B$291,'4B Calcul. Climat Scen.'!$C375,'2A Input Climat Scen. Pass.'!$C$248:$C$291,'4B Calcul. Climat Scen.'!$E375),SUMIFS('2A Input Climat Scen. Pass.'!L$248:L$291,'2A Input Climat Scen. Pass.'!$B$248:$B$291,'4B Calcul. Climat Scen.'!$C375,'2A Input Climat Scen. Pass.'!$C$248:$C$291,'4B Calcul. Climat Scen.'!$E375))","v":0},{"$f":"IF('2A Input Climat Scen. Pass.'!M249=\"\",SUMIFS('2A Input Climat Scen. Pass.'!G$248:G$291,'2A Input Climat Scen. Pass.'!$B$248:$B$291,'4B Calcul. Climat Scen.'!$C375,'2A Input Climat Scen. Pass.'!$C$248:$C$291,'4B Calcul. Climat Scen.'!$E375),SUMIFS('2A Input Climat Scen. Pass.'!M$248:M$291,'2A Input Climat Scen. Pass.'!$B$248:$B$291,'4B Calcul. Climat Scen.'!$C375,'2A Input Climat Scen. Pass.'!$C$248:$C$291,'4B Calcul. Climat Scen.'!$E375))","v":0},{"$f":"IF('2A Input Climat Scen. Pass.'!N249=\"\",SUMIFS('2A Input Climat Scen. Pass.'!H$248:H$291,'2A Input Climat Scen. Pass.'!$B$248:$B$291,'4B Calcul. Climat Scen.'!$C375,'2A Input Climat Scen. Pass.'!$C$248:$C$291,'4B Calcul. Climat Scen.'!$E375),SUMIFS('2A Input Climat Scen. Pass.'!N$248:N$291,'2A Input Climat Scen. Pass.'!$B$248:$B$291,'4B Calcul. Climat Scen.'!$C375,'2A Input Climat Scen. Pass.'!$C$248:$C$291,'4B Calcul. Climat Scen.'!$E375))","v":0},null,{"$f":"SUMIFS(M$314:M$363,$C$314:$C$363,$C375,$E$314:$E$363,$E375)","v":0},0,0,0,0,0,null,{"$f":"M375*F375/100","v":0},{"$f":"N375*G375/100","v":0},0,0,0,0,null,{"$f":"AA314","v":0},{"$f":"U375*SUMIFS('4A Calcul. BAU city'!$V$13:$V$61,'4A Calcul. BAU city'!$C$13:$C$61,'4B Calcul. Climat Scen.'!$C314,'4A Calcul. BAU city'!$E$13:$E$61,'4B Calcul. Climat Scen.'!$E314)","v":0},{"$f":"V375*SUMIFS('4A Calcul. BAU city'!$V$13:$V$61,'4A Calcul. BAU city'!$C$13:$C$61,'4B Calcul. Climat Scen.'!$C314,'4A Calcul. BAU city'!$E$13:$E$61,'4B Calcul. Climat Scen.'!$E314)","v":0},{"$f":"W375*SUMIFS('4A Calcul. BAU city'!$V$13:$V$61,'4A Calcul. BAU city'!$C$13:$C$61,'4B Calcul. Climat Scen.'!$C314,'4A Calcul. BAU city'!$E$13:$E$61,'4B Calcul. Climat Scen.'!$E314)","v":0},{"$f":"X375*SUMIFS('4A Calcul. BAU city'!$V$13:$V$61,'4A Calcul. BAU city'!$C$13:$C$61,'4B Calcul. Climat Scen.'!$C314,'4A Calcul. BAU city'!$E$13:$E$61,'4B Calcul. Climat Scen.'!$E314)","v":0},{"$f":"Y375*SUMIFS('4A Calcul. BAU city'!$V$13:$V$61,'4A Calcul. BAU city'!$C$13:$C$61,'4B Calcul. Climat Scen.'!$C314,'4A Calcul. BAU city'!$E$13:$E$61,'4B Calcul. Climat Scen.'!$E314)","v":0},null,{"$f":"INDEX('6 Defaults parameters'!$T$9:$Y$18,MATCH($D375,'6 Defaults parameters'!$B$9:$B$18,0),MATCH(AH$313,'6 Defaults parameters'!$T$8:$Y$8,0))*AA375/10^6","v":0},{"$f":"INDEX('6 Defaults parameters'!$T$9:$Y$18,MATCH($D375,'6 Defaults parameters'!$B$9:$B$18,0),MATCH(AI$313,'6 Defaults parameters'!$T$8:$Y$8,0))*AB375/10^6","v":0},{"$f":"INDEX('6 Defaults parameters'!$T$9:$Y$18,MATCH($D375,'6 Defaults parameters'!$B$9:$B$18,0),MATCH(AJ$313,'6 Defaults parameters'!$T$8:$Y$8,0))*AC375/10^6","v":0},{"$f":"INDEX('6 Defaults parameters'!$T$9:$Y$18,MATCH($D375,'6 Defaults parameters'!$B$9:$B$18,0),MATCH(AK$313,'6 Defaults parameters'!$T$8:$Y$8,0))*AD375/10^6","v":0},{"$f":"INDEX('6 Defaults parameters'!$T$9:$Y$18,MATCH($D375,'6 Defaults parameters'!$B$9:$B$18,0),MATCH(AL$313,'6 Defaults parameters'!$T$8:$Y$8,0))*AE375/10^6","v":0},{"$f":"INDEX('6 Defaults parameters'!$T$9:$Y$18,MATCH($D375,'6 Defaults parameters'!$B$9:$B$18,0),MATCH(AM$313,'6 Defaults parameters'!$T$8:$Y$8,0))*AF375/10^6","v":0},null,null,{"$f":"NMT","v":"NMT"},{"$f":"IFERROR(SUMIF($C$375:$C$424,$AP375,AH$375:AH$424)*1000/(SUMIF($C$375:$C$424,$AP375,M$375:M$424)),0)","v":0},{"$f":"IFERROR(SUMIF($C$375:$C$424,$AP375,AI$375:AI$424)*1000/(SUMIF($C$375:$C$424,$AP375,N$375:N$424)),0)","v":0},0,0,0,0]
[null,"Scenario 3)","Private car",{"$f":"RoadD","v":"Road - Diesel"},{"$f":"Diesel","v":"Diesel"},{"$f":"SUMIFS('4A Calcul. BAU city'!O$13:O$61,'4A Calcul. BAU city'!$C$13:$C$61,'4B Calcul. Climat Scen.'!$C376,'4A Calcul. BAU city'!$E$13:$E$61,'4B Calcul. Climat Scen.'!$E376)","v":0},{"$f":"IF('2A Input Climat Scen. Pass.'!J250=\"\",SUMIFS('2A Input Climat Scen. Pass.'!D$248:D$291,'2A Input Climat Scen. Pass.'!$B$248:$B$291,'4B Calcul. Climat Scen.'!$C376,'2A Input Climat Scen. Pass.'!$C$248:$C$291,'4B Calcul. Climat Scen.'!$E376),SUMIFS('2A Input Climat Scen. Pass.'!J$248:J$291,'2A Input Climat Scen. Pass.'!$B$248:$B$291,'4B Calcul. Climat Scen.'!$C376,'2A Input Climat Scen. Pass.'!$C$248:$C$291,'4B Calcul. Climat Scen.'!$E376))","v":0},{"$f":"IF('2A Input Climat Scen. Pass.'!K250=\"\",SUMIFS('2A Input Climat Scen. Pass.'!E$248:E$291,'2A Input Climat Scen. Pass.'!$B$248:$B$291,'4B Calcul. Climat Scen.'!$C376,'2A Input Climat Scen. Pass.'!$C$248:$C$291,'4B Calcul. Climat Scen.'!$E376),SUMIFS('2A Input Climat Scen. Pass.'!K$248:K$291,'2A Input Climat Scen. Pass.'!$B$248:$B$291,'4B Calcul. Climat Scen.'!$C376,'2A Input Climat Scen. Pass.'!$C$248:$C$291,'4B Calcul. Climat Scen.'!$E376))","v":0},{"$f":"IF('2A Input Climat Scen. Pass.'!L250=\"\",SUMIFS('2A Input Climat Scen. Pass.'!F$248:F$291,'2A Input Climat Scen. Pass.'!$B$248:$B$291,'4B Calcul. Climat Scen.'!$C376,'2A Input Climat Scen. Pass.'!$C$248:$C$291,'4B Calcul. Climat Scen.'!$E376),SUMIFS('2A Input Climat Scen. Pass.'!L$248:L$291,'2A Input Climat Scen. Pass.'!$B$248:$B$291,'4B Calcul. Climat Scen.'!$C376,'2A Input Climat Scen. Pass.'!$C$248:$C$291,'4B Calcul. Climat Scen.'!$E376))","v":0},{"$f":"IF('2A Input Climat Scen. Pass.'!M250=\"\",SUMIFS('2A Input Climat Scen. Pass.'!G$248:G$291,'2A Input Climat Scen. Pass.'!$B$248:$B$291,'4B Calcul. Climat Scen.'!$C376,'2A Input Climat Scen. Pass.'!$C$248:$C$291,'4B Calcul. Climat Scen.'!$E376),SUMIFS('2A Input Climat Scen. Pass.'!M$248:M$291,'2A Input Climat Scen. Pass.'!$B$248:$B$291,'4B Calcul. Climat Scen.'!$C376,'2A Input Climat Scen. Pass.'!$C$248:$C$291,'4B Calcul. Climat Scen.'!$E376))","v":0},{"$f":"IF('2A Input Climat Scen. Pass.'!N250=\"\",SUMIFS('2A Input Climat Scen. Pass.'!H$248:H$291,'2A Input Climat Scen. Pass.'!$B$248:$B$291,'4B Calcul. Climat Scen.'!$C376,'2A Input Climat Scen. Pass.'!$C$248:$C$291,'4B Calcul. Climat Scen.'!$E376),SUMIFS('2A Input Climat Scen. Pass.'!N$248:N$291,'2A Input Climat Scen. Pass.'!$B$248:$B$291,'4B Calcul. Climat Scen.'!$C376,'2A Input Climat Scen. Pass.'!$C$248:$C$291,'4B Calcul. Climat Scen.'!$E376))","v":0},null,0,0,0,0,0,0,null,{"$f":"M376*F376/100","v":0},{"$f":"N376*G376/100","v":0},{"$f":"O376*H376/100","v":0},{"$f":"P376*I376/100","v":0},{"$f":"Q376*J376/100","v":0},{"$f":"R376*K376/100","v":0},null,0,{"$f":"U376*SUMIFS('4A Calcul. BAU city'!$V$13:$V$61,'4A Calcul. BAU city'!$C$13:$C$61,'4B Calcul. Climat Scen.'!$C315,'4A Calcul. BAU city'!$E$13:$E$61,'4B Calcul. Climat Scen.'!$E315)","v":0},{"$f":"V376*SUMIFS('4A Calcul. BAU city'!$V$13:$V$61,'4A Calcul. BAU city'!$C$13:$C$61,'4B Calcul. Climat Scen.'!$C315,'4A Calcul. BAU city'!$E$13:$E$61,'4B Calcul. Climat Scen.'!$E315)","v":0},{"$f":"W376*SUMIFS('4A Calcul. BAU city'!$V$13:$V$61,'4A Calcul. BAU city'!$C$13:$C$61,'4B Calcul. Climat Scen.'!$C315,'4A Calcul. BAU city'!$E$13:$E$61,'4B Calcul. Climat Scen.'!$E315)","v":0},{"$f":"X376*SUMIFS('4A Calcul. BAU city'!$V$13:$V$61,'4A Calcul. BAU city'!$C$13:$C$61,'4B Calcul. Climat Scen.'!$C315,'4A Calcul. BAU city'!$E$13:$E$61,'4B Calcul. Climat Scen.'!$E315)","v":0},{"$f":"Y376*SUMIFS('4A Calcul. BAU city'!$V$13:$V$61,'4A Calcul. BAU city'!$C$13:$C$61,'4B Calcul. Climat Scen.'!$C315,'4A Calcul. BAU city'!$E$13:$E$61,'4B Calcul. Climat Scen.'!$E315)","v":0},null,{"$f":"INDEX('6 Defaults parameters'!$T$9:$Y$18,MATCH($D376,'6 Defaults parameters'!$B$9:$B$18,0),MATCH(AH$313,'6 Defaults parameters'!$T$8:$Y$8,0))*AA376/10^6","v":0},{"$f":"INDEX('6 Defaults parameters'!$T$9:$Y$18,MATCH($D376,'6 Defaults parameters'!$B$9:$B$18,0),MATCH(AI$313,'6 Defaults parameters'!$T$8:$Y$8,0))*AB376/10^6","v":0},{"$f":"INDEX('6 Defaults parameters'!$T$9:$Y$18,MATCH($D376,'6 Defaults parameters'!$B$9:$B$18,0),MATCH(AJ$313,'6 Defaults parameters'!$T$8:$Y$8,0))*AC376/10^6","v":0},{"$f":"INDEX('6 Defaults parameters'!$T$9:$Y$18,MATCH($D376,'6 Defaults parameters'!$B$9:$B$18,0),MATCH(AK$313,'6 Defaults parameters'!$T$8:$Y$8,0))*AD376/10^6","v":0},{"$f":"INDEX('6 Defaults parameters'!$T$9:$Y$18,MATCH($D376,'6 Defaults parameters'!$B$9:$B$18,0),MATCH(AL$313,'6 Defaults parameters'!$T$8:$Y$8,0))*AE376/10^6","v":0},{"$f":"INDEX('6 Defaults parameters'!$T$9:$Y$18,MATCH($D376,'6 Defaults parameters'!$B$9:$B$18,0),MATCH(AM$313,'6 Defaults parameters'!$T$8:$Y$8,0))*AF376/10^6","v":0},null,null,{"$f":"Pcar","v":"Private car"},{"$f":"IFERROR(SUMIF($C$375:$C$424,$AP376,AH$375:AH$424)*1000/(SUMIF($C$375:$C$424,$AP376,M$375:M$424)),0)","v":0},{"$f":"IFERROR(SUMIF($C$375:$C$424,$AP376,AI$375:AI$424)*1000/(SUMIF($C$375:$C$424,$AP376,N$375:N$424)),0)","v":0},{"$f":"IFERROR(SUMIF($C$375:$C$424,$AP376,AJ$375:AJ$424)*1000/(SUMIF($C$375:$C$424,$AP376,O$375:O$424)),0)","v":0},{"$f":"IFERROR(SUMIF($C$375:$C$424,$AP376,AK$375:AK$424)*1000/(SUMIF($C$375:$C$424,$AP376,P$375:P$424)),0)","v":0},{"$f":"IFERROR(SUMIF($C$375:$C$424,$AP376,AL$375:AL$424)*1000/(SUMIF($C$375:$C$424,$AP376,Q$375:Q$424)),0)","v":0},{"$f":"IFERROR(SUMIF($C$375:$C$424,$AP376,AM$375:AM$424)*1000/(SUMIF($C$375:$C$424,$AP376,R$375:R$424)),0)","v":0}]
[null,"Scenario 3)","Private car",{"$f":"RoadLPG","v":"Road - LPG"},{"$f":"LPG","v":"LPG"},{"$f":"SUMIFS('4A Calcul. BAU city'!O$13:O$61,'4A Calcul. BAU city'!$C$13:$C$61,'4B Calcul. Climat Scen.'!$C377,'4A Calcul. BAU city'!$E$13:$E$61,'4B Calcul. Climat Scen.'!$E377)","v":0},{"$f":"IF('2A Input Climat Scen. Pass.'!J251=\"\",SUMIFS('2A Input Climat Scen. Pass.'!D$248:D$291,'2A Input Climat Scen. Pass.'!$B$248:$B$291,'4B Calcul. Climat Scen.'!$C377,'2A Input Climat Scen. Pass.'!$C$248:$C$291,'4B Calcul. Climat Scen.'!$E377),SUMIFS('2A Input Climat Scen. Pass.'!J$248:J$291,'2A Input Climat Scen. Pass.'!$B$248:$B$291,'4B Calcul. Climat Scen.'!$C377,'2A Input Climat Scen. Pass.'!$C$248:$C$291,'4B Calcul. Climat Scen.'!$E377))","v":0},{"$f":"IF('2A Input Climat Scen. Pass.'!K251=\"\",SUMIFS('2A Input Climat Scen. Pass.'!E$248:E$291,'2A Input Climat Scen. Pass.'!$B$248:$B$291,'4B Calcul. Climat Scen.'!$C377,'2A Input Climat Scen. Pass.'!$C$248:$C$291,'4B Calcul. Climat Scen.'!$E377),SUMIFS('2A Input Climat Scen. Pass.'!K$248:K$291,'2A Input Climat Scen. Pass.'!$B$248:$B$291,'4B Calcul. Climat Scen.'!$C377,'2A Input Climat Scen. Pass.'!$C$248:$C$291,'4B Calcul. Climat Scen.'!$E377))","v":0},{"$f":"IF('2A Input Climat Scen. Pass.'!L251=\"\",SUMIFS('2A Input Climat Scen. Pass.'!F$248:F$291,'2A Input Climat Scen. Pass.'!$B$248:$B$291,'4B Calcul. Climat Scen.'!$C377,'2A Input Climat Scen. Pass.'!$C$248:$C$291,'4B Calcul. Climat Scen.'!$E377),SUMIFS('2A Input Climat Scen. Pass.'!L$248:L$291,'2A Input Climat Scen. Pass.'!$B$248:$B$291,'4B Calcul. Climat Scen.'!$C377,'2A Input Climat Scen. Pass.'!$C$248:$C$291,'4B Calcul. Climat Scen.'!$E377))","v":0},{"$f":"IF('2A Input Climat Scen. Pass.'!M251=\"\",SUMIFS('2A Input Climat Scen. Pass.'!G$248:G$291,'2A Input Climat Scen. Pass.'!$B$248:$B$291,'4B Calcul. Climat Scen.'!$C377,'2A Input Climat Scen. Pass.'!$C$248:$C$291,'4B Calcul. Climat Scen.'!$E377),SUMIFS('2A Input Climat Scen. Pass.'!M$248:M$291,'2A Input Climat Scen. Pass.'!$B$248:$B$291,'4B Calcul. Climat Scen.'!$C377,'2A Input Climat Scen. Pass.'!$C$248:$C$291,'4B Calcul. Climat Scen.'!$E377))","v":0},{"$f":"IF('2A Input Climat Scen. Pass.'!N251=\"\",SUMIFS('2A Input Climat Scen. Pass.'!H$248:H$291,'2A Input Climat Scen. Pass.'!$B$248:$B$291,'4B Calcul. Climat Scen.'!$C377,'2A Input Climat Scen. Pass.'!$C$248:$C$291,'4B Calcul. Climat Scen.'!$E377),SUMIFS('2A Input Climat Scen. Pass.'!N$248:N$291,'2A Input Climat Scen. Pass.'!$B$248:$B$291,'4B Calcul. Climat Scen.'!$C377,'2A Input Climat Scen. Pass.'!$C$248:$C$291,'4B Calcul. Climat Scen.'!$E377))","v":0},null,0,0,0,0,0,0,null,0,0,0,0,0,0,null,0,{"$f":"U377*SUMIFS('4A Calcul. BAU city'!$V$13:$V$61,'4A Calcul. BAU city'!$C$13:$C$61,'4B Calcul. Climat Scen.'!$C316,'4A Calcul. BAU city'!$E$13:$E$61,'4B Calcul. Climat Scen.'!$E316)","v":0},{"$f":"V377*SUMIFS('4A Calcul. BAU city'!$V$13:$V$61,'4A Calcul. BAU city'!$C$13:$C$61,'4B Calcul. Climat Scen.'!$C316,'4A Calcul. BAU city'!$E$13:$E$61,'4B Calcul. Climat Scen.'!$E316)","v":0},{"$f":"W377*SUMIFS('4A Calcul. BAU city'!$V$13:$V$61,'4A Calcul. BAU city'!$C$13:$C$61,'4B Calcul. Climat Scen.'!$C316,'4A Calcul. BAU city'!$E$13:$E$61,'4B Calcul. Climat Scen.'!$E316)","v":0},{"$f":"X377*SUMIFS('4A Calcul. BAU city'!$V$13:$V$61,'4A Calcul. BAU city'!$C$13:$C$61,'4B Calcul. Climat Scen.'!$C316,'4A Calcul. BAU city'!$E$13:$E$61,'4B Calcul. Climat Scen.'!$E316)","v":0},{"$f":"Y377*SUMIFS('4A Calcul. BAU city'!$V$13:$V$61,'4A Calcul. BAU city'!$C$13:$C$61,'4B Calcul. Climat Scen.'!$C316,'4A Calcul. BAU city'!$E$13:$E$61,'4B Calcul. Climat Scen.'!$E316)","v":0},null,{"$f":"INDEX('6 Defaults parameters'!$T$9:$Y$18,MATCH($D377,'6 Defaults parameters'!$B$9:$B$18,0),MATCH(AH$313,'6 Defaults parameters'!$T$8:$Y$8,0))*AA377/10^6","v":0},{"$f":"INDEX('6 Defaults parameters'!$T$9:$Y$18,MATCH($D377,'6 Defaults parameters'!$B$9:$B$18,0),MATCH(AI$313,'6 Defaults parameters'!$T$8:$Y$8,0))*AB377/10^6","v":0},{"$f":"INDEX('6 Defaults parameters'!$T$9:$Y$18,MATCH($D377,'6 Defaults parameters'!$B$9:$B$18,0),MATCH(AJ$313,'6 Defaults parameters'!$T$8:$Y$8,0))*AC377/10^6","v":0},{"$f":"INDEX('6 Defaults parameters'!$T$9:$Y$18,MATCH($D377,'6 Defaults parameters'!$B$9:$B$18,0),MATCH(AK$313,'6 Defaults parameters'!$T$8:$Y$8,0))*AD377/10^6","v":0},{"$f":"INDEX('6 Defaults parameters'!$T$9:$Y$18,MATCH($D377,'6 Defaults parameters'!$B$9:$B$18,0),MATCH(AL$313,'6 Defaults parameters'!$T$8:$Y$8,0))*AE377/10^6","v":0},{"$f":"INDEX('6 Defaults parameters'!$T$9:$Y$18,MATCH($D377,'6 Defaults parameters'!$B$9:$B$18,0),MATCH(AM$313,'6 Defaults parameters'!$T$8:$Y$8,0))*AF377/10^6","v":0},null,null,{"$f":"Itaxi","v":"Individual taxi"},0,0,0,0,0,0]
[null,"Scenario 3)","Private car",{"$f":"RoadNG","v":"Road - NG"},{"$f":"NG","v":"NG"},{"$f":"SUMIFS('4A Calcul. BAU city'!O$13:O$61,'4A Calcul. BAU city'!$C$13:$C$61,'4B Calcul. Climat Scen.'!$C378,'4A Calcul. BAU city'!$E$13:$E$61,'4B Calcul. Climat Scen.'!$E378)","v":0},{"$f":"IF('2A Input Climat Scen. Pass.'!J252=\"\",SUMIFS('2A Input Climat Scen. Pass.'!D$248:D$291,'2A Input Climat Scen. Pass.'!$B$248:$B$291,'4B Calcul. Climat Scen.'!$C378,'2A Input Climat Scen. Pass.'!$C$248:$C$291,'4B Calcul. Climat Scen.'!$E378),SUMIFS('2A Input Climat Scen. Pass.'!J$248:J$291,'2A Input Climat Scen. Pass.'!$B$248:$B$291,'4B Calcul. Climat Scen.'!$C378,'2A Input Climat Scen. Pass.'!$C$248:$C$291,'4B Calcul. Climat Scen.'!$E378))","v":0},{"$f":"IF('2A Input Climat Scen. Pass.'!K252=\"\",SUMIFS('2A Input Climat Scen. Pass.'!E$248:E$291,'2A Input Climat Scen. Pass.'!$B$248:$B$291,'4B Calcul. Climat Scen.'!$C378,'2A Input Climat Scen. Pass.'!$C$248:$C$291,'4B Calcul. Climat Scen.'!$E378),SUMIFS('2A Input Climat Scen. Pass.'!K$248:K$291,'2A Input Climat Scen. Pass.'!$B$248:$B$291,'4B Calcul. Climat Scen.'!$C378,'2A Input Climat Scen. Pass.'!$C$248:$C$291,'4B Calcul. Climat Scen.'!$E378))","v":0},{"$f":"IF('2A Input Climat Scen. Pass.'!L252=\"\",SUMIFS('2A Input Climat Scen. Pass.'!F$248:F$291,'2A Input Climat Scen. Pass.'!$B$248:$B$291,'4B Calcul. Climat Scen.'!$C378,'2A Input Climat Scen. Pass.'!$C$248:$C$291,'4B Calcul. Climat Scen.'!$E378),SUMIFS('2A Input Climat Scen. Pass.'!L$248:L$291,'2A Input Climat Scen. Pass.'!$B$248:$B$291,'4B Calcul. Climat Scen.'!$C378,'2A Input Climat Scen. Pass.'!$C$248:$C$291,'4B Calcul. Climat Scen.'!$E378))","v":0},{"$f":"IF('2A Input Climat Scen. Pass.'!M252=\"\",SUMIFS('2A Input Climat Scen. Pass.'!G$248:G$291,'2A Input Climat Scen. Pass.'!$B$248:$B$291,'4B Calcul. Climat Scen.'!$C378,'2A Input Climat Scen. Pass.'!$C$248:$C$291,'4B Calcul. Climat Scen.'!$E378),SUMIFS('2A Input Climat Scen. Pass.'!M$248:M$291,'2A Input Climat Scen. Pass.'!$B$248:$B$291,'4B Calcul. Climat Scen.'!$C378,'2A Input Climat Scen. Pass.'!$C$248:$C$291,'4B Calcul. Climat Scen.'!$E378))","v":0},{"$f":"IF('2A Input Climat Scen. Pass.'!N252=\"\",SUMIFS('2A Input Climat Scen. Pass.'!H$248:H$291,'2A Input Climat Scen. Pass.'!$B$248:$B$291,'4B Calcul. Climat Scen.'!$C378,'2A Input Climat Scen. Pass.'!$C$248:$C$291,'4B Calcul. Climat Scen.'!$E378),SUMIFS('2A Input Climat Scen. Pass.'!N$248:N$291,'2A Input Climat Scen. Pass.'!$B$248:$B$291,'4B Calcul. Climat Scen.'!$C378,'2A Input Climat Scen. Pass.'!$C$248:$C$291,'4B Calcul. Climat Scen.'!$E378))","v":0},null,0,0,0,0,0,0,null,0,0,0,0,0,0,null,0,{"$f":"U378*SUMIFS('4A Calcul. BAU city'!$V$13:$V$61,'4A Calcul. BAU city'!$C$13:$C$61,'4B Calcul. Climat Scen.'!$C317,'4A Calcul. BAU city'!$E$13:$E$61,'4B Calcul. Climat Scen.'!$E317)","v":0},{"$f":"V378*SUMIFS('4A Calcul. BAU city'!$V$13:$V$61,'4A Calcul. BAU city'!$C$13:$C$61,'4B Calcul. Climat Scen.'!$C317,'4A Calcul. BAU city'!$E$13:$E$61,'4B Calcul. Climat Scen.'!$E317)","v":0},{"$f":"W378*SUMIFS('4A Calcul. BAU city'!$V$13:$V$61,'4A Calcul. BAU city'!$C$13:$C$61,'4B Calcul. Climat Scen.'!$C317,'4A Calcul. BAU city'!$E$13:$E$61,'4B Calcul. Climat Scen.'!$E317)","v":0},{"$f":"X378*SUMIFS('4A Calcul. BAU city'!$V$13:$V$61,'4A Calcul. BAU city'!$C$13:$C$61,'4B Calcul. Climat Scen.'!$C317,'4A Calcul. BAU city'!$E$13:$E$61,'4B Calcul. Climat Scen.'!$E317)","v":0},{"$f":"Y378*SUMIFS('4A Calcul. BAU city'!$V$13:$V$61,'4A Calcul. BAU city'!$C$13:$C$61,'4B Calcul. Climat Scen.'!$C317,'4A Calcul. BAU city'!$E$13:$E$61,'4B Calcul. Climat Scen.'!$E317)","v":0},null,{"$f":"INDEX('6 Defaults parameters'!$T$9:$Y$18,MATCH($D378,'6 Defaults parameters'!$B$9:$B$18,0),MATCH(AH$313,'6 Defaults parameters'!$T$8:$Y$8,0))*AA378/10^6","v":0},{"$f":"INDEX('6 Defaults parameters'!$T$9:$Y$18,MATCH($D378,'6 Defaults parameters'!$B$9:$B$18,0),MATCH(AI$313,'6 Defaults parameters'!$T$8:$Y$8,0))*AB378/10^6","v":0},{"$f":"INDEX('6 Defaults parameters'!$T$9:$Y$18,MATCH($D378,'6 Defaults parameters'!$B$9:$B$18,0),MATCH(AJ$313,'6 Defaults parameters'!$T$8:$Y$8,0))*AC378/10^6","v":0},{"$f":"INDEX('6 Defaults parameters'!$T$9:$Y$18,MATCH($D378,'6 Defaults parameters'!$B$9:$B$18,0),MATCH(AK$313,'6 Defaults parameters'!$T$8:$Y$8,0))*AD378/10^6","v":0},{"$f":"INDEX('6 Defaults parameters'!$T$9:$Y$18,MATCH($D378,'6 Defaults parameters'!$B$9:$B$18,0),MATCH(AL$313,'6 Defaults parameters'!$T$8:$Y$8,0))*AE378/10^6","v":0},{"$f":"INDEX('6 Defaults parameters'!$T$9:$Y$18,MATCH($D378,'6 Defaults parameters'!$B$9:$B$18,0),MATCH(AM$313,'6 Defaults parameters'!$T$8:$Y$8,0))*AF378/10^6","v":0},null,null,{"$f":"Motorcycle","v":"Motorcycle"},0,0,0,0,0,0]
[null,"Scenario 3)","Private car",{"$f":"RoadH","v":"Road - Hybrid"},{"$f":"Hybrid","v":"Hybrid"},{"$f":"SUMIFS('4A Calcul. BAU city'!O$13:O$61,'4A Calcul. BAU city'!$C$13:$C$61,'4B Calcul. Climat Scen.'!$C379,'4A Calcul. BAU city'!$E$13:$E$61,'4B Calcul. Climat Scen.'!$E379)","v":0},{"$f":"IF('2A Input Climat Scen. Pass.'!J253=\"\",SUMIFS('2A Input Climat Scen. Pass.'!D$248:D$291,'2A Input Climat Scen. Pass.'!$B$248:$B$291,'4B Calcul. Climat Scen.'!$C379,'2A Input Climat Scen. Pass.'!$C$248:$C$291,'4B Calcul. Climat Scen.'!$E379),SUMIFS('2A Input Climat Scen. Pass.'!J$248:J$291,'2A Input Climat Scen. Pass.'!$B$248:$B$291,'4B Calcul. Climat Scen.'!$C379,'2A Input Climat Scen. Pass.'!$C$248:$C$291,'4B Calcul. Climat Scen.'!$E379))","v":0},{"$f":"IF('2A Input Climat Scen. Pass.'!K253=\"\",SUMIFS('2A Input Climat Scen. Pass.'!E$248:E$291,'2A Input Climat Scen. Pass.'!$B$248:$B$291,'4B Calcul. Climat Scen.'!$C379,'2A Input Climat Scen. Pass.'!$C$248:$C$291,'4B Calcul. Climat Scen.'!$E379),SUMIFS('2A Input Climat Scen. Pass.'!K$248:K$291,'2A Input Climat Scen. Pass.'!$B$248:$B$291,'4B Calcul. Climat Scen.'!$C379,'2A Input Climat Scen. Pass.'!$C$248:$C$291,'4B Calcul. Climat Scen.'!$E379))","v":0},{"$f":"IF('2A Input Climat Scen. Pass.'!L253=\"\",SUMIFS('2A Input Climat Scen. Pass.'!F$248:F$291,'2A Input Climat Scen. Pass.'!$B$248:$B$291,'4B Calcul. Climat Scen.'!$C379,'2A Input Climat Scen. Pass.'!$C$248:$C$291,'4B Calcul. Climat Scen.'!$E379),SUMIFS('2A Input Climat Scen. Pass.'!L$248:L$291,'2A Input Climat Scen. Pass.'!$B$248:$B$291,'4B Calcul. Climat Scen.'!$C379,'2A Input Climat Scen. Pass.'!$C$248:$C$291,'4B Calcul. Climat Scen.'!$E379))","v":0},{"$f":"IF('2A Input Climat Scen. Pass.'!M253=\"\",SUMIFS('2A Input Climat Scen. Pass.'!G$248:G$291,'2A Input Climat Scen. Pass.'!$B$248:$B$291,'4B Calcul. Climat Scen.'!$C379,'2A Input Climat Scen. Pass.'!$C$248:$C$291,'4B Calcul. Climat Scen.'!$E379),SUMIFS('2A Input Climat Scen. Pass.'!M$248:M$291,'2A Input Climat Scen. Pass.'!$B$248:$B$291,'4B Calcul. Climat Scen.'!$C379,'2A Input Climat Scen. Pass.'!$C$248:$C$291,'4B Calcul. Climat Scen.'!$E379))","v":0},{"$f":"IF('2A Input Climat Scen. Pass.'!N253=\"\",SUMIFS('2A Input Climat Scen. Pass.'!H$248:H$291,'2A Input Climat Scen. Pass.'!$B$248:$B$291,'4B Calcul. Climat Scen.'!$C379,'2A Input Climat Scen. Pass.'!$C$248:$C$291,'4B Calcul. Climat Scen.'!$E379),SUMIFS('2A Input Climat Scen. Pass.'!N$248:N$291,'2A Input Climat Scen. Pass.'!$B$248:$B$291,'4B Calcul. Climat Scen.'!$C379,'2A Input Climat Scen. Pass.'!$C$248:$C$291,'4B Calcul. Climat Scen.'!$E379))","v":0},null,0,0,0,0,0,0,null,0,0,0,0,0,0,null,0,{"$f":"U379*SUMIFS('4A Calcul. BAU city'!$V$13:$V$61,'4A Calcul. BAU city'!$C$13:$C$61,'4B Calcul. Climat Scen.'!$C318,'4A Calcul. BAU city'!$E$13:$E$61,'4B Calcul. Climat Scen.'!$E318)","v":0},{"$f":"V379*SUMIFS('4A Calcul. BAU city'!$V$13:$V$61,'4A Calcul. BAU city'!$C$13:$C$61,'4B Calcul. Climat Scen.'!$C318,'4A Calcul. BAU city'!$E$13:$E$61,'4B Calcul. Climat Scen.'!$E318)","v":0},{"$f":"W379*SUMIFS('4A Calcul. BAU city'!$V$13:$V$61,'4A Calcul. BAU city'!$C$13:$C$61,'4B Calcul. Climat Scen.'!$C318,'4A Calcul. BAU city'!$E$13:$E$61,'4B Calcul. Climat Scen.'!$E318)","v":0},{"$f":"X379*SUMIFS('4A Calcul. BAU city'!$V$13:$V$61,'4A Calcul. BAU city'!$C$13:$C$61,'4B Calcul. Climat Scen.'!$C318,'4A Calcul. BAU city'!$E$13:$E$61,'4B Calcul. Climat Scen.'!$E318)","v":0},{"$f":"Y379*SUMIFS('4A Calcul. BAU city'!$V$13:$V$61,'4A Calcul. BAU city'!$C$13:$C$61,'4B Calcul. Climat Scen.'!$C318,'4A Calcul. BAU city'!$E$13:$E$61,'4B Calcul. Climat Scen.'!$E318)","v":0},null,{"$f":"INDEX('6 Defaults parameters'!$T$9:$Y$18,MATCH($D379,'6 Defaults parameters'!$B$9:$B$18,0),MATCH(AH$313,'6 Defaults parameters'!$T$8:$Y$8,0))*AA379/10^6","v":0},{"$f":"INDEX('6 Defaults parameters'!$T$9:$Y$18,MATCH($D379,'6 Defaults parameters'!$B$9:$B$18,0),MATCH(AI$313,'6 Defaults parameters'!$T$8:$Y$8,0))*AB379/10^6","v":0},{"$f":"INDEX('6 Defaults parameters'!$T$9:$Y$18,MATCH($D379,'6 Defaults parameters'!$B$9:$B$18,0),MATCH(AJ$313,'6 Defaults parameters'!$T$8:$Y$8,0))*AC379/10^6","v":0},{"$f":"INDEX('6 Defaults parameters'!$T$9:$Y$18,MATCH($D379,'6 Defaults parameters'!$B$9:$B$18,0),MATCH(AK$313,'6 Defaults parameters'!$T$8:$Y$8,0))*AD379/10^6","v":0},{"$f":"INDEX('6 Defaults parameters'!$T$9:$Y$18,MATCH($D379,'6 Defaults parameters'!$B$9:$B$18,0),MATCH(AL$313,'6 Defaults parameters'!$T$8:$Y$8,0))*AE379/10^6","v":0},{"$f":"INDEX('6 Defaults parameters'!$T$9:$Y$18,MATCH($D379,'6 Defaults parameters'!$B$9:$B$18,0),MATCH(AM$313,'6 Defaults parameters'!$T$8:$Y$8,0))*AF379/10^6","v":0},null,null,{"$f":"Mototaxi","v":"Motorcycle taxi"},0,0,0,0,0,0]
[null,"Scenario 3)","Private car",{"$f":"Roadelec","v":"Road - Electric"},{"$f":"Electric","v":"Electric"},{"$f":"SUMIFS('4A Calcul. BAU city'!O$13:O$61,'4A Calcul. BAU city'!$C$13:$C$61,'4B Calcul. Climat Scen.'!$C380,'4A Calcul. BAU city'!$E$13:$E$61,'4B Calcul. Climat Scen.'!$E380)","v":0},{"$f":"IF('2A Input Climat Scen. Pass.'!J254=\"\",SUMIFS('2A Input Climat Scen. Pass.'!D$248:D$291,'2A Input Climat Scen. Pass.'!$B$248:$B$291,'4B Calcul. Climat Scen.'!$C380,'2A Input Climat Scen. Pass.'!$C$248:$C$291,'4B Calcul. Climat Scen.'!$E380),SUMIFS('2A Input Climat Scen. Pass.'!J$248:J$291,'2A Input Climat Scen. Pass.'!$B$248:$B$291,'4B Calcul. Climat Scen.'!$C380,'2A Input Climat Scen. Pass.'!$C$248:$C$291,'4B Calcul. Climat Scen.'!$E380))","v":0},{"$f":"IF('2A Input Climat Scen. Pass.'!K254=\"\",SUMIFS('2A Input Climat Scen. Pass.'!E$248:E$291,'2A Input Climat Scen. Pass.'!$B$248:$B$291,'4B Calcul. Climat Scen.'!$C380,'2A Input Climat Scen. Pass.'!$C$248:$C$291,'4B Calcul. Climat Scen.'!$E380),SUMIFS('2A Input Climat Scen. Pass.'!K$248:K$291,'2A Input Climat Scen. Pass.'!$B$248:$B$291,'4B Calcul. Climat Scen.'!$C380,'2A Input Climat Scen. Pass.'!$C$248:$C$291,'4B Calcul. Climat Scen.'!$E380))","v":0},{"$f":"IF('2A Input Climat Scen. Pass.'!L254=\"\",SUMIFS('2A Input Climat Scen. Pass.'!F$248:F$291,'2A Input Climat Scen. Pass.'!$B$248:$B$291,'4B Calcul. Climat Scen.'!$C380,'2A Input Climat Scen. Pass.'!$C$248:$C$291,'4B Calcul. Climat Scen.'!$E380),SUMIFS('2A Input Climat Scen. Pass.'!L$248:L$291,'2A Input Climat Scen. Pass.'!$B$248:$B$291,'4B Calcul. Climat Scen.'!$C380,'2A Input Climat Scen. Pass.'!$C$248:$C$291,'4B Calcul. Climat Scen.'!$E380))","v":0},{"$f":"IF('2A Input Climat Scen. Pass.'!M254=\"\",SUMIFS('2A Input Climat Scen. Pass.'!G$248:G$291,'2A Input Climat Scen. Pass.'!$B$248:$B$291,'4B Calcul. Climat Scen.'!$C380,'2A Input Climat Scen. Pass.'!$C$248:$C$291,'4B Calcul. Climat Scen.'!$E380),SUMIFS('2A Input Climat Scen. Pass.'!M$248:M$291,'2A Input Climat Scen. Pass.'!$B$248:$B$291,'4B Calcul. Climat Scen.'!$C380,'2A Input Climat Scen. Pass.'!$C$248:$C$291,'4B Calcul. Climat Scen.'!$E380))","v":0},{"$f":"IF('2A Input Climat Scen. Pass.'!N254=\"\",SUMIFS('2A Input Climat Scen. Pass.'!H$248:H$291,'2A Input Climat Scen. Pass.'!$B$248:$B$291,'4B Calcul. Climat Scen.'!$C380,'2A Input Climat Scen. Pass.'!$C$248:$C$291,'4B Calcul. Climat Scen.'!$E380),SUMIFS('2A Input Climat Scen. Pass.'!N$248:N$291,'2A Input Climat Scen. Pass.'!$B$248:$B$291,'4B Calcul. Climat Scen.'!$C380,'2A Input Climat Scen. Pass.'!$C$248:$C$291,'4B Calcul. Climat Scen.'!$E380))","v":0},null,0,0,0,0,0,0,null,0,0,0,0,0,0,null,0,{"$f":"U380*SUMIFS('4A Calcul. BAU city'!$V$13:$V$61,'4A Calcul. BAU city'!$C$13:$C$61,'4B Calcul. Climat Scen.'!$C319,'4A Calcul. BAU city'!$E$13:$E$61,'4B Calcul. Climat Scen.'!$E319)","v":0},{"$f":"V380*SUMIFS('4A Calcul. BAU city'!$V$13:$V$61,'4A Calcul. BAU city'!$C$13:$C$61,'4B Calcul. Climat Scen.'!$C319,'4A Calcul. BAU city'!$E$13:$E$61,'4B Calcul. Climat Scen.'!$E319)","v":0},{"$f":"W380*SUMIFS('4A Calcul. BAU city'!$V$13:$V$61,'4A Calcul. BAU city'!$C$13:$C$61,'4B Calcul. Climat Scen.'!$C319,'4A Calcul. BAU city'!$E$13:$E$61,'4B Calcul. Climat Scen.'!$E319)","v":0},{"$f":"X380*SUMIFS('4A Calcul. BAU city'!$V$13:$V$61,'4A Calcul. BAU city'!$C$13:$C$61,'4B Calcul. Climat Scen.'!$C319,'4A Calcul. BAU city'!$E$13:$E$61,'4B Calcul. Climat Scen.'!$E319)","v":0},{"$f":"Y380*SUMIFS('4A Calcul. BAU city'!$V$13:$V$61,'4A Calcul. BAU city'!$C$13:$C$61,'4B Calcul. Climat Scen.'!$C319,'4A Calcul. BAU city'!$E$13:$E$61,'4B Calcul. Climat Scen.'!$E319)","v":0},null,{"$f":"INDEX('6 Defaults parameters'!$T$9:$Y$18,MATCH($D380,'6 Defaults parameters'!$B$9:$B$18,0),MATCH(AH$313,'6 Defaults parameters'!$T$8:$Y$8,0))*AA380/10^6","v":0},{"$f":"INDEX('6 Defaults parameters'!$T$9:$Y$18,MATCH($D380,'6 Defaults parameters'!$B$9:$B$18,0),MATCH(AI$313,'6 Defaults parameters'!$T$8:$Y$8,0))*AB380/10^6","v":0},{"$f":"INDEX('6 Defaults parameters'!$T$9:$Y$18,MATCH($D380,'6 Defaults parameters'!$B$9:$B$18,0),MATCH(AJ$313,'6 Defaults parameters'!$T$8:$Y$8,0))*AC380/10^6","v":0},{"$f":"INDEX('6 Defaults parameters'!$T$9:$Y$18,MATCH($D380,'6 Defaults parameters'!$B$9:$B$18,0),MATCH(AK$313,'6 Defaults parameters'!$T$8:$Y$8,0))*AD380/10^6","v":0},{"$f":"INDEX('6 Defaults parameters'!$T$9:$Y$18,MATCH($D380,'6 Defaults parameters'!$B$9:$B$18,0),MATCH(AL$313,'6 Defaults parameters'!$T$8:$Y$8,0))*AE380/10^6","v":0},{"$f":"INDEX('6 Defaults parameters'!$T$9:$Y$18,MATCH($D380,'6 Defaults parameters'!$B$9:$B$18,0),MATCH(AM$313,'6 Defaults parameters'!$T$8:$Y$8,0))*AF380/10^6","v":0},null,null,{"$f":"Minibus","v":"Minibus"},0,0,0,0,0,0]
[null,"Scenario 3)",{"$f":"Itaxi","v":"Individual taxi"},{"$f":"RoadG","v":"Road - Gasoline"},{"$f":"Gasoline","v":"Gasoline"},{"$f":"SUMIFS('4A Calcul. BAU city'!O$13:O$61,'4A Calcul. BAU city'!$C$13:$C$61,'4B Calcul. Climat Scen.'!$C381,'4A Calcul. BAU city'!$E$13:$E$61,'4B Calcul. Climat Scen.'!$E381)","v":0},{"$f":"IF('2A Input Climat Scen. Pass.'!J256=\"\",SUMIFS('2A Input Climat Scen. Pass.'!D$248:D$291,'2A Input Climat Scen. Pass.'!$B$248:$B$291,'4B Calcul. Climat Scen.'!$C381,'2A Input Climat Scen. Pass.'!$C$248:$C$291,'4B Calcul. Climat Scen.'!$E381),SUMIFS('2A Input Climat Scen. Pass.'!J$248:J$291,'2A Input Climat Scen. Pass.'!$B$248:$B$291,'4B Calcul. Climat Scen.'!$C381,'2A Input Climat Scen. Pass.'!$C$248:$C$291,'4B Calcul. Climat Scen.'!$E381))","v":0},{"$f":"IF('2A Input Climat Scen. Pass.'!K256=\"\",SUMIFS('2A Input Climat Scen. Pass.'!E$248:E$291,'2A Input Climat Scen. Pass.'!$B$248:$B$291,'4B Calcul. Climat Scen.'!$C381,'2A Input Climat Scen. Pass.'!$C$248:$C$291,'4B Calcul. Climat Scen.'!$E381),SUMIFS('2A Input Climat Scen. Pass.'!K$248:K$291,'2A Input Climat Scen. Pass.'!$B$248:$B$291,'4B Calcul. Climat Scen.'!$C381,'2A Input Climat Scen. Pass.'!$C$248:$C$291,'4B Calcul. Climat Scen.'!$E381))","v":0},{"$f":"IF('2A Input Climat Scen. Pass.'!L256=\"\",SUMIFS('2A Input Climat Scen. Pass.'!F$248:F$291,'2A Input Climat Scen. Pass.'!$B$248:$B$291,'4B Calcul. Climat Scen.'!$C381,'2A Input Climat Scen. Pass.'!$C$248:$C$291,'4B Calcul. Climat Scen.'!$E381),SUMIFS('2A Input Climat Scen. Pass.'!L$248:L$291,'2A Input Climat Scen. Pass.'!$B$248:$B$291,'4B Calcul. Climat Scen.'!$C381,'2A Input Climat Scen. Pass.'!$C$248:$C$291,'4B Calcul. Climat Scen.'!$E381))","v":0},{"$f":"IF('2A Input Climat Scen. Pass.'!M256=\"\",SUMIFS('2A Input Climat Scen. Pass.'!G$248:G$291,'2A Input Climat Scen. Pass.'!$B$248:$B$291,'4B Calcul. Climat Scen.'!$C381,'2A Input Climat Scen. Pass.'!$C$248:$C$291,'4B Calcul. Climat Scen.'!$E381),SUMIFS('2A Input Climat Scen. Pass.'!M$248:M$291,'2A Input Climat Scen. Pass.'!$B$248:$B$291,'4B Calcul. Climat Scen.'!$C381,'2A Input Climat Scen. Pass.'!$C$248:$C$291,'4B Calcul. Climat Scen.'!$E381))","v":0},{"$f":"IF('2A Input Climat Scen. Pass.'!N256=\"\",SUMIFS('2A Input Climat Scen. Pass.'!H$248:H$291,'2A Input Climat Scen. Pass.'!$B$248:$B$291,'4B Calcul. Climat Scen.'!$C381,'2A Input Climat Scen. Pass.'!$C$248:$C$291,'4B Calcul. Climat Scen.'!$E381),SUMIFS('2A Input Climat Scen. Pass.'!N$248:N$291,'2A Input Climat Scen. Pass.'!$B$248:$B$291,'4B Calcul. Climat Scen.'!$C381,'2A Input Climat Scen. Pass.'!$C$248:$C$291,'4B Calcul. Climat Scen.'!$E381))","v":0},null,0,0,0,0,0,0,null,0,0,0,0,0,0,null,0,{"$f":"U381*SUMIFS('4A Calcul. BAU city'!$V$13:$V$61,'4A Calcul. BAU city'!$C$13:$C$61,'4B Calcul. Climat Scen.'!$C320,'4A Calcul. BAU city'!$E$13:$E$61,'4B Calcul. Climat Scen.'!$E320)","v":0},{"$f":"V381*SUMIFS('4A Calcul. BAU city'!$V$13:$V$61,'4A Calcul. BAU city'!$C$13:$C$61,'4B Calcul. Climat Scen.'!$C320,'4A Calcul. BAU city'!$E$13:$E$61,'4B Calcul. Climat Scen.'!$E320)","v":0},{"$f":"W381*SUMIFS('4A Calcul. BAU city'!$V$13:$V$61,'4A Calcul. BAU city'!$C$13:$C$61,'4B Calcul. Climat Scen.'!$C320,'4A Calcul. BAU city'!$E$13:$E$61,'4B Calcul. Climat Scen.'!$E320)","v":0},{"$f":"X381*SUMIFS('4A Calcul. BAU city'!$V$13:$V$61,'4A Calcul. BAU city'!$C$13:$C$61,'4B Calcul. Climat Scen.'!$C320,'4A Calcul. BAU city'!$E$13:$E$61,'4B Calcul. Climat Scen.'!$E320)","v":0},{"$f":"Y381*SUMIFS('4A Calcul. BAU city'!$V$13:$V$61,'4A Calcul. BAU city'!$C$13:$C$61,'4B Calcul. Climat Scen.'!$C320,'4A Calcul. BAU city'!$E$13:$E$61,'4B Calcul. Climat Scen.'!$E320)","v":0},null,{"$f":"INDEX('6 Defaults parameters'!$T$9:$Y$18,MATCH($D381,'6 Defaults parameters'!$B$9:$B$18,0),MATCH(AH$313,'6 Defaults parameters'!$T$8:$Y$8,0))*AA381/10^6","v":0},{"$f":"INDEX('6 Defaults parameters'!$T$9:$Y$18,MATCH($D381,'6 Defaults parameters'!$B$9:$B$18,0),MATCH(AI$313,'6 Defaults parameters'!$T$8:$Y$8,0))*AB381/10^6","v":0},{"$f":"INDEX('6 Defaults parameters'!$T$9:$Y$18,MATCH($D381,'6 Defaults parameters'!$B$9:$B$18,0),MATCH(AJ$313,'6 Defaults parameters'!$T$8:$Y$8,0))*AC381/10^6","v":0},{"$f":"INDEX('6 Defaults parameters'!$T$9:$Y$18,MATCH($D381,'6 Defaults parameters'!$B$9:$B$18,0),MATCH(AK$313,'6 Defaults parameters'!$T$8:$Y$8,0))*AD381/10^6","v":0},{"$f":"INDEX('6 Defaults parameters'!$T$9:$Y$18,MATCH($D381,'6 Defaults parameters'!$B$9:$B$18,0),MATCH(AL$313,'6 Defaults parameters'!$T$8:$Y$8,0))*AE381/10^6","v":0},{"$f":"INDEX('6 Defaults parameters'!$T$9:$Y$18,MATCH($D381,'6 Defaults parameters'!$B$9:$B$18,0),MATCH(AM$313,'6 Defaults parameters'!$T$8:$Y$8,0))*AF381/10^6","v":0},null,null,{"$f":"Bus","v":"Bus"},0,0,0,0,0,0]
[null,"Scenario 3)","Individual taxi",{"$f":"RoadD","v":"Road - Diesel"},{"$f":"Diesel","v":"Diesel"},{"$f":"SUMIFS('4A Calcul. BAU city'!O$13:O$61,'4A Calcul. BAU city'!$C$13:$C$61,'4B Calcul. Climat Scen.'!$C382,'4A Calcul. BAU city'!$E$13:$E$61,'4B Calcul. Climat Scen.'!$E382)","v":0},{"$f":"IF('2A Input Climat Scen. Pass.'!J257=\"\",SUMIFS('2A Input Climat Scen. Pass.'!D$248:D$291,'2A Input Climat Scen. Pass.'!$B$248:$B$291,'4B Calcul. Climat Scen.'!$C382,'2A Input Climat Scen. Pass.'!$C$248:$C$291,'4B Calcul. Climat Scen.'!$E382),SUMIFS('2A Input Climat Scen. Pass.'!J$248:J$291,'2A Input Climat Scen. Pass.'!$B$248:$B$291,'4B Calcul. Climat Scen.'!$C382,'2A Input Climat Scen. Pass.'!$C$248:$C$291,'4B Calcul. Climat Scen.'!$E382))","v":0},{"$f":"IF('2A Input Climat Scen. Pass.'!K257=\"\",SUMIFS('2A Input Climat Scen. Pass.'!E$248:E$291,'2A Input Climat Scen. Pass.'!$B$248:$B$291,'4B Calcul. Climat Scen.'!$C382,'2A Input Climat Scen. Pass.'!$C$248:$C$291,'4B Calcul. Climat Scen.'!$E382),SUMIFS('2A Input Climat Scen. Pass.'!K$248:K$291,'2A Input Climat Scen. Pass.'!$B$248:$B$291,'4B Calcul. Climat Scen.'!$C382,'2A Input Climat Scen. Pass.'!$C$248:$C$291,'4B Calcul. Climat Scen.'!$E382))","v":0},{"$f":"IF('2A Input Climat Scen. Pass.'!L257=\"\",SUMIFS('2A Input Climat Scen. Pass.'!F$248:F$291,'2A Input Climat Scen. Pass.'!$B$248:$B$291,'4B Calcul. Climat Scen.'!$C382,'2A Input Climat Scen. Pass.'!$C$248:$C$291,'4B Calcul. Climat Scen.'!$E382),SUMIFS('2A Input Climat Scen. Pass.'!L$248:L$291,'2A Input Climat Scen. Pass.'!$B$248:$B$291,'4B Calcul. Climat Scen.'!$C382,'2A Input Climat Scen. Pass.'!$C$248:$C$291,'4B Calcul. Climat Scen.'!$E382))","v":0},{"$f":"IF('2A Input Climat Scen. Pass.'!M257=\"\",SUMIFS('2A Input Climat Scen. Pass.'!G$248:G$291,'2A Input Climat Scen. Pass.'!$B$248:$B$291,'4B Calcul. Climat Scen.'!$C382,'2A Input Climat Scen. Pass.'!$C$248:$C$291,'4B Calcul. Climat Scen.'!$E382),SUMIFS('2A Input Climat Scen. Pass.'!M$248:M$291,'2A Input Climat Scen. Pass.'!$B$248:$B$291,'4B Calcul. Climat Scen.'!$C382,'2A Input Climat Scen. Pass.'!$C$248:$C$291,'4B Calcul. Climat Scen.'!$E382))","v":0},{"$f":"IF('2A Input Climat Scen. Pass.'!N257=\"\",SUMIFS('2A Input Climat Scen. Pass.'!H$248:H$291,'2A Input Climat Scen. Pass.'!$B$248:$B$291,'4B Calcul. Climat Scen.'!$C382,'2A Input Climat Scen. Pass.'!$C$248:$C$291,'4B Calcul. Climat Scen.'!$E382),SUMIFS('2A Input Climat Scen. Pass.'!N$248:N$291,'2A Input Climat Scen. Pass.'!$B$248:$B$291,'4B Calcul. Climat Scen.'!$C382,'2A Input Climat Scen. Pass.'!$C$248:$C$291,'4B Calcul. Climat Scen.'!$E382))","v":0},null,0,0,0,0,0,0,null,0,0,0,0,0,0,null,0,{"$f":"U382*SUMIFS('4A Calcul. BAU city'!$V$13:$V$61,'4A Calcul. BAU city'!$C$13:$C$61,'4B Calcul. Climat Scen.'!$C321,'4A Calcul. BAU city'!$E$13:$E$61,'4B Calcul. Climat Scen.'!$E321)","v":0},{"$f":"V382*SUMIFS('4A Calcul. BAU city'!$V$13:$V$61,'4A Calcul. BAU city'!$C$13:$C$61,'4B Calcul. Climat Scen.'!$C321,'4A Calcul. BAU city'!$E$13:$E$61,'4B Calcul. Climat Scen.'!$E321)","v":0},{"$f":"W382*SUMIFS('4A Calcul. BAU city'!$V$13:$V$61,'4A Calcul. BAU city'!$C$13:$C$61,'4B Calcul. Climat Scen.'!$C321,'4A Calcul. BAU city'!$E$13:$E$61,'4B Calcul. Climat Scen.'!$E321)","v":0},{"$f":"X382*SUMIFS('4A Calcul. BAU city'!$V$13:$V$61,'4A Calcul. BAU city'!$C$13:$C$61,'4B Calcul. Climat Scen.'!$C321,'4A Calcul. BAU city'!$E$13:$E$61,'4B Calcul. Climat Scen.'!$E321)","v":0},{"$f":"Y382*SUMIFS('4A Calcul. BAU city'!$V$13:$V$61,'4A Calcul. BAU city'!$C$13:$C$61,'4B Calcul. Climat Scen.'!$C321,'4A Calcul. BAU city'!$E$13:$E$61,'4B Calcul. Climat Scen.'!$E321)","v":0},null,{"$f":"INDEX('6 Defaults parameters'!$T$9:$Y$18,MATCH($D382,'6 Defaults parameters'!$B$9:$B$18,0),MATCH(AH$313,'6 Defaults parameters'!$T$8:$Y$8,0))*AA382/10^6","v":0},{"$f":"INDEX('6 Defaults parameters'!$T$9:$Y$18,MATCH($D382,'6 Defaults parameters'!$B$9:$B$18,0),MATCH(AI$313,'6 Defaults parameters'!$T$8:$Y$8,0))*AB382/10^6","v":0},{"$f":"INDEX('6 Defaults parameters'!$T$9:$Y$18,MATCH($D382,'6 Defaults parameters'!$B$9:$B$18,0),MATCH(AJ$313,'6 Defaults parameters'!$T$8:$Y$8,0))*AC382/10^6","v":0},{"$f":"INDEX('6 Defaults parameters'!$T$9:$Y$18,MATCH($D382,'6 Defaults parameters'!$B$9:$B$18,0),MATCH(AK$313,'6 Defaults parameters'!$T$8:$Y$8,0))*AD382/10^6","v":0},{"$f":"INDEX('6 Defaults parameters'!$T$9:$Y$18,MATCH($D382,'6 Defaults parameters'!$B$9:$B$18,0),MATCH(AL$313,'6 Defaults parameters'!$T$8:$Y$8,0))*AE382/10^6","v":0},{"$f":"INDEX('6 Defaults parameters'!$T$9:$Y$18,MATCH($D382,'6 Defaults parameters'!$B$9:$B$18,0),MATCH(AM$313,'6 Defaults parameters'!$T$8:$Y$8,0))*AF382/10^6","v":0},null,null,{"$f":"BRT","v":"BRT"},0,0,0,0,0,0]
[null,"Scenario 3)","Individual taxi",{"$f":"RoadLPG","v":"Road - LPG"},{"$f":"LPG","v":"LPG"},{"$f":"SUMIFS('4A Calcul. BAU city'!O$13:O$61,'4A Calcul. BAU city'!$C$13:$C$61,'4B Calcul. Climat Scen.'!$C383,'4A Calcul. BAU city'!$E$13:$E$61,'4B Calcul. Climat Scen.'!$E383)","v":0},{"$f":"IF('2A Input Climat Scen. Pass.'!J258=\"\",SUMIFS('2A Input Climat Scen. Pass.'!D$248:D$291,'2A Input Climat Scen. Pass.'!$B$248:$B$291,'4B Calcul. Climat Scen.'!$C383,'2A Input Climat Scen. Pass.'!$C$248:$C$291,'4B Calcul. Climat Scen.'!$E383),SUMIFS('2A Input Climat Scen. Pass.'!J$248:J$291,'2A Input Climat Scen. Pass.'!$B$248:$B$291,'4B Calcul. Climat Scen.'!$C383,'2A Input Climat Scen. Pass.'!$C$248:$C$291,'4B Calcul. Climat Scen.'!$E383))","v":0},{"$f":"IF('2A Input Climat Scen. Pass.'!K258=\"\",SUMIFS('2A Input Climat Scen. Pass.'!E$248:E$291,'2A Input Climat Scen. Pass.'!$B$248:$B$291,'4B Calcul. Climat Scen.'!$C383,'2A Input Climat Scen. Pass.'!$C$248:$C$291,'4B Calcul. Climat Scen.'!$E383),SUMIFS('2A Input Climat Scen. Pass.'!K$248:K$291,'2A Input Climat Scen. Pass.'!$B$248:$B$291,'4B Calcul. Climat Scen.'!$C383,'2A Input Climat Scen. Pass.'!$C$248:$C$291,'4B Calcul. Climat Scen.'!$E383))","v":0},{"$f":"IF('2A Input Climat Scen. Pass.'!L258=\"\",SUMIFS('2A Input Climat Scen. Pass.'!F$248:F$291,'2A Input Climat Scen. Pass.'!$B$248:$B$291,'4B Calcul. Climat Scen.'!$C383,'2A Input Climat Scen. Pass.'!$C$248:$C$291,'4B Calcul. Climat Scen.'!$E383),SUMIFS('2A Input Climat Scen. Pass.'!L$248:L$291,'2A Input Climat Scen. Pass.'!$B$248:$B$291,'4B Calcul. Climat Scen.'!$C383,'2A Input Climat Scen. Pass.'!$C$248:$C$291,'4B Calcul. Climat Scen.'!$E383))","v":0},{"$f":"IF('2A Input Climat Scen. Pass.'!M258=\"\",SUMIFS('2A Input Climat Scen. Pass.'!G$248:G$291,'2A Input Climat Scen. Pass.'!$B$248:$B$291,'4B Calcul. Climat Scen.'!$C383,'2A Input Climat Scen. Pass.'!$C$248:$C$291,'4B Calcul. Climat Scen.'!$E383),SUMIFS('2A Input Climat Scen. Pass.'!M$248:M$291,'2A Input Climat Scen. Pass.'!$B$248:$B$291,'4B Calcul. Climat Scen.'!$C383,'2A Input Climat Scen. Pass.'!$C$248:$C$291,'4B Calcul. Climat Scen.'!$E383))","v":0},{"$f":"IF('2A Input Climat Scen. Pass.'!N258=\"\",SUMIFS('2A Input Climat Scen. Pass.'!H$248:H$291,'2A Input Climat Scen. Pass.'!$B$248:$B$291,'4B Calcul. Climat Scen.'!$C383,'2A Input Climat Scen. Pass.'!$C$248:$C$291,'4B Calcul. Climat Scen.'!$E383),SUMIFS('2A Input Climat Scen. Pass.'!N$248:N$291,'2A Input Climat Scen. Pass.'!$B$248:$B$291,'4B Calcul. Climat Scen.'!$C383,'2A Input Climat Scen. Pass.'!$C$248:$C$291,'4B Calcul. Climat Scen.'!$E383))","v":0},null,0,0,0,0,0,0,null,0,0,0,0,0,0,null,0,{"$f":"U383*SUMIFS('4A Calcul. BAU city'!$V$13:$V$61,'4A Calcul. BAU city'!$C$13:$C$61,'4B Calcul. Climat Scen.'!$C322,'4A Calcul. BAU city'!$E$13:$E$61,'4B Calcul. Climat Scen.'!$E322)","v":0},{"$f":"V383*SUMIFS('4A Calcul. BAU city'!$V$13:$V$61,'4A Calcul. BAU city'!$C$13:$C$61,'4B Calcul. Climat Scen.'!$C322,'4A Calcul. BAU city'!$E$13:$E$61,'4B Calcul. Climat Scen.'!$E322)","v":0},{"$f":"W383*SUMIFS('4A Calcul. BAU city'!$V$13:$V$61,'4A Calcul. BAU city'!$C$13:$C$61,'4B Calcul. Climat Scen.'!$C322,'4A Calcul. BAU city'!$E$13:$E$61,'4B Calcul. Climat Scen.'!$E322)","v":0},{"$f":"X383*SUMIFS('4A Calcul. BAU city'!$V$13:$V$61,'4A Calcul. BAU city'!$C$13:$C$61,'4B Calcul. Climat Scen.'!$C322,'4A Calcul. BAU city'!$E$13:$E$61,'4B Calcul. Climat Scen.'!$E322)","v":0},{"$f":"Y383*SUMIFS('4A Calcul. BAU city'!$V$13:$V$61,'4A Calcul. BAU city'!$C$13:$C$61,'4B Calcul. Climat Scen.'!$C322,'4A Calcul. BAU city'!$E$13:$E$61,'4B Calcul. Climat Scen.'!$E322)","v":0},null,{"$f":"INDEX('6 Defaults parameters'!$T$9:$Y$18,MATCH($D383,'6 Defaults parameters'!$B$9:$B$18,0),MATCH(AH$313,'6 Defaults parameters'!$T$8:$Y$8,0))*AA383/10^6","v":0},{"$f":"INDEX('6 Defaults parameters'!$T$9:$Y$18,MATCH($D383,'6 Defaults parameters'!$B$9:$B$18,0),MATCH(AI$313,'6 Defaults parameters'!$T$8:$Y$8,0))*AB383/10^6","v":0},{"$f":"INDEX('6 Defaults parameters'!$T$9:$Y$18,MATCH($D383,'6 Defaults parameters'!$B$9:$B$18,0),MATCH(AJ$313,'6 Defaults parameters'!$T$8:$Y$8,0))*AC383/10^6","v":0},{"$f":"INDEX('6 Defaults parameters'!$T$9:$Y$18,MATCH($D383,'6 Defaults parameters'!$B$9:$B$18,0),MATCH(AK$313,'6 Defaults parameters'!$T$8:$Y$8,0))*AD383/10^6","v":0},{"$f":"INDEX('6 Defaults parameters'!$T$9:$Y$18,MATCH($D383,'6 Defaults parameters'!$B$9:$B$18,0),MATCH(AL$313,'6 Defaults parameters'!$T$8:$Y$8,0))*AE383/10^6","v":0},{"$f":"INDEX('6 Defaults parameters'!$T$9:$Y$18,MATCH($D383,'6 Defaults parameters'!$B$9:$B$18,0),MATCH(AM$313,'6 Defaults parameters'!$T$8:$Y$8,0))*AF383/10^6","v":0},null,null,{"$f":"Train","v":"Long distance train"},0,0,0,0,0,0]
[null,"Scenario 3)","Individual taxi",{"$f":"RoadNG","v":"Road - NG"},{"$f":"NG","v":"NG"},{"$f":"SUMIFS('4A Calcul. BAU city'!O$13:O$61,'4A Calcul. BAU city'!$C$13:$C$61,'4B Calcul. Climat Scen.'!$C384,'4A Calcul. BAU city'!$E$13:$E$61,'4B Calcul. Climat Scen.'!$E384)","v":0},{"$f":"IF('2A Input Climat Scen. Pass.'!J259=\"\",SUMIFS('2A Input Climat Scen. Pass.'!D$248:D$291,'2A Input Climat Scen. Pass.'!$B$248:$B$291,'4B Calcul. Climat Scen.'!$C384,'2A Input Climat Scen. Pass.'!$C$248:$C$291,'4B Calcul. Climat Scen.'!$E384),SUMIFS('2A Input Climat Scen. Pass.'!J$248:J$291,'2A Input Climat Scen. Pass.'!$B$248:$B$291,'4B Calcul. Climat Scen.'!$C384,'2A Input Climat Scen. Pass.'!$C$248:$C$291,'4B Calcul. Climat Scen.'!$E384))","v":0},{"$f":"IF('2A Input Climat Scen. Pass.'!K259=\"\",SUMIFS('2A Input Climat Scen. Pass.'!E$248:E$291,'2A Input Climat Scen. Pass.'!$B$248:$B$291,'4B Calcul. Climat Scen.'!$C384,'2A Input Climat Scen. Pass.'!$C$248:$C$291,'4B Calcul. Climat Scen.'!$E384),SUMIFS('2A Input Climat Scen. Pass.'!K$248:K$291,'2A Input Climat Scen. Pass.'!$B$248:$B$291,'4B Calcul. Climat Scen.'!$C384,'2A Input Climat Scen. Pass.'!$C$248:$C$291,'4B Calcul. Climat Scen.'!$E384))","v":0},{"$f":"IF('2A Input Climat Scen. Pass.'!L259=\"\",SUMIFS('2A Input Climat Scen. Pass.'!F$248:F$291,'2A Input Climat Scen. Pass.'!$B$248:$B$291,'4B Calcul. Climat Scen.'!$C384,'2A Input Climat Scen. Pass.'!$C$248:$C$291,'4B Calcul. Climat Scen.'!$E384),SUMIFS('2A Input Climat Scen. Pass.'!L$248:L$291,'2A Input Climat Scen. Pass.'!$B$248:$B$291,'4B Calcul. Climat Scen.'!$C384,'2A Input Climat Scen. Pass.'!$C$248:$C$291,'4B Calcul. Climat Scen.'!$E384))","v":0},{"$f":"IF('2A Input Climat Scen. Pass.'!M259=\"\",SUMIFS('2A Input Climat Scen. Pass.'!G$248:G$291,'2A Input Climat Scen. Pass.'!$B$248:$B$291,'4B Calcul. Climat Scen.'!$C384,'2A Input Climat Scen. Pass.'!$C$248:$C$291,'4B Calcul. Climat Scen.'!$E384),SUMIFS('2A Input Climat Scen. Pass.'!M$248:M$291,'2A Input Climat Scen. Pass.'!$B$248:$B$291,'4B Calcul. Climat Scen.'!$C384,'2A Input Climat Scen. Pass.'!$C$248:$C$291,'4B Calcul. Climat Scen.'!$E384))","v":0},{"$f":"IF('2A Input Climat Scen. Pass.'!N259=\"\",SUMIFS('2A Input Climat Scen. Pass.'!H$248:H$291,'2A Input Climat Scen. Pass.'!$B$248:$B$291,'4B Calcul. Climat Scen.'!$C384,'2A Input Climat Scen. Pass.'!$C$248:$C$291,'4B Calcul. Climat Scen.'!$E384),SUMIFS('2A Input Climat Scen. Pass.'!N$248:N$291,'2A Input Climat Scen. Pass.'!$B$248:$B$291,'4B Calcul. Climat Scen.'!$C384,'2A Input Climat Scen. Pass.'!$C$248:$C$291,'4B Calcul. Climat Scen.'!$E384))","v":0},null,0,0,0,0,0,0,null,0,0,0,0,0,0,null,0,{"$f":"U384*SUMIFS('4A Calcul. BAU city'!$V$13:$V$61,'4A Calcul. BAU city'!$C$13:$C$61,'4B Calcul. Climat Scen.'!$C323,'4A Calcul. BAU city'!$E$13:$E$61,'4B Calcul. Climat Scen.'!$E323)","v":0},{"$f":"V384*SUMIFS('4A Calcul. BAU city'!$V$13:$V$61,'4A Calcul. BAU city'!$C$13:$C$61,'4B Calcul. Climat Scen.'!$C323,'4A Calcul. BAU city'!$E$13:$E$61,'4B Calcul. Climat Scen.'!$E323)","v":0},{"$f":"W384*SUMIFS('4A Calcul. BAU city'!$V$13:$V$61,'4A Calcul. BAU city'!$C$13:$C$61,'4B Calcul. Climat Scen.'!$C323,'4A Calcul. BAU city'!$E$13:$E$61,'4B Calcul. Climat Scen.'!$E323)","v":0},{"$f":"X384*SUMIFS('4A Calcul. BAU city'!$V$13:$V$61,'4A Calcul. BAU city'!$C$13:$C$61,'4B Calcul. Climat Scen.'!$C323,'4A Calcul. BAU city'!$E$13:$E$61,'4B Calcul. Climat Scen.'!$E323)","v":0},{"$f":"Y384*SUMIFS('4A Calcul. BAU city'!$V$13:$V$61,'4A Calcul. BAU city'!$C$13:$C$61,'4B Calcul. Climat Scen.'!$C323,'4A Calcul. BAU city'!$E$13:$E$61,'4B Calcul. Climat Scen.'!$E323)","v":0},null,{"$f":"INDEX('6 Defaults parameters'!$T$9:$Y$18,MATCH($D384,'6 Defaults parameters'!$B$9:$B$18,0),MATCH(AH$313,'6 Defaults parameters'!$T$8:$Y$8,0))*AA384/10^6","v":0},{"$f":"INDEX('6 Defaults parameters'!$T$9:$Y$18,MATCH($D384,'6 Defaults parameters'!$B$9:$B$18,0),MATCH(AI$313,'6 Defaults parameters'!$T$8:$Y$8,0))*AB384/10^6","v":0},{"$f":"INDEX('6 Defaults parameters'!$T$9:$Y$18,MATCH($D384,'6 Defaults parameters'!$B$9:$B$18,0),MATCH(AJ$313,'6 Defaults parameters'!$T$8:$Y$8,0))*AC384/10^6","v":0},{"$f":"INDEX('6 Defaults parameters'!$T$9:$Y$18,MATCH($D384,'6 Defaults parameters'!$B$9:$B$18,0),MATCH(AK$313,'6 Defaults parameters'!$T$8:$Y$8,0))*AD384/10^6","v":0},{"$f":"INDEX('6 Defaults parameters'!$T$9:$Y$18,MATCH($D384,'6 Defaults parameters'!$B$9:$B$18,0),MATCH(AL$313,'6 Defaults parameters'!$T$8:$Y$8,0))*AE384/10^6","v":0},{"$f":"INDEX('6 Defaults parameters'!$T$9:$Y$18,MATCH($D384,'6 Defaults parameters'!$B$9:$B$18,0),MATCH(AM$313,'6 Defaults parameters'!$T$8:$Y$8,0))*AF384/10^6","v":0},null,null,{"$f":"Utrain","v":"Urban train"},0,0,0,0,0,0]
[null,"Scenario 3)","Individual taxi",{"$f":"RoadH","v":"Road - Hybrid"},{"$f":"Hybrid","v":"Hybrid"},{"$f":"SUMIFS('4A Calcul. BAU city'!O$13:O$61,'4A Calcul. BAU city'!$C$13:$C$61,'4B Calcul. Climat Scen.'!$C385,'4A Calcul. BAU city'!$E$13:$E$61,'4B Calcul. Climat Scen.'!$E385)","v":0},{"$f":"IF('2A Input Climat Scen. Pass.'!J260=\"\",SUMIFS('2A Input Climat Scen. Pass.'!D$248:D$291,'2A Input Climat Scen. Pass.'!$B$248:$B$291,'4B Calcul. Climat Scen.'!$C385,'2A Input Climat Scen. Pass.'!$C$248:$C$291,'4B Calcul. Climat Scen.'!$E385),SUMIFS('2A Input Climat Scen. Pass.'!J$248:J$291,'2A Input Climat Scen. Pass.'!$B$248:$B$291,'4B Calcul. Climat Scen.'!$C385,'2A Input Climat Scen. Pass.'!$C$248:$C$291,'4B Calcul. Climat Scen.'!$E385))","v":0},{"$f":"IF('2A Input Climat Scen. Pass.'!K260=\"\",SUMIFS('2A Input Climat Scen. Pass.'!E$248:E$291,'2A Input Climat Scen. Pass.'!$B$248:$B$291,'4B Calcul. Climat Scen.'!$C385,'2A Input Climat Scen. Pass.'!$C$248:$C$291,'4B Calcul. Climat Scen.'!$E385),SUMIFS('2A Input Climat Scen. Pass.'!K$248:K$291,'2A Input Climat Scen. Pass.'!$B$248:$B$291,'4B Calcul. Climat Scen.'!$C385,'2A Input Climat Scen. Pass.'!$C$248:$C$291,'4B Calcul. Climat Scen.'!$E385))","v":0},{"$f":"IF('2A Input Climat Scen. Pass.'!L260=\"\",SUMIFS('2A Input Climat Scen. Pass.'!F$248:F$291,'2A Input Climat Scen. Pass.'!$B$248:$B$291,'4B Calcul. Climat Scen.'!$C385,'2A Input Climat Scen. Pass.'!$C$248:$C$291,'4B Calcul. Climat Scen.'!$E385),SUMIFS('2A Input Climat Scen. Pass.'!L$248:L$291,'2A Input Climat Scen. Pass.'!$B$248:$B$291,'4B Calcul. Climat Scen.'!$C385,'2A Input Climat Scen. Pass.'!$C$248:$C$291,'4B Calcul. Climat Scen.'!$E385))","v":0},{"$f":"IF('2A Input Climat Scen. Pass.'!M260=\"\",SUMIFS('2A Input Climat Scen. Pass.'!G$248:G$291,'2A Input Climat Scen. Pass.'!$B$248:$B$291,'4B Calcul. Climat Scen.'!$C385,'2A Input Climat Scen. Pass.'!$C$248:$C$291,'4B Calcul. Climat Scen.'!$E385),SUMIFS('2A Input Climat Scen. Pass.'!M$248:M$291,'2A Input Climat Scen. Pass.'!$B$248:$B$291,'4B Calcul. Climat Scen.'!$C385,'2A Input Climat Scen. Pass.'!$C$248:$C$291,'4B Calcul. Climat Scen.'!$E385))","v":0},{"$f":"IF('2A Input Climat Scen. Pass.'!N260=\"\",SUMIFS('2A Input Climat Scen. Pass.'!H$248:H$291,'2A Input Climat Scen. Pass.'!$B$248:$B$291,'4B Calcul. Climat Scen.'!$C385,'2A Input Climat Scen. Pass.'!$C$248:$C$291,'4B Calcul. Climat Scen.'!$E385),SUMIFS('2A Input Climat Scen. Pass.'!N$248:N$291,'2A Input Climat Scen. Pass.'!$B$248:$B$291,'4B Calcul. Climat Scen.'!$C385,'2A Input Climat Scen. Pass.'!$C$248:$C$291,'4B Calcul. Climat Scen.'!$E385))","v":0},null,{"$f":"SUMIFS(M$314:M$363,$C$314:$C$363,$C385,$E$314:$E$363,$E385)","v":0},0,0,0,0,0,null,0,0,0,0,0,0,null,0,{"$f":"U385*SUMIFS('4A Calcul. BAU city'!$V$13:$V$61,'4A Calcul. BAU city'!$C$13:$C$61,'4B Calcul. Climat Scen.'!$C324,'4A Calcul. BAU city'!$E$13:$E$61,'4B Calcul. Climat Scen.'!$E324)","v":0},{"$f":"V385*SUMIFS('4A Calcul. BAU city'!$V$13:$V$61,'4A Calcul. BAU city'!$C$13:$C$61,'4B Calcul. Climat Scen.'!$C324,'4A Calcul. BAU city'!$E$13:$E$61,'4B Calcul. Climat Scen.'!$E324)","v":0},{"$f":"W385*SUMIFS('4A Calcul. BAU city'!$V$13:$V$61,'4A Calcul. BAU city'!$C$13:$C$61,'4B Calcul. Climat Scen.'!$C324,'4A Calcul. BAU city'!$E$13:$E$61,'4B Calcul. Climat Scen.'!$E324)","v":0},{"$f":"X385*SUMIFS('4A Calcul. BAU city'!$V$13:$V$61,'4A Calcul. BAU city'!$C$13:$C$61,'4B Calcul. Climat Scen.'!$C324,'4A Calcul. BAU city'!$E$13:$E$61,'4B Calcul. Climat Scen.'!$E324)","v":0},{"$f":"Y385*SUMIFS('4A Calcul. BAU city'!$V$13:$V$61,'4A Calcul. BAU city'!$C$13:$C$61,'4B Calcul. Climat Scen.'!$C324,'4A Calcul. BAU city'!$E$13:$E$61,'4B Calcul. Climat Scen.'!$E324)","v":0},null,{"$f":"INDEX('6 Defaults parameters'!$T$9:$Y$18,MATCH($D385,'6 Defaults parameters'!$B$9:$B$18,0),MATCH(AH$313,'6 Defaults parameters'!$T$8:$Y$8,0))*AA385/10^6","v":0},{"$f":"INDEX('6 Defaults parameters'!$T$9:$Y$18,MATCH($D385,'6 Defaults parameters'!$B$9:$B$18,0),MATCH(AI$313,'6 Defaults parameters'!$T$8:$Y$8,0))*AB385/10^6","v":0},{"$f":"INDEX('6 Defaults parameters'!$T$9:$Y$18,MATCH($D385,'6 Defaults parameters'!$B$9:$B$18,0),MATCH(AJ$313,'6 Defaults parameters'!$T$8:$Y$8,0))*AC385/10^6","v":0},{"$f":"INDEX('6 Defaults parameters'!$T$9:$Y$18,MATCH($D385,'6 Defaults parameters'!$B$9:$B$18,0),MATCH(AK$313,'6 Defaults parameters'!$T$8:$Y$8,0))*AD385/10^6","v":0},{"$f":"INDEX('6 Defaults parameters'!$T$9:$Y$18,MATCH($D385,'6 Defaults parameters'!$B$9:$B$18,0),MATCH(AL$313,'6 Defaults parameters'!$T$8:$Y$8,0))*AE385/10^6","v":0},{"$f":"INDEX('6 Defaults parameters'!$T$9:$Y$18,MATCH($D385,'6 Defaults parameters'!$B$9:$B$18,0),MATCH(AM$313,'6 Defaults parameters'!$T$8:$Y$8,0))*AF385/10^6","v":0},null,null,{"$f":"Metro","v":"Metro"},0,0,0,0,0,0]
[null,"Scenario 3)","Individual taxi",{"$f":"Roadelec","v":"Road - Electric"},{"$f":"Electric","v":"Electric"},{"$f":"SUMIFS('4A Calcul. BAU city'!O$13:O$61,'4A Calcul. BAU city'!$C$13:$C$61,'4B Calcul. Climat Scen.'!$C386,'4A Calcul. BAU city'!$E$13:$E$61,'4B Calcul. Climat Scen.'!$E386)","v":0},{"$f":"IF('2A Input Climat Scen. Pass.'!J261=\"\",SUMIFS('2A Input Climat Scen. Pass.'!D$248:D$291,'2A Input Climat Scen. Pass.'!$B$248:$B$291,'4B Calcul. Climat Scen.'!$C386,'2A Input Climat Scen. Pass.'!$C$248:$C$291,'4B Calcul. Climat Scen.'!$E386),SUMIFS('2A Input Climat Scen. Pass.'!J$248:J$291,'2A Input Climat Scen. Pass.'!$B$248:$B$291,'4B Calcul. Climat Scen.'!$C386,'2A Input Climat Scen. Pass.'!$C$248:$C$291,'4B Calcul. Climat Scen.'!$E386))","v":0},{"$f":"IF('2A Input Climat Scen. Pass.'!K261=\"\",SUMIFS('2A Input Climat Scen. Pass.'!E$248:E$291,'2A Input Climat Scen. Pass.'!$B$248:$B$291,'4B Calcul. Climat Scen.'!$C386,'2A Input Climat Scen. Pass.'!$C$248:$C$291,'4B Calcul. Climat Scen.'!$E386),SUMIFS('2A Input Climat Scen. Pass.'!K$248:K$291,'2A Input Climat Scen. Pass.'!$B$248:$B$291,'4B Calcul. Climat Scen.'!$C386,'2A Input Climat Scen. Pass.'!$C$248:$C$291,'4B Calcul. Climat Scen.'!$E386))","v":0},{"$f":"IF('2A Input Climat Scen. Pass.'!L261=\"\",SUMIFS('2A Input Climat Scen. Pass.'!F$248:F$291,'2A Input Climat Scen. Pass.'!$B$248:$B$291,'4B Calcul. Climat Scen.'!$C386,'2A Input Climat Scen. Pass.'!$C$248:$C$291,'4B Calcul. Climat Scen.'!$E386),SUMIFS('2A Input Climat Scen. Pass.'!L$248:L$291,'2A Input Climat Scen. Pass.'!$B$248:$B$291,'4B Calcul. Climat Scen.'!$C386,'2A Input Climat Scen. Pass.'!$C$248:$C$291,'4B Calcul. Climat Scen.'!$E386))","v":0},{"$f":"IF('2A Input Climat Scen. Pass.'!M261=\"\",SUMIFS('2A Input Climat Scen. Pass.'!G$248:G$291,'2A Input Climat Scen. Pass.'!$B$248:$B$291,'4B Calcul. Climat Scen.'!$C386,'2A Input Climat Scen. Pass.'!$C$248:$C$291,'4B Calcul. Climat Scen.'!$E386),SUMIFS('2A Input Climat Scen. Pass.'!M$248:M$291,'2A Input Climat Scen. Pass.'!$B$248:$B$291,'4B Calcul. Climat Scen.'!$C386,'2A Input Climat Scen. Pass.'!$C$248:$C$291,'4B Calcul. Climat Scen.'!$E386))","v":0},{"$f":"IF('2A Input Climat Scen. Pass.'!N261=\"\",SUMIFS('2A Input Climat Scen. Pass.'!H$248:H$291,'2A Input Climat Scen. Pass.'!$B$248:$B$291,'4B Calcul. Climat Scen.'!$C386,'2A Input Climat Scen. Pass.'!$C$248:$C$291,'4B Calcul. Climat Scen.'!$E386),SUMIFS('2A Input Climat Scen. Pass.'!N$248:N$291,'2A Input Climat Scen. Pass.'!$B$248:$B$291,'4B Calcul. Climat Scen.'!$C386,'2A Input Climat Scen. Pass.'!$C$248:$C$291,'4B Calcul. Climat Scen.'!$E386))","v":0},null,0,0,0,0,0,0,null,0,0,0,0,0,0,null,0,{"$f":"U386*SUMIFS('4A Calcul. BAU city'!$V$13:$V$61,'4A Calcul. BAU city'!$C$13:$C$61,'4B Calcul. Climat Scen.'!$C325,'4A Calcul. BAU city'!$E$13:$E$61,'4B Calcul. Climat Scen.'!$E325)","v":0},{"$f":"V386*SUMIFS('4A Calcul. BAU city'!$V$13:$V$61,'4A Calcul. BAU city'!$C$13:$C$61,'4B Calcul. Climat Scen.'!$C325,'4A Calcul. BAU city'!$E$13:$E$61,'4B Calcul. Climat Scen.'!$E325)","v":0},{"$f":"W386*SUMIFS('4A Calcul. BAU city'!$V$13:$V$61,'4A Calcul. BAU city'!$C$13:$C$61,'4B Calcul. Climat Scen.'!$C325,'4A Calcul. BAU city'!$E$13:$E$61,'4B Calcul. Climat Scen.'!$E325)","v":0},{"$f":"X386*SUMIFS('4A Calcul. BAU city'!$V$13:$V$61,'4A Calcul. BAU city'!$C$13:$C$61,'4B Calcul. Climat Scen.'!$C325,'4A Calcul. BAU city'!$E$13:$E$61,'4B Calcul. Climat Scen.'!$E325)","v":0},{"$f":"Y386*SUMIFS('4A Calcul. BAU city'!$V$13:$V$61,'4A Calcul. BAU city'!$C$13:$C$61,'4B Calcul. Climat Scen.'!$C325,'4A Calcul. BAU city'!$E$13:$E$61,'4B Calcul. Climat Scen.'!$E325)","v":0},null,{"$f":"INDEX('6 Defaults parameters'!$T$9:$Y$18,MATCH($D386,'6 Defaults parameters'!$B$9:$B$18,0),MATCH(AH$313,'6 Defaults parameters'!$T$8:$Y$8,0))*AA386/10^6","v":0},{"$f":"INDEX('6 Defaults parameters'!$T$9:$Y$18,MATCH($D386,'6 Defaults parameters'!$B$9:$B$18,0),MATCH(AI$313,'6 Defaults parameters'!$T$8:$Y$8,0))*AB386/10^6","v":0},{"$f":"INDEX('6 Defaults parameters'!$T$9:$Y$18,MATCH($D386,'6 Defaults parameters'!$B$9:$B$18,0),MATCH(AJ$313,'6 Defaults parameters'!$T$8:$Y$8,0))*AC386/10^6","v":0},{"$f":"INDEX('6 Defaults parameters'!$T$9:$Y$18,MATCH($D386,'6 Defaults parameters'!$B$9:$B$18,0),MATCH(AK$313,'6 Defaults parameters'!$T$8:$Y$8,0))*AD386/10^6","v":0},{"$f":"INDEX('6 Defaults parameters'!$T$9:$Y$18,MATCH($D386,'6 Defaults parameters'!$B$9:$B$18,0),MATCH(AL$313,'6 Defaults parameters'!$T$8:$Y$8,0))*AE386/10^6","v":0},{"$f":"INDEX('6 Defaults parameters'!$T$9:$Y$18,MATCH($D386,'6 Defaults parameters'!$B$9:$B$18,0),MATCH(AM$313,'6 Defaults parameters'!$T$8:$Y$8,0))*AF386/10^6","v":0},null,null,{"$f":"lightLCV","v":"Very light LCV"},0,0,0,0,0,0]
[null,"Scenario 3)",{"$f":"Motorcycle","v":"Motorcycle"},{"$f":"RoadG","v":"Road - Gasoline"},{"$f":"Gasoline","v":"Gasoline"},{"$f":"SUMIFS('4A Calcul. BAU city'!O$13:O$61,'4A Calcul. BAU city'!$C$13:$C$61,'4B Calcul. Climat Scen.'!$C387,'4A Calcul. BAU city'!$E$13:$E$61,'4B Calcul. Climat Scen.'!$E387)","v":0},{"$f":"IF('2A Input Climat Scen. Pass.'!J263=\"\",SUMIFS('2A Input Climat Scen. Pass.'!D$248:D$291,'2A Input Climat Scen. Pass.'!$B$248:$B$291,'4B Calcul. Climat Scen.'!$C387,'2A Input Climat Scen. Pass.'!$C$248:$C$291,'4B Calcul. Climat Scen.'!$E387),SUMIFS('2A Input Climat Scen. Pass.'!J$248:J$291,'2A Input Climat Scen. Pass.'!$B$248:$B$291,'4B Calcul. Climat Scen.'!$C387,'2A Input Climat Scen. Pass.'!$C$248:$C$291,'4B Calcul. Climat Scen.'!$E387))","v":0},{"$f":"IF('2A Input Climat Scen. Pass.'!K263=\"\",SUMIFS('2A Input Climat Scen. Pass.'!E$248:E$291,'2A Input Climat Scen. Pass.'!$B$248:$B$291,'4B Calcul. Climat Scen.'!$C387,'2A Input Climat Scen. Pass.'!$C$248:$C$291,'4B Calcul. Climat Scen.'!$E387),SUMIFS('2A Input Climat Scen. Pass.'!K$248:K$291,'2A Input Climat Scen. Pass.'!$B$248:$B$291,'4B Calcul. Climat Scen.'!$C387,'2A Input Climat Scen. Pass.'!$C$248:$C$291,'4B Calcul. Climat Scen.'!$E387))","v":0},{"$f":"IF('2A Input Climat Scen. Pass.'!L263=\"\",SUMIFS('2A Input Climat Scen. Pass.'!F$248:F$291,'2A Input Climat Scen. Pass.'!$B$248:$B$291,'4B Calcul. Climat Scen.'!$C387,'2A Input Climat Scen. Pass.'!$C$248:$C$291,'4B Calcul. Climat Scen.'!$E387),SUMIFS('2A Input Climat Scen. Pass.'!L$248:L$291,'2A Input Climat Scen. Pass.'!$B$248:$B$291,'4B Calcul. Climat Scen.'!$C387,'2A Input Climat Scen. Pass.'!$C$248:$C$291,'4B Calcul. Climat Scen.'!$E387))","v":0},{"$f":"IF('2A Input Climat Scen. Pass.'!M263=\"\",SUMIFS('2A Input Climat Scen. Pass.'!G$248:G$291,'2A Input Climat Scen. Pass.'!$B$248:$B$291,'4B Calcul. Climat Scen.'!$C387,'2A Input Climat Scen. Pass.'!$C$248:$C$291,'4B Calcul. Climat Scen.'!$E387),SUMIFS('2A Input Climat Scen. Pass.'!M$248:M$291,'2A Input Climat Scen. Pass.'!$B$248:$B$291,'4B Calcul. Climat Scen.'!$C387,'2A Input Climat Scen. Pass.'!$C$248:$C$291,'4B Calcul. Climat Scen.'!$E387))","v":0},{"$f":"IF('2A Input Climat Scen. Pass.'!N263=\"\",SUMIFS('2A Input Climat Scen. Pass.'!H$248:H$291,'2A Input Climat Scen. Pass.'!$B$248:$B$291,'4B Calcul. Climat Scen.'!$C387,'2A Input Climat Scen. Pass.'!$C$248:$C$291,'4B Calcul. Climat Scen.'!$E387),SUMIFS('2A Input Climat Scen. Pass.'!N$248:N$291,'2A Input Climat Scen. Pass.'!$B$248:$B$291,'4B Calcul. Climat Scen.'!$C387,'2A Input Climat Scen. Pass.'!$C$248:$C$291,'4B Calcul. Climat Scen.'!$E387))","v":0},null,0,0,0,0,0,0,null,0,0,0,0,0,0,null,0,{"$f":"U387*SUMIFS('4A Calcul. BAU city'!$V$13:$V$61,'4A Calcul. BAU city'!$C$13:$C$61,'4B Calcul. Climat Scen.'!$C326,'4A Calcul. BAU city'!$E$13:$E$61,'4B Calcul. Climat Scen.'!$E326)","v":0},{"$f":"V387*SUMIFS('4A Calcul. BAU city'!$V$13:$V$61,'4A Calcul. BAU city'!$C$13:$C$61,'4B Calcul. Climat Scen.'!$C326,'4A Calcul. BAU city'!$E$13:$E$61,'4B Calcul. Climat Scen.'!$E326)","v":0},{"$f":"W387*SUMIFS('4A Calcul. BAU city'!$V$13:$V$61,'4A Calcul. BAU city'!$C$13:$C$61,'4B Calcul. Climat Scen.'!$C326,'4A Calcul. BAU city'!$E$13:$E$61,'4B Calcul. Climat Scen.'!$E326)","v":0},{"$f":"X387*SUMIFS('4A Calcul. BAU city'!$V$13:$V$61,'4A Calcul. BAU city'!$C$13:$C$61,'4B Calcul. Climat Scen.'!$C326,'4A Calcul. BAU city'!$E$13:$E$61,'4B Calcul. Climat Scen.'!$E326)","v":0},{"$f":"Y387*SUMIFS('4A Calcul. BAU city'!$V$13:$V$61,'4A Calcul. BAU city'!$C$13:$C$61,'4B Calcul. Climat Scen.'!$C326,'4A Calcul. BAU city'!$E$13:$E$61,'4B Calcul. Climat Scen.'!$E326)","v":0},null,{"$f":"INDEX('6 Defaults parameters'!$T$9:$Y$18,MATCH($D387,'6 Defaults parameters'!$B$9:$B$18,0),MATCH(AH$313,'6 Defaults parameters'!$T$8:$Y$8,0))*AA387/10^6","v":0},{"$f":"INDEX('6 Defaults parameters'!$T$9:$Y$18,MATCH($D387,'6 Defaults parameters'!$B$9:$B$18,0),MATCH(AI$313,'6 Defaults parameters'!$T$8:$Y$8,0))*AB387/10^6","v":0},{"$f":"INDEX('6 Defaults parameters'!$T$9:$Y$18,MATCH($D387,'6 Defaults parameters'!$B$9:$B$18,0),MATCH(AJ$313,'6 Defaults parameters'!$T$8:$Y$8,0))*AC387/10^6","v":0},{"$f":"INDEX('6 Defaults parameters'!$T$9:$Y$18,MATCH($D387,'6 Defaults parameters'!$B$9:$B$18,0),MATCH(AK$313,'6 Defaults parameters'!$T$8:$Y$8,0))*AD387/10^6","v":0},{"$f":"INDEX('6 Defaults parameters'!$T$9:$Y$18,MATCH($D387,'6 Defaults parameters'!$B$9:$B$18,0),MATCH(AL$313,'6 Defaults parameters'!$T$8:$Y$8,0))*AE387/10^6","v":0},{"$f":"INDEX('6 Defaults parameters'!$T$9:$Y$18,MATCH($D387,'6 Defaults parameters'!$B$9:$B$18,0),MATCH(AM$313,'6 Defaults parameters'!$T$8:$Y$8,0))*AF387/10^6","v":0},null,null,{"$f":"LCV","v":"LCV"},0,0,0,0,0,0]
[null,"Scenario 3)",{"$f":"Motorcycle","v":"Motorcycle"},{"$f":"Roadelec","v":"Road - Electric"},{"$f":"Electric","v":"Electric"},{"$f":"SUMIFS('4A Calcul. BAU city'!O$13:O$61,'4A Calcul. BAU city'!$C$13:$C$61,'4B Calcul. Climat Scen.'!$C388,'4A Calcul. BAU city'!$E$13:$E$61,'4B Calcul. Climat Scen.'!$E388)","v":0},{"$f":"IF('2A Input Climat Scen. Pass.'!J264=\"\",SUMIFS('2A Input Climat Scen. Pass.'!D$248:D$291,'2A Input Climat Scen. Pass.'!$B$248:$B$291,'4B Calcul. Climat Scen.'!$C388,'2A Input Climat Scen. Pass.'!$C$248:$C$291,'4B Calcul. Climat Scen.'!$E388),SUMIFS('2A Input Climat Scen. Pass.'!J$248:J$291,'2A Input Climat Scen. Pass.'!$B$248:$B$291,'4B Calcul. Climat Scen.'!$C388,'2A Input Climat Scen. Pass.'!$C$248:$C$291,'4B Calcul. Climat Scen.'!$E388))","v":0},{"$f":"IF('2A Input Climat Scen. Pass.'!K264=\"\",SUMIFS('2A Input Climat Scen. Pass.'!E$248:E$291,'2A Input Climat Scen. Pass.'!$B$248:$B$291,'4B Calcul. Climat Scen.'!$C388,'2A Input Climat Scen. Pass.'!$C$248:$C$291,'4B Calcul. Climat Scen.'!$E388),SUMIFS('2A Input Climat Scen. Pass.'!K$248:K$291,'2A Input Climat Scen. Pass.'!$B$248:$B$291,'4B Calcul. Climat Scen.'!$C388,'2A Input Climat Scen. Pass.'!$C$248:$C$291,'4B Calcul. Climat Scen.'!$E388))","v":0},{"$f":"IF('2A Input Climat Scen. Pass.'!L264=\"\",SUMIFS('2A Input Climat Scen. Pass.'!F$248:F$291,'2A Input Climat Scen. Pass.'!$B$248:$B$291,'4B Calcul. Climat Scen.'!$C388,'2A Input Climat Scen. Pass.'!$C$248:$C$291,'4B Calcul. Climat Scen.'!$E388),SUMIFS('2A Input Climat Scen. Pass.'!L$248:L$291,'2A Input Climat Scen. Pass.'!$B$248:$B$291,'4B Calcul. Climat Scen.'!$C388,'2A Input Climat Scen. Pass.'!$C$248:$C$291,'4B Calcul. Climat Scen.'!$E388))","v":0},{"$f":"IF('2A Input Climat Scen. Pass.'!M264=\"\",SUMIFS('2A Input Climat Scen. Pass.'!G$248:G$291,'2A Input Climat Scen. Pass.'!$B$248:$B$291,'4B Calcul. Climat Scen.'!$C388,'2A Input Climat Scen. Pass.'!$C$248:$C$291,'4B Calcul. Climat Scen.'!$E388),SUMIFS('2A Input Climat Scen. Pass.'!M$248:M$291,'2A Input Climat Scen. Pass.'!$B$248:$B$291,'4B Calcul. Climat Scen.'!$C388,'2A Input Climat Scen. Pass.'!$C$248:$C$291,'4B Calcul. Climat Scen.'!$E388))","v":0},{"$f":"IF('2A Input Climat Scen. Pass.'!N264=\"\",SUMIFS('2A Input Climat Scen. Pass.'!H$248:H$291,'2A Input Climat Scen. Pass.'!$B$248:$B$291,'4B Calcul. Climat Scen.'!$C388,'2A Input Climat Scen. Pass.'!$C$248:$C$291,'4B Calcul. Climat Scen.'!$E388),SUMIFS('2A Input Climat Scen. Pass.'!N$248:N$291,'2A Input Climat Scen. Pass.'!$B$248:$B$291,'4B Calcul. Climat Scen.'!$C388,'2A Input Climat Scen. Pass.'!$C$248:$C$291,'4B Calcul. Climat Scen.'!$E388))","v":0},null,0,0,0,0,0,0,null,0,0,0,0,0,0,null,0,{"$f":"U388*SUMIFS('4A Calcul. BAU city'!$V$13:$V$61,'4A Calcul. BAU city'!$C$13:$C$61,'4B Calcul. Climat Scen.'!$C327,'4A Calcul. BAU city'!$E$13:$E$61,'4B Calcul. Climat Scen.'!$E327)","v":0},{"$f":"V388*SUMIFS('4A Calcul. BAU city'!$V$13:$V$61,'4A Calcul. BAU city'!$C$13:$C$61,'4B Calcul. Climat Scen.'!$C327,'4A Calcul. BAU city'!$E$13:$E$61,'4B Calcul. Climat Scen.'!$E327)","v":0},{"$f":"W388*SUMIFS('4A Calcul. BAU city'!$V$13:$V$61,'4A Calcul. BAU city'!$C$13:$C$61,'4B Calcul. Climat Scen.'!$C327,'4A Calcul. BAU city'!$E$13:$E$61,'4B Calcul. Climat Scen.'!$E327)","v":0},{"$f":"X388*SUMIFS('4A Calcul. BAU city'!$V$13:$V$61,'4A Calcul. BAU city'!$C$13:$C$61,'4B Calcul. Climat Scen.'!$C327,'4A Calcul. BAU city'!$E$13:$E$61,'4B Calcul. Climat Scen.'!$E327)","v":0},{"$f":"Y388*SUMIFS('4A Calcul. BAU city'!$V$13:$V$61,'4A Calcul. BAU city'!$C$13:$C$61,'4B Calcul. Climat Scen.'!$C327,'4A Calcul. BAU city'!$E$13:$E$61,'4B Calcul. Climat Scen.'!$E327)","v":0},null,{"$f":"INDEX('6 Defaults parameters'!$T$9:$Y$18,MATCH($D388,'6 Defaults parameters'!$B$9:$B$18,0),MATCH(AH$313,'6 Defaults parameters'!$T$8:$Y$8,0))*AA388/10^6","v":0},{"$f":"INDEX('6 Defaults parameters'!$T$9:$Y$18,MATCH($D388,'6 Defaults parameters'!$B$9:$B$18,0),MATCH(AI$313,'6 Defaults parameters'!$T$8:$Y$8,0))*AB388/10^6","v":0},{"$f":"INDEX('6 Defaults parameters'!$T$9:$Y$18,MATCH($D388,'6 Defaults parameters'!$B$9:$B$18,0),MATCH(AJ$313,'6 Defaults parameters'!$T$8:$Y$8,0))*AC388/10^6","v":0},{"$f":"INDEX('6 Defaults parameters'!$T$9:$Y$18,MATCH($D388,'6 Defaults parameters'!$B$9:$B$18,0),MATCH(AK$313,'6 Defaults parameters'!$T$8:$Y$8,0))*AD388/10^6","v":0},{"$f":"INDEX('6 Defaults parameters'!$T$9:$Y$18,MATCH($D388,'6 Defaults parameters'!$B$9:$B$18,0),MATCH(AL$313,'6 Defaults parameters'!$T$8:$Y$8,0))*AE388/10^6","v":0},{"$f":"INDEX('6 Defaults parameters'!$T$9:$Y$18,MATCH($D388,'6 Defaults parameters'!$B$9:$B$18,0),MATCH(AM$313,'6 Defaults parameters'!$T$8:$Y$8,0))*AF388/10^6","v":0},null,null,{"$f":"Solo","v":"Solo truck"},0,0,0,0,0,0]
[null,"Scenario 3)",{"$f":"Mototaxi","v":"Motorcycle taxi"},{"$f":"RoadG","v":"Road - Gasoline"},{"$f":"Gasoline","v":"Gasoline"},{"$f":"SUMIFS('4A Calcul. BAU city'!O$13:O$61,'4A Calcul. BAU city'!$C$13:$C$61,'4B Calcul. Climat Scen.'!$C389,'4A Calcul. BAU city'!$E$13:$E$61,'4B Calcul. Climat Scen.'!$E389)","v":0},{"$f":"IF('2A Input Climat Scen. Pass.'!J266=\"\",SUMIFS('2A Input Climat Scen. Pass.'!D$248:D$291,'2A Input Climat Scen. Pass.'!$B$248:$B$291,'4B Calcul. Climat Scen.'!$C389,'2A Input Climat Scen. Pass.'!$C$248:$C$291,'4B Calcul. Climat Scen.'!$E389),SUMIFS('2A Input Climat Scen. Pass.'!J$248:J$291,'2A Input Climat Scen. Pass.'!$B$248:$B$291,'4B Calcul. Climat Scen.'!$C389,'2A Input Climat Scen. Pass.'!$C$248:$C$291,'4B Calcul. Climat Scen.'!$E389))","v":0},{"$f":"IF('2A Input Climat Scen. Pass.'!K266=\"\",SUMIFS('2A Input Climat Scen. Pass.'!E$248:E$291,'2A Input Climat Scen. Pass.'!$B$248:$B$291,'4B Calcul. Climat Scen.'!$C389,'2A Input Climat Scen. Pass.'!$C$248:$C$291,'4B Calcul. Climat Scen.'!$E389),SUMIFS('2A Input Climat Scen. Pass.'!K$248:K$291,'2A Input Climat Scen. Pass.'!$B$248:$B$291,'4B Calcul. Climat Scen.'!$C389,'2A Input Climat Scen. Pass.'!$C$248:$C$291,'4B Calcul. Climat Scen.'!$E389))","v":0},{"$f":"IF('2A Input Climat Scen. Pass.'!L266=\"\",SUMIFS('2A Input Climat Scen. Pass.'!F$248:F$291,'2A Input Climat Scen. Pass.'!$B$248:$B$291,'4B Calcul. Climat Scen.'!$C389,'2A Input Climat Scen. Pass.'!$C$248:$C$291,'4B Calcul. Climat Scen.'!$E389),SUMIFS('2A Input Climat Scen. Pass.'!L$248:L$291,'2A Input Climat Scen. Pass.'!$B$248:$B$291,'4B Calcul. Climat Scen.'!$C389,'2A Input Climat Scen. Pass.'!$C$248:$C$291,'4B Calcul. Climat Scen.'!$E389))","v":0},{"$f":"IF('2A Input Climat Scen. Pass.'!M266=\"\",SUMIFS('2A Input Climat Scen. Pass.'!G$248:G$291,'2A Input Climat Scen. Pass.'!$B$248:$B$291,'4B Calcul. Climat Scen.'!$C389,'2A Input Climat Scen. Pass.'!$C$248:$C$291,'4B Calcul. Climat Scen.'!$E389),SUMIFS('2A Input Climat Scen. Pass.'!M$248:M$291,'2A Input Climat Scen. Pass.'!$B$248:$B$291,'4B Calcul. Climat Scen.'!$C389,'2A Input Climat Scen. Pass.'!$C$248:$C$291,'4B Calcul. Climat Scen.'!$E389))","v":0},{"$f":"IF('2A Input Climat Scen. Pass.'!N266=\"\",SUMIFS('2A Input Climat Scen. Pass.'!H$248:H$291,'2A Input Climat Scen. Pass.'!$B$248:$B$291,'4B Calcul. Climat Scen.'!$C389,'2A Input Climat Scen. Pass.'!$C$248:$C$291,'4B Calcul. Climat Scen.'!$E389),SUMIFS('2A Input Climat Scen. Pass.'!N$248:N$291,'2A Input Climat Scen. Pass.'!$B$248:$B$291,'4B Calcul. Climat Scen.'!$C389,'2A Input Climat Scen. Pass.'!$C$248:$C$291,'4B Calcul. Climat Scen.'!$E389))","v":0},null,0,0,0,0,0,0,null,{"$f":"M389*F389/100","v":0},{"$f":"N389*G389/100","v":0},{"$f":"O389*H389/100","v":0},{"$f":"P389*I389/100","v":0},{"$f":"Q389*J389/100","v":0},{"$f":"R389*K389/100","v":0},null,0,{"$f":"U389*SUMIFS('4A Calcul. BAU city'!$V$13:$V$61,'4A Calcul. BAU city'!$C$13:$C$61,'4B Calcul. Climat Scen.'!$C328,'4A Calcul. BAU city'!$E$13:$E$61,'4B Calcul. Climat Scen.'!$E328)","v":0},{"$f":"V389*SUMIFS('4A Calcul. BAU city'!$V$13:$V$61,'4A Calcul. BAU city'!$C$13:$C$61,'4B Calcul. Climat Scen.'!$C328,'4A Calcul. BAU city'!$E$13:$E$61,'4B Calcul. Climat Scen.'!$E328)","v":0},{"$f":"W389*SUMIFS('4A Calcul. BAU city'!$V$13:$V$61,'4A Calcul. BAU city'!$C$13:$C$61,'4B Calcul. Climat Scen.'!$C328,'4A Calcul. BAU city'!$E$13:$E$61,'4B Calcul. Climat Scen.'!$E328)","v":0},{"$f":"X389*SUMIFS('4A Calcul. BAU city'!$V$13:$V$61,'4A Calcul. BAU city'!$C$13:$C$61,'4B Calcul. Climat Scen.'!$C328,'4A Calcul. BAU city'!$E$13:$E$61,'4B Calcul. Climat Scen.'!$E328)","v":0},{"$f":"Y389*SUMIFS('4A Calcul. BAU city'!$V$13:$V$61,'4A Calcul. BAU city'!$C$13:$C$61,'4B Calcul. Climat Scen.'!$C328,'4A Calcul. BAU city'!$E$13:$E$61,'4B Calcul. Climat Scen.'!$E328)","v":0},null,{"$f":"INDEX('6 Defaults parameters'!$T$9:$Y$18,MATCH($D389,'6 Defaults parameters'!$B$9:$B$18,0),MATCH(AH$313,'6 Defaults parameters'!$T$8:$Y$8,0))*AA389/10^6","v":0},{"$f":"INDEX('6 Defaults parameters'!$T$9:$Y$18,MATCH($D389,'6 Defaults parameters'!$B$9:$B$18,0),MATCH(AI$313,'6 Defaults parameters'!$T$8:$Y$8,0))*AB389/10^6","v":0},{"$f":"INDEX('6 Defaults parameters'!$T$9:$Y$18,MATCH($D389,'6 Defaults parameters'!$B$9:$B$18,0),MATCH(AJ$313,'6 Defaults parameters'!$T$8:$Y$8,0))*AC389/10^6","v":0},{"$f":"INDEX('6 Defaults parameters'!$T$9:$Y$18,MATCH($D389,'6 Defaults parameters'!$B$9:$B$18,0),MATCH(AK$313,'6 Defaults parameters'!$T$8:$Y$8,0))*AD389/10^6","v":0},{"$f":"INDEX('6 Defaults parameters'!$T$9:$Y$18,MATCH($D389,'6 Defaults parameters'!$B$9:$B$18,0),MATCH(AL$313,'6 Defaults parameters'!$T$8:$Y$8,0))*AE389/10^6","v":0},{"$f":"INDEX('6 Defaults parameters'!$T$9:$Y$18,MATCH($D389,'6 Defaults parameters'!$B$9:$B$18,0),MATCH(AM$313,'6 Defaults parameters'!$T$8:$Y$8,0))*AF389/10^6","v":0},null,null,{"$f":"Atruck","v":"Articulated truck"},0,0,0,0,0,0]
[null,"Scenario 3)",{"$f":"Mototaxi","v":"Motorcycle taxi"},{"$f":"Roadelec","v":"Road - Electric"},{"$f":"Electric","v":"Electric"},{"$f":"SUMIFS('4A Calcul. BAU city'!O$13:O$61,'4A Calcul. BAU city'!$C$13:$C$61,'4B Calcul. Climat Scen.'!$C390,'4A Calcul. BAU city'!$E$13:$E$61,'4B Calcul. Climat Scen.'!$E390)","v":0},{"$f":"IF('2A Input Climat Scen. Pass.'!J267=\"\",SUMIFS('2A Input Climat Scen. Pass.'!D$248:D$291,'2A Input Climat Scen. Pass.'!$B$248:$B$291,'4B Calcul. Climat Scen.'!$C390,'2A Input Climat Scen. Pass.'!$C$248:$C$291,'4B Calcul. Climat Scen.'!$E390),SUMIFS('2A Input Climat Scen. Pass.'!J$248:J$291,'2A Input Climat Scen. Pass.'!$B$248:$B$291,'4B Calcul. Climat Scen.'!$C390,'2A Input Climat Scen. Pass.'!$C$248:$C$291,'4B Calcul. Climat Scen.'!$E390))","v":0},{"$f":"IF('2A Input Climat Scen. Pass.'!K267=\"\",SUMIFS('2A Input Climat Scen. Pass.'!E$248:E$291,'2A Input Climat Scen. Pass.'!$B$248:$B$291,'4B Calcul. Climat Scen.'!$C390,'2A Input Climat Scen. Pass.'!$C$248:$C$291,'4B Calcul. Climat Scen.'!$E390),SUMIFS('2A Input Climat Scen. Pass.'!K$248:K$291,'2A Input Climat Scen. Pass.'!$B$248:$B$291,'4B Calcul. Climat Scen.'!$C390,'2A Input Climat Scen. Pass.'!$C$248:$C$291,'4B Calcul. Climat Scen.'!$E390))","v":0},{"$f":"IF('2A Input Climat Scen. Pass.'!L267=\"\",SUMIFS('2A Input Climat Scen. Pass.'!F$248:F$291,'2A Input Climat Scen. Pass.'!$B$248:$B$291,'4B Calcul. Climat Scen.'!$C390,'2A Input Climat Scen. Pass.'!$C$248:$C$291,'4B Calcul. Climat Scen.'!$E390),SUMIFS('2A Input Climat Scen. Pass.'!L$248:L$291,'2A Input Climat Scen. Pass.'!$B$248:$B$291,'4B Calcul. Climat Scen.'!$C390,'2A Input Climat Scen. Pass.'!$C$248:$C$291,'4B Calcul. Climat Scen.'!$E390))","v":0},{"$f":"IF('2A Input Climat Scen. Pass.'!M267=\"\",SUMIFS('2A Input Climat Scen. Pass.'!G$248:G$291,'2A Input Climat Scen. Pass.'!$B$248:$B$291,'4B Calcul. Climat Scen.'!$C390,'2A Input Climat Scen. Pass.'!$C$248:$C$291,'4B Calcul. Climat Scen.'!$E390),SUMIFS('2A Input Climat Scen. Pass.'!M$248:M$291,'2A Input Climat Scen. Pass.'!$B$248:$B$291,'4B Calcul. Climat Scen.'!$C390,'2A Input Climat Scen. Pass.'!$C$248:$C$291,'4B Calcul. Climat Scen.'!$E390))","v":0},{"$f":"IF('2A Input Climat Scen. Pass.'!N267=\"\",SUMIFS('2A Input Climat Scen. Pass.'!H$248:H$291,'2A Input Climat Scen. Pass.'!$B$248:$B$291,'4B Calcul. Climat Scen.'!$C390,'2A Input Climat Scen. Pass.'!$C$248:$C$291,'4B Calcul. Climat Scen.'!$E390),SUMIFS('2A Input Climat Scen. Pass.'!N$248:N$291,'2A Input Climat Scen. Pass.'!$B$248:$B$291,'4B Calcul. Climat Scen.'!$C390,'2A Input Climat Scen. Pass.'!$C$248:$C$291,'4B Calcul. Climat Scen.'!$E390))","v":0},null,0,0,0,0,0,0,null,0,0,0,0,0,0,null,0,{"$f":"U390*SUMIFS('4A Calcul. BAU city'!$V$13:$V$61,'4A Calcul. BAU city'!$C$13:$C$61,'4B Calcul. Climat Scen.'!$C329,'4A Calcul. BAU city'!$E$13:$E$61,'4B Calcul. Climat Scen.'!$E329)","v":0},{"$f":"V390*SUMIFS('4A Calcul. BAU city'!$V$13:$V$61,'4A Calcul. BAU city'!$C$13:$C$61,'4B Calcul. Climat Scen.'!$C329,'4A Calcul. BAU city'!$E$13:$E$61,'4B Calcul. Climat Scen.'!$E329)","v":0},{"$f":"W390*SUMIFS('4A Calcul. BAU city'!$V$13:$V$61,'4A Calcul. BAU city'!$C$13:$C$61,'4B Calcul. Climat Scen.'!$C329,'4A Calcul. BAU city'!$E$13:$E$61,'4B Calcul. Climat Scen.'!$E329)","v":0},{"$f":"X390*SUMIFS('4A Calcul. BAU city'!$V$13:$V$61,'4A Calcul. BAU city'!$C$13:$C$61,'4B Calcul. Climat Scen.'!$C329,'4A Calcul. BAU city'!$E$13:$E$61,'4B Calcul. Climat Scen.'!$E329)","v":0},{"$f":"Y390*SUMIFS('4A Calcul. BAU city'!$V$13:$V$61,'4A Calcul. BAU city'!$C$13:$C$61,'4B Calcul. Climat Scen.'!$C329,'4A Calcul. BAU city'!$E$13:$E$61,'4B Calcul. Climat Scen.'!$E329)","v":0},null,{"$f":"INDEX('6 Defaults parameters'!$T$9:$Y$18,MATCH($D390,'6 Defaults parameters'!$B$9:$B$18,0),MATCH(AH$313,'6 Defaults parameters'!$T$8:$Y$8,0))*AA390/10^6","v":0},{"$f":"INDEX('6 Defaults parameters'!$T$9:$Y$18,MATCH($D390,'6 Defaults parameters'!$B$9:$B$18,0),MATCH(AI$313,'6 Defaults parameters'!$T$8:$Y$8,0))*AB390/10^6","v":0},{"$f":"INDEX('6 Defaults parameters'!$T$9:$Y$18,MATCH($D390,'6 Defaults parameters'!$B$9:$B$18,0),MATCH(AJ$313,'6 Defaults parameters'!$T$8:$Y$8,0))*AC390/10^6","v":0},{"$f":"INDEX('6 Defaults parameters'!$T$9:$Y$18,MATCH($D390,'6 Defaults parameters'!$B$9:$B$18,0),MATCH(AK$313,'6 Defaults parameters'!$T$8:$Y$8,0))*AD390/10^6","v":0},{"$f":"INDEX('6 Defaults parameters'!$T$9:$Y$18,MATCH($D390,'6 Defaults parameters'!$B$9:$B$18,0),MATCH(AL$313,'6 Defaults parameters'!$T$8:$Y$8,0))*AE390/10^6","v":0},{"$f":"INDEX('6 Defaults parameters'!$T$9:$Y$18,MATCH($D390,'6 Defaults parameters'!$B$9:$B$18,0),MATCH(AM$313,'6 Defaults parameters'!$T$8:$Y$8,0))*AF390/10^6","v":0},null,null,{"$f":"Ftrain","v":"Freight train"},0,0,0,0,0,0]
[null,"Scenario 3)",{"$f":"Minibus","v":"Minibus"},{"$f":"RoadG","v":"Road - Gasoline"},{"$f":"Gasoline","v":"Gasoline"},{"$f":"SUMIFS('4A Calcul. BAU city'!O$13:O$61,'4A Calcul. BAU city'!$C$13:$C$61,'4B Calcul. Climat Scen.'!$C391,'4A Calcul. BAU city'!$E$13:$E$61,'4B Calcul. Climat Scen.'!$E391)","v":0},{"$f":"IF('2A Input Climat Scen. Pass.'!J269=\"\",SUMIFS('2A Input Climat Scen. Pass.'!D$248:D$291,'2A Input Climat Scen. Pass.'!$B$248:$B$291,'4B Calcul. Climat Scen.'!$C391,'2A Input Climat Scen. Pass.'!$C$248:$C$291,'4B Calcul. Climat Scen.'!$E391),SUMIFS('2A Input Climat Scen. Pass.'!J$248:J$291,'2A Input Climat Scen. Pass.'!$B$248:$B$291,'4B Calcul. Climat Scen.'!$C391,'2A Input Climat Scen. Pass.'!$C$248:$C$291,'4B Calcul. Climat Scen.'!$E391))","v":0},{"$f":"IF('2A Input Climat Scen. Pass.'!K269=\"\",SUMIFS('2A Input Climat Scen. Pass.'!E$248:E$291,'2A Input Climat Scen. Pass.'!$B$248:$B$291,'4B Calcul. Climat Scen.'!$C391,'2A Input Climat Scen. Pass.'!$C$248:$C$291,'4B Calcul. Climat Scen.'!$E391),SUMIFS('2A Input Climat Scen. Pass.'!K$248:K$291,'2A Input Climat Scen. Pass.'!$B$248:$B$291,'4B Calcul. Climat Scen.'!$C391,'2A Input Climat Scen. Pass.'!$C$248:$C$291,'4B Calcul. Climat Scen.'!$E391))","v":0},{"$f":"IF('2A Input Climat Scen. Pass.'!L269=\"\",SUMIFS('2A Input Climat Scen. Pass.'!F$248:F$291,'2A Input Climat Scen. Pass.'!$B$248:$B$291,'4B Calcul. Climat Scen.'!$C391,'2A Input Climat Scen. Pass.'!$C$248:$C$291,'4B Calcul. Climat Scen.'!$E391),SUMIFS('2A Input Climat Scen. Pass.'!L$248:L$291,'2A Input Climat Scen. Pass.'!$B$248:$B$291,'4B Calcul. Climat Scen.'!$C391,'2A Input Climat Scen. Pass.'!$C$248:$C$291,'4B Calcul. Climat Scen.'!$E391))","v":0},{"$f":"IF('2A Input Climat Scen. Pass.'!M269=\"\",SUMIFS('2A Input Climat Scen. Pass.'!G$248:G$291,'2A Input Climat Scen. Pass.'!$B$248:$B$291,'4B Calcul. Climat Scen.'!$C391,'2A Input Climat Scen. Pass.'!$C$248:$C$291,'4B Calcul. Climat Scen.'!$E391),SUMIFS('2A Input Climat Scen. Pass.'!M$248:M$291,'2A Input Climat Scen. Pass.'!$B$248:$B$291,'4B Calcul. Climat Scen.'!$C391,'2A Input Climat Scen. Pass.'!$C$248:$C$291,'4B Calcul. Climat Scen.'!$E391))","v":0},{"$f":"IF('2A Input Climat Scen. Pass.'!N269=\"\",SUMIFS('2A Input Climat Scen. Pass.'!H$248:H$291,'2A Input Climat Scen. Pass.'!$B$248:$B$291,'4B Calcul. Climat Scen.'!$C391,'2A Input Climat Scen. Pass.'!$C$248:$C$291,'4B Calcul. Climat Scen.'!$E391),SUMIFS('2A Input Climat Scen. Pass.'!N$248:N$291,'2A Input Climat Scen. Pass.'!$B$248:$B$291,'4B Calcul. Climat Scen.'!$C391,'2A Input Climat Scen. Pass.'!$C$248:$C$291,'4B Calcul. Climat Scen.'!$E391))","v":0},null,0,0,0,0,0,0,null,0,0,0,0,0,0,null,0,{"$f":"U391*SUMIFS('4A Calcul. BAU city'!$V$13:$V$61,'4A Calcul. BAU city'!$C$13:$C$61,'4B Calcul. Climat Scen.'!$C330,'4A Calcul. BAU city'!$E$13:$E$61,'4B Calcul. Climat Scen.'!$E330)","v":0},{"$f":"V391*SUMIFS('4A Calcul. BAU city'!$V$13:$V$61,'4A Calcul. BAU city'!$C$13:$C$61,'4B Calcul. Climat Scen.'!$C330,'4A Calcul. BAU city'!$E$13:$E$61,'4B Calcul. Climat Scen.'!$E330)","v":0},{"$f":"W391*SUMIFS('4A Calcul. BAU city'!$V$13:$V$61,'4A Calcul. BAU city'!$C$13:$C$61,'4B Calcul. Climat Scen.'!$C330,'4A Calcul. BAU city'!$E$13:$E$61,'4B Calcul. Climat Scen.'!$E330)","v":0},{"$f":"X391*SUMIFS('4A Calcul. BAU city'!$V$13:$V$61,'4A Calcul. BAU city'!$C$13:$C$61,'4B Calcul. Climat Scen.'!$C330,'4A Calcul. BAU city'!$E$13:$E$61,'4B Calcul. Climat Scen.'!$E330)","v":0},{"$f":"Y391*SUMIFS('4A Calcul. BAU city'!$V$13:$V$61,'4A Calcul. BAU city'!$C$13:$C$61,'4B Calcul. Climat Scen.'!$C330,'4A Calcul. BAU city'!$E$13:$E$61,'4B Calcul. Climat Scen.'!$E330)","v":0},null,{"$f":"INDEX('6 Defaults parameters'!$T$9:$Y$18,MATCH($D391,'6 Defaults parameters'!$B$9:$B$18,0),MATCH(AH$313,'6 Defaults parameters'!$T$8:$Y$8,0))*AA391/10^6","v":0},{"$f":"INDEX('6 Defaults parameters'!$T$9:$Y$18,MATCH($D391,'6 Defaults parameters'!$B$9:$B$18,0),MATCH(AI$313,'6 Defaults parameters'!$T$8:$Y$8,0))*AB391/10^6","v":0},{"$f":"INDEX('6 Defaults parameters'!$T$9:$Y$18,MATCH($D391,'6 Defaults parameters'!$B$9:$B$18,0),MATCH(AJ$313,'6 Defaults parameters'!$T$8:$Y$8,0))*AC391/10^6","v":0},{"$f":"INDEX('6 Defaults parameters'!$T$9:$Y$18,MATCH($D391,'6 Defaults parameters'!$B$9:$B$18,0),MATCH(AK$313,'6 Defaults parameters'!$T$8:$Y$8,0))*AD391/10^6","v":0},{"$f":"INDEX('6 Defaults parameters'!$T$9:$Y$18,MATCH($D391,'6 Defaults parameters'!$B$9:$B$18,0),MATCH(AL$313,'6 Defaults parameters'!$T$8:$Y$8,0))*AE391/10^6","v":0},{"$f":"INDEX('6 Defaults parameters'!$T$9:$Y$18,MATCH($D391,'6 Defaults parameters'!$B$9:$B$18,0),MATCH(AM$313,'6 Defaults parameters'!$T$8:$Y$8,0))*AF391/10^6","v":0}]
[null,"Scenario 3)","Minibus",{"$f":"RoadD","v":"Road - Diesel"},{"$f":"Diesel","v":"Diesel"},{"$f":"SUMIFS('4A Calcul. BAU city'!O$13:O$61,'4A Calcul. BAU city'!$C$13:$C$61,'4B Calcul. Climat Scen.'!$C392,'4A Calcul. BAU city'!$E$13:$E$61,'4B Calcul. Climat Scen.'!$E392)","v":0},{"$f":"IF('2A Input Climat Scen. Pass.'!J270=\"\",SUMIFS('2A Input Climat Scen. Pass.'!D$248:D$291,'2A Input Climat Scen. Pass.'!$B$248:$B$291,'4B Calcul. Climat Scen.'!$C392,'2A Input Climat Scen. Pass.'!$C$248:$C$291,'4B Calcul. Climat Scen.'!$E392),SUMIFS('2A Input Climat Scen. Pass.'!J$248:J$291,'2A Input Climat Scen. Pass.'!$B$248:$B$291,'4B Calcul. Climat Scen.'!$C392,'2A Input Climat Scen. Pass.'!$C$248:$C$291,'4B Calcul. Climat Scen.'!$E392))","v":0},{"$f":"IF('2A Input Climat Scen. Pass.'!K270=\"\",SUMIFS('2A Input Climat Scen. Pass.'!E$248:E$291,'2A Input Climat Scen. Pass.'!$B$248:$B$291,'4B Calcul. Climat Scen.'!$C392,'2A Input Climat Scen. Pass.'!$C$248:$C$291,'4B Calcul. Climat Scen.'!$E392),SUMIFS('2A Input Climat Scen. Pass.'!K$248:K$291,'2A Input Climat Scen. Pass.'!$B$248:$B$291,'4B Calcul. Climat Scen.'!$C392,'2A Input Climat Scen. Pass.'!$C$248:$C$291,'4B Calcul. Climat Scen.'!$E392))","v":0},{"$f":"IF('2A Input Climat Scen. Pass.'!L270=\"\",SUMIFS('2A Input Climat Scen. Pass.'!F$248:F$291,'2A Input Climat Scen. Pass.'!$B$248:$B$291,'4B Calcul. Climat Scen.'!$C392,'2A Input Climat Scen. Pass.'!$C$248:$C$291,'4B Calcul. Climat Scen.'!$E392),SUMIFS('2A Input Climat Scen. Pass.'!L$248:L$291,'2A Input Climat Scen. Pass.'!$B$248:$B$291,'4B Calcul. Climat Scen.'!$C392,'2A Input Climat Scen. Pass.'!$C$248:$C$291,'4B Calcul. Climat Scen.'!$E392))","v":0},{"$f":"IF('2A Input Climat Scen. Pass.'!M270=\"\",SUMIFS('2A Input Climat Scen. Pass.'!G$248:G$291,'2A Input Climat Scen. Pass.'!$B$248:$B$291,'4B Calcul. Climat Scen.'!$C392,'2A Input Climat Scen. Pass.'!$C$248:$C$291,'4B Calcul. Climat Scen.'!$E392),SUMIFS('2A Input Climat Scen. Pass.'!M$248:M$291,'2A Input Climat Scen. Pass.'!$B$248:$B$291,'4B Calcul. Climat Scen.'!$C392,'2A Input Climat Scen. Pass.'!$C$248:$C$291,'4B Calcul. Climat Scen.'!$E392))","v":0},{"$f":"IF('2A Input Climat Scen. Pass.'!N270=\"\",SUMIFS('2A Input Climat Scen. Pass.'!H$248:H$291,'2A Input Climat Scen. Pass.'!$B$248:$B$291,'4B Calcul. Climat Scen.'!$C392,'2A Input Climat Scen. Pass.'!$C$248:$C$291,'4B Calcul. Climat Scen.'!$E392),SUMIFS('2A Input Climat Scen. Pass.'!N$248:N$291,'2A Input Climat Scen. Pass.'!$B$248:$B$291,'4B Calcul. Climat Scen.'!$C392,'2A Input Climat Scen. Pass.'!$C$248:$C$291,'4B Calcul. Climat Scen.'!$E392))","v":0},null,0,0,0,0,0,0,null,0,0,0,0,0,0,null,0,{"$f":"U392*SUMIFS('4A Calcul. BAU city'!$V$13:$V$61,'4A Calcul. BAU city'!$C$13:$C$61,'4B Calcul. Climat Scen.'!$C331,'4A Calcul. BAU city'!$E$13:$E$61,'4B Calcul. Climat Scen.'!$E331)","v":0},{"$f":"V392*SUMIFS('4A Calcul. BAU city'!$V$13:$V$61,'4A Calcul. BAU city'!$C$13:$C$61,'4B Calcul. Climat Scen.'!$C331,'4A Calcul. BAU city'!$E$13:$E$61,'4B Calcul. Climat Scen.'!$E331)","v":0},{"$f":"W392*SUMIFS('4A Calcul. BAU city'!$V$13:$V$61,'4A Calcul. BAU city'!$C$13:$C$61,'4B Calcul. Climat Scen.'!$C331,'4A Calcul. BAU city'!$E$13:$E$61,'4B Calcul. Climat Scen.'!$E331)","v":0},{"$f":"X392*SUMIFS('4A Calcul. BAU city'!$V$13:$V$61,'4A Calcul. BAU city'!$C$13:$C$61,'4B Calcul. Climat Scen.'!$C331,'4A Calcul. BAU city'!$E$13:$E$61,'4B Calcul. Climat Scen.'!$E331)","v":0},{"$f":"Y392*SUMIFS('4A Calcul. BAU city'!$V$13:$V$61,'4A Calcul. BAU city'!$C$13:$C$61,'4B Calcul. Climat Scen.'!$C331,'4A Calcul. BAU city'!$E$13:$E$61,'4B Calcul. Climat Scen.'!$E331)","v":0},null,{"$f":"INDEX('6 Defaults parameters'!$T$9:$Y$18,MATCH($D392,'6 Defaults parameters'!$B$9:$B$18,0),MATCH(AH$313,'6 Defaults parameters'!$T$8:$Y$8,0))*AA392/10^6","v":0},{"$f":"INDEX('6 Defaults parameters'!$T$9:$Y$18,MATCH($D392,'6 Defaults parameters'!$B$9:$B$18,0),MATCH(AI$313,'6 Defaults parameters'!$T$8:$Y$8,0))*AB392/10^6","v":0},{"$f":"INDEX('6 Defaults parameters'!$T$9:$Y$18,MATCH($D392,'6 Defaults parameters'!$B$9:$B$18,0),MATCH(AJ$313,'6 Defaults parameters'!$T$8:$Y$8,0))*AC392/10^6","v":0},{"$f":"INDEX('6 Defaults parameters'!$T$9:$Y$18,MATCH($D392,'6 Defaults parameters'!$B$9:$B$18,0),MATCH(AK$313,'6 Defaults parameters'!$T$8:$Y$8,0))*AD392/10^6","v":0},{"$f":"INDEX('6 Defaults parameters'!$T$9:$Y$18,MATCH($D392,'6 Defaults parameters'!$B$9:$B$18,0),MATCH(AL$313,'6 Defaults parameters'!$T$8:$Y$8,0))*AE392/10^6","v":0},{"$f":"INDEX('6 Defaults parameters'!$T$9:$Y$18,MATCH($D392,'6 Defaults parameters'!$B$9:$B$18,0),MATCH(AM$313,'6 Defaults parameters'!$T$8:$Y$8,0))*AF392/10^6","v":0}]
[null,"Scenario 3)","Minibus",{"$f":"RoadLPG","v":"Road - LPG"},{"$f":"LPG","v":"LPG"},{"$f":"SUMIFS('4A Calcul. BAU city'!O$13:O$61,'4A Calcul. BAU city'!$C$13:$C$61,'4B Calcul. Climat Scen.'!$C393,'4A Calcul. BAU city'!$E$13:$E$61,'4B Calcul. Climat Scen.'!$E393)","v":0},{"$f":"IF('2A Input Climat Scen. Pass.'!J271=\"\",SUMIFS('2A Input Climat Scen. Pass.'!D$248:D$291,'2A Input Climat Scen. Pass.'!$B$248:$B$291,'4B Calcul. Climat Scen.'!$C393,'2A Input Climat Scen. Pass.'!$C$248:$C$291,'4B Calcul. Climat Scen.'!$E393),SUMIFS('2A Input Climat Scen. Pass.'!J$248:J$291,'2A Input Climat Scen. Pass.'!$B$248:$B$291,'4B Calcul. Climat Scen.'!$C393,'2A Input Climat Scen. Pass.'!$C$248:$C$291,'4B Calcul. Climat Scen.'!$E393))","v":0},{"$f":"IF('2A Input Climat Scen. Pass.'!K271=\"\",SUMIFS('2A Input Climat Scen. Pass.'!E$248:E$291,'2A Input Climat Scen. Pass.'!$B$248:$B$291,'4B Calcul. Climat Scen.'!$C393,'2A Input Climat Scen. Pass.'!$C$248:$C$291,'4B Calcul. Climat Scen.'!$E393),SUMIFS('2A Input Climat Scen. Pass.'!K$248:K$291,'2A Input Climat Scen. Pass.'!$B$248:$B$291,'4B Calcul. Climat Scen.'!$C393,'2A Input Climat Scen. Pass.'!$C$248:$C$291,'4B Calcul. Climat Scen.'!$E393))","v":0},{"$f":"IF('2A Input Climat Scen. Pass.'!L271=\"\",SUMIFS('2A Input Climat Scen. Pass.'!F$248:F$291,'2A Input Climat Scen. Pass.'!$B$248:$B$291,'4B Calcul. Climat Scen.'!$C393,'2A Input Climat Scen. Pass.'!$C$248:$C$291,'4B Calcul. Climat Scen.'!$E393),SUMIFS('2A Input Climat Scen. Pass.'!L$248:L$291,'2A Input Climat Scen. Pass.'!$B$248:$B$291,'4B Calcul. Climat Scen.'!$C393,'2A Input Climat Scen. Pass.'!$C$248:$C$291,'4B Calcul. Climat Scen.'!$E393))","v":0},{"$f":"IF('2A Input Climat Scen. Pass.'!M271=\"\",SUMIFS('2A Input Climat Scen. Pass.'!G$248:G$291,'2A Input Climat Scen. Pass.'!$B$248:$B$291,'4B Calcul. Climat Scen.'!$C393,'2A Input Climat Scen. Pass.'!$C$248:$C$291,'4B Calcul. Climat Scen.'!$E393),SUMIFS('2A Input Climat Scen. Pass.'!M$248:M$291,'2A Input Climat Scen. Pass.'!$B$248:$B$291,'4B Calcul. Climat Scen.'!$C393,'2A Input Climat Scen. Pass.'!$C$248:$C$291,'4B Calcul. Climat Scen.'!$E393))","v":0},{"$f":"IF('2A Input Climat Scen. Pass.'!N271=\"\",SUMIFS('2A Input Climat Scen. Pass.'!H$248:H$291,'2A Input Climat Scen. Pass.'!$B$248:$B$291,'4B Calcul. Climat Scen.'!$C393,'2A Input Climat Scen. Pass.'!$C$248:$C$291,'4B Calcul. Climat Scen.'!$E393),SUMIFS('2A Input Climat Scen. Pass.'!N$248:N$291,'2A Input Climat Scen. Pass.'!$B$248:$B$291,'4B Calcul. Climat Scen.'!$C393,'2A Input Climat Scen. Pass.'!$C$248:$C$291,'4B Calcul. Climat Scen.'!$E393))","v":0},null,0,0,0,0,0,0,null,0,0,0,0,0,0,null,0,{"$f":"U393*SUMIFS('4A Calcul. BAU city'!$V$13:$V$61,'4A Calcul. BAU city'!$C$13:$C$61,'4B Calcul. Climat Scen.'!$C332,'4A Calcul. BAU city'!$E$13:$E$61,'4B Calcul. Climat Scen.'!$E332)","v":0},{"$f":"V393*SUMIFS('4A Calcul. BAU city'!$V$13:$V$61,'4A Calcul. BAU city'!$C$13:$C$61,'4B Calcul. Climat Scen.'!$C332,'4A Calcul. BAU city'!$E$13:$E$61,'4B Calcul. Climat Scen.'!$E332)","v":0},{"$f":"W393*SUMIFS('4A Calcul. BAU city'!$V$13:$V$61,'4A Calcul. BAU city'!$C$13:$C$61,'4B Calcul. Climat Scen.'!$C332,'4A Calcul. BAU city'!$E$13:$E$61,'4B Calcul. Climat Scen.'!$E332)","v":0},{"$f":"X393*SUMIFS('4A Calcul. BAU city'!$V$13:$V$61,'4A Calcul. BAU city'!$C$13:$C$61,'4B Calcul. Climat Scen.'!$C332,'4A Calcul. BAU city'!$E$13:$E$61,'4B Calcul. Climat Scen.'!$E332)","v":0},{"$f":"Y393*SUMIFS('4A Calcul. BAU city'!$V$13:$V$61,'4A Calcul. BAU city'!$C$13:$C$61,'4B Calcul. Climat Scen.'!$C332,'4A Calcul. BAU city'!$E$13:$E$61,'4B Calcul. Climat Scen.'!$E332)","v":0},null,{"$f":"INDEX('6 Defaults parameters'!$T$9:$Y$18,MATCH($D393,'6 Defaults parameters'!$B$9:$B$18,0),MATCH(AH$313,'6 Defaults parameters'!$T$8:$Y$8,0))*AA393/10^6","v":0},{"$f":"INDEX('6 Defaults parameters'!$T$9:$Y$18,MATCH($D393,'6 Defaults parameters'!$B$9:$B$18,0),MATCH(AI$313,'6 Defaults parameters'!$T$8:$Y$8,0))*AB393/10^6","v":0},{"$f":"INDEX('6 Defaults parameters'!$T$9:$Y$18,MATCH($D393,'6 Defaults parameters'!$B$9:$B$18,0),MATCH(AJ$313,'6 Defaults parameters'!$T$8:$Y$8,0))*AC393/10^6","v":0},{"$f":"INDEX('6 Defaults parameters'!$T$9:$Y$18,MATCH($D393,'6 Defaults parameters'!$B$9:$B$18,0),MATCH(AK$313,'6 Defaults parameters'!$T$8:$Y$8,0))*AD393/10^6","v":0},{"$f":"INDEX('6 Defaults parameters'!$T$9:$Y$18,MATCH($D393,'6 Defaults parameters'!$B$9:$B$18,0),MATCH(AL$313,'6 Defaults parameters'!$T$8:$Y$8,0))*AE393/10^6","v":0},{"$f":"INDEX('6 Defaults parameters'!$T$9:$Y$18,MATCH($D393,'6 Defaults parameters'!$B$9:$B$18,0),MATCH(AM$313,'6 Defaults parameters'!$T$8:$Y$8,0))*AF393/10^6","v":0}]
[null,"Scenario 3)","Minibus",{"$f":"RoadNG","v":"Road - NG"},{"$f":"NG","v":"NG"},{"$f":"SUMIFS('4A Calcul. BAU city'!O$13:O$61,'4A Calcul. BAU city'!$C$13:$C$61,'4B Calcul. Climat Scen.'!$C394,'4A Calcul. BAU city'!$E$13:$E$61,'4B Calcul. Climat Scen.'!$E394)","v":0},{"$f":"IF('2A Input Climat Scen. Pass.'!J272=\"\",SUMIFS('2A Input Climat Scen. Pass.'!D$248:D$291,'2A Input Climat Scen. Pass.'!$B$248:$B$291,'4B Calcul. Climat Scen.'!$C394,'2A Input Climat Scen. Pass.'!$C$248:$C$291,'4B Calcul. Climat Scen.'!$E394),SUMIFS('2A Input Climat Scen. Pass.'!J$248:J$291,'2A Input Climat Scen. Pass.'!$B$248:$B$291,'4B Calcul. Climat Scen.'!$C394,'2A Input Climat Scen. Pass.'!$C$248:$C$291,'4B Calcul. Climat Scen.'!$E394))","v":0},{"$f":"IF('2A Input Climat Scen. Pass.'!K272=\"\",SUMIFS('2A Input Climat Scen. Pass.'!E$248:E$291,'2A Input Climat Scen. Pass.'!$B$248:$B$291,'4B Calcul. Climat Scen.'!$C394,'2A Input Climat Scen. Pass.'!$C$248:$C$291,'4B Calcul. Climat Scen.'!$E394),SUMIFS('2A Input Climat Scen. Pass.'!K$248:K$291,'2A Input Climat Scen. Pass.'!$B$248:$B$291,'4B Calcul. Climat Scen.'!$C394,'2A Input Climat Scen. Pass.'!$C$248:$C$291,'4B Calcul. Climat Scen.'!$E394))","v":0},{"$f":"IF('2A Input Climat Scen. Pass.'!L272=\"\",SUMIFS('2A Input Climat Scen. Pass.'!F$248:F$291,'2A Input Climat Scen. Pass.'!$B$248:$B$291,'4B Calcul. Climat Scen.'!$C394,'2A Input Climat Scen. Pass.'!$C$248:$C$291,'4B Calcul. Climat Scen.'!$E394),SUMIFS('2A Input Climat Scen. Pass.'!L$248:L$291,'2A Input Climat Scen. Pass.'!$B$248:$B$291,'4B Calcul. Climat Scen.'!$C394,'2A Input Climat Scen. Pass.'!$C$248:$C$291,'4B Calcul. Climat Scen.'!$E394))","v":0},{"$f":"IF('2A Input Climat Scen. Pass.'!M272=\"\",SUMIFS('2A Input Climat Scen. Pass.'!G$248:G$291,'2A Input Climat Scen. Pass.'!$B$248:$B$291,'4B Calcul. Climat Scen.'!$C394,'2A Input Climat Scen. Pass.'!$C$248:$C$291,'4B Calcul. Climat Scen.'!$E394),SUMIFS('2A Input Climat Scen. Pass.'!M$248:M$291,'2A Input Climat Scen. Pass.'!$B$248:$B$291,'4B Calcul. Climat Scen.'!$C394,'2A Input Climat Scen. Pass.'!$C$248:$C$291,'4B Calcul. Climat Scen.'!$E394))","v":0},{"$f":"IF('2A Input Climat Scen. Pass.'!N272=\"\",SUMIFS('2A Input Climat Scen. Pass.'!H$248:H$291,'2A Input Climat Scen. Pass.'!$B$248:$B$291,'4B Calcul. Climat Scen.'!$C394,'2A Input Climat Scen. Pass.'!$C$248:$C$291,'4B Calcul. Climat Scen.'!$E394),SUMIFS('2A Input Climat Scen. Pass.'!N$248:N$291,'2A Input Climat Scen. Pass.'!$B$248:$B$291,'4B Calcul. Climat Scen.'!$C394,'2A Input Climat Scen. Pass.'!$C$248:$C$291,'4B Calcul. Climat Scen.'!$E394))","v":0},null,0,0,0,0,0,0,null,0,0,0,0,0,0,null,0,{"$f":"U394*SUMIFS('4A Calcul. BAU city'!$V$13:$V$61,'4A Calcul. BAU city'!$C$13:$C$61,'4B Calcul. Climat Scen.'!$C333,'4A Calcul. BAU city'!$E$13:$E$61,'4B Calcul. Climat Scen.'!$E333)","v":0},{"$f":"V394*SUMIFS('4A Calcul. BAU city'!$V$13:$V$61,'4A Calcul. BAU city'!$C$13:$C$61,'4B Calcul. Climat Scen.'!$C333,'4A Calcul. BAU city'!$E$13:$E$61,'4B Calcul. Climat Scen.'!$E333)","v":0},{"$f":"W394*SUMIFS('4A Calcul. BAU city'!$V$13:$V$61,'4A Calcul. BAU city'!$C$13:$C$61,'4B Calcul. Climat Scen.'!$C333,'4A Calcul. BAU city'!$E$13:$E$61,'4B Calcul. Climat Scen.'!$E333)","v":0},{"$f":"X394*SUMIFS('4A Calcul. BAU city'!$V$13:$V$61,'4A Calcul. BAU city'!$C$13:$C$61,'4B Calcul. Climat Scen.'!$C333,'4A Calcul. BAU city'!$E$13:$E$61,'4B Calcul. Climat Scen.'!$E333)","v":0},{"$f":"Y394*SUMIFS('4A Calcul. BAU city'!$V$13:$V$61,'4A Calcul. BAU city'!$C$13:$C$61,'4B Calcul. Climat Scen.'!$C333,'4A Calcul. BAU city'!$E$13:$E$61,'4B Calcul. Climat Scen.'!$E333)","v":0},null,{"$f":"INDEX('6 Defaults parameters'!$T$9:$Y$18,MATCH($D394,'6 Defaults parameters'!$B$9:$B$18,0),MATCH(AH$313,'6 Defaults parameters'!$T$8:$Y$8,0))*AA394/10^6","v":0},{"$f":"INDEX('6 Defaults parameters'!$T$9:$Y$18,MATCH($D394,'6 Defaults parameters'!$B$9:$B$18,0),MATCH(AI$313,'6 Defaults parameters'!$T$8:$Y$8,0))*AB394/10^6","v":0},{"$f":"INDEX('6 Defaults parameters'!$T$9:$Y$18,MATCH($D394,'6 Defaults parameters'!$B$9:$B$18,0),MATCH(AJ$313,'6 Defaults parameters'!$T$8:$Y$8,0))*AC394/10^6","v":0},{"$f":"INDEX('6 Defaults parameters'!$T$9:$Y$18,MATCH($D394,'6 Defaults parameters'!$B$9:$B$18,0),MATCH(AK$313,'6 Defaults parameters'!$T$8:$Y$8,0))*AD394/10^6","v":0},{"$f":"INDEX('6 Defaults parameters'!$T$9:$Y$18,MATCH($D394,'6 Defaults parameters'!$B$9:$B$18,0),MATCH(AL$313,'6 Defaults parameters'!$T$8:$Y$8,0))*AE394/10^6","v":0},{"$f":"INDEX('6 Defaults parameters'!$T$9:$Y$18,MATCH($D394,'6 Defaults parameters'!$B$9:$B$18,0),MATCH(AM$313,'6 Defaults parameters'!$T$8:$Y$8,0))*AF394/10^6","v":0}]
[null,"Scenario 3)","Minibus",{"$f":"RoadH","v":"Road - Hybrid"},{"$f":"Hybrid","v":"Hybrid"},{"$f":"SUMIFS('4A Calcul. BAU city'!O$13:O$61,'4A Calcul. BAU city'!$C$13:$C$61,'4B Calcul. Climat Scen.'!$C395,'4A Calcul. BAU city'!$E$13:$E$61,'4B Calcul. Climat Scen.'!$E395)","v":0},{"$f":"IF('2A Input Climat Scen. Pass.'!J273=\"\",SUMIFS('2A Input Climat Scen. Pass.'!D$248:D$291,'2A Input Climat Scen. Pass.'!$B$248:$B$291,'4B Calcul. Climat Scen.'!$C395,'2A Input Climat Scen. Pass.'!$C$248:$C$291,'4B Calcul. Climat Scen.'!$E395),SUMIFS('2A Input Climat Scen. Pass.'!J$248:J$291,'2A Input Climat Scen. Pass.'!$B$248:$B$291,'4B Calcul. Climat Scen.'!$C395,'2A Input Climat Scen. Pass.'!$C$248:$C$291,'4B Calcul. Climat Scen.'!$E395))","v":0},{"$f":"IF('2A Input Climat Scen. Pass.'!K273=\"\",SUMIFS('2A Input Climat Scen. Pass.'!E$248:E$291,'2A Input Climat Scen. Pass.'!$B$248:$B$291,'4B Calcul. Climat Scen.'!$C395,'2A Input Climat Scen. Pass.'!$C$248:$C$291,'4B Calcul. Climat Scen.'!$E395),SUMIFS('2A Input Climat Scen. Pass.'!K$248:K$291,'2A Input Climat Scen. Pass.'!$B$248:$B$291,'4B Calcul. Climat Scen.'!$C395,'2A Input Climat Scen. Pass.'!$C$248:$C$291,'4B Calcul. Climat Scen.'!$E395))","v":0},{"$f":"IF('2A Input Climat Scen. Pass.'!L273=\"\",SUMIFS('2A Input Climat Scen. Pass.'!F$248:F$291,'2A Input Climat Scen. Pass.'!$B$248:$B$291,'4B Calcul. Climat Scen.'!$C395,'2A Input Climat Scen. Pass.'!$C$248:$C$291,'4B Calcul. Climat Scen.'!$E395),SUMIFS('2A Input Climat Scen. Pass.'!L$248:L$291,'2A Input Climat Scen. Pass.'!$B$248:$B$291,'4B Calcul. Climat Scen.'!$C395,'2A Input Climat Scen. Pass.'!$C$248:$C$291,'4B Calcul. Climat Scen.'!$E395))","v":0},{"$f":"IF('2A Input Climat Scen. Pass.'!M273=\"\",SUMIFS('2A Input Climat Scen. Pass.'!G$248:G$291,'2A Input Climat Scen. Pass.'!$B$248:$B$291,'4B Calcul. Climat Scen.'!$C395,'2A Input Climat Scen. Pass.'!$C$248:$C$291,'4B Calcul. Climat Scen.'!$E395),SUMIFS('2A Input Climat Scen. Pass.'!M$248:M$291,'2A Input Climat Scen. Pass.'!$B$248:$B$291,'4B Calcul. Climat Scen.'!$C395,'2A Input Climat Scen. Pass.'!$C$248:$C$291,'4B Calcul. Climat Scen.'!$E395))","v":0},{"$f":"IF('2A Input Climat Scen. Pass.'!N273=\"\",SUMIFS('2A Input Climat Scen. Pass.'!H$248:H$291,'2A Input Climat Scen. Pass.'!$B$248:$B$291,'4B Calcul. Climat Scen.'!$C395,'2A Input Climat Scen. Pass.'!$C$248:$C$291,'4B Calcul. Climat Scen.'!$E395),SUMIFS('2A Input Climat Scen. Pass.'!N$248:N$291,'2A Input Climat Scen. Pass.'!$B$248:$B$291,'4B Calcul. Climat Scen.'!$C395,'2A Input Climat Scen. Pass.'!$C$248:$C$291,'4B Calcul. Climat Scen.'!$E395))","v":0},null,{"$f":"SUMIFS(M$314:M$363,$C$314:$C$363,$C395,$E$314:$E$363,$E395)","v":0},0,0,0,0,0,null,0,0,0,0,0,0,null,{"$f":"AA334","v":0},{"$f":"U395*SUMIFS('4A Calcul. BAU city'!$V$13:$V$61,'4A Calcul. BAU city'!$C$13:$C$61,'4B Calcul. Climat Scen.'!$C334,'4A Calcul. BAU city'!$E$13:$E$61,'4B Calcul. Climat Scen.'!$E334)","v":0},{"$f":"V395*SUMIFS('4A Calcul. BAU city'!$V$13:$V$61,'4A Calcul. BAU city'!$C$13:$C$61,'4B Calcul. Climat Scen.'!$C334,'4A Calcul. BAU city'!$E$13:$E$61,'4B Calcul. Climat Scen.'!$E334)","v":0},{"$f":"W395*SUMIFS('4A Calcul. BAU city'!$V$13:$V$61,'4A Calcul. BAU city'!$C$13:$C$61,'4B Calcul. Climat Scen.'!$C334,'4A Calcul. BAU city'!$E$13:$E$61,'4B Calcul. Climat Scen.'!$E334)","v":0},{"$f":"X395*SUMIFS('4A Calcul. BAU city'!$V$13:$V$61,'4A Calcul. BAU city'!$C$13:$C$61,'4B Calcul. Climat Scen.'!$C334,'4A Calcul. BAU city'!$E$13:$E$61,'4B Calcul. Climat Scen.'!$E334)","v":0},{"$f":"Y395*SUMIFS('4A Calcul. BAU city'!$V$13:$V$61,'4A Calcul. BAU city'!$C$13:$C$61,'4B Calcul. Climat Scen.'!$C334,'4A Calcul. BAU city'!$E$13:$E$61,'4B Calcul. Climat Scen.'!$E334)","v":0},null,{"$f":"INDEX('6 Defaults parameters'!$T$9:$Y$18,MATCH($D395,'6 Defaults parameters'!$B$9:$B$18,0),MATCH(AH$313,'6 Defaults parameters'!$T$8:$Y$8,0))*AA395/10^6","v":0},{"$f":"INDEX('6 Defaults parameters'!$T$9:$Y$18,MATCH($D395,'6 Defaults parameters'!$B$9:$B$18,0),MATCH(AI$313,'6 Defaults parameters'!$T$8:$Y$8,0))*AB395/10^6","v":0},{"$f":"INDEX('6 Defaults parameters'!$T$9:$Y$18,MATCH($D395,'6 Defaults parameters'!$B$9:$B$18,0),MATCH(AJ$313,'6 Defaults parameters'!$T$8:$Y$8,0))*AC395/10^6","v":0},{"$f":"INDEX('6 Defaults parameters'!$T$9:$Y$18,MATCH($D395,'6 Defaults parameters'!$B$9:$B$18,0),MATCH(AK$313,'6 Defaults parameters'!$T$8:$Y$8,0))*AD395/10^6","v":0},{"$f":"INDEX('6 Defaults parameters'!$T$9:$Y$18,MATCH($D395,'6 Defaults parameters'!$B$9:$B$18,0),MATCH(AL$313,'6 Defaults parameters'!$T$8:$Y$8,0))*AE395/10^6","v":0},{"$f":"INDEX('6 Defaults parameters'!$T$9:$Y$18,MATCH($D395,'6 Defaults parameters'!$B$9:$B$18,0),MATCH(AM$313,'6 Defaults parameters'!$T$8:$Y$8,0))*AF395/10^6","v":0}]
[null,"Scenario 3)","Minibus",{"$f":"Roadelec","v":"Road - Electric"},{"$f":"Electric","v":"Electric"},{"$f":"SUMIFS('4A Calcul. BAU city'!O$13:O$61,'4A Calcul. BAU city'!$C$13:$C$61,'4B Calcul. Climat Scen.'!$C396,'4A Calcul. BAU city'!$E$13:$E$61,'4B Calcul. Climat Scen.'!$E396)","v":0},{"$f":"IF('2A Input Climat Scen. Pass.'!J274=\"\",SUMIFS('2A Input Climat Scen. Pass.'!D$248:D$291,'2A Input Climat Scen. Pass.'!$B$248:$B$291,'4B Calcul. Climat Scen.'!$C396,'2A Input Climat Scen. Pass.'!$C$248:$C$291,'4B Calcul. Climat Scen.'!$E396),SUMIFS('2A Input Climat Scen. Pass.'!J$248:J$291,'2A Input Climat Scen. Pass.'!$B$248:$B$291,'4B Calcul. Climat Scen.'!$C396,'2A Input Climat Scen. Pass.'!$C$248:$C$291,'4B Calcul. Climat Scen.'!$E396))","v":0},{"$f":"IF('2A Input Climat Scen. Pass.'!K274=\"\",SUMIFS('2A Input Climat Scen. Pass.'!E$248:E$291,'2A Input Climat Scen. Pass.'!$B$248:$B$291,'4B Calcul. Climat Scen.'!$C396,'2A Input Climat Scen. Pass.'!$C$248:$C$291,'4B Calcul. Climat Scen.'!$E396),SUMIFS('2A Input Climat Scen. Pass.'!K$248:K$291,'2A Input Climat Scen. Pass.'!$B$248:$B$291,'4B Calcul. Climat Scen.'!$C396,'2A Input Climat Scen. Pass.'!$C$248:$C$291,'4B Calcul. Climat Scen.'!$E396))","v":0},{"$f":"IF('2A Input Climat Scen. Pass.'!L274=\"\",SUMIFS('2A Input Climat Scen. Pass.'!F$248:F$291,'2A Input Climat Scen. Pass.'!$B$248:$B$291,'4B Calcul. Climat Scen.'!$C396,'2A Input Climat Scen. Pass.'!$C$248:$C$291,'4B Calcul. Climat Scen.'!$E396),SUMIFS('2A Input Climat Scen. Pass.'!L$248:L$291,'2A Input Climat Scen. Pass.'!$B$248:$B$291,'4B Calcul. Climat Scen.'!$C396,'2A Input Climat Scen. Pass.'!$C$248:$C$291,'4B Calcul. Climat Scen.'!$E396))","v":0},{"$f":"IF('2A Input Climat Scen. Pass.'!M274=\"\",SUMIFS('2A Input Climat Scen. Pass.'!G$248:G$291,'2A Input Climat Scen. Pass.'!$B$248:$B$291,'4B Calcul. Climat Scen.'!$C396,'2A Input Climat Scen. Pass.'!$C$248:$C$291,'4B Calcul. Climat Scen.'!$E396),SUMIFS('2A Input Climat Scen. Pass.'!M$248:M$291,'2A Input Climat Scen. Pass.'!$B$248:$B$291,'4B Calcul. Climat Scen.'!$C396,'2A Input Climat Scen. Pass.'!$C$248:$C$291,'4B Calcul. Climat Scen.'!$E396))","v":0},{"$f":"IF('2A Input Climat Scen. Pass.'!N274=\"\",SUMIFS('2A Input Climat Scen. Pass.'!H$248:H$291,'2A Input Climat Scen. Pass.'!$B$248:$B$291,'4B Calcul. Climat Scen.'!$C396,'2A Input Climat Scen. Pass.'!$C$248:$C$291,'4B Calcul. Climat Scen.'!$E396),SUMIFS('2A Input Climat Scen. Pass.'!N$248:N$291,'2A Input Climat Scen. Pass.'!$B$248:$B$291,'4B Calcul. Climat Scen.'!$C396,'2A Input Climat Scen. Pass.'!$C$248:$C$291,'4B Calcul. Climat Scen.'!$E396))","v":0},null,0,0,0,0,0,0,null,0,0,0,0,0,0,null,0,{"$f":"U396*SUMIFS('4A Calcul. BAU city'!$V$13:$V$61,'4A Calcul. BAU city'!$C$13:$C$61,'4B Calcul. Climat Scen.'!$C335,'4A Calcul. BAU city'!$E$13:$E$61,'4B Calcul. Climat Scen.'!$E335)","v":0},{"$f":"V396*SUMIFS('4A Calcul. BAU city'!$V$13:$V$61,'4A Calcul. BAU city'!$C$13:$C$61,'4B Calcul. Climat Scen.'!$C335,'4A Calcul. BAU city'!$E$13:$E$61,'4B Calcul. Climat Scen.'!$E335)","v":0},{"$f":"W396*SUMIFS('4A Calcul. BAU city'!$V$13:$V$61,'4A Calcul. BAU city'!$C$13:$C$61,'4B Calcul. Climat Scen.'!$C335,'4A Calcul. BAU city'!$E$13:$E$61,'4B Calcul. Climat Scen.'!$E335)","v":0},{"$f":"X396*SUMIFS('4A Calcul. BAU city'!$V$13:$V$61,'4A Calcul. BAU city'!$C$13:$C$61,'4B Calcul. Climat Scen.'!$C335,'4A Calcul. BAU city'!$E$13:$E$61,'4B Calcul. Climat Scen.'!$E335)","v":0},{"$f":"Y396*SUMIFS('4A Calcul. BAU city'!$V$13:$V$61,'4A Calcul. BAU city'!$C$13:$C$61,'4B Calcul. Climat Scen.'!$C335,'4A Calcul. BAU city'!$E$13:$E$61,'4B Calcul. Climat Scen.'!$E335)","v":0},null,{"$f":"INDEX('6 Defaults parameters'!$T$9:$Y$18,MATCH($D396,'6 Defaults parameters'!$B$9:$B$18,0),MATCH(AH$313,'6 Defaults parameters'!$T$8:$Y$8,0))*AA396/10^6","v":0},{"$f":"INDEX('6 Defaults parameters'!$T$9:$Y$18,MATCH($D396,'6 Defaults parameters'!$B$9:$B$18,0),MATCH(AI$313,'6 Defaults parameters'!$T$8:$Y$8,0))*AB396/10^6","v":0},{"$f":"INDEX('6 Defaults parameters'!$T$9:$Y$18,MATCH($D396,'6 Defaults parameters'!$B$9:$B$18,0),MATCH(AJ$313,'6 Defaults parameters'!$T$8:$Y$8,0))*AC396/10^6","v":0},{"$f":"INDEX('6 Defaults parameters'!$T$9:$Y$18,MATCH($D396,'6 Defaults parameters'!$B$9:$B$18,0),MATCH(AK$313,'6 Defaults parameters'!$T$8:$Y$8,0))*AD396/10^6","v":0},{"$f":"INDEX('6 Defaults parameters'!$T$9:$Y$18,MATCH($D396,'6 Defaults parameters'!$B$9:$B$18,0),MATCH(AL$313,'6 Defaults parameters'!$T$8:$Y$8,0))*AE396/10^6","v":0},{"$f":"INDEX('6 Defaults parameters'!$T$9:$Y$18,MATCH($D396,'6 Defaults parameters'!$B$9:$B$18,0),MATCH(AM$313,'6 Defaults parameters'!$T$8:$Y$8,0))*AF396/10^6","v":0}]
[null,"Scenario 3)",{"$f":"Bus","v":"Bus"},{"$f":"RoadD","v":"Road - Diesel"},{"$f":"Diesel","v":"Diesel"},{"$f":"SUMIFS('4A Calcul. BAU city'!O$13:O$61,'4A Calcul. BAU city'!$C$13:$C$61,'4B Calcul. Climat Scen.'!$C397,'4A Calcul. BAU city'!$E$13:$E$61,'4B Calcul. Climat Scen.'!$E397)","v":0},{"$f":"IF('2A Input Climat Scen. Pass.'!J276=\"\",SUMIFS('2A Input Climat Scen. Pass.'!D$248:D$291,'2A Input Climat Scen. Pass.'!$B$248:$B$291,'4B Calcul. Climat Scen.'!$C397,'2A Input Climat Scen. Pass.'!$C$248:$C$291,'4B Calcul. Climat Scen.'!$E397),SUMIFS('2A Input Climat Scen. Pass.'!J$248:J$291,'2A Input Climat Scen. Pass.'!$B$248:$B$291,'4B Calcul. Climat Scen.'!$C397,'2A Input Climat Scen. Pass.'!$C$248:$C$291,'4B Calcul. Climat Scen.'!$E397))","v":0},{"$f":"IF('2A Input Climat Scen. Pass.'!K276=\"\",SUMIFS('2A Input Climat Scen. Pass.'!E$248:E$291,'2A Input Climat Scen. Pass.'!$B$248:$B$291,'4B Calcul. Climat Scen.'!$C397,'2A Input Climat Scen. Pass.'!$C$248:$C$291,'4B Calcul. Climat Scen.'!$E397),SUMIFS('2A Input Climat Scen. Pass.'!K$248:K$291,'2A Input Climat Scen. Pass.'!$B$248:$B$291,'4B Calcul. Climat Scen.'!$C397,'2A Input Climat Scen. Pass.'!$C$248:$C$291,'4B Calcul. Climat Scen.'!$E397))","v":0},{"$f":"IF('2A Input Climat Scen. Pass.'!L276=\"\",SUMIFS('2A Input Climat Scen. Pass.'!F$248:F$291,'2A Input Climat Scen. Pass.'!$B$248:$B$291,'4B Calcul. Climat Scen.'!$C397,'2A Input Climat Scen. Pass.'!$C$248:$C$291,'4B Calcul. Climat Scen.'!$E397),SUMIFS('2A Input Climat Scen. Pass.'!L$248:L$291,'2A Input Climat Scen. Pass.'!$B$248:$B$291,'4B Calcul. Climat Scen.'!$C397,'2A Input Climat Scen. Pass.'!$C$248:$C$291,'4B Calcul. Climat Scen.'!$E397))","v":0},{"$f":"IF('2A Input Climat Scen. Pass.'!M276=\"\",SUMIFS('2A Input Climat Scen. Pass.'!G$248:G$291,'2A Input Climat Scen. Pass.'!$B$248:$B$291,'4B Calcul. Climat Scen.'!$C397,'2A Input Climat Scen. Pass.'!$C$248:$C$291,'4B Calcul. Climat Scen.'!$E397),SUMIFS('2A Input Climat Scen. Pass.'!M$248:M$291,'2A Input Climat Scen. Pass.'!$B$248:$B$291,'4B Calcul. Climat Scen.'!$C397,'2A Input Climat Scen. Pass.'!$C$248:$C$291,'4B Calcul. Climat Scen.'!$E397))","v":0},{"$f":"IF('2A Input Climat Scen. Pass.'!N276=\"\",SUMIFS('2A Input Climat Scen. Pass.'!H$248:H$291,'2A Input Climat Scen. Pass.'!$B$248:$B$291,'4B Calcul. Climat Scen.'!$C397,'2A Input Climat Scen. Pass.'!$C$248:$C$291,'4B Calcul. Climat Scen.'!$E397),SUMIFS('2A Input Climat Scen. Pass.'!N$248:N$291,'2A Input Climat Scen. Pass.'!$B$248:$B$291,'4B Calcul. Climat Scen.'!$C397,'2A Input Climat Scen. Pass.'!$C$248:$C$291,'4B Calcul. Climat Scen.'!$E397))","v":0},null,{"$f":"SUMIFS(M$314:M$363,$C$314:$C$363,$C397,$E$314:$E$363,$E397)","v":0},0,0,0,0,0,null,0,0,0,0,0,0,null,{"$f":"AA336","v":0},{"$f":"U397*SUMIFS('4A Calcul. BAU city'!$V$13:$V$61,'4A Calcul. BAU city'!$C$13:$C$61,'4B Calcul. Climat Scen.'!$C336,'4A Calcul. BAU city'!$E$13:$E$61,'4B Calcul. Climat Scen.'!$E336)","v":0},{"$f":"V397*SUMIFS('4A Calcul. BAU city'!$V$13:$V$61,'4A Calcul. BAU city'!$C$13:$C$61,'4B Calcul. Climat Scen.'!$C336,'4A Calcul. BAU city'!$E$13:$E$61,'4B Calcul. Climat Scen.'!$E336)","v":0},{"$f":"W397*SUMIFS('4A Calcul. BAU city'!$V$13:$V$61,'4A Calcul. BAU city'!$C$13:$C$61,'4B Calcul. Climat Scen.'!$C336,'4A Calcul. BAU city'!$E$13:$E$61,'4B Calcul. Climat Scen.'!$E336)","v":0},{"$f":"X397*SUMIFS('4A Calcul. BAU city'!$V$13:$V$61,'4A Calcul. BAU city'!$C$13:$C$61,'4B Calcul. Climat Scen.'!$C336,'4A Calcul. BAU city'!$E$13:$E$61,'4B Calcul. Climat Scen.'!$E336)","v":0},{"$f":"Y397*SUMIFS('4A Calcul. BAU city'!$V$13:$V$61,'4A Calcul. BAU city'!$C$13:$C$61,'4B Calcul. Climat Scen.'!$C336,'4A Calcul. BAU city'!$E$13:$E$61,'4B Calcul. Climat Scen.'!$E336)","v":0},null,{"$f":"INDEX('6 Defaults parameters'!$T$9:$Y$18,MATCH($D397,'6 Defaults parameters'!$B$9:$B$18,0),MATCH(AH$313,'6 Defaults parameters'!$T$8:$Y$8,0))*AA397/10^6","v":0},{"$f":"INDEX('6 Defaults parameters'!$T$9:$Y$18,MATCH($D397,'6 Defaults parameters'!$B$9:$B$18,0),MATCH(AI$313,'6 Defaults parameters'!$T$8:$Y$8,0))*AB397/10^6","v":0},{"$f":"INDEX('6 Defaults parameters'!$T$9:$Y$18,MATCH($D397,'6 Defaults parameters'!$B$9:$B$18,0),MATCH(AJ$313,'6 Defaults parameters'!$T$8:$Y$8,0))*AC397/10^6","v":0},{"$f":"INDEX('6 Defaults parameters'!$T$9:$Y$18,MATCH($D397,'6 Defaults parameters'!$B$9:$B$18,0),MATCH(AK$313,'6 Defaults parameters'!$T$8:$Y$8,0))*AD397/10^6","v":0},{"$f":"INDEX('6 Defaults parameters'!$T$9:$Y$18,MATCH($D397,'6 Defaults parameters'!$B$9:$B$18,0),MATCH(AL$313,'6 Defaults parameters'!$T$8:$Y$8,0))*AE397/10^6","v":0},{"$f":"INDEX('6 Defaults parameters'!$T$9:$Y$18,MATCH($D397,'6 Defaults parameters'!$B$9:$B$18,0),MATCH(AM$313,'6 Defaults parameters'!$T$8:$Y$8,0))*AF397/10^6","v":0}]
[null,"Scenario 3)",{"$f":"Bus","v":"Bus"},{"$f":"RoadNG","v":"Road - NG"},{"$f":"NG","v":"NG"},{"$f":"SUMIFS('4A Calcul. BAU city'!O$13:O$61,'4A Calcul. BAU city'!$C$13:$C$61,'4B Calcul. Climat Scen.'!$C398,'4A Calcul. BAU city'!$E$13:$E$61,'4B Calcul. Climat Scen.'!$E398)","v":0},{"$f":"IF('2A Input Climat Scen. Pass.'!J277=\"\",SUMIFS('2A Input Climat Scen. Pass.'!D$248:D$291,'2A Input Climat Scen. Pass.'!$B$248:$B$291,'4B Calcul. Climat Scen.'!$C398,'2A Input Climat Scen. Pass.'!$C$248:$C$291,'4B Calcul. Climat Scen.'!$E398),SUMIFS('2A Input Climat Scen. Pass.'!J$248:J$291,'2A Input Climat Scen. Pass.'!$B$248:$B$291,'4B Calcul. Climat Scen.'!$C398,'2A Input Climat Scen. Pass.'!$C$248:$C$291,'4B Calcul. Climat Scen.'!$E398))","v":0},{"$f":"IF('2A Input Climat Scen. Pass.'!K277=\"\",SUMIFS('2A Input Climat Scen. Pass.'!E$248:E$291,'2A Input Climat Scen. Pass.'!$B$248:$B$291,'4B Calcul. Climat Scen.'!$C398,'2A Input Climat Scen. Pass.'!$C$248:$C$291,'4B Calcul. Climat Scen.'!$E398),SUMIFS('2A Input Climat Scen. Pass.'!K$248:K$291,'2A Input Climat Scen. Pass.'!$B$248:$B$291,'4B Calcul. Climat Scen.'!$C398,'2A Input Climat Scen. Pass.'!$C$248:$C$291,'4B Calcul. Climat Scen.'!$E398))","v":0},{"$f":"IF('2A Input Climat Scen. Pass.'!L277=\"\",SUMIFS('2A Input Climat Scen. Pass.'!F$248:F$291,'2A Input Climat Scen. Pass.'!$B$248:$B$291,'4B Calcul. Climat Scen.'!$C398,'2A Input Climat Scen. Pass.'!$C$248:$C$291,'4B Calcul. Climat Scen.'!$E398),SUMIFS('2A Input Climat Scen. Pass.'!L$248:L$291,'2A Input Climat Scen. Pass.'!$B$248:$B$291,'4B Calcul. Climat Scen.'!$C398,'2A Input Climat Scen. Pass.'!$C$248:$C$291,'4B Calcul. Climat Scen.'!$E398))","v":0},{"$f":"IF('2A Input Climat Scen. Pass.'!M277=\"\",SUMIFS('2A Input Climat Scen. Pass.'!G$248:G$291,'2A Input Climat Scen. Pass.'!$B$248:$B$291,'4B Calcul. Climat Scen.'!$C398,'2A Input Climat Scen. Pass.'!$C$248:$C$291,'4B Calcul. Climat Scen.'!$E398),SUMIFS('2A Input Climat Scen. Pass.'!M$248:M$291,'2A Input Climat Scen. Pass.'!$B$248:$B$291,'4B Calcul. Climat Scen.'!$C398,'2A Input Climat Scen. Pass.'!$C$248:$C$291,'4B Calcul. Climat Scen.'!$E398))","v":0},{"$f":"IF('2A Input Climat Scen. Pass.'!N277=\"\",SUMIFS('2A Input Climat Scen. Pass.'!H$248:H$291,'2A Input Climat Scen. Pass.'!$B$248:$B$291,'4B Calcul. Climat Scen.'!$C398,'2A Input Climat Scen. Pass.'!$C$248:$C$291,'4B Calcul. Climat Scen.'!$E398),SUMIFS('2A Input Climat Scen. Pass.'!N$248:N$291,'2A Input Climat Scen. Pass.'!$B$248:$B$291,'4B Calcul. Climat Scen.'!$C398,'2A Input Climat Scen. Pass.'!$C$248:$C$291,'4B Calcul. Climat Scen.'!$E398))","v":0},null,0,0,0,0,0,0,null,0,0,0,0,0,0,null,0,{"$f":"U398*SUMIFS('4A Calcul. BAU city'!$V$13:$V$61,'4A Calcul. BAU city'!$C$13:$C$61,'4B Calcul. Climat Scen.'!$C337,'4A Calcul. BAU city'!$E$13:$E$61,'4B Calcul. Climat Scen.'!$E337)","v":0},{"$f":"V398*SUMIFS('4A Calcul. BAU city'!$V$13:$V$61,'4A Calcul. BAU city'!$C$13:$C$61,'4B Calcul. Climat Scen.'!$C337,'4A Calcul. BAU city'!$E$13:$E$61,'4B Calcul. Climat Scen.'!$E337)","v":0},{"$f":"W398*SUMIFS('4A Calcul. BAU city'!$V$13:$V$61,'4A Calcul. BAU city'!$C$13:$C$61,'4B Calcul. Climat Scen.'!$C337,'4A Calcul. BAU city'!$E$13:$E$61,'4B Calcul. Climat Scen.'!$E337)","v":0},{"$f":"X398*SUMIFS('4A Calcul. BAU city'!$V$13:$V$61,'4A Calcul. BAU city'!$C$13:$C$61,'4B Calcul. Climat Scen.'!$C337,'4A Calcul. BAU city'!$E$13:$E$61,'4B Calcul. Climat Scen.'!$E337)","v":0},{"$f":"Y398*SUMIFS('4A Calcul. BAU city'!$V$13:$V$61,'4A Calcul. BAU city'!$C$13:$C$61,'4B Calcul. Climat Scen.'!$C337,'4A Calcul. BAU city'!$E$13:$E$61,'4B Calcul. Climat Scen.'!$E337)","v":0},null,{"$f":"INDEX('6 Defaults parameters'!$T$9:$Y$18,MATCH($D398,'6 Defaults parameters'!$B$9:$B$18,0),MATCH(AH$313,'6 Defaults parameters'!$T$8:$Y$8,0))*AA398/10^6","v":0},{"$f":"INDEX('6 Defaults parameters'!$T$9:$Y$18,MATCH($D398,'6 Defaults parameters'!$B$9:$B$18,0),MATCH(AI$313,'6 Defaults parameters'!$T$8:$Y$8,0))*AB398/10^6","v":0},{"$f":"INDEX('6 Defaults parameters'!$T$9:$Y$18,MATCH($D398,'6 Defaults parameters'!$B$9:$B$18,0),MATCH(AJ$313,'6 Defaults parameters'!$T$8:$Y$8,0))*AC398/10^6","v":0},{"$f":"INDEX('6 Defaults parameters'!$T$9:$Y$18,MATCH($D398,'6 Defaults parameters'!$B$9:$B$18,0),MATCH(AK$313,'6 Defaults parameters'!$T$8:$Y$8,0))*AD398/10^6","v":0},{"$f":"INDEX('6 Defaults parameters'!$T$9:$Y$18,MATCH($D398,'6 Defaults parameters'!$B$9:$B$18,0),MATCH(AL$313,'6 Defaults parameters'!$T$8:$Y$8,0))*AE398/10^6","v":0},{"$f":"INDEX('6 Defaults parameters'!$T$9:$Y$18,MATCH($D398,'6 Defaults parameters'!$B$9:$B$18,0),MATCH(AM$313,'6 Defaults parameters'!$T$8:$Y$8,0))*AF398/10^6","v":0}]
[null,"Scenario 3)",{"$f":"Bus","v":"Bus"},{"$f":"RoadH","v":"Road - Hybrid"},{"$f":"Hybrid","v":"Hybrid"},{"$f":"SUMIFS('4A Calcul. BAU city'!O$13:O$61,'4A Calcul. BAU city'!$C$13:$C$61,'4B Calcul. Climat Scen.'!$C399,'4A Calcul. BAU city'!$E$13:$E$61,'4B Calcul. Climat Scen.'!$E399)","v":0},{"$f":"IF('2A Input Climat Scen. Pass.'!J278=\"\",SUMIFS('2A Input Climat Scen. Pass.'!D$248:D$291,'2A Input Climat Scen. Pass.'!$B$248:$B$291,'4B Calcul. Climat Scen.'!$C399,'2A Input Climat Scen. Pass.'!$C$248:$C$291,'4B Calcul. Climat Scen.'!$E399),SUMIFS('2A Input Climat Scen. Pass.'!J$248:J$291,'2A Input Climat Scen. Pass.'!$B$248:$B$291,'4B Calcul. Climat Scen.'!$C399,'2A Input Climat Scen. Pass.'!$C$248:$C$291,'4B Calcul. Climat Scen.'!$E399))","v":0},{"$f":"IF('2A Input Climat Scen. Pass.'!K278=\"\",SUMIFS('2A Input Climat Scen. Pass.'!E$248:E$291,'2A Input Climat Scen. Pass.'!$B$248:$B$291,'4B Calcul. Climat Scen.'!$C399,'2A Input Climat Scen. Pass.'!$C$248:$C$291,'4B Calcul. Climat Scen.'!$E399),SUMIFS('2A Input Climat Scen. Pass.'!K$248:K$291,'2A Input Climat Scen. Pass.'!$B$248:$B$291,'4B Calcul. Climat Scen.'!$C399,'2A Input Climat Scen. Pass.'!$C$248:$C$291,'4B Calcul. Climat Scen.'!$E399))","v":0},{"$f":"IF('2A Input Climat Scen. Pass.'!L278=\"\",SUMIFS('2A Input Climat Scen. Pass.'!F$248:F$291,'2A Input Climat Scen. Pass.'!$B$248:$B$291,'4B Calcul. Climat Scen.'!$C399,'2A Input Climat Scen. Pass.'!$C$248:$C$291,'4B Calcul. Climat Scen.'!$E399),SUMIFS('2A Input Climat Scen. Pass.'!L$248:L$291,'2A Input Climat Scen. Pass.'!$B$248:$B$291,'4B Calcul. Climat Scen.'!$C399,'2A Input Climat Scen. Pass.'!$C$248:$C$291,'4B Calcul. Climat Scen.'!$E399))","v":0},{"$f":"IF('2A Input Climat Scen. Pass.'!M278=\"\",SUMIFS('2A Input Climat Scen. Pass.'!G$248:G$291,'2A Input Climat Scen. Pass.'!$B$248:$B$291,'4B Calcul. Climat Scen.'!$C399,'2A Input Climat Scen. Pass.'!$C$248:$C$291,'4B Calcul. Climat Scen.'!$E399),SUMIFS('2A Input Climat Scen. Pass.'!M$248:M$291,'2A Input Climat Scen. Pass.'!$B$248:$B$291,'4B Calcul. Climat Scen.'!$C399,'2A Input Climat Scen. Pass.'!$C$248:$C$291,'4B Calcul. Climat Scen.'!$E399))","v":0},{"$f":"IF('2A Input Climat Scen. Pass.'!N278=\"\",SUMIFS('2A Input Climat Scen. Pass.'!H$248:H$291,'2A Input Climat Scen. Pass.'!$B$248:$B$291,'4B Calcul. Climat Scen.'!$C399,'2A Input Climat Scen. Pass.'!$C$248:$C$291,'4B Calcul. Climat Scen.'!$E399),SUMIFS('2A Input Climat Scen. Pass.'!N$248:N$291,'2A Input Climat Scen. Pass.'!$B$248:$B$291,'4B Calcul. Climat Scen.'!$C399,'2A Input Climat Scen. Pass.'!$C$248:$C$291,'4B Calcul. Climat Scen.'!$E399))","v":0},null,0,0,0,0,0,0,null,0,0,0,0,0,0,null,0,{"$f":"U399*SUMIFS('4A Calcul. BAU city'!$V$13:$V$61,'4A Calcul. BAU city'!$C$13:$C$61,'4B Calcul. Climat Scen.'!$C338,'4A Calcul. BAU city'!$E$13:$E$61,'4B Calcul. Climat Scen.'!$E338)","v":0},{"$f":"V399*SUMIFS('4A Calcul. BAU city'!$V$13:$V$61,'4A Calcul. BAU city'!$C$13:$C$61,'4B Calcul. Climat Scen.'!$C338,'4A Calcul. BAU city'!$E$13:$E$61,'4B Calcul. Climat Scen.'!$E338)","v":0},{"$f":"W399*SUMIFS('4A Calcul. BAU city'!$V$13:$V$61,'4A Calcul. BAU city'!$C$13:$C$61,'4B Calcul. Climat Scen.'!$C338,'4A Calcul. BAU city'!$E$13:$E$61,'4B Calcul. Climat Scen.'!$E338)","v":0},{"$f":"X399*SUMIFS('4A Calcul. BAU city'!$V$13:$V$61,'4A Calcul. BAU city'!$C$13:$C$61,'4B Calcul. Climat Scen.'!$C338,'4A Calcul. BAU city'!$E$13:$E$61,'4B Calcul. Climat Scen.'!$E338)","v":0},{"$f":"Y399*SUMIFS('4A Calcul. BAU city'!$V$13:$V$61,'4A Calcul. BAU city'!$C$13:$C$61,'4B Calcul. Climat Scen.'!$C338,'4A Calcul. BAU city'!$E$13:$E$61,'4B Calcul. Climat Scen.'!$E338)","v":0},null,{"$f":"INDEX('6 Defaults parameters'!$T$9:$Y$18,MATCH($D399,'6 Defaults parameters'!$B$9:$B$18,0),MATCH(AH$313,'6 Defaults parameters'!$T$8:$Y$8,0))*AA399/10^6","v":0},{"$f":"INDEX('6 Defaults parameters'!$T$9:$Y$18,MATCH($D399,'6 Defaults parameters'!$B$9:$B$18,0),MATCH(AI$313,'6 Defaults parameters'!$T$8:$Y$8,0))*AB399/10^6","v":0},{"$f":"INDEX('6 Defaults parameters'!$T$9:$Y$18,MATCH($D399,'6 Defaults parameters'!$B$9:$B$18,0),MATCH(AJ$313,'6 Defaults parameters'!$T$8:$Y$8,0))*AC399/10^6","v":0},{"$f":"INDEX('6 Defaults parameters'!$T$9:$Y$18,MATCH($D399,'6 Defaults parameters'!$B$9:$B$18,0),MATCH(AK$313,'6 Defaults parameters'!$T$8:$Y$8,0))*AD399/10^6","v":0},{"$f":"INDEX('6 Defaults parameters'!$T$9:$Y$18,MATCH($D399,'6 Defaults parameters'!$B$9:$B$18,0),MATCH(AL$313,'6 Defaults parameters'!$T$8:$Y$8,0))*AE399/10^6","v":0},{"$f":"INDEX('6 Defaults parameters'!$T$9:$Y$18,MATCH($D399,'6 Defaults parameters'!$B$9:$B$18,0),MATCH(AM$313,'6 Defaults parameters'!$T$8:$Y$8,0))*AF399/10^6","v":0}]
[null,"Scenario 3)",{"$f":"Bus","v":"Bus"},{"$f":"Roadelec","v":"Road - Electric"},{"$f":"Electric","v":"Electric"},{"$f":"SUMIFS('4A Calcul. BAU city'!O$13:O$61,'4A Calcul. BAU city'!$C$13:$C$61,'4B Calcul. Climat Scen.'!$C400,'4A Calcul. BAU city'!$E$13:$E$61,'4B Calcul. Climat Scen.'!$E400)","v":0},{"$f":"IF('2A Input Climat Scen. Pass.'!J279=\"\",SUMIFS('2A Input Climat Scen. Pass.'!D$248:D$291,'2A Input Climat Scen. Pass.'!$B$248:$B$291,'4B Calcul. Climat Scen.'!$C400,'2A Input Climat Scen. Pass.'!$C$248:$C$291,'4B Calcul. Climat Scen.'!$E400),SUMIFS('2A Input Climat Scen. Pass.'!J$248:J$291,'2A Input Climat Scen. Pass.'!$B$248:$B$291,'4B Calcul. Climat Scen.'!$C400,'2A Input Climat Scen. Pass.'!$C$248:$C$291,'4B Calcul. Climat Scen.'!$E400))","v":0},{"$f":"IF('2A Input Climat Scen. Pass.'!K279=\"\",SUMIFS('2A Input Climat Scen. Pass.'!E$248:E$291,'2A Input Climat Scen. Pass.'!$B$248:$B$291,'4B Calcul. Climat Scen.'!$C400,'2A Input Climat Scen. Pass.'!$C$248:$C$291,'4B Calcul. Climat Scen.'!$E400),SUMIFS('2A Input Climat Scen. Pass.'!K$248:K$291,'2A Input Climat Scen. Pass.'!$B$248:$B$291,'4B Calcul. Climat Scen.'!$C400,'2A Input Climat Scen. Pass.'!$C$248:$C$291,'4B Calcul. Climat Scen.'!$E400))","v":0},{"$f":"IF('2A Input Climat Scen. Pass.'!L279=\"\",SUMIFS('2A Input Climat Scen. Pass.'!F$248:F$291,'2A Input Climat Scen. Pass.'!$B$248:$B$291,'4B Calcul. Climat Scen.'!$C400,'2A Input Climat Scen. Pass.'!$C$248:$C$291,'4B Calcul. Climat Scen.'!$E400),SUMIFS('2A Input Climat Scen. Pass.'!L$248:L$291,'2A Input Climat Scen. Pass.'!$B$248:$B$291,'4B Calcul. Climat Scen.'!$C400,'2A Input Climat Scen. Pass.'!$C$248:$C$291,'4B Calcul. Climat Scen.'!$E400))","v":0},{"$f":"IF('2A Input Climat Scen. Pass.'!M279=\"\",SUMIFS('2A Input Climat Scen. Pass.'!G$248:G$291,'2A Input Climat Scen. Pass.'!$B$248:$B$291,'4B Calcul. Climat Scen.'!$C400,'2A Input Climat Scen. Pass.'!$C$248:$C$291,'4B Calcul. Climat Scen.'!$E400),SUMIFS('2A Input Climat Scen. Pass.'!M$248:M$291,'2A Input Climat Scen. Pass.'!$B$248:$B$291,'4B Calcul. Climat Scen.'!$C400,'2A Input Climat Scen. Pass.'!$C$248:$C$291,'4B Calcul. Climat Scen.'!$E400))","v":0},{"$f":"IF('2A Input Climat Scen. Pass.'!N279=\"\",SUMIFS('2A Input Climat Scen. Pass.'!H$248:H$291,'2A Input Climat Scen. Pass.'!$B$248:$B$291,'4B Calcul. Climat Scen.'!$C400,'2A Input Climat Scen. Pass.'!$C$248:$C$291,'4B Calcul. Climat Scen.'!$E400),SUMIFS('2A Input Climat Scen. Pass.'!N$248:N$291,'2A Input Climat Scen. Pass.'!$B$248:$B$291,'4B Calcul. Climat Scen.'!$C400,'2A Input Climat Scen. Pass.'!$C$248:$C$291,'4B Calcul. Climat Scen.'!$E400))","v":0},null,0,0,0,0,0,0,null,0,0,0,0,0,0,null,0,{"$f":"U400*SUMIFS('4A Calcul. BAU city'!$V$13:$V$61,'4A Calcul. BAU city'!$C$13:$C$61,'4B Calcul. Climat Scen.'!$C339,'4A Calcul. BAU city'!$E$13:$E$61,'4B Calcul. Climat Scen.'!$E339)","v":0},{"$f":"V400*SUMIFS('4A Calcul. BAU city'!$V$13:$V$61,'4A Calcul. BAU city'!$C$13:$C$61,'4B Calcul. Climat Scen.'!$C339,'4A Calcul. BAU city'!$E$13:$E$61,'4B Calcul. Climat Scen.'!$E339)","v":0},{"$f":"W400*SUMIFS('4A Calcul. BAU city'!$V$13:$V$61,'4A Calcul. BAU city'!$C$13:$C$61,'4B Calcul. Climat Scen.'!$C339,'4A Calcul. BAU city'!$E$13:$E$61,'4B Calcul. Climat Scen.'!$E339)","v":0},{"$f":"X400*SUMIFS('4A Calcul. BAU city'!$V$13:$V$61,'4A Calcul. BAU city'!$C$13:$C$61,'4B Calcul. Climat Scen.'!$C339,'4A Calcul. BAU city'!$E$13:$E$61,'4B Calcul. Climat Scen.'!$E339)","v":0},{"$f":"Y400*SUMIFS('4A Calcul. BAU city'!$V$13:$V$61,'4A Calcul. BAU city'!$C$13:$C$61,'4B Calcul. Climat Scen.'!$C339,'4A Calcul. BAU city'!$E$13:$E$61,'4B Calcul. Climat Scen.'!$E339)","v":0},null,{"$f":"INDEX('6 Defaults parameters'!$T$9:$Y$18,MATCH($D400,'6 Defaults parameters'!$B$9:$B$18,0),MATCH(AH$313,'6 Defaults parameters'!$T$8:$Y$8,0))*AA400/10^6","v":0},{"$f":"INDEX('6 Defaults parameters'!$T$9:$Y$18,MATCH($D400,'6 Defaults parameters'!$B$9:$B$18,0),MATCH(AI$313,'6 Defaults parameters'!$T$8:$Y$8,0))*AB400/10^6","v":0},{"$f":"INDEX('6 Defaults parameters'!$T$9:$Y$18,MATCH($D400,'6 Defaults parameters'!$B$9:$B$18,0),MATCH(AJ$313,'6 Defaults parameters'!$T$8:$Y$8,0))*AC400/10^6","v":0},{"$f":"INDEX('6 Defaults parameters'!$T$9:$Y$18,MATCH($D400,'6 Defaults parameters'!$B$9:$B$18,0),MATCH(AK$313,'6 Defaults parameters'!$T$8:$Y$8,0))*AD400/10^6","v":0},{"$f":"INDEX('6 Defaults parameters'!$T$9:$Y$18,MATCH($D400,'6 Defaults parameters'!$B$9:$B$18,0),MATCH(AL$313,'6 Defaults parameters'!$T$8:$Y$8,0))*AE400/10^6","v":0},{"$f":"INDEX('6 Defaults parameters'!$T$9:$Y$18,MATCH($D400,'6 Defaults parameters'!$B$9:$B$18,0),MATCH(AM$313,'6 Defaults parameters'!$T$8:$Y$8,0))*AF400/10^6","v":0}]
[null,"Scenario 3)",{"$f":"BRT","v":"BRT"},{"$f":"RoadD","v":"Road - Diesel"},{"$f":"Diesel","v":"Diesel"},{"$f":"SUMIFS('4A Calcul. BAU city'!O$13:O$61,'4A Calcul. BAU city'!$C$13:$C$61,'4B Calcul. Climat Scen.'!$C401,'4A Calcul. BAU city'!$E$13:$E$61,'4B Calcul. Climat Scen.'!$E401)","v":0},{"$f":"IF('2A Input Climat Scen. Pass.'!J281=\"\",SUMIFS('2A Input Climat Scen. Pass.'!D$248:D$291,'2A Input Climat Scen. Pass.'!$B$248:$B$291,'4B Calcul. Climat Scen.'!$C401,'2A Input Climat Scen. Pass.'!$C$248:$C$291,'4B Calcul. Climat Scen.'!$E401),SUMIFS('2A Input Climat Scen. Pass.'!J$248:J$291,'2A Input Climat Scen. Pass.'!$B$248:$B$291,'4B Calcul. Climat Scen.'!$C401,'2A Input Climat Scen. Pass.'!$C$248:$C$291,'4B Calcul. Climat Scen.'!$E401))","v":0},{"$f":"IF('2A Input Climat Scen. Pass.'!K281=\"\",SUMIFS('2A Input Climat Scen. Pass.'!E$248:E$291,'2A Input Climat Scen. Pass.'!$B$248:$B$291,'4B Calcul. Climat Scen.'!$C401,'2A Input Climat Scen. Pass.'!$C$248:$C$291,'4B Calcul. Climat Scen.'!$E401),SUMIFS('2A Input Climat Scen. Pass.'!K$248:K$291,'2A Input Climat Scen. Pass.'!$B$248:$B$291,'4B Calcul. Climat Scen.'!$C401,'2A Input Climat Scen. Pass.'!$C$248:$C$291,'4B Calcul. Climat Scen.'!$E401))","v":0},{"$f":"IF('2A Input Climat Scen. Pass.'!L281=\"\",SUMIFS('2A Input Climat Scen. Pass.'!F$248:F$291,'2A Input Climat Scen. Pass.'!$B$248:$B$291,'4B Calcul. Climat Scen.'!$C401,'2A Input Climat Scen. Pass.'!$C$248:$C$291,'4B Calcul. Climat Scen.'!$E401),SUMIFS('2A Input Climat Scen. Pass.'!L$248:L$291,'2A Input Climat Scen. Pass.'!$B$248:$B$291,'4B Calcul. Climat Scen.'!$C401,'2A Input Climat Scen. Pass.'!$C$248:$C$291,'4B Calcul. Climat Scen.'!$E401))","v":0},{"$f":"IF('2A Input Climat Scen. Pass.'!M281=\"\",SUMIFS('2A Input Climat Scen. Pass.'!G$248:G$291,'2A Input Climat Scen. Pass.'!$B$248:$B$291,'4B Calcul. Climat Scen.'!$C401,'2A Input Climat Scen. Pass.'!$C$248:$C$291,'4B Calcul. Climat Scen.'!$E401),SUMIFS('2A Input Climat Scen. Pass.'!M$248:M$291,'2A Input Climat Scen. Pass.'!$B$248:$B$291,'4B Calcul. Climat Scen.'!$C401,'2A Input Climat Scen. Pass.'!$C$248:$C$291,'4B Calcul. Climat Scen.'!$E401))","v":0},{"$f":"IF('2A Input Climat Scen. Pass.'!N281=\"\",SUMIFS('2A Input Climat Scen. Pass.'!H$248:H$291,'2A Input Climat Scen. Pass.'!$B$248:$B$291,'4B Calcul. Climat Scen.'!$C401,'2A Input Climat Scen. Pass.'!$C$248:$C$291,'4B Calcul. Climat Scen.'!$E401),SUMIFS('2A Input Climat Scen. Pass.'!N$248:N$291,'2A Input Climat Scen. Pass.'!$B$248:$B$291,'4B Calcul. Climat Scen.'!$C401,'2A Input Climat Scen. Pass.'!$C$248:$C$291,'4B Calcul. Climat Scen.'!$E401))","v":0},null,0,0,0,0,0,0,null,0,0,0,0,0,0,null,0,{"$f":"U401*SUMIFS('4A Calcul. BAU city'!$V$13:$V$61,'4A Calcul. BAU city'!$C$13:$C$61,'4B Calcul. Climat Scen.'!$C340,'4A Calcul. BAU city'!$E$13:$E$61,'4B Calcul. Climat Scen.'!$E340)","v":0},{"$f":"V401*SUMIFS('4A Calcul. BAU city'!$V$13:$V$61,'4A Calcul. BAU city'!$C$13:$C$61,'4B Calcul. Climat Scen.'!$C340,'4A Calcul. BAU city'!$E$13:$E$61,'4B Calcul. Climat Scen.'!$E340)","v":0},{"$f":"W401*SUMIFS('4A Calcul. BAU city'!$V$13:$V$61,'4A Calcul. BAU city'!$C$13:$C$61,'4B Calcul. Climat Scen.'!$C340,'4A Calcul. BAU city'!$E$13:$E$61,'4B Calcul. Climat Scen.'!$E340)","v":0},{"$f":"X401*SUMIFS('4A Calcul. BAU city'!$V$13:$V$61,'4A Calcul. BAU city'!$C$13:$C$61,'4B Calcul. Climat Scen.'!$C340,'4A Calcul. BAU city'!$E$13:$E$61,'4B Calcul. Climat Scen.'!$E340)","v":0},{"$f":"Y401*SUMIFS('4A Calcul. BAU city'!$V$13:$V$61,'4A Calcul. BAU city'!$C$13:$C$61,'4B Calcul. Climat Scen.'!$C340,'4A Calcul. BAU city'!$E$13:$E$61,'4B Calcul. Climat Scen.'!$E340)","v":0},null,{"$f":"INDEX('6 Defaults parameters'!$T$9:$Y$18,MATCH($D401,'6 Defaults parameters'!$B$9:$B$18,0),MATCH(AH$313,'6 Defaults parameters'!$T$8:$Y$8,0))*AA401/10^6","v":0},{"$f":"INDEX('6 Defaults parameters'!$T$9:$Y$18,MATCH($D401,'6 Defaults parameters'!$B$9:$B$18,0),MATCH(AI$313,'6 Defaults parameters'!$T$8:$Y$8,0))*AB401/10^6","v":0},{"$f":"INDEX('6 Defaults parameters'!$T$9:$Y$18,MATCH($D401,'6 Defaults parameters'!$B$9:$B$18,0),MATCH(AJ$313,'6 Defaults parameters'!$T$8:$Y$8,0))*AC401/10^6","v":0},{"$f":"INDEX('6 Defaults parameters'!$T$9:$Y$18,MATCH($D401,'6 Defaults parameters'!$B$9:$B$18,0),MATCH(AK$313,'6 Defaults parameters'!$T$8:$Y$8,0))*AD401/10^6","v":0},{"$f":"INDEX('6 Defaults parameters'!$T$9:$Y$18,MATCH($D401,'6 Defaults parameters'!$B$9:$B$18,0),MATCH(AL$313,'6 Defaults parameters'!$T$8:$Y$8,0))*AE401/10^6","v":0},{"$f":"INDEX('6 Defaults parameters'!$T$9:$Y$18,MATCH($D401,'6 Defaults parameters'!$B$9:$B$18,0),MATCH(AM$313,'6 Defaults parameters'!$T$8:$Y$8,0))*AF401/10^6","v":0}]
[null,"Scenario 3)",{"$f":"BRT","v":"BRT"},{"$f":"RoadNG","v":"Road - NG"},{"$f":"NG","v":"NG"},{"$f":"SUMIFS('4A Calcul. BAU city'!O$13:O$61,'4A Calcul. BAU city'!$C$13:$C$61,'4B Calcul. Climat Scen.'!$C402,'4A Calcul. BAU city'!$E$13:$E$61,'4B Calcul. Climat Scen.'!$E402)","v":0},{"$f":"IF('2A Input Climat Scen. Pass.'!J282=\"\",SUMIFS('2A Input Climat Scen. Pass.'!D$248:D$291,'2A Input Climat Scen. Pass.'!$B$248:$B$291,'4B Calcul. Climat Scen.'!$C402,'2A Input Climat Scen. Pass.'!$C$248:$C$291,'4B Calcul. Climat Scen.'!$E402),SUMIFS('2A Input Climat Scen. Pass.'!J$248:J$291,'2A Input Climat Scen. Pass.'!$B$248:$B$291,'4B Calcul. Climat Scen.'!$C402,'2A Input Climat Scen. Pass.'!$C$248:$C$291,'4B Calcul. Climat Scen.'!$E402))","v":0},{"$f":"IF('2A Input Climat Scen. Pass.'!K282=\"\",SUMIFS('2A Input Climat Scen. Pass.'!E$248:E$291,'2A Input Climat Scen. Pass.'!$B$248:$B$291,'4B Calcul. Climat Scen.'!$C402,'2A Input Climat Scen. Pass.'!$C$248:$C$291,'4B Calcul. Climat Scen.'!$E402),SUMIFS('2A Input Climat Scen. Pass.'!K$248:K$291,'2A Input Climat Scen. Pass.'!$B$248:$B$291,'4B Calcul. Climat Scen.'!$C402,'2A Input Climat Scen. Pass.'!$C$248:$C$291,'4B Calcul. Climat Scen.'!$E402))","v":0},{"$f":"IF('2A Input Climat Scen. Pass.'!L282=\"\",SUMIFS('2A Input Climat Scen. Pass.'!F$248:F$291,'2A Input Climat Scen. Pass.'!$B$248:$B$291,'4B Calcul. Climat Scen.'!$C402,'2A Input Climat Scen. Pass.'!$C$248:$C$291,'4B Calcul. Climat Scen.'!$E402),SUMIFS('2A Input Climat Scen. Pass.'!L$248:L$291,'2A Input Climat Scen. Pass.'!$B$248:$B$291,'4B Calcul. Climat Scen.'!$C402,'2A Input Climat Scen. Pass.'!$C$248:$C$291,'4B Calcul. Climat Scen.'!$E402))","v":0},{"$f":"IF('2A Input Climat Scen. Pass.'!M282=\"\",SUMIFS('2A Input Climat Scen. Pass.'!G$248:G$291,'2A Input Climat Scen. Pass.'!$B$248:$B$291,'4B Calcul. Climat Scen.'!$C402,'2A Input Climat Scen. Pass.'!$C$248:$C$291,'4B Calcul. Climat Scen.'!$E402),SUMIFS('2A Input Climat Scen. Pass.'!M$248:M$291,'2A Input Climat Scen. Pass.'!$B$248:$B$291,'4B Calcul. Climat Scen.'!$C402,'2A Input Climat Scen. Pass.'!$C$248:$C$291,'4B Calcul. Climat Scen.'!$E402))","v":0},{"$f":"IF('2A Input Climat Scen. Pass.'!N282=\"\",SUMIFS('2A Input Climat Scen. Pass.'!H$248:H$291,'2A Input Climat Scen. Pass.'!$B$248:$B$291,'4B Calcul. Climat Scen.'!$C402,'2A Input Climat Scen. Pass.'!$C$248:$C$291,'4B Calcul. Climat Scen.'!$E402),SUMIFS('2A Input Climat Scen. Pass.'!N$248:N$291,'2A Input Climat Scen. Pass.'!$B$248:$B$291,'4B Calcul. Climat Scen.'!$C402,'2A Input Climat Scen. Pass.'!$C$248:$C$291,'4B Calcul. Climat Scen.'!$E402))","v":0},null,0,0,0,0,0,0,null,0,0,0,0,0,0,null,0,{"$f":"U402*SUMIFS('4A Calcul. BAU city'!$V$13:$V$61,'4A Calcul. BAU city'!$C$13:$C$61,'4B Calcul. Climat Scen.'!$C341,'4A Calcul. BAU city'!$E$13:$E$61,'4B Calcul. Climat Scen.'!$E341)","v":0},{"$f":"V402*SUMIFS('4A Calcul. BAU city'!$V$13:$V$61,'4A Calcul. BAU city'!$C$13:$C$61,'4B Calcul. Climat Scen.'!$C341,'4A Calcul. BAU city'!$E$13:$E$61,'4B Calcul. Climat Scen.'!$E341)","v":0},{"$f":"W402*SUMIFS('4A Calcul. BAU city'!$V$13:$V$61,'4A Calcul. BAU city'!$C$13:$C$61,'4B Calcul. Climat Scen.'!$C341,'4A Calcul. BAU city'!$E$13:$E$61,'4B Calcul. Climat Scen.'!$E341)","v":0},{"$f":"X402*SUMIFS('4A Calcul. BAU city'!$V$13:$V$61,'4A Calcul. BAU city'!$C$13:$C$61,'4B Calcul. Climat Scen.'!$C341,'4A Calcul. BAU city'!$E$13:$E$61,'4B Calcul. Climat Scen.'!$E341)","v":0},{"$f":"Y402*SUMIFS('4A Calcul. BAU city'!$V$13:$V$61,'4A Calcul. BAU city'!$C$13:$C$61,'4B Calcul. Climat Scen.'!$C341,'4A Calcul. BAU city'!$E$13:$E$61,'4B Calcul. Climat Scen.'!$E341)","v":0},null,{"$f":"INDEX('6 Defaults parameters'!$T$9:$Y$18,MATCH($D402,'6 Defaults parameters'!$B$9:$B$18,0),MATCH(AH$313,'6 Defaults parameters'!$T$8:$Y$8,0))*AA402/10^6","v":0},{"$f":"INDEX('6 Defaults parameters'!$T$9:$Y$18,MATCH($D402,'6 Defaults parameters'!$B$9:$B$18,0),MATCH(AI$313,'6 Defaults parameters'!$T$8:$Y$8,0))*AB402/10^6","v":0},{"$f":"INDEX('6 Defaults parameters'!$T$9:$Y$18,MATCH($D402,'6 Defaults parameters'!$B$9:$B$18,0),MATCH(AJ$313,'6 Defaults parameters'!$T$8:$Y$8,0))*AC402/10^6","v":0},{"$f":"INDEX('6 Defaults parameters'!$T$9:$Y$18,MATCH($D402,'6 Defaults parameters'!$B$9:$B$18,0),MATCH(AK$313,'6 Defaults parameters'!$T$8:$Y$8,0))*AD402/10^6","v":0},{"$f":"INDEX('6 Defaults parameters'!$T$9:$Y$18,MATCH($D402,'6 Defaults parameters'!$B$9:$B$18,0),MATCH(AL$313,'6 Defaults parameters'!$T$8:$Y$8,0))*AE402/10^6","v":0},{"$f":"INDEX('6 Defaults parameters'!$T$9:$Y$18,MATCH($D402,'6 Defaults parameters'!$B$9:$B$18,0),MATCH(AM$313,'6 Defaults parameters'!$T$8:$Y$8,0))*AF402/10^6","v":0}]
[null,"Scenario 3)",{"$f":"BRT","v":"BRT"},{"$f":"RoadH","v":"Road - Hybrid"},{"$f":"Hybrid","v":"Hybrid"},{"$f":"SUMIFS('4A Calcul. BAU city'!O$13:O$61,'4A Calcul. BAU city'!$C$13:$C$61,'4B Calcul. Climat Scen.'!$C403,'4A Calcul. BAU city'!$E$13:$E$61,'4B Calcul. Climat Scen.'!$E403)","v":0},{"$f":"IF('2A Input Climat Scen. Pass.'!J283=\"\",SUMIFS('2A Input Climat Scen. Pass.'!D$248:D$291,'2A Input Climat Scen. Pass.'!$B$248:$B$291,'4B Calcul. Climat Scen.'!$C403,'2A Input Climat Scen. Pass.'!$C$248:$C$291,'4B Calcul. Climat Scen.'!$E403),SUMIFS('2A Input Climat Scen. Pass.'!J$248:J$291,'2A Input Climat Scen. Pass.'!$B$248:$B$291,'4B Calcul. Climat Scen.'!$C403,'2A Input Climat Scen. Pass.'!$C$248:$C$291,'4B Calcul. Climat Scen.'!$E403))","v":0},{"$f":"IF('2A Input Climat Scen. Pass.'!K283=\"\",SUMIFS('2A Input Climat Scen. Pass.'!E$248:E$291,'2A Input Climat Scen. Pass.'!$B$248:$B$291,'4B Calcul. Climat Scen.'!$C403,'2A Input Climat Scen. Pass.'!$C$248:$C$291,'4B Calcul. Climat Scen.'!$E403),SUMIFS('2A Input Climat Scen. Pass.'!K$248:K$291,'2A Input Climat Scen. Pass.'!$B$248:$B$291,'4B Calcul. Climat Scen.'!$C403,'2A Input Climat Scen. Pass.'!$C$248:$C$291,'4B Calcul. Climat Scen.'!$E403))","v":0},{"$f":"IF('2A Input Climat Scen. Pass.'!L283=\"\",SUMIFS('2A Input Climat Scen. Pass.'!F$248:F$291,'2A Input Climat Scen. Pass.'!$B$248:$B$291,'4B Calcul. Climat Scen.'!$C403,'2A Input Climat Scen. Pass.'!$C$248:$C$291,'4B Calcul. Climat Scen.'!$E403),SUMIFS('2A Input Climat Scen. Pass.'!L$248:L$291,'2A Input Climat Scen. Pass.'!$B$248:$B$291,'4B Calcul. Climat Scen.'!$C403,'2A Input Climat Scen. Pass.'!$C$248:$C$291,'4B Calcul. Climat Scen.'!$E403))","v":0},{"$f":"IF('2A Input Climat Scen. Pass.'!M283=\"\",SUMIFS('2A Input Climat Scen. Pass.'!G$248:G$291,'2A Input Climat Scen. Pass.'!$B$248:$B$291,'4B Calcul. Climat Scen.'!$C403,'2A Input Climat Scen. Pass.'!$C$248:$C$291,'4B Calcul. Climat Scen.'!$E403),SUMIFS('2A Input Climat Scen. Pass.'!M$248:M$291,'2A Input Climat Scen. Pass.'!$B$248:$B$291,'4B Calcul. Climat Scen.'!$C403,'2A Input Climat Scen. Pass.'!$C$248:$C$291,'4B Calcul. Climat Scen.'!$E403))","v":0},{"$f":"IF('2A Input Climat Scen. Pass.'!N283=\"\",SUMIFS('2A Input Climat Scen. Pass.'!H$248:H$291,'2A Input Climat Scen. Pass.'!$B$248:$B$291,'4B Calcul. Climat Scen.'!$C403,'2A Input Climat Scen. Pass.'!$C$248:$C$291,'4B Calcul. Climat Scen.'!$E403),SUMIFS('2A Input Climat Scen. Pass.'!N$248:N$291,'2A Input Climat Scen. Pass.'!$B$248:$B$291,'4B Calcul. Climat Scen.'!$C403,'2A Input Climat Scen. Pass.'!$C$248:$C$291,'4B Calcul. Climat Scen.'!$E403))","v":0},null,0,0,0,0,0,0,null,0,0,0,0,0,0,null,0,{"$f":"U403*SUMIFS('4A Calcul. BAU city'!$V$13:$V$61,'4A Calcul. BAU city'!$C$13:$C$61,'4B Calcul. Climat Scen.'!$C342,'4A Calcul. BAU city'!$E$13:$E$61,'4B Calcul. Climat Scen.'!$E342)","v":0},{"$f":"V403*SUMIFS('4A Calcul. BAU city'!$V$13:$V$61,'4A Calcul. BAU city'!$C$13:$C$61,'4B Calcul. Climat Scen.'!$C342,'4A Calcul. BAU city'!$E$13:$E$61,'4B Calcul. Climat Scen.'!$E342)","v":0},{"$f":"W403*SUMIFS('4A Calcul. BAU city'!$V$13:$V$61,'4A Calcul. BAU city'!$C$13:$C$61,'4B Calcul. Climat Scen.'!$C342,'4A Calcul. BAU city'!$E$13:$E$61,'4B Calcul. Climat Scen.'!$E342)","v":0},{"$f":"X403*SUMIFS('4A Calcul. BAU city'!$V$13:$V$61,'4A Calcul. BAU city'!$C$13:$C$61,'4B Calcul. Climat Scen.'!$C342,'4A Calcul. BAU city'!$E$13:$E$61,'4B Calcul. Climat Scen.'!$E342)","v":0},{"$f":"Y403*SUMIFS('4A Calcul. BAU city'!$V$13:$V$61,'4A Calcul. BAU city'!$C$13:$C$61,'4B Calcul. Climat Scen.'!$C342,'4A Calcul. BAU city'!$E$13:$E$61,'4B Calcul. Climat Scen.'!$E342)","v":0},null,{"$f":"INDEX('6 Defaults parameters'!$T$9:$Y$18,MATCH($D403,'6 Defaults parameters'!$B$9:$B$18,0),MATCH(AH$313,'6 Defaults parameters'!$T$8:$Y$8,0))*AA403/10^6","v":0},{"$f":"INDEX('6 Defaults parameters'!$T$9:$Y$18,MATCH($D403,'6 Defaults parameters'!$B$9:$B$18,0),MATCH(AI$313,'6 Defaults parameters'!$T$8:$Y$8,0))*AB403/10^6","v":0},{"$f":"INDEX('6 Defaults parameters'!$T$9:$Y$18,MATCH($D403,'6 Defaults parameters'!$B$9:$B$18,0),MATCH(AJ$313,'6 Defaults parameters'!$T$8:$Y$8,0))*AC403/10^6","v":0},{"$f":"INDEX('6 Defaults parameters'!$T$9:$Y$18,MATCH($D403,'6 Defaults parameters'!$B$9:$B$18,0),MATCH(AK$313,'6 Defaults parameters'!$T$8:$Y$8,0))*AD403/10^6","v":0},{"$f":"INDEX('6 Defaults parameters'!$T$9:$Y$18,MATCH($D403,'6 Defaults parameters'!$B$9:$B$18,0),MATCH(AL$313,'6 Defaults parameters'!$T$8:$Y$8,0))*AE403/10^6","v":0},{"$f":"INDEX('6 Defaults parameters'!$T$9:$Y$18,MATCH($D403,'6 Defaults parameters'!$B$9:$B$18,0),MATCH(AM$313,'6 Defaults parameters'!$T$8:$Y$8,0))*AF403/10^6","v":0}]
[null,"Scenario 3)",{"$f":"BRT","v":"BRT"},{"$f":"Roadelec","v":"Road - Electric"},{"$f":"Electric","v":"Electric"},{"$f":"SUMIFS('4A Calcul. BAU city'!O$13:O$61,'4A Calcul. BAU city'!$C$13:$C$61,'4B Calcul. Climat Scen.'!$C404,'4A Calcul. BAU city'!$E$13:$E$61,'4B Calcul. Climat Scen.'!$E404)","v":0},{"$f":"IF('2A Input Climat Scen. Pass.'!J284=\"\",SUMIFS('2A Input Climat Scen. Pass.'!D$248:D$291,'2A Input Climat Scen. Pass.'!$B$248:$B$291,'4B Calcul. Climat Scen.'!$C404,'2A Input Climat Scen. Pass.'!$C$248:$C$291,'4B Calcul. Climat Scen.'!$E404),SUMIFS('2A Input Climat Scen. Pass.'!J$248:J$291,'2A Input Climat Scen. Pass.'!$B$248:$B$291,'4B Calcul. Climat Scen.'!$C404,'2A Input Climat Scen. Pass.'!$C$248:$C$291,'4B Calcul. Climat Scen.'!$E404))","v":0},{"$f":"IF('2A Input Climat Scen. Pass.'!K284=\"\",SUMIFS('2A Input Climat Scen. Pass.'!E$248:E$291,'2A Input Climat Scen. Pass.'!$B$248:$B$291,'4B Calcul. Climat Scen.'!$C404,'2A Input Climat Scen. Pass.'!$C$248:$C$291,'4B Calcul. Climat Scen.'!$E404),SUMIFS('2A Input Climat Scen. Pass.'!K$248:K$291,'2A Input Climat Scen. Pass.'!$B$248:$B$291,'4B Calcul. Climat Scen.'!$C404,'2A Input Climat Scen. Pass.'!$C$248:$C$291,'4B Calcul. Climat Scen.'!$E404))","v":0},{"$f":"IF('2A Input Climat Scen. Pass.'!L284=\"\",SUMIFS('2A Input Climat Scen. Pass.'!F$248:F$291,'2A Input Climat Scen. Pass.'!$B$248:$B$291,'4B Calcul. Climat Scen.'!$C404,'2A Input Climat Scen. Pass.'!$C$248:$C$291,'4B Calcul. Climat Scen.'!$E404),SUMIFS('2A Input Climat Scen. Pass.'!L$248:L$291,'2A Input Climat Scen. Pass.'!$B$248:$B$291,'4B Calcul. Climat Scen.'!$C404,'2A Input Climat Scen. Pass.'!$C$248:$C$291,'4B Calcul. Climat Scen.'!$E404))","v":0},{"$f":"IF('2A Input Climat Scen. Pass.'!M284=\"\",SUMIFS('2A Input Climat Scen. Pass.'!G$248:G$291,'2A Input Climat Scen. Pass.'!$B$248:$B$291,'4B Calcul. Climat Scen.'!$C404,'2A Input Climat Scen. Pass.'!$C$248:$C$291,'4B Calcul. Climat Scen.'!$E404),SUMIFS('2A Input Climat Scen. Pass.'!M$248:M$291,'2A Input Climat Scen. Pass.'!$B$248:$B$291,'4B Calcul. Climat Scen.'!$C404,'2A Input Climat Scen. Pass.'!$C$248:$C$291,'4B Calcul. Climat Scen.'!$E404))","v":0},{"$f":"IF('2A Input Climat Scen. Pass.'!N284=\"\",SUMIFS('2A Input Climat Scen. Pass.'!H$248:H$291,'2A Input Climat Scen. Pass.'!$B$248:$B$291,'4B Calcul. Climat Scen.'!$C404,'2A Input Climat Scen. Pass.'!$C$248:$C$291,'4B Calcul. Climat Scen.'!$E404),SUMIFS('2A Input Climat Scen. Pass.'!N$248:N$291,'2A Input Climat Scen. Pass.'!$B$248:$B$291,'4B Calcul. Climat Scen.'!$C404,'2A Input Climat Scen. Pass.'!$C$248:$C$291,'4B Calcul. Climat Scen.'!$E404))","v":0},null,0,0,0,0,0,0,null,0,0,0,0,0,0,null,0,{"$f":"U404*SUMIFS('4A Calcul. BAU city'!$V$13:$V$61,'4A Calcul. BAU city'!$C$13:$C$61,'4B Calcul. Climat Scen.'!$C343,'4A Calcul. BAU city'!$E$13:$E$61,'4B Calcul. Climat Scen.'!$E343)","v":0},{"$f":"V404*SUMIFS('4A Calcul. BAU city'!$V$13:$V$61,'4A Calcul. BAU city'!$C$13:$C$61,'4B Calcul. Climat Scen.'!$C343,'4A Calcul. BAU city'!$E$13:$E$61,'4B Calcul. Climat Scen.'!$E343)","v":0},{"$f":"W404*SUMIFS('4A Calcul. BAU city'!$V$13:$V$61,'4A Calcul. BAU city'!$C$13:$C$61,'4B Calcul. Climat Scen.'!$C343,'4A Calcul. BAU city'!$E$13:$E$61,'4B Calcul. Climat Scen.'!$E343)","v":0},{"$f":"X404*SUMIFS('4A Calcul. BAU city'!$V$13:$V$61,'4A Calcul. BAU city'!$C$13:$C$61,'4B Calcul. Climat Scen.'!$C343,'4A Calcul. BAU city'!$E$13:$E$61,'4B Calcul. Climat Scen.'!$E343)","v":0},{"$f":"Y404*SUMIFS('4A Calcul. BAU city'!$V$13:$V$61,'4A Calcul. BAU city'!$C$13:$C$61,'4B Calcul. Climat Scen.'!$C343,'4A Calcul. BAU city'!$E$13:$E$61,'4B Calcul. Climat Scen.'!$E343)","v":0},null,{"$f":"INDEX('6 Defaults parameters'!$T$9:$Y$18,MATCH($D404,'6 Defaults parameters'!$B$9:$B$18,0),MATCH(AH$313,'6 Defaults parameters'!$T$8:$Y$8,0))*AA404/10^6","v":0},{"$f":"INDEX('6 Defaults parameters'!$T$9:$Y$18,MATCH($D404,'6 Defaults parameters'!$B$9:$B$18,0),MATCH(AI$313,'6 Defaults parameters'!$T$8:$Y$8,0))*AB404/10^6","v":0},{"$f":"INDEX('6 Defaults parameters'!$T$9:$Y$18,MATCH($D404,'6 Defaults parameters'!$B$9:$B$18,0),MATCH(AJ$313,'6 Defaults parameters'!$T$8:$Y$8,0))*AC404/10^6","v":0},{"$f":"INDEX('6 Defaults parameters'!$T$9:$Y$18,MATCH($D404,'6 Defaults parameters'!$B$9:$B$18,0),MATCH(AK$313,'6 Defaults parameters'!$T$8:$Y$8,0))*AD404/10^6","v":0},{"$f":"INDEX('6 Defaults parameters'!$T$9:$Y$18,MATCH($D404,'6 Defaults parameters'!$B$9:$B$18,0),MATCH(AL$313,'6 Defaults parameters'!$T$8:$Y$8,0))*AE404/10^6","v":0},{"$f":"INDEX('6 Defaults parameters'!$T$9:$Y$18,MATCH($D404,'6 Defaults parameters'!$B$9:$B$18,0),MATCH(AM$313,'6 Defaults parameters'!$T$8:$Y$8,0))*AF404/10^6","v":0}]
[null,"Scenario 3)",{"$f":"Train","v":"Long distance train"},{"$f":"RailD","v":"Rail - Diesel"},{"$f":"Diesel","v":"Diesel"},{"$f":"SUMIFS('4A Calcul. BAU city'!O$13:O$61,'4A Calcul. BAU city'!$C$13:$C$61,'4B Calcul. Climat Scen.'!$C405,'4A Calcul. BAU city'!$E$13:$E$61,'4B Calcul. Climat Scen.'!$E405)","v":0},{"$f":"IF('2A Input Climat Scen. Pass.'!J286=\"\",SUMIFS('2A Input Climat Scen. Pass.'!D$248:D$291,'2A Input Climat Scen. Pass.'!$B$248:$B$291,'4B Calcul. Climat Scen.'!$C405,'2A Input Climat Scen. Pass.'!$C$248:$C$291,'4B Calcul. Climat Scen.'!$E405),SUMIFS('2A Input Climat Scen. Pass.'!J$248:J$291,'2A Input Climat Scen. Pass.'!$B$248:$B$291,'4B Calcul. Climat Scen.'!$C405,'2A Input Climat Scen. Pass.'!$C$248:$C$291,'4B Calcul. Climat Scen.'!$E405))","v":0},{"$f":"IF('2A Input Climat Scen. Pass.'!K286=\"\",SUMIFS('2A Input Climat Scen. Pass.'!E$248:E$291,'2A Input Climat Scen. Pass.'!$B$248:$B$291,'4B Calcul. Climat Scen.'!$C405,'2A Input Climat Scen. Pass.'!$C$248:$C$291,'4B Calcul. Climat Scen.'!$E405),SUMIFS('2A Input Climat Scen. Pass.'!K$248:K$291,'2A Input Climat Scen. Pass.'!$B$248:$B$291,'4B Calcul. Climat Scen.'!$C405,'2A Input Climat Scen. Pass.'!$C$248:$C$291,'4B Calcul. Climat Scen.'!$E405))","v":0},{"$f":"IF('2A Input Climat Scen. Pass.'!L286=\"\",SUMIFS('2A Input Climat Scen. Pass.'!F$248:F$291,'2A Input Climat Scen. Pass.'!$B$248:$B$291,'4B Calcul. Climat Scen.'!$C405,'2A Input Climat Scen. Pass.'!$C$248:$C$291,'4B Calcul. Climat Scen.'!$E405),SUMIFS('2A Input Climat Scen. Pass.'!L$248:L$291,'2A Input Climat Scen. Pass.'!$B$248:$B$291,'4B Calcul. Climat Scen.'!$C405,'2A Input Climat Scen. Pass.'!$C$248:$C$291,'4B Calcul. Climat Scen.'!$E405))","v":0},{"$f":"IF('2A Input Climat Scen. Pass.'!M286=\"\",SUMIFS('2A Input Climat Scen. Pass.'!G$248:G$291,'2A Input Climat Scen. Pass.'!$B$248:$B$291,'4B Calcul. Climat Scen.'!$C405,'2A Input Climat Scen. Pass.'!$C$248:$C$291,'4B Calcul. Climat Scen.'!$E405),SUMIFS('2A Input Climat Scen. Pass.'!M$248:M$291,'2A Input Climat Scen. Pass.'!$B$248:$B$291,'4B Calcul. Climat Scen.'!$C405,'2A Input Climat Scen. Pass.'!$C$248:$C$291,'4B Calcul. Climat Scen.'!$E405))","v":0},{"$f":"IF('2A Input Climat Scen. Pass.'!N286=\"\",SUMIFS('2A Input Climat Scen. Pass.'!H$248:H$291,'2A Input Climat Scen. Pass.'!$B$248:$B$291,'4B Calcul. Climat Scen.'!$C405,'2A Input Climat Scen. Pass.'!$C$248:$C$291,'4B Calcul. Climat Scen.'!$E405),SUMIFS('2A Input Climat Scen. Pass.'!N$248:N$291,'2A Input Climat Scen. Pass.'!$B$248:$B$291,'4B Calcul. Climat Scen.'!$C405,'2A Input Climat Scen. Pass.'!$C$248:$C$291,'4B Calcul. Climat Scen.'!$E405))","v":0},null,0,0,0,0,0,0,null,0,0,0,0,0,0,null,0,{"$f":"U405*SUMIFS('4A Calcul. BAU city'!$V$13:$V$61,'4A Calcul. BAU city'!$C$13:$C$61,'4B Calcul. Climat Scen.'!$C344,'4A Calcul. BAU city'!$E$13:$E$61,'4B Calcul. Climat Scen.'!$E344)","v":0},{"$f":"V405*SUMIFS('4A Calcul. BAU city'!$V$13:$V$61,'4A Calcul. BAU city'!$C$13:$C$61,'4B Calcul. Climat Scen.'!$C344,'4A Calcul. BAU city'!$E$13:$E$61,'4B Calcul. Climat Scen.'!$E344)","v":0},{"$f":"W405*SUMIFS('4A Calcul. BAU city'!$V$13:$V$61,'4A Calcul. BAU city'!$C$13:$C$61,'4B Calcul. Climat Scen.'!$C344,'4A Calcul. BAU city'!$E$13:$E$61,'4B Calcul. Climat Scen.'!$E344)","v":0},{"$f":"X405*SUMIFS('4A Calcul. BAU city'!$V$13:$V$61,'4A Calcul. BAU city'!$C$13:$C$61,'4B Calcul. Climat Scen.'!$C344,'4A Calcul. BAU city'!$E$13:$E$61,'4B Calcul. Climat Scen.'!$E344)","v":0},{"$f":"Y405*SUMIFS('4A Calcul. BAU city'!$V$13:$V$61,'4A Calcul. BAU city'!$C$13:$C$61,'4B Calcul. Climat Scen.'!$C344,'4A Calcul. BAU city'!$E$13:$E$61,'4B Calcul. Climat Scen.'!$E344)","v":0},null,{"$f":"INDEX('6 Defaults parameters'!$T$9:$Y$18,MATCH($D405,'6 Defaults parameters'!$B$9:$B$18,0),MATCH(AH$313,'6 Defaults parameters'!$T$8:$Y$8,0))*AA405/10^6","v":0},{"$f":"INDEX('6 Defaults parameters'!$T$9:$Y$18,MATCH($D405,'6 Defaults parameters'!$B$9:$B$18,0),MATCH(AI$313,'6 Defaults parameters'!$T$8:$Y$8,0))*AB405/10^6","v":0},{"$f":"INDEX('6 Defaults parameters'!$T$9:$Y$18,MATCH($D405,'6 Defaults parameters'!$B$9:$B$18,0),MATCH(AJ$313,'6 Defaults parameters'!$T$8:$Y$8,0))*AC405/10^6","v":0},{"$f":"INDEX('6 Defaults parameters'!$T$9:$Y$18,MATCH($D405,'6 Defaults parameters'!$B$9:$B$18,0),MATCH(AK$313,'6 Defaults parameters'!$T$8:$Y$8,0))*AD405/10^6","v":0},{"$f":"INDEX('6 Defaults parameters'!$T$9:$Y$18,MATCH($D405,'6 Defaults parameters'!$B$9:$B$18,0),MATCH(AL$313,'6 Defaults parameters'!$T$8:$Y$8,0))*AE405/10^6","v":0},{"$f":"INDEX('6 Defaults parameters'!$T$9:$Y$18,MATCH($D405,'6 Defaults parameters'!$B$9:$B$18,0),MATCH(AM$313,'6 Defaults parameters'!$T$8:$Y$8,0))*AF405/10^6","v":0}]
[null,"Scenario 3)",{"$f":"Train","v":"Long distance train"},{"$f":"RailElec","v":"Rail - Electric"},{"$f":"Electric","v":"Electric"},{"$f":"SUMIFS('4A Calcul. BAU city'!O$13:O$61,'4A Calcul. BAU city'!$C$13:$C$61,'4B Calcul. Climat Scen.'!$C406,'4A Calcul. BAU city'!$E$13:$E$61,'4B Calcul. Climat Scen.'!$E406)","v":0},{"$f":"IF('2A Input Climat Scen. Pass.'!J287=\"\",SUMIFS('2A Input Climat Scen. Pass.'!D$248:D$291,'2A Input Climat Scen. Pass.'!$B$248:$B$291,'4B Calcul. Climat Scen.'!$C406,'2A Input Climat Scen. Pass.'!$C$248:$C$291,'4B Calcul. Climat Scen.'!$E406),SUMIFS('2A Input Climat Scen. Pass.'!J$248:J$291,'2A Input Climat Scen. Pass.'!$B$248:$B$291,'4B Calcul. Climat Scen.'!$C406,'2A Input Climat Scen. Pass.'!$C$248:$C$291,'4B Calcul. Climat Scen.'!$E406))","v":0},{"$f":"IF('2A Input Climat Scen. Pass.'!K287=\"\",SUMIFS('2A Input Climat Scen. Pass.'!E$248:E$291,'2A Input Climat Scen. Pass.'!$B$248:$B$291,'4B Calcul. Climat Scen.'!$C406,'2A Input Climat Scen. Pass.'!$C$248:$C$291,'4B Calcul. Climat Scen.'!$E406),SUMIFS('2A Input Climat Scen. Pass.'!K$248:K$291,'2A Input Climat Scen. Pass.'!$B$248:$B$291,'4B Calcul. Climat Scen.'!$C406,'2A Input Climat Scen. Pass.'!$C$248:$C$291,'4B Calcul. Climat Scen.'!$E406))","v":0},{"$f":"IF('2A Input Climat Scen. Pass.'!L287=\"\",SUMIFS('2A Input Climat Scen. Pass.'!F$248:F$291,'2A Input Climat Scen. Pass.'!$B$248:$B$291,'4B Calcul. Climat Scen.'!$C406,'2A Input Climat Scen. Pass.'!$C$248:$C$291,'4B Calcul. Climat Scen.'!$E406),SUMIFS('2A Input Climat Scen. Pass.'!L$248:L$291,'2A Input Climat Scen. Pass.'!$B$248:$B$291,'4B Calcul. Climat Scen.'!$C406,'2A Input Climat Scen. Pass.'!$C$248:$C$291,'4B Calcul. Climat Scen.'!$E406))","v":0},{"$f":"IF('2A Input Climat Scen. Pass.'!M287=\"\",SUMIFS('2A Input Climat Scen. Pass.'!G$248:G$291,'2A Input Climat Scen. Pass.'!$B$248:$B$291,'4B Calcul. Climat Scen.'!$C406,'2A Input Climat Scen. Pass.'!$C$248:$C$291,'4B Calcul. Climat Scen.'!$E406),SUMIFS('2A Input Climat Scen. Pass.'!M$248:M$291,'2A Input Climat Scen. Pass.'!$B$248:$B$291,'4B Calcul. Climat Scen.'!$C406,'2A Input Climat Scen. Pass.'!$C$248:$C$291,'4B Calcul. Climat Scen.'!$E406))","v":0},{"$f":"IF('2A Input Climat Scen. Pass.'!N287=\"\",SUMIFS('2A Input Climat Scen. Pass.'!H$248:H$291,'2A Input Climat Scen. Pass.'!$B$248:$B$291,'4B Calcul. Climat Scen.'!$C406,'2A Input Climat Scen. Pass.'!$C$248:$C$291,'4B Calcul. Climat Scen.'!$E406),SUMIFS('2A Input Climat Scen. Pass.'!N$248:N$291,'2A Input Climat Scen. Pass.'!$B$248:$B$291,'4B Calcul. Climat Scen.'!$C406,'2A Input Climat Scen. Pass.'!$C$248:$C$291,'4B Calcul. Climat Scen.'!$E406))","v":0},null,0,0,0,0,0,0,null,0,0,0,0,0,0,null,0,{"$f":"U406*SUMIFS('4A Calcul. BAU city'!$V$13:$V$61,'4A Calcul. BAU city'!$C$13:$C$61,'4B Calcul. Climat Scen.'!$C345,'4A Calcul. BAU city'!$E$13:$E$61,'4B Calcul. Climat Scen.'!$E345)","v":0},{"$f":"V406*SUMIFS('4A Calcul. BAU city'!$V$13:$V$61,'4A Calcul. BAU city'!$C$13:$C$61,'4B Calcul. Climat Scen.'!$C345,'4A Calcul. BAU city'!$E$13:$E$61,'4B Calcul. Climat Scen.'!$E345)","v":0},{"$f":"W406*SUMIFS('4A Calcul. BAU city'!$V$13:$V$61,'4A Calcul. BAU city'!$C$13:$C$61,'4B Calcul. Climat Scen.'!$C345,'4A Calcul. BAU city'!$E$13:$E$61,'4B Calcul. Climat Scen.'!$E345)","v":0},{"$f":"X406*SUMIFS('4A Calcul. BAU city'!$V$13:$V$61,'4A Calcul. BAU city'!$C$13:$C$61,'4B Calcul. Climat Scen.'!$C345,'4A Calcul. BAU city'!$E$13:$E$61,'4B Calcul. Climat Scen.'!$E345)","v":0},{"$f":"Y406*SUMIFS('4A Calcul. BAU city'!$V$13:$V$61,'4A Calcul. BAU city'!$C$13:$C$61,'4B Calcul. Climat Scen.'!$C345,'4A Calcul. BAU city'!$E$13:$E$61,'4B Calcul. Climat Scen.'!$E345)","v":0},null,{"$f":"INDEX('6 Defaults parameters'!$T$9:$Y$18,MATCH($D406,'6 Defaults parameters'!$B$9:$B$18,0),MATCH(AH$313,'6 Defaults parameters'!$T$8:$Y$8,0))*AA406/10^6","v":0},{"$f":"INDEX('6 Defaults parameters'!$T$9:$Y$18,MATCH($D406,'6 Defaults parameters'!$B$9:$B$18,0),MATCH(AI$313,'6 Defaults parameters'!$T$8:$Y$8,0))*AB406/10^6","v":0},{"$f":"INDEX('6 Defaults parameters'!$T$9:$Y$18,MATCH($D406,'6 Defaults parameters'!$B$9:$B$18,0),MATCH(AJ$313,'6 Defaults parameters'!$T$8:$Y$8,0))*AC406/10^6","v":0},{"$f":"INDEX('6 Defaults parameters'!$T$9:$Y$18,MATCH($D406,'6 Defaults parameters'!$B$9:$B$18,0),MATCH(AK$313,'6 Defaults parameters'!$T$8:$Y$8,0))*AD406/10^6","v":0},{"$f":"INDEX('6 Defaults parameters'!$T$9:$Y$18,MATCH($D406,'6 Defaults parameters'!$B$9:$B$18,0),MATCH(AL$313,'6 Defaults parameters'!$T$8:$Y$8,0))*AE406/10^6","v":0},{"$f":"INDEX('6 Defaults parameters'!$T$9:$Y$18,MATCH($D406,'6 Defaults parameters'!$B$9:$B$18,0),MATCH(AM$313,'6 Defaults parameters'!$T$8:$Y$8,0))*AF406/10^6","v":0}]
[null,"Scenario 3)",{"$f":"Utrain","v":"Urban train"},{"$f":"RailElec","v":"Rail - Electric"},{"$f":"Electric","v":"Electric"},{"$f":"SUMIFS('4A Calcul. BAU city'!O$13:O$61,'4A Calcul. BAU city'!$C$13:$C$61,'4B Calcul. Climat Scen.'!$C407,'4A Calcul. BAU city'!$E$13:$E$61,'4B Calcul. Climat Scen.'!$E407)","v":0},{"$f":"IF('2A Input Climat Scen. Pass.'!J289=\"\",SUMIFS('2A Input Climat Scen. Pass.'!D$248:D$291,'2A Input Climat Scen. Pass.'!$B$248:$B$291,'4B Calcul. Climat Scen.'!$C407,'2A Input Climat Scen. Pass.'!$C$248:$C$291,'4B Calcul. Climat Scen.'!$E407),SUMIFS('2A Input Climat Scen. Pass.'!J$248:J$291,'2A Input Climat Scen. Pass.'!$B$248:$B$291,'4B Calcul. Climat Scen.'!$C407,'2A Input Climat Scen. Pass.'!$C$248:$C$291,'4B Calcul. Climat Scen.'!$E407))","v":0},{"$f":"IF('2A Input Climat Scen. Pass.'!K289=\"\",SUMIFS('2A Input Climat Scen. Pass.'!E$248:E$291,'2A Input Climat Scen. Pass.'!$B$248:$B$291,'4B Calcul. Climat Scen.'!$C407,'2A Input Climat Scen. Pass.'!$C$248:$C$291,'4B Calcul. Climat Scen.'!$E407),SUMIFS('2A Input Climat Scen. Pass.'!K$248:K$291,'2A Input Climat Scen. Pass.'!$B$248:$B$291,'4B Calcul. Climat Scen.'!$C407,'2A Input Climat Scen. Pass.'!$C$248:$C$291,'4B Calcul. Climat Scen.'!$E407))","v":0},{"$f":"IF('2A Input Climat Scen. Pass.'!L289=\"\",SUMIFS('2A Input Climat Scen. Pass.'!F$248:F$291,'2A Input Climat Scen. Pass.'!$B$248:$B$291,'4B Calcul. Climat Scen.'!$C407,'2A Input Climat Scen. Pass.'!$C$248:$C$291,'4B Calcul. Climat Scen.'!$E407),SUMIFS('2A Input Climat Scen. Pass.'!L$248:L$291,'2A Input Climat Scen. Pass.'!$B$248:$B$291,'4B Calcul. Climat Scen.'!$C407,'2A Input Climat Scen. Pass.'!$C$248:$C$291,'4B Calcul. Climat Scen.'!$E407))","v":0},{"$f":"IF('2A Input Climat Scen. Pass.'!M289=\"\",SUMIFS('2A Input Climat Scen. Pass.'!G$248:G$291,'2A Input Climat Scen. Pass.'!$B$248:$B$291,'4B Calcul. Climat Scen.'!$C407,'2A Input Climat Scen. Pass.'!$C$248:$C$291,'4B Calcul. Climat Scen.'!$E407),SUMIFS('2A Input Climat Scen. Pass.'!M$248:M$291,'2A Input Climat Scen. Pass.'!$B$248:$B$291,'4B Calcul. Climat Scen.'!$C407,'2A Input Climat Scen. Pass.'!$C$248:$C$291,'4B Calcul. Climat Scen.'!$E407))","v":0},{"$f":"IF('2A Input Climat Scen. Pass.'!N289=\"\",SUMIFS('2A Input Climat Scen. Pass.'!H$248:H$291,'2A Input Climat Scen. Pass.'!$B$248:$B$291,'4B Calcul. Climat Scen.'!$C407,'2A Input Climat Scen. Pass.'!$C$248:$C$291,'4B Calcul. Climat Scen.'!$E407),SUMIFS('2A Input Climat Scen. Pass.'!N$248:N$291,'2A Input Climat Scen. Pass.'!$B$248:$B$291,'4B Calcul. Climat Scen.'!$C407,'2A Input Climat Scen. Pass.'!$C$248:$C$291,'4B Calcul. Climat Scen.'!$E407))","v":0},null,{"$f":"SUMIFS(M$314:M$363,$C$314:$C$363,$C407,$E$314:$E$363,$E407)","v":0},0,0,0,0,0,null,0,0,0,0,0,0,null,0,{"$f":"U407*SUMIFS('4A Calcul. BAU city'!$V$13:$V$61,'4A Calcul. BAU city'!$C$13:$C$61,'4B Calcul. Climat Scen.'!$C346,'4A Calcul. BAU city'!$E$13:$E$61,'4B Calcul. Climat Scen.'!$E346)","v":0},{"$f":"V407*SUMIFS('4A Calcul. BAU city'!$V$13:$V$61,'4A Calcul. BAU city'!$C$13:$C$61,'4B Calcul. Climat Scen.'!$C346,'4A Calcul. BAU city'!$E$13:$E$61,'4B Calcul. Climat Scen.'!$E346)","v":0},{"$f":"W407*SUMIFS('4A Calcul. BAU city'!$V$13:$V$61,'4A Calcul. BAU city'!$C$13:$C$61,'4B Calcul. Climat Scen.'!$C346,'4A Calcul. BAU city'!$E$13:$E$61,'4B Calcul. Climat Scen.'!$E346)","v":0},{"$f":"X407*SUMIFS('4A Calcul. BAU city'!$V$13:$V$61,'4A Calcul. BAU city'!$C$13:$C$61,'4B Calcul. Climat Scen.'!$C346,'4A Calcul. BAU city'!$E$13:$E$61,'4B Calcul. Climat Scen.'!$E346)","v":0},{"$f":"Y407*SUMIFS('4A Calcul. BAU city'!$V$13:$V$61,'4A Calcul. BAU city'!$C$13:$C$61,'4B Calcul. Climat Scen.'!$C346,'4A Calcul. BAU city'!$E$13:$E$61,'4B Calcul. Climat Scen.'!$E346)","v":0},null,{"$f":"INDEX('6 Defaults parameters'!$T$9:$Y$18,MATCH($D407,'6 Defaults parameters'!$B$9:$B$18,0),MATCH(AH$313,'6 Defaults parameters'!$T$8:$Y$8,0))*AA407/10^6","v":0},{"$f":"INDEX('6 Defaults parameters'!$T$9:$Y$18,MATCH($D407,'6 Defaults parameters'!$B$9:$B$18,0),MATCH(AI$313,'6 Defaults parameters'!$T$8:$Y$8,0))*AB407/10^6","v":0},{"$f":"INDEX('6 Defaults parameters'!$T$9:$Y$18,MATCH($D407,'6 Defaults parameters'!$B$9:$B$18,0),MATCH(AJ$313,'6 Defaults parameters'!$T$8:$Y$8,0))*AC407/10^6","v":0},{"$f":"INDEX('6 Defaults parameters'!$T$9:$Y$18,MATCH($D407,'6 Defaults parameters'!$B$9:$B$18,0),MATCH(AK$313,'6 Defaults parameters'!$T$8:$Y$8,0))*AD407/10^6","v":0},{"$f":"INDEX('6 Defaults parameters'!$T$9:$Y$18,MATCH($D407,'6 Defaults parameters'!$B$9:$B$18,0),MATCH(AL$313,'6 Defaults parameters'!$T$8:$Y$8,0))*AE407/10^6","v":0},{"$f":"INDEX('6 Defaults parameters'!$T$9:$Y$18,MATCH($D407,'6 Defaults parameters'!$B$9:$B$18,0),MATCH(AM$313,'6 Defaults parameters'!$T$8:$Y$8,0))*AF407/10^6","v":0}]
[null,{"$f":"Scen3","v":"Scenario 3)"},{"$f":"Metro","v":"Metro"},{"$f":"RailElec","v":"Rail - Electric"},{"$f":"Electric","v":"Electric"},{"$f":"SUMIFS('4A Calcul. BAU city'!O$13:O$61,'4A Calcul. BAU city'!$C$13:$C$61,'4B Calcul. Climat Scen.'!$C408,'4A Calcul. BAU city'!$E$13:$E$61,'4B Calcul. Climat Scen.'!$E408)","v":0},{"$f":"IF('2A Input Climat Scen. Pass.'!J289=\"\",SUMIFS('2A Input Climat Scen. Pass.'!D$248:D$291,'2A Input Climat Scen. Pass.'!$B$248:$B$291,'4B Calcul. Climat Scen.'!$C408,'2A Input Climat Scen. Pass.'!$C$248:$C$291,'4B Calcul. Climat Scen.'!$E408),SUMIFS('2A Input Climat Scen. Pass.'!J$248:J$291,'2A Input Climat Scen. Pass.'!$B$248:$B$291,'4B Calcul. Climat Scen.'!$C408,'2A Input Climat Scen. Pass.'!$C$248:$C$291,'4B Calcul. Climat Scen.'!$E408))","v":0},{"$f":"IF('2A Input Climat Scen. Pass.'!K289=\"\",SUMIFS('2A Input Climat Scen. Pass.'!E$248:E$291,'2A Input Climat Scen. Pass.'!$B$248:$B$291,'4B Calcul. Climat Scen.'!$C408,'2A Input Climat Scen. Pass.'!$C$248:$C$291,'4B Calcul. Climat Scen.'!$E408),SUMIFS('2A Input Climat Scen. Pass.'!K$248:K$291,'2A Input Climat Scen. Pass.'!$B$248:$B$291,'4B Calcul. Climat Scen.'!$C408,'2A Input Climat Scen. Pass.'!$C$248:$C$291,'4B Calcul. Climat Scen.'!$E408))","v":0},{"$f":"IF('2A Input Climat Scen. Pass.'!L289=\"\",SUMIFS('2A Input Climat Scen. Pass.'!F$248:F$291,'2A Input Climat Scen. Pass.'!$B$248:$B$291,'4B Calcul. Climat Scen.'!$C408,'2A Input Climat Scen. Pass.'!$C$248:$C$291,'4B Calcul. Climat Scen.'!$E408),SUMIFS('2A Input Climat Scen. Pass.'!L$248:L$291,'2A Input Climat Scen. Pass.'!$B$248:$B$291,'4B Calcul. Climat Scen.'!$C408,'2A Input Climat Scen. Pass.'!$C$248:$C$291,'4B Calcul. Climat Scen.'!$E408))","v":0},{"$f":"IF('2A Input Climat Scen. Pass.'!M289=\"\",SUMIFS('2A Input Climat Scen. Pass.'!G$248:G$291,'2A Input Climat Scen. Pass.'!$B$248:$B$291,'4B Calcul. Climat Scen.'!$C408,'2A Input Climat Scen. Pass.'!$C$248:$C$291,'4B Calcul. Climat Scen.'!$E408),SUMIFS('2A Input Climat Scen. Pass.'!M$248:M$291,'2A Input Climat Scen. Pass.'!$B$248:$B$291,'4B Calcul. Climat Scen.'!$C408,'2A Input Climat Scen. Pass.'!$C$248:$C$291,'4B Calcul. Climat Scen.'!$E408))","v":0},{"$f":"IF('2A Input Climat Scen. Pass.'!N289=\"\",SUMIFS('2A Input Climat Scen. Pass.'!H$248:H$291,'2A Input Climat Scen. Pass.'!$B$248:$B$291,'4B Calcul. Climat Scen.'!$C408,'2A Input Climat Scen. Pass.'!$C$248:$C$291,'4B Calcul. Climat Scen.'!$E408),SUMIFS('2A Input Climat Scen. Pass.'!N$248:N$291,'2A Input Climat Scen. Pass.'!$B$248:$B$291,'4B Calcul. Climat Scen.'!$C408,'2A Input Climat Scen. Pass.'!$C$248:$C$291,'4B Calcul. Climat Scen.'!$E408))","v":0},null,0,0,0,0,0,0,null,0,0,0,0,0,0,null,0,{"$f":"U408*SUMIFS('4A Calcul. BAU city'!$V$13:$V$61,'4A Calcul. BAU city'!$C$13:$C$61,'4B Calcul. Climat Scen.'!$C347,'4A Calcul. BAU city'!$E$13:$E$61,'4B Calcul. Climat Scen.'!$E347)","v":0},{"$f":"V408*SUMIFS('4A Calcul. BAU city'!$V$13:$V$61,'4A Calcul. BAU city'!$C$13:$C$61,'4B Calcul. Climat Scen.'!$C347,'4A Calcul. BAU city'!$E$13:$E$61,'4B Calcul. Climat Scen.'!$E347)","v":0},{"$f":"W408*SUMIFS('4A Calcul. BAU city'!$V$13:$V$61,'4A Calcul. BAU city'!$C$13:$C$61,'4B Calcul. Climat Scen.'!$C347,'4A Calcul. BAU city'!$E$13:$E$61,'4B Calcul. Climat Scen.'!$E347)","v":0},{"$f":"X408*SUMIFS('4A Calcul. BAU city'!$V$13:$V$61,'4A Calcul. BAU city'!$C$13:$C$61,'4B Calcul. Climat Scen.'!$C347,'4A Calcul. BAU city'!$E$13:$E$61,'4B Calcul. Climat Scen.'!$E347)","v":0},{"$f":"Y408*SUMIFS('4A Calcul. BAU city'!$V$13:$V$61,'4A Calcul. BAU city'!$C$13:$C$61,'4B Calcul. Climat Scen.'!$C347,'4A Calcul. BAU city'!$E$13:$E$61,'4B Calcul. Climat Scen.'!$E347)","v":0},null,{"$f":"INDEX('6 Defaults parameters'!$T$9:$Y$18,MATCH($D408,'6 Defaults parameters'!$B$9:$B$18,0),MATCH(AH$313,'6 Defaults parameters'!$T$8:$Y$8,0))*AA408/10^6","v":0},{"$f":"INDEX('6 Defaults parameters'!$T$9:$Y$18,MATCH($D408,'6 Defaults parameters'!$B$9:$B$18,0),MATCH(AI$313,'6 Defaults parameters'!$T$8:$Y$8,0))*AB408/10^6","v":0},{"$f":"INDEX('6 Defaults parameters'!$T$9:$Y$18,MATCH($D408,'6 Defaults parameters'!$B$9:$B$18,0),MATCH(AJ$313,'6 Defaults parameters'!$T$8:$Y$8,0))*AC408/10^6","v":0},{"$f":"INDEX('6 Defaults parameters'!$T$9:$Y$18,MATCH($D408,'6 Defaults parameters'!$B$9:$B$18,0),MATCH(AK$313,'6 Defaults parameters'!$T$8:$Y$8,0))*AD408/10^6","v":0},{"$f":"INDEX('6 Defaults parameters'!$T$9:$Y$18,MATCH($D408,'6 Defaults parameters'!$B$9:$B$18,0),MATCH(AL$313,'6 Defaults parameters'!$T$8:$Y$8,0))*AE408/10^6","v":0},{"$f":"INDEX('6 Defaults parameters'!$T$9:$Y$18,MATCH($D408,'6 Defaults parameters'!$B$9:$B$18,0),MATCH(AM$313,'6 Defaults parameters'!$T$8:$Y$8,0))*AF408/10^6","v":0}]
["Achtung: Formel nur für freight","Scenario 3)",{"$f":"lightLCV","v":"Very light LCV"},{"$f":"RoadG","v":"Road - Gasoline"},{"$f":"Gasoline","v":"Gasoline"},{"$f":"SUMIFS('4A Calcul. BAU city'!O$13:O$61,'4A Calcul. BAU city'!$C$13:$C$61,'4B Calcul. Climat Scen.'!$C409,'4A Calcul. BAU city'!$E$13:$E$61,'4B Calcul. Climat Scen.'!$E409)","v":0},{"$f":"IF('2B Input Climat Scen. Freight'!J149=\"\",SUMIFS('2B Input Climat Scen. Freight'!D$148:D$169,'2B Input Climat Scen. Freight'!$B$148:$B$169,'4B Calcul. Climat Scen.'!$C409,'2B Input Climat Scen. Freight'!$C$148:$C$169,'4B Calcul. Climat Scen.'!$E409),SUMIFS('2B Input Climat Scen. Freight'!J$148:J$169,'2B Input Climat Scen. Freight'!$B$148:$B$169,'4B Calcul. Climat Scen.'!$C409,'2B Input Climat Scen. Freight'!$C$148:$C$169,'4B Calcul. Climat Scen.'!$E409))","v":0},{"$f":"IF('2B Input Climat Scen. Freight'!K149=\"\",SUMIFS('2B Input Climat Scen. Freight'!E$148:E$169,'2B Input Climat Scen. Freight'!$B$148:$B$169,'4B Calcul. Climat Scen.'!$C409,'2B Input Climat Scen. Freight'!$C$148:$C$169,'4B Calcul. Climat Scen.'!$E409),SUMIFS('2B Input Climat Scen. Freight'!K$148:K$169,'2B Input Climat Scen. Freight'!$B$148:$B$169,'4B Calcul. Climat Scen.'!$C409,'2B Input Climat Scen. Freight'!$C$148:$C$169,'4B Calcul. Climat Scen.'!$E409))","v":0},{"$f":"IF('2B Input Climat Scen. Freight'!L149=\"\",SUMIFS('2B Input Climat Scen. Freight'!F$148:F$169,'2B Input Climat Scen. Freight'!$B$148:$B$169,'4B Calcul. Climat Scen.'!$C409,'2B Input Climat Scen. Freight'!$C$148:$C$169,'4B Calcul. Climat Scen.'!$E409),SUMIFS('2B Input Climat Scen. Freight'!L$148:L$169,'2B Input Climat Scen. Freight'!$B$148:$B$169,'4B Calcul. Climat Scen.'!$C409,'2B Input Climat Scen. Freight'!$C$148:$C$169,'4B Calcul. Climat Scen.'!$E409))","v":0},{"$f":"IF('2B Input Climat Scen. Freight'!M149=\"\",SUMIFS('2B Input Climat Scen. Freight'!G$148:G$169,'2B Input Climat Scen. Freight'!$B$148:$B$169,'4B Calcul. Climat Scen.'!$C409,'2B Input Climat Scen. Freight'!$C$148:$C$169,'4B Calcul. Climat Scen.'!$E409),SUMIFS('2B Input Climat Scen. Freight'!M$148:M$169,'2B Input Climat Scen. Freight'!$B$148:$B$169,'4B Calcul. Climat Scen.'!$C409,'2B Input Climat Scen. Freight'!$C$148:$C$169,'4B Calcul. Climat Scen.'!$E409))","v":0},{"$f":"IF('2B Input Climat Scen. Freight'!N149=\"\",SUMIFS('2B Input Climat Scen. Freight'!H$148:H$169,'2B Input Climat Scen. Freight'!$B$148:$B$169,'4B Calcul. Climat Scen.'!$C409,'2B Input Climat Scen. Freight'!$C$148:$C$169,'4B Calcul. Climat Scen.'!$E409),SUMIFS('2B Input Climat Scen. Freight'!N$148:N$169,'2B Input Climat Scen. Freight'!$B$148:$B$169,'4B Calcul. Climat Scen.'!$C409,'2B Input Climat Scen. Freight'!$C$148:$C$169,'4B Calcul. Climat Scen.'!$E409))","v":0},null,0,0,0,0,0,0,null,{"$f":"M409*F409/100","v":0},{"$f":"N409*G409/100","v":0},{"$f":"O409*H409/100","v":0},{"$f":"P409*I409/100","v":0},{"$f":"Q409*J409/100","v":0},{"$f":"R409*K409/100","v":0},null,0,{"$f":"U409*SUMIFS('4A Calcul. BAU city'!$V$13:$V$61,'4A Calcul. BAU city'!$C$13:$C$61,'4B Calcul. Climat Scen.'!$C348,'4A Calcul. BAU city'!$E$13:$E$61,'4B Calcul. Climat Scen.'!$E348)","v":0},{"$f":"V409*SUMIFS('4A Calcul. BAU city'!$V$13:$V$61,'4A Calcul. BAU city'!$C$13:$C$61,'4B Calcul. Climat Scen.'!$C348,'4A Calcul. BAU city'!$E$13:$E$61,'4B Calcul. Climat Scen.'!$E348)","v":0},{"$f":"W409*SUMIFS('4A Calcul. BAU city'!$V$13:$V$61,'4A Calcul. BAU city'!$C$13:$C$61,'4B Calcul. Climat Scen.'!$C348,'4A Calcul. BAU city'!$E$13:$E$61,'4B Calcul. Climat Scen.'!$E348)","v":0},{"$f":"X409*SUMIFS('4A Calcul. BAU city'!$V$13:$V$61,'4A Calcul. BAU city'!$C$13:$C$61,'4B Calcul. Climat Scen.'!$C348,'4A Calcul. BAU city'!$E$13:$E$61,'4B Calcul. Climat Scen.'!$E348)","v":0},{"$f":"Y409*SUMIFS('4A Calcul. BAU city'!$V$13:$V$61,'4A Calcul. BAU city'!$C$13:$C$61,'4B Calcul. Climat Scen.'!$C348,'4A Calcul. BAU city'!$E$13:$E$61,'4B Calcul. Climat Scen.'!$E348)","v":0},null,{"$f":"INDEX('6 Defaults parameters'!$T$9:$Y$18,MATCH($D409,'6 Defaults parameters'!$B$9:$B$18,0),MATCH(AH$313,'6 Defaults parameters'!$T$8:$Y$8,0))*AA409/10^6","v":0},{"$f":"INDEX('6 Defaults parameters'!$T$9:$Y$18,MATCH($D409,'6 Defaults parameters'!$B$9:$B$18,0),MATCH(AI$313,'6 Defaults parameters'!$T$8:$Y$8,0))*AB409/10^6","v":0},{"$f":"INDEX('6 Defaults parameters'!$T$9:$Y$18,MATCH($D409,'6 Defaults parameters'!$B$9:$B$18,0),MATCH(AJ$313,'6 Defaults parameters'!$T$8:$Y$8,0))*AC409/10^6","v":0},{"$f":"INDEX('6 Defaults parameters'!$T$9:$Y$18,MATCH($D409,'6 Defaults parameters'!$B$9:$B$18,0),MATCH(AK$313,'6 Defaults parameters'!$T$8:$Y$8,0))*AD409/10^6","v":0},{"$f":"INDEX('6 Defaults parameters'!$T$9:$Y$18,MATCH($D409,'6 Defaults parameters'!$B$9:$B$18,0),MATCH(AL$313,'6 Defaults parameters'!$T$8:$Y$8,0))*AE409/10^6","v":0},{"$f":"INDEX('6 Defaults parameters'!$T$9:$Y$18,MATCH($D409,'6 Defaults parameters'!$B$9:$B$18,0),MATCH(AM$313,'6 Defaults parameters'!$T$8:$Y$8,0))*AF409/10^6","v":0}]
[null,"Scenario 3)",{"$f":"lightLCV","v":"Very light LCV"},{"$f":"RoadD","v":"Road - Diesel"},{"$f":"Diesel","v":"Diesel"},{"$f":"SUMIFS('4A Calcul. BAU city'!O$13:O$61,'4A Calcul. BAU city'!$C$13:$C$61,'4B Calcul. Climat Scen.'!$C410,'4A Calcul. BAU city'!$E$13:$E$61,'4B Calcul. Climat Scen.'!$E410)","v":0},{"$f":"IF('2B Input Climat Scen. Freight'!J150=\"\",SUMIFS('2B Input Climat Scen. Freight'!D$148:D$169,'2B Input Climat Scen. Freight'!$B$148:$B$169,'4B Calcul. Climat Scen.'!$C410,'2B Input Climat Scen. Freight'!$C$148:$C$169,'4B Calcul. Climat Scen.'!$E410),SUMIFS('2B Input Climat Scen. Freight'!J$148:J$169,'2B Input Climat Scen. Freight'!$B$148:$B$169,'4B Calcul. Climat Scen.'!$C410,'2B Input Climat Scen. Freight'!$C$148:$C$169,'4B Calcul. Climat Scen.'!$E410))","v":0},{"$f":"IF('2B Input Climat Scen. Freight'!K150=\"\",SUMIFS('2B Input Climat Scen. Freight'!E$148:E$169,'2B Input Climat Scen. Freight'!$B$148:$B$169,'4B Calcul. Climat Scen.'!$C410,'2B Input Climat Scen. Freight'!$C$148:$C$169,'4B Calcul. Climat Scen.'!$E410),SUMIFS('2B Input Climat Scen. Freight'!K$148:K$169,'2B Input Climat Scen. Freight'!$B$148:$B$169,'4B Calcul. Climat Scen.'!$C410,'2B Input Climat Scen. Freight'!$C$148:$C$169,'4B Calcul. Climat Scen.'!$E410))","v":0},{"$f":"IF('2B Input Climat Scen. Freight'!L150=\"\",SUMIFS('2B Input Climat Scen. Freight'!F$148:F$169,'2B Input Climat Scen. Freight'!$B$148:$B$169,'4B Calcul. Climat Scen.'!$C410,'2B Input Climat Scen. Freight'!$C$148:$C$169,'4B Calcul. Climat Scen.'!$E410),SUMIFS('2B Input Climat Scen. Freight'!L$148:L$169,'2B Input Climat Scen. Freight'!$B$148:$B$169,'4B Calcul. Climat Scen.'!$C410,'2B Input Climat Scen. Freight'!$C$148:$C$169,'4B Calcul. Climat Scen.'!$E410))","v":0},{"$f":"IF('2B Input Climat Scen. Freight'!M150=\"\",SUMIFS('2B Input Climat Scen. Freight'!G$148:G$169,'2B Input Climat Scen. Freight'!$B$148:$B$169,'4B Calcul. Climat Scen.'!$C410,'2B Input Climat Scen. Freight'!$C$148:$C$169,'4B Calcul. Climat Scen.'!$E410),SUMIFS('2B Input Climat Scen. Freight'!M$148:M$169,'2B Input Climat Scen. Freight'!$B$148:$B$169,'4B Calcul. Climat Scen.'!$C410,'2B Input Climat Scen. Freight'!$C$148:$C$169,'4B Calcul. Climat Scen.'!$E410))","v":0},{"$f":"IF('2B Input Climat Scen. Freight'!N150=\"\",SUMIFS('2B Input Climat Scen. Freight'!H$148:H$169,'2B Input Climat Scen. Freight'!$B$148:$B$169,'4B Calcul. Climat Scen.'!$C410,'2B Input Climat Scen. Freight'!$C$148:$C$169,'4B Calcul. Climat Scen.'!$E410),SUMIFS('2B Input Climat Scen. Freight'!N$148:N$169,'2B Input Climat Scen. Freight'!$B$148:$B$169,'4B Calcul. Climat Scen.'!$C410,'2B Input Climat Scen. Freight'!$C$148:$C$169,'4B Calcul. Climat Scen.'!$E410))","v":0},null,0,0,0,0,0,0,null,0,{"$f":"N410*G410/100","v":0},0,0,0,0,null,0,{"$f":"U410*SUMIFS('4A Calcul. BAU city'!$V$13:$V$61,'4A Calcul. BAU city'!$C$13:$C$61,'4B Calcul. Climat Scen.'!$C349,'4A Calcul. BAU city'!$E$13:$E$61,'4B Calcul. Climat Scen.'!$E349)","v":0},{"$f":"V410*SUMIFS('4A Calcul. BAU city'!$V$13:$V$61,'4A Calcul. BAU city'!$C$13:$C$61,'4B Calcul. Climat Scen.'!$C349,'4A Calcul. BAU city'!$E$13:$E$61,'4B Calcul. Climat Scen.'!$E349)","v":0},{"$f":"W410*SUMIFS('4A Calcul. BAU city'!$V$13:$V$61,'4A Calcul. BAU city'!$C$13:$C$61,'4B Calcul. Climat Scen.'!$C349,'4A Calcul. BAU city'!$E$13:$E$61,'4B Calcul. Climat Scen.'!$E349)","v":0},{"$f":"X410*SUMIFS('4A Calcul. BAU city'!$V$13:$V$61,'4A Calcul. BAU city'!$C$13:$C$61,'4B Calcul. Climat Scen.'!$C349,'4A Calcul. BAU city'!$E$13:$E$61,'4B Calcul. Climat Scen.'!$E349)","v":0},{"$f":"Y410*SUMIFS('4A Calcul. BAU city'!$V$13:$V$61,'4A Calcul. BAU city'!$C$13:$C$61,'4B Calcul. Climat Scen.'!$C349,'4A Calcul. BAU city'!$E$13:$E$61,'4B Calcul. Climat Scen.'!$E349)","v":0},null,{"$f":"INDEX('6 Defaults parameters'!$T$9:$Y$18,MATCH($D410,'6 Defaults parameters'!$B$9:$B$18,0),MATCH(AH$313,'6 Defaults parameters'!$T$8:$Y$8,0))*AA410/10^6","v":0},{"$f":"INDEX('6 Defaults parameters'!$T$9:$Y$18,MATCH($D410,'6 Defaults parameters'!$B$9:$B$18,0),MATCH(AI$313,'6 Defaults parameters'!$T$8:$Y$8,0))*AB410/10^6","v":0},{"$f":"INDEX('6 Defaults parameters'!$T$9:$Y$18,MATCH($D410,'6 Defaults parameters'!$B$9:$B$18,0),MATCH(AJ$313,'6 Defaults parameters'!$T$8:$Y$8,0))*AC410/10^6","v":0},{"$f":"INDEX('6 Defaults parameters'!$T$9:$Y$18,MATCH($D410,'6 Defaults parameters'!$B$9:$B$18,0),MATCH(AK$313,'6 Defaults parameters'!$T$8:$Y$8,0))*AD410/10^6","v":0},{"$f":"INDEX('6 Defaults parameters'!$T$9:$Y$18,MATCH($D410,'6 Defaults parameters'!$B$9:$B$18,0),MATCH(AL$313,'6 Defaults parameters'!$T$8:$Y$8,0))*AE410/10^6","v":0},{"$f":"INDEX('6 Defaults parameters'!$T$9:$Y$18,MATCH($D410,'6 Defaults parameters'!$B$9:$B$18,0),MATCH(AM$313,'6 Defaults parameters'!$T$8:$Y$8,0))*AF410/10^6","v":0}]
[null,"Scenario 3)",{"$f":"lightLCV","v":"Very light LCV"},{"$f":"Roadelec","v":"Road - Electric"},{"$f":"Electric","v":"Electric"},{"$f":"SUMIFS('4A Calcul. BAU city'!O$13:O$61,'4A Calcul. BAU city'!$C$13:$C$61,'4B Calcul. Climat Scen.'!$C411,'4A Calcul. BAU city'!$E$13:$E$61,'4B Calcul. Climat Scen.'!$E411)","v":0},{"$f":"IF('2B Input Climat Scen. Freight'!J151=\"\",SUMIFS('2B Input Climat Scen. Freight'!D$148:D$169,'2B Input Climat Scen. Freight'!$B$148:$B$169,'4B Calcul. Climat Scen.'!$C411,'2B Input Climat Scen. Freight'!$C$148:$C$169,'4B Calcul. Climat Scen.'!$E411),SUMIFS('2B Input Climat Scen. Freight'!J$148:J$169,'2B Input Climat Scen. Freight'!$B$148:$B$169,'4B Calcul. Climat Scen.'!$C411,'2B Input Climat Scen. Freight'!$C$148:$C$169,'4B Calcul. Climat Scen.'!$E411))","v":0},{"$f":"IF('2B Input Climat Scen. Freight'!K151=\"\",SUMIFS('2B Input Climat Scen. Freight'!E$148:E$169,'2B Input Climat Scen. Freight'!$B$148:$B$169,'4B Calcul. Climat Scen.'!$C411,'2B Input Climat Scen. Freight'!$C$148:$C$169,'4B Calcul. Climat Scen.'!$E411),SUMIFS('2B Input Climat Scen. Freight'!K$148:K$169,'2B Input Climat Scen. Freight'!$B$148:$B$169,'4B Calcul. Climat Scen.'!$C411,'2B Input Climat Scen. Freight'!$C$148:$C$169,'4B Calcul. Climat Scen.'!$E411))","v":0},{"$f":"IF('2B Input Climat Scen. Freight'!L151=\"\",SUMIFS('2B Input Climat Scen. Freight'!F$148:F$169,'2B Input Climat Scen. Freight'!$B$148:$B$169,'4B Calcul. Climat Scen.'!$C411,'2B Input Climat Scen. Freight'!$C$148:$C$169,'4B Calcul. Climat Scen.'!$E411),SUMIFS('2B Input Climat Scen. Freight'!L$148:L$169,'2B Input Climat Scen. Freight'!$B$148:$B$169,'4B Calcul. Climat Scen.'!$C411,'2B Input Climat Scen. Freight'!$C$148:$C$169,'4B Calcul. Climat Scen.'!$E411))","v":0},{"$f":"IF('2B Input Climat Scen. Freight'!M151=\"\",SUMIFS('2B Input Climat Scen. Freight'!G$148:G$169,'2B Input Climat Scen. Freight'!$B$148:$B$169,'4B Calcul. Climat Scen.'!$C411,'2B Input Climat Scen. Freight'!$C$148:$C$169,'4B Calcul. Climat Scen.'!$E411),SUMIFS('2B Input Climat Scen. Freight'!M$148:M$169,'2B Input Climat Scen. Freight'!$B$148:$B$169,'4B Calcul. Climat Scen.'!$C411,'2B Input Climat Scen. Freight'!$C$148:$C$169,'4B Calcul. Climat Scen.'!$E411))","v":0},{"$f":"IF('2B Input Climat Scen. Freight'!N151=\"\",SUMIFS('2B Input Climat Scen. Freight'!H$148:H$169,'2B Input Climat Scen. Freight'!$B$148:$B$169,'4B Calcul. Climat Scen.'!$C411,'2B Input Climat Scen. Freight'!$C$148:$C$169,'4B Calcul. Climat Scen.'!$E411),SUMIFS('2B Input Climat Scen. Freight'!N$148:N$169,'2B Input Climat Scen. Freight'!$B$148:$B$169,'4B Calcul. Climat Scen.'!$C411,'2B Input Climat Scen. Freight'!$C$148:$C$169,'4B Calcul. Climat Scen.'!$E411))","v":0},null,0,0,0,0,0,0,null,{"$f":"M411*F411/100","v":0},{"$f":"N411*G411/100","v":0},{"$f":"O411*H411/100","v":0},{"$f":"P411*I411/100","v":0},{"$f":"Q411*J411/100","v":0},{"$f":"R411*K411/100","v":0},null,0,{"$f":"U411*SUMIFS('4A Calcul. BAU city'!$V$13:$V$61,'4A Calcul. BAU city'!$C$13:$C$61,'4B Calcul. Climat Scen.'!$C350,'4A Calcul. BAU city'!$E$13:$E$61,'4B Calcul. Climat Scen.'!$E350)","v":0},{"$f":"V411*SUMIFS('4A Calcul. BAU city'!$V$13:$V$61,'4A Calcul. BAU city'!$C$13:$C$61,'4B Calcul. Climat Scen.'!$C350,'4A Calcul. BAU city'!$E$13:$E$61,'4B Calcul. Climat Scen.'!$E350)","v":0},{"$f":"W411*SUMIFS('4A Calcul. BAU city'!$V$13:$V$61,'4A Calcul. BAU city'!$C$13:$C$61,'4B Calcul. Climat Scen.'!$C350,'4A Calcul. BAU city'!$E$13:$E$61,'4B Calcul. Climat Scen.'!$E350)","v":0},{"$f":"X411*SUMIFS('4A Calcul. BAU city'!$V$13:$V$61,'4A Calcul. BAU city'!$C$13:$C$61,'4B Calcul. Climat Scen.'!$C350,'4A Calcul. BAU city'!$E$13:$E$61,'4B Calcul. Climat Scen.'!$E350)","v":0},{"$f":"Y411*SUMIFS('4A Calcul. BAU city'!$V$13:$V$61,'4A Calcul. BAU city'!$C$13:$C$61,'4B Calcul. Climat Scen.'!$C350,'4A Calcul. BAU city'!$E$13:$E$61,'4B Calcul. Climat Scen.'!$E350)","v":0},null,{"$f":"INDEX('6 Defaults parameters'!$T$9:$Y$18,MATCH($D411,'6 Defaults parameters'!$B$9:$B$18,0),MATCH(AH$313,'6 Defaults parameters'!$T$8:$Y$8,0))*AA411/10^6","v":0},{"$f":"INDEX('6 Defaults parameters'!$T$9:$Y$18,MATCH($D411,'6 Defaults parameters'!$B$9:$B$18,0),MATCH(AI$313,'6 Defaults parameters'!$T$8:$Y$8,0))*AB411/10^6","v":0},{"$f":"INDEX('6 Defaults parameters'!$T$9:$Y$18,MATCH($D411,'6 Defaults parameters'!$B$9:$B$18,0),MATCH(AJ$313,'6 Defaults parameters'!$T$8:$Y$8,0))*AC411/10^6","v":0},{"$f":"INDEX('6 Defaults parameters'!$T$9:$Y$18,MATCH($D411,'6 Defaults parameters'!$B$9:$B$18,0),MATCH(AK$313,'6 Defaults parameters'!$T$8:$Y$8,0))*AD411/10^6","v":0},{"$f":"INDEX('6 Defaults parameters'!$T$9:$Y$18,MATCH($D411,'6 Defaults parameters'!$B$9:$B$18,0),MATCH(AL$313,'6 Defaults parameters'!$T$8:$Y$8,0))*AE411/10^6","v":0},{"$f":"INDEX('6 Defaults parameters'!$T$9:$Y$18,MATCH($D411,'6 Defaults parameters'!$B$9:$B$18,0),MATCH(AM$313,'6 Defaults parameters'!$T$8:$Y$8,0))*AF411/10^6","v":0}]
[null,"Scenario 3)",{"$f":"LCV","v":"LCV"},{"$f":"RoadG","v":"Road - Gasoline"},{"$f":"Gasoline","v":"Gasoline"},{"$f":"SUMIFS('4A Calcul. BAU city'!O$13:O$61,'4A Calcul. BAU city'!$C$13:$C$61,'4B Calcul. Climat Scen.'!$C412,'4A Calcul. BAU city'!$E$13:$E$61,'4B Calcul. Climat Scen.'!$E412)","v":0},{"$f":"IF('2B Input Climat Scen. Freight'!J153=\"\",SUMIFS('2B Input Climat Scen. Freight'!D$148:D$169,'2B Input Climat Scen. Freight'!$B$148:$B$169,'4B Calcul. Climat Scen.'!$C412,'2B Input Climat Scen. Freight'!$C$148:$C$169,'4B Calcul. Climat Scen.'!$E412),SUMIFS('2B Input Climat Scen. Freight'!J$148:J$169,'2B Input Climat Scen. Freight'!$B$148:$B$169,'4B Calcul. Climat Scen.'!$C412,'2B Input Climat Scen. Freight'!$C$148:$C$169,'4B Calcul. Climat Scen.'!$E412))","v":0},{"$f":"IF('2B Input Climat Scen. Freight'!K153=\"\",SUMIFS('2B Input Climat Scen. Freight'!E$148:E$169,'2B Input Climat Scen. Freight'!$B$148:$B$169,'4B Calcul. Climat Scen.'!$C412,'2B Input Climat Scen. Freight'!$C$148:$C$169,'4B Calcul. Climat Scen.'!$E412),SUMIFS('2B Input Climat Scen. Freight'!K$148:K$169,'2B Input Climat Scen. Freight'!$B$148:$B$169,'4B Calcul. Climat Scen.'!$C412,'2B Input Climat Scen. Freight'!$C$148:$C$169,'4B Calcul. Climat Scen.'!$E412))","v":0},{"$f":"IF('2B Input Climat Scen. Freight'!L153=\"\",SUMIFS('2B Input Climat Scen. Freight'!F$148:F$169,'2B Input Climat Scen. Freight'!$B$148:$B$169,'4B Calcul. Climat Scen.'!$C412,'2B Input Climat Scen. Freight'!$C$148:$C$169,'4B Calcul. Climat Scen.'!$E412),SUMIFS('2B Input Climat Scen. Freight'!L$148:L$169,'2B Input Climat Scen. Freight'!$B$148:$B$169,'4B Calcul. Climat Scen.'!$C412,'2B Input Climat Scen. Freight'!$C$148:$C$169,'4B Calcul. Climat Scen.'!$E412))","v":0},{"$f":"IF('2B Input Climat Scen. Freight'!M153=\"\",SUMIFS('2B Input Climat Scen. Freight'!G$148:G$169,'2B Input Climat Scen. Freight'!$B$148:$B$169,'4B Calcul. Climat Scen.'!$C412,'2B Input Climat Scen. Freight'!$C$148:$C$169,'4B Calcul. Climat Scen.'!$E412),SUMIFS('2B Input Climat Scen. Freight'!M$148:M$169,'2B Input Climat Scen. Freight'!$B$148:$B$169,'4B Calcul. Climat Scen.'!$C412,'2B Input Climat Scen. Freight'!$C$148:$C$169,'4B Calcul. Climat Scen.'!$E412))","v":0},{"$f":"IF('2B Input Climat Scen. Freight'!N153=\"\",SUMIFS('2B Input Climat Scen. Freight'!H$148:H$169,'2B Input Climat Scen. Freight'!$B$148:$B$169,'4B Calcul. Climat Scen.'!$C412,'2B Input Climat Scen. Freight'!$C$148:$C$169,'4B Calcul. Climat Scen.'!$E412),SUMIFS('2B Input Climat Scen. Freight'!N$148:N$169,'2B Input Climat Scen. Freight'!$B$148:$B$169,'4B Calcul. Climat Scen.'!$C412,'2B Input Climat Scen. Freight'!$C$148:$C$169,'4B Calcul. Climat Scen.'!$E412))","v":0},null,0,0,0,0,0,0,null,0,0,0,0,0,0,null,0,{"$f":"U412*SUMIFS('4A Calcul. BAU city'!$V$13:$V$61,'4A Calcul. BAU city'!$C$13:$C$61,'4B Calcul. Climat Scen.'!$C351,'4A Calcul. BAU city'!$E$13:$E$61,'4B Calcul. Climat Scen.'!$E351)","v":0},{"$f":"V412*SUMIFS('4A Calcul. BAU city'!$V$13:$V$61,'4A Calcul. BAU city'!$C$13:$C$61,'4B Calcul. Climat Scen.'!$C351,'4A Calcul. BAU city'!$E$13:$E$61,'4B Calcul. Climat Scen.'!$E351)","v":0},{"$f":"W412*SUMIFS('4A Calcul. BAU city'!$V$13:$V$61,'4A Calcul. BAU city'!$C$13:$C$61,'4B Calcul. Climat Scen.'!$C351,'4A Calcul. BAU city'!$E$13:$E$61,'4B Calcul. Climat Scen.'!$E351)","v":0},{"$f":"X412*SUMIFS('4A Calcul. BAU city'!$V$13:$V$61,'4A Calcul. BAU city'!$C$13:$C$61,'4B Calcul. Climat Scen.'!$C351,'4A Calcul. BAU city'!$E$13:$E$61,'4B Calcul. Climat Scen.'!$E351)","v":0},{"$f":"Y412*SUMIFS('4A Calcul. BAU city'!$V$13:$V$61,'4A Calcul. BAU city'!$C$13:$C$61,'4B Calcul. Climat Scen.'!$C351,'4A Calcul. BAU city'!$E$13:$E$61,'4B Calcul. Climat Scen.'!$E351)","v":0},null,{"$f":"INDEX('6 Defaults parameters'!$T$9:$Y$18,MATCH($D412,'6 Defaults parameters'!$B$9:$B$18,0),MATCH(AH$313,'6 Defaults parameters'!$T$8:$Y$8,0))*AA412/10^6","v":0},{"$f":"INDEX('6 Defaults parameters'!$T$9:$Y$18,MATCH($D412,'6 Defaults parameters'!$B$9:$B$18,0),MATCH(AI$313,'6 Defaults parameters'!$T$8:$Y$8,0))*AB412/10^6","v":0},{"$f":"INDEX('6 Defaults parameters'!$T$9:$Y$18,MATCH($D412,'6 Defaults parameters'!$B$9:$B$18,0),MATCH(AJ$313,'6 Defaults parameters'!$T$8:$Y$8,0))*AC412/10^6","v":0},{"$f":"INDEX('6 Defaults parameters'!$T$9:$Y$18,MATCH($D412,'6 Defaults parameters'!$B$9:$B$18,0),MATCH(AK$313,'6 Defaults parameters'!$T$8:$Y$8,0))*AD412/10^6","v":0},{"$f":"INDEX('6 Defaults parameters'!$T$9:$Y$18,MATCH($D412,'6 Defaults parameters'!$B$9:$B$18,0),MATCH(AL$313,'6 Defaults parameters'!$T$8:$Y$8,0))*AE412/10^6","v":0},{"$f":"INDEX('6 Defaults parameters'!$T$9:$Y$18,MATCH($D412,'6 Defaults parameters'!$B$9:$B$18,0),MATCH(AM$313,'6 Defaults parameters'!$T$8:$Y$8,0))*AF412/10^6","v":0}]
[null,"Scenario 3)",{"$f":"LCV","v":"LCV"},{"$f":"RoadD","v":"Road - Diesel"},{"$f":"Diesel","v":"Diesel"},{"$f":"SUMIFS('4A Calcul. BAU city'!O$13:O$61,'4A Calcul. BAU city'!$C$13:$C$61,'4B Calcul. Climat Scen.'!$C413,'4A Calcul. BAU city'!$E$13:$E$61,'4B Calcul. Climat Scen.'!$E413)","v":0},{"$f":"IF('2B Input Climat Scen. Freight'!J154=\"\",SUMIFS('2B Input Climat Scen. Freight'!D$148:D$169,'2B Input Climat Scen. Freight'!$B$148:$B$169,'4B Calcul. Climat Scen.'!$C413,'2B Input Climat Scen. Freight'!$C$148:$C$169,'4B Calcul. Climat Scen.'!$E413),SUMIFS('2B Input Climat Scen. Freight'!J$148:J$169,'2B Input Climat Scen. Freight'!$B$148:$B$169,'4B Calcul. Climat Scen.'!$C413,'2B Input Climat Scen. Freight'!$C$148:$C$169,'4B Calcul. Climat Scen.'!$E413))","v":0},{"$f":"IF('2B Input Climat Scen. Freight'!K154=\"\",SUMIFS('2B Input Climat Scen. Freight'!E$148:E$169,'2B Input Climat Scen. Freight'!$B$148:$B$169,'4B Calcul. Climat Scen.'!$C413,'2B Input Climat Scen. Freight'!$C$148:$C$169,'4B Calcul. Climat Scen.'!$E413),SUMIFS('2B Input Climat Scen. Freight'!K$148:K$169,'2B Input Climat Scen. Freight'!$B$148:$B$169,'4B Calcul. Climat Scen.'!$C413,'2B Input Climat Scen. Freight'!$C$148:$C$169,'4B Calcul. Climat Scen.'!$E413))","v":0},{"$f":"IF('2B Input Climat Scen. Freight'!L154=\"\",SUMIFS('2B Input Climat Scen. Freight'!F$148:F$169,'2B Input Climat Scen. Freight'!$B$148:$B$169,'4B Calcul. Climat Scen.'!$C413,'2B Input Climat Scen. Freight'!$C$148:$C$169,'4B Calcul. Climat Scen.'!$E413),SUMIFS('2B Input Climat Scen. Freight'!L$148:L$169,'2B Input Climat Scen. Freight'!$B$148:$B$169,'4B Calcul. Climat Scen.'!$C413,'2B Input Climat Scen. Freight'!$C$148:$C$169,'4B Calcul. Climat Scen.'!$E413))","v":0},{"$f":"IF('2B Input Climat Scen. Freight'!M154=\"\",SUMIFS('2B Input Climat Scen. Freight'!G$148:G$169,'2B Input Climat Scen. Freight'!$B$148:$B$169,'4B Calcul. Climat Scen.'!$C413,'2B Input Climat Scen. Freight'!$C$148:$C$169,'4B Calcul. Climat Scen.'!$E413),SUMIFS('2B Input Climat Scen. Freight'!M$148:M$169,'2B Input Climat Scen. Freight'!$B$148:$B$169,'4B Calcul. Climat Scen.'!$C413,'2B Input Climat Scen. Freight'!$C$148:$C$169,'4B Calcul. Climat Scen.'!$E413))","v":0},{"$f":"IF('2B Input Climat Scen. Freight'!N154=\"\",SUMIFS('2B Input Climat Scen. Freight'!H$148:H$169,'2B Input Climat Scen. Freight'!$B$148:$B$169,'4B Calcul. Climat Scen.'!$C413,'2B Input Climat Scen. Freight'!$C$148:$C$169,'4B Calcul. Climat Scen.'!$E413),SUMIFS('2B Input Climat Scen. Freight'!N$148:N$169,'2B Input Climat Scen. Freight'!$B$148:$B$169,'4B Calcul. Climat Scen.'!$C413,'2B Input Climat Scen. Freight'!$C$148:$C$169,'4B Calcul. Climat Scen.'!$E413))","v":0},null,0,0,0,0,0,0,null,0,0,0,0,0,0,null,0,{"$f":"U413*SUMIFS('4A Calcul. BAU city'!$V$13:$V$61,'4A Calcul. BAU city'!$C$13:$C$61,'4B Calcul. Climat Scen.'!$C352,'4A Calcul. BAU city'!$E$13:$E$61,'4B Calcul. Climat Scen.'!$E352)","v":0},{"$f":"V413*SUMIFS('4A Calcul. BAU city'!$V$13:$V$61,'4A Calcul. BAU city'!$C$13:$C$61,'4B Calcul. Climat Scen.'!$C352,'4A Calcul. BAU city'!$E$13:$E$61,'4B Calcul. Climat Scen.'!$E352)","v":0},{"$f":"W413*SUMIFS('4A Calcul. BAU city'!$V$13:$V$61,'4A Calcul. BAU city'!$C$13:$C$61,'4B Calcul. Climat Scen.'!$C352,'4A Calcul. BAU city'!$E$13:$E$61,'4B Calcul. Climat Scen.'!$E352)","v":0},{"$f":"X413*SUMIFS('4A Calcul. BAU city'!$V$13:$V$61,'4A Calcul. BAU city'!$C$13:$C$61,'4B Calcul. Climat Scen.'!$C352,'4A Calcul. BAU city'!$E$13:$E$61,'4B Calcul. Climat Scen.'!$E352)","v":0},{"$f":"Y413*SUMIFS('4A Calcul. BAU city'!$V$13:$V$61,'4A Calcul. BAU city'!$C$13:$C$61,'4B Calcul. Climat Scen.'!$C352,'4A Calcul. BAU city'!$E$13:$E$61,'4B Calcul. Climat Scen.'!$E352)","v":0},null,{"$f":"INDEX('6 Defaults parameters'!$T$9:$Y$18,MATCH($D413,'6 Defaults parameters'!$B$9:$B$18,0),MATCH(AH$313,'6 Defaults parameters'!$T$8:$Y$8,0))*AA413/10^6","v":0},{"$f":"INDEX('6 Defaults parameters'!$T$9:$Y$18,MATCH($D413,'6 Defaults parameters'!$B$9:$B$18,0),MATCH(AI$313,'6 Defaults parameters'!$T$8:$Y$8,0))*AB413/10^6","v":0},{"$f":"INDEX('6 Defaults parameters'!$T$9:$Y$18,MATCH($D413,'6 Defaults parameters'!$B$9:$B$18,0),MATCH(AJ$313,'6 Defaults parameters'!$T$8:$Y$8,0))*AC413/10^6","v":0},{"$f":"INDEX('6 Defaults parameters'!$T$9:$Y$18,MATCH($D413,'6 Defaults parameters'!$B$9:$B$18,0),MATCH(AK$313,'6 Defaults parameters'!$T$8:$Y$8,0))*AD413/10^6","v":0},{"$f":"INDEX('6 Defaults parameters'!$T$9:$Y$18,MATCH($D413,'6 Defaults parameters'!$B$9:$B$18,0),MATCH(AL$313,'6 Defaults parameters'!$T$8:$Y$8,0))*AE413/10^6","v":0},{"$f":"INDEX('6 Defaults parameters'!$T$9:$Y$18,MATCH($D413,'6 Defaults parameters'!$B$9:$B$18,0),MATCH(AM$313,'6 Defaults parameters'!$T$8:$Y$8,0))*AF413/10^6","v":0}]
[null,"Scenario 3)",{"$f":"LCV","v":"LCV"},{"$f":"RoadLPG","v":"Road - LPG"},{"$f":"LPG","v":"LPG"},{"$f":"SUMIFS('4A Calcul. BAU city'!O$13:O$61,'4A Calcul. BAU city'!$C$13:$C$61,'4B Calcul. Climat Scen.'!$C414,'4A Calcul. BAU city'!$E$13:$E$61,'4B Calcul. Climat Scen.'!$E414)","v":0},{"$f":"IF('2B Input Climat Scen. Freight'!J155=\"\",SUMIFS('2B Input Climat Scen. Freight'!D$148:D$169,'2B Input Climat Scen. Freight'!$B$148:$B$169,'4B Calcul. Climat Scen.'!$C414,'2B Input Climat Scen. Freight'!$C$148:$C$169,'4B Calcul. Climat Scen.'!$E414),SUMIFS('2B Input Climat Scen. Freight'!J$148:J$169,'2B Input Climat Scen. Freight'!$B$148:$B$169,'4B Calcul. Climat Scen.'!$C414,'2B Input Climat Scen. Freight'!$C$148:$C$169,'4B Calcul. Climat Scen.'!$E414))","v":0},{"$f":"IF('2B Input Climat Scen. Freight'!K155=\"\",SUMIFS('2B Input Climat Scen. Freight'!E$148:E$169,'2B Input Climat Scen. Freight'!$B$148:$B$169,'4B Calcul. Climat Scen.'!$C414,'2B Input Climat Scen. Freight'!$C$148:$C$169,'4B Calcul. Climat Scen.'!$E414),SUMIFS('2B Input Climat Scen. Freight'!K$148:K$169,'2B Input Climat Scen. Freight'!$B$148:$B$169,'4B Calcul. Climat Scen.'!$C414,'2B Input Climat Scen. Freight'!$C$148:$C$169,'4B Calcul. Climat Scen.'!$E414))","v":0},{"$f":"IF('2B Input Climat Scen. Freight'!L155=\"\",SUMIFS('2B Input Climat Scen. Freight'!F$148:F$169,'2B Input Climat Scen. Freight'!$B$148:$B$169,'4B Calcul. Climat Scen.'!$C414,'2B Input Climat Scen. Freight'!$C$148:$C$169,'4B Calcul. Climat Scen.'!$E414),SUMIFS('2B Input Climat Scen. Freight'!L$148:L$169,'2B Input Climat Scen. Freight'!$B$148:$B$169,'4B Calcul. Climat Scen.'!$C414,'2B Input Climat Scen. Freight'!$C$148:$C$169,'4B Calcul. Climat Scen.'!$E414))","v":0},{"$f":"IF('2B Input Climat Scen. Freight'!M155=\"\",SUMIFS('2B Input Climat Scen. Freight'!G$148:G$169,'2B Input Climat Scen. Freight'!$B$148:$B$169,'4B Calcul. Climat Scen.'!$C414,'2B Input Climat Scen. Freight'!$C$148:$C$169,'4B Calcul. Climat Scen.'!$E414),SUMIFS('2B Input Climat Scen. Freight'!M$148:M$169,'2B Input Climat Scen. Freight'!$B$148:$B$169,'4B Calcul. Climat Scen.'!$C414,'2B Input Climat Scen. Freight'!$C$148:$C$169,'4B Calcul. Climat Scen.'!$E414))","v":0},{"$f":"IF('2B Input Climat Scen. Freight'!N155=\"\",SUMIFS('2B Input Climat Scen. Freight'!H$148:H$169,'2B Input Climat Scen. Freight'!$B$148:$B$169,'4B Calcul. Climat Scen.'!$C414,'2B Input Climat Scen. Freight'!$C$148:$C$169,'4B Calcul. Climat Scen.'!$E414),SUMIFS('2B Input Climat Scen. Freight'!N$148:N$169,'2B Input Climat Scen. Freight'!$B$148:$B$169,'4B Calcul. Climat Scen.'!$C414,'2B Input Climat Scen. Freight'!$C$148:$C$169,'4B Calcul. Climat Scen.'!$E414))","v":0},null,0,0,0,0,0,0,null,0,0,0,0,0,0,null,0,{"$f":"U414*SUMIFS('4A Calcul. BAU city'!$V$13:$V$61,'4A Calcul. BAU city'!$C$13:$C$61,'4B Calcul. Climat Scen.'!$C353,'4A Calcul. BAU city'!$E$13:$E$61,'4B Calcul. Climat Scen.'!$E353)","v":0},{"$f":"V414*SUMIFS('4A Calcul. BAU city'!$V$13:$V$61,'4A Calcul. BAU city'!$C$13:$C$61,'4B Calcul. Climat Scen.'!$C353,'4A Calcul. BAU city'!$E$13:$E$61,'4B Calcul. Climat Scen.'!$E353)","v":0},{"$f":"W414*SUMIFS('4A Calcul. BAU city'!$V$13:$V$61,'4A Calcul. BAU city'!$C$13:$C$61,'4B Calcul. Climat Scen.'!$C353,'4A Calcul. BAU city'!$E$13:$E$61,'4B Calcul. Climat Scen.'!$E353)","v":0},{"$f":"X414*SUMIFS('4A Calcul. BAU city'!$V$13:$V$61,'4A Calcul. BAU city'!$C$13:$C$61,'4B Calcul. Climat Scen.'!$C353,'4A Calcul. BAU city'!$E$13:$E$61,'4B Calcul. Climat Scen.'!$E353)","v":0},{"$f":"Y414*SUMIFS('4A Calcul. BAU city'!$V$13:$V$61,'4A Calcul. BAU city'!$C$13:$C$61,'4B Calcul. Climat Scen.'!$C353,'4A Calcul. BAU city'!$E$13:$E$61,'4B Calcul. Climat Scen.'!$E353)","v":0},null,{"$f":"INDEX('6 Defaults parameters'!$T$9:$Y$18,MATCH($D414,'6 Defaults parameters'!$B$9:$B$18,0),MATCH(AH$313,'6 Defaults parameters'!$T$8:$Y$8,0))*AA414/10^6","v":0},{"$f":"INDEX('6 Defaults parameters'!$T$9:$Y$18,MATCH($D414,'6 Defaults parameters'!$B$9:$B$18,0),MATCH(AI$313,'6 Defaults parameters'!$T$8:$Y$8,0))*AB414/10^6","v":0},{"$f":"INDEX('6 Defaults parameters'!$T$9:$Y$18,MATCH($D414,'6 Defaults parameters'!$B$9:$B$18,0),MATCH(AJ$313,'6 Defaults parameters'!$T$8:$Y$8,0))*AC414/10^6","v":0},{"$f":"INDEX('6 Defaults parameters'!$T$9:$Y$18,MATCH($D414,'6 Defaults parameters'!$B$9:$B$18,0),MATCH(AK$313,'6 Defaults parameters'!$T$8:$Y$8,0))*AD414/10^6","v":0},{"$f":"INDEX('6 Defaults parameters'!$T$9:$Y$18,MATCH($D414,'6 Defaults parameters'!$B$9:$B$18,0),MATCH(AL$313,'6 Defaults parameters'!$T$8:$Y$8,0))*AE414/10^6","v":0},{"$f":"INDEX('6 Defaults parameters'!$T$9:$Y$18,MATCH($D414,'6 Defaults parameters'!$B$9:$B$18,0),MATCH(AM$313,'6 Defaults parameters'!$T$8:$Y$8,0))*AF414/10^6","v":0}]
[null,"Scenario 3)",{"$f":"LCV","v":"LCV"},{"$f":"RoadNG","v":"Road - NG"},{"$f":"NG","v":"NG"},{"$f":"SUMIFS('4A Calcul. BAU city'!O$13:O$61,'4A Calcul. BAU city'!$C$13:$C$61,'4B Calcul. Climat Scen.'!$C415,'4A Calcul. BAU city'!$E$13:$E$61,'4B Calcul. Climat Scen.'!$E415)","v":0},{"$f":"IF('2B Input Climat Scen. Freight'!J156=\"\",SUMIFS('2B Input Climat Scen. Freight'!D$148:D$169,'2B Input Climat Scen. Freight'!$B$148:$B$169,'4B Calcul. Climat Scen.'!$C415,'2B Input Climat Scen. Freight'!$C$148:$C$169,'4B Calcul. Climat Scen.'!$E415),SUMIFS('2B Input Climat Scen. Freight'!J$148:J$169,'2B Input Climat Scen. Freight'!$B$148:$B$169,'4B Calcul. Climat Scen.'!$C415,'2B Input Climat Scen. Freight'!$C$148:$C$169,'4B Calcul. Climat Scen.'!$E415))","v":0},{"$f":"IF('2B Input Climat Scen. Freight'!K156=\"\",SUMIFS('2B Input Climat Scen. Freight'!E$148:E$169,'2B Input Climat Scen. Freight'!$B$148:$B$169,'4B Calcul. Climat Scen.'!$C415,'2B Input Climat Scen. Freight'!$C$148:$C$169,'4B Calcul. Climat Scen.'!$E415),SUMIFS('2B Input Climat Scen. Freight'!K$148:K$169,'2B Input Climat Scen. Freight'!$B$148:$B$169,'4B Calcul. Climat Scen.'!$C415,'2B Input Climat Scen. Freight'!$C$148:$C$169,'4B Calcul. Climat Scen.'!$E415))","v":0},{"$f":"IF('2B Input Climat Scen. Freight'!L156=\"\",SUMIFS('2B Input Climat Scen. Freight'!F$148:F$169,'2B Input Climat Scen. Freight'!$B$148:$B$169,'4B Calcul. Climat Scen.'!$C415,'2B Input Climat Scen. Freight'!$C$148:$C$169,'4B Calcul. Climat Scen.'!$E415),SUMIFS('2B Input Climat Scen. Freight'!L$148:L$169,'2B Input Climat Scen. Freight'!$B$148:$B$169,'4B Calcul. Climat Scen.'!$C415,'2B Input Climat Scen. Freight'!$C$148:$C$169,'4B Calcul. Climat Scen.'!$E415))","v":0},{"$f":"IF('2B Input Climat Scen. Freight'!M156=\"\",SUMIFS('2B Input Climat Scen. Freight'!G$148:G$169,'2B Input Climat Scen. Freight'!$B$148:$B$169,'4B Calcul. Climat Scen.'!$C415,'2B Input Climat Scen. Freight'!$C$148:$C$169,'4B Calcul. Climat Scen.'!$E415),SUMIFS('2B Input Climat Scen. Freight'!M$148:M$169,'2B Input Climat Scen. Freight'!$B$148:$B$169,'4B Calcul. Climat Scen.'!$C415,'2B Input Climat Scen. Freight'!$C$148:$C$169,'4B Calcul. Climat Scen.'!$E415))","v":0},{"$f":"IF('2B Input Climat Scen. Freight'!N156=\"\",SUMIFS('2B Input Climat Scen. Freight'!H$148:H$169,'2B Input Climat Scen. Freight'!$B$148:$B$169,'4B Calcul. Climat Scen.'!$C415,'2B Input Climat Scen. Freight'!$C$148:$C$169,'4B Calcul. Climat Scen.'!$E415),SUMIFS('2B Input Climat Scen. Freight'!N$148:N$169,'2B Input Climat Scen. Freight'!$B$148:$B$169,'4B Calcul. Climat Scen.'!$C415,'2B Input Climat Scen. Freight'!$C$148:$C$169,'4B Calcul. Climat Scen.'!$E415))","v":0},null,0,0,0,0,0,0,null,0,0,0,0,0,0,null,0,{"$f":"U415*SUMIFS('4A Calcul. BAU city'!$V$13:$V$61,'4A Calcul. BAU city'!$C$13:$C$61,'4B Calcul. Climat Scen.'!$C354,'4A Calcul. BAU city'!$E$13:$E$61,'4B Calcul. Climat Scen.'!$E354)","v":0},{"$f":"V415*SUMIFS('4A Calcul. BAU city'!$V$13:$V$61,'4A Calcul. BAU city'!$C$13:$C$61,'4B Calcul. Climat Scen.'!$C354,'4A Calcul. BAU city'!$E$13:$E$61,'4B Calcul. Climat Scen.'!$E354)","v":0},{"$f":"W415*SUMIFS('4A Calcul. BAU city'!$V$13:$V$61,'4A Calcul. BAU city'!$C$13:$C$61,'4B Calcul. Climat Scen.'!$C354,'4A Calcul. BAU city'!$E$13:$E$61,'4B Calcul. Climat Scen.'!$E354)","v":0},{"$f":"X415*SUMIFS('4A Calcul. BAU city'!$V$13:$V$61,'4A Calcul. BAU city'!$C$13:$C$61,'4B Calcul. Climat Scen.'!$C354,'4A Calcul. BAU city'!$E$13:$E$61,'4B Calcul. Climat Scen.'!$E354)","v":0},{"$f":"Y415*SUMIFS('4A Calcul. BAU city'!$V$13:$V$61,'4A Calcul. BAU city'!$C$13:$C$61,'4B Calcul. Climat Scen.'!$C354,'4A Calcul. BAU city'!$E$13:$E$61,'4B Calcul. Climat Scen.'!$E354)","v":0},null,{"$f":"INDEX('6 Defaults parameters'!$T$9:$Y$18,MATCH($D415,'6 Defaults parameters'!$B$9:$B$18,0),MATCH(AH$313,'6 Defaults parameters'!$T$8:$Y$8,0))*AA415/10^6","v":0},{"$f":"INDEX('6 Defaults parameters'!$T$9:$Y$18,MATCH($D415,'6 Defaults parameters'!$B$9:$B$18,0),MATCH(AI$313,'6 Defaults parameters'!$T$8:$Y$8,0))*AB415/10^6","v":0},{"$f":"INDEX('6 Defaults parameters'!$T$9:$Y$18,MATCH($D415,'6 Defaults parameters'!$B$9:$B$18,0),MATCH(AJ$313,'6 Defaults parameters'!$T$8:$Y$8,0))*AC415/10^6","v":0},{"$f":"INDEX('6 Defaults parameters'!$T$9:$Y$18,MATCH($D415,'6 Defaults parameters'!$B$9:$B$18,0),MATCH(AK$313,'6 Defaults parameters'!$T$8:$Y$8,0))*AD415/10^6","v":0},{"$f":"INDEX('6 Defaults parameters'!$T$9:$Y$18,MATCH($D415,'6 Defaults parameters'!$B$9:$B$18,0),MATCH(AL$313,'6 Defaults parameters'!$T$8:$Y$8,0))*AE415/10^6","v":0},{"$f":"INDEX('6 Defaults parameters'!$T$9:$Y$18,MATCH($D415,'6 Defaults parameters'!$B$9:$B$18,0),MATCH(AM$313,'6 Defaults parameters'!$T$8:$Y$8,0))*AF415/10^6","v":0}]
[null,"Scenario 3)",{"$f":"LCV","v":"LCV"},{"$f":"Roadelec","v":"Road - Electric"},{"$f":"Electric","v":"Electric"},{"$f":"SUMIFS('4A Calcul. BAU city'!O$13:O$61,'4A Calcul. BAU city'!$C$13:$C$61,'4B Calcul. Climat Scen.'!$C416,'4A Calcul. BAU city'!$E$13:$E$61,'4B Calcul. Climat Scen.'!$E416)","v":0},{"$f":"IF('2B Input Climat Scen. Freight'!J157=\"\",SUMIFS('2B Input Climat Scen. Freight'!D$148:D$169,'2B Input Climat Scen. Freight'!$B$148:$B$169,'4B Calcul. Climat Scen.'!$C416,'2B Input Climat Scen. Freight'!$C$148:$C$169,'4B Calcul. Climat Scen.'!$E416),SUMIFS('2B Input Climat Scen. Freight'!J$148:J$169,'2B Input Climat Scen. Freight'!$B$148:$B$169,'4B Calcul. Climat Scen.'!$C416,'2B Input Climat Scen. Freight'!$C$148:$C$169,'4B Calcul. Climat Scen.'!$E416))","v":0},{"$f":"IF('2B Input Climat Scen. Freight'!K157=\"\",SUMIFS('2B Input Climat Scen. Freight'!E$148:E$169,'2B Input Climat Scen. Freight'!$B$148:$B$169,'4B Calcul. Climat Scen.'!$C416,'2B Input Climat Scen. Freight'!$C$148:$C$169,'4B Calcul. Climat Scen.'!$E416),SUMIFS('2B Input Climat Scen. Freight'!K$148:K$169,'2B Input Climat Scen. Freight'!$B$148:$B$169,'4B Calcul. Climat Scen.'!$C416,'2B Input Climat Scen. Freight'!$C$148:$C$169,'4B Calcul. Climat Scen.'!$E416))","v":0},{"$f":"IF('2B Input Climat Scen. Freight'!L157=\"\",SUMIFS('2B Input Climat Scen. Freight'!F$148:F$169,'2B Input Climat Scen. Freight'!$B$148:$B$169,'4B Calcul. Climat Scen.'!$C416,'2B Input Climat Scen. Freight'!$C$148:$C$169,'4B Calcul. Climat Scen.'!$E416),SUMIFS('2B Input Climat Scen. Freight'!L$148:L$169,'2B Input Climat Scen. Freight'!$B$148:$B$169,'4B Calcul. Climat Scen.'!$C416,'2B Input Climat Scen. Freight'!$C$148:$C$169,'4B Calcul. Climat Scen.'!$E416))","v":0},{"$f":"IF('2B Input Climat Scen. Freight'!M157=\"\",SUMIFS('2B Input Climat Scen. Freight'!G$148:G$169,'2B Input Climat Scen. Freight'!$B$148:$B$169,'4B Calcul. Climat Scen.'!$C416,'2B Input Climat Scen. Freight'!$C$148:$C$169,'4B Calcul. Climat Scen.'!$E416),SUMIFS('2B Input Climat Scen. Freight'!M$148:M$169,'2B Input Climat Scen. Freight'!$B$148:$B$169,'4B Calcul. Climat Scen.'!$C416,'2B Input Climat Scen. Freight'!$C$148:$C$169,'4B Calcul. Climat Scen.'!$E416))","v":0},{"$f":"IF('2B Input Climat Scen. Freight'!N157=\"\",SUMIFS('2B Input Climat Scen. Freight'!H$148:H$169,'2B Input Climat Scen. Freight'!$B$148:$B$169,'4B Calcul. Climat Scen.'!$C416,'2B Input Climat Scen. Freight'!$C$148:$C$169,'4B Calcul. Climat Scen.'!$E416),SUMIFS('2B Input Climat Scen. Freight'!N$148:N$169,'2B Input Climat Scen. Freight'!$B$148:$B$169,'4B Calcul. Climat Scen.'!$C416,'2B Input Climat Scen. Freight'!$C$148:$C$169,'4B Calcul. Climat Scen.'!$E416))","v":0},null,0,0,0,0,0,0,null,0,0,0,0,0,0,null,0,{"$f":"U416*SUMIFS('4A Calcul. BAU city'!$V$13:$V$61,'4A Calcul. BAU city'!$C$13:$C$61,'4B Calcul. Climat Scen.'!$C355,'4A Calcul. BAU city'!$E$13:$E$61,'4B Calcul. Climat Scen.'!$E355)","v":0},{"$f":"V416*SUMIFS('4A Calcul. BAU city'!$V$13:$V$61,'4A Calcul. BAU city'!$C$13:$C$61,'4B Calcul. Climat Scen.'!$C355,'4A Calcul. BAU city'!$E$13:$E$61,'4B Calcul. Climat Scen.'!$E355)","v":0},{"$f":"W416*SUMIFS('4A Calcul. BAU city'!$V$13:$V$61,'4A Calcul. BAU city'!$C$13:$C$61,'4B Calcul. Climat Scen.'!$C355,'4A Calcul. BAU city'!$E$13:$E$61,'4B Calcul. Climat Scen.'!$E355)","v":0},{"$f":"X416*SUMIFS('4A Calcul. BAU city'!$V$13:$V$61,'4A Calcul. BAU city'!$C$13:$C$61,'4B Calcul. Climat Scen.'!$C355,'4A Calcul. BAU city'!$E$13:$E$61,'4B Calcul. Climat Scen.'!$E355)","v":0},{"$f":"Y416*SUMIFS('4A Calcul. BAU city'!$V$13:$V$61,'4A Calcul. BAU city'!$C$13:$C$61,'4B Calcul. Climat Scen.'!$C355,'4A Calcul. BAU city'!$E$13:$E$61,'4B Calcul. Climat Scen.'!$E355)","v":0},null,{"$f":"INDEX('6 Defaults parameters'!$T$9:$Y$18,MATCH($D416,'6 Defaults parameters'!$B$9:$B$18,0),MATCH(AH$313,'6 Defaults parameters'!$T$8:$Y$8,0))*AA416/10^6","v":0},{"$f":"INDEX('6 Defaults parameters'!$T$9:$Y$18,MATCH($D416,'6 Defaults parameters'!$B$9:$B$18,0),MATCH(AI$313,'6 Defaults parameters'!$T$8:$Y$8,0))*AB416/10^6","v":0},{"$f":"INDEX('6 Defaults parameters'!$T$9:$Y$18,MATCH($D416,'6 Defaults parameters'!$B$9:$B$18,0),MATCH(AJ$313,'6 Defaults parameters'!$T$8:$Y$8,0))*AC416/10^6","v":0},{"$f":"INDEX('6 Defaults parameters'!$T$9:$Y$18,MATCH($D416,'6 Defaults parameters'!$B$9:$B$18,0),MATCH(AK$313,'6 Defaults parameters'!$T$8:$Y$8,0))*AD416/10^6","v":0},{"$f":"INDEX('6 Defaults parameters'!$T$9:$Y$18,MATCH($D416,'6 Defaults parameters'!$B$9:$B$18,0),MATCH(AL$313,'6 Defaults parameters'!$T$8:$Y$8,0))*AE416/10^6","v":0},{"$f":"INDEX('6 Defaults parameters'!$T$9:$Y$18,MATCH($D416,'6 Defaults parameters'!$B$9:$B$18,0),MATCH(AM$313,'6 Defaults parameters'!$T$8:$Y$8,0))*AF416/10^6","v":0}]
[null,"Scenario 3)",{"$f":"Solo","v":"Solo truck"},{"$f":"RoadD","v":"Road - Diesel"},{"$f":"Diesel","v":"Diesel"},{"$f":"SUMIFS('4A Calcul. BAU city'!O$13:O$61,'4A Calcul. BAU city'!$C$13:$C$61,'4B Calcul. Climat Scen.'!$C417,'4A Calcul. BAU city'!$E$13:$E$61,'4B Calcul. Climat Scen.'!$E417)","v":0},{"$f":"IF('2B Input Climat Scen. Freight'!J159=\"\",SUMIFS('2B Input Climat Scen. Freight'!D$148:D$169,'2B Input Climat Scen. Freight'!$B$148:$B$169,'4B Calcul. Climat Scen.'!$C417,'2B Input Climat Scen. Freight'!$C$148:$C$169,'4B Calcul. Climat Scen.'!$E417),SUMIFS('2B Input Climat Scen. Freight'!J$148:J$169,'2B Input Climat Scen. Freight'!$B$148:$B$169,'4B Calcul. Climat Scen.'!$C417,'2B Input Climat Scen. Freight'!$C$148:$C$169,'4B Calcul. Climat Scen.'!$E417))","v":0},{"$f":"IF('2B Input Climat Scen. Freight'!K159=\"\",SUMIFS('2B Input Climat Scen. Freight'!E$148:E$169,'2B Input Climat Scen. Freight'!$B$148:$B$169,'4B Calcul. Climat Scen.'!$C417,'2B Input Climat Scen. Freight'!$C$148:$C$169,'4B Calcul. Climat Scen.'!$E417),SUMIFS('2B Input Climat Scen. Freight'!K$148:K$169,'2B Input Climat Scen. Freight'!$B$148:$B$169,'4B Calcul. Climat Scen.'!$C417,'2B Input Climat Scen. Freight'!$C$148:$C$169,'4B Calcul. Climat Scen.'!$E417))","v":0},{"$f":"IF('2B Input Climat Scen. Freight'!L159=\"\",SUMIFS('2B Input Climat Scen. Freight'!F$148:F$169,'2B Input Climat Scen. Freight'!$B$148:$B$169,'4B Calcul. Climat Scen.'!$C417,'2B Input Climat Scen. Freight'!$C$148:$C$169,'4B Calcul. Climat Scen.'!$E417),SUMIFS('2B Input Climat Scen. Freight'!L$148:L$169,'2B Input Climat Scen. Freight'!$B$148:$B$169,'4B Calcul. Climat Scen.'!$C417,'2B Input Climat Scen. Freight'!$C$148:$C$169,'4B Calcul. Climat Scen.'!$E417))","v":0},{"$f":"IF('2B Input Climat Scen. Freight'!M159=\"\",SUMIFS('2B Input Climat Scen. Freight'!G$148:G$169,'2B Input Climat Scen. Freight'!$B$148:$B$169,'4B Calcul. Climat Scen.'!$C417,'2B Input Climat Scen. Freight'!$C$148:$C$169,'4B Calcul. Climat Scen.'!$E417),SUMIFS('2B Input Climat Scen. Freight'!M$148:M$169,'2B Input Climat Scen. Freight'!$B$148:$B$169,'4B Calcul. Climat Scen.'!$C417,'2B Input Climat Scen. Freight'!$C$148:$C$169,'4B Calcul. Climat Scen.'!$E417))","v":0},{"$f":"IF('2B Input Climat Scen. Freight'!N159=\"\",SUMIFS('2B Input Climat Scen. Freight'!H$148:H$169,'2B Input Climat Scen. Freight'!$B$148:$B$169,'4B Calcul. Climat Scen.'!$C417,'2B Input Climat Scen. Freight'!$C$148:$C$169,'4B Calcul. Climat Scen.'!$E417),SUMIFS('2B Input Climat Scen. Freight'!N$148:N$169,'2B Input Climat Scen. Freight'!$B$148:$B$169,'4B Calcul. Climat Scen.'!$C417,'2B Input Climat Scen. Freight'!$C$148:$C$169,'4B Calcul. Climat Scen.'!$E417))","v":0},null,{"$f":"SUMIFS(M$314:M$363,$C$314:$C$363,$C417,$E$314:$E$363,$E417)","v":0},0,0,0,0,0,null,0,{"$f":"N417*G417/100","v":0},0,0,0,0,null,0,{"$f":"U417*SUMIFS('4A Calcul. BAU city'!$V$13:$V$61,'4A Calcul. BAU city'!$C$13:$C$61,'4B Calcul. Climat Scen.'!$C356,'4A Calcul. BAU city'!$E$13:$E$61,'4B Calcul. Climat Scen.'!$E356)","v":0},{"$f":"V417*SUMIFS('4A Calcul. BAU city'!$V$13:$V$61,'4A Calcul. BAU city'!$C$13:$C$61,'4B Calcul. Climat Scen.'!$C356,'4A Calcul. BAU city'!$E$13:$E$61,'4B Calcul. Climat Scen.'!$E356)","v":0},{"$f":"W417*SUMIFS('4A Calcul. BAU city'!$V$13:$V$61,'4A Calcul. BAU city'!$C$13:$C$61,'4B Calcul. Climat Scen.'!$C356,'4A Calcul. BAU city'!$E$13:$E$61,'4B Calcul. Climat Scen.'!$E356)","v":0},{"$f":"X417*SUMIFS('4A Calcul. BAU city'!$V$13:$V$61,'4A Calcul. BAU city'!$C$13:$C$61,'4B Calcul. Climat Scen.'!$C356,'4A Calcul. BAU city'!$E$13:$E$61,'4B Calcul. Climat Scen.'!$E356)","v":0},{"$f":"Y417*SUMIFS('4A Calcul. BAU city'!$V$13:$V$61,'4A Calcul. BAU city'!$C$13:$C$61,'4B Calcul. Climat Scen.'!$C356,'4A Calcul. BAU city'!$E$13:$E$61,'4B Calcul. Climat Scen.'!$E356)","v":0},null,{"$f":"INDEX('6 Defaults parameters'!$T$9:$Y$18,MATCH($D417,'6 Defaults parameters'!$B$9:$B$18,0),MATCH(AH$313,'6 Defaults parameters'!$T$8:$Y$8,0))*AA417/10^6","v":0},{"$f":"INDEX('6 Defaults parameters'!$T$9:$Y$18,MATCH($D417,'6 Defaults parameters'!$B$9:$B$18,0),MATCH(AI$313,'6 Defaults parameters'!$T$8:$Y$8,0))*AB417/10^6","v":0},{"$f":"INDEX('6 Defaults parameters'!$T$9:$Y$18,MATCH($D417,'6 Defaults parameters'!$B$9:$B$18,0),MATCH(AJ$313,'6 Defaults parameters'!$T$8:$Y$8,0))*AC417/10^6","v":0},{"$f":"INDEX('6 Defaults parameters'!$T$9:$Y$18,MATCH($D417,'6 Defaults parameters'!$B$9:$B$18,0),MATCH(AK$313,'6 Defaults parameters'!$T$8:$Y$8,0))*AD417/10^6","v":0},{"$f":"INDEX('6 Defaults parameters'!$T$9:$Y$18,MATCH($D417,'6 Defaults parameters'!$B$9:$B$18,0),MATCH(AL$313,'6 Defaults parameters'!$T$8:$Y$8,0))*AE417/10^6","v":0},{"$f":"INDEX('6 Defaults parameters'!$T$9:$Y$18,MATCH($D417,'6 Defaults parameters'!$B$9:$B$18,0),MATCH(AM$313,'6 Defaults parameters'!$T$8:$Y$8,0))*AF417/10^6","v":0}]
[null,"Scenario 3)",{"$f":"Solo","v":"Solo truck"},{"$f":"RoadNG","v":"Road - NG"},{"$f":"NG","v":"NG"},{"$f":"SUMIFS('4A Calcul. BAU city'!O$13:O$61,'4A Calcul. BAU city'!$C$13:$C$61,'4B Calcul. Climat Scen.'!$C418,'4A Calcul. BAU city'!$E$13:$E$61,'4B Calcul. Climat Scen.'!$E418)","v":0},{"$f":"IF('2B Input Climat Scen. Freight'!J160=\"\",SUMIFS('2B Input Climat Scen. Freight'!D$148:D$169,'2B Input Climat Scen. Freight'!$B$148:$B$169,'4B Calcul. Climat Scen.'!$C418,'2B Input Climat Scen. Freight'!$C$148:$C$169,'4B Calcul. Climat Scen.'!$E418),SUMIFS('2B Input Climat Scen. Freight'!J$148:J$169,'2B Input Climat Scen. Freight'!$B$148:$B$169,'4B Calcul. Climat Scen.'!$C418,'2B Input Climat Scen. Freight'!$C$148:$C$169,'4B Calcul. Climat Scen.'!$E418))","v":0},{"$f":"IF('2B Input Climat Scen. Freight'!K160=\"\",SUMIFS('2B Input Climat Scen. Freight'!E$148:E$169,'2B Input Climat Scen. Freight'!$B$148:$B$169,'4B Calcul. Climat Scen.'!$C418,'2B Input Climat Scen. Freight'!$C$148:$C$169,'4B Calcul. Climat Scen.'!$E418),SUMIFS('2B Input Climat Scen. Freight'!K$148:K$169,'2B Input Climat Scen. Freight'!$B$148:$B$169,'4B Calcul. Climat Scen.'!$C418,'2B Input Climat Scen. Freight'!$C$148:$C$169,'4B Calcul. Climat Scen.'!$E418))","v":0},{"$f":"IF('2B Input Climat Scen. Freight'!L160=\"\",SUMIFS('2B Input Climat Scen. Freight'!F$148:F$169,'2B Input Climat Scen. Freight'!$B$148:$B$169,'4B Calcul. Climat Scen.'!$C418,'2B Input Climat Scen. Freight'!$C$148:$C$169,'4B Calcul. Climat Scen.'!$E418),SUMIFS('2B Input Climat Scen. Freight'!L$148:L$169,'2B Input Climat Scen. Freight'!$B$148:$B$169,'4B Calcul. Climat Scen.'!$C418,'2B Input Climat Scen. Freight'!$C$148:$C$169,'4B Calcul. Climat Scen.'!$E418))","v":0},{"$f":"IF('2B Input Climat Scen. Freight'!M160=\"\",SUMIFS('2B Input Climat Scen. Freight'!G$148:G$169,'2B Input Climat Scen. Freight'!$B$148:$B$169,'4B Calcul. Climat Scen.'!$C418,'2B Input Climat Scen. Freight'!$C$148:$C$169,'4B Calcul. Climat Scen.'!$E418),SUMIFS('2B Input Climat Scen. Freight'!M$148:M$169,'2B Input Climat Scen. Freight'!$B$148:$B$169,'4B Calcul. Climat Scen.'!$C418,'2B Input Climat Scen. Freight'!$C$148:$C$169,'4B Calcul. Climat Scen.'!$E418))","v":0},{"$f":"IF('2B Input Climat Scen. Freight'!N160=\"\",SUMIFS('2B Input Climat Scen. Freight'!H$148:H$169,'2B Input Climat Scen. Freight'!$B$148:$B$169,'4B Calcul. Climat Scen.'!$C418,'2B Input Climat Scen. Freight'!$C$148:$C$169,'4B Calcul. Climat Scen.'!$E418),SUMIFS('2B Input Climat Scen. Freight'!N$148:N$169,'2B Input Climat Scen. Freight'!$B$148:$B$169,'4B Calcul. Climat Scen.'!$C418,'2B Input Climat Scen. Freight'!$C$148:$C$169,'4B Calcul. Climat Scen.'!$E418))","v":0},null,0,0,0,0,0,0,null,0,0,0,0,0,0,null,0,{"$f":"U418*SUMIFS('4A Calcul. BAU city'!$V$13:$V$61,'4A Calcul. BAU city'!$C$13:$C$61,'4B Calcul. Climat Scen.'!$C357,'4A Calcul. BAU city'!$E$13:$E$61,'4B Calcul. Climat Scen.'!$E357)","v":0},{"$f":"V418*SUMIFS('4A Calcul. BAU city'!$V$13:$V$61,'4A Calcul. BAU city'!$C$13:$C$61,'4B Calcul. Climat Scen.'!$C357,'4A Calcul. BAU city'!$E$13:$E$61,'4B Calcul. Climat Scen.'!$E357)","v":0},{"$f":"W418*SUMIFS('4A Calcul. BAU city'!$V$13:$V$61,'4A Calcul. BAU city'!$C$13:$C$61,'4B Calcul. Climat Scen.'!$C357,'4A Calcul. BAU city'!$E$13:$E$61,'4B Calcul. Climat Scen.'!$E357)","v":0},{"$f":"X418*SUMIFS('4A Calcul. BAU city'!$V$13:$V$61,'4A Calcul. BAU city'!$C$13:$C$61,'4B Calcul. Climat Scen.'!$C357,'4A Calcul. BAU city'!$E$13:$E$61,'4B Calcul. Climat Scen.'!$E357)","v":0},{"$f":"Y418*SUMIFS('4A Calcul. BAU city'!$V$13:$V$61,'4A Calcul. BAU city'!$C$13:$C$61,'4B Calcul. Climat Scen.'!$C357,'4A Calcul. BAU city'!$E$13:$E$61,'4B Calcul. Climat Scen.'!$E357)","v":0},null,{"$f":"INDEX('6 Defaults parameters'!$T$9:$Y$18,MATCH($D418,'6 Defaults parameters'!$B$9:$B$18,0),MATCH(AH$313,'6 Defaults parameters'!$T$8:$Y$8,0))*AA418/10^6","v":0},{"$f":"INDEX('6 Defaults parameters'!$T$9:$Y$18,MATCH($D418,'6 Defaults parameters'!$B$9:$B$18,0),MATCH(AI$313,'6 Defaults parameters'!$T$8:$Y$8,0))*AB418/10^6","v":0},{"$f":"INDEX('6 Defaults parameters'!$T$9:$Y$18,MATCH($D418,'6 Defaults parameters'!$B$9:$B$18,0),MATCH(AJ$313,'6 Defaults parameters'!$T$8:$Y$8,0))*AC418/10^6","v":0},{"$f":"INDEX('6 Defaults parameters'!$T$9:$Y$18,MATCH($D418,'6 Defaults parameters'!$B$9:$B$18,0),MATCH(AK$313,'6 Defaults parameters'!$T$8:$Y$8,0))*AD418/10^6","v":0},{"$f":"INDEX('6 Defaults parameters'!$T$9:$Y$18,MATCH($D418,'6 Defaults parameters'!$B$9:$B$18,0),MATCH(AL$313,'6 Defaults parameters'!$T$8:$Y$8,0))*AE418/10^6","v":0},{"$f":"INDEX('6 Defaults parameters'!$T$9:$Y$18,MATCH($D418,'6 Defaults parameters'!$B$9:$B$18,0),MATCH(AM$313,'6 Defaults parameters'!$T$8:$Y$8,0))*AF418/10^6","v":0}]
[null,"Scenario 3)",{"$f":"Solo","v":"Solo truck"},{"$f":"Roadelec","v":"Road - Electric"},{"$f":"Electric","v":"Electric"},{"$f":"SUMIFS('4A Calcul. BAU city'!O$13:O$61,'4A Calcul. BAU city'!$C$13:$C$61,'4B Calcul. Climat Scen.'!$C419,'4A Calcul. BAU city'!$E$13:$E$61,'4B Calcul. Climat Scen.'!$E419)","v":0},{"$f":"IF('2B Input Climat Scen. Freight'!J161=\"\",SUMIFS('2B Input Climat Scen. Freight'!D$148:D$169,'2B Input Climat Scen. Freight'!$B$148:$B$169,'4B Calcul. Climat Scen.'!$C419,'2B Input Climat Scen. Freight'!$C$148:$C$169,'4B Calcul. Climat Scen.'!$E419),SUMIFS('2B Input Climat Scen. Freight'!J$148:J$169,'2B Input Climat Scen. Freight'!$B$148:$B$169,'4B Calcul. Climat Scen.'!$C419,'2B Input Climat Scen. Freight'!$C$148:$C$169,'4B Calcul. Climat Scen.'!$E419))","v":0},{"$f":"IF('2B Input Climat Scen. Freight'!K161=\"\",SUMIFS('2B Input Climat Scen. Freight'!E$148:E$169,'2B Input Climat Scen. Freight'!$B$148:$B$169,'4B Calcul. Climat Scen.'!$C419,'2B Input Climat Scen. Freight'!$C$148:$C$169,'4B Calcul. Climat Scen.'!$E419),SUMIFS('2B Input Climat Scen. Freight'!K$148:K$169,'2B Input Climat Scen. Freight'!$B$148:$B$169,'4B Calcul. Climat Scen.'!$C419,'2B Input Climat Scen. Freight'!$C$148:$C$169,'4B Calcul. Climat Scen.'!$E419))","v":0},{"$f":"IF('2B Input Climat Scen. Freight'!L161=\"\",SUMIFS('2B Input Climat Scen. Freight'!F$148:F$169,'2B Input Climat Scen. Freight'!$B$148:$B$169,'4B Calcul. Climat Scen.'!$C419,'2B Input Climat Scen. Freight'!$C$148:$C$169,'4B Calcul. Climat Scen.'!$E419),SUMIFS('2B Input Climat Scen. Freight'!L$148:L$169,'2B Input Climat Scen. Freight'!$B$148:$B$169,'4B Calcul. Climat Scen.'!$C419,'2B Input Climat Scen. Freight'!$C$148:$C$169,'4B Calcul. Climat Scen.'!$E419))","v":0},{"$f":"IF('2B Input Climat Scen. Freight'!M161=\"\",SUMIFS('2B Input Climat Scen. Freight'!G$148:G$169,'2B Input Climat Scen. Freight'!$B$148:$B$169,'4B Calcul. Climat Scen.'!$C419,'2B Input Climat Scen. Freight'!$C$148:$C$169,'4B Calcul. Climat Scen.'!$E419),SUMIFS('2B Input Climat Scen. Freight'!M$148:M$169,'2B Input Climat Scen. Freight'!$B$148:$B$169,'4B Calcul. Climat Scen.'!$C419,'2B Input Climat Scen. Freight'!$C$148:$C$169,'4B Calcul. Climat Scen.'!$E419))","v":0},{"$f":"IF('2B Input Climat Scen. Freight'!N161=\"\",SUMIFS('2B Input Climat Scen. Freight'!H$148:H$169,'2B Input Climat Scen. Freight'!$B$148:$B$169,'4B Calcul. Climat Scen.'!$C419,'2B Input Climat Scen. Freight'!$C$148:$C$169,'4B Calcul. Climat Scen.'!$E419),SUMIFS('2B Input Climat Scen. Freight'!N$148:N$169,'2B Input Climat Scen. Freight'!$B$148:$B$169,'4B Calcul. Climat Scen.'!$C419,'2B Input Climat Scen. Freight'!$C$148:$C$169,'4B Calcul. Climat Scen.'!$E419))","v":0},null,0,0,0,0,0,0,null,0,0,0,0,0,0,null,0,{"$f":"U419*SUMIFS('4A Calcul. BAU city'!$V$13:$V$61,'4A Calcul. BAU city'!$C$13:$C$61,'4B Calcul. Climat Scen.'!$C358,'4A Calcul. BAU city'!$E$13:$E$61,'4B Calcul. Climat Scen.'!$E358)","v":0},{"$f":"V419*SUMIFS('4A Calcul. BAU city'!$V$13:$V$61,'4A Calcul. BAU city'!$C$13:$C$61,'4B Calcul. Climat Scen.'!$C358,'4A Calcul. BAU city'!$E$13:$E$61,'4B Calcul. Climat Scen.'!$E358)","v":0},{"$f":"W419*SUMIFS('4A Calcul. BAU city'!$V$13:$V$61,'4A Calcul. BAU city'!$C$13:$C$61,'4B Calcul. Climat Scen.'!$C358,'4A Calcul. BAU city'!$E$13:$E$61,'4B Calcul. Climat Scen.'!$E358)","v":0},{"$f":"X419*SUMIFS('4A Calcul. BAU city'!$V$13:$V$61,'4A Calcul. BAU city'!$C$13:$C$61,'4B Calcul. Climat Scen.'!$C358,'4A Calcul. BAU city'!$E$13:$E$61,'4B Calcul. Climat Scen.'!$E358)","v":0},{"$f":"Y419*SUMIFS('4A Calcul. BAU city'!$V$13:$V$61,'4A Calcul. BAU city'!$C$13:$C$61,'4B Calcul. Climat Scen.'!$C358,'4A Calcul. BAU city'!$E$13:$E$61,'4B Calcul. Climat Scen.'!$E358)","v":0},null,{"$f":"INDEX('6 Defaults parameters'!$T$9:$Y$18,MATCH($D419,'6 Defaults parameters'!$B$9:$B$18,0),MATCH(AH$313,'6 Defaults parameters'!$T$8:$Y$8,0))*AA419/10^6","v":0},{"$f":"INDEX('6 Defaults parameters'!$T$9:$Y$18,MATCH($D419,'6 Defaults parameters'!$B$9:$B$18,0),MATCH(AI$313,'6 Defaults parameters'!$T$8:$Y$8,0))*AB419/10^6","v":0},{"$f":"INDEX('6 Defaults parameters'!$T$9:$Y$18,MATCH($D419,'6 Defaults parameters'!$B$9:$B$18,0),MATCH(AJ$313,'6 Defaults parameters'!$T$8:$Y$8,0))*AC419/10^6","v":0},{"$f":"INDEX('6 Defaults parameters'!$T$9:$Y$18,MATCH($D419,'6 Defaults parameters'!$B$9:$B$18,0),MATCH(AK$313,'6 Defaults parameters'!$T$8:$Y$8,0))*AD419/10^6","v":0},{"$f":"INDEX('6 Defaults parameters'!$T$9:$Y$18,MATCH($D419,'6 Defaults parameters'!$B$9:$B$18,0),MATCH(AL$313,'6 Defaults parameters'!$T$8:$Y$8,0))*AE419/10^6","v":0},{"$f":"INDEX('6 Defaults parameters'!$T$9:$Y$18,MATCH($D419,'6 Defaults parameters'!$B$9:$B$18,0),MATCH(AM$313,'6 Defaults parameters'!$T$8:$Y$8,0))*AF419/10^6","v":0}]
[null,"Scenario 3)",{"$f":"Atruck","v":"Articulated truck"},{"$f":"RoadD","v":"Road - Diesel"},{"$f":"Diesel","v":"Diesel"},{"$f":"SUMIFS('4A Calcul. BAU city'!O$13:O$61,'4A Calcul. BAU city'!$C$13:$C$61,'4B Calcul. Climat Scen.'!$C420,'4A Calcul. BAU city'!$E$13:$E$61,'4B Calcul. Climat Scen.'!$E420)","v":0},{"$f":"IF('2B Input Climat Scen. Freight'!J163=\"\",SUMIFS('2B Input Climat Scen. Freight'!D$148:D$169,'2B Input Climat Scen. Freight'!$B$148:$B$169,'4B Calcul. Climat Scen.'!$C420,'2B Input Climat Scen. Freight'!$C$148:$C$169,'4B Calcul. Climat Scen.'!$E420),SUMIFS('2B Input Climat Scen. Freight'!J$148:J$169,'2B Input Climat Scen. Freight'!$B$148:$B$169,'4B Calcul. Climat Scen.'!$C420,'2B Input Climat Scen. Freight'!$C$148:$C$169,'4B Calcul. Climat Scen.'!$E420))","v":0},{"$f":"IF('2B Input Climat Scen. Freight'!K163=\"\",SUMIFS('2B Input Climat Scen. Freight'!E$148:E$169,'2B Input Climat Scen. Freight'!$B$148:$B$169,'4B Calcul. Climat Scen.'!$C420,'2B Input Climat Scen. Freight'!$C$148:$C$169,'4B Calcul. Climat Scen.'!$E420),SUMIFS('2B Input Climat Scen. Freight'!K$148:K$169,'2B Input Climat Scen. Freight'!$B$148:$B$169,'4B Calcul. Climat Scen.'!$C420,'2B Input Climat Scen. Freight'!$C$148:$C$169,'4B Calcul. Climat Scen.'!$E420))","v":0},{"$f":"IF('2B Input Climat Scen. Freight'!L163=\"\",SUMIFS('2B Input Climat Scen. Freight'!F$148:F$169,'2B Input Climat Scen. Freight'!$B$148:$B$169,'4B Calcul. Climat Scen.'!$C420,'2B Input Climat Scen. Freight'!$C$148:$C$169,'4B Calcul. Climat Scen.'!$E420),SUMIFS('2B Input Climat Scen. Freight'!L$148:L$169,'2B Input Climat Scen. Freight'!$B$148:$B$169,'4B Calcul. Climat Scen.'!$C420,'2B Input Climat Scen. Freight'!$C$148:$C$169,'4B Calcul. Climat Scen.'!$E420))","v":0},{"$f":"IF('2B Input Climat Scen. Freight'!M163=\"\",SUMIFS('2B Input Climat Scen. Freight'!G$148:G$169,'2B Input Climat Scen. Freight'!$B$148:$B$169,'4B Calcul. Climat Scen.'!$C420,'2B Input Climat Scen. Freight'!$C$148:$C$169,'4B Calcul. Climat Scen.'!$E420),SUMIFS('2B Input Climat Scen. Freight'!M$148:M$169,'2B Input Climat Scen. Freight'!$B$148:$B$169,'4B Calcul. Climat Scen.'!$C420,'2B Input Climat Scen. Freight'!$C$148:$C$169,'4B Calcul. Climat Scen.'!$E420))","v":0},{"$f":"IF('2B Input Climat Scen. Freight'!N163=\"\",SUMIFS('2B Input Climat Scen. Freight'!H$148:H$169,'2B Input Climat Scen. Freight'!$B$148:$B$169,'4B Calcul. Climat Scen.'!$C420,'2B Input Climat Scen. Freight'!$C$148:$C$169,'4B Calcul. Climat Scen.'!$E420),SUMIFS('2B Input Climat Scen. Freight'!N$148:N$169,'2B Input Climat Scen. Freight'!$B$148:$B$169,'4B Calcul. Climat Scen.'!$C420,'2B Input Climat Scen. Freight'!$C$148:$C$169,'4B Calcul. Climat Scen.'!$E420))","v":0},null,0,0,0,0,0,0,null,0,0,0,0,0,0,null,0,{"$f":"U420*SUMIFS('4A Calcul. BAU city'!$V$13:$V$61,'4A Calcul. BAU city'!$C$13:$C$61,'4B Calcul. Climat Scen.'!$C359,'4A Calcul. BAU city'!$E$13:$E$61,'4B Calcul. Climat Scen.'!$E359)","v":0},{"$f":"V420*SUMIFS('4A Calcul. BAU city'!$V$13:$V$61,'4A Calcul. BAU city'!$C$13:$C$61,'4B Calcul. Climat Scen.'!$C359,'4A Calcul. BAU city'!$E$13:$E$61,'4B Calcul. Climat Scen.'!$E359)","v":0},{"$f":"W420*SUMIFS('4A Calcul. BAU city'!$V$13:$V$61,'4A Calcul. BAU city'!$C$13:$C$61,'4B Calcul. Climat Scen.'!$C359,'4A Calcul. BAU city'!$E$13:$E$61,'4B Calcul. Climat Scen.'!$E359)","v":0},{"$f":"X420*SUMIFS('4A Calcul. BAU city'!$V$13:$V$61,'4A Calcul. BAU city'!$C$13:$C$61,'4B Calcul. Climat Scen.'!$C359,'4A Calcul. BAU city'!$E$13:$E$61,'4B Calcul. Climat Scen.'!$E359)","v":0},{"$f":"Y420*SUMIFS('4A Calcul. BAU city'!$V$13:$V$61,'4A Calcul. BAU city'!$C$13:$C$61,'4B Calcul. Climat Scen.'!$C359,'4A Calcul. BAU city'!$E$13:$E$61,'4B Calcul. Climat Scen.'!$E359)","v":0},null,{"$f":"INDEX('6 Defaults parameters'!$T$9:$Y$18,MATCH($D420,'6 Defaults parameters'!$B$9:$B$18,0),MATCH(AH$313,'6 Defaults parameters'!$T$8:$Y$8,0))*AA420/10^6","v":0},{"$f":"INDEX('6 Defaults parameters'!$T$9:$Y$18,MATCH($D420,'6 Defaults parameters'!$B$9:$B$18,0),MATCH(AI$313,'6 Defaults parameters'!$T$8:$Y$8,0))*AB420/10^6","v":0},{"$f":"INDEX('6 Defaults parameters'!$T$9:$Y$18,MATCH($D420,'6 Defaults parameters'!$B$9:$B$18,0),MATCH(AJ$313,'6 Defaults parameters'!$T$8:$Y$8,0))*AC420/10^6","v":0},{"$f":"INDEX('6 Defaults parameters'!$T$9:$Y$18,MATCH($D420,'6 Defaults parameters'!$B$9:$B$18,0),MATCH(AK$313,'6 Defaults parameters'!$T$8:$Y$8,0))*AD420/10^6","v":0},{"$f":"INDEX('6 Defaults parameters'!$T$9:$Y$18,MATCH($D420,'6 Defaults parameters'!$B$9:$B$18,0),MATCH(AL$313,'6 Defaults parameters'!$T$8:$Y$8,0))*AE420/10^6","v":0},{"$f":"INDEX('6 Defaults parameters'!$T$9:$Y$18,MATCH($D420,'6 Defaults parameters'!$B$9:$B$18,0),MATCH(AM$313,'6 Defaults parameters'!$T$8:$Y$8,0))*AF420/10^6","v":0}]
[null,"Scenario 3)",{"$f":"Atruck","v":"Articulated truck"},{"$f":"RoadNG","v":"Road - NG"},{"$f":"NG","v":"NG"},{"$f":"SUMIFS('4A Calcul. BAU city'!O$13:O$61,'4A Calcul. BAU city'!$C$13:$C$61,'4B Calcul. Climat Scen.'!$C421,'4A Calcul. BAU city'!$E$13:$E$61,'4B Calcul. Climat Scen.'!$E421)","v":0},{"$f":"IF('2B Input Climat Scen. Freight'!J164=\"\",SUMIFS('2B Input Climat Scen. Freight'!D$148:D$169,'2B Input Climat Scen. Freight'!$B$148:$B$169,'4B Calcul. Climat Scen.'!$C421,'2B Input Climat Scen. Freight'!$C$148:$C$169,'4B Calcul. Climat Scen.'!$E421),SUMIFS('2B Input Climat Scen. Freight'!J$148:J$169,'2B Input Climat Scen. Freight'!$B$148:$B$169,'4B Calcul. Climat Scen.'!$C421,'2B Input Climat Scen. Freight'!$C$148:$C$169,'4B Calcul. Climat Scen.'!$E421))","v":0},{"$f":"IF('2B Input Climat Scen. Freight'!K164=\"\",SUMIFS('2B Input Climat Scen. Freight'!E$148:E$169,'2B Input Climat Scen. Freight'!$B$148:$B$169,'4B Calcul. Climat Scen.'!$C421,'2B Input Climat Scen. Freight'!$C$148:$C$169,'4B Calcul. Climat Scen.'!$E421),SUMIFS('2B Input Climat Scen. Freight'!K$148:K$169,'2B Input Climat Scen. Freight'!$B$148:$B$169,'4B Calcul. Climat Scen.'!$C421,'2B Input Climat Scen. Freight'!$C$148:$C$169,'4B Calcul. Climat Scen.'!$E421))","v":0},{"$f":"IF('2B Input Climat Scen. Freight'!L164=\"\",SUMIFS('2B Input Climat Scen. Freight'!F$148:F$169,'2B Input Climat Scen. Freight'!$B$148:$B$169,'4B Calcul. Climat Scen.'!$C421,'2B Input Climat Scen. Freight'!$C$148:$C$169,'4B Calcul. Climat Scen.'!$E421),SUMIFS('2B Input Climat Scen. Freight'!L$148:L$169,'2B Input Climat Scen. Freight'!$B$148:$B$169,'4B Calcul. Climat Scen.'!$C421,'2B Input Climat Scen. Freight'!$C$148:$C$169,'4B Calcul. Climat Scen.'!$E421))","v":0},{"$f":"IF('2B Input Climat Scen. Freight'!M164=\"\",SUMIFS('2B Input Climat Scen. Freight'!G$148:G$169,'2B Input Climat Scen. Freight'!$B$148:$B$169,'4B Calcul. Climat Scen.'!$C421,'2B Input Climat Scen. Freight'!$C$148:$C$169,'4B Calcul. Climat Scen.'!$E421),SUMIFS('2B Input Climat Scen. Freight'!M$148:M$169,'2B Input Climat Scen. Freight'!$B$148:$B$169,'4B Calcul. Climat Scen.'!$C421,'2B Input Climat Scen. Freight'!$C$148:$C$169,'4B Calcul. Climat Scen.'!$E421))","v":0},{"$f":"IF('2B Input Climat Scen. Freight'!N164=\"\",SUMIFS('2B Input Climat Scen. Freight'!H$148:H$169,'2B Input Climat Scen. Freight'!$B$148:$B$169,'4B Calcul. Climat Scen.'!$C421,'2B Input Climat Scen. Freight'!$C$148:$C$169,'4B Calcul. Climat Scen.'!$E421),SUMIFS('2B Input Climat Scen. Freight'!N$148:N$169,'2B Input Climat Scen. Freight'!$B$148:$B$169,'4B Calcul. Climat Scen.'!$C421,'2B Input Climat Scen. Freight'!$C$148:$C$169,'4B Calcul. Climat Scen.'!$E421))","v":0},null,0,0,0,0,0,0,null,0,{"$f":"N421*G421/100","v":0},{"$f":"O421*H421/100","v":0},{"$f":"P421*I421/100","v":0},{"$f":"Q421*J421/100","v":0},{"$f":"R421*K421/100","v":0},null,0,{"$f":"U421*SUMIFS('4A Calcul. BAU city'!$V$13:$V$61,'4A Calcul. BAU city'!$C$13:$C$61,'4B Calcul. Climat Scen.'!$C360,'4A Calcul. BAU city'!$E$13:$E$61,'4B Calcul. Climat Scen.'!$E360)","v":0},{"$f":"V421*SUMIFS('4A Calcul. BAU city'!$V$13:$V$61,'4A Calcul. BAU city'!$C$13:$C$61,'4B Calcul. Climat Scen.'!$C360,'4A Calcul. BAU city'!$E$13:$E$61,'4B Calcul. Climat Scen.'!$E360)","v":0},{"$f":"W421*SUMIFS('4A Calcul. BAU city'!$V$13:$V$61,'4A Calcul. BAU city'!$C$13:$C$61,'4B Calcul. Climat Scen.'!$C360,'4A Calcul. BAU city'!$E$13:$E$61,'4B Calcul. Climat Scen.'!$E360)","v":0},{"$f":"X421*SUMIFS('4A Calcul. BAU city'!$V$13:$V$61,'4A Calcul. BAU city'!$C$13:$C$61,'4B Calcul. Climat Scen.'!$C360,'4A Calcul. BAU city'!$E$13:$E$61,'4B Calcul. Climat Scen.'!$E360)","v":0},{"$f":"Y421*SUMIFS('4A Calcul. BAU city'!$V$13:$V$61,'4A Calcul. BAU city'!$C$13:$C$61,'4B Calcul. Climat Scen.'!$C360,'4A Calcul. BAU city'!$E$13:$E$61,'4B Calcul. Climat Scen.'!$E360)","v":0},null,{"$f":"INDEX('6 Defaults parameters'!$T$9:$Y$18,MATCH($D421,'6 Defaults parameters'!$B$9:$B$18,0),MATCH(AH$313,'6 Defaults parameters'!$T$8:$Y$8,0))*AA421/10^6","v":0},{"$f":"INDEX('6 Defaults parameters'!$T$9:$Y$18,MATCH($D421,'6 Defaults parameters'!$B$9:$B$18,0),MATCH(AI$313,'6 Defaults parameters'!$T$8:$Y$8,0))*AB421/10^6","v":0},{"$f":"INDEX('6 Defaults parameters'!$T$9:$Y$18,MATCH($D421,'6 Defaults parameters'!$B$9:$B$18,0),MATCH(AJ$313,'6 Defaults parameters'!$T$8:$Y$8,0))*AC421/10^6","v":0},{"$f":"INDEX('6 Defaults parameters'!$T$9:$Y$18,MATCH($D421,'6 Defaults parameters'!$B$9:$B$18,0),MATCH(AK$313,'6 Defaults parameters'!$T$8:$Y$8,0))*AD421/10^6","v":0},{"$f":"INDEX('6 Defaults parameters'!$T$9:$Y$18,MATCH($D421,'6 Defaults parameters'!$B$9:$B$18,0),MATCH(AL$313,'6 Defaults parameters'!$T$8:$Y$8,0))*AE421/10^6","v":0},{"$f":"INDEX('6 Defaults parameters'!$T$9:$Y$18,MATCH($D421,'6 Defaults parameters'!$B$9:$B$18,0),MATCH(AM$313,'6 Defaults parameters'!$T$8:$Y$8,0))*AF421/10^6","v":0}]
[null,"Scenario 3)",{"$f":"Atruck","v":"Articulated truck"},{"$f":"Roadelec","v":"Road - Electric"},{"$f":"Electric","v":"Electric"},{"$f":"SUMIFS('4A Calcul. BAU city'!O$13:O$61,'4A Calcul. BAU city'!$C$13:$C$61,'4B Calcul. Climat Scen.'!$C422,'4A Calcul. BAU city'!$E$13:$E$61,'4B Calcul. Climat Scen.'!$E422)","v":0},{"$f":"IF('2B Input Climat Scen. Freight'!J165=\"\",SUMIFS('2B Input Climat Scen. Freight'!D$148:D$169,'2B Input Climat Scen. Freight'!$B$148:$B$169,'4B Calcul. Climat Scen.'!$C422,'2B Input Climat Scen. Freight'!$C$148:$C$169,'4B Calcul. Climat Scen.'!$E422),SUMIFS('2B Input Climat Scen. Freight'!J$148:J$169,'2B Input Climat Scen. Freight'!$B$148:$B$169,'4B Calcul. Climat Scen.'!$C422,'2B Input Climat Scen. Freight'!$C$148:$C$169,'4B Calcul. Climat Scen.'!$E422))","v":0},{"$f":"IF('2B Input Climat Scen. Freight'!K165=\"\",SUMIFS('2B Input Climat Scen. Freight'!E$148:E$169,'2B Input Climat Scen. Freight'!$B$148:$B$169,'4B Calcul. Climat Scen.'!$C422,'2B Input Climat Scen. Freight'!$C$148:$C$169,'4B Calcul. Climat Scen.'!$E422),SUMIFS('2B Input Climat Scen. Freight'!K$148:K$169,'2B Input Climat Scen. Freight'!$B$148:$B$169,'4B Calcul. Climat Scen.'!$C422,'2B Input Climat Scen. Freight'!$C$148:$C$169,'4B Calcul. Climat Scen.'!$E422))","v":0},{"$f":"IF('2B Input Climat Scen. Freight'!L165=\"\",SUMIFS('2B Input Climat Scen. Freight'!F$148:F$169,'2B Input Climat Scen. Freight'!$B$148:$B$169,'4B Calcul. Climat Scen.'!$C422,'2B Input Climat Scen. Freight'!$C$148:$C$169,'4B Calcul. Climat Scen.'!$E422),SUMIFS('2B Input Climat Scen. Freight'!L$148:L$169,'2B Input Climat Scen. Freight'!$B$148:$B$169,'4B Calcul. Climat Scen.'!$C422,'2B Input Climat Scen. Freight'!$C$148:$C$169,'4B Calcul. Climat Scen.'!$E422))","v":0},{"$f":"IF('2B Input Climat Scen. Freight'!M165=\"\",SUMIFS('2B Input Climat Scen. Freight'!G$148:G$169,'2B Input Climat Scen. Freight'!$B$148:$B$169,'4B Calcul. Climat Scen.'!$C422,'2B Input Climat Scen. Freight'!$C$148:$C$169,'4B Calcul. Climat Scen.'!$E422),SUMIFS('2B Input Climat Scen. Freight'!M$148:M$169,'2B Input Climat Scen. Freight'!$B$148:$B$169,'4B Calcul. Climat Scen.'!$C422,'2B Input Climat Scen. Freight'!$C$148:$C$169,'4B Calcul. Climat Scen.'!$E422))","v":0},{"$f":"IF('2B Input Climat Scen. Freight'!N165=\"\",SUMIFS('2B Input Climat Scen. Freight'!H$148:H$169,'2B Input Climat Scen. Freight'!$B$148:$B$169,'4B Calcul. Climat Scen.'!$C422,'2B Input Climat Scen. Freight'!$C$148:$C$169,'4B Calcul. Climat Scen.'!$E422),SUMIFS('2B Input Climat Scen. Freight'!N$148:N$169,'2B Input Climat Scen. Freight'!$B$148:$B$169,'4B Calcul. Climat Scen.'!$C422,'2B Input Climat Scen. Freight'!$C$148:$C$169,'4B Calcul. Climat Scen.'!$E422))","v":0},null,0,0,0,0,0,0,null,0,0,0,0,0,0,null,0,{"$f":"U422*SUMIFS('4A Calcul. BAU city'!$V$13:$V$61,'4A Calcul. BAU city'!$C$13:$C$61,'4B Calcul. Climat Scen.'!$C361,'4A Calcul. BAU city'!$E$13:$E$61,'4B Calcul. Climat Scen.'!$E361)","v":0},{"$f":"V422*SUMIFS('4A Calcul. BAU city'!$V$13:$V$61,'4A Calcul. BAU city'!$C$13:$C$61,'4B Calcul. Climat Scen.'!$C361,'4A Calcul. BAU city'!$E$13:$E$61,'4B Calcul. Climat Scen.'!$E361)","v":0},{"$f":"W422*SUMIFS('4A Calcul. BAU city'!$V$13:$V$61,'4A Calcul. BAU city'!$C$13:$C$61,'4B Calcul. Climat Scen.'!$C361,'4A Calcul. BAU city'!$E$13:$E$61,'4B Calcul. Climat Scen.'!$E361)","v":0},{"$f":"X422*SUMIFS('4A Calcul. BAU city'!$V$13:$V$61,'4A Calcul. BAU city'!$C$13:$C$61,'4B Calcul. Climat Scen.'!$C361,'4A Calcul. BAU city'!$E$13:$E$61,'4B Calcul. Climat Scen.'!$E361)","v":0},{"$f":"Y422*SUMIFS('4A Calcul. BAU city'!$V$13:$V$61,'4A Calcul. BAU city'!$C$13:$C$61,'4B Calcul. Climat Scen.'!$C361,'4A Calcul. BAU city'!$E$13:$E$61,'4B Calcul. Climat Scen.'!$E361)","v":0},null,{"$f":"INDEX('6 Defaults parameters'!$T$9:$Y$18,MATCH($D422,'6 Defaults parameters'!$B$9:$B$18,0),MATCH(AH$313,'6 Defaults parameters'!$T$8:$Y$8,0))*AA422/10^6","v":0},{"$f":"INDEX('6 Defaults parameters'!$T$9:$Y$18,MATCH($D422,'6 Defaults parameters'!$B$9:$B$18,0),MATCH(AI$313,'6 Defaults parameters'!$T$8:$Y$8,0))*AB422/10^6","v":0},{"$f":"INDEX('6 Defaults parameters'!$T$9:$Y$18,MATCH($D422,'6 Defaults parameters'!$B$9:$B$18,0),MATCH(AJ$313,'6 Defaults parameters'!$T$8:$Y$8,0))*AC422/10^6","v":0},{"$f":"INDEX('6 Defaults parameters'!$T$9:$Y$18,MATCH($D422,'6 Defaults parameters'!$B$9:$B$18,0),MATCH(AK$313,'6 Defaults parameters'!$T$8:$Y$8,0))*AD422/10^6","v":0},{"$f":"INDEX('6 Defaults parameters'!$T$9:$Y$18,MATCH($D422,'6 Defaults parameters'!$B$9:$B$18,0),MATCH(AL$313,'6 Defaults parameters'!$T$8:$Y$8,0))*AE422/10^6","v":0},{"$f":"INDEX('6 Defaults parameters'!$T$9:$Y$18,MATCH($D422,'6 Defaults parameters'!$B$9:$B$18,0),MATCH(AM$313,'6 Defaults parameters'!$T$8:$Y$8,0))*AF422/10^6","v":0}]
[null,"Scenario 3)",{"$f":"Ftrain","v":"Freight train"},{"$f":"RailD","v":"Rail - Diesel"},{"$f":"Diesel","v":"Diesel"},{"$f":"SUMIFS('4A Calcul. BAU city'!O$13:O$61,'4A Calcul. BAU city'!$C$13:$C$61,'4B Calcul. Climat Scen.'!$C423,'4A Calcul. BAU city'!$E$13:$E$61,'4B Calcul. Climat Scen.'!$E423)","v":0},{"$f":"IF('2B Input Climat Scen. Freight'!J167=\"\",SUMIFS('2B Input Climat Scen. Freight'!D$148:D$169,'2B Input Climat Scen. Freight'!$B$148:$B$169,'4B Calcul. Climat Scen.'!$C423,'2B Input Climat Scen. Freight'!$C$148:$C$169,'4B Calcul. Climat Scen.'!$E423),SUMIFS('2B Input Climat Scen. Freight'!J$148:J$169,'2B Input Climat Scen. Freight'!$B$148:$B$169,'4B Calcul. Climat Scen.'!$C423,'2B Input Climat Scen. Freight'!$C$148:$C$169,'4B Calcul. Climat Scen.'!$E423))","v":0},{"$f":"IF('2B Input Climat Scen. Freight'!K167=\"\",SUMIFS('2B Input Climat Scen. Freight'!E$148:E$169,'2B Input Climat Scen. Freight'!$B$148:$B$169,'4B Calcul. Climat Scen.'!$C423,'2B Input Climat Scen. Freight'!$C$148:$C$169,'4B Calcul. Climat Scen.'!$E423),SUMIFS('2B Input Climat Scen. Freight'!K$148:K$169,'2B Input Climat Scen. Freight'!$B$148:$B$169,'4B Calcul. Climat Scen.'!$C423,'2B Input Climat Scen. Freight'!$C$148:$C$169,'4B Calcul. Climat Scen.'!$E423))","v":0},{"$f":"IF('2B Input Climat Scen. Freight'!L167=\"\",SUMIFS('2B Input Climat Scen. Freight'!F$148:F$169,'2B Input Climat Scen. Freight'!$B$148:$B$169,'4B Calcul. Climat Scen.'!$C423,'2B Input Climat Scen. Freight'!$C$148:$C$169,'4B Calcul. Climat Scen.'!$E423),SUMIFS('2B Input Climat Scen. Freight'!L$148:L$169,'2B Input Climat Scen. Freight'!$B$148:$B$169,'4B Calcul. Climat Scen.'!$C423,'2B Input Climat Scen. Freight'!$C$148:$C$169,'4B Calcul. Climat Scen.'!$E423))","v":0},{"$f":"IF('2B Input Climat Scen. Freight'!M167=\"\",SUMIFS('2B Input Climat Scen. Freight'!G$148:G$169,'2B Input Climat Scen. Freight'!$B$148:$B$169,'4B Calcul. Climat Scen.'!$C423,'2B Input Climat Scen. Freight'!$C$148:$C$169,'4B Calcul. Climat Scen.'!$E423),SUMIFS('2B Input Climat Scen. Freight'!M$148:M$169,'2B Input Climat Scen. Freight'!$B$148:$B$169,'4B Calcul. Climat Scen.'!$C423,'2B Input Climat Scen. Freight'!$C$148:$C$169,'4B Calcul. Climat Scen.'!$E423))","v":0},{"$f":"IF('2B Input Climat Scen. Freight'!N167=\"\",SUMIFS('2B Input Climat Scen. Freight'!H$148:H$169,'2B Input Climat Scen. Freight'!$B$148:$B$169,'4B Calcul. Climat Scen.'!$C423,'2B Input Climat Scen. Freight'!$C$148:$C$169,'4B Calcul. Climat Scen.'!$E423),SUMIFS('2B Input Climat Scen. Freight'!N$148:N$169,'2B Input Climat Scen. Freight'!$B$148:$B$169,'4B Calcul. Climat Scen.'!$C423,'2B Input Climat Scen. Freight'!$C$148:$C$169,'4B Calcul. Climat Scen.'!$E423))","v":0},null,0,0,0,0,0,0,null,{"$f":"M423*F423/100","v":0},0,0,0,0,0,null,0,{"$f":"U423*SUMIFS('4A Calcul. BAU city'!$V$13:$V$61,'4A Calcul. BAU city'!$C$13:$C$61,'4B Calcul. Climat Scen.'!$C362,'4A Calcul. BAU city'!$E$13:$E$61,'4B Calcul. Climat Scen.'!$E362)","v":0},{"$f":"V423*SUMIFS('4A Calcul. BAU city'!$V$13:$V$61,'4A Calcul. BAU city'!$C$13:$C$61,'4B Calcul. Climat Scen.'!$C362,'4A Calcul. BAU city'!$E$13:$E$61,'4B Calcul. Climat Scen.'!$E362)","v":0},{"$f":"W423*SUMIFS('4A Calcul. BAU city'!$V$13:$V$61,'4A Calcul. BAU city'!$C$13:$C$61,'4B Calcul. Climat Scen.'!$C362,'4A Calcul. BAU city'!$E$13:$E$61,'4B Calcul. Climat Scen.'!$E362)","v":0},{"$f":"X423*SUMIFS('4A Calcul. BAU city'!$V$13:$V$61,'4A Calcul. BAU city'!$C$13:$C$61,'4B Calcul. Climat Scen.'!$C362,'4A Calcul. BAU city'!$E$13:$E$61,'4B Calcul. Climat Scen.'!$E362)","v":0},{"$f":"Y423*SUMIFS('4A Calcul. BAU city'!$V$13:$V$61,'4A Calcul. BAU city'!$C$13:$C$61,'4B Calcul. Climat Scen.'!$C362,'4A Calcul. BAU city'!$E$13:$E$61,'4B Calcul. Climat Scen.'!$E362)","v":0},null,{"$f":"INDEX('6 Defaults parameters'!$T$9:$Y$18,MATCH($D423,'6 Defaults parameters'!$B$9:$B$18,0),MATCH(AH$313,'6 Defaults parameters'!$T$8:$Y$8,0))*AA423/10^6","v":0},{"$f":"INDEX('6 Defaults parameters'!$T$9:$Y$18,MATCH($D423,'6 Defaults parameters'!$B$9:$B$18,0),MATCH(AI$313,'6 Defaults parameters'!$T$8:$Y$8,0))*AB423/10^6","v":0},{"$f":"INDEX('6 Defaults parameters'!$T$9:$Y$18,MATCH($D423,'6 Defaults parameters'!$B$9:$B$18,0),MATCH(AJ$313,'6 Defaults parameters'!$T$8:$Y$8,0))*AC423/10^6","v":0},{"$f":"INDEX('6 Defaults parameters'!$T$9:$Y$18,MATCH($D423,'6 Defaults parameters'!$B$9:$B$18,0),MATCH(AK$313,'6 Defaults parameters'!$T$8:$Y$8,0))*AD423/10^6","v":0},{"$f":"INDEX('6 Defaults parameters'!$T$9:$Y$18,MATCH($D423,'6 Defaults parameters'!$B$9:$B$18,0),MATCH(AL$313,'6 Defaults parameters'!$T$8:$Y$8,0))*AE423/10^6","v":0},{"$f":"INDEX('6 Defaults parameters'!$T$9:$Y$18,MATCH($D423,'6 Defaults parameters'!$B$9:$B$18,0),MATCH(AM$313,'6 Defaults parameters'!$T$8:$Y$8,0))*AF423/10^6","v":0}]
[null,"Scenario 3)",{"$f":"Ftrain","v":"Freight train"},{"$f":"RailElec","v":"Rail - Electric"},{"$f":"Electric","v":"Electric"},{"$f":"SUMIFS('4A Calcul. BAU city'!O$13:O$61,'4A Calcul. BAU city'!$C$13:$C$61,'4B Calcul. Climat Scen.'!$C424,'4A Calcul. BAU city'!$E$13:$E$61,'4B Calcul. Climat Scen.'!$E424)","v":0},{"$f":"IF('2B Input Climat Scen. Freight'!J168=\"\",SUMIFS('2B Input Climat Scen. Freight'!D$148:D$169,'2B Input Climat Scen. Freight'!$B$148:$B$169,'4B Calcul. Climat Scen.'!$C424,'2B Input Climat Scen. Freight'!$C$148:$C$169,'4B Calcul. Climat Scen.'!$E424),SUMIFS('2B Input Climat Scen. Freight'!J$148:J$169,'2B Input Climat Scen. Freight'!$B$148:$B$169,'4B Calcul. Climat Scen.'!$C424,'2B Input Climat Scen. Freight'!$C$148:$C$169,'4B Calcul. Climat Scen.'!$E424))","v":0},{"$f":"IF('2B Input Climat Scen. Freight'!K168=\"\",SUMIFS('2B Input Climat Scen. Freight'!E$148:E$169,'2B Input Climat Scen. Freight'!$B$148:$B$169,'4B Calcul. Climat Scen.'!$C424,'2B Input Climat Scen. Freight'!$C$148:$C$169,'4B Calcul. Climat Scen.'!$E424),SUMIFS('2B Input Climat Scen. Freight'!K$148:K$169,'2B Input Climat Scen. Freight'!$B$148:$B$169,'4B Calcul. Climat Scen.'!$C424,'2B Input Climat Scen. Freight'!$C$148:$C$169,'4B Calcul. Climat Scen.'!$E424))","v":0},{"$f":"IF('2B Input Climat Scen. Freight'!L168=\"\",SUMIFS('2B Input Climat Scen. Freight'!F$148:F$169,'2B Input Climat Scen. Freight'!$B$148:$B$169,'4B Calcul. Climat Scen.'!$C424,'2B Input Climat Scen. Freight'!$C$148:$C$169,'4B Calcul. Climat Scen.'!$E424),SUMIFS('2B Input Climat Scen. Freight'!L$148:L$169,'2B Input Climat Scen. Freight'!$B$148:$B$169,'4B Calcul. Climat Scen.'!$C424,'2B Input Climat Scen. Freight'!$C$148:$C$169,'4B Calcul. Climat Scen.'!$E424))","v":0},{"$f":"IF('2B Input Climat Scen. Freight'!M168=\"\",SUMIFS('2B Input Climat Scen. Freight'!G$148:G$169,'2B Input Climat Scen. Freight'!$B$148:$B$169,'4B Calcul. Climat Scen.'!$C424,'2B Input Climat Scen. Freight'!$C$148:$C$169,'4B Calcul. Climat Scen.'!$E424),SUMIFS('2B Input Climat Scen. Freight'!M$148:M$169,'2B Input Climat Scen. Freight'!$B$148:$B$169,'4B Calcul. Climat Scen.'!$C424,'2B Input Climat Scen. Freight'!$C$148:$C$169,'4B Calcul. Climat Scen.'!$E424))","v":0},{"$f":"IF('2B Input Climat Scen. Freight'!N168=\"\",SUMIFS('2B Input Climat Scen. Freight'!H$148:H$169,'2B Input Climat Scen. Freight'!$B$148:$B$169,'4B Calcul. Climat Scen.'!$C424,'2B Input Climat Scen. Freight'!$C$148:$C$169,'4B Calcul. Climat Scen.'!$E424),SUMIFS('2B Input Climat Scen. Freight'!N$148:N$169,'2B Input Climat Scen. Freight'!$B$148:$B$169,'4B Calcul. Climat Scen.'!$C424,'2B Input Climat Scen. Freight'!$C$148:$C$169,'4B Calcul. Climat Scen.'!$E424))","v":0},null,0,0,0,0,0,0,null,{"$f":"M424*F424/100","v":0},0,0,0,0,0,null,0,{"$f":"U424*SUMIFS('4A Calcul. BAU city'!$V$13:$V$61,'4A Calcul. BAU city'!$C$13:$C$61,'4B Calcul. Climat Scen.'!$C363,'4A Calcul. BAU city'!$E$13:$E$61,'4B Calcul. Climat Scen.'!$E363)","v":0},{"$f":"V424*SUMIFS('4A Calcul. BAU city'!$V$13:$V$61,'4A Calcul. BAU city'!$C$13:$C$61,'4B Calcul. Climat Scen.'!$C363,'4A Calcul. BAU city'!$E$13:$E$61,'4B Calcul. Climat Scen.'!$E363)","v":0},{"$f":"W424*SUMIFS('4A Calcul. BAU city'!$V$13:$V$61,'4A Calcul. BAU city'!$C$13:$C$61,'4B Calcul. Climat Scen.'!$C363,'4A Calcul. BAU city'!$E$13:$E$61,'4B Calcul. Climat Scen.'!$E363)","v":0},{"$f":"X424*SUMIFS('4A Calcul. BAU city'!$V$13:$V$61,'4A Calcul. BAU city'!$C$13:$C$61,'4B Calcul. Climat Scen.'!$C363,'4A Calcul. BAU city'!$E$13:$E$61,'4B Calcul. Climat Scen.'!$E363)","v":0},{"$f":"Y424*SUMIFS('4A Calcul. BAU city'!$V$13:$V$61,'4A Calcul. BAU city'!$C$13:$C$61,'4B Calcul. Climat Scen.'!$C363,'4A Calcul. BAU city'!$E$13:$E$61,'4B Calcul. Climat Scen.'!$E363)","v":0},null,{"$f":"INDEX('6 Defaults parameters'!$T$9:$Y$18,MATCH($D424,'6 Defaults parameters'!$B$9:$B$18,0),MATCH(AH$313,'6 Defaults parameters'!$T$8:$Y$8,0))*AA424/10^6","v":0},{"$f":"INDEX('6 Defaults parameters'!$T$9:$Y$18,MATCH($D424,'6 Defaults parameters'!$B$9:$B$18,0),MATCH(AI$313,'6 Defaults parameters'!$T$8:$Y$8,0))*AB424/10^6","v":0},{"$f":"INDEX('6 Defaults parameters'!$T$9:$Y$18,MATCH($D424,'6 Defaults parameters'!$B$9:$B$18,0),MATCH(AJ$313,'6 Defaults parameters'!$T$8:$Y$8,0))*AC424/10^6","v":0},{"$f":"INDEX('6 Defaults parameters'!$T$9:$Y$18,MATCH($D424,'6 Defaults parameters'!$B$9:$B$18,0),MATCH(AK$313,'6 Defaults parameters'!$T$8:$Y$8,0))*AD424/10^6","v":0},{"$f":"INDEX('6 Defaults parameters'!$T$9:$Y$18,MATCH($D424,'6 Defaults parameters'!$B$9:$B$18,0),MATCH(AL$313,'6 Defaults parameters'!$T$8:$Y$8,0))*AE424/10^6","v":0},{"$f":"INDEX('6 Defaults parameters'!$T$9:$Y$18,MATCH($D424,'6 Defaults parameters'!$B$9:$B$18,0),MATCH(AM$313,'6 Defaults parameters'!$T$8:$Y$8,0))*AF424/10^6","v":0}]
[]
[null,{"$f":"Scen3","v":"Scenario 3)"},{"$f":"totalindividualtransport","v":"Total individual transport"},{"$f":"all","v":"all"},"all",null,null,null,null,null,null,null,{"$f":"SUM(M375:M390)","v":0},0,0,0,0,0,null,{"$f":"SUM(T375:T390)","v":0},0,0,0,0,0,null,{"$f":"SUM(AA375:AA390)","v":0},0,0,0,0,0,null,{"$f":"SUM(AH375:AH390)","v":0},0,0,0,0,0]
[null,{"$f":"Scen3","v":"Scenario 3)"},{"$f":"totalpublictransport","v":"Total public transport"},"all","all",null,null,null,null,null,null,null,{"$f":"SUM(M391:M408)","v":0},0,0,0,0,0,null,{"$f":"SUM(T391:T408)","v":0},0,0,0,0,0,null,{"$f":"SUM(AA391:AA408)","v":0},0,0,0,0,0,null,{"$f":"SUM(AH391:AH408)","v":0},0,0,0,0,0]
[null,{"$f":"Scen3","v":"Scenario 3)"},{"$f":"Passtrans","v":"Passenger transportation"},"all","all",null,null,null,null,null,null,null,{"$f":"M426+M427","v":0},{"$f":"N426+N427","v":0},0,0,0,0,null,{"$f":"T426+T427","v":0},{"$f":"U426+U427","v":0},{"$f":"V426+V427","v":0},0,0,0,null,{"$f":"AA426+AA427","v":0},{"$f":"AB426+AB427","v":0},{"$f":"AC426+AC427","v":0},{"$f":"AD426+AD427","v":0},{"$f":"AE426+AE427","v":0},{"$f":"AF426+AF427","v":0},null,{"$f":"AH426+AH427","v":0},{"$f":"AI426+AI427","v":0},{"$f":"AJ426+AJ427","v":0},{"$f":"AK426+AK427","v":0},{"$f":"AL426+AL427","v":0},{"$f":"AM426+AM427","v":0}]
[null,{"$f":"Scen3","v":"Scenario 3)"},{"$f":"Freighttrans","v":"Freight transportation"},{"$f":"all","v":"all"},"all",null,null,null,null,null,null,null,{"$f":"SUM(M409:M424)","v":0},0,0,0,0,0,null,{"$f":"SUM(T409:T424)","v":0},{"$f":"SUM(U409:U424)","v":0},0,0,0,0,null,{"$f":"SUM(AA409:AA424)","v":0},{"$f":"SUM(AB409:AB424)","v":0},0,0,0,0,null,{"$f":"SUM(AH409:AH424)","v":0},{"$f":"SUM(AI409:AI424)","v":0},0,0,0,0]
[null,{"$f":"Scen3","v":"Scenario 3)"},{"$f":"all","v":"all"},"all","all",null,null,null,null,null,null,null,{"$f":"M429+M428","v":0},{"$f":"N429+N428","v":0},0,0,0,0,null,{"$f":"T429+T428","v":0},{"$f":"U429+U428","v":0},0,0,0,0,null,{"$f":"AA429+AA428","v":0},0,0,0,0,0,null,{"$f":"AH429+AH428","v":0},0,0,0,0,0]

{"sheet":"5 Default values","index":8,"n_rows":162,"n_cols":13,"rows_kept":162,"cut":false,"hidden":false,"merged":[[158,0,158,1],[161,0,161,1],[161,2,161,7],[105,8,105,12],[31,0,31,1],[102,2,102,7],[156,0,156,1],[156,2,156,12],[102,0,102,1],[36,2,36,7],[35,2,35,7],[105,0,106,0],[105,1,106,1],[105,2,105,7],[4,0,4,1],[13,0,14,0],[7,2,7,22],[8,2,8,22],[35,0,37,0],[35,1,37,1],[9,2,9,22],[13,1,14,1]]}
[{"$f":"Tab","v":"Tab"}]
[{"$f":"subsector","v":"Sub-sector"},{"$f":"Roadandrail","v":"Road and rail"}]
[{"$f":"Candc","v":"Country and city"},{"$f":"'Get started'!C6","v":"xx"}]
[{"$f":"yearref","v":"Reference year"},{"$f":"'Get started'!C7","v":0}]
[]
[]
[]
[null,null,{"$f":"Text17","v":"4. Default values"}]
[null,null,{"$f":"text91","v":"If you are a country and you stipulated it in the \"Get Started\" sheet, default values are shown below. These data can be forwaded to cities within your country and/or to the MYC Secretariat in order to be used as defaults."}]
[null,null,{"$f":"text92","v":"If you are  a city, get in contact with MYC to ask, if your country has already filled in the tool and get the tab \"5. Default value\" from the national tool and copy directly the data into this sheet (easy copy paste). They will appear automatically in 1A Input Base and BAU if you stippulated that you are a city in \"Get started\". "}]
[]
[{"$f":"Descri19","v":" 3.i) Load, occupancy and average trip length"}]
[]
[{"$f":"Subcategory","v":"Subcategory"},{"$f":"Unit","v":"Unit"},{"$f":"Values","v":"Values"}]
[null,null,{"$f":"default","v":"default values"}]
[{"$f":"NMV","v":"NMT"},{"$f":"Pass","v":"Passengers"},{"$f":"IF('Get started'!$B$6=Referencing!$B$377,\"\",'1A Input Base and BAU'!D74)","v":""}]
[{"$f":"Pcar","v":"Private car"},"Passengers",{"$f":"IF('Get started'!$B$6=Referencing!$B$377,\"\",'1A Input Base and BAU'!D75)","v":""}]
[{"$f":"Itaxi","v":"Individual taxi"},"Passengers",{"$f":"IF('Get started'!$B$6=Referencing!$B$377,\"\",'1A Input Base and BAU'!D76)","v":""}]
[{"$f":"Motorcycle","v":"Motorcycle"},{"$f":"Pass","v":"Passengers"},{"$f":"IF('Get started'!$B$6=Referencing!$B$377,\"\",'1A Input Base and BAU'!D77)","v":""}]
[{"$f":"Mototaxi","v":"Motorcycle taxi"},"Passengers",{"$f":"IF('Get started'!$B$6=Referencing!$B$377,\"\",'1A Input Base and BAU'!D78)","v":""}]
[{"$f":"Minibus","v":"Minibus"},"Passengers",{"$f":"IF('Get started'!$B$6=Referencing!$B$377,\"\",'1A Input Base and BAU'!D79)","v":""}]
[{"$f":"Bus","v":"Bus"},"Passengers",{"$f":"IF('Get started'!$B$6=Referencing!$B$377,\"\",'1A Input Base and BAU'!D80)","v":""}]
[{"$f":"BRT","v":"BRT"},{"$f":"Pass","v":"Passengers"},{"$f":"IF('Get started'!$B$6=Referencing!$B$377,\"\",'1A Input Base and BAU'!D81)","v":""}]
[{"$f":"Train","v":"Long distance train"},{"$f":"Pass","v":"Passengers"},{"$f":"IF('Get started'!$B$6=Referencing!$B$377,\"\",'1A Input Base and BAU'!D82)","v":""}]
[{"$f":"Utrain","v":"Urban train"},{"$f":"Pass","v":"Passengers"},{"$f":"IF('Get started'!$B$6=Referencing!$B$377,\"\",'1A Input Base and BAU'!D83)","v":""}]
[{"$f":"Metro","v":"Metro"},{"$f":"Pass","v":"Passengers"},{"$f":"IF('Get started'!$B$6=Referencing!$B$377,\"\",'1A Input Base and BAU'!D84)","v":""}]
[{"$f":"lightLCV","v":"Very light LCV"},{"$f":"ton","v":"load: tons/vehicle"},{"$f":"IF('Get started'!$B$6=Referencing!$B$377,\"\",'1A Input Base and BAU'!D85)","v":""}]
[{"$f":"LCV","v":"LCV"},"load: tons/vehicle",{"$f":"IF('Get started'!$B$6=Referencing!$B$377,\"\",'1A Input Base and BAU'!D86)","v":""}]
[{"$f":"Solo","v":"Solo truck"},"load: tons/vehicle",{"$f":"IF('Get started'!$B$6=Referencing!$B$377,\"\",'1A Input Base and BAU'!D87)","v":""}]
[{"$f":"Atruck","v":"Articulated truck"},"load: tons/vehicle",{"$f":"IF('Get started'!$B$6=Referencing!$B$377,\"\",'1A Input Base and BAU'!D88)","v":""}]
[{"$f":"Ftrain","v":"Freight train"},"load: tons/vehicle",{"$f":"IF('Get started'!$B$6=Referencing!$B$377,\"\",'1A Input Base and BAU'!D89)","v":""}]
[{"$f":"Source","v":"Source"},null,{"$f":"IF('Get started'!$B$6=Referencing!$B$385,\"\",'Get started'!$C$6)","v":"xx"}]
[]
[{"$f":"Descri21","v":"3.ii) Vehicle kilometers travelled breakdown by fuel type"}]
[]
[{"$f":"Subcategory","v":"Subcategory"},{"$f":"Fuel","v":"Fuel type"},{"$f":"Mileagecat","v":"Vehicle kilometers travelled (vkt) by category [%]"}]
[null,null,{"$f":"default","v":"default values"}]
[null,null,{"$f":"$B$3","v":"xx"},2020,2025,2030,2040,2050]
[{"$f":"'1A Input Base and BAU'!B100","v":"NMT"},{"$f":"'1A Input Base and BAU'!C100","v":"n.d."},{"$f":"IF('Get started'!$B$6=Referencing!$B$377,\"\",'1A Input Base and BAU'!D100)","v":""},{"$f":"IF('Get started'!$B$6=Referencing!$B$377,\"\",'1A Input Base and BAU'!E100)","v":""},{"$f":"IF('Get started'!$B$6=Referencing!$B$377,\"\",'1A Input Base and BAU'!F100)","v":""},{"$f":"IF('Get started'!$B$6=Referencing!$B$377,\"\",'1A Input Base and BAU'!G100)","v":""},{"$f":"IF('Get started'!$B$6=Referencing!$B$377,\"\",'1A Input Base and BAU'!H100)","v":""},{"$f":"IF('Get started'!$B$6=Referencing!$B$377,\"\",'1A Input Base and BAU'!I100)","v":""}]
[{"$f":"'1A Input Base and BAU'!B101","v":"Private car"},{"$f":"'1A Input Base and BAU'!C101","v":"all"},{"$f":"IF('Get started'!$B$6=Referencing!$B$377,\"\",'1A Input Base and BAU'!D101)","v":""},{"$f":"IF('Get started'!$B$6=Referencing!$B$377,\"\",'1A Input Base and BAU'!E101)","v":""},{"$f":"IF('Get started'!$B$6=Referencing!$B$377,\"\",'1A Input Base and BAU'!F101)","v":""},{"$f":"IF('Get started'!$B$6=Referencing!$B$377,\"\",'1A Input Base and BAU'!G101)","v":""},{"$f":"IF('Get started'!$B$6=Referencing!$B$377,\"\",'1A Input Base and BAU'!H101)","v":""},{"$f":"IF('Get started'!$B$6=Referencing!$B$377,\"\",'1A Input Base and BAU'!I101)","v":""}]
[{"$f":"'1A Input Base and BAU'!B102","v":"Private car"},{"$f":"'1A Input Base and BAU'!C102","v":"Gasoline"},{"$f":"IF('Get started'!$B$6=Referencing!$B$377,\"\",'1A Input Base and BAU'!D102)","v":""},{"$f":"IF('Get started'!$B$6=Referencing!$B$377,\"\",'1A Input Base and BAU'!E102)","v":""},{"$f":"IF('Get started'!$B$6=Referencing!$B$377,\"\",'1A Input Base and BAU'!F102)","v":""},{"$f":"IF('Get started'!$B$6=Referencing!$B$377,\"\",'1A Input Base and BAU'!G102)","v":""},{"$f":"IF('Get started'!$B$6=Referencing!$B$377,\"\",'1A Input Base and BAU'!H102)","v":""},{"$f":"IF('Get started'!$B$6=Referencing!$B$377,\"\",'1A Input Base and BAU'!I102)","v":""}]
[{"$f":"'1A Input Base and BAU'!B103","v":"Private car"},{"$f":"'1A Input Base and BAU'!C103","v":"Diesel"},{"$f":"IF('Get started'!$B$6=Referencing!$B$377,\"\",'1A Input Base and BAU'!D103)","v":""},{"$f":"IF('Get started'!$B$6=Referencing!$B$377,\"\",'1A Input Base and BAU'!E103)","v":""},{"$f":"IF('Get started'!$B$6=Referencing!$B$377,\"\",'1A Input Base and BAU'!F103)","v":""},{"$f":"IF('Get started'!$B$6=Referencing!$B$377,\"\",'1A Input Base and BAU'!G103)","v":""},{"$f":"IF('Get started'!$B$6=Referencing!$B$377,\"\",'1A Input Base and BAU'!H103)","v":""},{"$f":"IF('Get started'!$B$6=Referencing!$B$377,\"\",'1A Input Base and BAU'!I103)","v":""}]
[{"$f":"'1A Input Base and BAU'!B104","v":"Private car"},{"$f":"'1A Input Base and BAU'!C104","v":"LPG"},{"$f":"IF('Get started'!$B$6=Referencing!$B$377,\"\",'1A Input Base and BAU'!D104)","v":""},{"$f":"IF('Get started'!$B$6=Referencing!$B$377,\"\",'1A Input Base and BAU'!E104)","v":""},{"$f":"IF('Get started'!$B$6=Referencing!$B$377,\"\",'1A Input Base and BAU'!F104)","v":""},{"$f":"IF('Get started'!$B$6=Referencing!$B$377,\"\",'1A Input Base and BAU'!G104)","v":""},{"$f":"IF('Get started'!$B$6=Referencing!$B$377,\"\",'1A Input Base and BAU'!H104)","v":""},{"$f":"IF('Get started'!$B$6=Referencing!$B$377,\"\",'1A Input Base and BAU'!I104)","v":""}]
[{"$f":"'1A Input Base and BAU'!B105","v":"Private car"},{"$f":"'1A Input Base and BAU'!C105","v":"NG"},{"$f":"IF('Get started'!$B$6=Referencing!$B$377,\"\",'1A Input Base and BAU'!D105)","v":""},{"$f":"IF('Get started'!$B$6=Referencing!$B$377,\"\",'1A Input Base and BAU'!E105)","v":""},{"$f":"IF('Get started'!$B$6=Referencing!$B$377,\"\",'1A Input Base and BAU'!F105)","v":""},{"$f":"IF('Get started'!$B$6=Referencing!$B$377,\"\",'1A Input Base and BAU'!G105)","v":""},{"$f":"IF('Get started'!$B$6=Referencing!$B$377,\"\",'1A Input Base and BAU'!H105)","v":""},{"$f":"IF('Get started'!$B$6=Referencing!$B$377,\"\",'1A Input Base and BAU'!I105)","v":""}]
[{"$f":"'1A Input Base and BAU'!B106","v":"Private car"},{"$f":"'1A Input Base and BAU'!C106","v":"Hybrid"},{"$f":"IF('Get started'!$B$6=Referencing!$B$377,\"\",'1A Input Base and BAU'!D106)","v":""},{"$f":"IF('Get started'!$B$6=Referencing!$B$377,\"\",'1A Input Base and BAU'!E106)","v":""},{"$f":"IF('Get started'!$B$6=Referencing!$B$377,\"\",'1A Input Base and BAU'!F106)","v":""},{"$f":"IF('Get started'!$B$6=Referencing!$B$377,\"\",'1A Input Base and BAU'!G106)","v":""},{"$f":"IF('Get started'!$B$6=Referencing!$B$377,\"\",'1A Input Base and BAU'!H106)","v":""},{"$f":"IF('Get started'!$B$6=Referencing!$B$377,\"\",'1A Input Base and BAU'!I106)","v":""}]
[{"$f":"'1A Input Base and BAU'!B107","v":"Private car"},{"$f":"'1A Input Base and BAU'!C107","v":"Electric"},{"$f":"IF('Get started'!$B$6=Referencing!$B$377,\"\",'1A Input Base and BAU'!D107)","v":""},{"$f":"IF('Get started'!$B$6=Referencing!$B$377,\"\",'1A Input Base and BAU'!E107)","v":""},{"$f":"IF('Get started'!$B$6=Referencing!$B$377,\"\",'1A Input Base and BAU'!F107)","v":""},{"$f":"IF('Get started'!$B$6=Referencing!$B$377,\"\",'1A Input Base and BAU'!G107)","v":""},{"$f":"IF('Get started'!$B$6=Referencing!$B$377,\"\",'1A Input Base and BAU'!H107)","v":""},{"$f":"IF('Get started'!$B$6=Referencing!$B$377,\"\",'1A Input Base and BAU'!I107)","v":""}]
[{"$f":"'1A Input Base and BAU'!B108","v":"Individual taxi"},{"$f":"'1A Input Base and BAU'!C108","v":"all"},{"$f":"IF('Get started'!$B$6=Referencing!$B$377,\"\",'1A Input Base and BAU'!D108)","v":""},{"$f":"IF('Get started'!$B$6=Referencing!$B$377,\"\",'1A Input Base and BAU'!E108)","v":""},{"$f":"IF('Get started'!$B$6=Referencing!$B$377,\"\",'1A Input Base and BAU'!F108)","v":""},{"$f":"IF('Get started'!$B$6=Referencing!$B$377,\"\",'1A Input Base and BAU'!G108)","v":""},{"$f":"IF('Get started'!$B$6=Referencing!$B$377,\"\",'1A Input Base and BAU'!H108)","v":""},{"$f":"IF('Get started'!$B$6=Referencing!$B$377,\"\",'1A Input Base and BAU'!I108)","v":""}]
[{"$f":"'1A Input Base and BAU'!B109","v":"Individual taxi"},{"$f":"'1A Input Base and BAU'!C109","v":"Gasoline"},{"$f":"IF('Get started'!$B$6=Referencing!$B$377,\"\",'1A Input Base and BAU'!D109)","v":""},{"$f":"IF('Get started'!$B$6=Referencing!$B$377,\"\",'1A Input Base and BAU'!E109)","v":""},{"$f":"IF('Get started'!$B$6=Referencing!$B$377,\"\",'1A Input Base and BAU'!F109)","v":""},{"$f":"IF('Get started'!$B$6=Referencing!$B$377,\"\",'1A Input Base and BAU'!G109)","v":""},{"$f":"IF('Get started'!$B$6=Referencing!$B$377,\"\",'1A Input Base and BAU'!H109)","v":""},{"$f":"IF('Get started'!$B$6=Referencing!$B$377,\"\",'1A Input Base and BAU'!I109)","v":""}]
[{"$f":"'1A Input Base and BAU'!B110","v":"Individual taxi"},{"$f":"'1A Input Base and BAU'!C110","v":"Diesel"},{"$f":"IF('Get started'!$B$6=Referencing!$B$377,\"\",'1A Input Base and BAU'!D110)","v":""},{"$f":"IF('Get started'!$B$6=Referencing!$B$377,\"\",'1A Input Base and BAU'!E110)","v":""},{"$f":"IF('Get started'!$B$6=Referencing!$B$377,\"\",'1A Input Base and BAU'!F110)","v":""},{"$f":"IF('Get started'!$B$6=Referencing!$B$377,\"\",'1A Input Base and BAU'!G110)","v":""},{"$f":"IF('Get started'!$B$6=Referencing!$B$377,\"\",'1A Input Base and BAU'!H110)","v":""},{"$f":"IF('Get started'!$B$6=Referencing!$B$377,\"\",'1A Input Base and BAU'!I110)","v":""}]
[{"$f":"'1A Input Base and BAU'!B111","v":"Individual taxi"},{"$f":"'1A Input Base and BAU'!C111","v":"LPG"},{"$f":"IF('Get started'!$B$6=Referencing!$B$377,\"\",'1A Input Base and BAU'!D111)","v":""},{"$f":"IF('Get started'!$B$6=Referencing!$B$377,\"\",'1A Input Base and BAU'!E111)","v":""},{"$f":"IF('Get started'!$B$6=Referencing!$B$377,\"\",'1A Input Base and BAU'!F111)","v":""},{"$f":"IF('Get started'!$B$6=Referencing!$B$377,\"\",'1A Input Base and BAU'!G111)","v":""},{"$f":"IF('Get started'!$B$6=Referencing!$B$377,\"\",'1A Input Base and BAU'!H111)","v":""},{"$f":"IF('Get started'!$B$6=Referencing!$B$377,\"\",'1A Input Base and BAU'!I111)","v":""}]
[{"$f":"'1A Input Base and BAU'!B112","v":"Individual taxi"},{"$f":"'1A Input Base and BAU'!C112","v":"NG"},{"$f":"IF('Get started'!$B$6=Referencing!$B$377,\"\",'1A Input Base and BAU'!D112)","v":""},{"$f":"IF('Get started'!$B$6=Referencing!$B$377,\"\",'1A Input Base and BAU'!E112)","v":""},{"$f":"IF('Get started'!$B$6=Referencing!$B$377,\"\",'1A Input Base and BAU'!F112)","v":""},{"$f":"IF('Get started'!$B$6=Referencing!$B$377,\"\",'1A Input Base and BAU'!G112)","v":""},{"$f":"IF('Get started'!$B$6=Referencing!$B$377,\"\",'1A Input Base and BAU'!H112)","v":""},{"$f":"IF('Get started'!$B$6=Referencing!$B$377,\"\",'1A Input Base and BAU'!I112)","v":""}]
[{"$f":"'1A Input Base and BAU'!B113","v":"Individual taxi"},{"$f":"'1A Input Base and BAU'!C113","v":"Hybrid"},{"$f":"IF('Get started'!$B$6=Referencing!$B$377,\"\",'1A Input Base and BAU'!D113)","v":""},{"$f":"IF('Get started'!$B$6=Referencing!$B$377,\"\",'1A Input Base and BAU'!E113)","v":""},{"$f":"IF('Get started'!$B$6=Referencing!$B$377,\"\",'1A Input Base and BAU'!F113)","v":""},{"$f":"IF('Get started'!$B$6=Referencing!$B$377,\"\",'1A Input Base and BAU'!G113)","v":""},{"$f":"IF('Get started'!$B$6=Referencing!$B$377,\"\",'1A Input Base and BAU'!H113)","v":""},{"$f":"IF('Get started'!$B$6=Referencing!$B$377,\"\",'1A Input Base and BAU'!I113)","v":""}]
[{"$f":"'1A Input Base and BAU'!B114","v":"Individual taxi"},{"$f":"'1A Input Base and BAU'!C114","v":"Electric"},{"$f":"IF('Get started'!$B$6=Referencing!$B$377,\"\",'1A Input Base and BAU'!D114)","v":""},{"$f":"IF('Get started'!$B$6=Referencing!$B$377,\"\",'1A Input Base and BAU'!E114)","v":""},{"$f":"IF('Get started'!$B$6=Referencing!$B$377,\"\",'1A Input Base and BAU'!F114)","v":""},{"$f":"IF('Get started'!$B$6=Referencing!$B$377,\"\",'1A Input Base and BAU'!G114)","v":""},{"$f":"IF('Get started'!$B$6=Referencing!$B$377,\"\",'1A Input Base and BAU'!H114)","v":""},{"$f":"IF('Get started'!$B$6=Referencing!$B$377,\"\",'1A Input Base and BAU'!I114)","v":""}]
[{"$f":"'1A Input Base and BAU'!B115","v":"Motorcycle"},{"$f":"'1A Input Base and BAU'!C115","v":"all"},{"$f":"IF('Get started'!$B$6=Referencing!$B$377,\"\",'1A Input Base and BAU'!D115)","v":""},{"$f":"IF('Get started'!$B$6=Referencing!$B$377,\"\",'1A Input Base and BAU'!E115)","v":""},{"$f":"IF('Get started'!$B$6=Referencing!$B$377,\"\",'1A Input Base and BAU'!F115)","v":""},{"$f":"IF('Get started'!$B$6=Referencing!$B$377,\"\",'1A Input Base and BAU'!G115)","v":""},{"$f":"IF('Get started'!$B$6=Referencing!$B$377,\"\",'1A Input Base and BAU'!H115)","v":""},{"$f":"IF('Get started'!$B$6=Referencing!$B$377,\"\",'1A Input Base and BAU'!I115)","v":""}]
[{"$f":"'1A Input Base and BAU'!B116","v":"Motorcycle"},{"$f":"'1A Input Base and BAU'!C116","v":"Gasoline"},{"$f":"IF('Get started'!$B$6=Referencing!$B$377,\"\",'1A Input Base and BAU'!D116)","v":""},{"$f":"IF('Get started'!$B$6=Referencing!$B$377,\"\",'1A Input Base and BAU'!E116)","v":""},{"$f":"IF('Get started'!$B$6=Referencing!$B$377,\"\",'1A Input Base and BAU'!F116)","v":""},{"$f":"IF('Get started'!$B$6=Referencing!$B$377,\"\",'1A Input Base and BAU'!G116)","v":""},{"$f":"IF('Get started'!$B$6=Referencing!$B$377,\"\",'1A Input Base and BAU'!H116)","v":""},{"$f":"IF('Get started'!$B$6=Referencing!$B$377,\"\",'1A Input Base and BAU'!I116)","v":""}]
[{"$f":"'1A Input Base and BAU'!B117","v":"Motorcycle"},{"$f":"'1A Input Base and BAU'!C117","v":"Electric"},{"$f":"IF('Get started'!$B$6=Referencing!$B$377,\"\",'1A Input Base and BAU'!D117)","v":""},{"$f":"IF('Get started'!$B$6=Referencing!$B$377,\"\",'1A Input Base and BAU'!E117)","v":""},{"$f":"IF('Get started'!$B$6=Referencing!$B$377,\"\",'1A Input Base and BAU'!F117)","v":""},{"$f":"IF('Get started'!$B$6=Referencing!$B$377,\"\",'1A Input Base and BAU'!G117)","v":""},{"$f":"IF('Get started'!$B$6=Referencing!$B$377,\"\",'1A Input Base and BAU'!H117)","v":""},{"$f":"IF('Get started'!$B$6=Referencing!$B$377,\"\",'1A Input Base and BAU'!I117)","v":""}]
[{"$f":"'1A Input Base and BAU'!B118","v":"Motorcycle taxi"},{"$f":"'1A Input Base and BAU'!C118","v":"all"},{"$f":"IF('Get started'!$B$6=Referencing!$B$377,\"\",'1A Input Base and BAU'!D118)","v":""},{"$f":"IF('Get started'!$B$6=Referencing!$B$377,\"\",'1A Input Base and BAU'!E118)","v":""},{"$f":"IF('Get started'!$B$6=Referencing!$B$377,\"\",'1A Input Base and BAU'!F118)","v":""},{"$f":"IF('Get started'!$B$6=Referencing!$B$377,\"\",'1A Input Base and BAU'!G118)","v":""},{"$f":"IF('Get started'!$B$6=Referencing!$B$377,\"\",'1A Input Base and BAU'!H118)","v":""},{"$f":"IF('Get started'!$B$6=Referencing!$B$377,\"\",'1A Input Base and BAU'!I118)","v":""}]
[{"$f":"'1A Input Base and BAU'!B119","v":"Motorcycle taxi"},{"$f":"'1A Input Base and BAU'!C119","v":"Gasoline"},{"$f":"IF('Get started'!$B$6=Referencing!$B$377,\"\",'1A Input Base and BAU'!D119)","v":""},{"$f":"IF('Get started'!$B$6=Referencing!$B$377,\"\",'1A Input Base and BAU'!E119)","v":""},{"$f":"IF('Get started'!$B$6=Referencing!$B$377,\"\",'1A Input Base and BAU'!F119)","v":""},{"$f":"IF('Get started'!$B$6=Referencing!$B$377,\"\",'1A Input Base and BAU'!G119)","v":""},{"$f":"IF('Get started'!$B$6=Referencing!$B$377,\"\",'1A Input Base and BAU'!H119)","v":""},{"$f":"IF('Get started'!$B$6=Referencing!$B$377,\"\",'1A Input Base and BAU'!I119)","v":""}]
[{"$f":"'1A Input Base and BAU'!B120","v":"Motorcycle taxi"},{"$f":"'1A Input Base and BAU'!C120","v":"Electric"},{"$f":"IF('Get started'!$B$6=Referencing!$B$377,\"\",'1A Input Base and BAU'!D120)","v":""},{"$f":"IF('Get started'!$B$6=Referencing!$B$377,\"\",'1A Input Base and BAU'!E120)","v":""},{"$f":"IF('Get started'!$B$6=Referencing!$B$377,\"\",'1A Input Base and BAU'!F120)","v":""},{"$f":"IF('Get started'!$B$6=Referencing!$B$377,\"\",'1A Input Base and BAU'!G120)","v":""},{"$f":"IF('Get started'!$B$6=Referencing!$B$377,\"\",'1A Input Base and BAU'!H120)","v":""},{"$f":"IF('Get started'!$B$6=Referencing!$B$377,\"\",'1A Input Base and BAU'!I120)","v":""}]
[{"$f":"'1A Input Base and BAU'!B121","v":"Minibus"},{"$f":"'1A Input Base and BAU'!C121","v":"all"},{"$f":"IF('Get started'!$B$6=Referencing!$B$377,\"\",'1A Input Base and BAU'!D121)","v":""},{"$f":"IF('Get started'!$B$6=Referencing!$B$377,\"\",'1A Input Base and BAU'!E121)","v":""},{"$f":"IF('Get started'!$B$6=Referencing!$B$377,\"\",'1A Input Base and BAU'!F121)","v":""},{"$f":"IF('Get started'!$B$6=Referencing!$B$377,\"\",'1A Input Base and BAU'!G121)","v":""},{"$f":"IF('Get started'!$B$6=Referencing!$B$377,\"\",'1A Input Base and BAU'!H121)","v":""},{"$f":"IF('Get started'!$B$6=Referencing!$B$377,\"\",'1A Input Base and BAU'!I121)","v":""}]
[{"$f":"'1A Input Base and BAU'!B122","v":"Minibus"},{"$f":"'1A Input Base and BAU'!C122","v":"Gasoline"},{"$f":"IF('Get started'!$B$6=Referencing!$B$377,\"\",'1A Input Base and BAU'!D122)","v":""},{"$f":"IF('Get started'!$B$6=Referencing!$B$377,\"\",'1A Input Base and BAU'!E122)","v":""},{"$f":"IF('Get started'!$B$6=Referencing!$B$377,\"\",'1A Input Base and BAU'!F122)","v":""},{"$f":"IF('Get started'!$B$6=Referencing!$B$377,\"\",'1A Input Base and BAU'!G122)","v":""},{"$f":"IF('Get started'!$B$6=Referencing!$B$377,\"\",'1A Input Base and BAU'!H122)","v":""},{"$f":"IF('Get started'!$B$6=Referencing!$B$377,\"\",'1A Input Base and BAU'!I122)","v":""}]
[{"$f":"'1A Input Base and BAU'!B123","v":"Minibus"},{"$f":"'1A Input Base and BAU'!C123","v":"Diesel"},{"$f":"IF('Get started'!$B$6=Referencing!$B$377,\"\",'1A Input Base and BAU'!D123)","v":""},{"$f":"IF('Get started'!$B$6=Referencing!$B$377,\"\",'1A Input Base and BAU'!E123)","v":""},{"$f":"IF('Get started'!$B$6=Referencing!$B$377,\"\",'1A Input Base and BAU'!F123)","v":""},{"$f":"IF('Get started'!$B$6=Referencing!$B$377,\"\",'1A Input Base and BAU'!G123)","v":""},{"$f":"IF('Get started'!$B$6=Referencing!$B$377,\"\",'1A Input Base and BAU'!H123)","v":""},{"$f":"IF('Get started'!$B$6=Referencing!$B$377,\"\",'1A Input Base and BAU'!I123)","v":""}]
[{"$f":"'1A Input Base and BAU'!B124","v":"Minibus"},{"$f":"'1A Input Base and BAU'!C124","v":"LPG"},{"$f":"IF('Get started'!$B$6=Referencing!$B$377,\"\",'1A Input Base and BAU'!D124)","v":""},{"$f":"IF('Get started'!$B$6=Referencing!$B$377,\"\",'1A Input Base and BAU'!E124)","v":""},{"$f":"IF('Get started'!$B$6=Referencing!$B$377,\"\",'1A Input Base and BAU'!F124)","v":""},{"$f":"IF('Get started'!$B$6=Referencing!$B$377,\"\",'1A Input Base and BAU'!G124)","v":""},{"$f":"IF('Get started'!$B$6=Referencing!$B$377,\"\",'1A Input Base and BAU'!H124)","v":""},{"$f":"IF('Get started'!$B$6=Referencing!$B$377,\"\",'1A Input Base and BAU'!I124)","v":""}]
[{"$f":"'1A Input Base and BAU'!B125","v":"Minibus"},{"$f":"'1A Input Base and BAU'!C125","v":"NG"},{"$f":"IF('Get started'!$B$6=Referencing!$B$377,\"\",'1A Input Base and BAU'!D125)","v":""},{"$f":"IF('Get started'!$B$6=Referencing!$B$377,\"\",'1A Input Base and BAU'!E125)","v":""},{"$f":"IF('Get started'!$B$6=Referencing!$B$377,\"\",'1A Input Base and BAU'!F125)","v":""},{"$f":"IF('Get started'!$B$6=Referencing!$B$377,\"\",'1A Input Base and BAU'!G125)","v":""},{"$f":"IF('Get started'!$B$6=Referencing!$B$377,\"\",'1A Input Base and BAU'!H125)","v":""},{"$f":"IF('Get started'!$B$6=Referencing!$B$377,\"\",'1A Input Base and BAU'!I125)","v":""}]
[{"$f":"'1A Input Base and BAU'!B126","v":"Minibus"},{"$f":"'1A Input Base and BAU'!C126","v":"Hybrid"},{"$f":"IF('Get started'!$B$6=Referencing!$B$377,\"\",'1A Input Base and BAU'!D126)","v":""},{"$f":"IF('Get started'!$B$6=Referencing!$B$377,\"\",'1A Input Base and BAU'!E126)","v":""},{"$f":"IF('Get started'!$B$6=Referencing!$B$377,\"\",'1A Input Base and BAU'!F126)","v":""},{"$f":"IF('Get started'!$B$6=Referencing!$B$377,\"\",'1A Input Base and BAU'!G126)","v":""},{"$f":"IF('Get started'!$B$6=Referencing!$B$377,\"\",'1A Input Base and BAU'!H126)","v":""},{"$f":"IF('Get started'!$B$6=Referencing!$B$377,\"\",'1A Input Base and BAU'!I126)","v":""}]
[{"$f":"'1A Input Base and BAU'!B127","v":"Minibus"},{"$f":"'1A Input Base and BAU'!C127","v":"Electric"},{"$f":"IF('Get started'!$B$6=Referencing!$B$377,\"\",'1A Input Base and BAU'!D127)","v":""},{"$f":"IF('Get started'!$B$6=Referencing!$B$377,\"\",'1A Input Base and BAU'!E127)","v":""},{"$f":"IF('Get started'!$B$6=Referencing!$B$377,\"\",'1A Input Base and BAU'!F127)","v":""},{"$f":"IF('Get started'!$B$6=Referencing!$B$377,\"\",'1A Input Base and BAU'!G127)","v":""},{"$f":"IF('Get started'!$B$6=Referencing!$B$377,\"\",'1A Input Base and BAU'!H127)","v":""},{"$f":"IF('Get started'!$B$6=Referencing!$B$377,\"\",'1A Input Base and BAU'!I127)","v":""}]
[{"$f":"'1A Input Base and BAU'!B128","v":"Bus"},{"$f":"'1A Input Base and BAU'!C128","v":"all"},{"$f":"IF('Get started'!$B$6=Referencing!$B$377,\"\",'1A Input Base and BAU'!D128)","v":""},{"$f":"IF('Get started'!$B$6=Referencing!$B$377,\"\",'1A Input Base and BAU'!E128)","v":""},{"$f":"IF('Get started'!$B$6=Referencing!$B$377,\"\",'1A Input Base and BAU'!F128)","v":""},{"$f":"IF('Get started'!$B$6=Referencing!$B$377,\"\",'1A Input Base and BAU'!G128)","v":""},{"$f":"IF('Get started'!$B$6=Referencing!$B$377,\"\",'1A Input Base and BAU'!H128)","v":""},{"$f":"IF('Get started'!$B$6=Referencing!$B$377,\"\",'1A Input Base and BAU'!I128)","v":""}]
[{"$f":"'1A Input Base and BAU'!B129","v":"Bus"},{"$f":"'1A Input Base and BAU'!C129","v":"Diesel"},{"$f":"IF('Get started'!$B$6=Referencing!$B$377,\"\",'1A Input Base and BAU'!D129)","v":""},{"$f":"IF('Get started'!$B$6=Referencing!$B$377,\"\",'1A Input Base and BAU'!E129)","v":""},{"$f":"IF('Get started'!$B$6=Referencing!$B$377,\"\",'1A Input Base and BAU'!F129)","v":""},{"$f":"IF('Get started'!$B$6=Referencing!$B$377,\"\",'1A Input Base and BAU'!G129)","v":""},{"$f":"IF('Get started'!$B$6=Referencing!$B$377,\"\",'1A Input Base and BAU'!H129)","v":""},{"$f":"IF('Get started'!$B$6=Referencing!$B$377,\"\",'1A Input Base and BAU'!I129)","v":""}]
[{"$f":"'1A Input Base and BAU'!B130","v":"Bus"},{"$f":"'1A Input Base and BAU'!C130","v":"NG"},{"$f":"IF('Get started'!$B$6=Referencing!$B$377,\"\",'1A Input Base and BAU'!D130)","v":""},{"$f":"IF('Get started'!$B$6=Referencing!$B$377,\"\",'1A Input Base and BAU'!E130)","v":""},{"$f":"IF('Get started'!$B$6=Referencing!$B$377,\"\",'1A Input Base and BAU'!F130)","v":""},{"$f":"IF('Get started'!$B$6=Referencing!$B$377,\"\",'1A Input Base and BAU'!G130)","v":""},{"$f":"IF('Get started'!$B$6=Referencing!$B$377,\"\",'1A Input Base and BAU'!H130)","v":""},{"$f":"IF('Get started'!$B$6=Referencing!$B$377,\"\",'1A Input Base and BAU'!I130)","v":""}]
[{"$f":"'1A Input Base and BAU'!B131","v":"Bus"},{"$f":"'1A Input Base and BAU'!C131","v":"Hybrid"},{"$f":"IF('Get started'!$B$6=Referencing!$B$377,\"\",'1A Input Base and BAU'!D131)","v":""},{"$f":"IF('Get started'!$B$6=Referencing!$B$377,\"\",'1A Input Base and BAU'!E131)","v":""},{"$f":"IF('Get started'!$B$6=Referencing!$B$377,\"\",'1A Input Base and BAU'!F131)","v":""},{"$f":"IF('Get started'!$B$6=Referencing!$B$377,\"\",'1A Input Base and BAU'!G131)","v":""},{"$f":"IF('Get started'!$B$6=Referencing!$B$377,\"\",'1A Input Base and BAU'!H131)","v":""},{"$f":"IF('Get started'!$B$6=Referencing!$B$377,\"\",'1A Input Base and BAU'!I131)","v":""}]
[{"$f":"'1A Input Base and BAU'!B132","v":"Bus"},{"$f":"'1A Input Base and BAU'!C132","v":"Electric"},{"$f":"IF('Get started'!$B$6=Referencing!$B$377,\"\",'1A Input Base and BAU'!D132)","v":""},{"$f":"IF('Get started'!$B$6=Referencing!$B$377,\"\",'1A Input Base and BAU'!E132)","v":""},{"$f":"IF('Get started'!$B$6=Referencing!$B$377,\"\",'1A Input Base and BAU'!F132)","v":""},{"$f":"IF('Get started'!$B$6=Referencing!$B$377,\"\",'1A Input Base and BAU'!G132)","v":""},{"$f":"IF('Get started'!$B$6=Referencing!$B$377,\"\",'1A Input Base and BAU'!H132)","v":""},{"$f":"IF('Get started'!$B$6=Referencing!$B$377,\"\",'1A Input Base and BAU'!I132)","v":""}]
[{"$f":"'1A Input Base and BAU'!B133","v":"BRT"},{"$f":"'1A Input Base and BAU'!C133","v":"all"},{"$f":"IF('Get started'!$B$6=Referencing!$B$377,\"\",'1A Input Base and BAU'!D133)","v":""},{"$f":"IF('Get started'!$B$6=Referencing!$B$377,\"\",'1A Input Base and BAU'!E133)","v":""},{"$f":"IF('Get started'!$B$6=Referencing!$B$377,\"\",'1A Input Base and BAU'!F133)","v":""},{"$f":"IF('Get started'!$B$6=Referencing!$B$377,\"\",'1A Input Base and BAU'!G133)","v":""},{"$f":"IF('Get started'!$B$6=Referencing!$B$377,\"\",'1A Input Base and BAU'!H133)","v":""},{"$f":"IF('Get started'!$B$6=Referencing!$B$377,\"\",'1A Input Base and BAU'!I133)","v":""}]
[{"$f":"'1A Input Base and BAU'!B134","v":"BRT"},{"$f":"'1A Input Base and BAU'!C134","v":"Diesel"},{"$f":"IF('Get started'!$B$6=Referencing!$B$377,\"\",'1A Input Base and BAU'!D134)","v":""},{"$f":"IF('Get started'!$B$6=Referencing!$B$377,\"\",'1A Input Base and BAU'!E134)","v":""},{"$f":"IF('Get started'!$B$6=Referencing!$B$377,\"\",'1A Input Base and BAU'!F134)","v":""},{"$f":"IF('Get started'!$B$6=Referencing!$B$377,\"\",'1A Input Base and BAU'!G134)","v":""},{"$f":"IF('Get started'!$B$6=Referencing!$B$377,\"\",'1A Input Base and BAU'!H134)","v":""},{"$f":"IF('Get started'!$B$6=Referencing!$B$377,\"\",'1A Input Base and BAU'!I134)","v":""}]
[{"$f":"'1A Input Base and BAU'!B135","v":"BRT"},{"$f":"'1A Input Base and BAU'!C135","v":"Electric"},{"$f":"IF('Get started'!$B$6=Referencing!$B$377,\"\",'1A Input Base and BAU'!D135)","v":""},{"$f":"IF('Get started'!$B$6=Referencing!$B$377,\"\",'1A Input Base and BAU'!E135)","v":""},{"$f":"IF('Get started'!$B$6=Referencing!$B$377,\"\",'1A Input Base and BAU'!F135)","v":""},{"$f":"IF('Get started'!$B$6=Referencing!$B$377,\"\",'1A Input Base and BAU'!G135)","v":""},{"$f":"IF('Get started'!$B$6=Referencing!$B$377,\"\",'1A Input Base and BAU'!H135)","v":""},{"$f":"IF('Get started'!$B$6=Referencing!$B$377,\"\",'1A Input Base and BAU'!I135)","v":""}]
[{"$f":"'1A Input Base and BAU'!B136","v":"Very light LCV"},{"$f":"'1A Input Base and BAU'!C136","v":"all"},{"$f":"IF('Get started'!$B$6=Referencing!$B$377,\"\",'1A Input Base and BAU'!D136)","v":""},{"$f":"IF('Get started'!$B$6=Referencing!$B$377,\"\",'1A Input Base and BAU'!E136)","v":""},{"$f":"IF('Get started'!$B$6=Referencing!$B$377,\"\",'1A Input Base and BAU'!F136)","v":""},{"$f":"IF('Get started'!$B$6=Referencing!$B$377,\"\",'1A Input Base and BAU'!G136)","v":""},{"$f":"IF('Get started'!$B$6=Referencing!$B$377,\"\",'1A Input Base and BAU'!H136)","v":""},{"$f":"IF('Get started'!$B$6=Referencing!$B$377,\"\",'1A Input Base and BAU'!I136)","v":""}]
[{"$f":"'1A Input Base and BAU'!B137","v":"Very light LCV"},{"$f":"'1A Input Base and BAU'!C137","v":"Gasoline"},{"$f":"IF('Get started'!$B$6=Referencing!$B$377,\"\",'1A Input Base and BAU'!D137)","v":""},{"$f":"IF('Get started'!$B$6=Referencing!$B$377,\"\",'1A Input Base and BAU'!E137)","v":""},{"$f":"IF('Get started'!$B$6=Referencing!$B$377,\"\",'1A Input Base and BAU'!F137)","v":""},{"$f":"IF('Get started'!$B$6=Referencing!$B$377,\"\",'1A Input Base and BAU'!G137)","v":""},{"$f":"IF('Get started'!$B$6=Referencing!$B$377,\"\",'1A Input Base and BAU'!H137)","v":""},{"$f":"IF('Get started'!$B$6=Referencing!$B$377,\"\",'1A Input Base and BAU'!I137)","v":""}]
[{"$f":"'1A Input Base and BAU'!B138","v":"Very light LCV"},{"$f":"'1A Input Base and BAU'!C138","v":"Diesel"},{"$f":"IF('Get started'!$B$6=Referencing!$B$377,\"\",'1A Input Base and BAU'!D138)","v":""},{"$f":"IF('Get started'!$B$6=Referencing!$B$377,\"\",'1A Input Base and BAU'!E138)","v":""},{"$f":"IF('Get started'!$B$6=Referencing!$B$377,\"\",'1A Input Base and BAU'!F138)","v":""},{"$f":"IF('Get started'!$B$6=Referencing!$B$377,\"\",'1A Input Base and BAU'!G138)","v":""},{"$f":"IF('Get started'!$B$6=Referencing!$B$377,\"\",'1A Input Base and BAU'!H138)","v":""},{"$f":"IF('Get started'!$B$6=Referencing!$B$377,\"\",'1A Input Base and BAU'!I138)","v":""}]
[{"$f":"'1A Input Base and BAU'!B139","v":"Very light LCV"},{"$f":"'1A Input Base and BAU'!C139","v":"Electric"},{"$f":"IF('Get started'!$B$6=Referencing!$B$377,\"\",'1A Input Base and BAU'!D139)","v":""},{"$f":"IF('Get started'!$B$6=Referencing!$B$377,\"\",'1A Input Base and BAU'!E139)","v":""},{"$f":"IF('Get started'!$B$6=Referencing!$B$377,\"\",'1A Input Base and BAU'!F139)","v":""},{"$f":"IF('Get started'!$B$6=Referencing!$B$377,\"\",'1A Input Base and BAU'!G139)","v":""},{"$f":"IF('Get started'!$B$6=Referencing!$B$377,\"\",'1A Input Base and BAU'!H139)","v":""},{"$f":"IF('Get started'!$B$6=Referencing!$B$377,\"\",'1A Input Base and BAU'!I139)","v":""}]
[{"$f":"'1A Input Base and BAU'!B140","v":"LCV"},{"$f":"'1A Input Base and BAU'!C140","v":"all"},{"$f":"IF('Get started'!$B$6=Referencing!$B$377,\"\",'1A Input Base and BAU'!D140)","v":""},{"$f":"IF('Get started'!$B$6=Referencing!$B$377,\"\",'1A Input Base and BAU'!E140)","v":""},{"$f":"IF('Get started'!$B$6=Referencing!$B$377,\"\",'1A Input Base and BAU'!F140)","v":""},{"$f":"IF('Get started'!$B$6=Referencing!$B$377,\"\",'1A Input Base and BAU'!G140)","v":""},{"$f":"IF('Get started'!$B$6=Referencing!$B$377,\"\",'1A Input Base and BAU'!H140)","v":""},{"$f":"IF('Get started'!$B$6=Referencing!$B$377,\"\",'1A Input Base and BAU'!I140)","v":""}]
[{"$f":"'1A Input Base and BAU'!B141","v":"LCV"},{"$f":"'1A Input Base and BAU'!C141","v":"Gasoline"},{"$f":"IF('Get started'!$B$6=Referencing!$B$377,\"\",'1A Input Base and BAU'!D141)","v":""},{"$f":"IF('Get started'!$B$6=Referencing!$B$377,\"\",'1A Input Base and BAU'!E141)","v":""},{"$f":"IF('Get started'!$B$6=Referencing!$B$377,\"\",'1A Input Base and BAU'!F141)","v":""},{"$f":"IF('Get started'!$B$6=Referencing!$B$377,\"\",'1A Input Base and BAU'!G141)","v":""},{"$f":"IF('Get started'!$B$6=Referencing!$B$377,\"\",'1A Input Base and BAU'!H141)","v":""},{"$f":"IF('Get started'!$B$6=Referencing!$B$377,\"\",'1A Input Base and BAU'!I141)","v":""}]
[{"$f":"'1A Input Base and BAU'!B142","v":"LCV"},{"$f":"'1A Input Base and BAU'!C142","v":"Diesel"},{"$f":"IF('Get started'!$B$6=Referencing!$B$377,\"\",'1A Input Base and BAU'!D142)","v":""},{"$f":"IF('Get started'!$B$6=Referencing!$B$377,\"\",'1A Input Base and BAU'!E142)","v":""},{"$f":"IF('Get started'!$B$6=Referencing!$B$377,\"\",'1A Input Base and BAU'!F142)","v":""},{"$f":"IF('Get started'!$B$6=Referencing!$B$377,\"\",'1A Input Base and BAU'!G142)","v":""},{"$f":"IF('Get started'!$B$6=Referencing!$B$377,\"\",'1A Input Base and BAU'!H142)","v":""},{"$f":"IF('Get started'!$B$6=Referencing!$B$377,\"\",'1A Input Base and BAU'!I142)","v":""}]
[{"$f":"'1A Input Base and BAU'!B143","v":"LCV"},{"$f":"'1A Input Base and BAU'!C143","v":"LPG"},{"$f":"IF('Get started'!$B$6=Referencing!$B$377,\"\",'1A Input Base and BAU'!D143)","v":""},{"$f":"IF('Get started'!$B$6=Referencing!$B$377,\"\",'1A Input Base and BAU'!E143)","v":""},{"$f":"IF('Get started'!$B$6=Referencing!$B$377,\"\",'1A Input Base and BAU'!F143)","v":""},{"$f":"IF('Get started'!$B$6=Referencing!$B$377,\"\",'1A Input Base and BAU'!G143)","v":""},{"$f":"IF('Get started'!$B$6=Referencing!$B$377,\"\",'1A Input Base and BAU'!H143)","v":""},{"$f":"IF('Get started'!$B$6=Referencing!$B$377,\"\",'1A Input Base and BAU'!I143)","v":""}]
[{"$f":"'1A Input Base and BAU'!B144","v":"LCV"},{"$f":"'1A Input Base and BAU'!C144","v":"NG"},{"$f":"IF('Get started'!$B$6=Referencing!$B$377,\"\",'1A Input Base and BAU'!D144)","v":""},{"$f":"IF('Get started'!$B$6=Referencing!$B$377,\"\",'1A Input Base and BAU'!E144)","v":""},{"$f":"IF('Get started'!$B$6=Referencing!$B$377,\"\",'1A Input Base and BAU'!F144)","v":""},{"$f":"IF('Get started'!$B$6=Referencing!$B$377,\"\",'1A Input Base and BAU'!G144)","v":""},{"$f":"IF('Get started'!$B$6=Referencing!$B$377,\"\",'1A Input Base and BAU'!H144)","v":""},{"$f":"IF('Get started'!$B$6=Referencing!$B$377,\"\",'1A Input Base and BAU'!I144)","v":""}]
[{"$f":"'1A Input Base and BAU'!B145","v":"LCV"},{"$f":"'1A Input Base and BAU'!C145","v":"Electric"},{"$f":"IF('Get started'!$B$6=Referencing!$B$377,\"\",'1A Input Base and BAU'!D145)","v":""},{"$f":"IF('Get started'!$B$6=Referencing!$B$377,\"\",'1A Input Base and BAU'!E145)","v":""},{"$f":"IF('Get started'!$B$6=Referencing!$B$377,\"\",'1A Input Base and BAU'!F145)","v":""},{"$f":"IF('Get started'!$B$6=Referencing!$B$377,\"\",'1A Input Base and BAU'!G145)","v":""},{"$f":"IF('Get started'!$B$6=Referencing!$B$377,\"\",'1A Input Base and BAU'!H145)","v":""},{"$f":"IF('Get started'!$B$6=Referencing!$B$377,\"\",'1A Input Base and BAU'!I145)","v":""}]
[{"$f":"'1A Input Base and BAU'!B146","v":"Solo truck"},{"$f":"'1A Input Base and BAU'!C146","v":"all"},{"$f":"IF('Get started'!$B$6=Referencing!$B$377,\"\",'1A Input Base and BAU'!D146)","v":""},{"$f":"IF('Get started'!$B$6=Referencing!$B$377,\"\",'1A Input Base and BAU'!E146)","v":""},{"$f":"IF('Get started'!$B$6=Referencing!$B$377,\"\",'1A Input Base and BAU'!F146)","v":""},{"$f":"IF('Get started'!$B$6=Referencing!$B$377,\"\",'1A Input Base and BAU'!G146)","v":""},{"$f":"IF('Get started'!$B$6=Referencing!$B$377,\"\",'1A Input Base and BAU'!H146)","v":""},{"$f":"IF('Get started'!$B$6=Referencing!$B$377,\"\",'1A Input Base and BAU'!I146)","v":""}]
[{"$f":"'1A Input Base and BAU'!B147","v":"Solo truck"},{"$f":"'1A Input Base and BAU'!C147","v":"Diesel"},{"$f":"IF('Get started'!$B$6=Referencing!$B$377,\"\",'1A Input Base and BAU'!D147)","v":""},{"$f":"IF('Get started'!$B$6=Referencing!$B$377,\"\",'1A Input Base and BAU'!E147)","v":""},{"$f":"IF('Get started'!$B$6=Referencing!$B$377,\"\",'1A Input Base and BAU'!F147)","v":""},{"$f":"IF('Get started'!$B$6=Referencing!$B$377,\"\",'1A Input Base and BAU'!G147)","v":""},{"$f":"IF('Get started'!$B$6=Referencing!$B$377,\"\",'1A Input Base and BAU'!H147)","v":""},{"$f":"IF('Get started'!$B$6=Referencing!$B$377,\"\",'1A Input Base and BAU'!I147)","v":""}]
[{"$f":"'1A Input Base and BAU'!B148","v":"Solo truck"},{"$f":"'1A Input Base and BAU'!C148","v":"NG"},{"$f":"IF('Get started'!$B$6=Referencing!$B$377,\"\",'1A Input Base and BAU'!D148)","v":""},{"$f":"IF('Get started'!$B$6=Referencing!$B$377,\"\",'1A Input Base and BAU'!E148)","v":""},{"$f":"IF('Get started'!$B$6=Referencing!$B$377,\"\",'1A Input Base and BAU'!F148)","v":""},{"$f":"IF('Get started'!$B$6=Referencing!$B$377,\"\",'1A Input Base and BAU'!G148)","v":""},{"$f":"IF('Get started'!$B$6=Referencing!$B$377,\"\",'1A Input Base and BAU'!H148)","v":""},{"$f":"IF('Get started'!$B$6=Referencing!$B$377,\"\",'1A Input Base and BAU'!I148)","v":""}]
[{"$f":"'1A Input Base and BAU'!B149","v":"Solo truck"},{"$f":"'1A Input Base and BAU'!C149","v":"Electric"},{"$f":"IF('Get started'!$B$6=Referencing!$B$377,\"\",'1A Input Base and BAU'!D149)","v":""},{"$f":"IF('Get started'!$B$6=Referencing!$B$377,\"\",'1A Input Base and BAU'!E149)","v":""},{"$f":"IF('Get started'!$B$6=Referencing!$B$377,\"\",'1A Input Base and BAU'!F149)","v":""},{"$f":"IF('Get started'!$B$6=Referencing!$B$377,\"\",'1A Input Base and BAU'!G149)","v":""},{"$f":"IF('Get started'!$B$6=Referencing!$B$377,\"\",'1A Input Base and BAU'!H149)","v":""},{"$f":"IF('Get started'!$B$6=Referencing!$B$377,\"\",'1A Input Base and BAU'!I149)","v":""}]
[{"$f":"'1A Input Base and BAU'!B150","v":"Articulated truck"},{"$f":"'1A Input Base and BAU'!C150","v":"all"},{"$f":"IF('Get started'!$B$6=Referencing!$B$377,\"\",'1A Input Base and BAU'!D150)","v":""},{"$f":"IF('Get started'!$B$6=Referencing!$B$377,\"\",'1A Input Base and BAU'!E150)","v":""},{"$f":"IF('Get started'!$B$6=Referencing!$B$377,\"\",'1A Input Base and BAU'!F150)","v":""},{"$f":"IF('Get started'!$B$6=Referencing!$B$377,\"\",'1A Input Base and BAU'!G150)","v":""},{"$f":"IF('Get started'!$B$6=Referencing!$B$377,\"\",'1A Input Base and BAU'!H150)","v":""},{"$f":"IF('Get started'!$B$6=Referencing!$B$377,\"\",'1A Input Base and BAU'!I150)","v":""}]
[{"$f":"'1A Input Base and BAU'!B151","v":"Articulated truck"},{"$f":"'1A Input Base and BAU'!C151","v":"Diesel"},{"$f":"IF('Get started'!$B$6=Referencing!$B$377,\"\",'1A Input Base and BAU'!D151)","v":""},{"$f":"IF('Get started'!$B$6=Referencing!$B$377,\"\",'1A Input Base and BAU'!E151)","v":""},{"$f":"IF('Get started'!$B$6=Referencing!$B$377,\"\",'1A Input Base and BAU'!F151)","v":""},{"$f":"IF('Get started'!$B$6=Referencing!$B$377,\"\",'1A Input Base and BAU'!G151)","v":""},{"$f":"IF('Get started'!$B$6=Referencing!$B$377,\"\",'1A Input Base and BAU'!H151)","v":""},{"$f":"IF('Get started'!$B$6=Referencing!$B$377,\"\",'1A Input Base and BAU'!I151)","v":""}]
[{"$f":"'1A Input Base and BAU'!B152","v":"Articulated truck"},{"$f":"'1A Input Base and BAU'!C152","v":"NG"},{"$f":"IF('Get started'!$B$6=Referencing!$B$377,\"\",'1A Input Base and BAU'!D152)","v":""},{"$f":"IF('Get started'!$B$6=Referencing!$B$377,\"\",'1A Input Base and BAU'!E152)","v":""},{"$f":"IF('Get started'!$B$6=Referencing!$B$377,\"\",'1A Input Base and BAU'!F152)","v":""},{"$f":"IF('Get started'!$B$6=Referencing!$B$377,\"\",'1A Input Base and BAU'!G152)","v":""},{"$f":"IF('Get started'!$B$6=Referencing!$B$377,\"\",'1A Input Base and BAU'!H152)","v":""},{"$f":"IF('Get started'!$B$6=Referencing!$B$377,\"\",'1A Input Base and BAU'!I152)","v":""}]
[{"$f":"'1A Input Base and BAU'!B153","v":"Articulated truck"},{"$f":"'1A Input Base and BAU'!C153","v":"Electric"},{"$f":"IF('Get started'!$B$6=Referencing!$B$377,\"\",'1A Input Base and BAU'!D153)","v":""},{"$f":"IF('Get started'!$B$6=Referencing!$B$377,\"\",'1A Input Base and BAU'!E153)","v":""},{"$f":"IF('Get started'!$B$6=Referencing!$B$377,\"\",'1A Input Base and BAU'!F153)","v":""},{"$f":"IF('Get started'!$B$6=Referencing!$B$377,\"\",'1A Input Base and BAU'!G153)","v":""},{"$f":"IF('Get started'!$B$6=Referencing!$B$377,\"\",'1A Input Base and BAU'!H153)","v":""},{"$f":"IF('Get started'!$B$6=Referencing!$B$377,\"\",'1A Input Base and BAU'!I153)","v":""}]
[{"$f":"'1A Input Base and BAU'!B154","v":"Long distance train"},{"$f":"'1A Input Base and BAU'!C154","v":"all"},{"$f":"IF('Get started'!$B$6=Referencing!$B$377,\"\",'1A Input Base and BAU'!D154)","v":""},{"$f":"IF('Get started'!$B$6=Referencing!$B$377,\"\",'1A Input Base and BAU'!E154)","v":""},{"$f":"IF('Get started'!$B$6=Referencing!$B$377,\"\",'1A Input Base and BAU'!F154)","v":""},{"$f":"IF('Get started'!$B$6=Referencing!$B$377,\"\",'1A Input Base and BAU'!G154)","v":""},{"$f":"IF('Get started'!$B$6=Referencing!$B$377,\"\",'1A Input Base and BAU'!H154)","v":""},{"$f":"IF('Get started'!$B$6=Referencing!$B$377,\"\",'1A Input Base and BAU'!I154)","v":""}]
[{"$f":"'1A Input Base and BAU'!B155","v":"Long distance train"},{"$f":"'1A Input Base and BAU'!C155","v":"Diesel"},{"$f":"IF('Get started'!$B$6=Referencing!$B$377,\"\",'1A Input Base and BAU'!D155)","v":""},{"$f":"IF('Get started'!$B$6=Referencing!$B$377,\"\",'1A Input Base and BAU'!E155)","v":""},{"$f":"IF('Get started'!$B$6=Referencing!$B$377,\"\",'1A Input Base and BAU'!F155)","v":""},{"$f":"IF('Get started'!$B$6=Referencing!$B$377,\"\",'1A Input Base and BAU'!G155)","v":""},{"$f":"IF('Get started'!$B$6=Referencing!$B$377,\"\",'1A Input Base and BAU'!H155)","v":""},{"$f":"IF('Get started'!$B$6=Referencing!$B$377,\"\",'1A Input Base and BAU'!I155)","v":""}]
[{"$f":"'1A Input Base and BAU'!B156","v":"Long distance train"},{"$f":"'1A Input Base and BAU'!C156","v":"Electric"},{"$f":"IF('Get started'!$B$6=Referencing!$B$377,\"\",'1A Input Base and BAU'!D156)","v":""},{"$f":"IF('Get started'!$B$6=Referencing!$B$377,\"\",'1A Input Base and BAU'!E156)","v":""},{"$f":"IF('Get started'!$B$6=Referencing!$B$377,\"\",'1A Input Base and BAU'!F156)","v":""},{"$f":"IF('Get started'!$B$6=Referencing!$B$377,\"\",'1A Input Base and BAU'!G156)","v":""},{"$f":"IF('Get started'!$B$6=Referencing!$B$377,\"\",'1A Input Base and BAU'!H156)","v":""},{"$f":"IF('Get started'!$B$6=Referencing!$B$377,\"\",'1A Input Base and BAU'!I156)","v":""}]
[{"$f":"'1A Input Base and BAU'!B157","v":"Urban train"},{"$f":"'1A Input Base and BAU'!C157","v":"all"},{"$f":"IF('Get started'!$B$6=Referencing!$B$377,\"\",'1A Input Base and BAU'!D157)","v":""},{"$f":"IF('Get started'!$B$6=Referencing!$B$377,\"\",'1A Input Base and BAU'!E157)","v":""},{"$f":"IF('Get started'!$B$6=Referencing!$B$377,\"\",'1A Input Base and BAU'!F157)","v":""},{"$f":"IF('Get started'!$B$6=Referencing!$B$377,\"\",'1A Input Base and BAU'!G157)","v":""},{"$f":"IF('Get started'!$B$6=Referencing!$B$377,\"\",'1A Input Base and BAU'!H157)","v":""},{"$f":"IF('Get started'!$B$6=Referencing!$B$377,\"\",'1A Input Base and BAU'!I157)","v":""}]
[{"$f":"'1A Input Base and BAU'!B158","v":"Urban train"},{"$f":"'1A Input Base and BAU'!C158","v":"Electric"},{"$f":"IF('Get started'!$B$6=Referencing!$B$377,\"\",'1A Input Base and BAU'!D158)","v":""},{"$f":"IF('Get started'!$B$6=Referencing!$B$377,\"\",'1A Input Base and BAU'!E158)","v":""},{"$f":"IF('Get started'!$B$6=Referencing!$B$377,\"\",'1A Input Base and BAU'!F158)","v":""},{"$f":"IF('Get started'!$B$6=Referencing!$B$377,\"\",'1A Input Base and BAU'!G158)","v":""},{"$f":"IF('Get started'!$B$6=Referencing!$B$377,\"\",'1A Input Base and BAU'!H158)","v":""},{"$f":"IF('Get started'!$B$6=Referencing!$B$377,\"\",'1A Input Base and BAU'!I158)","v":""}]
[{"$f":"'1A Input Base and BAU'!B159","v":"Metro"},{"$f":"'1A Input Base and BAU'!C159","v":"all"},{"$f":"IF('Get started'!$B$6=Referencing!$B$377,\"\",'1A Input Base and BAU'!D159)","v":""},{"$f":"IF('Get started'!$B$6=Referencing!$B$377,\"\",'1A Input Base and BAU'!E159)","v":""},{"$f":"IF('Get started'!$B$6=Referencing!$B$377,\"\",'1A Input Base and BAU'!F159)","v":""},{"$f":"IF('Get started'!$B$6=Referencing!$B$377,\"\",'1A Input Base and BAU'!G159)","v":""},{"$f":"IF('Get started'!$B$6=Referencing!$B$377,\"\",'1A Input Base and BAU'!H159)","v":""},{"$f":"IF('Get started'!$B$6=Referencing!$B$377,\"\",'1A Input Base and BAU'!I159)","v":""}]
[{"$f":"'1A Input Base and BAU'!B160","v":"Metro"},{"$f":"'1A Input Base and BAU'!C160","v":"Electric"},{"$f":"IF('Get started'!$B$6=Referencing!$B$377,\"\",'1A Input Base and BAU'!D160)","v":""},{"$f":"IF('Get started'!$B$6=Referencing!$B$377,\"\",'1A Input Base and BAU'!E160)","v":""},{"$f":"IF('Get started'!$B$6=Referencing!$B$377,\"\",'1A Input Base and BAU'!F160)","v":""},{"$f":"IF('Get started'!$B$6=Referencing!$B$377,\"\",'1A Input Base and BAU'!G160)","v":""},{"$f":"IF('Get started'!$B$6=Referencing!$B$377,\"\",'1A Input Base and BAU'!H160)","v":""},{"$f":"IF('Get started'!$B$6=Referencing!$B$377,\"\",'1A Input Base and BAU'!I160)","v":""}]
[{"$f":"'1A Input Base and BAU'!B161","v":"Freight train"},{"$f":"'1A Input Base and BAU'!C161","v":"all"},{"$f":"IF('Get started'!$B$6=Referencing!$B$377,\"\",'1A Input Base and BAU'!D161)","v":""},{"$f":"IF('Get started'!$B$6=Referencing!$B$377,\"\",'1A Input Base and BAU'!E161)","v":""},{"$f":"IF('Get started'!$B$6=Referencing!$B$377,\"\",'1A Input Base and BAU'!F161)","v":""},{"$f":"IF('Get started'!$B$6=Referencing!$B$377,\"\",'1A Input Base and BAU'!G161)","v":""},{"$f":"IF('Get started'!$B$6=Referencing!$B$377,\"\",'1A Input Base and BAU'!H161)","v":""},{"$f":"IF('Get started'!$B$6=Referencing!$B$377,\"\",'1A Input Base and BAU'!I161)","v":""}]
[{"$f":"'1A Input Base and BAU'!B162","v":"Freight train"},{"$f":"'1A Input Base and BAU'!C162","v":"Diesel"},{"$f":"IF('Get started'!$B$6=Referencing!$B$377,\"\",'1A Input Base and BAU'!D162)","v":""},{"$f":"IF('Get started'!$B$6=Referencing!$B$377,\"\",'1A Input Base and BAU'!E162)","v":""},{"$f":"IF('Get started'!$B$6=Referencing!$B$377,\"\",'1A Input Base and BAU'!F162)","v":""},{"$f":"IF('Get started'!$B$6=Referencing!$B$377,\"\",'1A Input Base and BAU'!G162)","v":""},{"$f":"IF('Get started'!$B$6=Referencing!$B$377,\"\",'1A Input Base and BAU'!H162)","v":""},{"$f":"IF('Get started'!$B$6=Referencing!$B$377,\"\",'1A Input Base and BAU'!I162)","v":""}]
[{"$f":"'1A Input Base and BAU'!B163","v":"Freight train"},{"$f":"'1A Input Base and BAU'!C163","v":"Electric"}]
[{"$f":"Source","v":"Source"},null,{"$f":"IF('Get started'!$B$6=Referencing!$B$385,\"\",'Get started'!$C$6)","v":"xx"}]
[]
[]
[{"$f":"Subcategory","v":"Subcategory"},{"$f":"Fuel","v":"Fuel type"},{"$f":"avcons","v":"Average energy consumption  [l-kW-kg/100 km]"},null,null,null,null,null,{"$f":"Ared","v":"Annual change in % on the given period"}]
[null,null,{"$f":"'Get started'!C7","v":0},2020,2025,2030,2040,2050,{"$f":"'Get started'!C7&-2020","v":"-2020"},"2020-2025","2025-2030","2030-2040","2040-2050"]
[{"$f":"NMT","v":"NMT"},{"$f":"'1A Input Base and BAU'!D173","v":"n.d."},{"$f":"IF('Get started'!$B$6=Referencing!$B$377,\"\",'1A Input Base and BAU'!E173)","v":""},{"$f":"IF('Get started'!$B$6=Referencing!$B$377,\"\",'1A Input Base and BAU'!F173)","v":""},{"$f":"IF('Get started'!$B$6=Referencing!$B$377,\"\",'1A Input Base and BAU'!G173)","v":""},{"$f":"IF('Get started'!$B$6=Referencing!$B$377,\"\",'1A Input Base and BAU'!H173)","v":""},{"$f":"IF('Get started'!$B$6=Referencing!$B$377,\"\",'1A Input Base and BAU'!I173)","v":""},{"$f":"IF('Get started'!$B$6=Referencing!$B$377,\"\",'1A Input Base and BAU'!J173)","v":""},{"$f":"IF('Get started'!$B$6=Referencing!$B$377,\"\",'1A Input Base and BAU'!K173)","v":""},{"$f":"IF('Get started'!$B$6=Referencing!$B$377,\"\",'1A Input Base and BAU'!L173)","v":""},{"$f":"IF('Get started'!$B$6=Referencing!$B$377,\"\",'1A Input Base and BAU'!M173)","v":""},{"$f":"IF('Get started'!$B$6=Referencing!$B$377,\"\",'1A Input Base and BAU'!N173)","v":""},{"$f":"IF('Get started'!$B$6=Referencing!$B$377,\"\",'1A Input Base and BAU'!O173)","v":""}]
[{"$f":"Pcar","v":"Private car"},{"$f":"'1A Input Base and BAU'!D174","v":"l/100km"},{"$f":"IF('Get started'!$B$6=Referencing!$B$377,\"\",'1A Input Base and BAU'!E174)","v":""},{"$f":"IF('Get started'!$B$6=Referencing!$B$377,\"\",'1A Input Base and BAU'!F174)","v":""},{"$f":"IF('Get started'!$B$6=Referencing!$B$377,\"\",'1A Input Base and BAU'!G174)","v":""},{"$f":"IF('Get started'!$B$6=Referencing!$B$377,\"\",'1A Input Base and BAU'!H174)","v":""},{"$f":"IF('Get started'!$B$6=Referencing!$B$377,\"\",'1A Input Base and BAU'!I174)","v":""},{"$f":"IF('Get started'!$B$6=Referencing!$B$377,\"\",'1A Input Base and BAU'!J174)","v":""},{"$f":"IF('Get started'!$B$6=Referencing!$B$377,\"\",'1A Input Base and BAU'!K174)","v":""},{"$f":"IF('Get started'!$B$6=Referencing!$B$377,\"\",'1A Input Base and BAU'!L174)","v":""},{"$f":"IF('Get started'!$B$6=Referencing!$B$377,\"\",'1A Input Base and BAU'!M174)","v":""},{"$f":"IF('Get started'!$B$6=Referencing!$B$377,\"\",'1A Input Base and BAU'!N174)","v":""},{"$f":"IF('Get started'!$B$6=Referencing!$B$377,\"\",'1A Input Base and BAU'!O174)","v":""}]
["Private car",{"$f":"'1A Input Base and BAU'!D175","v":"l/100km"},{"$f":"IF('Get started'!$B$6=Referencing!$B$377,\"\",'1A Input Base and BAU'!E175)","v":""},{"$f":"IF('Get started'!$B$6=Referencing!$B$377,\"\",'1A Input Base and BAU'!F175)","v":""},{"$f":"IF('Get started'!$B$6=Referencing!$B$377,\"\",'1A Input Base and BAU'!G175)","v":""},{"$f":"IF('Get started'!$B$6=Referencing!$B$377,\"\",'1A Input Base and BAU'!H175)","v":""},{"$f":"IF('Get started'!$B$6=Referencing!$B$377,\"\",'1A Input Base and BAU'!I175)","v":""},{"$f":"IF('Get started'!$B$6=Referencing!$B$377,\"\",'1A Input Base and BAU'!J175)","v":""},{"$f":"IF('Get started'!$B$6=Referencing!$B$377,\"\",'1A Input Base and BAU'!K175)","v":""},{"$f":"IF('Get started'!$B$6=Referencing!$B$377,\"\",'1A Input Base and BAU'!L175)","v":""},{"$f":"IF('Get started'!$B$6=Referencing!$B$377,\"\",'1A Input Base and BAU'!M175)","v":""},{"$f":"IF('Get started'!$B$6=Referencing!$B$377,\"\",'1A Input Base and BAU'!N175)","v":""},{"$f":"IF('Get started'!$B$6=Referencing!$B$377,\"\",'1A Input Base and BAU'!O175)","v":""}]
["Private car",{"$f":"'1A Input Base and BAU'!D176","v":"l/100km"},{"$f":"IF('Get started'!$B$6=Referencing!$B$377,\"\",'1A Input Base and BAU'!E176)","v":""},{"$f":"IF('Get started'!$B$6=Referencing!$B$377,\"\",'1A Input Base and BAU'!F176)","v":""},{"$f":"IF('Get started'!$B$6=Referencing!$B$377,\"\",'1A Input Base and BAU'!G176)","v":""},{"$f":"IF('Get started'!$B$6=Referencing!$B$377,\"\",'1A Input Base and BAU'!H176)","v":""},{"$f":"IF('Get started'!$B$6=Referencing!$B$377,\"\",'1A Input Base and BAU'!I176)","v":""},{"$f":"IF('Get started'!$B$6=Referencing!$B$377,\"\",'1A Input Base and BAU'!J176)","v":""},{"$f":"IF('Get started'!$B$6=Referencing!$B$377,\"\",'1A Input Base and BAU'!K176)","v":""},{"$f":"IF('Get started'!$B$6=Referencing!$B$377,\"\",'1A Input Base and BAU'!L176)","v":""},{"$f":"IF('Get started'!$B$6=Referencing!$B$377,\"\",'1A Input Base and BAU'!M176)","v":""},{"$f":"IF('Get started'!$B$6=Referencing!$B$377,\"\",'1A Input Base and BAU'!N176)","v":""},{"$f":"IF('Get started'!$B$6=Referencing!$B$377,\"\",'1A Input Base and BAU'!O176)","v":""}]
["Private car",{"$f":"'1A Input Base and BAU'!D177","v":"kg/100 km"},{"$f":"IF('Get started'!$B$6=Referencing!$B$377,\"\",'1A Input Base and BAU'!E177)","v":""},{"$f":"IF('Get started'!$B$6=Referencing!$B$377,\"\",'1A Input Base and BAU'!F177)","v":""},{"$f":"IF('Get started'!$B$6=Referencing!$B$377,\"\",'1A Input Base and BAU'!G177)","v":""},{"$f":"IF('Get started'!$B$6=Referencing!$B$377,\"\",'1A Input Base and BAU'!H177)","v":""},{"$f":"IF('Get started'!$B$6=Referencing!$B$377,\"\",'1A Input Base and BAU'!I177)","v":""},{"$f":"IF('Get started'!$B$6=Referencing!$B$377,\"\",'1A Input Base and BAU'!J177)","v":""},{"$f":"IF('Get started'!$B$6=Referencing!$B$377,\"\",'1A Input Base and BAU'!K177)","v":""},{"$f":"IF('Get started'!$B$6=Referencing!$B$377,\"\",'1A Input Base and BAU'!L177)","v":""},{"$f":"IF('Get started'!$B$6=Referencing!$B$377,\"\",'1A Input Base and BAU'!M177)","v":""},{"$f":"IF('Get started'!$B$6=Referencing!$B$377,\"\",'1A Input Base and BAU'!N177)","v":""},{"$f":"IF('Get started'!$B$6=Referencing!$B$377,\"\",'1A Input Base and BAU'!O177)","v":""}]
["Private car",{"$f":"'1A Input Base and BAU'!D178","v":"l/100km"},{"$f":"IF('Get started'!$B$6=Referencing!$B$377,\"\",'1A Input Base and BAU'!E178)","v":""},{"$f":"IF('Get started'!$B$6=Referencing!$B$377,\"\",'1A Input Base and BAU'!F178)","v":""},{"$f":"IF('Get started'!$B$6=Referencing!$B$377,\"\",'1A Input Base and BAU'!G178)","v":""},{"$f":"IF('Get started'!$B$6=Referencing!$B$377,\"\",'1A Input Base and BAU'!H178)","v":""},{"$f":"IF('Get started'!$B$6=Referencing!$B$377,\"\",'1A Input Base and BAU'!I178)","v":""},{"$f":"IF('Get started'!$B$6=Referencing!$B$377,\"\",'1A Input Base and BAU'!J178)","v":""},{"$f":"IF('Get started'!$B$6=Referencing!$B$377,\"\",'1A Input Base and BAU'!K178)","v":""},{"$f":"IF('Get started'!$B$6=Referencing!$B$377,\"\",'1A Input Base and BAU'!L178)","v":""},{"$f":"IF('Get started'!$B$6=Referencing!$B$377,\"\",'1A Input Base and BAU'!M178)","v":""},{"$f":"IF('Get started'!$B$6=Referencing!$B$377,\"\",'1A Input Base and BAU'!N178)","v":""},{"$f":"IF('Get started'!$B$6=Referencing!$B$377,\"\",'1A Input Base and BAU'!O178)","v":""}]
["Private car",{"$f":"'1A Input Base and BAU'!D179","v":"kWh/100 km"},{"$f":"IF('Get started'!$B$6=Referencing!$B$377,\"\",'1A Input Base and BAU'!E179)","v":""},{"$f":"IF('Get started'!$B$6=Referencing!$B$377,\"\",'1A Input Base and BAU'!F179)","v":""},{"$f":"IF('Get started'!$B$6=Referencing!$B$377,\"\",'1A Input Base and BAU'!G179)","v":""},{"$f":"IF('Get started'!$B$6=Referencing!$B$377,\"\",'1A Input Base and BAU'!H179)","v":""},{"$f":"IF('Get started'!$B$6=Referencing!$B$377,\"\",'1A Input Base and BAU'!I179)","v":""},{"$f":"IF('Get started'!$B$6=Referencing!$B$377,\"\",'1A Input Base and BAU'!J179)","v":""},{"$f":"IF('Get started'!$B$6=Referencing!$B$377,\"\",'1A Input Base and BAU'!K179)","v":""},{"$f":"IF('Get started'!$B$6=Referencing!$B$377,\"\",'1A Input Base and BAU'!L179)","v":""},{"$f":"IF('Get started'!$B$6=Referencing!$B$377,\"\",'1A Input Base and BAU'!M179)","v":""},{"$f":"IF('Get started'!$B$6=Referencing!$B$377,\"\",'1A Input Base and BAU'!N179)","v":""},{"$f":"IF('Get started'!$B$6=Referencing!$B$377,\"\",'1A Input Base and BAU'!O179)","v":""}]
[{"$f":"Itaxi","v":"Individual taxi"},{"$f":"'1A Input Base and BAU'!D180","v":"l/100km"},{"$f":"IF('Get started'!$B$6=Referencing!$B$377,\"\",'1A Input Base and BAU'!E180)","v":""},{"$f":"IF('Get started'!$B$6=Referencing!$B$377,\"\",'1A Input Base and BAU'!F180)","v":""},{"$f":"IF('Get started'!$B$6=Referencing!$B$377,\"\",'1A Input Base and BAU'!G180)","v":""},{"$f":"IF('Get started'!$B$6=Referencing!$B$377,\"\",'1A Input Base and BAU'!H180)","v":""},{"$f":"IF('Get started'!$B$6=Referencing!$B$377,\"\",'1A Input Base and BAU'!I180)","v":""},{"$f":"IF('Get started'!$B$6=Referencing!$B$377,\"\",'1A Input Base and BAU'!J180)","v":""},{"$f":"IF('Get started'!$B$6=Referencing!$B$377,\"\",'1A Input Base and BAU'!K180)","v":""},{"$f":"IF('Get started'!$B$6=Referencing!$B$377,\"\",'1A Input Base and BAU'!L180)","v":""},{"$f":"IF('Get started'!$B$6=Referencing!$B$377,\"\",'1A Input Base and BAU'!M180)","v":""},{"$f":"IF('Get started'!$B$6=Referencing!$B$377,\"\",'1A Input Base and BAU'!N180)","v":""},{"$f":"IF('Get started'!$B$6=Referencing!$B$377,\"\",'1A Input Base and BAU'!O180)","v":""}]
["Individual taxi",{"$f":"'1A Input Base and BAU'!D181","v":"l/100km"},{"$f":"IF('Get started'!$B$6=Referencing!$B$377,\"\",'1A Input Base and BAU'!E181)","v":""},{"$f":"IF('Get started'!$B$6=Referencing!$B$377,\"\",'1A Input Base and BAU'!F181)","v":""},{"$f":"IF('Get started'!$B$6=Referencing!$B$377,\"\",'1A Input Base and BAU'!G181)","v":""},{"$f":"IF('Get started'!$B$6=Referencing!$B$377,\"\",'1A Input Base and BAU'!H181)","v":""},{"$f":"IF('Get started'!$B$6=Referencing!$B$377,\"\",'1A Input Base and BAU'!I181)","v":""},{"$f":"IF('Get started'!$B$6=Referencing!$B$377,\"\",'1A Input Base and BAU'!J181)","v":""},{"$f":"IF('Get started'!$B$6=Referencing!$B$377,\"\",'1A Input Base and BAU'!K181)","v":""},{"$f":"IF('Get started'!$B$6=Referencing!$B$377,\"\",'1A Input Base and BAU'!L181)","v":""},{"$f":"IF('Get started'!$B$6=Referencing!$B$377,\"\",'1A Input Base and BAU'!M181)","v":""},{"$f":"IF('Get started'!$B$6=Referencing!$B$377,\"\",'1A Input Base and BAU'!N181)","v":""},{"$f":"IF('Get started'!$B$6=Referencing!$B$377,\"\",'1A Input Base and BAU'!O181)","v":""}]
["Individual taxi",{"$f":"'1A Input Base and BAU'!D182","v":"l/100km"},{"$f":"IF('Get started'!$B$6=Referencing!$B$377,\"\",'1A Input Base and BAU'!E182)","v":""},{"$f":"IF('Get started'!$B$6=Referencing!$B$377,\"\",'1A Input Base and BAU'!F182)","v":""},{"$f":"IF('Get started'!$B$6=Referencing!$B$377,\"\",'1A Input Base and BAU'!G182)","v":""},{"$f":"IF('Get started'!$B$6=Referencing!$B$377,\"\",'1A Input Base and BAU'!H182)","v":""},{"$f":"IF('Get started'!$B$6=Referencing!$B$377,\"\",'1A Input Base and BAU'!I182)","v":""},{"$f":"IF('Get started'!$B$6=Referencing!$B$377,\"\",'1A Input Base and BAU'!J182)","v":""},{"$f":"IF('Get started'!$B$6=Referencing!$B$377,\"\",'1A Input Base and BAU'!K182)","v":""},{"$f":"IF('Get started'!$B$6=Referencing!$B$377,\"\",'1A Input Base and BAU'!L182)","v":""},{"$f":"IF('Get started'!$B$6=Referencing!$B$377,\"\",'1A Input Base and BAU'!M182)","v":""},{"$f":"IF('Get started'!$B$6=Referencing!$B$377,\"\",'1A Input Base and BAU'!N182)","v":""},{"$f":"IF('Get started'!$B$6=Referencing!$B$377,\"\",'1A Input Base and BAU'!O182)","v":""}]
["Individual taxi",{"$f":"'1A Input Base and BAU'!D183","v":"kg/100 km"},{"$f":"IF('Get started'!$B$6=Referencing!$B$377,\"\",'1A Input Base and BAU'!E183)","v":""},{"$f":"IF('Get started'!$B$6=Referencing!$B$377,\"\",'1A Input Base and BAU'!F183)","v":""},{"$f":"IF('Get started'!$B$6=Referencing!$B$377,\"\",'1A Input Base and BAU'!G183)","v":""},{"$f":"IF('Get started'!$B$6=Referencing!$B$377,\"\",'1A Input Base and BAU'!H183)","v":""},{"$f":"IF('Get started'!$B$6=Referencing!$B$377,\"\",'1A Input Base and BAU'!I183)","v":""},{"$f":"IF('Get started'!$B$6=Referencing!$B$377,\"\",'1A Input Base and BAU'!J183)","v":""},{"$f":"IF('Get started'!$B$6=Referencing!$B$377,\"\",'1A Input Base and BAU'!K183)","v":""},{"$f":"IF('Get started'!$B$6=Referencing!$B$377,\"\",'1A Input Base and BAU'!L183)","v":""},{"$f":"IF('Get started'!$B$6=Referencing!$B$377,\"\",'1A Input Base and BAU'!M183)","v":""},{"$f":"IF('Get started'!$B$6=Referencing!$B$377,\"\",'1A Input Base and BAU'!N183)","v":""},{"$f":"IF('Get started'!$B$6=Referencing!$B$377,\"\",'1A Input Base and BAU'!O183)","v":""}]
["Individual taxi",{"$f":"'1A Input Base and BAU'!D184","v":"l/100km"},{"$f":"IF('Get started'!$B$6=Referencing!$B$377,\"\",'1A Input Base and BAU'!E184)","v":""},{"$f":"IF('Get started'!$B$6=Referencing!$B$377,\"\",'1A Input Base and BAU'!F184)","v":""},{"$f":"IF('Get started'!$B$6=Referencing!$B$377,\"\",'1A Input Base and BAU'!G184)","v":""},{"$f":"IF('Get started'!$B$6=Referencing!$B$377,\"\",'1A Input Base and BAU'!H184)","v":""},{"$f":"IF('Get started'!$B$6=Referencing!$B$377,\"\",'1A Input Base and BAU'!I184)","v":""},{"$f":"IF('Get started'!$B$6=Referencing!$B$377,\"\",'1A Input Base and BAU'!J184)","v":""},{"$f":"IF('Get started'!$B$6=Referencing!$B$377,\"\",'1A Input Base and BAU'!K184)","v":""},{"$f":"IF('Get started'!$B$6=Referencing!$B$377,\"\",'1A Input Base and BAU'!L184)","v":""},{"$f":"IF('Get started'!$B$6=Referencing!$B$377,\"\",'1A Input Base and BAU'!M184)","v":""},{"$f":"IF('Get started'!$B$6=Referencing!$B$377,\"\",'1A Input Base and BAU'!N184)","v":""},{"$f":"IF('Get started'!$B$6=Referencing!$B$377,\"\",'1A Input Base and BAU'!O184)","v":""}]
["Individual taxi",{"$f":"'1A Input Base and BAU'!D185","v":"kWh/100 km"},{"$f":"IF('Get started'!$B$6=Referencing!$B$377,\"\",'1A Input Base and BAU'!E185)","v":""},{"$f":"IF('Get started'!$B$6=Referencing!$B$377,\"\",'1A Input Base and BAU'!F185)","v":""},{"$f":"IF('Get started'!$B$6=Referencing!$B$377,\"\",'1A Input Base and BAU'!G185)","v":""},{"$f":"IF('Get started'!$B$6=Referencing!$B$377,\"\",'1A Input Base and BAU'!H185)","v":""},{"$f":"IF('Get started'!$B$6=Referencing!$B$377,\"\",'1A Input Base and BAU'!I185)","v":""},{"$f":"IF('Get started'!$B$6=Referencing!$B$377,\"\",'1A Input Base and BAU'!J185)","v":""},{"$f":"IF('Get started'!$B$6=Referencing!$B$377,\"\",'1A Input Base and BAU'!K185)","v":""},{"$f":"IF('Get started'!$B$6=Referencing!$B$377,\"\",'1A Input Base and BAU'!L185)","v":""},{"$f":"IF('Get started'!$B$6=Referencing!$B$377,\"\",'1A Input Base and BAU'!M185)","v":""},{"$f":"IF('Get started'!$B$6=Referencing!$B$377,\"\",'1A Input Base and BAU'!N185)","v":""},{"$f":"IF('Get started'!$B$6=Referencing!$B$377,\"\",'1A Input Base and BAU'!O185)","v":""}]
[{"$f":"Motorcycle","v":"Motorcycle"},{"$f":"'1A Input Base and BAU'!D186","v":"l/100km"},{"$f":"IF('Get started'!$B$6=Referencing!$B$377,\"\",'1A Input Base and BAU'!E186)","v":""},{"$f":"IF('Get started'!$B$6=Referencing!$B$377,\"\",'1A Input Base and BAU'!F186)","v":""},{"$f":"IF('Get started'!$B$6=Referencing!$B$377,\"\",'1A Input Base and BAU'!G186)","v":""},{"$f":"IF('Get started'!$B$6=Referencing!$B$377,\"\",'1A Input Base and BAU'!H186)","v":""},{"$f":"IF('Get started'!$B$6=Referencing!$B$377,\"\",'1A Input Base and BAU'!I186)","v":""},{"$f":"IF('Get started'!$B$6=Referencing!$B$377,\"\",'1A Input Base and BAU'!J186)","v":""},{"$f":"IF('Get started'!$B$6=Referencing!$B$377,\"\",'1A Input Base and BAU'!K186)","v":""},{"$f":"IF('Get started'!$B$6=Referencing!$B$377,\"\",'1A Input Base and BAU'!L186)","v":""},{"$f":"IF('Get started'!$B$6=Referencing!$B$377,\"\",'1A Input Base and BAU'!M186)","v":""},{"$f":"IF('Get started'!$B$6=Referencing!$B$377,\"\",'1A Input Base and BAU'!N186)","v":""},{"$f":"IF('Get started'!$B$6=Referencing!$B$377,\"\",'1A Input Base and BAU'!O186)","v":""}]
[{"$f":"Motorcycle","v":"Motorcycle"},{"$f":"'1A Input Base and BAU'!D187","v":"kWh/100 km"},{"$f":"IF('Get started'!$B$6=Referencing!$B$377,\"\",'1A Input Base and BAU'!E187)","v":""},{"$f":"IF('Get started'!$B$6=Referencing!$B$377,\"\",'1A Input Base and BAU'!F187)","v":""},{"$f":"IF('Get started'!$B$6=Referencing!$B$377,\"\",'1A Input Base and BAU'!G187)","v":""},{"$f":"IF('Get started'!$B$6=Referencing!$B$377,\"\",'1A Input Base and BAU'!H187)","v":""},{"$f":"IF('Get started'!$B$6=Referencing!$B$377,\"\",'1A Input Base and BAU'!I187)","v":""},{"$f":"IF('Get started'!$B$6=Referencing!$B$377,\"\",'1A Input Base and BAU'!J187)","v":""},{"$f":"IF('Get started'!$B$6=Referencing!$B$377,\"\",'1A Input Base and BAU'!K187)","v":""},{"$f":"IF('Get started'!$B$6=Referencing!$B$377,\"\",'1A Input Base and BAU'!L187)","v":""},{"$f":"IF('Get started'!$B$6=Referencing!$B$377,\"\",'1A Input Base and BAU'!M187)","v":""},{"$f":"IF('Get started'!$B$6=Referencing!$B$377,\"\",'1A Input Base and BAU'!N187)","v":""},{"$f":"IF('Get started'!$B$6=Referencing!$B$377,\"\",'1A Input Base and BAU'!O187)","v":""}]
[{"$f":"Mototaxi","v":"Motorcycle taxi"},{"$f":"'1A Input Base and BAU'!D188","v":"l/100km"},{"$f":"IF('Get started'!$B$6=Referencing!$B$377,\"\",'1A Input Base and BAU'!E188)","v":""},{"$f":"IF('Get started'!$B$6=Referencing!$B$377,\"\",'1A Input Base and BAU'!F188)","v":""},{"$f":"IF('Get started'!$B$6=Referencing!$B$377,\"\",'1A Input Base and BAU'!G188)","v":""},{"$f":"IF('Get started'!$B$6=Referencing!$B$377,\"\",'1A Input Base and BAU'!H188)","v":""},{"$f":"IF('Get started'!$B$6=Referencing!$B$377,\"\",'1A Input Base and BAU'!I188)","v":""},{"$f":"IF('Get started'!$B$6=Referencing!$B$377,\"\",'1A Input Base and BAU'!J188)","v":""},{"$f":"IF('Get started'!$B$6=Referencing!$B$377,\"\",'1A Input Base and BAU'!K188)","v":""},{"$f":"IF('Get started'!$B$6=Referencing!$B$377,\"\",'1A Input Base and BAU'!L188)","v":""},{"$f":"IF('Get started'!$B$6=Referencing!$B$377,\"\",'1A Input Base and BAU'!M188)","v":""},{"$f":"IF('Get started'!$B$6=Referencing!$B$377,\"\",'1A Input Base and BAU'!N188)","v":""},{"$f":"IF('Get started'!$B$6=Referencing!$B$377,\"\",'1A Input Base and BAU'!O188)","v":""}]
[{"$f":"Mototaxi","v":"Motorcycle taxi"},{"$f":"'1A Input Base and BAU'!D189","v":"kWh/100 km"},{"$f":"IF('Get started'!$B$6=Referencing!$B$377,\"\",'1A Input Base and BAU'!E189)","v":""},{"$f":"IF('Get started'!$B$6=Referencing!$B$377,\"\",'1A Input Base and BAU'!F189)","v":""},{"$f":"IF('Get started'!$B$6=Referencing!$B$377,\"\",'1A Input Base and BAU'!G189)","v":""},{"$f":"IF('Get started'!$B$6=Referencing!$B$377,\"\",'1A Input Base and BAU'!H189)","v":""},{"$f":"IF('Get started'!$B$6=Referencing!$B$377,\"\",'1A Input Base and BAU'!I189)","v":""},{"$f":"IF('Get started'!$B$6=Referencing!$B$377,\"\",'1A Input Base and BAU'!J189)","v":""},{"$f":"IF('Get started'!$B$6=Referencing!$B$377,\"\",'1A Input Base and BAU'!K189)","v":""},{"$f":"IF('Get started'!$B$6=Referencing!$B$377,\"\",'1A Input Base and BAU'!L189)","v":""},{"$f":"IF('Get started'!$B$6=Referencing!$B$377,\"\",'1A Input Base and BAU'!M189)","v":""},{"$f":"IF('Get started'!$B$6=Referencing!$B$377,\"\",'1A Input Base and BAU'!N189)","v":""},{"$f":"IF('Get started'!$B$6=Referencing!$B$377,\"\",'1A Input Base and BAU'!O189)","v":""}]
[{"$f":"Minibus","v":"Minibus"},{"$f":"'1A Input Base and BAU'!D190","v":"l/100km"},{"$f":"IF('Get started'!$B$6=Referencing!$B$377,\"\",'1A Input Base and BAU'!E190)","v":""},{"$f":"IF('Get started'!$B$6=Referencing!$B$377,\"\",'1A Input Base and BAU'!F190)","v":""},{"$f":"IF('Get started'!$B$6=Referencing!$B$377,\"\",'1A Input Base and BAU'!G190)","v":""},{"$f":"IF('Get started'!$B$6=Referencing!$B$377,\"\",'1A Input Base and BAU'!H190)","v":""},{"$f":"IF('Get started'!$B$6=Referencing!$B$377,\"\",'1A Input Base and BAU'!I190)","v":""},{"$f":"IF('Get started'!$B$6=Referencing!$B$377,\"\",'1A Input Base and BAU'!J190)","v":""},{"$f":"IF('Get started'!$B$6=Referencing!$B$377,\"\",'1A Input Base and BAU'!K190)","v":""},{"$f":"IF('Get started'!$B$6=Referencing!$B$377,\"\",'1A Input Base and BAU'!L190)","v":""},{"$f":"IF('Get started'!$B$6=Referencing!$B$377,\"\",'1A Input Base and BAU'!M190)","v":""},{"$f":"IF('Get started'!$B$6=Referencing!$B$377,\"\",'1A Input Base and BAU'!N190)","v":""},{"$f":"IF('Get started'!$B$6=Referencing!$B$377,\"\",'1A Input Base and BAU'!O190)","v":""}]
["Minibus",{"$f":"'1A Input Base and BAU'!D191","v":"l/100km"},{"$f":"IF('Get started'!$B$6=Referencing!$B$377,\"\",'1A Input Base and BAU'!E191)","v":""},{"$f":"IF('Get started'!$B$6=Referencing!$B$377,\"\",'1A Input Base and BAU'!F191)","v":""},{"$f":"IF('Get started'!$B$6=Referencing!$B$377,\"\",'1A Input Base and BAU'!G191)","v":""},{"$f":"IF('Get started'!$B$6=Referencing!$B$377,\"\",'1A Input Base and BAU'!H191)","v":""},{"$f":"IF('Get started'!$B$6=Referencing!$B$377,\"\",'1A Input Base and BAU'!I191)","v":""},{"$f":"IF('Get started'!$B$6=Referencing!$B$377,\"\",'1A Input Base and BAU'!J191)","v":""},{"$f":"IF('Get started'!$B$6=Referencing!$B$377,\"\",'1A Input Base and BAU'!K191)","v":""},{"$f":"IF('Get started'!$B$6=Referencing!$B$377,\"\",'1A Input Base and BAU'!L191)","v":""},{"$f":"IF('Get started'!$B$6=Referencing!$B$377,\"\",'1A Input Base and BAU'!M191)","v":""},{"$f":"IF('Get started'!$B$6=Referencing!$B$377,\"\",'1A Input Base and BAU'!N191)","v":""},{"$f":"IF('Get started'!$B$6=Referencing!$B$377,\"\",'1A Input Base and BAU'!O191)","v":""}]
["Minibus",{"$f":"'1A Input Base and BAU'!D192","v":"l/100km"},{"$f":"IF('Get started'!$B$6=Referencing!$B$377,\"\",'1A Input Base and BAU'!E192)","v":""},{"$f":"IF('Get started'!$B$6=Referencing!$B$377,\"\",'1A Input Base and BAU'!F192)","v":""},{"$f":"IF('Get started'!$B$6=Referencing!$B$377,\"\",'1A Input Base and BAU'!G192)","v":""},{"$f":"IF('Get started'!$B$6=Referencing!$B$377,\"\",'1A Input Base and BAU'!H192)","v":""},{"$f":"IF('Get started'!$B$6=Referencing!$B$377,\"\",'1A Input Base and BAU'!I192)","v":""},{"$f":"IF('Get started'!$B$6=Referencing!$B$377,\"\",'1A Input Base and BAU'!J192)","v":""},{"$f":"IF('Get started'!$B$6=Referencing!$B$377,\"\",'1A Input Base and BAU'!K192)","v":""},{"$f":"IF('Get started'!$B$6=Referencing!$B$377,\"\",'1A Input Base and BAU'!L192)","v":""},{"$f":"IF('Get started'!$B$6=Referencing!$B$377,\"\",'1A Input Base and BAU'!M192)","v":""},{"$f":"IF('Get started'!$B$6=Referencing!$B$377,\"\",'1A Input Base and BAU'!N192)","v":""},{"$f":"IF('Get started'!$B$6=Referencing!$B$377,\"\",'1A Input Base and BAU'!O192)","v":""}]
["Minibus",{"$f":"'1A Input Base and BAU'!D193","v":"kg/100 km"},{"$f":"IF('Get started'!$B$6=Referencing!$B$377,\"\",'1A Input Base and BAU'!E193)","v":""},{"$f":"IF('Get started'!$B$6=Referencing!$B$377,\"\",'1A Input Base and BAU'!F193)","v":""},{"$f":"IF('Get started'!$B$6=Referencing!$B$377,\"\",'1A Input Base and BAU'!G193)","v":""},{"$f":"IF('Get started'!$B$6=Referencing!$B$377,\"\",'1A Input Base and BAU'!H193)","v":""},{"$f":"IF('Get started'!$B$6=Referencing!$B$377,\"\",'1A Input Base and BAU'!I193)","v":""},{"$f":"IF('Get started'!$B$6=Referencing!$B$377,\"\",'1A Input Base and BAU'!J193)","v":""},{"$f":"IF('Get started'!$B$6=Referencing!$B$377,\"\",'1A Input Base and BAU'!K193)","v":""},{"$f":"IF('Get started'!$B$6=Referencing!$B$377,\"\",'1A Input Base and BAU'!L193)","v":""},{"$f":"IF('Get started'!$B$6=Referencing!$B$377,\"\",'1A Input Base and BAU'!M193)","v":""},{"$f":"IF('Get started'!$B$6=Referencing!$B$377,\"\",'1A Input Base and BAU'!N193)","v":""},{"$f":"IF('Get started'!$B$6=Referencing!$B$377,\"\",'1A Input Base and BAU'!O193)","v":""}]
["Minibus",{"$f":"Hybrid","v":"Hybrid"},{"$f":"IF('Get started'!$B$6=Referencing!$B$377,\"\",'1A Input Base and BAU'!E194)","v":""},{"$f":"IF('Get started'!$B$6=Referencing!$B$377,\"\",'1A Input Base and BAU'!F194)","v":""},{"$f":"IF('Get started'!$B$6=Referencing!$B$377,\"\",'1A Input Base and BAU'!G194)","v":""},{"$f":"IF('Get started'!$B$6=Referencing!$B$377,\"\",'1A Input Base and BAU'!H194)","v":""},{"$f":"IF('Get started'!$B$6=Referencing!$B$377,\"\",'1A Input Base and BAU'!I194)","v":""},{"$f":"IF('Get started'!$B$6=Referencing!$B$377,\"\",'1A Input Base and BAU'!J194)","v":""},{"$f":"IF('Get started'!$B$6=Referencing!$B$377,\"\",'1A Input Base and BAU'!K194)","v":""},{"$f":"IF('Get started'!$B$6=Referencing!$B$377,\"\",'1A Input Base and BAU'!L194)","v":""},{"$f":"IF('Get started'!$B$6=Referencing!$B$377,\"\",'1A Input Base and BAU'!M194)","v":""},{"$f":"IF('Get started'!$B$6=Referencing!$B$377,\"\",'1A Input Base and BAU'!N194)","v":""},{"$f":"IF('Get started'!$B$6=Referencing!$B$377,\"\",'1A Input Base and BAU'!O194)","v":""}]
["Minibus",{"$f":"Electric","v":"Electric"},{"$f":"IF('Get started'!$B$6=Referencing!$B$377,\"\",'1A Input Base and BAU'!E195)","v":""},{"$f":"IF('Get started'!$B$6=Referencing!$B$377,\"\",'1A Input Base and BAU'!F195)","v":""},{"$f":"IF('Get started'!$B$6=Referencing!$B$377,\"\",'1A Input Base and BAU'!G195)","v":""},{"$f":"IF('Get started'!$B$6=Referencing!$B$377,\"\",'1A Input Base and BAU'!H195)","v":""},{"$f":"IF('Get started'!$B$6=Referencing!$B$377,\"\",'1A Input Base and BAU'!I195)","v":""},{"$f":"IF('Get started'!$B$6=Referencing!$B$377,\"\",'1A Input Base and BAU'!J195)","v":""},{"$f":"IF('Get started'!$B$6=Referencing!$B$377,\"\",'1A Input Base and BAU'!K195)","v":""},{"$f":"IF('Get started'!$B$6=Referencing!$B$377,\"\",'1A Input Base and BAU'!L195)","v":""},{"$f":"IF('Get started'!$B$6=Referencing!$B$377,\"\",'1A Input Base and BAU'!M195)","v":""},{"$f":"IF('Get started'!$B$6=Referencing!$B$377,\"\",'1A Input Base and BAU'!N195)","v":""},{"$f":"IF('Get started'!$B$6=Referencing!$B$377,\"\",'1A Input Base and BAU'!O195)","v":""}]
[{"$f":"Bus","v":"Bus"},{"$f":"'1A Input Base and BAU'!D196","v":"l/100km"},{"$f":"IF('Get started'!$B$6=Referencing!$B$377,\"\",'1A Input Base and BAU'!E196)","v":""},{"$f":"IF('Get started'!$B$6=Referencing!$B$377,\"\",'1A Input Base and BAU'!F196)","v":""},{"$f":"IF('Get started'!$B$6=Referencing!$B$377,\"\",'1A Input Base and BAU'!G196)","v":""},{"$f":"IF('Get started'!$B$6=Referencing!$B$377,\"\",'1A Input Base and BAU'!H196)","v":""},{"$f":"IF('Get started'!$B$6=Referencing!$B$377,\"\",'1A Input Base and BAU'!I196)","v":""},{"$f":"IF('Get started'!$B$6=Referencing!$B$377,\"\",'1A Input Base and BAU'!J196)","v":""},{"$f":"IF('Get started'!$B$6=Referencing!$B$377,\"\",'1A Input Base and BAU'!K196)","v":""},{"$f":"IF('Get started'!$B$6=Referencing!$B$377,\"\",'1A Input Base and BAU'!L196)","v":""},{"$f":"IF('Get started'!$B$6=Referencing!$B$377,\"\",'1A Input Base and BAU'!M196)","v":""},{"$f":"IF('Get started'!$B$6=Referencing!$B$377,\"\",'1A Input Base and BAU'!N196)","v":""},{"$f":"IF('Get started'!$B$6=Referencing!$B$377,\"\",'1A Input Base and BAU'!O196)","v":""}]
[{"$f":"Bus","v":"Bus"},{"$f":"'1A Input Base and BAU'!D197","v":"kg/100 km"},{"$f":"IF('Get started'!$B$6=Referencing!$B$377,\"\",'1A Input Base and BAU'!E197)","v":""},{"$f":"IF('Get started'!$B$6=Referencing!$B$377,\"\",'1A Input Base and BAU'!F197)","v":""},{"$f":"IF('Get started'!$B$6=Referencing!$B$377,\"\",'1A Input Base and BAU'!G197)","v":""},{"$f":"IF('Get started'!$B$6=Referencing!$B$377,\"\",'1A Input Base and BAU'!H197)","v":""},{"$f":"IF('Get started'!$B$6=Referencing!$B$377,\"\",'1A Input Base and BAU'!I197)","v":""},{"$f":"IF('Get started'!$B$6=Referencing!$B$377,\"\",'1A Input Base and BAU'!J197)","v":""},{"$f":"IF('Get started'!$B$6=Referencing!$B$377,\"\",'1A Input Base and BAU'!K197)","v":""},{"$f":"IF('Get started'!$B$6=Referencing!$B$377,\"\",'1A Input Base and BAU'!L197)","v":""},{"$f":"IF('Get started'!$B$6=Referencing!$B$377,\"\",'1A Input Base and BAU'!M197)","v":""},{"$f":"IF('Get started'!$B$6=Referencing!$B$377,\"\",'1A Input Base and BAU'!N197)","v":""},{"$f":"IF('Get started'!$B$6=Referencing!$B$377,\"\",'1A Input Base and BAU'!O197)","v":""}]
[{"$f":"Bus","v":"Bus"},{"$f":"'1A Input Base and BAU'!D198","v":"l/100km"},{"$f":"IF('Get started'!$B$6=Referencing!$B$377,\"\",'1A Input Base and BAU'!E198)","v":""},{"$f":"IF('Get started'!$B$6=Referencing!$B$377,\"\",'1A Input Base and BAU'!F198)","v":""},{"$f":"IF('Get started'!$B$6=Referencing!$B$377,\"\",'1A Input Base and BAU'!G198)","v":""},{"$f":"IF('Get started'!$B$6=Referencing!$B$377,\"\",'1A Input Base and BAU'!H198)","v":""},{"$f":"IF('Get started'!$B$6=Referencing!$B$377,\"\",'1A Input Base and BAU'!I198)","v":""},{"$f":"IF('Get started'!$B$6=Referencing!$B$377,\"\",'1A Input Base and BAU'!J198)","v":""},{"$f":"IF('Get started'!$B$6=Referencing!$B$377,\"\",'1A Input Base and BAU'!K198)","v":""},{"$f":"IF('Get started'!$B$6=Referencing!$B$377,\"\",'1A Input Base and BAU'!L198)","v":""},{"$f":"IF('Get started'!$B$6=Referencing!$B$377,\"\",'1A Input Base and BAU'!M198)","v":""},{"$f":"IF('Get started'!$B$6=Referencing!$B$377,\"\",'1A Input Base and BAU'!N198)","v":""},{"$f":"IF('Get started'!$B$6=Referencing!$B$377,\"\",'1A Input Base and BAU'!O198)","v":""}]
[{"$f":"Bus","v":"Bus"},{"$f":"'1A Input Base and BAU'!D199","v":"kWh/100 km"},{"$f":"IF('Get started'!$B$6=Referencing!$B$377,\"\",'1A Input Base and BAU'!E199)","v":""},{"$f":"IF('Get started'!$B$6=Referencing!$B$377,\"\",'1A Input Base and BAU'!F199)","v":""},{"$f":"IF('Get started'!$B$6=Referencing!$B$377,\"\",'1A Input Base and BAU'!G199)","v":""},{"$f":"IF('Get started'!$B$6=Referencing!$B$377,\"\",'1A Input Base and BAU'!H199)","v":""},{"$f":"IF('Get started'!$B$6=Referencing!$B$377,\"\",'1A Input Base and BAU'!I199)","v":""},{"$f":"IF('Get started'!$B$6=Referencing!$B$377,\"\",'1A Input Base and BAU'!J199)","v":""},{"$f":"IF('Get started'!$B$6=Referencing!$B$377,\"\",'1A Input Base and BAU'!K199)","v":""},{"$f":"IF('Get started'!$B$6=Referencing!$B$377,\"\",'1A Input Base and BAU'!L199)","v":""},{"$f":"IF('Get started'!$B$6=Referencing!$B$377,\"\",'1A Input Base and BAU'!M199)","v":""},{"$f":"IF('Get started'!$B$6=Referencing!$B$377,\"\",'1A Input Base and BAU'!N199)","v":""},{"$f":"IF('Get started'!$B$6=Referencing!$B$377,\"\",'1A Input Base and BAU'!O199)","v":""}]
[{"$f":"BRT","v":"BRT"},{"$f":"'1A Input Base and BAU'!D200","v":"l/100km"},{"$f":"IF('Get started'!$B$6=Referencing!$B$377,\"\",'1A Input Base and BAU'!E200)","v":""},{"$f":"IF('Get started'!$B$6=Referencing!$B$377,\"\",'1A Input Base and BAU'!F200)","v":""},{"$f":"IF('Get started'!$B$6=Referencing!$B$377,\"\",'1A Input Base and BAU'!G200)","v":""},{"$f":"IF('Get started'!$B$6=Referencing!$B$377,\"\",'1A Input Base and BAU'!H200)","v":""},{"$f":"IF('Get started'!$B$6=Referencing!$B$377,\"\",'1A Input Base and BAU'!I200)","v":""},{"$f":"IF('Get started'!$B$6=Referencing!$B$377,\"\",'1A Input Base and BAU'!J200)","v":""},{"$f":"IF('Get started'!$B$6=Referencing!$B$377,\"\",'1A Input Base and BAU'!K200)","v":""},{"$f":"IF('Get started'!$B$6=Referencing!$B$377,\"\",'1A Input Base and BAU'!L200)","v":""},{"$f":"IF('Get started'!$B$6=Referencing!$B$377,\"\",'1A Input Base and BAU'!M200)","v":""},{"$f":"IF('Get started'!$B$6=Referencing!$B$377,\"\",'1A Input Base and BAU'!N200)","v":""},{"$f":"IF('Get started'!$B$6=Referencing!$B$377,\"\",'1A Input Base and BAU'!O200)","v":""}]
[{"$f":"BRT","v":"BRT"},{"$f":"'1A Input Base and BAU'!D201","v":"kWh/100 km"},{"$f":"IF('Get started'!$B$6=Referencing!$B$377,\"\",'1A Input Base and BAU'!E201)","v":""},{"$f":"IF('Get started'!$B$6=Referencing!$B$377,\"\",'1A Input Base and BAU'!F201)","v":""},{"$f":"IF('Get started'!$B$6=Referencing!$B$377,\"\",'1A Input Base and BAU'!G201)","v":""},{"$f":"IF('Get started'!$B$6=Referencing!$B$377,\"\",'1A Input Base and BAU'!H201)","v":""},{"$f":"IF('Get started'!$B$6=Referencing!$B$377,\"\",'1A Input Base and BAU'!I201)","v":""},{"$f":"IF('Get started'!$B$6=Referencing!$B$377,\"\",'1A Input Base and BAU'!J201)","v":""},{"$f":"IF('Get started'!$B$6=Referencing!$B$377,\"\",'1A Input Base and BAU'!K201)","v":""},{"$f":"IF('Get started'!$B$6=Referencing!$B$377,\"\",'1A Input Base and BAU'!L201)","v":""},{"$f":"IF('Get started'!$B$6=Referencing!$B$377,\"\",'1A Input Base and BAU'!M201)","v":""},{"$f":"IF('Get started'!$B$6=Referencing!$B$377,\"\",'1A Input Base and BAU'!N201)","v":""},{"$f":"IF('Get started'!$B$6=Referencing!$B$377,\"\",'1A Input Base and BAU'!O201)","v":""}]
[{"$f":"lightLCV","v":"Very light LCV"},{"$f":"'1A Input Base and BAU'!D202","v":"l/100km"},{"$f":"IF('Get started'!$B$6=Referencing!$B$377,\"\",'1A Input Base and BAU'!E202)","v":""},{"$f":"IF('Get started'!$B$6=Referencing!$B$377,\"\",'1A Input Base and BAU'!F202)","v":""},{"$f":"IF('Get started'!$B$6=Referencing!$B$377,\"\",'1A Input Base and BAU'!G202)","v":""},{"$f":"IF('Get started'!$B$6=Referencing!$B$377,\"\",'1A Input Base and BAU'!H202)","v":""},{"$f":"IF('Get started'!$B$6=Referencing!$B$377,\"\",'1A Input Base and BAU'!I202)","v":""},{"$f":"IF('Get started'!$B$6=Referencing!$B$377,\"\",'1A Input Base and BAU'!J202)","v":""},{"$f":"IF('Get started'!$B$6=Referencing!$B$377,\"\",'1A Input Base and BAU'!K202)","v":""},{"$f":"IF('Get started'!$B$6=Referencing!$B$377,\"\",'1A Input Base and BAU'!L202)","v":""},{"$f":"IF('Get started'!$B$6=Referencing!$B$377,\"\",'1A Input Base and BAU'!M202)","v":""},{"$f":"IF('Get started'!$B$6=Referencing!$B$377,\"\",'1A Input Base and BAU'!N202)","v":""},{"$f":"IF('Get started'!$B$6=Referencing!$B$377,\"\",'1A Input Base and BAU'!O202)","v":""}]
[{"$f":"lightLCV","v":"Very light LCV"},{"$f":"'1A Input Base and BAU'!D203","v":"l/100km"},{"$f":"IF('Get started'!$B$6=Referencing!$B$377,\"\",'1A Input Base and BAU'!E203)","v":""},{"$f":"IF('Get started'!$B$6=Referencing!$B$377,\"\",'1A Input Base and BAU'!F203)","v":""},{"$f":"IF('Get started'!$B$6=Referencing!$B$377,\"\",'1A Input Base and BAU'!G203)","v":""},{"$f":"IF('Get started'!$B$6=Referencing!$B$377,\"\",'1A Input Base and BAU'!H203)","v":""},{"$f":"IF('Get started'!$B$6=Referencing!$B$377,\"\",'1A Input Base and BAU'!I203)","v":""},{"$f":"IF('Get started'!$B$6=Referencing!$B$377,\"\",'1A Input Base and BAU'!J203)","v":""},{"$f":"IF('Get started'!$B$6=Referencing!$B$377,\"\",'1A Input Base and BAU'!K203)","v":""},{"$f":"IF('Get started'!$B$6=Referencing!$B$377,\"\",'1A Input Base and BAU'!L203)","v":""},{"$f":"IF('Get started'!$B$6=Referencing!$B$377,\"\",'1A Input Base and BAU'!M203)","v":""},{"$f":"IF('Get started'!$B$6=Referencing!$B$377,\"\",'1A Input Base and BAU'!N203)","v":""},{"$f":"IF('Get started'!$B$6=Referencing!$B$377,\"\",'1A Input Base and BAU'!O203)","v":""}]
[{"$f":"lightLCV","v":"Very light LCV"},{"$f":"'1A Input Base and BAU'!D204","v":"kWh/100 km"},{"$f":"IF('Get started'!$B$6=Referencing!$B$377,\"\",'1A Input Base and BAU'!E204)","v":""},{"$f":"IF('Get started'!$B$6=Referencing!$B$377,\"\",'1A Input Base and BAU'!F204)","v":""},{"$f":"IF('Get started'!$B$6=Referencing!$B$377,\"\",'1A Input Base and BAU'!G204)","v":""},{"$f":"IF('Get started'!$B$6=Referencing!$B$377,\"\",'1A Input Base and BAU'!H204)","v":""},{"$f":"IF('Get started'!$B$6=Referencing!$B$377,\"\",'1A Input Base and BAU'!I204)","v":""},{"$f":"IF('Get started'!$B$6=Referencing!$B$377,\"\",'1A Input Base and BAU'!J204)","v":""},{"$f":"IF('Get started'!$B$6=Referencing!$B$377,\"\",'1A Input Base and BAU'!K204)","v":""},{"$f":"IF('Get started'!$B$6=Referencing!$B$377,\"\",'1A Input Base and BAU'!L204)","v":""},{"$f":"IF('Get started'!$B$6=Referencing!$B$377,\"\",'1A Input Base and BAU'!M204)","v":""},{"$f":"IF('Get started'!$B$6=Referencing!$B$377,\"\",'1A Input Base and BAU'!N204)","v":""},{"$f":"IF('Get started'!$B$6=Referencing!$B$377,\"\",'1A Input Base and BAU'!O204)","v":""}]
[{"$f":"LCV","v":"LCV"},{"$f":"'1A Input Base and BAU'!D205","v":"l/100km"},{"$f":"IF('Get started'!$B$6=Referencing!$B$377,\"\",'1A Input Base and BAU'!E205)","v":""},{"$f":"IF('Get started'!$B$6=Referencing!$B$377,\"\",'1A Input Base and BAU'!F205)","v":""},{"$f":"IF('Get started'!$B$6=Referencing!$B$377,\"\",'1A Input Base and BAU'!G205)","v":""},{"$f":"IF('Get started'!$B$6=Referencing!$B$377,\"\",'1A Input Base and BAU'!H205)","v":""},{"$f":"IF('Get started'!$B$6=Referencing!$B$377,\"\",'1A Input Base and BAU'!I205)","v":""},{"$f":"IF('Get started'!$B$6=Referencing!$B$377,\"\",'1A Input Base and BAU'!J205)","v":""},{"$f":"IF('Get started'!$B$6=Referencing!$B$377,\"\",'1A Input Base and BAU'!K205)","v":""},{"$f":"IF('Get started'!$B$6=Referencing!$B$377,\"\",'1A Input Base and BAU'!L205)","v":""},{"$f":"IF('Get started'!$B$6=Referencing!$B$377,\"\",'1A Input Base and BAU'!M205)","v":""},{"$f":"IF('Get started'!$B$6=Referencing!$B$377,\"\",'1A Input Base and BAU'!N205)","v":""},{"$f":"IF('Get started'!$B$6=Referencing!$B$377,\"\",'1A Input Base and BAU'!O205)","v":""}]
[{"$f":"LCV","v":"LCV"},{"$f":"'1A Input Base and BAU'!D206","v":"l/100km"},{"$f":"IF('Get started'!$B$6=Referencing!$B$377,\"\",'1A Input Base and BAU'!E206)","v":""},{"$f":"IF('Get started'!$B$6=Referencing!$B$377,\"\",'1A Input Base and BAU'!F206)","v":""},{"$f":"IF('Get started'!$B$6=Referencing!$B$377,\"\",'1A Input Base and BAU'!G206)","v":""},{"$f":"IF('Get started'!$B$6=Referencing!$B$377,\"\",'1A Input Base and BAU'!H206)","v":""},{"$f":"IF('Get started'!$B$6=Referencing!$B$377,\"\",'1A Input Base and BAU'!I206)","v":""},{"$f":"IF('Get started'!$B$6=Referencing!$B$377,\"\",'1A Input Base and BAU'!J206)","v":""},{"$f":"IF('Get started'!$B$6=Referencing!$B$377,\"\",'1A Input Base and BAU'!K206)","v":""},{"$f":"IF('Get started'!$B$6=Referencing!$B$377,\"\",'1A Input Base and BAU'!L206)","v":""},{"$f":"IF('Get started'!$B$6=Referencing!$B$377,\"\",'1A Input Base and BAU'!M206)","v":""},{"$f":"IF('Get started'!$B$6=Referencing!$B$377,\"\",'1A Input Base and BAU'!N206)","v":""},{"$f":"IF('Get started'!$B$6=Referencing!$B$377,\"\",'1A Input Base and BAU'!O206)","v":""}]
[{"$f":"LCV","v":"LCV"},{"$f":"'1A Input Base and BAU'!D207","v":"l/100km"},{"$f":"IF('Get started'!$B$6=Referencing!$B$377,\"\",'1A Input Base and BAU'!E207)","v":""},{"$f":"IF('Get started'!$B$6=Referencing!$B$377,\"\",'1A Input Base and BAU'!F207)","v":""},{"$f":"IF('Get started'!$B$6=Referencing!$B$377,\"\",'1A Input Base and BAU'!G207)","v":""},{"$f":"IF('Get started'!$B$6=Referencing!$B$377,\"\",'1A Input Base and BAU'!H207)","v":""},{"$f":"IF('Get started'!$B$6=Referencing!$B$377,\"\",'1A Input Base and BAU'!I207)","v":""},{"$f":"IF('Get started'!$B$6=Referencing!$B$377,\"\",'1A Input Base and BAU'!J207)","v":""},{"$f":"IF('Get started'!$B$6=Referencing!$B$377,\"\",'1A Input Base and BAU'!K207)","v":""},{"$f":"IF('Get started'!$B$6=Referencing!$B$377,\"\",'1A Input Base and BAU'!L207)","v":""},{"$f":"IF('Get started'!$B$6=Referencing!$B$377,\"\",'1A Input Base and BAU'!M207)","v":""},{"$f":"IF('Get started'!$B$6=Referencing!$B$377,\"\",'1A Input Base and BAU'!N207)","v":""},{"$f":"IF('Get started'!$B$6=Referencing!$B$377,\"\",'1A Input Base and BAU'!O207)","v":""}]
[{"$f":"LCV","v":"LCV"},{"$f":"'1A Input Base and BAU'!D208","v":"kg/100 km"},{"$f":"IF('Get started'!$B$6=Referencing!$B$377,\"\",'1A Input Base and BAU'!E208)","v":""},{"$f":"IF('Get started'!$B$6=Referencing!$B$377,\"\",'1A Input Base and BAU'!F208)","v":""},{"$f":"IF('Get started'!$B$6=Referencing!$B$377,\"\",'1A Input Base and BAU'!G208)","v":""},{"$f":"IF('Get started'!$B$6=Referencing!$B$377,\"\",'1A Input Base and BAU'!H208)","v":""},{"$f":"IF('Get started'!$B$6=Referencing!$B$377,\"\",'1A Input Base and BAU'!I208)","v":""},{"$f":"IF('Get started'!$B$6=Referencing!$B$377,\"\",'1A Input Base and BAU'!J208)","v":""},{"$f":"IF('Get started'!$B$6=Referencing!$B$377,\"\",'1A Input Base and BAU'!K208)","v":""},{"$f":"IF('Get started'!$B$6=Referencing!$B$377,\"\",'1A Input Base and BAU'!L208)","v":""},{"$f":"IF('Get started'!$B$6=Referencing!$B$377,\"\",'1A Input Base and BAU'!M208)","v":""},{"$f":"IF('Get started'!$B$6=Referencing!$B$377,\"\",'1A Input Base and BAU'!N208)","v":""},{"$f":"IF('Get started'!$B$6=Referencing!$B$377,\"\",'1A Input Base and BAU'!O208)","v":""}]
[{"$f":"LCV","v":"LCV"},{"$f":"'1A Input Base and BAU'!D209","v":"kWh/100 km"},{"$f":"IF('Get started'!$B$6=Referencing!$B$377,\"\",'1A Input Base and BAU'!E209)","v":""},{"$f":"IF('Get started'!$B$6=Referencing!$B$377,\"\",'1A Input Base and BAU'!F209)","v":""},{"$f":"IF('Get started'!$B$6=Referencing!$B$377,\"\",'1A Input Base and BAU'!G209)","v":""},{"$f":"IF('Get started'!$B$6=Referencing!$B$377,\"\",'1A Input Base and BAU'!H209)","v":""},{"$f":"IF('Get started'!$B$6=Referencing!$B$377,\"\",'1A Input Base and BAU'!I209)","v":""},{"$f":"IF('Get started'!$B$6=Referencing!$B$377,\"\",'1A Input Base and BAU'!J209)","v":""},{"$f":"IF('Get started'!$B$6=Referencing!$B$377,\"\",'1A Input Base and BAU'!K209)","v":""},{"$f":"IF('Get started'!$B$6=Referencing!$B$377,\"\",'1A Input Base and BAU'!L209)","v":""},{"$f":"IF('Get started'!$B$6=Referencing!$B$377,\"\",'1A Input Base and BAU'!M209)","v":""},{"$f":"IF('Get started'!$B$6=Referencing!$B$377,\"\",'1A Input Base and BAU'!N209)","v":""},{"$f":"IF('Get started'!$B$6=Referencing!$B$377,\"\",'1A Input Base and BAU'!O209)","v":""}]
[{"$f":"Solo","v":"Solo truck"},{"$f":"'1A Input Base and BAU'!D210","v":"l/100km"},{"$f":"IF('Get started'!$B$6=Referencing!$B$377,\"\",'1A Input Base and BAU'!E210)","v":""},{"$f":"IF('Get started'!$B$6=Referencing!$B$377,\"\",'1A Input Base and BAU'!F210)","v":""},{"$f":"IF('Get started'!$B$6=Referencing!$B$377,\"\",'1A Input Base and BAU'!G210)","v":""},{"$f":"IF('Get started'!$B$6=Referencing!$B$377,\"\",'1A Input Base and BAU'!H210)","v":""},{"$f":"IF('Get started'!$B$6=Referencing!$B$377,\"\",'1A Input Base and BAU'!I210)","v":""},{"$f":"IF('Get started'!$B$6=Referencing!$B$377,\"\",'1A Input Base and BAU'!J210)","v":""},{"$f":"IF('Get started'!$B$6=Referencing!$B$377,\"\",'1A Input Base and BAU'!K210)","v":""},{"$f":"IF('Get started'!$B$6=Referencing!$B$377,\"\",'1A Input Base and BAU'!L210)","v":""},{"$f":"IF('Get started'!$B$6=Referencing!$B$377,\"\",'1A Input Base and BAU'!M210)","v":""},{"$f":"IF('Get started'!$B$6=Referencing!$B$377,\"\",'1A Input Base and BAU'!N210)","v":""},{"$f":"IF('Get started'!$B$6=Referencing!$B$377,\"\",'1A Input Base and BAU'!O210)","v":""}]
[{"$f":"Solo","v":"Solo truck"},{"$f":"'1A Input Base and BAU'!D211","v":"kg/100 km"},{"$f":"IF('Get started'!$B$6=Referencing!$B$377,\"\",'1A Input Base and BAU'!E211)","v":""},{"$f":"IF('Get started'!$B$6=Referencing!$B$377,\"\",'1A Input Base and BAU'!F211)","v":""},{"$f":"IF('Get started'!$B$6=Referencing!$B$377,\"\",'1A Input Base and BAU'!G211)","v":""},{"$f":"IF('Get started'!$B$6=Referencing!$B$377,\"\",'1A Input Base and BAU'!H211)","v":""},{"$f":"IF('Get started'!$B$6=Referencing!$B$377,\"\",'1A Input Base and BAU'!I211)","v":""},{"$f":"IF('Get started'!$B$6=Referencing!$B$377,\"\",'1A Input Base and BAU'!J211)","v":""},{"$f":"IF('Get started'!$B$6=Referencing!$B$377,\"\",'1A Input Base and BAU'!K211)","v":""},{"$f":"IF('Get started'!$B$6=Referencing!$B$377,\"\",'1A Input Base and BAU'!L211)","v":""},{"$f":"IF('Get started'!$B$6=Referencing!$B$377,\"\",'1A Input Base and BAU'!M211)","v":""},{"$f":"IF('Get started'!$B$6=Referencing!$B$377,\"\",'1A Input Base and BAU'!N211)","v":""},{"$f":"IF('Get started'!$B$6=Referencing!$B$377,\"\",'1A Input Base and BAU'!O211)","v":""}]
[{"$f":"Solo","v":"Solo truck"},{"$f":"'1A Input Base and BAU'!D212","v":"kWh/100 km"},{"$f":"IF('Get started'!$B$6=Referencing!$B$377,\"\",'1A Input Base and BAU'!E212)","v":""},{"$f":"IF('Get started'!$B$6=Referencing!$B$377,\"\",'1A Input Base and BAU'!F212)","v":""},{"$f":"IF('Get started'!$B$6=Referencing!$B$377,\"\",'1A Input Base and BAU'!G212)","v":""},{"$f":"IF('Get started'!$B$6=Referencing!$B$377,\"\",'1A Input Base and BAU'!H212)","v":""},{"$f":"IF('Get started'!$B$6=Referencing!$B$377,\"\",'1A Input Base and BAU'!I212)","v":""},{"$f":"IF('Get started'!$B$6=Referencing!$B$377,\"\",'1A Input Base and BAU'!J212)","v":""},{"$f":"IF('Get started'!$B$6=Referencing!$B$377,\"\",'1A Input Base and BAU'!K212)","v":""},{"$f":"IF('Get started'!$B$6=Referencing!$B$377,\"\",'1A Input Base and BAU'!L212)","v":""},{"$f":"IF('Get started'!$B$6=Referencing!$B$377,\"\",'1A Input Base and BAU'!M212)","v":""},{"$f":"IF('Get started'!$B$6=Referencing!$B$377,\"\",'1A Input Base and BAU'!N212)","v":""},{"$f":"IF('Get started'!$B$6=Referencing!$B$377,\"\",'1A Input Base and BAU'!O212)","v":""}]
[{"$f":"Atruck","v":"Articulated truck"},{"$f":"'1A Input Base and BAU'!D213","v":"l/100km"},{"$f":"IF('Get started'!$B$6=Referencing!$B$377,\"\",'1A Input Base and BAU'!E213)","v":""},{"$f":"IF('Get started'!$B$6=Referencing!$B$377,\"\",'1A Input Base and BAU'!F213)","v":""},{"$f":"IF('Get started'!$B$6=Referencing!$B$377,\"\",'1A Input Base and BAU'!G213)","v":""},{"$f":"IF('Get started'!$B$6=Referencing!$B$377,\"\",'1A Input Base and BAU'!H213)","v":""},{"$f":"IF('Get started'!$B$6=Referencing!$B$377,\"\",'1A Input Base and BAU'!I213)","v":""},{"$f":"IF('Get started'!$B$6=Referencing!$B$377,\"\",'1A Input Base and BAU'!J213)","v":""},{"$f":"IF('Get started'!$B$6=Referencing!$B$377,\"\",'1A Input Base and BAU'!K213)","v":""},{"$f":"IF('Get started'!$B$6=Referencing!$B$377,\"\",'1A Input Base and BAU'!L213)","v":""},{"$f":"IF('Get started'!$B$6=Referencing!$B$377,\"\",'1A Input Base and BAU'!M213)","v":""},{"$f":"IF('Get started'!$B$6=Referencing!$B$377,\"\",'1A Input Base and BAU'!N213)","v":""},{"$f":"IF('Get started'!$B$6=Referencing!$B$377,\"\",'1A Input Base and BAU'!O213)","v":""}]
[{"$f":"Atruck","v":"Articulated truck"},{"$f":"'1A Input Base and BAU'!D214","v":"kg/100 km"},{"$f":"IF('Get started'!$B$6=Referencing!$B$377,\"\",'1A Input Base and BAU'!E214)","v":""},{"$f":"IF('Get started'!$B$6=Referencing!$B$377,\"\",'1A Input Base and BAU'!F214)","v":""},{"$f":"IF('Get started'!$B$6=Referencing!$B$377,\"\",'1A Input Base and BAU'!G214)","v":""},{"$f":"IF('Get started'!$B$6=Referencing!$B$377,\"\",'1A Input Base and BAU'!H214)","v":""},{"$f":"IF('Get started'!$B$6=Referencing!$B$377,\"\",'1A Input Base and BAU'!I214)","v":""},{"$f":"IF('Get started'!$B$6=Referencing!$B$377,\"\",'1A Input Base and BAU'!J214)","v":""},{"$f":"IF('Get started'!$B$6=Referencing!$B$377,\"\",'1A Input Base and BAU'!K214)","v":""},{"$f":"IF('Get started'!$B$6=Referencing!$B$377,\"\",'1A Input Base and BAU'!L214)","v":""},{"$f":"IF('Get started'!$B$6=Referencing!$B$377,\"\",'1A Input Base and BAU'!M214)","v":""},{"$f":"IF('Get started'!$B$6=Referencing!$B$377,\"\",'1A Input Base and BAU'!N214)","v":""},{"$f":"IF('Get started'!$B$6=Referencing!$B$377,\"\",'1A Input Base and BAU'!O214)","v":""}]
[{"$f":"Atruck","v":"Articulated truck"},{"$f":"'1A Input Base and BAU'!D215","v":"kWh/100 km"},{"$f":"IF('Get started'!$B$6=Referencing!$B$377,\"\",'1A Input Base and BAU'!E215)","v":""},{"$f":"IF('Get started'!$B$6=Referencing!$B$377,\"\",'1A Input Base and BAU'!F215)","v":""},{"$f":"IF('Get started'!$B$6=Referencing!$B$377,\"\",'1A Input Base and BAU'!G215)","v":""},{"$f":"IF('Get started'!$B$6=Referencing!$B$377,\"\",'1A Input Base and BAU'!H215)","v":""},{"$f":"IF('Get started'!$B$6=Referencing!$B$377,\"\",'1A Input Base and BAU'!I215)","v":""},{"$f":"IF('Get started'!$B$6=Referencing!$B$377,\"\",'1A Input Base and BAU'!J215)","v":""},{"$f":"IF('Get started'!$B$6=Referencing!$B$377,\"\",'1A Input Base and BAU'!K215)","v":""},{"$f":"IF('Get started'!$B$6=Referencing!$B$377,\"\",'1A Input Base and BAU'!L215)","v":""},{"$f":"IF('Get started'!$B$6=Referencing!$B$377,\"\",'1A Input Base and BAU'!M215)","v":""},{"$f":"IF('Get started'!$B$6=Referencing!$B$377,\"\",'1A Input Base and BAU'!N215)","v":""},{"$f":"IF('Get started'!$B$6=Referencing!$B$377,\"\",'1A Input Base and BAU'!O215)","v":""}]
[{"$f":"Train","v":"Long distance train"},{"$f":"'1A Input Base and BAU'!D216","v":"l/100km"},{"$f":"IF('Get started'!$B$6=Referencing!$B$377,\"\",'1A Input Base and BAU'!E216)","v":""},{"$f":"IF('Get started'!$B$6=Referencing!$B$377,\"\",'1A Input Base and BAU'!F216)","v":""},{"$f":"IF('Get started'!$B$6=Referencing!$B$377,\"\",'1A Input Base and BAU'!G216)","v":""},{"$f":"IF('Get started'!$B$6=Referencing!$B$377,\"\",'1A Input Base and BAU'!H216)","v":""},{"$f":"IF('Get started'!$B$6=Referencing!$B$377,\"\",'1A Input Base and BAU'!I216)","v":""},{"$f":"IF('Get started'!$B$6=Referencing!$B$377,\"\",'1A Input Base and BAU'!J216)","v":""},{"$f":"IF('Get started'!$B$6=Referencing!$B$377,\"\",'1A Input Base and BAU'!K216)","v":""},{"$f":"IF('Get started'!$B$6=Referencing!$B$377,\"\",'1A Input Base and BAU'!L216)","v":""},{"$f":"IF('Get started'!$B$6=Referencing!$B$377,\"\",'1A Input Base and BAU'!M216)","v":""},{"$f":"IF('Get started'!$B$6=Referencing!$B$377,\"\",'1A Input Base and BAU'!N216)","v":""},{"$f":"IF('Get started'!$B$6=Referencing!$B$377,\"\",'1A Input Base and BAU'!O216)","v":""}]
[{"$f":"Train","v":"Long distance train"},{"$f":"'1A Input Base and BAU'!D217","v":"kWh/100 km"},{"$f":"IF('Get started'!$B$6=Referencing!$B$377,\"\",'1A Input Base and BAU'!E217)","v":""},{"$f":"IF('Get started'!$B$6=Referencing!$B$377,\"\",'1A Input Base and BAU'!F217)","v":""},{"$f":"IF('Get started'!$B$6=Referencing!$B$377,\"\",'1A Input Base and BAU'!G217)","v":""},{"$f":"IF('Get started'!$B$6=Referencing!$B$377,\"\",'1A Input Base and BAU'!H217)","v":""},{"$f":"IF('Get started'!$B$6=Referencing!$B$377,\"\",'1A Input Base and BAU'!I217)","v":""},{"$f":"IF('Get started'!$B$6=Referencing!$B$377,\"\",'1A Input Base and BAU'!J217)","v":""},{"$f":"IF('Get started'!$B$6=Referencing!$B$377,\"\",'1A Input Base and BAU'!K217)","v":""},{"$f":"IF('Get started'!$B$6=Referencing!$B$377,\"\",'1A Input Base and BAU'!L217)","v":""},{"$f":"IF('Get started'!$B$6=Referencing!$B$377,\"\",'1A Input Base and BAU'!M217)","v":""},{"$f":"IF('Get started'!$B$6=Referencing!$B$377,\"\",'1A Input Base and BAU'!N217)","v":""},{"$f":"IF('Get started'!$B$6=Referencing!$B$377,\"\",'1A Input Base and BAU'!O217)","v":""}]
[{"$f":"Utrain","v":"Urban train"},{"$f":"'1A Input Base and BAU'!D218","v":"kWh/100 km"},{"$f":"IF('Get started'!$B$6=Referencing!$B$377,\"\",'1A Input Base and BAU'!E218)","v":""},{"$f":"IF('Get started'!$B$6=Referencing!$B$377,\"\",'1A Input Base and BAU'!F218)","v":""},{"$f":"IF('Get started'!$B$6=Referencing!$B$377,\"\",'1A Input Base and BAU'!G218)","v":""},{"$f":"IF('Get started'!$B$6=Referencing!$B$377,\"\",'1A Input Base and BAU'!H218)","v":""},{"$f":"IF('Get started'!$B$6=Referencing!$B$377,\"\",'1A Input Base and BAU'!I218)","v":""},{"$f":"IF('Get started'!$B$6=Referencing!$B$377,\"\",'1A Input Base and BAU'!J218)","v":""},{"$f":"IF('Get started'!$B$6=Referencing!$B$377,\"\",'1A Input Base and BAU'!K218)","v":""},{"$f":"IF('Get started'!$B$6=Referencing!$B$377,\"\",'1A Input Base and BAU'!L218)","v":""},{"$f":"IF('Get started'!$B$6=Referencing!$B$377,\"\",'1A Input Base and BAU'!M218)","v":""},{"$f":"IF('Get started'!$B$6=Referencing!$B$377,\"\",'1A Input Base and BAU'!N218)","v":""},{"$f":"IF('Get started'!$B$6=Referencing!$B$377,\"\",'1A Input Base and BAU'!O218)","v":""}]
[{"$f":"Metro","v":"Metro"},{"$f":"'1A Input Base and BAU'!D219","v":"kWh/100 km"},{"$f":"IF('Get started'!$B$6=Referencing!$B$377,\"\",'1A Input Base and BAU'!E219)","v":""},{"$f":"IF('Get started'!$B$6=Referencing!$B$377,\"\",'1A Input Base and BAU'!F219)","v":""},{"$f":"IF('Get started'!$B$6=Referencing!$B$377,\"\",'1A Input Base and BAU'!G219)","v":""},{"$f":"IF('Get started'!$B$6=Referencing!$B$377,\"\",'1A Input Base and BAU'!H219)","v":""},{"$f":"IF('Get started'!$B$6=Referencing!$B$377,\"\",'1A Input Base and BAU'!I219)","v":""},{"$f":"IF('Get started'!$B$6=Referencing!$B$377,\"\",'1A Input Base and BAU'!J219)","v":""},{"$f":"IF('Get started'!$B$6=Referencing!$B$377,\"\",'1A Input Base and BAU'!K219)","v":""},{"$f":"IF('Get started'!$B$6=Referencing!$B$377,\"\",'1A Input Base and BAU'!L219)","v":""},{"$f":"IF('Get started'!$B$6=Referencing!$B$377,\"\",'1A Input Base and BAU'!M219)","v":""},{"$f":"IF('Get started'!$B$6=Referencing!$B$377,\"\",'1A Input Base and BAU'!N219)","v":""},{"$f":"IF('Get started'!$B$6=Referencing!$B$377,\"\",'1A Input Base and BAU'!O219)","v":""}]
[{"$f":"Ftrain","v":"Freight train"},{"$f":"'1A Input Base and BAU'!D220","v":"l/100km"},{"$f":"IF('Get started'!$B$6=Referencing!$B$377,\"\",'1A Input Base and BAU'!E220)","v":""},{"$f":"IF('Get started'!$B$6=Referencing!$B$377,\"\",'1A Input Base and BAU'!F220)","v":""},{"$f":"IF('Get started'!$B$6=Referencing!$B$377,\"\",'1A Input Base and BAU'!G220)","v":""},{"$f":"IF('Get started'!$B$6=Referencing!$B$377,\"\",'1A Input Base and BAU'!H220)","v":""},{"$f":"IF('Get started'!$B$6=Referencing!$B$377,\"\",'1A Input Base and BAU'!I220)","v":""},{"$f":"IF('Get started'!$B$6=Referencing!$B$377,\"\",'1A Input Base and BAU'!J220)","v":""},{"$f":"IF('Get started'!$B$6=Referencing!$B$377,\"\",'1A Input Base and BAU'!K220)","v":""},{"$f":"IF('Get started'!$B$6=Referencing!$B$377,\"\",'1A Input Base and BAU'!L220)","v":""},{"$f":"IF('Get started'!$B$6=Referencing!$B$377,\"\",'1A Input Base and BAU'!M220)","v":""},{"$f":"IF('Get started'!$B$6=Referencing!$B$377,\"\",'1A Input Base and BAU'!N220)","v":""},{"$f":"IF('Get started'!$B$6=Referencing!$B$377,\"\",'1A Input Base and BAU'!O220)","v":""}]
[{"$f":"Ftrain","v":"Freight train"},{"$f":"'1A Input Base and BAU'!D221","v":"kWh/100 km"},{"$f":"IF('Get started'!$B$6=Referencing!$B$377,\"\",'1A Input Base and BAU'!E221)","v":""},{"$f":"IF('Get started'!$B$6=Referencing!$B$377,\"\",'1A Input Base and BAU'!F221)","v":""},{"$f":"IF('Get started'!$B$6=Referencing!$B$377,\"\",'1A Input Base and BAU'!G221)","v":""},{"$f":"IF('Get started'!$B$6=Referencing!$B$377,\"\",'1A Input Base and BAU'!H221)","v":""},{"$f":"IF('Get started'!$B$6=Referencing!$B$377,\"\",'1A Input Base and BAU'!I221)","v":""},{"$f":"IF('Get started'!$B$6=Referencing!$B$377,\"\",'1A Input Base and BAU'!J221)","v":""},{"$f":"IF('Get started'!$B$6=Referencing!$B$377,\"\",'1A Input Base and BAU'!K221)","v":""},{"$f":"IF('Get started'!$B$6=Referencing!$B$377,\"\",'1A Input Base and BAU'!L221)","v":""},{"$f":"IF('Get started'!$B$6=Referencing!$B$377,\"\",'1A Input Base and BAU'!M221)","v":""},{"$f":"IF('Get started'!$B$6=Referencing!$B$377,\"\",'1A Input Base and BAU'!N221)","v":""},{"$f":"IF('Get started'!$B$6=Referencing!$B$377,\"\",'1A Input Base and BAU'!O221)","v":""}]
[{"$f":"Source","v":"Source"},null,{"$f":"IF('Get started'!$B$6=Referencing!$B$385,\"\",'Get started'!$C$6)","v":"xx"}]
[]
[{"$f":"Inputmix","v":"Input data for the electricity mix"},null,{"$f":"'Get started'!C7","v":0},2020,2025,2030,2040,2050]
[{"$f":"Roadelec","v":"Road - Electric"},"g CO2/kWh",{"$f":"IF('Get started'!$B$6=Referencing!$B$377,\"\",'1A Input Base and BAU'!D230)","v":""},{"$f":"IF('Get started'!$B$6=Referencing!$B$377,\"\",'1A Input Base and BAU'!E230)","v":""},{"$f":"IF('Get started'!$B$6=Referencing!$B$377,\"\",'1A Input Base and BAU'!F230)","v":""},{"$f":"IF('Get started'!$B$6=Referencing!$B$377,\"\",'1A Input Base and BAU'!G230)","v":""},{"$f":"IF('Get started'!$B$6=Referencing!$B$377,\"\",'1A Input Base and BAU'!H230)","v":""},{"$f":"IF('Get started'!$B$6=Referencing!$B$377,\"\",'1A Input Base and BAU'!I230)","v":""}]
[{"$f":"Trainelec","v":"Train - Electric"},"g CO2/kWh",{"$f":"IF('Get started'!$B$6=Referencing!$B$377,\"\",'1A Input Base and BAU'!D231)","v":""},{"$f":"IF('Get started'!$B$6=Referencing!$B$377,\"\",'1A Input Base and BAU'!E231)","v":""},{"$f":"IF('Get started'!$B$6=Referencing!$B$377,\"\",'1A Input Base and BAU'!F231)","v":""},{"$f":"IF('Get started'!$B$6=Referencing!$B$377,\"\",'1A Input Base and BAU'!G231)","v":""},{"$f":"IF('Get started'!$B$6=Referencing!$B$377,\"\",'1A Input Base and BAU'!H231)","v":""},{"$f":"IF('Get started'!$B$6=Referencing!$B$377,\"\",'1A Input Base and BAU'!I231)","v":""}]
[{"$f":"Source","v":"Source"},null,{"$f":"IF('Get started'!$B$6=Referencing!$B$385,\"\",'Get started'!$C$6)","v":"xx"}]

{"sheet":"6 Defaults parameters","index":9,"n_rows":26,"n_cols":37,"rows_kept":26,"cut":false,"hidden":false,"merged":[[2,2,3,14],[1,2,1,14],[6,31,6,36],[6,19,6,24],[6,25,6,30],[5,11,5,13],[6,8,6,13],[5,19,5,24],[6,1,6,2],[5,1,5,2],[6,5,6,7],[5,5,5,7],[5,8,5,10]]}
[]
[null,null,{"$f":"Text19","v":"5 Defaults parameters"}]
[null,null,{"$f":"Text20","v":"The default settings for lower heat values and CO2, CH4 and N2O emission factors are used for all transport sub-sectors. They comply with the IPCC Tier 1 approach and are not country-specific. A great deal of uncertainty arises for CH4 and N2O emissions, which vary greatly depending on traffic conditions in the country. More information can be found in the sources given in the table below.\n\nA modification of the default values implies the entire responsibility of the user.\n"}]
[]
[]
[null,{"$f":"Fuel","v":"Fuel type"},null,{"$f":"LHV","v":"Lower heating value"},{"$f":"Density","v":"Density"},"CO2",null,null,"CH4",null,null,"N2O ",null,null,"CO2-eq TTW",null,"CO2-eq WTT","CO2-eq WTW",null,{"$f":"Factorselec","v":"Factors selected in kg/TJ"}]
[null,"Source",null,"IPCC Guidelines 2006; Chapter 1: Introduction; p 1.18","IEA; Energy Statistics Manual p.181","IPCC Guidelines 2006; Chapter 1: Introduction; p 1.23",null,null,"Route: IPCC Guidelines 2006; Chapter 3: mobile Combustion p.3.21\nRail:  IPCC Guidelines 2006; Chapter 3: mobile Combustion p.3.43\nAviation: IPCC Guidelines 2006; Chapter 3: mobile Combustion p.3.64\nNavigation: IPCC Guidelines 2006; Chapter 3: mobile Combustion p.3.50",null,null,null,null,null,{"$f":"calculated","v":"calculated"},null,"EcoTransIT World 2013",{"$f":"calculated","v":"calculated"},null,{"$f":"EFCO2","v":"Emission factors CO2e TTW (kg/TJ)"},null,null,null,null,null,{"$f":"EFCO2","v":"Emission factors CO2e TTW (kg/TJ)"},null,null,null,null,null,{"$f":"TotalGHGWTW","v":"Emission factors CO2e WTW (kg/TJ)"}]
[null,{"$f":"Usedfor","v":"Used for "},{"$f":"Fuelcat","v":"Fuel category"},{"$f":"TJ1000tons","v":"TJ/1000 tons \nMJ/kWh for electricity"},{"$f":"kgl","v":"kg/l;\nKg/kg for NG"},{"$f":"default","v":"default values"},{"$f":"low","v":"low"},{"$f":"high","v":"high"},{"$f":"default","v":"default values"},{"$f":"low","v":"low"},{"$f":"high","v":"high"},{"$f":"default","v":"default values"},{"$f":"low","v":"low"},{"$f":"high","v":"high"},"kg/TJ",null,"kg /TJ","kg /TJ",null,{"$f":"+IF('3 Overview of results'!$D$12=\"TTW\",'6 Defaults parameters'!Z8,'6 Defaults parameters'!AF8)","v":0},{"$f":"+IF('3 Overview of results'!$D$12=\"TTW\",'6 Defaults parameters'!AA8,'6 Defaults parameters'!AG8)","v":2020},{"$f":"+IF('3 Overview of results'!$D$12=\"TTW\",'6 Defaults parameters'!AB8,'6 Defaults parameters'!AH8)","v":2025},{"$f":"+IF('3 Overview of results'!$D$12=\"TTW\",'6 Defaults parameters'!AC8,'6 Defaults parameters'!AI8)","v":2030},{"$f":"+IF('3 Overview of results'!$D$12=\"TTW\",'6 Defaults parameters'!AD8,'6 Defaults parameters'!AJ8)","v":2040},{"$f":"+IF('3 Overview of results'!$D$12=\"TTW\",'6 Defaults parameters'!AE8,'6 Defaults parameters'!AK8)","v":2050},{"$f":"'Get started'!C7","v":0},2020,2025,2030,2040,2050,{"$f":"Z8","v":0},2020,2025,2030,2040,2050]
[null,{"$f":"RoadG","v":"Road - Gasoline"},{"$f":"Gasun","v":"Motor Gasoline- uncontrolled"},44.3,0.7407407407407407,69300,67500,73000,33,9.6,110,3.2,0.96,11,{"$f":"+F9+I9*25+L9*298","v":71078.600000000006},null,14120.3703703704,{"$f":"O9+Q9","v":85198.9703703704},null,{"$f":"+IF('3 Overview of results'!$D$12=\"TTW\",'6 Defaults parameters'!Z9,'6 Defaults parameters'!AF9)","v":71078.600000000006},{"$f":"+IF('3 Overview of results'!$D$12=\"TTW\",'6 Defaults parameters'!AA9,'6 Defaults parameters'!AG9)","v":71078.600000000006},{"$f":"+IF('3 Overview of results'!$D$12=\"TTW\",'6 Defaults parameters'!AB9,'6 Defaults parameters'!AH9)","v":71078.600000000006},{"$f":"+IF('3 Overview of results'!$D$12=\"TTW\",'6 Defaults parameters'!AC9,'6 Defaults parameters'!AI9)","v":71078.600000000006},{"$f":"+IF('3 Overview of results'!$D$12=\"TTW\",'6 Defaults parameters'!AD9,'6 Defaults parameters'!AJ9)","v":71078.600000000006},{"$f":"+IF('3 Overview of results'!$D$12=\"TTW\",'6 Defaults parameters'!AE9,'6 Defaults parameters'!AK9)","v":71078.600000000006},{"$f":"$O9","v":71078.600000000006},{"$f":"$O9","v":71078.600000000006},71078.600000000006,71078.600000000006,71078.600000000006,71078.600000000006,{"$f":"+$R9","v":85198.9703703704},{"$f":"+$R9","v":85198.9703703704},85198.9703703704,85198.9703703704,85198.9703703704,85198.9703703704]
[null,"not used",{"$f":"Gasoxi","v":"Motor Gasoline- Oxidation Catalyst"},44.3,0.7407407407407407,69300,67500,73000,25,7.5,86,8,2.6,24,{"$f":"+F10+I10*25+L10*298","v":72309},null,null,null,null,{"$f":"+IF('3 Overview of results'!$D$12=\"TTW\",'6 Defaults parameters'!Z10,'6 Defaults parameters'!AF10)","v":72309},{"$f":"+IF('3 Overview of results'!$D$12=\"TTW\",'6 Defaults parameters'!AA10,'6 Defaults parameters'!AG10)","v":72309},{"$f":"+IF('3 Overview of results'!$D$12=\"TTW\",'6 Defaults parameters'!AB10,'6 Defaults parameters'!AH10)","v":72309},{"$f":"+IF('3 Overview of results'!$D$12=\"TTW\",'6 Defaults parameters'!AC10,'6 Defaults parameters'!AI10)","v":72309},{"$f":"+IF('3 Overview of results'!$D$12=\"TTW\",'6 Defaults parameters'!AD10,'6 Defaults parameters'!AJ10)","v":72309},{"$f":"+IF('3 Overview of results'!$D$12=\"TTW\",'6 Defaults parameters'!AE10,'6 Defaults parameters'!AK10)","v":72309},{"$f":"$O10","v":72309},72309,72309,72309,72309,72309,0,0,0,0,0,0]
[null,"not used",{"$f":"GasLDV","v":"Motor Gasoline- Low Mileage LDV Vintage 1995 or Later"},44.3,0.7407407407407407,69300,67500,73000,3.8,1.1000000000000001,13,5.7,1.9,17,71093.600000000006,null,null,null,null,{"$f":"+IF('3 Overview of results'!$D$12=\"TTW\",'6 Defaults parameters'!Z11,'6 Defaults parameters'!AF11)","v":71093.600000000006},{"$f":"+IF('3 Overview of results'!$D$12=\"TTW\",'6 Defaults parameters'!AA11,'6 Defaults parameters'!AG11)","v":71093.600000000006},{"$f":"+IF('3 Overview of results'!$D$12=\"TTW\",'6 Defaults parameters'!AB11,'6 Defaults parameters'!AH11)","v":71093.600000000006},{"$f":"+IF('3 Overview of results'!$D$12=\"TTW\",'6 Defaults parameters'!AC11,'6 Defaults parameters'!AI11)","v":71093.600000000006},{"$f":"+IF('3 Overview of results'!$D$12=\"TTW\",'6 Defaults parameters'!AD11,'6 Defaults parameters'!AJ11)","v":71093.600000000006},{"$f":"+IF('3 Overview of results'!$D$12=\"TTW\",'6 Defaults parameters'!AE11,'6 Defaults parameters'!AK11)","v":71093.600000000006},71093.600000000006,71093.600000000006,71093.600000000006,71093.600000000006,71093.600000000006,71093.600000000006,0,0,0,0,0,0]
[null,{"$f":"RoadH","v":"Road - Hybrid"},{"$f":"Gasun","v":"Motor Gasoline- uncontrolled"},{"$f":"+D9","v":44.3},0.7407407407407407,69300,67500,73000,33,9.6,110,3.2,0.96,11,71078.600000000006,null,{"$f":"+Q9","v":14120.3703703704},{"$f":"O12+Q12","v":85198.9703703704},null,{"$f":"+IF('3 Overview of results'!$D$12=\"TTW\",'6 Defaults parameters'!Z12,'6 Defaults parameters'!AF12)","v":71078.600000000006},{"$f":"+IF('3 Overview of results'!$D$12=\"TTW\",'6 Defaults parameters'!AA12,'6 Defaults parameters'!AG12)","v":71078.600000000006},{"$f":"+IF('3 Overview of results'!$D$12=\"TTW\",'6 Defaults parameters'!AB12,'6 Defaults parameters'!AH12)","v":71078.600000000006},{"$f":"+IF('3 Overview of results'!$D$12=\"TTW\",'6 Defaults parameters'!AC12,'6 Defaults parameters'!AI12)","v":71078.600000000006},{"$f":"+IF('3 Overview of results'!$D$12=\"TTW\",'6 Defaults parameters'!AD12,'6 Defaults parameters'!AJ12)","v":71078.600000000006},{"$f":"+IF('3 Overview of results'!$D$12=\"TTW\",'6 Defaults parameters'!AE12,'6 Defaults parameters'!AK12)","v":71078.600000000006},71078.600000000006,71078.600000000006,71078.600000000006,71078.600000000006,71078.600000000006,71078.600000000006,85198.9703703704,85198.9703703704,85198.9703703704,85198.9703703704,85198.9703703704,85198.9703703704]
[null,{"$f":"RoadD","v":"Road - Diesel"},{"$f":"Diesel","v":"Diesel"},43,0.84388185654008441,74100,72600,74800,3.9,1.6,9.5,3.9,1.3,12,75359.7,null,16009.280742459399,91368.980742459389,null,{"$f":"+IF('3 Overview of results'!$D$12=\"TTW\",'6 Defaults parameters'!Z13,'6 Defaults parameters'!AF13)","v":75359.7},{"$f":"+IF('3 Overview of results'!$D$12=\"TTW\",'6 Defaults parameters'!AA13,'6 Defaults parameters'!AG13)","v":75359.7},{"$f":"+IF('3 Overview of results'!$D$12=\"TTW\",'6 Defaults parameters'!AB13,'6 Defaults parameters'!AH13)","v":75359.7},{"$f":"+IF('3 Overview of results'!$D$12=\"TTW\",'6 Defaults parameters'!AC13,'6 Defaults parameters'!AI13)","v":75359.7},{"$f":"+IF('3 Overview of results'!$D$12=\"TTW\",'6 Defaults parameters'!AD13,'6 Defaults parameters'!AJ13)","v":75359.7},{"$f":"+IF('3 Overview of results'!$D$12=\"TTW\",'6 Defaults parameters'!AE13,'6 Defaults parameters'!AK13)","v":75359.7},75359.7,75359.7,75359.7,75359.7,75359.7,75359.7,91368.980742459389,91368.980742459389,91368.980742459389,91368.980742459389,91368.980742459389,91368.980742459389]
[null,{"$f":"RoadNG","v":"Road - NG"},{"$f":"NG","v":"NG"},48,1,56100,54300,58300,92,50,1540,3,1,77,59294,null,8478.2608695652107,67772.260869565216,null,{"$f":"+IF('3 Overview of results'!$D$12=\"TTW\",'6 Defaults parameters'!Z14,'6 Defaults parameters'!AF14)","v":59294},{"$f":"+IF('3 Overview of results'!$D$12=\"TTW\",'6 Defaults parameters'!AA14,'6 Defaults parameters'!AG14)","v":59294},{"$f":"+IF('3 Overview of results'!$D$12=\"TTW\",'6 Defaults parameters'!AB14,'6 Defaults parameters'!AH14)","v":59294},{"$f":"+IF('3 Overview of results'!$D$12=\"TTW\",'6 Defaults parameters'!AC14,'6 Defaults parameters'!AI14)","v":59294},{"$f":"+IF('3 Overview of results'!$D$12=\"TTW\",'6 Defaults parameters'!AD14,'6 Defaults parameters'!AJ14)","v":59294},{"$f":"+IF('3 Overview of results'!$D$12=\"TTW\",'6 Defaults parameters'!AE14,'6 Defaults parameters'!AK14)","v":59294},59294,59294,59294,59294,59294,59294,67772.260869565216,67772.260869565216,67772.260869565216,67772.260869565216,67772.260869565216,67772.260869565216]
[null,{"$f":"RoadLPG","v":"Road - LPG"},{"$f":"LPG","v":"LPG"},47.3,0.52219321148825071,63100,61600,65600,62,"na ","na ",0.2,"na","na",64709.599999999999,null,7982.2616407982196,{"$f":"O15+Q15","v":72691.861640798219},null,{"$f":"+IF('3 Overview of results'!$D$12=\"TTW\",'6 Defaults parameters'!Z15,'6 Defaults parameters'!AF15)","v":64709.599999999999},{"$f":"+IF('3 Overview of results'!$D$12=\"TTW\",'6 Defaults parameters'!AA15,'6 Defaults parameters'!AG15)","v":64709.599999999999},{"$f":"+IF('3 Overview of results'!$D$12=\"TTW\",'6 Defaults parameters'!AB15,'6 Defaults parameters'!AH15)","v":64709.599999999999},{"$f":"+IF('3 Overview of results'!$D$12=\"TTW\",'6 Defaults parameters'!AC15,'6 Defaults parameters'!AI15)","v":64709.599999999999},{"$f":"+IF('3 Overview of results'!$D$12=\"TTW\",'6 Defaults parameters'!AD15,'6 Defaults parameters'!AJ15)","v":64709.599999999999},{"$f":"+IF('3 Overview of results'!$D$12=\"TTW\",'6 Defaults parameters'!AE15,'6 Defaults parameters'!AK15)","v":64709.599999999999},64709.599999999999,64709.599999999999,64709.599999999999,64709.599999999999,64709.599999999999,64709.599999999999,72691.861640798219,72691.861640798219,72691.861640798219,72691.861640798219,72691.861640798219,72691.861640798219]
[null,{"$f":"Roadelec","v":"Road - Electric"},{"$f":"Electric","v":"Electric"},3.6,{"$f":"1","v":1},null,null,null,null,null,null,null,null,null,0,null,{"$f":"T16","v":0},0,null,{"$f":"+IF('3 Overview of results'!$D$12=\"TTW\",'6 Defaults parameters'!Z16,'6 Defaults parameters'!AF16)","v":0},{"$f":"+IF('3 Overview of results'!$D$12=\"TTW\",'6 Defaults parameters'!AA16,'6 Defaults parameters'!AG16)","v":0},{"$f":"+IF('3 Overview of results'!$D$12=\"TTW\",'6 Defaults parameters'!AB16,'6 Defaults parameters'!AH16)","v":0},{"$f":"+IF('3 Overview of results'!$D$12=\"TTW\",'6 Defaults parameters'!AC16,'6 Defaults parameters'!AI16)","v":0},{"$f":"+IF('3 Overview of results'!$D$12=\"TTW\",'6 Defaults parameters'!AD16,'6 Defaults parameters'!AJ16)","v":0},{"$f":"+IF('3 Overview of results'!$D$12=\"TTW\",'6 Defaults parameters'!AE16,'6 Defaults parameters'!AK16)","v":0},0,0,0,0,0,0,{"$f":"'1A Input Base and BAU'!D230/3.6*1000","v":0},{"$f":"'1A Input Base and BAU'!E230/3.6*1000","v":0},{"$f":"'1A Input Base and BAU'!F230/3.6*1000","v":0},{"$f":"'1A Input Base and BAU'!G230/3.6*1000","v":0},{"$f":"'1A Input Base and BAU'!H230/3.6*1000","v":0},{"$f":"'1A Input Base and BAU'!I230/3.6*1000","v":0}]
[null,{"$f":"RailD","v":"Rail - Diesel"},{"$f":"Diesel","v":"Diesel"},43,0.84388185654008441,74100,{"$f":"G13","v":72600},{"$f":"H13","v":74800},4.1500000000000004,1.67,10.4,28.6,14.3,85.8,82726.55,null,{"$f":"Q13","v":16009.280742459399},{"$f":"O17+Q17","v":98735.830742459395},null,{"$f":"+IF('3 Overview of results'!$D$12=\"TTW\",'6 Defaults parameters'!Z17,'6 Defaults parameters'!AF17)","v":82726.55},{"$f":"+IF('3 Overview of results'!$D$12=\"TTW\",'6 Defaults parameters'!AA17,'6 Defaults parameters'!AG17)","v":82726.55},{"$f":"+IF('3 Overview of results'!$D$12=\"TTW\",'6 Defaults parameters'!AB17,'6 Defaults parameters'!AH17)","v":82726.55},{"$f":"+IF('3 Overview of results'!$D$12=\"TTW\",'6 Defaults parameters'!AC17,'6 Defaults parameters'!AI17)","v":82726.55},{"$f":"+IF('3 Overview of results'!$D$12=\"TTW\",'6 Defaults parameters'!AD17,'6 Defaults parameters'!AJ17)","v":82726.55},{"$f":"+IF('3 Overview of results'!$D$12=\"TTW\",'6 Defaults parameters'!AE17,'6 Defaults parameters'!AK17)","v":82726.55},{"$f":"$O17","v":82726.55},82726.55,82726.55,82726.55,82726.55,82726.55,{"$f":"+$R17","v":98735.830742459395},{"$f":"+$R17","v":98735.830742459395},98735.830742459395,98735.830742459395,98735.830742459395,98735.830742459395]
[null,{"$f":"RailElec","v":"Rail - Electric"},{"$f":"Electric","v":"Electric"},3.6,{"$f":"1","v":1},null,null,null,null,null,null,null,null,null,0,null,{"$f":"T16","v":0},0,null,{"$f":"+IF('3 Overview of results'!$D$12=\"TTW\",'6 Defaults parameters'!Z18,'6 Defaults parameters'!AF18)","v":0},{"$f":"+IF('3 Overview of results'!$D$12=\"TTW\",'6 Defaults parameters'!AA18,'6 Defaults parameters'!AG18)","v":0},{"$f":"+IF('3 Overview of results'!$D$12=\"TTW\",'6 Defaults parameters'!AB18,'6 Defaults parameters'!AH18)","v":0},{"$f":"+IF('3 Overview of results'!$D$12=\"TTW\",'6 Defaults parameters'!AC18,'6 Defaults parameters'!AI18)","v":0},{"$f":"+IF('3 Overview of results'!$D$12=\"TTW\",'6 Defaults parameters'!AD18,'6 Defaults parameters'!AJ18)","v":0},{"$f":"+IF('3 Overview of results'!$D$12=\"TTW\",'6 Defaults parameters'!AE18,'6 Defaults parameters'!AK18)","v":0},0,0,0,0,0,0,{"$f":"'1A Input Base and BAU'!D231/3.6*1000","v":0},{"$f":"'1A Input Base and BAU'!E231/3.6*1000","v":0},{"$f":"'1A Input Base and BAU'!F231/3.6*1000","v":0},{"$f":"'1A Input Base and BAU'!G231/3.6*1000","v":0},{"$f":"'1A Input Base and BAU'!H231/3.6*1000","v":0},{"$f":"'1A Input Base and BAU'!I231/3.6*1000","v":0}]
[]
[null,{"$f":"Avker","v":"Aviation - Kerosene"},{"$f":"Jetker","v":"Jet Kerosene"},44.1,null,71500,69800,74400,0.5,0.21500000000000002,1,2,0.60000000000000009,5,{"$f":"+F20+I20*25+L20*298","v":72108.5}]
[null,{"$f":"Avgas","v":"Aviation - Aviation Gasoline"},{"$f":"Avgas","v":"Aviation - Aviation Gasoline"},44.3,null,70000,67500,73000,0.5,0.21500000000000002,1,2,0.60000000000000009,5,{"$f":"+F21+I21*25+L21*298","v":70608.5}]
[null,{"$f":"MarHFO","v":"Maritime - HFO"},{"$f":"RFO","v":"Residual Fuel Oil"},40.4,null,77400,75500,78800,7,3.5,10.5,2,4.8,1.2,78171]
[null,{"$f":"Mardiesel","v":"Maritime - Diesel"},{"$f":"Diesel","v":"Diesel"},43,null,74100,72600,74800,3.9,1.6,9.5,3.9,1.3,12,75359.7]
[null,{"$f":"ShipHFO","v":"Inland Shipping - HFO"},{"$f":"RFO","v":"Residual Fuel Oil"},40.4,null,77400,75500,78800,7,3.5,10.5,2,4.8,1.2,78171]
[null,{"$f":"ShipDiesel","v":"Inland Shipping - Diesel Oil"},{"$f":"Diesel","v":"Diesel"},43,null,74100,72600,74800,3.9,1.6,9.5,3.9,1.3,12,75359.7]
[null,{"$f":"Shipgas","v":"Inland Shipping - Motor Gasoline"},"Motor Gasoline",44.3,null,69300,67500,73000,null,null,null,null,null,null,69300]

{"sheet":"7 Sources and abbreviation","index":10,"n_rows":40,"n_cols":3,"rows_kept":40,"cut":false,"hidden":false,"merged":[[7,3,7,12],[8,3,8,12],[9,3,9,12],[10,3,10,12],[11,3,11,12],[1,3,1,12],[2,3,2,12],[3,3,3,12],[4,3,4,12],[5,3,5,12]]}
[]
[null,{"$f":"Source","v":"Source"},{"$f":"Description","v":"Description"}]
[null,"EMAP EEA 2017","EMEP/EEA air pollutant emission inventory guidebook 2016\n"]
[null,"IPCC 1996","IPCC (1996): Revised 1996 IPCC Guidelines for National Greenhouse Gas Inventories"]
[null,"IPCC 2006","IPCC  (2006): CHAPTER 3. MOBILE COMBUSTION, p. 64"]
[null,"KBA, 2017","Motor vehicle registration statistiks in Germany, Kraftfahrt-Bundesamt"]
[null,"ifeu, 2015","Zukünftige Maßnahmen zur Kraftstoffeinsparung von schweren Nutzfahrzeugen"]
[null,"ifeu, 2016","Data and computing model: pollutant emissions from motorised traffic in Germany between 1960 and 2035"]
[null,"UBA, 2018","Germany, GHG Inventory EU 15-01-2018"]
[null,"VIZ, 2017","Transport in numbers 2017/2018 (Verkehr in Zahlen 2017/2018); by the German Ministry of Transport and Digital Infrastructure"]
[null,"ecotransit"]
[null,"BAFU, 2015","INFRAS (2015): Energieverbrauch und Schadstoffemissionen des Non-road-Sektors. Studie für die Jahre 1980-2050. Im Auftrag des Bundesamtes für Umwelt (BAFU). Umwelt-Wissen Nr. 1519: 237 S. Bern, 2015."]
[]
[null,{"$f":"abbreviation","v":"Abbreviation"},{"$f":"Description","v":"Description"}]
[null,{"$f":"NG","v":"NG"},{"$f":"naturalgas","v":"Natural Gas "}]
[null,{"$f":"LPG","v":"LPG"},{"$f":"LiquPG","v":"Liquefied Petroleum Gases "}]
[null,{"$f":"PT","v":"PT"},{"$f":"publictrans","v":"Public transport"}]
[null,{"$f":"nd","v":"n.d."},{"$f":"ExplND","v":"not applicable/not relevant"}]
[null,"IPCC",{"$f":"ExplIPCC","v":"Intergovernmental panel on Climate Change = Group of intergovernmental Experts on climate change"}]
[null,{"$f":"LHVabbr","v":"LHV"},{"$f":"LHV","v":"Lower heating value"}]
[null,"TTW",{"$f":"ExplTTW","v":"Tank to wheel: emissions from tank to wheel"}]
[null,"WTW",{"$f":"ExplWTW","v":"Well to wheel: emissions from well to wheel"}]
[]
[null,{"$f":"Vehcategory","v":"Vehicle category"},{"$f":"Description","v":"Description"}]
[null,{"$f":"NMT","v":"NMT"},{"$f":"Expl21","v":"NMT = Non Motorised Transport, includes walking and bicycling, small-wheeled transport (e.g.skateboards, e-scooters...) "}]
[null,{"$f":"Pcar","v":"Private car"},{"$f":"ExplPcars","v":"Any motor vehicle intended for passenger transport, the seat capacity does not exceed nine seats (including driver), the total permissible gross weight does not exceed 3,5t."}]
[null,{"$f":"Itaxi","v":"Individual taxi"},{"$f":"ExplAcarsTaxi","v":"Cars which transport passengers in return for payment of a fare and which are typically fitted with a taximeter."}]
[null,{"$f":"Motorcycle","v":"Motorcycle"},{"$f":"ExplMotorcycle","v":"A two-wheeled vehicle with an engine."}]
[null,{"$f":"Mototaxi","v":"Motorcycle taxi"},{"$f":"ExplMotoTaxi","v":"Motorcycles which transport passengers in return for payment of a fare (e.g. Go-jek, Grab)."}]
[null,{"$f":"Minibus","v":"Minibus"},{"$f":"ExplMinibus","v":"Any motor vehicle intended for the collective transport of persons whose number of seats is less than nine, including hirings, collective taxis and rural transportation."}]
[null,{"$f":"Bus","v":"Bus"},{"$f":"ExplBus","v":"Any motor vehicle intended for the collective transport of persons, the number of seats of which is greater than nine or the permissible total weight exceeds 3.5t."}]
[null,{"$f":"BRT","v":"BRT"},{"$f":"ExplBRT","v":"Bus Rapid Transit (BRT) is a high-quality bus-based transit system. It is typically specified with dedicated lanes, iconic stations, off-board fare collection, and fast and frequent operations."}]
[null,{"$f":"Train","v":"Long distance train"},{"$f":"ExplPtrain","v":"Passenger train mainly traveling outside the city - long distance train."}]
[null,{"$f":"Utrain","v":"Urban train"},{"$f":"ExplUtrain","v":"Passenger train mainly traveling within the city territory - short distance train."}]
[null,{"$f":"Metro","v":"Metro"},{"$f":"ExplMetro","v":"Passenger train mainly traveling within the city territory - Tram and Metro."}]
[null,{"$f":"lightLCV","v":"Very light LCV"},{"$f":"ExpllightLCV","v":"A mostly three-wheeled motorized vehicle used for goods transport."}]
[null,{"$f":"LCV","v":"LCV"},{"$f":"ExplLCV","v":"Motor vehicle intended for the transport of freight, the permissible gross weight does not exceed 3.5t."}]
[null,{"$f":"Solo","v":"Solo truck"},{"$f":"ExplSolo","v":"Motor vehicle intended for the transport of freight, the permissible load is up to 10t."}]
[null,{"$f":"Atruck","v":"Articulated truck"},{"$f":"ExplHtruck","v":"Motor vehicle intended for the transport of freight and the total authorized load exceeds 10t tonnes. Trucks consist of trucks and tractors (truck with trailer)."}]
[null,{"$f":"Ftrain","v":"Freight train"},{"$f":"ExplFtrain","v":"Any freight train, usually for long distance transport."}]

{"sheet":"Referencing","index":11,"n_rows":474,"n_cols":5,"rows_kept":474,"cut":false,"hidden":false,"merged":[]}
[null,"Language selection","DO NOT SUPPRESS A LINE BUT THE EMPTY LINES AN BE USED FOR NEW TRANSLATION"]
[null,{"$f":"'Get started'!C8","v":"English"}]
[null,{"$f":"MATCH(B2,C5:E5,0)","v":1}]
[]
["Name of the cell","Variable shown","English","Francais","Espanol"]
[{"$f":"C6","v":"Car"},{"$f":"INDEX($C$5:$E$1048576,,$B$3)","v":"Car"},"Car","Voiture (incl Louage)","Automóvil, Auto, Carro"]
[{"$f":"C7","v":"PT"},{"$f":"INDEX($C$5:$E$1048576,,$B$3)","v":"PT"},"PT","TCP","TP"]
[]
[{"$f":"C9","v":"Motorcycle"},{"$f":"INDEX($C$5:$E$1048576,,$B$3)","v":"Motorcycle"},"Motorcycle","Motocyclette","Motocicleta"]
["Train","Long distance train","Long distance train","Train longue distance","Tren de larga distancia"]
["Utrain","Urban train","Urban train","Train RER","Tren urbano"]
["Metro","Metro","Metro","Métro","Metro"]
["Ftrain","Freight train","Freight train","Train de marchandise","Tren de carga"]
["NMT","NMT","NMT","TNM","Modo No Motorizado (MNM)"]
["Pcar","Private car","Private car","Voiture particulière","Auto privado"]
["Mcar","Mixed car","Mixed car","Voiture Mixte","Auto de uso mixto"]
["Itaxi","Individual taxi","Individual taxi","Taxi individuel","Taxi individual"]
["Acar","Administrative car","Administrative car","Voiture administrative","Auto administrativo"]
["Minibus","Minibus","Minibus","Minibus","Minibús"]
["Bus","Bus","Bus","Bus","Bus"]
["LCV","LCV","LCV","Camionnette","VCL"]
["Solo","Solo truck","Solo truck","Camion","Camión"]
["Atruck","Articulated truck","Articulated truck","Tracteur routier","Camión articulado"]
["all","all","all","tous","Todo (singular) - Todos/Todas (plural)"]
["Category","Category","Category","Catégorie","Categoría"]
["Subcategory","Subcategory","Subcategory","Sous-Catégorie","Subcategoría"]
["Pmileage","% of the vkt","% of the vkt","% du vkt","% del kilometraje"]
["local ","local data","local data","données locales","Local"]
["default","default values","default values","Valeurs défaut","predeterminado, predeterminada "]
["vktfleet","Average annual mileage per vehicle [km/vehicle/year]","Average annual mileage per vehicle [km/vehicle/year]","Vkt annuel moyen par véhicule [km/véhicule/an]","Promedio anual de kilometraje por vehículo [km/vehículo/año]"]
["Vehiclestock","Vehicle stock [total number of vehicles]","Vehicle stock [total number of vehicles]","Stock de véhicules [nombre total de véhicules]","Stock de vehículos [número total de vehículos]"]
["Tmileage","Total vkt per vehicle category [Mio. km/year]","Total vkt per vehicle category [Mio. km/year]","Vkt totaux parcourus par catégorie de véhicule [Mill. km/year]","Kilometraje total por categoría de vehículo (Mio.de k/ año)"]
["Growthmileage","Annual growth of vkt per period  [%]","Annual growth of vkt per period  [%]","Croissance annuelle du véhicule-kilomètre parcouru par période  [%]","Crecimiento anual del kilometraje por periodo "]
["Population","Population","Population","Population","Población"]
["GrowthBAU","Annual growth BAU per period ","Annual growth BAU per period ","Croissance annuelle BAU par période","Anual crecimiento del BAU por periodo"]
["Descri12","1) Socio-economic data ","1) Socio-economic data ","1) Données socio économiques","1) Información socio-económica"]
["Descri13","Description: Please enter the population and the gross domestic product (GDP) of your country/city for the reference year in the table below. For BAU scenario calculations please also enter corresponding annual growth rates.\nRemark: Data input for the population in the reference year is mandatory, data input for the GDP is optional - applied for key performance indicators (KPIs) in the sheet \"3 Overview of Results\".","Description: Please enter the population and the gross domestic product (GDP) of your country/city for the reference year in the table below. For BAU scenario calculations please also enter corresponding annual growth rates.\nRemark: Data input for the population in the reference year is mandatory, data input for the GDP is optional - applied for key performance indicators (KPIs) in the sheet \"3 Overview of Results\".","Description: Veuillez entrer la population et le produit intérieur brut (PIB) de votre pays / ville pour l'année de référence dans le tableau ci-dessous. Pour les calculs du scénario BAU (facultatif), veuillez également saisir les taux de croissance annuels correspondants.\nRemarque: La saisie des données pour la population au cours de l'année de référence est obligatoire, la saisie des données pour le PIB est facultative - appliquée pour les indicateurs clés de performance (KPI) dans la feuille \"3 Overview of results\"","Descripción: Sírvase indicar en el cuadro siguiente la población y el producto interno bruto (PIB) de su país/ciudad para el año de referencia. Para los cálculos del escenario BAU, por favor, introduzca también las tasas de crecimiento anual correspondientes.\nObservación: La entrada de datos para la población en el año de referencia es obligatoria, la entrada de datos para el PIB es opcional - se aplica para los indicadores clave de rendimiento (KPI) en la hoja \"\"3 Resumen de resultados\"\"."]
["Descri14","2) Vehicle kilometers travelled (vkt)","2) Vehicle kilometers travelled (vkt)","2) Véhicule-kilomètre parcourus (vkt)","2) kilómetros recorridos por el vehículo (vkt)"]
["Descri11 "," The user has to choose between the vkt approach or the fleet approach for each vehicle category. It is not recommended to use both approaches at the same time to limit unconsistencies but the tool offers this option nevertheless.\nRemark 1: The total vkt (mileage approach) or average annual mileage (fleet approach) should comply with the actual transport activity within the city or country territory."," The user has to choose between the vkt approach or the fleet approach for each vehicle category. It is not recommended to use both approaches at the same time to limit unconsistencies but the tool offers this option nevertheless.\nRemark 1: The total vkt (mileage approach) or average annual mileage (fleet approach) should comply with the actual transport activity within the city or country territory.","L'utilisateur doit choisir entre l'approche vkt ou l'approche flotte pour chaque catégorie de véhicules. Il n'est pas recommandé d'utiliser les deux approches en même temps pour limiter les incohérences mais l'outil offre néanmoins cette option.\nRemarque 1: Le kilométrage total (approche kilométrique) ou le kilométrage annuel moyen (approche flotte) doit être conforme à l'activité de transport réelle sur le territoire de la ville ou du pays."," El usuario tiene que elegir entre el enfoque vkt o el enfoque de flota para cada categoría de vehículos. No se recomienda utilizar ambos enfoques al mismo tiempo para limitar las incoherencias, pero la herramienta ofrece esta opción de todas formas.\nObservación 1: El vkt total (enfoque del kilometraje) o el kilometraje medio anual (enfoque de la flota) debe ajustarse a la actividad de transporte real dentro de la ciudad o el territorio del país."]
["Descri15","Description: Please enter the transport performances (Mio person-kilometers) in the table on the left as well as the vehicle kilometers travelled (Mio km) in the table on the right delivered by the transport plannig tool for the reference year (mandatory). For BAU calculations please enter the vkt for the corresponding years in the same way.\nRemark 1: Definitions and short descriptions of each vehicle category can be found in the sheet \"7 Sources and abbreviation\".","Description: Please enter the transport performances (Mio person-kilometers) in the table on the left as well as the vehicle kilometers travelled (Mio km) in the table on the right delivered by the transport plannig tool for the reference year (mandatory). For BAU calculations please enter the vkt for the corresponding years in the same way.\nRemark 1: Definitions and short descriptions of each vehicle category can be found in the sheet \"7 Sources and abbreviation\".","Description: Veuillez saisir les performances de transport (Mio personnes-kilomètres) dans le tableau de gauche ainsi que les véhicules-kilomètres parcourus (Mio km) dans le tableau de droite qui vous sont fournis par lle logiciel de planification des transports pour l'année de référence (obligatoire). Pour les calculs BAU, veuillez saisir le vkt pour les années correspondantes de la même manière.\nRemarque 1: Des définitions et de brèves descriptions de chaque catégorie de véhicule figurent dans l'onglet \"7 Sources and abbreviation\".\n\n","\"Descripción\": Por favor, introduzca los rendimientos de transporte (millones de personas/kilómetros) en la tabla de la izquierda, así como los kilómetros recorridos por los vehículos (millones de kilómetros) en la tabla de la derecha, entregados por la herramienta de planificación del transporte para el año de referencia (obligatorio). Para los cálculos de la BAU, por favor, introduzca el vkt para los años correspondientes de la misma manera.\nObservación 1: Las definiciones y descripciones breves de cada categoría de vehículo se pueden encontrar en la hoja \"\"7 Fuentes y abreviaturas\"\"."]
["Descri16",{"$f":"INDEX($C$5:$E$1048576,,$B$3)","v":"Description: Please enter the transport performances (Mio ton-kilometers) in the table on the left as well as the vehicle kilometers travelled (Mio km) in the table on the right delivered by the transport plannig tool for the reference year (mandatory). For BAU calculations please enter the vkt for the corresponding years in the same way.\nRemark 1: Definitions and short descriptions of each vehicle category can be found in the sheet \"Sources and abbreviation\"."},"Description: Please enter the transport performances (Mio ton-kilometers) in the table on the left as well as the vehicle kilometers travelled (Mio km) in the table on the right delivered by the transport plannig tool for the reference year (mandatory). For BAU calculations please enter the vkt for the corresponding years in the same way.\nRemark 1: Definitions and short descriptions of each vehicle category can be found in the sheet \"Sources and abbreviation\".","Description: Veuillez saisir les performances de transport (Mio tonnes-kilomètres) dans le tableau de gauche ainsi que les véhicules-kilomètres parcourus (Mio km) dans le tableau de droite qui vous sont fournis par lle logiciel de planification des transports pour l'année de référence (obligatoire). Pour les calculs BAU, veuillez saisir le vkt pour les années correspondantes de la même manière.\nRemarque 1: Des définitions et de brèves descriptions de chaque catégorie de véhicule figurent dans la fiche \"Sources et abréviation\".\n\n","\"Descripción\": Por favor, introduzca los rendimientos de transporte (millones de toneladas-kilómetro) en la tabla de la izquierda, así como los kilómetros recorridos por los vehículos (millones de kilómetros) en la tabla de la derecha, entregados por la herramienta de planificación del transporte para el año de referencia (obligatorio). Para los cálculos de BAU, por favor, introduzca el vkt para los años correspondientes de la misma manera.\nObservación 1: Las definiciones y descripciones breves de cada categoría de vehículo se pueden encontrar en la hoja \"Fuentes y abreviaturas\"."]
["Descri18","Remark 2: Local (national/city) data can be used if available and robust. Otherwise for cities it is recommended to use national data and for countries to use regional specific data. If you do not have data available please get in touch with MYC secretariat to check if data are available for your country/city.","Remark 2: Local (national/city) data can be used if available and robust. Otherwise for cities it is recommended to use national data and for countries to use regional specific data. If you do not have data available please get in touch with MYC secretariat to check if data are available for your country/city.","Remarque 2: Les données locales (nationales / locales) peuvent être utilisées si elles sont disponibles et robustes. Sinon il est recommandé d'utiliser des données nationales , pour les villes et pour les pays d'utiliser des données régionales spécifiques. Si vous ne disposez pas de données, veuillez contacter le secrétariat de MYC pour vérifier si des données défaut sont disponibles pour votre pays ou région.","Observación 2: Pueden utilizarse datos locales (nacionales/ciudades) si están disponibles y son sólidos. De lo contrario, en el caso de las ciudades se recomienda utilizar datos nacionales y en el caso de los países, datos específicos regionales. Si no dispone de datos, póngase en contacto con la secretaría del MYC para comprobar si hay datos disponibles para su país/ciudad."]
["Descri19"," 3.i) Load, occupancy and average trip length"," 3.i) Load, occupancy and average trip length","3.i) Taux de charge, d'occupation et distance moyenne par trajet","3) Tasa de carga u ocupación"]
["Descri20","Description: Please enter the occupancy for passenger vehicles (average number of passengers per vehicle) and the load for freight vehicles (average load per vehicle in tones). \nRemark 1: These values are used both for inventory and BAU purposes\nRemark 2: Conventionally drivers of public transport are not included as there are not passengers (incl. taxi), but for private transport drivers should be included if they travel for their own sake.","Description: Please enter the occupancy for passenger vehicles (average number of passengers per vehicle) and the load for freight vehicles (average load per vehicle in tones). \nRemark 1: These values are used both for inventory and BAU purposes\nRemark 2: Conventionally drivers of public transport are not included as there are not passengers (incl. taxi), but for private transport drivers should be included if they travel for their own sake.","Description: Veuillez saisir l'occupation pour les véhicules de tourisme (nombre moyen de passagers par véhicule) et la charge pour les véhicules de fret (charge moyenne par véhicule en tons).\nRemarque 1: Ces valeurs sont utilisées à la fois à des fins d'inventaire et de BAU\nRemarque 2: les conducteurs des transports publics ne sont généralement pas inclus car il n'y a pas de passagers (y compris les taxis), mais pour les transports privés, les conducteurs doivent être inclus s'ils voyagent pour leur propre bien.","Descripción: Por favor, introduzca la ocupación de los vehículos de pasajeros (número medio de pasajeros por vehículo) y la carga de los vehículos de carga (carga media por vehículo en tonos). \nObservación 1: Estos valores se utilizan tanto para el inventario como para el BAU.\nObservación 2: Convencionalmente los conductores de transporte público no están incluidos ya que no hay pasajeros (incluido el taxi), pero para el transporte privado los conductores deben ser incluidos si viajan por su propio bien\".\n"]
["Source","Source","Source","Source","Fuente"]
["Unit","Unit","Unit","Unité","Unidad"]
["Values","Values","Values","Valeurs","Valor, Valores"]
["Descri21","3.ii) Vehicle kilometers travelled breakdown by fuel type","3.ii) Vehicle kilometers travelled breakdown by fuel type","3.ii) Répartition des véhicules-kilomètres parcourus (vkt) par type de carburant","3.ii) Desglose del kilometraje por tipo de combustible"]
["Descri22","Description: Please enter the percentage of vehicle kilometers travelled (vkt) per vehicle category and fuel type for the reference year and for future years ","Description: Please enter the percentage of vehicle kilometers travelled (vkt) per vehicle category and fuel type for the reference year and for future years ","Description: Veuillez saisir le pourcentage de véhicules-kilomètres parcourus (vkt) par catégorie de véhicule et type de carburant pour l'année de référence et pour les années futures","Descripción: Por favor, introduzca el porcentaje de kilómetros recorridos por vehículo (vkt) por categoría de vehículo y tipo de combustible para el año de referencia y para años futuros "]
["Descri23","Remark 1: The sum of shares in each vehicle category must be 100 %.","Remark 1: The sum of shares in each vehicle category must be 100 %.","Remarque 1: La somme pour chaque sous catégorie doit atteindre 100%","La suma de cada subcategoría debe llegar al 100% "]
["Fuel","Fuel type","Fuel type","Carburant","Combustible"]
["Mileagecat","Vehicle kilometers travelled (vkt) by category [%]","Vehicle kilometers travelled (vkt) by category [%]","véhicules-kilomètres parcourus (vkt)  par catégorie en %","Kilómetros recorridos por vehículo (vkt) por categoría [%]"]
["nd","n.d.","n.d.","n.d.","Sin fecha (s.f.)"]
["Gasoline","Gasoline","Gasoline","Essence","Gasolina"]
["Diesel","Diesel","Diesel","Diesel","Diésel"]
["LPG","LPG","LPG","GPL","GLP"]
["NG","NG","NG","GN","GN"]
["Hybrid","Hybrid","Hybrid","Hybride","Híbrido"]
["Electric","Electric","Electric","Electrique","Eléctrico"]
["Descri24","3.iii) Average energy/fuel consumption for the reference year and energy efficiency change in the BAU scenario","3.iii) Average energy/fuel consumption for the reference year and energy efficiency change in the BAU scenario","3.iii) Consommation moyenne pour l'année de base et évolution de l'efficacité énergétique dans le scénario BAU","2.iii) Consumo promedio por año base y cambio de energía eficiente en escenario BAU"]
["Descri25","Description: Please enter the average fuel/energy consumption - for each vehicle category and per fuel type- for the reference year (average fuel/energy consumption per vehicle per 100 km) as well as the annual change rate for each time period.\nRemark 1: Negative numbers for the annual change rate means a decrease of fuel/energy consumption. Positive numbers means an increase","Description: Please enter the average fuel/energy consumption - for each vehicle category and per fuel type- for the reference year (average fuel/energy consumption per vehicle per 100 km) as well as the annual change rate for each time period.\nRemark 1: Negative numbers for the annual change rate means a decrease of fuel/energy consumption. Positive numbers means an increase","Description: Veuillez saisir la consommation moyenne de carburant / énergie - pour chaque catégorie de véhicule et par type de carburant - pour l'année de référence (consommation moyenne de carburant / énergie par véhicule par 100 km) ainsi que le taux de variation annuelle pour chaque période.\nRemarque 1: Des nombres négatifs pour le taux de variation annuel signifient une diminution de la consommation de carburant / énergie. Un nombre positif signifie une augmentation","Descripción: Sírvase indicar el consumo medio de combustible/energía -para cada categoría de vehículo y por tipo de combustible- para el año de referencia (consumo medio de combustible/energía por vehículo y por 100 km), así como la tasa de variación anual para cada período de tiempo.\nObservación 1: Los números negativos para la tasa de variación anual significan una disminución del consumo de combustible/energía. Los números positivos significan un aumento\"."]
["Descri26","Remark 2: National default data - if available - can be considered for data input. Please see the columns on the right hand side (indicated orange).","Remark 2: National default data - if available - can be considered for data input. Please see the columns on the right hand side (indicated orange).","Remarque 2: Les données défaut nationales sont indiquées dans le tableau de droite en orange - si disponible","Observación 2: Los datos nacionales por defecto - si están disponibles - pueden ser considerados para la entrada de datos. Por favor, vea las columnas de la derecha (indicadas en naranja)."]
["Preduction","Annual reduction in % in the given period","Annual reduction in % in the given period","Réduction annuelle en % sur la période donnée","Reducción anual en % en el periodo dado"]
["Descri27","3.iv) Evolution of the CO2 content from the electricity production in both scenarios","3.iv) Evolution of the CO2 content from the electricity production in both scenarios","3.iv) Evolution du contenu CO2 de l'électricité POUR LES DEUX SCENARIOS ","3iv) Evolución del contenido de CO2 de la electricidad en ambos escenarios"]
["Descri28","Remark 2: GHG emissions from electric vehicles are zero when applying a TTW (tank to wheel) approach. If the WTW (well to wheel) approach is applied the upstream GHG emissions from the production and transport of the electricity are also considered.","Remark 2: GHG emissions from electric vehicles are zero when applying a TTW (tank to wheel) approach. If the WTW (well to wheel) approach is applied the upstream GHG emissions from the production and transport of the electricity are also considered.","Remarque 2: les émissions de GES des véhicules électriques sont nulles lors de l'application d'une approche TTW (du réservoir à la roue). Si l'approche WTW (du puits à la roue) est appliquée, les émissions de GES en amont de la production et du transport de l'électricité sont également prises en compte.","Observación 2: Las emisiones de GEI de los vehículos eléctricos son cero cuando se aplica un enfoque TTW (tanque a rueda). Si se aplica el enfoque WTW (pozo a rueda), también se consideran las emisiones de GEI anteriores a la producción y el transporte de la electricidad."]
["Descri29","Description: Please enter the CO2 content of the electricity production for the reference year and for future years.\nRemark 1: For scenario calculations, it is mandatory to enter the values for future years as well. These values were used for scenario calculations both for the BAU (this sheet) and the climate scenario (sheets 2A and 2B).","Description: Please enter the CO2 content of the electricity production for the reference year and for future years.\nRemark 1: For scenario calculations, it is mandatory to enter the values for future years as well. These values were used for scenario calculations both for the BAU (this sheet) and the climate scenario (sheets 2A and 2B).","Description: Veuillez saisir la teneur en CO2 de la production d'électricité pour l'année de référence et pour les années futures.\nRemarque 1: pour les calculs de scénarios, il est également obligatoire de saisir les valeurs des années futures. Ces valeurs ont été utilisées pour les calculs de scénarios à la fois pour le BAU ou scénario au fil de l'eau (cette feuille) et le scénario climatique (feuilles 2A et 2B).","Descripción\": Por favor, introduzca el contenido de CO2 de la producción de electricidad para el año de referencia y para los años futuros.\nObservación 1: Para los cálculos del escenario, es obligatorio introducir los valores para los años futuros también. Estos valores se utilizaron para los cálculos de los escenarios tanto para el BAU (esta hoja) como para el escenario climático (hojas 2A y 2B)\"."]
["Inputmix","Input data for the electricity mix","Input data for the electricity mix","Donnée d'entrée pour le mix énergétique","Ingreso de datos para la mezcla electrocidad"]
["Growth","Annual growth rate [%]","Annual growth rate [%]","Taux de croissance annuelle [%]","Tasa de crecimiento anual"]
["Pass","Passengers","Passengers","Passagers","Pasajero, Pasajeros"]
["ton","load: tons/vehicle","load: tons/vehicle","charge: tonnes/véhicule ","carga: toneladas/vehículo"]
["national","national","national","national","Nacional"]
["avcons","Average energy consumption  [l-kW-kg/100 km]","Average energy consumption  [l-kW-kg/100 km]","Consommation moyenne d'énergie  [l-kW-kg/100 km]","Consumo promedio de energía  [l-kW-kg/100 km]"]
["Ared",{"$f":"INDEX($C$5:$E$1048576,,$B$3)","v":"Annual change in % on the given period"},"Annual change in % on the given period","Change annuelle en % sur la période donnée","Reducción anual en % en el periodo dado"]
["Roadelec","Road - Electric","Road - Electric","Route - Electrique","Ruta - Eléctrico"]
["Trainelec","Train - Electric","Train - Electric","Train - Electrique","Tren - Eléctrico"]
["Modalsplit","Modal split [pkm]","Modal split [pkm]","Part modale [pkm]","Reparto modal (pkm)"]
["Total","Sum","Sum","Somme","Suma"]
["calculatedefault","To calculate national default values","To calculate national default values","Pour calcul des valeurs défaut nationales","Para el cálculo de valores nacional predeterminados"]
["Descri30","1) Avoid: Avoided vehicle kilometers travelled (vkt)","1) Avoid: Avoided vehicle kilometers travelled (vkt)","1) Eviter: Kilomètres évités pour tous les modes de transport","1) Evitar: Kilómetros evitados por vehículo  (vkt)"]
["Descri31","Please define the percentage of vehicle kilometers travelled (vkt), which can be avoided with the planned mitigation measures.","Please define the percentage of vehicle kilometers travelled (vkt), which can be avoided with the planned mitigation measures.","Définissez le pourcentage de véhicules-kilomètres parcourus (vkt), qui peuvent être évités grâce à des mesures d'atténuation.","Por favor, defina el porcentaje de kilómetros recorridos por vehículo (vkt) que pueden evitarse con las medidas de mitigación previstas."]
["Descri32","Example of measure: home office","Example of measure: home office","Exemple de mesure: home office","Ejemplo de medida: teletrabajo"]
["vktbase","Base vkt [Mio. km]","Base vkt [Mio. km]","Kilométrage de base [Mill. km]","Kilometraje recorrido de base vkt [millón de km]"]
["avoidedvkt","Avoided motorised vkt [%]","Avoided motorised vkt [%]","Vkt motorisés évités [%]","Evitar vkt motorizados [%]"]
["scenariovkt","Scenario vkt [Mio. km]","Scenario vkt [Mio. km]","Vkt scénario [Mill. km]","Escenario vkt [Mill. Km]"]
["Inducedtraffic","Induced traffic","Induced traffic","Traffic induit","Tráfico inducido"]
["Descri36","2) Shift: Shift of transport from the current to public transport modes","2) Shift: Shift of transport from the current to public transport modes","2) Transférer: transfert vers des modes de transports durables","2) Cambio de transporte tradicionales al transporte público"]
["Description","Description","Description","Description","Descripción"]
["Descri37","The Shift measures follow a three step approach: 1. give the potential additional vehicle kilometers  for the vehicle categories below (public transport) if more vehicle kilometers are expected as a result of the planned measures for the corresponding year \nExample of measure: Extension of the bus network (e.g. increase in frequency) in 2025. ","The Shift measures follow a three step approach: 1. give the potential additional vehicle kilometers  for the vehicle categories below (public transport) if more vehicle kilometers are expected as a result of the planned measures for the corresponding year \nExample of measure: Extension of the bus network (e.g. increase in frequency) in 2025. ","Les mesures de transfert suivent une approche en trois étapes: 1. indiquer le potentiel de kilomètres-véhicules supplémentaires parcourus pour chaque catégorie de véhicules ci-dessous (transport en commun) si davantage de véhicules-kilomètres sont attendus à la suite des mesures prévues pour l'année correspondante\nExemple de mesure: extension du réseau de bus (par exemple augmentation de la fréquence).","Las medidas del cambio siguen un enfoque de tres pasos: 1. dar los posibles kilómetros adicionales de vehículos para las categorías de vehículos que se indican a continuación (transporte público) si se espera que haya más kilómetros de vehículos como resultado de las medidas planificadas para el año correspondiente \r\nEjemplo de medida: Ampliación de la red de autobuses (por ejemplo, aumento de la frecuencia) en 2025. "]
["Descri38","2. please adjust the occupancy rate if the number of passenger per vehicle is expected to be impacted by the planned measures for the corresponding year\nExample: decrease of train ticket price would increase the number of passenger per train in 2020\n ","2. please adjust the occupancy rate if the number of passenger per vehicle is expected to be impacted by the planned measures for the corresponding year\nExample: decrease of train ticket price would increase the number of passenger per train in 2020\n ","2. veuillez ajuster le taux d'occupation si le nombre de passagers par véhicule devrait être affecté par les mesures prévues pour l'année correspondante\nExemple: une baisse du prix du billet de train augmenterait le nombre de passagers par train","2. Por favor, ajusten la tasa de ocupación si se espera que el número de pasajeros por vehículo se vea afectado por las medidas previstas para el año correspondiente\r\nEjemplo: la disminución del precio del billete de tren aumentaría el número de pasajeros por tren en 2020\r\n "]
["Transfer","Transfer [%]","Transfer [%]","Transférer [%]","Transferencia [%]"]
["Descri40"," 3. If one of the two parameters (vehicle kilometer or occupancy) are impacted it is mandatory to specify the source of this new trips or vehicle kilometers in the table \"original mode of the public transport shifted trip\" for the corresponding year and for each \"goal vehicle category\" i.e. the catgeories for which kilometers or occupancy have been changed \nExample: the goal categories are buses and train. Based on a survey, the users of the new bus line were previously for 50% of them car users, 30% NMT users and 20% is induced in 2025. Concerning the train the new users are coming for 50% of them from the bus, 25% from cars and 25% from motorcycle in 2020\n"," 3. If one of the two parameters (vehicle kilometer or occupancy) are impacted it is mandatory to specify the source of this new trips or vehicle kilometers in the table \"original mode of the public transport shifted trip\" for the corresponding year and for each \"goal vehicle category\" i.e. the catgeories for which kilometers or occupancy have been changed \nExample: the goal categories are buses and train. Based on a survey, the users of the new bus line were previously for 50% of them car users, 30% NMT users and 20% is induced in 2025. Concerning the train the new users are coming for 50% of them from the bus, 25% from cars and 25% from motorcycle in 2020\n"," 3. If one of the two parameters (vehicle kilometer or occupancy) are impacted it is mandatory to specify the source of this new trips or vehicle kilometers in the table \"original mode of the public transport shifted trip\" for the corresponding year and for each \"goal vehicle category\" i.e. the catgeories for which kilometers or occupancy have been changed \nExample: the goal categories are buses and train. Based on a survey, the users of the new bus line were previously for 50% of them car users, 30% NMT users and 20% is induced in 2025. Concerning the train the new users are coming for 50% of them from the bus, 25% from cars and 25% from motorcycle in 2020\n"," 3. Si uno de los dos parámetros (kilometraje u ocupación del vehículo) se ven afectados, es obligatorio especificar la fuente de estos nuevos viajes o kilómetros del vehículo en la tabla modo original del viaje desplazado del transporte público\" para el año correspondiente y para cada \"categoría de vehículo objetivo\", es decir, las categorías para las que se han cambiado los kilómetros o la ocupación.\nEjemplo: las categorías de objetivos son los autobuses y el tren. Según una encuesta, los usuarios de la nueva línea de autobuses eran anteriormente para el 50% de ellos usuarios de coches, el 30% usuarios de NMT y el 20% es inducido en 2025. En cuanto al tren, los nuevos usuarios vienen en un 50% de autobús, 25% de coches y 25% de motocicletas en 2020.\n "]
["Maxoccup","Maximum occupancy","Maximum occupancy","Taux d'occupation maximum","Tasa ocupación máxima"]
["Occuprate","occupancy [Person/vehicle]","occupancy [Person/vehicle]","Taux d'occupation [Personnes/véhicule]","Tasa de ocupación [Personas/vehículo]"]
["Transportperf","Transport performance [Mio. Pkm]","Transport performance [Mio. Pkm]","Performance de transport [Mill. Pkm]","Rendimiento de transporte [Mio. Pkm]"]
["Perfaltern","3) Improve: Penetration of alternative energies","3) Improve: Penetration of alternative energies"," 3) Améliorer: Pénétration des énergies alternatives","3) Mejorar: Penetración de las energías alternativas"]
["Descri43","Please give the share of the vehicule kilomegters driven per fuel type for each vehicle category and year. The sum for each vehicle category must reach 100%. If there is no change compared to the BAU, you do not have to enter new shares.","Please give the share of the vehicule kilomegters driven per fuel type for each vehicle category and year. The sum for each vehicle category must reach 100%. If there is no change compared to the BAU, you do not have to enter new shares.","Veuillez indiquer la part des kilomètres parcourus par les véhicules pour chaque type de carburant et chaque année. La somme pour chaque catégorie de véhicule doit atteindre 100%. S'il n'y a pas de changement par rapport au BAU, vous n'êtes pas obligé de saisir de nouvelles données.","Por favor, indique la proporción de kilómetros recorridos por tipo de combustible para cada categoría de vehículo y año. La suma para cada categoría de vehículo debe alcanzar el 100%. Si no hay cambios en comparación con la BAU, no tiene que introducir nuevas participaciones."]
["Descri44","Example of measure: a funding project leading to the renewal of truck fleet and increasing then the number of kilometers driven by alternative fuel vehicles","Example of measure: a funding project leading to the renewal of truck fleet and increasing then the number of kilometers driven by alternative fuel vehicles","Exemple de mesure: un projet de financement conduisant au renouvellement du parc de camions et augmentant ensuite le nombre de kilomètres parcourus par des véhicules à carburant alternatif","Ejemplo de medida: un proyecto de financiación que conduce a la renovación de la flota de camiones y aumenta entonces el número de kilómetros recorridos por los vehículos de combustible alternativo"]
["MileageshareBAU","Vkt share by fuel for BAU scenario [%]","Vkt share by fuel for BAU scenario [%]","Part du vkt par carburant scénario BAU [%]","Cuota de kilómetros recorridos por vehículo (Vkt) según el combustible para el escenario BAU [%]"]
["Mileageshareclimate","Vkt share by fuel for Climate scenario [%]","Vkt share by fuel for Climate scenario [%]","Part du vkt par carburant scénario climat [%]","Cuota de kilómetros recorridos por vehículo (Vkt) según el combustible para el escenario climático [%]"]
["Improvefuelcons","4) Improve: Adjustment of fuel/energy consumption","4) Improve: Adjustment of fuel/energy consumption","4) Améliorer: Ajustement de la consommation de carburant/energie","4) Mejorar: Ajuste del consumo de combustible/energía"]
["Descri45","Please adjust the specific fuel consumption (please pay attention to the units) for each vehicle category and date. DO NOT FORGET TO ALSO GIVE FUEL CONSUMPTIONS for the vehicles you DID NOT HAVE in the Inventory or BAU.","Please adjust the specific fuel consumption (please pay attention to the units) for each vehicle category and date. DO NOT FORGET TO ALSO GIVE FUEL CONSUMPTIONS for the vehicles you DID NOT HAVE in the Inventory or BAU.","Ajuster la consommation spécifique de carburant (attention aux unités) pour chaque période et chaque catégorie de véhicule. N'OUBLIEZ PAS DE DONNER ÉGALEMENT DES CONSOMMATIONS DE CARBURANT pour les véhicules que vous n'aviez PAS DANS L'INVENTAIRE ou le BAU.\n\n","Por favor, ajuste el consumo de combustible específico (por favor, preste atención a las unidades) para cada categoría de vehículo y fecha. NO OLVIDES TAMBIÉN DAR CONSUMOS DE COMBUSTIBLE para los vehículos que NO TENÍAS en el inventario o el BAU."]
["Descri46","Example: Speed limit of 30 km/h in cities or/and 100 km/h on national highways lead to a lower specific fuel/energy consumption.","Example: Speed limit of 30 km/h in cities or/and 100 km/h on national highways lead to a lower specific fuel/energy consumption.","Exemple: La limitation de vitesse de 30 km/h dans les villes ou 100 km/h sur les routes nationales entraîne une consommation spécifique de carburant/énergie plus faible.","Ejemplo: Un límite de velocidad de 30 km/h en las ciudades o/y 100 km/h en las autopistas nacionales conduce a un menor consumo específico de combustible/energía."]
["FuelconsBAU","Specific fuel/energy consumption for BAU scenario ","Specific fuel/energy consumption for BAU scenario ","Consommation moyenne de carburant des véhicules Scénario BAU","Consumo específico de combustible/energía para el escenario BAU "]
["Fuelconsclimate","Specific fuel/energy consumption for climate scenario ","Specific fuel/energy consumption for climate scenario ","Consommation moyenne de carburant des véhicules Scénario Climat ","Consumo específico de combustible/energía para el escenario climático "]
["Totalfuelconsclim",{"$f":"INDEX($C$5:$E$1048576,,$B$3)","v":"TOTAL energy consumption of vehicles climate scenario [TJ]"},"TOTAL energy consumption of vehicles climate scenario [TJ]","Consommation TOTALE des véhicules Scénario Climat [TJ]","Consumo total de energía de los vehículos escenario climático [TJ]"]
["Descri47","1) Avoid: reduce travel distances","1) Avoid: reduce travel distances","1) Eviter: réduire les distances de voyage ","1) Evitar: reducir las distancias de viaje"]
["Descri48","Define the percentage of vehicle-kilometers travelled (vkt) that can be avoided by reducing trip length or avoiding trips thanks to the measures, without altering the load of trucks.","Define the percentage of vehicle-kilometers travelled (vkt) that can be avoided by reducing trip length or avoiding trips thanks to the measures, without altering the load of trucks.","Définir le pourcentage de véhicule-kilomètre (vkt) évitable grâce aux mesure visant à réduire la longueur ou le nombre des trajets effectués par les véhicules sans changer la charge des camions.","Definir el porcentaje de kilómetros recorridos por vehículo (vkt) que puede evitarse reduciendo la duración del viaje o evitando los viajes gracias a las medidas, sin alterar la carga de los camiones."]
["Descri49","Example: Improvement of logistic routes reduces vehicle kilometers","Example: Improvement of logistic routes reduces vehicle kilometers","Exemple: l'amélioration du routage des camions d'un circuit logistique diminue le nombre de véhicules kilomètres","Ejemplo: La mejora de las rutas logísticas reduce los kilómetros de los vehículos"]
["Descri53","Example: A wider or more efficient transport offer throughout the country can increase overall transport demand","Example: A wider or more efficient transport offer throughout the country can increase overall transport demand","Exemple: Une offre de transport plus étendue ou plus effiace sur tout le territoire peut  faire augmenter la demande globale de transport","Ejemplo: Una oferta de transporte más amplia o más eficiente en todo el país puede aumentar la demanda general de transporte"]
["originalmodefreight","Origin mode of  transportation of the tkm transfered  [%]","Origin mode of  transportation of the tkm transfered  [%]","Mode d'origine des tkm transférés ","Modo de transporte original de tkm transferido  [%]"]
["Descri54","2) Shift: Transfer to sustainable transport modes","2) Shift: Transfer to sustainable transport modes","2) Transférer: transfert vers des modes de transports durables","2) Cambiar: Transferencia a modos de transporte sostenibles"]
["Descri55","Define the increase in the vkt of freight rail transport relative to base vkt in percent.","Define the increase in the vkt of freight rail transport relative to base vkt in percent.","Définir l'augmentation du vkt du transport ferroviaire de marchandises par rapport aux vkt de base en pourcent.","Defina el aumento de kilómetros recorridos por vehículo (vkt) del transporte ferroviario de mercancías en relación con el vkt base en porcentaje."]
["Descri57","Example: Expansion of railway networks or extension of service (increase in the frequency of freight trains for example) increase the number of vehicle kilometers","Example: Expansion of railway networks or extension of service (increase in the frequency of freight trains for example) increase the number of vehicle kilometers","Exemple: Expansion des réseaux ferroviaires ou extension du service (augmentation de la fréquence des trains de marchandise par exemple) augmente le nombre de véhicule kilomètres","Ejemplo: La ampliación de las redes ferroviarias o la extensión del servicio (aumento de la frecuencia de los trenes de mercancías, por ejemplo) aumentan el número de kilómetros de vehículos"]
["Descri58","The Shift measures follow a three step approach: 1. give the potential additional vehicle kilometers  for the vehicle categories below if more vehicle kilometers are expected as a result of the planned measures for the corresponding year \n","The Shift measures follow a three step approach: 1. give the potential additional vehicle kilometers  for the vehicle categories below if more vehicle kilometers are expected as a result of the planned measures for the corresponding year \n","Les mesures de transfert suivent une approche en trois étapes: 1. indiquer le potentiel de kilomètres-véhicules supplémentaires parcourus pour chaque catégorie de véhicules ci-dessous si davantage de véhicules-kilomètres sont attendus à la suite des mesures prévues pour l'année correspondante","Las medidas de desplazamiento siguen un enfoque de tres pasos: 1. dar los posibles kilómetros adicionales de vehículos para las categorías de vehículos siguientes si se esperan más kilómetros de vehículos como resultado de las medidas planificadas para el año correspondiente \r\n"]
["Descri50","2. please adjust the load factor if the amount of goods transported per vehicle is expected to be impacted by the planned measures for the corresponding year\nExample: Higher load of trains planned by the national railway due to a new software optimising the routing of trains\n ","2. please adjust the load factor if the amount of goods transported per vehicle is expected to be impacted by the planned measures for the corresponding year\nExample: Higher load of trains planned by the national railway due to a new software optimising the routing of trains\n ","2. veuillez ajuster le facteur de charge si la quantité de marchandises transportées par véhicule devrait être affectée par les mesures prévues pour l'année correspondante\nExemple: augmentation de la charge de trains prévue par la société nationale de train grâce à un nouveau logiciel optimisant le routage des trains","2. Sírvase ajustar el factor de carga si se prevé que la cantidad de mercancías transportadas por vehículo se verá afectada por las medidas previstas para el año correspondiente\r\nEjemplo: Una mayor carga de trenes planificada por el ferrocarril nacional debido a un nuevo software que optimiza la ruta de los trenes\r\n "]
["Descri51","3. If one of the two parameters (vehicle kilometer or load) are impacted it is mandatory to specify the source of this new ton-vehicle kilometers in the table \"original mode of the shifted tkm\" for the corresponding year and for each \"goal vehicle category \"\nie the categories for which kilometers or load have been changed\nExample: the goal category is train. Based on local expertise around 50% of the ton-kilometer are coming from articulated truck, 40% from solo truck and 10% induced. \nThese ton-kilometers are then considered as suppressed. \nPlease consider that this step is an approximation, as logistical chain are very complexed and this is almost impossible without a precise model to give the exact share of ton-kilometer transferred from one mode to another one. For a precise modeling, please use the firs step: with transport planning tool.\n","3. If one of the two parameters (vehicle kilometer or load) are impacted it is mandatory to specify the source of this new ton-vehicle kilometers in the table \"original mode of the shifted tkm\" for the corresponding year and for each \"goal vehicle category \"\nie the categories for which kilometers or load have been changed\nExample: the goal category is train. Based on local expertise around 50% of the ton-kilometer are coming from articulated truck, 40% from solo truck and 10% induced. \nThese ton-kilometers are then considered as suppressed. \nPlease consider that this step is an approximation, as logistical chain are very complexed and this is almost impossible without a precise model to give the exact share of ton-kilometer transferred from one mode to another one. For a precise modeling, please use the firs step: with transport planning tool.\n","3. Si l'un des deux paramètres (véhicule kilomètre ou charge) est impacté, il est obligatoire de spécifier la source des nouveaux tonne-véhicule kilomètres dans le tableau \"mode original des tkm transférés\" pour l'année correspondante et pour chaque catégorie de véhicule cible \", \nc'est-à-dire les catégories pour lesquelles les kilomètres ou la charge ont été modifiés\n\nExemple: la catégorie cible est le train. Sur la base de l'expertise locale, environ 50% des tonnes-kilomètres proviennent de tracteurs routiers, 40% de camions et 10% sont induits. \nOn part alors de l'hypothèse que ces tonnes-kilomètres sont supprimées.  \nVeuillez considérer que cette étape est une approximation, car la chaîne logistique est très complexe et cela est presque impossible sans un modèle précis pour donner la part exacte de tonnes-kilomètres transférées d'un mode à un autre. Pour une modélisation précise, veuillez utiliser la première étape: \"avec logiciel de planification des transports\"","\"3. Si uno de los dos parámetros (kilómetro o carga del vehículo) se ven afectados, es obligatorio especificar la fuente de esta nueva tonelada/kilómetro en el cuadro \"modo original del tkm desplazado\" para el año correspondiente y para cada \"categoría de vehículo objetivo\".\nes decir, las categorías para las que se han cambiado los kilómetros o la carga\nEjemplo: la categoría de objetivo es el entrenamiento. Según la experiencia local, alrededor del 50% de las toneladas-kilómetro provienen de camiones articulados, el 40% de camiones solos y el 10% inducidos. \nEstas toneladas-kilómetro se consideran entonces como suprimidas. \nPor favor, considere que este paso es una aproximación, ya que la cadena logística es muy compleja y esto es casi imposible sin un modelo preciso para dar la parte exacta de tonelada-kilómetro transferida de un modo a otro. Para un modelado preciso, por favor use el primer paso: con la herramienta de planificación de transporte.\""]
["loadweight","Total permissible load weight ","Total permissible load weight ","Charge utile MAX ","Peso total de carga admisible"]
["Descri61","Please give the share of the vehicule kilometers driven per fuel type for each vehicle category and year. The sum for each vehicle category must reach 100%. If there is no change compared to the BAU, you do not have to enter new shares.","Please give the share of the vehicule kilometers driven per fuel type for each vehicle category and year. The sum for each vehicle category must reach 100%. If there is no change compared to the BAU, you do not have to enter new shares.","Veuillez indiquer la part des kilomètres parcourus par véhicule par type de carburant pour chaque catégorie de véhicule et chaque année. La somme pour chaque catégorie de véhicule doit atteindre 100%. S'il n'y a pas de changement par rapport au BAU, vous n'êtes pas obligé de saisir de nouvelles données.","Por favor, indique la proporción de kilómetros recorridos por tipo de combustible para cada categoría de vehículo y año. La suma para cada categoría de vehículo debe alcanzar el 100%. Si no hay cambios en comparación con la BAU, no tiene que introducir nuevas participaciones."]
["Descri62","Example: Kilometers of electric cars","Example: Kilometers of electric cars","Example: Part kilométrique des voiture électriques","Ejemplo: Kilómetros de coches eléctricos"]
["Descri63","Example: Prohibition of vehicles which are 20 years old may lead to a lower average fuel consumption.","Example: Prohibition of vehicles which are 20 years old may lead to a lower average fuel consumption.","Exemple: Interdiction des véhicules d'âge supérieur à 20 ans -> suppression des véhicules à haute consommation","Ejemplo: La prohibición de los vehículos de 20 años de antigüedad puede dar lugar a un menor consumo medio de combustible."]
["Base","base","base","base","base"]
["mileageclimatescen","Vkt by fuel climate scenario [Mio. km]","Vkt by fuel climate scenario [Mio. km]","Vkt par carburant scénario climat [Mill. km]","Kilómetros recorridos por vehículo (Vkt) según el escenario climático del combustible [millones de kilómetros]."]
["heavytruck","Heavy truck","Heavy truck","Poids lourd","Camión pesado"]
["loadvehicle","Load per vehicle [Tons/vehicle]","Load per vehicle [Tons/vehicle]","Charge des véhicules [Tonnes/véhicule]","Carga por vehículo [Toneladas/vehículo]"]
["vehiclespec","Vehicle specifications","Vehicle specifications","Spécifications des véhicules","Especificaciones del vehículo"]
["totalkm","Total vkt","Total vkt","Vkt total","Total de kilómetros recorridos por vehículo (vkt)"]
["Secteur","Sector","Sector","Secteur","Sector"]
["Transporttype","Transport type","Transport type","Type de transport","Tipo de transporte"]
["Enfact","Emission and energy factors","Emission and energy factors","Facteurs énergétiques et d'émissions","Factores de emisión y energía"]
[]
["fuelGHG",{"$f":"INDEX($C$5:$E$1048576,,$B$3)","v":"Total energy consumption and GHG emissions"},"Total energy consumption and GHG emissions","Consommation totale d'énergie et émissions de GES","Consumo total de energía y emisiones de GEI"]
["totalfuelcons","Total energy consumption","Total energy consumption","Consommation d'energie totale","Consumo total de energía"]
["totalGHG","Total emission CO2e [1000t] ","Total emission CO2e [1000t] ","Emissions totales CO2e [1000t] ","Emisiones totales de CO2 [1000t]"]
["Mpasskm","Million Passenger-km","Million Passenger-km","Million Passager-km","Millones de pasajeros-km"]
["Descri64","BAU scenario per category","BAU scenario per category","Scénario BAU par catégorie","Escenario BAU por categoría"]
["Descri65","Climate scenario by category: 1) Avoid motorised vkt","Climate scenario by category: 1) Avoid motorised vkt","Scénario climat par catégorie: 1) Eviter vkt motorisé","Escenario climático por categoría: 1) Evitar kilómetros recorridos por vehículo (vkt) motorizado"]
["Descri66","Climate scenario by Category: 2) Transfer Expansion of PT and Rail Freight","Climate scenario by Category: 2) Transfer Expansion of PT and Rail Freight","Scénario climat par catégorie: 2) Transférer expension du TCP et du fret ferroviaire","Escenario climático por categoría: 2) Expansión de la transferencia del transporte público y del transporte ferroviario"]
["Descri68","BAU scenario by category and type of fuel","BAU scenario by category and type of fuel","Scénario BAU par catégorie et type de carburant","Escenario BAU por categoría y tipo de ombustible"]
["Descri69","Climate scenario by category and type of fuel: 3) Penetration of alternative energies","Climate scenario by category and type of fuel: 3) Penetration of alternative energies","Scénario climat par catégorie et type de carburant :3) Pénétration des énergies alternatives","Escenario climático por categoría y tipo de combustible: 3) Penetración de energías alternativas"]
["Descri70","Climate scenario by category and type of fuel 4) Improve: adjust the specific fuel consumption of vehicles","Climate scenario by category and type of fuel 4) Improve: adjust the specific fuel consumption of vehicles","Scénario climat par catégorie et type de carburant 4) Améliorer: ajuster la consommation spécifique des véhicules","Escenario climático por categoría y tipo de combustible 4) Mejorar: ajustar el consumo específico de combustible de los vehículos"]
["Road","Road","Road","Route","Ruta"]
["Rail","Rail","Rail","Ferroviaire","Ferrocarril"]
["GEStype","Choose the type of GHG (click on D13)","Choose the type of GHG (click on D13)","Choisir le type de GES (cliquer sur D13)","Selecciones el tipo de GEI (haga click en D13)"]
["TTWWTW","TTW: Tank-to-Wheel (without emissions from energy production); WTW Well-to-Wheel (with emissions from energy production)","TTW: Tank-to-Wheel (without emissions from energy production); WTW Well-to-Wheel (with emissions from energy production)","TTW: du éservoir à la roue (sans les émissions dûes à la production d'énergie); WTW du puis à la roue (avec les émissions dûes à la production d'énergie)","TTW: Tanque a rueda (sin emisiones de la producción de energía); WTW Pozos a rueda (con emisiones de la producción de energía)"]
["Description71","1) Type of result and inventory","1) Type of result and inventory","1) Type de résultat et inventaires","Tipo de resultado e inventario"]
["CRF","CRF code IPCC","CRF code IPCC","Code CFR GIEC","CRF code IPCC"]
["IPCCcategories","IPCC categories","IPCC categories","Catégories GIEC","IPCC categories"]
["tGHG","t GHG","t GHG","t GES","t GEI"]
["Roadc","Road- car","Road- car","Route - voiture ","Ruta-coche"]
["Roadlcv","Road- LCV","Road- LCV","Route - camionnette","Ruta- Vehículo comercial ligero"]
["roadtb","Road- truck and busses","Road- truck and busses","Route - camion et bus","Ruta- Camión y buses"]
["roadm","Road- motorcycle","Road- motorcycle","Route - motocyclette","Ruta- Motocicleta"]
["Descri71","2) Results of GHG Emissions from road and rail Transport int the BAU and Climate scenario","2) Results of GHG Emissions from road and rail Transport int the BAU and Climate scenario","2) Résultats des émission de GES de transport Routier et Ferroviaire dans le Scénario BAU et Climat ","2) Resultados de las emisiones de GEI del transporte por Ruta y ferrocarril en el escenario de la UA y el clima"]
["ScenBAU","BAU scenario","BAU scenario","Scénario BAU","Escenario BAU"]
["passBAU","BAU passenger","BAU passenger","BAU passager","Pasajero BAU"]
["freiBAU","BAU freight","BAU freight","BAU marchandise","Carga BAU"]
["Climatescen","Climate scenario","Climate scenario","Scénario Climat","Escenario climático"]
["Passclim","Climate passenger","Climate passenger","Climat passager","Pasajero Clima"]
["freightclim","Climate freight","Climate freight","Climat marchandise","Carga Clima"]
["Descri72","3) Key Performance Indicators (KPI) for monitoring plan","3) Key Performance Indicators (KPI) for monitoring plan","3) Indicateurs Clefs de Performance (KPI) pour le monitoring plan","3) Indicadores clave de rendimiento (KPI) para el plan de monitoreo"]
["Descri73","Indicators","Indicators","Indicateurs","Indicadores"]
["Descri74","Explanation","Explanation","Explication","Explicación"]
["Indic1",{"$f":"INDEX($C$5:$E$1048576,,$B$3)","v":"GHG emissions from transportation per capita and per year"},"GHG emissions from transportation per capita and per year","Émissions de GES des transports par habitant et par an","Emisiones de GEI derivadas del transporte per cápita y por año"]
["Indic2","Change in transport GHG emissions compared to the BAU scenario","Change in transport GHG emissions compared to the BAU scenario","Changement des émissions de GES dans les transports par rapport au scénario BAU","Aumento de las emisiones de GEI del transporte en comparación con el año de base"]
["Indic3","Number of fatal accidents per 100,000 inhabitants per year","Number of fatal accidents per 100,000 inhabitants per year","Nombre d'accidents mortels par 100 000 habitants par an","Número de accidentes mortales por cada 100.000 habitantes por año"]
["Indic4","Number of people in the service area of ​​public transport","Number of people in the service area of ​​public transport","Nombre de personnes dans la zone de desserte des transports publics","Número de personas en el área de servicio del transporte público"]
["Indic5","Average commercial speed","Average commercial speed","Vitesse commerciale moyenne","Velocidad comercial media"]
["Indic6","Modal share of individual traffic in passenger transport","Modal share of individual traffic in passenger transport","Part modale du trafic individuel dans le transport de passager","Cuota modal del tráfico individual en el transporte de pasajeros"]
["Indic7","Modal share of public transport in passenger transport","Modal share of public transport in passenger transport","Part modale des transports publics dans le transport de passager","Participación modal del transporte público en el transporte de pasajeros"]
["Indic8","GHG emissions per motorised passenger-kilometer for private transportation","GHG emissions per motorised passenger-kilometer for private transportation","Émissions de GES dans le transport privé motorisé par passager-kilomètre","Emisiones de GEI por kilómetro-pasajero motorizado para el transporte privado"]
["Indic9","GHG emissions in public transport per passenger-kilometer","GHG emissions in public transport per passenger-kilometer","Émissions de GES dans les transports publics par passager-kilomètre","Emisiones de GEI en el transporte público por pasajero-kilómetro"]
["Indic10","Proportion of vkt of alternative fuel vehicles in passenger transport by road (in pkm)","Proportion of vkt of alternative fuel vehicles in passenger transport by road (in pkm)","Proportion du vkt effectués par des véhicules à carburants alternatifs dans le transport de voyageurs par route (en pkm)","Proporción de kilómetro recorridos por vehículo (vkt) de vehículos de combustible alternativo en el transporte de pasajeros por Ruta (en pkm)"]
["Indic11","Share of electric vkt in passenger rail transport","Share of electric vkt in passenger rail transport","Part du vkt électrique dans le transport ferroviaire de voyageurs","Porcentaje de kilómetros recorridos por vehículo (vkt) eléctrico en el transporte ferroviario de pasajeros"]
["Indic12","Modal share of road freight transport in total freight transport","Modal share of road freight transport in total freight transport","Part modale du trafic de marchandise routier dans le trafic de fret total","Proporción modal del transporte de mercancías por Ruta en el transporte de mercancías total"]
["Indic13","Modal share of rail freight transport in total freight transport","Modal share of rail freight transport in total freight transport","Part modale du trafic de marchandise ferroviaire dans le trafic de fret total","Proporción modal del transporte de mercancías por ferrocarril en el transporte de mercancías total"]
["Indic14","GHG emissions from road freight transport per tonne-kilometer","GHG emissions from road freight transport per tonne-kilometer","Émissions de GES du transport de marchandises routier par tonne-kilomètre","Emisiones de GEI del transporte de mercancías por Ruta por tonelada-kilómetro"]
["Indic15","GHG emissions from rail freight transport per tonne-kilometer","GHG emissions from rail freight transport per tonne-kilometer","Émissions de GES du transport de marchandises ferroviaire par tonne-kilomètre","Emisiones de GEI del transporte ferroviario de mercancías por tonelada-kilómetro"]
["Indic16","Share of alternative propulsion systems in road freight transport","Share of alternative propulsion systems in road freight transport","Part des systèmes de propulsion alternatifs dans le trafic routier de marchandises","Proporción de sistemas de propulsión alternativos en el transporte de mercancías por Ruta"]
["Indic17","Share of electric vkt in rail freight transport","Share of electric vkt in rail freight transport","Part du vkt électrique dans le transport ferroviaire de marchandises","Proporción de kilómetros recorridos por vehículos (vkt) eléctricos en el transporte de mercancías por ferrocarril"]
["General","General","General","Général","General"]
["Passtrans","Passenger transportation","Passenger transportation","Transport de passager","Transporte de pasajeros"]
["Freighttrans","Freight transportation","Freight transportation","Transport de marchandise","Transporte de mercancías"]
["Expl1","Total GHG emissions in road and rail transport, divided by the number of inhabitants for the reference year","Total GHG emissions in road and rail transport, divided by the number of inhabitants for the reference year","Émissions totales de GES dans les services routiers et ferroviaires divisées par le nombre d'habitants au cours de l'année de référence","Emisiones totales de GEI en el transporte por Ruta y ferrocarril, divididas por el número de habitantes para el año de referencia"]
["Expl2","Absolute GHG emissions of the transport sector (total road and rail) subtracted to the emissions of the BAU scenario","Absolute GHG emissions of the transport sector (total road and rail) subtracted to the emissions of the BAU scenario","Émissions absolues de GES Le secteur des transports (total route et ferroviaire) soustrait à celles du scénario BAU ou \"au fil de l'eau\"","Emisiones absolutas de GEI del sector del transporte (total de la Ruta y el ferrocarril) restadas a las emisiones del año de base"]
["Expl3","According to the WHO, fatal accidents are counted up to 30 days after the day of the accident","According to the WHO, fatal accidents are counted up to 30 days after the day of the accident","Selon l'OMS, les accidents mortels sont comptés jusqu'à 30 jours après le jour de l'accident","Según la OMS, los accidentes mortales se cuentan hasta 30 días después del día del accidente"]
["Expl4","Number of people within 500 m of public transit with a headway of minimum 20 minutes at rush hour, or people who have access to ridesharing offers that are comparable in price to public transit","Number of people within 500 m of public transit with a headway of minimum 20 minutes at rush hour, or people who have access to ridesharing offers that are comparable in price to public transit","Nombre de personnes à moins de 500 m des transports en commun, qui passent en heure de pointe au moins toutes les 20 minutes, ou qui ont accès à des offres de covoiturage qui ont un rapport qualité-prix comparable à celui des transports en commun","Número de personas que se encuentran a menos de 500 m del transporte público con un recorrido mínimo de 20 minutos en hora pico, o personas que tienen acceso a ofertas de transporte compartido comparables en precio al transporte público"]
["Expl5","Average speed of a mode of transport between two terminals, including all operational stops","Average speed of a mode of transport between two terminals, including all operational stops","Vitesse de croisière moyenne entre deux points de trajet, y compris tous les arrêts intermédiaires","Velocidad media de un medio de transporte entre dos terminales, incluidas todas las paradas operativas"]
["Expl6","The transport performance (pkm) of individual transport is calculated from the total volume of non-motorised individual transport (pedestrians, bicycles) and individual motorised transport (private cars, taxis and private cars and motorcycles) then divided by the total transport volume (individual total and public transport)","The transport performance (pkm) of individual transport is calculated from the total volume of non-motorised individual transport (pedestrians, bicycles) and individual motorised transport (private cars, taxis and private cars and motorcycles) then divided by the total transport volume (individual total and public transport)","Les performances de transport (pkm) du transport individuel est calculé à partir du volume total du trafic individuel non motorisé (piétons, bicyclettes) et du trafic individuel motorisé (voiture particulières, taxis et voiture de tourisme et motocycles) puis divisé par le volume total du trafic total (total individuel et transport public)","El rendimiento de transporte (pkm) del transporte individual se calcula a partir del volumen total del transporte individual no motorizado (peatones, bicicletas) y del transporte individual motorizado (automóviles privados, taxis y automóviles privados y motocicletas) y luego se divide por el volumen total de transporte (total individual y transporte público)"]
["Expl7","Transport performance (pkm) in public transport is calculated from the total volume of minibus, bus and passenger train transport and divided by the total transport volume (total individual transport and public transport).","Transport performance (pkm) in public transport is calculated from the total volume of minibus, bus and passenger train transport and divided by the total transport volume (total individual transport and public transport).","Les performances de transport (pkm) dans les transports en commun sont calculées à partir du volume total de trafic des minibus, bus et trains de voyageurs, puis divisées par le volume total du trafic total (trafic individuel total et transport public).","El rendimiento del transporte (pkm) en el transporte público se calcula a partir del volumen total del transporte en minibús, autobús y tren de pasajeros y se divide por el volumen total del transporte (transporte individual total y transporte público)."]
["Expl8","Transport performance (pkm) is calculated as the sum of transport (pedestrians, cyclists, motorbikes, private cars, municipal car and taxis, minibuses, buses and passenger trains) divided by the number of inhabitants","Transport performance (pkm) is calculated as the sum of transport (pedestrians, cyclists, motorbikes, private cars, municipal car and taxis, minibuses, buses and passenger trains) divided by the number of inhabitants","Les performances de transport (pkm) sont calculées comme la somme du trafic (piétons, cyclistes, motos, voiture particulières, voiture et taxis municipaux, minibus, bus et trains de voyageurs) divisé par le nombre d'habitants","El rendimiento del transporte (pkm) se calcula como la suma del transporte (peatones, ciclistas, motocicletas, coches privados, coches y taxis municipales, minibuses, autobuses y trenes de pasajeros) dividida por el número de habitantes en el año de referencia "]
["Expl9","GHG emissions and transport performance (pkm) of private motorised transport are calculated from the sum of GHG emissions of all transportation (pedestrians, cyclists, motorcycles, private cars, municipal cars and taxis)","GHG emissions and transport performance (pkm) of private motorised transport are calculated from the sum of GHG emissions of all transportation (pedestrians, cyclists, motorcycles, private cars, municipal cars and taxis)","Les émissions de GES et les performances de transport (pkm) du transport privé motorisé sont calculés à partir de la somme des émissions tous les modes de transport (piétons, cyclistes, motos, voiture particulières, voiture municipales et taxis) par passager kilomètre totaux","Las emisiones de GEI y el rendimiento del transporte (pkm) del transporte motorizado privado se calculan a partir de la suma de las emisiones de GEI de todos los transportes (peatones, ciclistas, motocicletas, coches privados, coches municipales y taxis)"]
["Expl10","GHG emissions and transport performance (pkm) in public transport are each calculated from the sum of public transport emissions (minibuses, buses and passenger trains) per passenger-kilometer","GHG emissions and transport performance (pkm) in public transport are each calculated from the sum of public transport emissions (minibuses, buses and passenger trains) per passenger-kilometer","Les émissions de GES et la performance de transport (pkm) dans les transports en commun sont chacun calculés à partir de la somme des emissions des transports publics (minibus, bus et trains de voyageurs) par passager-kilomètre","Las emisiones de GEI y el rendimiento del transporte (pkm) en el transporte público se calculan cada uno de ellos a partir de la suma de las emisiones del transporte público (minibuses, autobuses y trenes de pasajeros) por pasajero-kilómetro"]
["Expl11","Total vkt of alternative motor vehicles (LPG, LNG, hybrid, electric) in passenger road transport (motorcycles, passenger cars, municipal taxis and cars, minibuses, buses) divided by the total vkt of road transport ","Total vkt of alternative motor vehicles (LPG, LNG, hybrid, electric) in passenger road transport (motorcycles, passenger cars, municipal taxis and cars, minibuses, buses) divided by the total vkt of road transport ","Kilométrage total (km) de véhicules à moteur alternatif (GPL, GNL, hybride, électrique) dans le transport routier de passagers (motocycles, voiture particulières, taxis et voiture municipales, minibus, bus) divisé par le vkt total des transports routiers","Total de kilómetros recorridos por vehículo (vkt) de vehículos de motor alternativos (GLP, GNL, híbridos, eléctricos) en el transporte de pasajeros por Ruta (motocicletas, coches de pasajeros, taxis y coches municipales, minibuses, autobuses) dividido por el total de vkt del transporte por Ruta (suma de combustibles alternativos, diesel y gasolina)"]
["Expl12","Total electric vkt in passenger rail transport divided by total rail vkt","Total electric vkt in passenger rail transport divided by total rail vkt","Kilométrage des trains électriques (km) dans le transport ferroviaire de voyageurs divisé par le kilométrage ferroviraire total","Total de kilómetros recorriods por vehículos (vkt) eléctricos en el transporte ferroviario de pasajeros dividido por el total de vkt ferroviarios (total de vkt de trenes eléctricos y diésel)"]
["Expl13",{"$f":"INDEX($C$5:$E$1048576,,$B$3)","v":"The transport performance (tkm) of road freight transport is calculated from the sum of light and heavy truck transport performance (tkm) and divided by the total volume of freight transport performance (sum of road and rail transport)."},"The transport performance (tkm) of road freight transport is calculated from the sum of light and heavy truck transport performance (tkm) and divided by the total volume of freight transport performance (sum of road and rail transport).","Les performances de transport (tkm) du transport routier de marchandises sont calculées à partir de la somme du trafic de camions légers et lourds, puis divisées par le volume total du trafic de fret (somme du trafic routier et ferroviaire).","El rendimiento del transporte (tkm) del transporte de mercancías por Ruta se calcula a partir de la suma del rendimiento del transporte en camiones ligeros y pesados (tkm) y se divide por el volumen total del rendimiento del transporte de mercancías (suma del transporte por Ruta y ferroviario)."]
["Expl14","The transport performance (tkm) of rail freight traffic is divided by the total volume of total freight performance (sum of road and rail freight transport)","The transport performance (tkm) of rail freight traffic is divided by the total volume of total freight performance (sum of road and rail freight transport)","Les performances de transport (tkm) du trafic ferroviaire de fret sont divisées par le volume total du trafic de fret total (somme du trafic de fret routier et ferroviaire)","El rendimiento del transporte (tkm) del tráfico de mercancías por ferrocarril se divide por el volumen total del rendimiento del transporte de mercancías (suma del transporte de mercancías por Ruta y ferrocarril)"]
["Expl15","GHG emissions divided by transport performance (tkm) in road freight transport refer to light and heavy goods vehicles","GHG emissions divided by transport performance (tkm) in road freight transport refer to light and heavy goods vehicles","Les émissions de GES divisées par le volume de transport (tkm) dans le transport routier de marchandises se réfèrent aux poids lourds et légers","Las emisiones de GEI divididas por el rendimiento del transporte (tkm) en el transporte de mercancías por Ruta se refieren a los vehículos de mercancías ligeras y pesadas"]
["Expl16","GHG emissions divided by transport performance (tkm) for rail freight transport refer to diesel and electric trains","GHG emissions divided by transport performance (tkm) for rail freight transport refer to diesel and electric trains","Les émissions de GES divisées par le volume de transport (tkm) dans le transport ferroviaire de marchandises se réfèrent aux trains diesels et électriques","Las emisiones de GEI divididas por el rendimiento del transporte (tkm) para el transporte de mercancías por ferrocarril se refieren a los trenes diesel y eléctricos"]
["Expl17","Total vkt of alternative fuel vehicles (LPG, LNG, electric) in road freight transport (heavy goods vehicles and light trucks) divided by total vkt in road freight transport (sum of alternative fuels, diesel and gasoline)","Total vkt of alternative fuel vehicles (LPG, LNG, electric) in road freight transport (heavy goods vehicles and light trucks) divided by total vkt in road freight transport (sum of alternative fuels, diesel and gasoline)","vkt total (km) de véhicules à moteur alternatif (GPL, GNL, électrique) dans le transport routier de marchandises (poids lourds et camions légers) divisé par le vkt total dans le transport routier de marchandises (somme des carburants alternatifs, du diesel et de l'essence)","Total de kilómetros recorridos por vehículo (vkt) de vehículos de combustibles alternativos (GLP, GNL, eléctricos) en el transporte de mercancías por Ruta (vehículos pesados y camiones ligeros) dividido por el total de vkt en el transporte de mercancías por Ruta (suma de combustibles alternativos, diesel y gasolina)"]
["Expl18","Total electric vkt of rail freight divided by total vkt of rail freight (total vkt by electric trains and diesel)","Total electric vkt of rail freight divided by total vkt of rail freight (total vkt by electric trains and diesel)","Vkt électrique total (km) dans le fret ferroviaire divisé par le Vkt total du transport de marchandises ferroviaire (Vkt total par trains électriques et diesels)","Total de kilómetros recorridos por vehículos(vkt) eléctricos del transporte ferroviario dividido por el total de vkt del transporte ferroviario (total de vkt por trenes eléctricos y diesel)"]
["Expl21","NMT = Non Motorised Transport, includes walking and bicycling, small-wheeled transport (e.g.skateboards, e-scooters...) ","NMT = Non Motorised Transport, includes walking and bicycling, small-wheeled transport (e.g.skateboards, e-scooters...) ","TNM: Transport non motorisé, inclus les piétons et les vélos, moyen de transport à petites roues (skateboards, trotinette électriques…)","TNM = Transporte no motorizado, incluye caminar y andar en bicicleta, transporte de ruedas pequeñas (por ejemplo, monopatines, e-scooters...) "]
[]
["Descri75",{"$f":"INDEX($C$5:$E$1048576,,$B$3)","v":"Climate 2020"},"Climate 2020","Climat 2020","Clima 2020"]
["Descri76","Objective 2020","Objective 2020","Objectif 2020","Objetivo 2020"]
["Descri77","BAU 2020","BAU 2020","BAU 2020","BAU 2020"]
["Descri78","Climate 2025","Climate 2025","Climat 2025","Clima 2025"]
["Descri79","Objective 2025","Objective 2025","Objectif 2025","Objetivo 2025"]
["Descri80","BAU 2025","BAU 2025","BAU 2025","BAU 2025"]
["Descri81","Climate 2030","Climate 2030","Climat 2030","Clima 2030"]
["Descri82","Objective 2030","Objective 2030","Objectif 2030","Objetivo 2030"]
["Descri83","BAU 2030","BAU 2030","BAU 2030","BAU 2030"]
["Mileagepercfuel","Percentage of vkt by fuel type","Percentage of vkt by fuel type","Pourcentage du vkt par type de carburant","Porcentaje de kilómetros recorridos por vehículo (vkt) por tipo de combustible"]
["EFCO2","Emission factors CO2e TTW (kg/TJ)","Emission factors CO2e TTW (kg/TJ)","Facteur d'émission GES CO2eq TTW (kg/TJ)","Factores de emisión CO2e TTW (kg/TJ)"]
["TotalGHGTTW","Total GHG emissions TTW","Total GHG emissions TTW","Emissions totales de CO2 eq TTW","Emisiones totales de GEI TTW"]
["Usedfor","Used for ","Used for ","Utilisé pour","Utilizado para"]
["Fuelcat","Fuel category","Fuel category","Catégorie de carburant","Categoría de combustible"]
["LHV","Lower heating value","Lower heating value","Pouvoir calorifique inférieure","Menor valor de calentamiento"]
["Density","Density","Density","Densité","Densidad"]
["low","low","low","bas","bajo"]
["high","high","high","haut","alto"]
["DefaultkgTJ","Default (kg/TJ)","Default (kg/TJ)","Défaut\n(kg/TJ)","Por defecto (kg/TJ)"]
["calculated","calculated","calculated","calculé","calculado"]
["Factorselec","Factors selected in kg/TJ","Factors selected in kg/TJ","Facteurs utilisés en kg/TJ","Factores seleccionados en kg/TJ"]
["TotalGHGWTW","Emission factors CO2e WTW (kg/TJ)","Emission factors CO2e WTW (kg/TJ)","Facteur d'émission GES CO2eq WTW (kg/TJ)","Factores de emisión CO2e WTW (kg/TJ)"]
["TJ1000tons","TJ/1000 tons \nMJ/kWh for electricity","TJ/1000 tons \nMJ/kWh for electricity","TJ/1000 TOP\nMJ/kWh pour l'électricité","TJ/1000 toneladas \r\nMJ/kWh para la electricidad"]
["kgl","kg/l;\nKg/kg for NG","kg/l;\nKg/kg for NG","kg/l;\nKg/kg pour GN","kg/l; Kg/kg para GN"]
["RoadG","Road - Gasoline","Road - Gasoline","Route - Essence","Ruta - Gasolina"]
["nu","not used","not used","non-utilisé","no usado"]
["RoadH","Road - Hybrid","Road - Hybrid","Route - Hybride","Ruta - Híbrido"]
["RoadD","Road - Diesel","Road - Diesel","Route - Diesel","Ruta - Diésel"]
["RoadNG","Road - NG","Road - NG","Route - GN","Ruta - GN"]
["RoadLPG","Road - LPG","Road - LPG","Route - GPL","Ruta - GLP"]
["RailD","Rail - Diesel","Rail - Diesel","Ferroviaire - Diesel","Ferrocarril - Diésel"]
["Gasun","Motor Gasoline- uncontrolled","Motor Gasoline- uncontrolled","Essence- non controlée","Gasolina de motor - sin control"]
["Gasoxi",{"$f":"INDEX($C$5:$E$1048576,,$B$3)","v":"Motor Gasoline- Oxidation Catalyst"},"Motor Gasoline- Oxidation Catalyst","Essence- catalyst oxydation","Gasolina de motor - Catalizador de oxidación"]
["GasLDV","Motor Gasoline- Low Mileage LDV Vintage 1995 or Later","Motor Gasoline- Low Mileage LDV Vintage 1995 or Later","Motor Gasoline- Low Mileage LDV Vintage 1995 or Later","Gasolina de motor - Bajo kilometraje LDV Vintage 1995 o posterior"]
["Gasdiesel","Gas/ Diesel Oil","Gas/ Diesel Oil","Diesel","Diésel"]
["naturalgas","Natural Gas ","Natural Gas ","Gas naturel","Gas natural "]
["LiquPG","Liquefied Petroleum Gases ","Liquefied Petroleum Gases ","Gas de pétrole liquéfié","Gases licuados de petróleo "]
["Avker","Aviation - Kerosene","Aviation - Kerosene","Aviation - Kerosene","Aviación - Queroseno"]
["Avgas","Aviation - Aviation Gasoline","Aviation - Aviation Gasoline","Aviation - Essence","Aviación - Gasolina de aviación"]
["MarHFO","Maritime - HFO","Maritime - HFO","Maritime - Fioul lourd","Marítimo - HFO"]
["Mardiesel","Maritime - Diesel","Maritime - Diesel","Maritime - Diesel","Marítimo - Diésel"]
["ShipHFO","Inland Shipping - HFO","Inland Shipping - HFO","Transport fluvial - Fioul lourd","Envío interior - HFO"]
["ShipDiesel","Inland Shipping - Diesel Oil","Inland Shipping - Diesel Oil","Transport fluvial - Diesel","Navegación Interior - Diésel"]
["Shipgas","Inland Shipping - Motor Gasoline","Inland Shipping - Motor Gasoline","Transport fluvial - Essence","Navegación interior - Gasolina de motor"]
["Jetker","Jet Kerosene","Jet Kerosene","Jet Kérosène","Queroseno para aviones"]
["RFO","Residual Fuel Oil","Residual Fuel Oil","Fuel résiduel","Aceite combustible residual"]
["goods","Freight","Freight","Marchandise","Carga"]
["Milannualkm","Vehicle kilometers travelled [Mio. km]","Vehicle kilometers travelled [Mio. km]","Mill. Km","Kilómetros recorridos por el vehículo [Mio. km]"]
["transportperfBAU","Transport performance [Mio. pkm]","Transport performance [Mio. pkm]","Prestations de transport [Mill pkm]","Rendimiento del transporte [Mio. pkm]"]
["scenario","Scenario","Scenario","Scénario","Escenario"]
["totalindividualtransport","Total individual transport","Total individual transport","Somme transport individuel","Transporte individual total"]
["totalpublictransport","Total public transport","Total public transport","Somme transport public","Total del transporte público"]
["Control","Check","Check","Contrôle ","Revisa"]
["vktMilkm","Vkt [Mio. km]","Vkt [Mio. km]","Vkt [Mill. km]","Kilómetros recorridos por vehículo (Vkt) [Mio. km]"]
["RailElec","Rail - Electric","Rail - Electric","Ferroviaire - Electrique","Ferrocarril - Eléctrico"]
["FuelConTJ","Fuel Consumption [TJ]","Fuel Consumption [TJ]","Consommation de carburant [TJ]","Consumo de combustible [TJ]"]
["TotalGHGTTW1000t","Total emission CO2 eq [1000t] TTW","Total emission CO2 eq [1000t] TTW","Emissions totales CO2 eq [1000t] TTW","Emisión total de CO2 eq [1000t] TTW"]
["ChooseBalanceType","Choose the type of balance ","Choose the type of balance ","Choisir le type de bilan","Elija el tipo de balance "]
["PerfPass","Performance of passenger transport per inhabitant and per year","Performance of passenger transport per inhabitant and per year","Performances du transport de passagers par habitant et par an","Rendimiento del transporte de pasajeros por habitante y por año"]
["CO2perinhab","t CO2e/inhabitant","t CO2e/inhabitant","t CO2e/Habitant","t CO2e/habitante"]
["Accperinhab","accidents/100.000 inhabitants","accidents/100.000 inhabitants","Accidents/100.000 Habitants","accidentes/100.000 habitantes"]
["numberinhab","Number of inhabitants","Number of inhabitants","Nombre d'habitants","Número de habitantes"]
["Pkmperinhab","pkm/inhabitant","pkm/inhabitant","pkm/Habitant","pkm/habitante"]
["resBAU","Results BAU","Results BAU","Résultats BAU","Resultados BAU"]
["fuelconsdiff",{"$f":"INDEX($C$5:$E$1048576,,$B$3)","v":"l/100km or kWh/100km"},"l/100km or kWh/100km","l/100km ou kWh/100km","l/100km o kWh/100km"]
["ifeupassest","ifeu passenger estimation","ifeu passenger estimation","ifeu estimation passager","estimación de pasajeros del ifeu"]
["ifeugoodsest","ifeu freight estimation","ifeu freight estimation","ifeu estimation marchandise","estimación de carga del ifeu"]
["Candc","Country and city","Country and city","Ville et Pays","País y ciudad"]
["yearref","Reference year","Reference year","Année de référence","Año de referencia"]
["Text1","First: Select if you are a country or a city (drop-down menu) , fill in the name of your country/city as well as the base year chosen; and select the language (drop-down menu) below","First: Select if you are a country or a city (drop-down menu) , fill in the name of your country/city as well as the base year chosen; and select the language (drop-down menu) below","Veuillez renseigner d'abord: le nom de votre pays / ville (menu déroulant) ainsi que l'année de base choisie; et choisissez la langue  (menu déroulant) ci-dessous","Primero: Seleccione si es un país o una ciudad (menú desplegable) , rellene el nombre de su país/ciudad así como el año base elegido; y seleccione el idioma (menú desplegable) a continuación\nIdioma"]
["Language","Language","Language","Langue","Idioma"]
["Text2","Purpose of this tool:","Purpose of this tool:","But du présent outil: ","El propósito de esta herramienta es:"]
["Text2a","This tool is a bottom-up spreadsheet model for greenhouse gas emission (GHG) calculations in the transport sector at the national and local level. It enables calculating GHG inventories of cities and countries as well as BAU \"business as usual\" scenarios and climate scenarios. The tool enables governments to calculate potential effects of national and urban transport policies on total GHG emissions, e.g. extension of public transport, subsidies for electric vehicles. The scope of the emission that should be taken into account is based on a territorial principle (see for more details http://mobiliseyourcity.net/wp-content/uploads/sites/2/2017/09/MobiliseYourCity_MRV_Approach.pdf). Basically all traffic within the city/country must be taken into account WITHIN the defined territory (traffic of inhabitants, incoming and outgoing traffic such as commuters, tourists, freight deliveries and so on)\n\nThe inventory is mandatory, the calculation of a BAU is not compulsory but necessary if a climate scenario is calculated. The climate scenario is optional. Please provide all input to the corresponding assessment (only for base year for inventory, for future years in the BAU sheet and eventually for the climate scenario in the climate sheets if wanted).","This tool is a bottom-up spreadsheet model for greenhouse gas emission (GHG) calculations in the transport sector at the national and local level. It enables calculating GHG inventories of cities and countries as well as BAU \"business as usual\" scenarios and climate scenarios. The tool enables governments to calculate potential effects of national and urban transport policies on total GHG emissions, e.g. extension of public transport, subsidies for electric vehicles. The scope of the emission that should be taken into account is based on a territorial principle (see for more details http://mobiliseyourcity.net/wp-content/uploads/sites/2/2017/09/MobiliseYourCity_MRV_Approach.pdf). Basically all traffic within the city/country must be taken into account WITHIN the defined territory (traffic of inhabitants, incoming and outgoing traffic such as commuters, tourists, freight deliveries and so on)\n\nThe inventory is mandatory, the calculation of a BAU is not compulsory but necessary if a climate scenario is calculated. The climate scenario is optional. Please provide all input to the corresponding assessment (only for base year for inventory, for future years in the BAU sheet and eventually for the climate scenario in the climate sheets if wanted).","\n\nCet outil est un outil excel dit \"bottom-up\" pour le calcul des émissions de gaz à effet de serre (GES) dans le secteur des transports aux niveaux national et local. Il permet de calculer les inventaires de GES des villes et des pays ainsi que les scénarios «business as usual (BAU»  ou \"au fil de l'eau\" et les scénarios climatiques. L'outil permet aux gouvernements de calculer les effets potentiels des politiques nationales et urbaines de transport sur les émissions totales de GES, par ex. extension des transports publics, subventions aux véhicules électriques. Le cadre géographique des émissions à prendre en compte est basé sur un principe territorial (voir pour plus de détails http://mobiliseyourcity.net/wp-content/uploads/sites/2/2017/09/MobiliseYourCity_MRV_Approach.pdf). Fondamentalement toute activité de traffic routier à l'intérieur de la ville / du pays doit être pris en compte DANS le territoire définit (trafic des habitantss, trafic entrant et sortant comme les trajets bureau, les touristes, les livraisons de marchandises, etc.)\n\nL'inventaire est obligatoire, le calcul d'un BAU n'est pas obligatoire mais nécessaire si un scénario climatique est calculé. Le scénario climatique est facultatif. Veuillez fournir toutes les données nécessaires à l'évaluation correspondante (uniquement pour l'année de base pour l'inventaire, pour les années futures dans la feuille BAU et éventuellement pour le scénario climatique dans les feuilles climatiques si celui-ci est à calculer).\n","\"Esta herramienta es un modelo de hoja de cálculo ascendente para los cálculos de las emisiones de gases de efecto invernadero (GEI) en el sector del transporte a nivel nacional y local. Permite calcular inventarios de GEI de ciudades y países, así como escenarios \"business as usual\" (BAU) y escenarios climáticos. La herramienta permite a los gobiernos calcular los posibles efectos de las políticas de transporte nacional y urbano sobre las emisiones totales de GEI, por ejemplo, la ampliación del transporte público, las subvenciones a los vehículos eléctricos. El alcance de la emisión que debe tenerse en cuenta se basa en un principio territorial (véase para más detalles http://mobiliseyourcity.net/wp-content/uploads/sites/2/2017/09/MobiliseYourCity_MRV_Approach.pdf). Básicamente todo el tráfico dentro de la ciudad/país debe ser tenido en cuenta DENTRO del territorio definido (tráfico de habitantes, tráfico entrante y saliente como viajeros, turistas, entregas de carga y así sucesivamente)\n\nEl inventario es obligatorio, el cálculo de un BAU no es obligatorio pero necesario si se calcula un escenario climático. El escenario climático es opcional. Por favor, proporcione todos los datos para la evaluación correspondiente (sólo para el año base para el inventario, para los años futuros en la hoja BAU y eventualmente para el escenario climático en las hojas de clima si se desea\".\n"]
["Text2b","The tool contains several excel sheets. The sheets \"1A Input Base and BAU\", \"2A Input Climat Scen. Pass.\" and \"2B Input Climat Scen. Freight\" are the main sheets to be filled/reviewed by user. The Sheet \"1B Top-Down Validation\" may be used for a bottom-up vs. top-down comparison. All further sheets are for informational purposes only, no user input is required.\n\nIn this sheet (\"Get started\") users should schoose in the drop-down menu if the assessment is at the country or at the city level. Furthermore, users should write the name of the country or city to be assessed as well as the reference year and finally choose in the drop-down menu the preferred language (cells B5-C8).\n","The tool contains several excel sheets. The sheets \"1A Input Base and BAU\", \"2A Input Climat Scen. Pass.\" and \"2B Input Climat Scen. Freight\" are the main sheets to be filled/reviewed by user. The Sheet \"1B Top-Down Validation\" may be used for a bottom-up vs. top-down comparison. All further sheets are for informational purposes only, no user input is required.\n\nIn this sheet (\"Get started\") users should schoose in the drop-down menu if the assessment is at the country or at the city level. Furthermore, users should write the name of the country or city to be assessed as well as the reference year and finally choose in the drop-down menu the preferred language (cells B5-C8).\n","L'outil contient plusieurs  onglets. L'onglet \"1A Input Base and BAU\", \"2A Input Climat Scen. Pass.\" et \"2B Input Climat Scen. Freight\" sont les principaux onglet à remplir / réviser par l'utilisateur. L'onglet \"1B Top-Down Validation\" peut être utilisée pour une comparaison \"top-down\" et \"bottom-up\". Tous les autres onglets sont à titre informatif uniquement, aucune intervention de l'utilisateur n'est requise.\n\nDans le présent onglet \"Get started\", les utilisateurs doivent choisir dans le menu déroulant si l'évaluation se fait au niveau du pays ou de la ville. De plus, les utilisateurs doivent écrire le nom du pays ou de la ville à évaluer ainsi que l'année de référence et enfin choisir dans le menu déroulant la langue préférée (cellules B5-C8)","La herramienta contiene varias hojas de Excel. Las hojas \"\"1A Base de Entrada y BAU\"\", \"\"2A Escena Climática de Entrada\"\".\"\" y \"\"2B Escena Climática de Entrada.transporte de mercancías\"\" son las principales hojas a ser llenadas/revisadas por el usuario. La hoja \"\"1B Validación Top-Down\"\" puede ser usada para una comparación de abajo hacia arriba versus arriba hacia abajo. Todas las demás hojas son sólo para fines informativos, no se requiere ninguna entrada del usuario.\n\nEn esta hoja (\"\"Get started\"\") los usuarios deben elegir en el menú desplegable si la evaluación se realiza a nivel de país o de ciudad. Además, los usuarios deben escribir el nombre del país o la ciudad que se va a evaluar, así como el año de referencia y, por último, elegir en el menú desplegable el idioma preferido (celdas B5-C8).\n"]
["Text2c","Further required input data to calculate the GHG inventory and the BAU scenario (sheet \"1A Input Base and BAU\") are listed below:\n1. Socio-economic data \n- Population (Number of inhabitants)\n- GDP (Gross domestic product)\n2. Vehicle kilometers travelled (vkt) within the country/city. This input data can be provided for two different approaches:\n- The vkt approach: Direct input of the vehicle kilometers travelled for each vehicle category to be assessed for the reference year. This approach can often be applied, when data from a transport model are available. \n- The fleet approach: Required input data for the reference year are the number of vehicles (vehicle stock) and the annual average mileage (vkt/year) for each vehicle category to be assessed.\n- For both approaches the expected growth rate of the total vehicle kilometers travelled (vkt) should be given in order to calculate the Business-as-usual (BAU) scenario.\n3. Further required transportation data:\n- Average Load (freight transport) and average occupancy (passenger transport) per vehicle category\n- Distribution of the vkt by fuel type per vehicle category\n- Average fuel/energy consumption by category per vehicle category\n- CO2 content of the grid electricity production\n\nCountries/cities which can not provide all of the required data can contact the MobiliseYourCity secretariat to check if suitable data are available (http://mobiliseyourcity.net/partnership/secretariat/).","Further required input data to calculate the GHG inventory and the BAU scenario (sheet \"1A Input Base and BAU\") are listed below:\n1. Socio-economic data \n- Population (Number of inhabitants)\n- GDP (Gross domestic product)\n2. Vehicle kilometers travelled (vkt) within the country/city. This input data can be provided for two different approaches:\n- The vkt approach: Direct input of the vehicle kilometers travelled for each vehicle category to be assessed for the reference year. This approach can often be applied, when data from a transport model are available. \n- The fleet approach: Required input data for the reference year are the number of vehicles (vehicle stock) and the annual average mileage (vkt/year) for each vehicle category to be assessed.\n- For both approaches the expected growth rate of the total vehicle kilometers travelled (vkt) should be given in order to calculate the Business-as-usual (BAU) scenario.\n3. Further required transportation data:\n- Average Load (freight transport) and average occupancy (passenger transport) per vehicle category\n- Distribution of the vkt by fuel type per vehicle category\n- Average fuel/energy consumption by category per vehicle category\n- CO2 content of the grid electricity production\n\nCountries/cities which can not provide all of the required data can contact the MobiliseYourCity secretariat to check if suitable data are available (http://mobiliseyourcity.net/partnership/secretariat/).","Les données d'entrée pour l'année de référence et le scénario BAU (business as usual ou fil de l'eau), qui doivent être fournis dans la feuille \"Base d'entrée 1A et BAU\", sont énumérés ci-dessous:\n1. Données socioéconomiques\n- Population (Nombre d'habitants)\n- PIB (produit intérieur brut)\n\n2. Véhicule kilomètre parcourus (vkt) dans le pays / la ville. Ces données d'entrée peuvent être fournies pour deux approches différentes:\n- L'approche vkt: saisie directe des véhicules-kilomètres parcourus pour chaque catégorie de véhicule à évaluer pour l'année de référence. Cette approche peut souvent être appliquée lorsque les données d'un modèle de planification des transport sont disponibles.\n- L'approche flotte de véhicules: les données d'entrée requises pour l'année de référence sont le nombre de véhicules (parc de véhicules) et le kilométrage annuel moyen (vkt / an) pour chaque catégorie de véhicule à évaluer.\n- Pour les deux approches, il convient d'indiquer le taux de croissance attendu du nombre total de véhicules-kilomètres parcourus (vkt) pour le scénario BAU\n\n3. Autres données de transport requises:\n- Charge moyenne (transport de marchandises) et occupation moyenne (transport de passagers) par catégorie de véhicule\n- Répartition du kilométrage des véhicules (vkt) par type de carburant par catégorie de véhicule\n- Consommation moyenne de carburant / énergie par catégorie par catégorie de véhicule\n- Teneur en CO2 de la production d'électricité du réseau\n\nLes pays / villes qui ne peuvent pas fournir toutes les données requises afin de calculer les résultats attendus peuvent contacter le secrétariat de MobiliseYourCity pour vérifier si des données par défaut existent pour le pays / ville (http://mobiliseyourcity.net/partnership/secretariat/).","A continuación se enumeran otros datos de entrada necesarios para calcular el inventario de GEI y el escenario BAU (hoja \"\"1A Base de entrada y BAU\"\"):\n1. Datos socioeconómicos \n- Población (Número de habitantes)\n- PIB (Producto Interno Bruto)\n2. Kilómetros recorridos por el vehículo (vkt) dentro del país/ciudad. Estos datos de entrada pueden proporcionarse para dos enfoques diferentes:\n- El enfoque vkt: Entrada directa de los kilómetros recorridos por cada categoría de vehículo que se evalúe para el año de referencia. Este enfoque puede aplicarse a menudo cuando se dispone de datos de un modelo de transporte. \n- El enfoque de la flota: Los datos de entrada necesarios para el año de referencia son el número de vehículos (stock de vehículos) y el promedio anual de kilometraje (vkt/año) para cada categoría de vehículos a evaluar.\n- Para ambos enfoques debe darse la tasa de crecimiento prevista del total de kilómetros recorridos por los vehículos (vkt) a fin de calcular el escenario \"Business-as-usual\" (BAU).\n3. 3. Otros datos de transporte necesarios:\n- Carga media (transporte de carga) y ocupación media (transporte de pasajeros) por categoría de vehículo\n- Distribución del vkt por tipo de combustible por categoría de vehículo\n- Consumo medio de combustible/energía por categoría de vehículo\n- El contenido de CO2 de la red de producción de electricidad\n\nLos países/ciudades que no puedan proporcionar todos los datos requeridos pueden ponerse en contacto con la secretaría de MobiliseYourCity para comprobar si se dispone de datos adecuados (http://mobiliseyourcity.net/partnership/secretariat/)."]
["Text3","With the calculated results from the reference year and the BAU, in the next sheet (\"1B Top-Down Validation\") a bottom-up vs. top-down (based on energy balance data) validation of the results of the tool can be done. This may especially be relevant for the national level.\n\nIn the sheets \"2A Input Climate Scen Pass\" and \"2B Input Climate Scen Freight\" effects of mitigation actions can be assessed. \nThe type of emissions to be considered within the tool (TTW: tank-to-wheel or WTW: well-to-wheel) can be selected in the tab \"3 Overview of results\".\nAll other tabs are tabs which contain calculations (in grey) or presenting results (in blue). In these sheets no user input is required.\n\nPlease note the color code applied within the tool (bottom right hand side): Users should only put data or adjust data in cells which are indicated green. \n\nThe developers are not responsible for the accuracy of the results. Any modification of the tool is the responsibility of the user.\n\nContext:\nThis tool was developed by the Institute for Energy and Environmental Research (ifeu - http://www.ifeu.de) in cooperation with the German and French development agencies GIZ and AFD.\nIt is not allowed to use the tool for commercial purposes.\n\nContact:\nMarie Colson (marie.colson@ifeu.de) or Dominik Räder (dominik.raeder@ifeu.de)\nWilckenstraße 3, 69120, Heidelberg, Germany\n\nLast update\nTool Version: 1.2  (04.05.2020)","With the calculated results from the reference year and the BAU, in the next sheet (\"1B Top-Down Validation\") a bottom-up vs. top-down (based on energy balance data) validation of the results of the tool can be done. This may especially be relevant for the national level.\n\nIn the sheets \"2A Input Climate Scen Pass\" and \"2B Input Climate Scen Freight\" effects of mitigation actions can be assessed. \nThe type of emissions to be considered within the tool (TTW: tank-to-wheel or WTW: well-to-wheel) can be selected in the tab \"3 Overview of results\".\nAll other tabs are tabs which contain calculations (in grey) or presenting results (in blue). In these sheets no user input is required.\n\nPlease note the color code applied within the tool (bottom right hand side): Users should only put data or adjust data in cells which are indicated green. \n\nThe developers are not responsible for the accuracy of the results. Any modification of the tool is the responsibility of the user.\n\nContext:\nThis tool was developed by the Institute for Energy and Environmental Research (ifeu - http://www.ifeu.de) in cooperation with the German and French development agencies GIZ and AFD.\nIt is not allowed to use the tool for commercial purposes.\n\nContact:\nMarie Colson (marie.colson@ifeu.de) or Dominik Räder (dominik.raeder@ifeu.de)\nWilckenstraße 3, 69120, Heidelberg, Germany\n\nLast update\nTool Version: 1.2  (04.05.2020)","Avec les résultats calculés de l'année de référence et du BAU, dans la feuille suivante (\"V 1B Top-down validation\"), une validation des résultats de l'outil peut être effectuée sur la base des données de bilan énergétique (particulièrement pertinentes pour le niveau national).\n\nLes données d'entrée concernant le scénario climatique doivent être données respectivement pour le transport de passagers et de marchandises dans les onglets \"2A Input Climate Scen Pass\" et \"2B Input Climate Scen Freight\"\nLe type d'émissions considéré au sein de l'outil (TTW: réservoir à la roue ou WTW du puit à la roue) peut être sélectionné dans l'onglet \"3 Aperçu des résultats\".\nTous les autres onglets sont des onglets de calcul (en gris) ou de présentation de résultats (en bleu) dans lesquels aucune entrée n'est requise.\n\nVeuillez noter le code couleur utilisé dans les différents onglets (en bas à droite): les données d'entrée sont indiquées en vert.\n\nLes développeurs ne sont pas responsables de l'exactitude des résultats. Toute modification de l'outil est à la charge de l'utilisateur.\n\nLe contexte:\nCet outil a été développé par IFEU (http://www.ifeu.de/).\nIl est interdit d'utiliser l'outil à des fins commerciales.\n\nContact:\nMarie Colson (marie.colson@ifeu.de) ou Dominik Räder (dominik.raeder@ifeu.de)\nWilckenstraße 3, 69120, Heidelbeg, Allemagne\n\nDernière actualisation\nVersion de l'outil: 1.2  (04.05.2020)","Con los resultados calculados del año de referencia y la BAU, en la siguiente hoja (\"\"1B Validación descendente\"\") se puede hacer una validación ascendente vs. descendente (basada en los datos del balance de energía) de los resultados de la herramienta. Esto puede ser especialmente relevante para el nivel nacional.\n\nEn las hojas \"\"2A Input Climate Scen Pass\"\" y \"\"2B Input Climate Scen Freight\"\" se pueden evaluar los efectos de las medidas de mitigación. \nEl tipo de emisiones a considerar dentro de la herramienta (TTW: tanque-a-rueda o WTW: pozo-a-rueda) puede ser seleccionado en la pestaña \"\"3 Panorama de resultados\"\".\nTodas las demás pestañas son pestañas que contienen cálculos o presentan resultados. En estas fichas no se requiere ninguna entrada del usuario.\n\nTenga en cuenta el código de colores aplicado dentro de la herramienta (abajo a la derecha): Los usuarios sólo deben poner los datos o ajustar los datos en las celdas que se indican en verde. \n\nLos desarrolladores no son responsables de la exactitud de los resultados. Cualquier modificación de la herramienta es responsabilidad del usuario.\n\nContexto:\nEsta herramienta fue desarrollada por el Instituto de Investigación Energética y Medioambiental (ifeu - http://www.ifeu.de) en cooperación con las agencias de desarrollo alemana y francesa GIZ y AFD.\nNo se permite el uso de la herramienta para fines comerciales.\n\nContacto:\nMarie Colson (marie.colson@ifeu.de) o Dominik Räder (dominik.raeder@ifeu.de)\nWilckenstraße 3, 69120 Heidelberg, Alemania\n\nÚltima actualización\nVersión de la herramienta: 1.2 (04.05.2020)"]
["Text4","Presentation of the tool","Presentation of the tool","Présentation de l'outil","Presentación de la herramienta"]
["Text5","1A Input base and BAU","1A Input base and BAU","1A Input base and BAU","1A Base de entrada y BAU"]
["Text6","In this sheet the GHG inventory for the reference year and a Business-As-Usual scenario can be calculated.\n\nThe required data is listed below:\n1. Socio-economic data\n- Population\n- GDP - Gross domestic product (if available)\n\n2. Vehicle kilometers travelled based on two possible approaches:\n- Either with transport model tool: Total vkt for each vehicle category for the base year\n- Or the fleet approach: Number of vehicles and the corresponding average yearly vkt per vehicle\nIt is possible to combine the approaches for different vehicle categories or for different years, but only one approach can be used per year and per vehicle category.\n- In both cases the expected growth in the BAU should be given for each period\n\n3. Further data\n- Load/occupancy and trip length\n- The breakdown of vkt by fuel type\n- The average fuel consumption per vehicle sub-category\n- The CO2 content of electricity\n\nGHG emissions from electric vehicles (due to electric energy consumption) are only taken into account if the WTW option is selected in the tab \"3 Overview of Results\".","In this sheet the GHG inventory for the reference year and a Business-As-Usual scenario can be calculated.\n\nThe required data is listed below:\n1. Socio-economic data\n- Population\n- GDP - Gross domestic product (if available)\n\n2. Vehicle kilometers travelled based on two possible approaches:\n- Either with transport model tool: Total vkt for each vehicle category for the base year\n- Or the fleet approach: Number of vehicles and the corresponding average yearly vkt per vehicle\nIt is possible to combine the approaches for different vehicle categories or for different years, but only one approach can be used per year and per vehicle category.\n- In both cases the expected growth in the BAU should be given for each period\n\n3. Further data\n- Load/occupancy and trip length\n- The breakdown of vkt by fuel type\n- The average fuel consumption per vehicle sub-category\n- The CO2 content of electricity\n\nGHG emissions from electric vehicles (due to electric energy consumption) are only taken into account if the WTW option is selected in the tab \"3 Overview of Results\".","Cet onglet fournit les informations pour l'inventaire des émissions liées au transport et le scénario BAU ou scénario au fil de l'eau (dans les cellules vertes). Il contient:\n\n1. Les données socioéconomiques\n- la population considérée dans le scénario\n- Le PIB (si disponible)\n\n2. Les données kilométriques basées sur deux approches possibles:\n- soit avec un logiciel de planification des transports: vkt total pour chaque catégorie de véhicule pour l'année de base\n- soit l'approche par flotte: le nombre de véhicules et le vkt annuel moyen correspondant par véhicule pour l'année de base\nIl est possible de combiner les approches pour différentes catégories de véhicules ou pour différentes années, mais une seule approche peut être utilisée par année et par catégorie.\n- dans les deux cas, la croissance attendue du BAU (scénario au fil de l'eau) doit être indiquée pour chaque période\n\n3. Autres données de transport\n- Facteur de charge et taux d'occupation\n- la répartition du vkt par type de carburant pour les périodes indiquées par type de véhicule\n- la consommation moyenne de carburant par sous-catégorie de véhicule\n- la teneur en CO2 de l'électricité;\nLes émissions de GES des véhicules électriques (dues a la productions d'électricité) ne sont considérées que si l'option WTW (Well to Wheel) est sélectionnées dans l'onglet \"Aperçu des résultats 3\"","En esta hoja se puede calcular el inventario de GEI para el año de referencia y un escenario de negocios.\n\nA continuación se enumeran los datos necesarios:\n1. Datos socioeconómicos\n- Población\n- PIB - Producto interno bruto (si está disponible)\n\n2. Los kilómetros recorridos por el vehículo se basan en dos posibles enfoques:\n- Cualquiera con la herramienta del modelo de transporte: Total de vkt para cada categoría de vehículo para el año base\n- O la flota se aproxima: Número de vehículos y el correspondiente promedio anual de vkt por vehículo\nEs posible combinar los enfoques para diferentes categorías de vehículos o para diferentes años, pero sólo se puede utilizar un enfoque por año y por categoría de vehículo.\n- En ambos casos, el crecimiento esperado de la BAU debe darse para cada período\n\n3. Más datos...\n- Carga/ocupación y duración del viaje\n- El desglose de vkt por tipo de combustible\n- El consumo medio de combustible por subcategoría de vehículos\n- El contenido de CO2 de la electricidad\n\nLas emisiones de GEI de los vehículos eléctricos (debido al consumo de energía eléctrica) sólo se tienen en cuenta si se selecciona la opción WTW en la pestaña \"\"3 Resumen de resultados."]
["Text23","A well-known validation approach especially for national GHG inventories is the comparison of the calculated fuel consumption (summed by fuel type and vehicle category) obtained from the present tool (bottom-up approach) with the national energy balance (top-down approach). Differences within a range of +/- 10% are quite common and should not be considered as error but as uncertainty. One reason can be for example, that the energy balance does not include fuels bought in neighboring countries and consumed within the country. The emission inventory report should try explaining gaps and analyze the possibility to minimize the related uncertainties.\nEnergy balance data are based on the total fuel sales within the country. According to the IPCC guidelines 2006, the final energy consumption for the GHG inventory should be calculated as follow: production + import - export - international bunkers - stock change. The main uncertainties for energy balance data are: \n- Wrong allocation of fuels to the sub-transport sectors (e.g. fuel consumption from diesel generators should not be accounted in transport sector) or transport subcategories (i.e. road transportation vs. other transports, domestic use vs. international bunkers)\n- Amount of grey imports (illegally sold fuels, tank-tourism in small or transit-countries)\n\nThe main uncertainties for bottom-up fuel consumption data are: \n- Activity data i.e. fleet composition, number of vehicles or vkt, specific fuel consumption \nA comparison of different sources can help to identify the range of uncertainties. If identifying the parameter with the highest uncertainties is possible, it makes sense to try adjusting it. For example, the calculated total gasoline consumption for road transport is 30% higher than the value given in the energy balance. Motorcycles consume 50% of motor gasoline and the motorcycle population could not be provided by official statistics but only estimated. In order to minimize the gap for motor gasoline to e.g. 10%, the number of motorcycles could be diminished by 30%. Another common approach is to adjust average vkt in order to match the energy balance results.\n\nThe codes 1.3.A and similar refer to the IPCC guidelines\n","A well-known validation approach especially for national GHG inventories is the comparison of the calculated fuel consumption (summed by fuel type and vehicle category) obtained from the present tool (bottom-up approach) with the national energy balance (top-down approach). Differences within a range of +/- 10% are quite common and should not be considered as error but as uncertainty. One reason can be for example, that the energy balance does not include fuels bought in neighboring countries and consumed within the country. The emission inventory report should try explaining gaps and analyze the possibility to minimize the related uncertainties.\nEnergy balance data are based on the total fuel sales within the country. According to the IPCC guidelines 2006, the final energy consumption for the GHG inventory should be calculated as follow: production + import - export - international bunkers - stock change. The main uncertainties for energy balance data are: \n- Wrong allocation of fuels to the sub-transport sectors (e.g. fuel consumption from diesel generators should not be accounted in transport sector) or transport subcategories (i.e. road transportation vs. other transports, domestic use vs. international bunkers)\n- Amount of grey imports (illegally sold fuels, tank-tourism in small or transit-countries)\n\nThe main uncertainties for bottom-up fuel consumption data are: \n- Activity data i.e. fleet composition, number of vehicles or vkt, specific fuel consumption \nA comparison of different sources can help to identify the range of uncertainties. If identifying the parameter with the highest uncertainties is possible, it makes sense to try adjusting it. For example, the calculated total gasoline consumption for road transport is 30% higher than the value given in the energy balance. Motorcycles consume 50% of motor gasoline and the motorcycle population could not be provided by official statistics but only estimated. In order to minimize the gap for motor gasoline to e.g. 10%, the number of motorcycles could be diminished by 30%. Another common approach is to adjust average vkt in order to match the energy balance results.\n\nThe codes 1.3.A and similar refer to the IPCC guidelines\n","Une approche de validation connue consiste à comparer la consommation de carburant calculée dans cet outil (bottom-up) et le bilan énergétique national (top-down). Une différence comprise dans une plage de +/- 10% est assez courante et ne doit pas être considérée comme une erreur mais comme une incertitude. Elle peut être expliquée par exemple parce que le bilan énergétique comprend le carburant acheté dans les pays voisins et consommé dans le pays. Le rapport d'inventaire des émissions devrait tenter d'expliquer les lacunes et d'analyser la possibilité de minimiser les incertitudes associées.\n\nLes données de la balance énergétique sont basées sur les ventes totales de carburant dans le pays. Selon les directives 2006 du GIEC, la consommation finale d'énergie pour l'inventaire de GES devrait être calculée comme suit: production + importation - exportation - soutes internationales - variation des stocks. Les principales incertitudes pour les données du bilan énergétique sont les suivantes:\n-La mauvaise allocation du carburant au secteur des transport ou à un sous-secteur des transport (c.-à-d. la consommation de carburant dans des générateurs devrait être attribué au secteur du bâtiment mais le manque de données peut limiter l'acuité de la séparation secteur bâtiment et transport. Ou bien une partie du carburant peut êetre faussement attribuée au sous-secteur ex. routier.\n- Quantité d'importations \"grises\" de carburant (carburants vendus illégalement, tourisme de carburant dans les petits pays ou pays de transit)\n\n- Les principales incertitudes concernant les données de consommation de carburant provenant de l'approche \"bottom-up\" sont les suivantes:\nDonnées d'activité, composition de la flotte, numéro de véhicule ou vkt ainsi que consommation de carburant spécifique\nUne comparaison de différentes sources peut aider à identifier la gamme d'incertitudes. Si le paramètre avec les plus grandes incertitudes est possible, il est pertinent d'essayer d'ajuster les données correspondantes. Par exemple, la consommation totale calculée d’essence pour le transport routier est 30% plus élevée que la valeur indiquée dans le bilan énergétique. Les motocyclettes consomment 50% de l'essence et la population motocycliste n'a pas pu être fournie par les statistiques officielles. Afin de minimiser l'écart pour le moteur 10%, le nombre de motos pourrait être réduit de 30%. Une autre approche courante consiste à ajuster le vkt moyens afin d’aligner les résultats du bilan énergétique.\n\nLes codes 1.3.A et similaires réfèrent aux guides méthodolgiques du GIEC ","Un enfoque de validación bien conocido, especialmente para los inventarios nacionales de GEI, es la comparación del consumo calculado de combustible (sumado por tipo de combustible y categoría de vehículo) obtenido con el presente instrumento (enfoque ascendente) con el balance energético nacional (enfoque descendente). Las diferencias dentro de un rango de +/- 10% son bastante comunes y no deben considerarse como un error sino como una incertidumbre. Una razón puede ser, por ejemplo, que el balance energético no incluye los combustibles comprados en países vecinos y consumidos dentro del país. El informe del inventario de emisiones debería tratar de explicar las lagunas y analizar la posibilidad de minimizar las incertidumbres relacionadas.\nLos datos del balance energético se basan en las ventas totales de combustible dentro del país. De acuerdo con las directrices del IPCC 2006, el consumo final de energía para el inventario de GEI debe calcularse de la siguiente manera: producción + importación - exportación - reservas internacionales - cambio de existencias. Las principales incertidumbres para los datos del balance energético son: \n- Asignación incorrecta de combustibles a los sectores de subtransporte (por ejemplo, el consumo de combustible de los generadores diesel no debería contabilizarse en el sector del transporte) o subcategorías de transporte (por ejemplo, transporte por Ruta frente a otros transportes, uso interno frente a búnkeres internacionales)\n- Cantidad de importaciones grises (combustibles vendidos ilegalmente, turismo de tanques en países pequeños o de tránsito)\n\nLas principales incertidumbres para los datos de consumo de combustible de abajo hacia arriba son: \n- Datos de actividad, es decir, composición de la flota, número de vehículos o kilómetros recorriods por vehículo (vkt), consumo específico de combustible \nLa comparación de diferentes fuentes puede ayudar a identificar la gama de incertidumbres. Si es posible identificar el parámetro con mayores incertidumbres, tiene sentido intentar ajustarlo. Por ejemplo, el consumo total calculado de gasolina para el transporte por Ruta es un 30% mayor que el valor dado en el balance energético. Las motocicletas consumen el 50% de la gasolina de motor y la población de motocicletas no pudo ser proporcionada por las estadísticas oficiales sino sólo estimada. Para minimizar la brecha de la gasolina de motor hasta, por ejemplo, el 10%, el número de motocicletas podría disminuir en un 30%. Otro enfoque común es ajustar el promedio de vkt para que coincida con los resultados del balance energético."]
["Text7","2A Input Climat Scen. Pass.","2A Input Climat Scen. Pass.","2A Input Climate Scen. Pass.","2A Escena climática de entrada. Pass."]
["Text8","In this sheet effects of mitigations actions for passenger transport can be calculated in a climate scenario. In order to derive transport demand data for the calculations two different data input approaches are possible. The user has to preferably choose one approach.\n\nThe first approach \"WITH UPSTREAM CALCULATIONS - INPUT FROM EXTERNAL TRANSPORT PLANNING TOOL\" the user can directly enter transport performance (pkm/tkm) and the vehicle kilometers travelled (vkt) provided by an external transport planning tool. Once the two tables are filled in, the user can skip the next section and continue with step 3).\n\nIf no data from a transport planning tool are available, the second approach \"WITHOUT UPSTREAM CALCULATIONS - CALCULATIONS WITHIN THIS TOOL\" can be applied. For calculating potential GHG savings from mitigation measures within this approach the \"ASI\" (Avoid/Shift/Improve) approach is applied. Users have to estimate the effect of transport related actions on the transport demand for each mitigation action type (Avoid, Shift or Improve). E.g. Parking area management may lead to 5% avoided passenger car vehicle kilometers travelled (vkt).\n1) Avoid: Avoided vehicle kilometers travelled (vkt)\n2) Shift: Shift of transport from the current to another transport modes\n\nOnce the transport demand is applied for one of the two approaches mentioned above the user has to enter data within the two last steps:\n3) Improve: Penetration of alternative energies\n4) Improve: Adjustment of fuel/energy consumption","In this sheet effects of mitigations actions for passenger transport can be calculated in a climate scenario. In order to derive transport demand data for the calculations two different data input approaches are possible. The user has to preferably choose one approach.\n\nThe first approach \"WITH UPSTREAM CALCULATIONS - INPUT FROM EXTERNAL TRANSPORT PLANNING TOOL\" the user can directly enter transport performance (pkm/tkm) and the vehicle kilometers travelled (vkt) provided by an external transport planning tool. Once the two tables are filled in, the user can skip the next section and continue with step 3).\n\nIf no data from a transport planning tool are available, the second approach \"WITHOUT UPSTREAM CALCULATIONS - CALCULATIONS WITHIN THIS TOOL\" can be applied. For calculating potential GHG savings from mitigation measures within this approach the \"ASI\" (Avoid/Shift/Improve) approach is applied. Users have to estimate the effect of transport related actions on the transport demand for each mitigation action type (Avoid, Shift or Improve). E.g. Parking area management may lead to 5% avoided passenger car vehicle kilometers travelled (vkt).\n1) Avoid: Avoided vehicle kilometers travelled (vkt)\n2) Shift: Shift of transport from the current to another transport modes\n\nOnce the transport demand is applied for one of the two approaches mentioned above the user has to enter data within the two last steps:\n3) Improve: Penetration of alternative energies\n4) Improve: Adjustment of fuel/energy consumption","\nDans cet onglet les effets des mesures d'atténuation pour le transport de passagers peuvent être calculés pour un scénario climat. Afin de dériver les données de demande de transport pour les calculs, deux approches différentes d'entrée de données sont possibles. L'utilisateur doit choisir de préférence une seule approche.\n\nLa première approche \"AVEC CALCUL PRÉALABLE - LOGICIEL DE PLANIFICATION DES TRANSPORTS\", l'utilisateur peut entrer directement les performances de transport (pkm / tkm) et les véhicules kilomètres parcourus (vkt) fournis par un logiciel de planification de transport externe. Une fois les deux tableaux remplis, l'utilisateur peut aller directement à  l'étape 3).\n\nSi aucune donnée issue d'un logiciel de planification des transports n'est disponible, la deuxième approche \"SANS CALCUL PRÉALABLE- CALCULS DANS CET OUTIL\" peut être appliquée. Pour calculer les économies de GES potentielles résultant des mesures d'atténuation, l'approche \"ASI\" (éviter / transférer / améliorer) est appliquée. Les utilisateurs doivent estimer l'effet des actions sur la demande de transport pour chaque type d'action d'atténuation (Eviter/Transférer/Améliorer). Par exemple: La gestion des aires de stationnement peut permettre d'éviter 5% des kilomètres parcourus pour la catégorie des voitures(vkt).\n\n1) Eviter: transfert en mode de transport non motorisé (NMT)\n2) Shift: extension du transport public de passagers (TCP) et / ou ajustement du taux d'occupation\n\nUne demande de transport est appliquée pour chacune des deux approches mentionnées, les deux étapes finales suivantes doivent être effectuées:\n3) Améliorer: pénétration des énergies alternatives\n4) Améliorer: ajustement de la consommation spécifique de carburant / énergie","En esta hoja se pueden calcular los efectos de las medidas de mitigación para el transporte de pasajeros en un escenario climático. Para obtener datos sobre la demanda de transporte para los cálculos son posibles dos enfoques diferentes de entrada de datos. El usuario tiene que elegir preferentemente un enfoque.\n\nEl primer enfoque \"\"CON LOS CÁLCULOS DEL SISTEMA DE CALCULACIÓN DEL TRANSPORTE EXTERNO - ENTRADA DE UNA HERRAMIENTA DE PLANIFICACIÓN DEL TRANSPORTE EXTERNO\"\" el usuario puede introducir directamente el rendimiento del transporte (pkm/tkm) y los kilómetros recorridos por el vehículo (vkt) proporcionados por una herramienta de planificación del transporte externo. Una vez que se completan las dos tablas, el usuario puede saltarse la siguiente sección y continuar con el paso 3).\n\nSi no se dispone de datos de una herramienta de planificación del transporte, se puede aplicar el segundo enfoque \"SIN CÁLCULOS DE RETROCESO - CÁLCULOS DENTRO DE ESTA HERRAMIENTA\". Para calcular las posibles economías de GEI derivadas de las medidas de mitigación en el marco de este enfoque, el \"\"ASI\"\" Se aplica el enfoque (Evitar/Mover/Mejorar). Los usuarios tienen que estimar el efecto de las medidas relacionadas con el transporte en la demanda de transporte para cada tipo de medida de mitigación (Evitar, Desplazar o Mejorar). Por ejemplo, la gestión de las zonas de aparcamiento puede llevar a evitar un 5% de los kilómetros recorridos por los vehículos de pasajeros (vkt).\n1) Evitar: evitar kilómetros recorridos por vehículos  (vkt)\n2) Cambiar: Desplazamiento del transporte de la corriente a otro modo de transporte\n\nUna vez que la demanda de transporte se aplica a uno de los dos enfoques mencionados anteriormente, el usuario tiene que introducir los datos en los dos últimos pasos:\n3) Mejorar: Penetración de energías alternativas\n4) Mejorar: Ajuste del consumo de combustible/energía."]
[]
["Text9",{"$f":"INDEX($C$5:$E$1048576,,$B$3)","v":"2B Input Climate Scen. Freight"},{"$f":"D286","v":"2B Input Climate Scen. Freight"},"2B Input Climate Scen. Freight","2B Escena climática de entrada. Carga"]
["Text10","In this sheet effects of mitgations actions for freight transport can be calculated in a climate scenario projection. In order to derive transport demand data for the calculations two different data input approaches were distiguished and the user has to choose which one to apply. In order to provide wrong results, please do not mix both approaches, please choose and apply just one approach.\n\nWhen choosing the first approach \"WITH UPSTREAM CALCULATIONS - INPUT FROM EXTERNAL TRANSPORT PLANNING TOOL\" the user can directly enter transport performance (pkm/tkm) and the vehicle kilometers travelled (vkt) from calculations which were provided by an external transport planning tool. Once the two tables were filled, the user can skip the next section and continue with step 3)\n\nIf no data from a transport planning tool are available, the second step by step approach \"WITHOUT UPSTREAM CALCULATIONS - CALCULATIONS WITHIN THIS TOOL\" can be applied. For calculating potential GHG savings from mitigation measures within this approach the \"ASI\" (Avoid/Shift/Improve) approach is applied. Users have to estimate the effect of transport related actions on the transport demand for each mitigation action type. E.g. The introduction of a distance based highway toll for trucks may lead to 5% avoided vehicle kilometers travelled (vkt) from trucks.\n1) Avoid: Avoided vehicle kilometers travelled (vkt)\n2) Shift: Shift of transport from the current to another transport modes\n\nOnce the transport demand is applied for one of the two approaches mentioned above the user has to enter data within the two last steps:\n3) Improve: Penetration of alternative energies\n4) Improve: Adjustment of fuel/energy consumption","In this sheet effects of mitgations actions for freight transport can be calculated in a climate scenario projection. In order to derive transport demand data for the calculations two different data input approaches were distiguished and the user has to choose which one to apply. In order to provide wrong results, please do not mix both approaches, please choose and apply just one approach.\n\nWhen choosing the first approach \"WITH UPSTREAM CALCULATIONS - INPUT FROM EXTERNAL TRANSPORT PLANNING TOOL\" the user can directly enter transport performance (pkm/tkm) and the vehicle kilometers travelled (vkt) from calculations which were provided by an external transport planning tool. Once the two tables were filled, the user can skip the next section and continue with step 3)\n\nIf no data from a transport planning tool are available, the second step by step approach \"WITHOUT UPSTREAM CALCULATIONS - CALCULATIONS WITHIN THIS TOOL\" can be applied. For calculating potential GHG savings from mitigation measures within this approach the \"ASI\" (Avoid/Shift/Improve) approach is applied. Users have to estimate the effect of transport related actions on the transport demand for each mitigation action type. E.g. The introduction of a distance based highway toll for trucks may lead to 5% avoided vehicle kilometers travelled (vkt) from trucks.\n1) Avoid: Avoided vehicle kilometers travelled (vkt)\n2) Shift: Shift of transport from the current to another transport modes\n\nOnce the transport demand is applied for one of the two approaches mentioned above the user has to enter data within the two last steps:\n3) Improve: Penetration of alternative energies\n4) Improve: Adjustment of fuel/energy consumption","\n\nDans cet onglet les effets des mesures d'atténuation pour le transport de passagers peuvent être calculés pour un scénario climat. Afin de dériver les données de demande de transport pour les calculs, deux approches différentes d'entrée de données sont possibles. L'utilisateur doit choisir de préférence une seule approche.\n\nLa première approche \"AVEC CALCUL PRÉALABLE - LOGICIEL DE PLANIFICATION DES TRANSPORTS\", l'utilisateur peut saisir directement les performances de transport (pkm / tkm) et les kilomètres de véhicule parcourus (vkt) à partir de calculs fournis par un logiciel de planification des transports. Une fois les deux tableaux remplis, l'utilisateur peut passer directement à l'étape 3).\n\nSi aucune donnée d'un logiciel de planification des transports n'est disponible, la deuxième approche  \"SANS CALCUL PRÉALABLE- CALCULS DANS CET OUTIL\" peut être appliquée. Pour calculer les économies potentielles de GES des mesures d'atténuation dans le cadre de cette approche, l'approche \"ASI\" (éviter / déplacer / améliorer) est appliquée. Les utilisateurs doivent estimer l'effet des actions sur la demande de transport pour chaque type d'action d'atténuation. Par exemple. L'introduction d'un péage autoroutier basé sur la distance pour les camions pourrait conduire à 5% de véhicules-kilomètres des camions évités.\n1) Éviter: les kilomètres de véhicules évités parcourus (vkt)\n2) Shift: Shift of transport from the current to another transport modes\n\nUne fois la demande de transport définie pour l'une des deux approches mentionnées ci-dessus, l'utilisateur doit saisir des données dans les deux dernières étapes:\n3) Améliorer: Pénétration des énergies alternatives\n4) Améliorer: ajustement de la consommation de carburant / énergie\nEnvoyer des commentaires\nHistorique\nEnregistré\nCommunauté\n","En esta hoja se pueden calcular los efectos de las acciones de mitigación para el transporte de mercancías en una proyección de escenario climático. Para obtener los datos de la demanda de transporte para los cálculos se han distinguido dos enfoques diferentes de entrada de datos y el usuario tiene que elegir cuál aplicar. Para obtener resultados erróneos, por favor no mezcle ambos enfoques, elija y aplique sólo uno.\n\nAl elegir el primer enfoque \"\"CON LOS CÁLCULOS DE UPSTREAM - ENTRADA DE UNA HERRAMIENTA DE PLANIFICACIÓN DE TRANSPORTE EXTERNO\"\" el usuario puede introducir directamente el rendimiento del transporte (pkm/tkm) y los kilómetros recorridos por el vehículo (vkt) a partir de los cálculos proporcionados por una herramienta de planificación de transporte externa. Una vez que se han rellenado las dos tablas, el usuario puede saltarse la siguiente sección y continuar con el paso 3)\n\nSi no se dispone de datos de una herramienta de planificación del transporte, se puede aplicar el segundo enfoque paso a paso \"SIN CÁLCULOS DE SUBTRAMO - CÁLCULOS DENTRO DE ESTA HERRAMIENTA\". Para calcular las posibles disminuciones de GEI derivadas de las medidas de mitigación dentro de este enfoque, el \"ASI\" Se aplica el enfoque ( Evitar/Cambiar/Mejorar). Los usuarios tienen que estimar el efecto de las medidas relacionadas con el transporte en la demanda de transporte para cada tipo de medida de mitigación. Por ejemplo, la introducción de un peaje de Ruta basado en la distancia para los camiones puede hacer que se eviten un 5% de los kilómetros recorridos por los vehículos (vkt) de los camiones.\n1) Evitar: Kilómetros recorridos por los vehículos (vkt) que se han evitado\n2) Cambiar: Desplazamiento del transporte de la corriente a otro modo de transporte\n\nUna vez que la demanda de transporte se aplica a uno de los dos enfoques mencionados anteriormente, el usuario tiene que introducir los datos en los dos últimos pasos:\n3) Mejorar: Penetración de energías alternativas\n4) Mejorar: Ajuste del consumo de combustible/energía."]
["Text11","3A Calcul. BAU city",{"$f":"D288","v":"3A Calcul. BAU city"},"3A Calcul. BAU city","3A Cálculo. Ciudad BAU"]
["Text12","This tab shows the calculations for the BAU scenario for information. No input is required.","This tab shows the calculations for the BAU scenario for information. No input is required.","\nCet onglet montre les calculs opérés pour le scénario au fil de l'eau pour information.  Aucun input n'est requis.\n","Esta pestaña muestra los cálculos del escenario de la BAU para información. No se requiere ninguna entrada."]
["Text13","3 Overview of results","3 Overview of results","3 Vue d'ensemble des résultats","3 Resumen de los resultados"]
["Text14","This sheet presents the results of the BAU scenario and the Climate scenario for both road and rail transport as well as for passengers and freight transportation. The type of result to be seen should be selected: TTW (tank to wheel) or WTW (well to wheel) emissions. Depending on the chosen option the result is visible in the graph on the right side.\n\nThe results of the emissions comparing the BAU scenario and the climate scenario for reference years and saved emissions are shown in the graphs below. The specific performance indicators are visible in the last table, allowing to compare the values between different years and scenarios.","This sheet presents the results of the BAU scenario and the Climate scenario for both road and rail transport as well as for passengers and freight transportation. The type of result to be seen should be selected: TTW (tank to wheel) or WTW (well to wheel) emissions. Depending on the chosen option the result is visible in the graph on the right side.\n\nThe results of the emissions comparing the BAU scenario and the climate scenario for reference years and saved emissions are shown in the graphs below. The specific performance indicators are visible in the last table, allowing to compare the values between different years and scenarios.","\nCette feuille présente les résultats du scénario BAU et du scénario climat à la fois pour les transport routier et ferroviaire ainsi que pour le transport de passager et de marchandise \n\nLe type de résultat à voir est à sélectionner: émissions TTW (tank to wheel ou du réservoir à la roue) ou WTW (well to wheel ou du puit à la roue). Selon l'option choisie le résultat est visible dans le graphique de droite. Le résultat des émissions comparant le scénario BAU et le scénario climat pour les années de référence et les émissions sauvées sont visibles dans les graphiques ci-dessous.\n\nLes indicateurs de performance spécifiques sont visibles dans le dernier tableau, permettant de comparer les valeurs entre années et scénarios.\n","Esta hoja presenta los resultados del escenario BAU y el escenario climático para el transporte por Ruta y ferrocarril, así como para el transporte de pasajeros y mercancías. Se debe seleccionar el tipo de resultado que se va a ver: Emisiones TTW (tanque a rueda) o WTW (pozo a rueda). Dependiendo de la opción elegida, el resultado es visible en el gráfico de la derecha.\n\nLos resultados de las emisiones que comparan el escenario BAU y el escenario climático para los años de referencia y las emisiones guardadas se muestran en los gráficos siguientes. Los indicadores de rendimiento específicos son visibles en la última tabla, lo que permite comparar los valores entre diferentes años y escenarios"]
["Text15","3C Results in detail",{"$f":"D292","v":"3C Results in detail"},"3C Results in detail","3C Resultados en detalle"]
["Text16","This tab shows for information the calculation path leading to the results. All results are calculated automatically and require no input.\nCharts are visible in tab 3. Overview of results","This tab shows for information the calculation path leading to the results. All results are calculated automatically and require no input.\nCharts are visible in tab 3. Overview of results","\nCet onglet montre pour information les calculs menant aux résultats. Tous les résultats sont calculés automatiquements et ne requièrent aucun input. \nLes graphiques sont visibles dans l'onglet 3. Overview of results\n","Esta pestaña muestra, a título informativo, la ruta de cálculo que conduce a los resultados. Todos los resultados se calculan automáticamente y no requieren de ninguna entrada.\nLos gráficos son visibles en la pestaña 3. Resumen de los resultados"]
["Text17","4. Default values","4. Default values","4 Valeurs défaut","4. Valores por defecto"]
["Text18","This tab enables users to copy from the national tool or input national values to be proposed as defaults for the city in the input tabs \"1A Input Base and BAU\". This sheet must not be filled in if no national defaults are required and the city has all necessary inputs.","This tab enables users to copy from the national tool or input national values to be proposed as defaults for the city in the input tabs \"1A Input Base and BAU\". This sheet must not be filled in if no national defaults are required and the city has all necessary inputs.","Cet onglet permet aux utilisateurs de copier l'outil national ou les valeurs d'entrée nationales d'entrée qui pourront dès lors être utilisées comme valeurs par défaut pour la ville dans les onglets d'entrée \"1A Input Base and BAU\". Cette feuille ne doit pas nécessairement  être remplie si la ville dispose de toutes les informations nécessaires.","Esta pestaña permite a los usuarios copiar de la herramienta nacional o introducir valores nacionales que se propondrán como valores por defecto para la ciudad en las pestañas de entrada \"1A Input Base and BAU\". Esta hoja no debe rellenarse si no se requieren valores nacionales por defecto y la ciudad tiene todas las entradas necesarias."]
["Text19","5 Defaults parameters",{"$f":"D296","v":"5 Defaults parameters"},"5 Defaults parameters","5 Parámetros por defecto"]
["Text20","The default settings for lower heat values and CO2, CH4 and N2O emission factors are used for all transport sub-sectors. They comply with the IPCC Tier 1 approach and are not country-specific. A great deal of uncertainty arises for CH4 and N2O emissions, which vary greatly depending on traffic conditions in the country. More information can be found in the sources given in the table below.\n\nA modification of the default values implies the entire responsibility of the user.\n","The default settings for lower heat values and CO2, CH4 and N2O emission factors are used for all transport sub-sectors. They comply with the IPCC Tier 1 approach and are not country-specific. A great deal of uncertainty arises for CH4 and N2O emissions, which vary greatly depending on traffic conditions in the country. More information can be found in the sources given in the table below.\n\nA modification of the default values implies the entire responsibility of the user.\n","Les paramètres par défaut pour les valeurs calorifiques inférieures et les facteurs d'émission de CO2, CH4 et N2O sont utilisés pour touts les sous-secteurs du transport. Ils se conforment à l'approche \"Tier 1\" du GIEC et ne sont pas spécifiques au pays. Une grande incertitude en découle pour les émissions de CH4 et N2O, qui varient grandement en fonction des conditions de circulation dans le pays.  Plus d'informations peuvent être trouvées dans les sources données dans le tableau ci-dessous.\n\nUne modification des facteurs par défaut implique la responsabilité entière de l'utilisateur. ","Los ajustes por defecto para los valores de calor más bajos y los factores de emisión de CO2, CH4 y N2O se utilizan para todos los subsectores del transporte. Cumplen con el enfoque del Nivel 1 del IPCC y no son específicos de un país. Surge una gran incertidumbre para las emisiones de CH4 y N2O, que varían mucho dependiendo de las condiciones del tráfico en el país. Se puede encontrar más información en las fuentes que figuran en el cuadro siguiente.\n\nLa modificación de los valores por defecto implica la total responsabilidad del usuario."]
["Text21","6 Sources and abbreviation",{"$f":"D298","v":"6 Sources and abbreviation"},"6 Sources and abbreviation","6 Fuentes y abreviaturas"]
["Example1","Measurement example: additional traffic volume (non-revenue travelers generated by the creation or improvement of a transport infrastructure)","Measurement example: additional traffic volume (non-revenue travelers generated by the creation or improvement of a transport infrastructure)","Exemple de mesure: volume de trafic supplémentaire (voyageurs n'ayant pas pris généré par la création ou l'amélioration d'une infrastructure de transport)","Ejemplo de medición: volumen de tráfico adicional (viajeros sin ingresos generados por la creación o mejora de una infraestructura de transporte)"]
["Scen1","Scenario 1)","Scenario 1)","Scénario 1)","Escenario 1)"]
["Scen2","Scenario 2)","Scenario 2)","Scénario 2)","Escenario 2)"]
["Scen3","Scenario 3)","Scenario 3)","Scénario 3)","Escenario 3)"]
["Tab","Tab","Tab","Onglet","Pestaña"]
["subsector","Sub-sector","Sub-sector","Sous-secteur","Subsector"]
["Input","Data input","Data input","Données à entrer","Entrada de datos"]
["Defaultvalue","Default value","Default value","Valeur par défaut","Valor por defecto"]
["Calculatedcell","Calculated cell","Calculated cell","Valeur calculée","Célula calculada"]
["colourcode","Colour code","Colour code","code couleur","Código de colores"]
["country","Country","Country","pays","País"]
["Miopkm","Mio. pkm","Mio. pkm","Mill. Pkm","Mio. pkm"]
["Miotkm","Mio. tkm","Mio. tkm","Mill. Tkm","Mio. tkm"]
["Roadandrail","Road and rail","Road and rail","Route et ferroviaire","Ruta y ferrocarril"]
["Vehcategory","Vehicle category","Vehicle category","Catégorie de véhicule","Categoría del vehículo"]
["PandMcar","Private car (including mixed car)","Private car (including mixed car)","Voiture particulière (inclu voiture mixte)","Coche privado (incluido el coche mixto)"]
["Photo","Photo","Photo","Photo","Foto"]
["ExplPcars","Any motor vehicle intended for passenger transport, the seat capacity does not exceed nine seats (including driver), the total permissible gross weight does not exceed 3,5t.","Any motor vehicle intended for passenger transport, the seat capacity does not exceed nine seats (including driver), the total permissible gross weight does not exceed 3,5t.","Toute automobile destinée au transport de personne, dont le nombre de siège  ne dépasse pas neuf y compris celui du conducteur et dont le poids total autorisé en charge n'excède pas 3,5t. ","Todo vehículo de motor destinado al transporte de pasajeros, la capacidad de los asientos no excede de nueve plazas (incluido el conductor), el peso bruto total permitido no excede de 3,5t."]
["ExplMotoTaxi","Motorcycles which transport passengers in return for payment of a fare (e.g. Go-jek, Grab).","Motorcycles which transport passengers in return for payment of a fare (e.g. Go-jek, Grab).","Motos qui transportent des passagers en échange du paiement d'un tarif (par exemple, Go-jek, Grab).\n","Motocicletas que transportan pasajeros a cambio del pago de una tarifa (por ejemplo, Go-jek, Grab)."]
["ExplAcarsTaxi",{"$f":"INDEX($C$5:$E$1048576,,$B$3)","v":"Cars which transport passengers in return for payment of a fare and which are typically fitted with a taximeter."},"Cars which transport passengers in return for payment of a fare and which are typically fitted with a taximeter.","Voitures qui transportent des passagers contre paiement d'un prix et qui sont généralement équipées d'un taximètre.","Coches que transportan a los pasajeros a cambio del pago de una tarifa y que suelen estar equipados con un taxímetro."]
["ExplMinibus","Any motor vehicle intended for the collective transport of persons whose number of seats is less than nine, including hirings, collective taxis and rural transportation.","Any motor vehicle intended for the collective transport of persons whose number of seats is less than nine, including hirings, collective taxis and rural transportation.","Tout véhicule à moteur destiné au transport collectif de personnes dont le nombre de siège est inférieur à neuf, incluant les louages, les taxis collectifs et les transport ruraux","Todo vehículo motorizado destinado al transporte colectivo de personas cuyo número de asientos sea inferior a nueve, incluidos los alquileres, taxis colectivos y el transporte rural."]
["ExplBus","Any motor vehicle intended for the collective transport of persons, the number of seats of which is greater than nine or the permissible total weight exceeds 3.5t.","Any motor vehicle intended for the collective transport of persons, the number of seats of which is greater than nine or the permissible total weight exceeds 3.5t.","Tout véhicule à moteur destiné au transport collectif de personnes, dont le nombre de sièges est supérieur à neuf ou dont le poids total autorisé en charge excède 3,5t","Todo vehículo de motor destinado al transporte colectivo de personas cuyo número de asientos sea superior a nueve o cuyo peso total admisible sea superior a 3,5t."]
["ExplBRT","Bus Rapid Transit (BRT) is a high-quality bus-based transit system. It is typically specified with dedicated lanes, iconic stations, off-board fare collection, and fast and frequent operations.","Bus Rapid Transit (BRT) is a high-quality bus-based transit system. It is typically specified with dedicated lanes, iconic stations, off-board fare collection, and fast and frequent operations.","Le Bus Rapid Transit (BRT) est un système de transport en commun de haute qualité. Il présente généralement des voies et des stations dédiées, une vente de billet hors du véhicule et des passages rapides et fréquentes.","Bus Rapid Transit (BRT) es un sistema de tránsito de alta calidad basado en autobuses. Normalmente se especifica con carriles exclusivos, estaciones emblemáticas, recogida de billetes fuera de bordo y operaciones rápidas y frecuentes."]
["ExpllightLCV","A mostly three-wheeled motorized vehicle used for goods transport.","A mostly three-wheeled motorized vehicle used for goods transport.","Un véhicule à moteur principalement à trois roues utilisé pour le transport de marchandises.","Un vehículo motorizado de tres ruedas utilizado principalmente para el transporte de mercancías."]
["ExplLCV","Motor vehicle intended for the transport of freight, the permissible gross weight does not exceed 3.5t.","Motor vehicle intended for the transport of freight, the permissible gross weight does not exceed 3.5t.","Véhicule à moteur destiné au transport de marchandise dont le poids total autorisé en charge n'excède pas 3,5t","Vehículo de motor destinado al transporte de carga, el peso bruto permitido no excede las 3,5t."]
["ExplSolo","Motor vehicle intended for the transport of freight, the permissible load is up to 10t.","Motor vehicle intended for the transport of freight, the permissible load is up to 10t.","Véhicule automobile destiné au transport de marchandises, dont le poids total autorisé en charge n'excède pas 10 t.","Vehículo de motor destinado al transporte de carga, la carga permitida es de hasta 10t."]
["ExplHtruck","Motor vehicle intended for the transport of freight and the total authorized load exceeds 10t tonnes. Trucks consist of trucks and tractors (truck with trailer).","Motor vehicle intended for the transport of freight and the total authorized load exceeds 10t tonnes. Trucks consist of trucks and tractors (truck with trailer).","Tout véhicule à moteur destiné au transport de marchandise et dont le poid total autorisé en charge excède 10t. Les poids lourds sont consitués des camions et des tracteurs routiers (camion avec remorque)","Vehículo de motor destinado al transporte de carga y la carga total autorizada supera las 10 toneladas. Los camiones se componen de camiones y tractores (camión con remolque)."]
["ExplMotorcycle","A two-wheeled vehicle with an engine.","A two-wheeled vehicle with an engine.","Tout véhicule à deux roue motorisé","Un vehículo de dos ruedas con un motor."]
["ExplPtrain","Passenger train mainly traveling outside the city - long distance train.","Passenger train mainly traveling outside the city - long distance train.","Tout train de passager circulant majoritairement hors-ville: RER ou train grande ligne.","Tren de pasajeros que viaja principalmente fuera de la ciudad - tren de larga distancia."]
["ExplUtrain","Passenger train mainly traveling within the city territory - short distance train.","Passenger train mainly traveling within the city territory - short distance train.","Train de voyageurs voyageant principalement sur le territoire de la ville ou de la région - RER","Tren de pasajeros que viaja principalmente dentro del territorio de la ciudad - tren de corta distancia."]
["ExplMetro","Passenger train mainly traveling within the city territory - Tram and Metro.","Passenger train mainly traveling within the city territory - Tram and Metro.","Tout train circulant majoritairement en ville de type Tramway et metro.","Tren de pasajeros que viaja principalmente dentro del territorio de la ciudad - Tranvía y Metro."]
["ExplFtrain","Any freight train, usually for long distance transport.","Any freight train, usually for long distance transport.","Tout train de marchandise, généralement longue distance","Cualquier tren de carga, generalmente para transporte de larga distancia."]
["RemarkScoot","Remark: Scooters and other two-wheeled vehicles less than 125cc are not included ","Remark: Scooters and other two-wheeled vehicles less than 125cc are not included ","Remarque: Les scooter et autre véhicule à deux roues inférieur à 125 cm3 ne sont pas inclus","Observación: Los scooters y otros vehículos de dos ruedas de menos de 125cc no están incluidos. "]
["ExplND","not applicable/not relevant","not applicable/not relevant","non applicable/non pertinent","no aplicable/no pertinente"]
["ExplIPCC","Intergovernmental panel on Climate Change = Group of intergovernmental Experts on climate change","Intergovernmental panel on Climate Change = Group of intergovernmental Experts on climate change"," Intergovernmental Panel on Climate Change = Groupe d'experts intergouvernemental sur l'évolution du climat","Grupo Intergubernamental de Expertos sobre el Cambio Climático = Grupo de expertos intergubernamentales sobre el cambio climático"]
["LHVabbr","LHV","LHV","PCI","Vehículo largo y pesado"]
["ExplTTW","Tank to wheel: emissions from tank to wheel","Tank to wheel: emissions from tank to wheel","Tank to wheel: émissions du réservoir à la roue","Tanque a rueda: emisiones de tanque a rueda"]
["ExplWTW","Well to wheel: emissions from well to wheel","Well to wheel: emissions from well to wheel","Well to wheel: émissions du puit à la roue","Pozo a rueda: emisiones de pozo a rueda"]
["publictrans","Public transport","Public transport","Transport public","Transporte público"]
[]
[]
["Bunker",{"$f":"INDEX($C$5:$E$1048576,,$B$3)","v":"excluding international bunkers"},"excluding international bunkers","excluant bunker internationaux","Emisiones de GEI procedentes del transporte"]
[]
["Graph1",{"$f":"INDEX($C$5:$E$1048576,,$B$3)","v":"Modal split freight [tkm]"},"Modal split freight [tkm]","Part modale marchandise [tkm]","Carga dividida modal [tkm]"]
["Graph2","Modal split passenger [pkm]","Modal split passenger [pkm]","Part modale passager [pkm]\n","Pasajero con división modal [pkm]"]
["Graph3","Emission of transportation [1000 t GHG] ","Emission of transportation [1000 t GHG] ","Emission des transports en GES [1000 t GHG] ","Emisión de transporte en GEI "]
["Roadtrans","Road transport","Road transport","Transport routier","Transporte por Ruta"]
["Graph4","Vkt individual passenger transport [Mio. km]","Vkt individual passenger transport [Mio. km]","Vkt transport passager individuel [Mill. km]","Kilómetros recorriods por vehículo (Vkt) transporte individual de pasajeros [Mio. km]"]
["Graph7","Inventory of GHG emissions from transportation ","Inventory of GHG emissions from transportation ","Inventaire d'émissions de GES du transport ","Inventario de las emisiones de GEI procedentes del transporte "]
["Graph5","Vkt freight [Mio. km]","Vkt freight [Mio. km]","Vkt du transport de marchandises [Mill. km]\n","Carga kiómetros recorridos por vehículo (Vkt) [Mio. km]"]
["ktoe","Consumption in ktoe","Consumption in ktoe","Consommation [ktep]","Consumo en ktoe"]
["inventory","GHG emissions inventory","GHG emissions inventory","Inventaire d'émissions de GES du transport\n","Inventario de emisiones de GEI"]
["Methodology","Methodology","Methodology","Méthodologie","Metodología"]
["GHGcompare","Comparison of GHG emissions","Comparison of GHG emissions","Comparaison des émissions de GES \n","Comparación de las emisiones de GEI"]
["climatepass","Climate Passenger","Climate Passenger","Climat Passager","Pasajero climático"]
["climatefreight","Climate Freight","Climate Freight","Climat Marchandise","Carga Climática"]
["unitgraph","GHG in thousand tCO2e ","GHG in thousand tCO2e ","GES en milliers de tCO2e \n","GEI en miles de tCO2e "]
["avoidedGHGcum","Avoided cumulated GHG ","Avoided cumulated GHG ","GES évitées cumulées ","Acumulado de GEI  evitados"]
["freight","Freight","Freight","Marchandise","Carga"]
["BAU","BAU","BAU","Base","BAU"]
["Miokm","Mio. Km","Mio. Km","Mill. Km","Mio. Km"]
["avoidedGHG","Avoided GHG ","Avoided GHG ","GES évitées","GEI evitados"]
["Climat","Climate","Climate","Climat","Clima"]
["RedGHGpass","GHG emission reductions - passenger transport","GHG emission reductions - passenger transport","Réduction des GES - passagers ","Reducción de las emisiones de GEI - transporte de pasajeros"]
["RedGHGfr","GHG emission reductions - freight transport","GHG emission reductions - freight transport","Réduction des GES - marchandises ","Reducción de las emisiones de GEI - transporte de mercancías"]
["avoidtransfer","Avoid/Transfer","Avoid/Transfer","Eviter/transférer","Evitar/Transferir"]
["Improve","Improve","Improve","Améliorer","Mejorar"]
["BRT","BRT","BRT","BHNS","BRT"]
["Transportperformancebase","Transport performance base [Mio. pkm]","Transport performance base [Mio. pkm]","Performances de transport initiales [Mill. pkm]","Base de rendimiento de transporte [Mio. pkm]"]
["Mototaxi","Motorcycle taxi","Motorcycle taxi","Moto taxi","Mototaxi"]
["Threewheel","Three wheelers","Three wheelers","Véhicule à trois roues","Triciclos"]
["Occupancyratescen","Occupancy rate [Passengers/vehicle]","Occupancy rate [Passengers/vehicle]","Taux d'occupation des véhicules [Personnes/véhicule]","Tasa de ocupación [Pasajeros/vehículo]"]
["lightLCV","Very light LCV","Very light LCV","Véhicule très léger de livraison","Vehículo comercial muy ligero"]
[]
["Inmile",{"$f":"INDEX($C$5:$E$1048576,,$B$3)","v":"Increase in vkt in the period [Mio km]"},"Increase in vkt in the period [Mio km]","Augmentation du vkt dans la période [Mill km]","Aumento de los kilómetros recorridos por vehículo (vkt) en el período [Mio km]"]
["Graph6","Vkt public transport [Mio. km]","Vkt public transport [Mio. km]","Vkt transport public [Mill. Km]","Kilómetros recorridos por vehículo (vkt) transporte público [Mio. km]"]
["Transportperformancefreight","Transport performance [Mio. tkm]","Transport performance [Mio. tkm]","Performance de transport [Mill tkm]","Rendimiento del transporte [Mio. tkm]"]
["loadfactormax","Maximum load factor [tons/vehicle]","Maximum load factor [tons/vehicle]","Taux de charge maximum [tons/vehicle]","Factor de carga máximo [toneladas/vehículo]"]
["City","City","City","Ville","Ciudad"]
["Topdownvalidation","1B Top-Down Validation Approach","1B Top-Down Validation Approach","1B Approche de validation top-down","1B Enfoque de validación de arriba hacia abajo"]
["GDP","Gross domestic product (GDP)","Gross domestic product (GDP)","Produit Intérieur Brut (PIB)","Producto interno bruto (PIB)"]
["Mileageapp","1. Vkt approach","1. Vkt approach","1. Approche kilométrique","1. Enfoque Vkt"]
["Fleetapproach","2. Fleet approach","2. Fleet approach","2. Approche de la flotte de véhicules","2. Enfoque de flota "]
["transportrandr","Transport (sum of road and rail)","Transport (sum of road and rail)","Transport (somme route et rail)","Transporte (suma de Ruta y ferrocarril)"]
["kerosene","Biofuels","Biofuels","Biocarburants","Biocombustibles"]
["energybalance","Energy Balance\n[1000 TOE]","Energy Balance\n[1000 TOE]","Bilan énergétique [1000 TEP]","Equilibrio energético\r\n(1000 TOE)"]
["calculated1000TOE","Calculated [1000 TOE]","Calculated [1000 TOE]","Calculé [1000 TEP]","Calculado (1000 TOE)"]
["gap","gap","gap","différence","Diferencia"]
["transporttout","1 A3 Transport energy consumption [1000  TOE]\n","1 A3 Transport energy consumption [1000  TOE]\n","1 A3 Consommation d'énergie transport [1000 TEP]\n","1 A3 Transporte (excluidas las reservas internacionales)\r\n"]
["Roadtransport","1A3b Energy consumption road transportation  [1000  TOE]\n","1A3b Energy consumption road transportation  [1000  TOE]\n","1A3b Consommation d'énergie transport routier  [1000  TEP]","1A3b Transporte por Ruta\r\n"]
["Railtransport","1A3c Energy consumption rail transport  [1000  TOE]","1A3c Energy consumption rail transport  [1000  TOE]","1A3c Consommation d'énergie transport ferroviaire  [1000  TEP]","1A3c Transporte ferroviario"]
["planningtool","WITH UPSTREAM CALCULATIONS - TRANSPORT ACTIVITY DATA FROM EXTERNAL TRANSPORT PLANNING TOOL","WITH UPSTREAM CALCULATIONS - TRANSPORT ACTIVITY DATA FROM EXTERNAL TRANSPORT PLANNING TOOL","AVEC CALCUL PRÉALABLE-  LOGICIEL DE PLANNIFICATION DES TRANSPORTS","CON CÁLCULOS PREVIOS - DATOS DE LA ACTIVIDAD DE TRANSPORTE DE LA HERRAMIENTA DE PLANIFICACIÓN DEL TRANSPORTE EXTERNO"]
["Avoidshift","1 & 2 )AVOID & SHIFT ","1 & 2 )AVOID & SHIFT ","1 & 2 ) Eviter & Transférer","1 & 2 )EVITAR Y CAMBIAR "]
["withoutplanning","WITHOUT UPSTREAM CALCULATIONS - TRANSPORT ACTIVITY DATA CALCULATIONS WITHIN THIS TOOL","WITHOUT UPSTREAM CALCULATIONS - TRANSPORT ACTIVITY DATA CALCULATIONS WITHIN THIS TOOL","SANS CALCUL PRÉALABLE- CALCUL DES DONNÉES D'ACTIVITÉ DES TRANSPORTS DANS CET OUTIL","SIN CÁLCULOS PREVIOS - CÁLCULOS DE DATOS DE ACTIVIDAD DE TRANSPORTE DENTRO DE ESTA HERRAMIENTA"]
["Descri85","For the mode shift it is mandatory to define the the share of passengers shifting from the origin vehicle category to the destination vehicle category in the tables below, if additional vkt was entered in the tbale above.","For the mode shift it is mandatory to define the the share of passengers shifting from the origin vehicle category to the destination vehicle category in the tables below, if additional vkt was entered in the tbale above.","Pour chaque catégorie de véhicule, indiquez la part des passagers en provenance d'une autre catégorie de véhicules dans le tableau de smodes d'origine en %  (par exemple, la part des personnes en provenance de la voiture qui sont des passagers d'un nouveau bus).","Para el cambio de modo es obligatorio definir en los cuadros que figuran a continuación la proporción de pasajeros que pasan de la categoría de vehículo de origen a la categoría de vehículo de destino, si se introdujeron los kilómetros recorridos por vehículo (vkt) adicionales en el cuadro anterior."]
["addmileage","Additional vkt [Mio. km]","Additional vkt [Mio. km]","Vkt additionnels [Mill. km]","Kilómetros recorriodos por vehículo (vkt) adicionales [Mio.km]"]
["goaltransportmode","Goal transport mode (above categories)/sourced from (below categories)","Goal transport mode (above categories)/sourced from (below categories)","Mode de transport final (catégories supérieure) / provenant de (catégories inférieures)","Modo de transporte final (categorías superiores)/fuente de (categorías inferiores)"]
["avtriplength","Av. BAU trip length (km)","Av. BAU trip length (km)","Longueur de trajet moyen du BAU (km)","Longitud del viaje de la BAU (km)"]
["fretorigin","Origin mode of the shifted tkm  [%]","Origin mode of the shifted tkm  [%]","Mode d'origine du frêt transféré en tonne-kilomètre [%]","Modos originales de los tkm desplazados [%]"]
["Graph9","avoided cumulative GHGs ","avoided cumulative GHGs ","GES évitées cumulées ","Acumulado de GEI evitados "]
["Graph8","Total GHG emissions for passenger and freight transport ","Total GHG emissions for passenger and freight transport ","Somme des emissions de GES totales pour le transport de passager et le frêt ","Emisiones totales de GEI para el transporte de pasajeros y mercancías "]
["Graph10","GHG in thousands of tCO2e","GHG in thousands of tCO2e","GES en milliers de tCO2e\n","GEI en miles de tCO2e"]
["text91","If you are a country and you stipulated it in the \"Get Started\" sheet, default values are shown below. These data can be forwaded to cities within your country and/or to the MYC Secretariat in order to be used as defaults.","If you are a country and you stipulated it in the \"Get Started\" sheet, default values are shown below. These data can be forwaded to cities within your country and/or to the MYC Secretariat in order to be used as defaults.","Si vous êtes un pays et que vous l'avez stipulé dans l'onglet  \"Get Started\", des valeurs par défaut sont indiquées ci-dessous. Ces données peuvent être transmises aux villes de votre pays et / ou au Secrétariat MYC afin d'être utilisées comme défauts.","Si es un país y lo estipuló en la hoja de \"Inicio\", los valores por defecto se muestran a continuación. Estos datos pueden ser enviados a las ciudades de su país y/o a la Secretaría del MYC para ser usados como valores por defecto."]
["Results","Results","Results","Résultats","Resultados"]
["text92","If you are  a city, get in contact with MYC to ask, if your country has already filled in the tool and get the tab \"5. Default value\" from the national tool and copy directly the data into this sheet (easy copy paste). They will appear automatically in 1A Input Base and BAU if you stippulated that you are a city in \"Get started\". ","If you are  a city, get in contact with MYC to ask, if your country has already filled in the tool and get the tab \"5. Default value\" from the national tool and copy directly the data into this sheet (easy copy paste). They will appear automatically in 1A Input Base and BAU if you stippulated that you are a city in \"Get started\". ","Si vous êtes une ville, contactez MYC pour demander si votre pays a déjà utilisé l'outil et demandez l'onglet \"5. Valeur par défaut\" de l'outil national et copiez directement les données dans cette feuille (copier-coller simple). Ces valeurs défauts apparaitront alors automatiquement dans 1A Input Base et BAU si vous avez indiqué que vous êtes une ville dans le premier onglet \"Get started\"\n","Si usted es una ciudad, póngase en contacto con MYC para preguntar si su país ya ha rellenado la herramienta y obtenga la pestaña \"5. Valor por defecto\" de la herramienta nacional y copie directamente los datos en esta hoja (easy copy paste). Aparecerán automáticamente en la base de datos 1A y en la BAU si ha  estipulado que es una ciudad en \"Get started\". "]
["Overviewres","Overview of results","Overview of results","Apercu des résultats","Resumen de los resultados"]
["resultstrans",{"$f":"INDEX($C$5:$E$1048576,,$B$3)","v":"Results of the transport demand measures"},"Results of the transport demand measures","Résultats des mesures concernant la demande de transport","Resultados de las medidas de demanda de transporte"]
["Passpvehic","Passengers/vehicle","Passengers/vehicle","passagers/véhicule","Pasajeros/vehículo"]
["OccupancyLoad","Average occupancy and load","Average occupancy and load","Taux d'occupation ou de charge moyen ","Ocupación y carga media"]
["MethodologyContent","Methodology and content:","Methodology and content:","Methodologie et contenu:","Metodología y contenido:"]
["BillionUSD","Bin USD ","Bin USD ","Mrd USD","Miles de millones de dólares"]
["Occupancy","Occupancy rate","Occupancy rate","Taux d'occupation","Tasa de ocupación"]
["Load","Load","Load","Taux de charge","Cargar"]
["abbreviation","Abbreviation","Abbreviation","Abbréviation","Abreviatura"]
["RoadEthanol","Road - Ethanol","Road - Ethanol","Route-éthanol","Ruta - Etanol"]
["RoadBiodiesel","Road - Biodiesel","Road - Biodiesel","Route-Biodiesel","Ruta - Biodiesel"]
["RoadBioNG","Road - Bio NG","Road - Bio NG","Route-Bio GN","Ruta - Bio NG"]
["RoadBioLPG","Road - Bio LPG","Road - Bio LPG","Route-bio GPL","Ruta - Bio GLP"]
["RailBioDiesel","Rail - Biodiesel","Rail - Biodiesel","Rail-Biodiesel","Ferrocarril - Biodiesel"]
["Biofuelshead","3.v) Share of biofuels (based on the energy content) in both scenarios","3.v) Share of biofuels (based on the energy content) in both scenarios","3.v) Part des biocarburants (basée sur le contenu énergétique) dans les deux scénarios","3.v) Cuota de biocombustibles (basada en el contenido energético) en ambos escenarios"]
["Biofuelsdescri","Description: Please enter the energy consumption based share of biofuels for the reference year and for future years for road and rail transport.","Description: Please enter the energy consumption based share of biofuels for the reference year and for future years for road and rail transport.","Description: Veuillez saisir la part des biocarburants basée sur la consommation d'énergie pour l'année de référence et les années futures pour le transport routier et ferroviaire.","Descripción: Por favor, introduzca la cuota basada en el consumo de energía de biocombustibles para el año de referencia y para los años futuros para el transporte por Ruta y ferrocarril."]
["Biofuelsexample","Example: With an user input of 10 % biofuels for Road Diesel in the table below 10 % of the energy consumption would be covered by biodiesel and 90 % would be covered by conventional diesel.","Example: With an user input of 10 % biofuels for Road Diesel in the table below 10 % of the energy consumption would be covered by biodiesel and 90 % would be covered by conventional diesel.","Exemple: Avec une entrée d'utilisateur de 10% de biocarburants pour le diesel routier dans le tableau ci-dessous, 10% de la consommation d'énergie serait couverte par le biodiesel et 90% serait couverte par le diesel conventionnel.","Ejemplo: Con una aportación de los usuarios del 10% de biocombustibles para el diésel de Ruta en el cuadro que figura a continuación, el 10% del consumo de energía se cubriría con biodiésel y el 90% con diésel convencional."]
["Biofuelstitle","Energy consumption based share of biofuels","Energy consumption based share of biofuels","Part des biocarburants basée sur la contenu énergétique","Cuota de biocombustibles basada en el consumo de energía"]
["Note1","Please note:","Please note:","Notez:","Por favor, tenga en cuenta:"]
["Note2","Please note: \nAll required input data for step 2 \"Shift\" is entered.\nPlease proceed.","Please note: \nAll required input data for step 2 \"Shift\" is entered.\nPlease proceed.","Notez:\nToutes les données d'entrée pour l'étape 2 \"Transférer\" sont saisies\nContinuez","Por favor, tenga en cuenta: \nSe han introducido todos los datos necesarios para el paso 2 \"\"Cambiar\"\".\nPor favor, proceda."]
["originmode","Origin mode of transportation of new PT passengers [% of the trips]","Origin mode of transportation of new PT passengers [% of the trips]","Mode d'origine des nouveaux passagers du TCP [% des trajets]","Modo de transporte original de los nuevos pasajeros del TCP [% de los viajes]"]
["donottouch","Do not touch - for graphic purposes","Do not touch - for graphic purposes","Ne pas toucher - valeur pour graphique","No tocar - para propósitos gráficos"]
["KPI","Key performance indicators","Key performance indicators","Indicateurs clefs de performance","Indicadores clave de rendimiento"]
["GHGBAU","Total GHG emissions BAU scenario ","Total GHG emissions BAU scenario ","Total des émissions de GES des transports BAU scénario ","Emisiones totales de GEI Escenario BAU "]
["GHGclimat","Total GHG emissions climate scenario ","Total GHG emissions climate scenario ","Total des émissions de GES des transports scénario climat ","Emisiones totales de GEI escenario climático "]
["difGHG","Difference of GHG emissions between BAU & climate scenario ","Difference of GHG emissions between BAU & climate scenario ","Difference des émissions de GES entre le scénario BAU & climat ","Diferencia de las emisiones de GEI entre la BAU y el escenario climático "]
["KPIdesc","You can find below key indicators to assess the level of emission in your country/city for the scenarios out of the calculation carried out in this tool. The compulsory indicators for MYC projects are indicated in bold within a green frame. For the indicators for wich no data are given, this should be given per hand as they ar required by the MYC monitoring plan, but they are not calculated by the present tool (number of fatal accidents, number of persons withtin the service area, average commercial speed)","You can find below key indicators to assess the level of emission in your country/city for the scenarios out of the calculation carried out in this tool. The compulsory indicators for MYC projects are indicated in bold within a green frame. For the indicators for wich no data are given, this should be given per hand as they ar required by the MYC monitoring plan, but they are not calculated by the present tool (number of fatal accidents, number of persons withtin the service area, average commercial speed)","Vous trouverez ci-dessous des indicateurs clés pour évaluer le niveau d'émission dans votre pays / ville pour les scénarios à partir du calcul effectué dans cet outil. Les indicateurs obligatoires dans le cadre de projets MYC sont indiqués en gras dans l'encadré vert. Pour les indicateurs pour lesquels aucune données ne sont fournies, celles-ci doivent être données par l'utilisateur lui-même car ces indicateurs sont requis par le plan de monitoring de MYC, mais ne sont pas calculés par cet outil (nombre d'accidents mortels, nombre de personnes dans la zone de service, vitesse commerciale moyenne)","A continuación encontrará los indicadores clave para evaluar el nivel de emisión en su país/ciudad para los escenarios de los cálculos realizados en esta herramienta. En el caso de los indicadores para los que no se proporcionan datos, éstos deben ser proporcionados por mano, tal como lo requiere el plan de monitoreo del MYC, pero no son calculados por la presente herramienta (número de accidentes fatales, número de personas en el área de servicio, velocidad comercial promedio)."]
["addipkm","Additional pkm [MioPkm]","Additional pkm [MioPkm]","pkm additionnels [MioPkm]","pkm adicionales [Mio. Pkm]"]
["redpkm","Reduced pkm [Mio Pkm]","Reduced pkm [Mio Pkm]","pkm supprimés [Mio Pkm]","pkm reducidos [Mio.Pkm]"]
["Name","Name","Name","Nom","Nombre"]
["Warning","Please note that data must be entered manually and the cells must not be copied into the designated fields for the input data (in green). Indeed it damages the automatic error detection and the layout","Please note that data must be entered manually and the cells must not be copied into the designated fields for the input data (in green). Indeed it damages the automatic error detection and the layout","Veuillez noter que les données doivent entrées manuellement et les cellules ne doivent pas être copiées dans les champs destinés au données d'entreée (en vert). En effet cela endommage la détection automatique d'erreur et la mise en page ","Tenga en cuenta que los datos deben ingresarse manualmente y las celdas no deben copiarse en los campos designados para los datos de entrada (en verde). De hecho, daña la detección automática de errores y el diseño"]
["cumul","The GHG emissions are cumulated on a linear hypothesis (linear regression between 2 years) and add up all the emissions avoided year by year from the base year to the year presented","The GHG emissions are cumulated on a linear hypothesis (linear regression between 2 years) and add up all the emissions avoided year by year from the base year to the year presented","Les émissions de GES sont cumulées sur une hypothèse d'implantation linéaire (régression linéaire entre 2 années) et additionnent toutes les émissions évitées années par années depuis l'année de base jusque l'année présentée","Las emisiones de GEI se acumulan en una hipótesis lineal (regresión lineal entre 2 años) y suman todas las emisiones evitadas año tras año desde el año base hasta el año presentado"]
["consoTOE","Domestic fuel consumption\nin 1000 TOE\n","Domestic fuel consumption\nin 1000 TOE\n","Consommation domestique de fuel \nen 1000 TEP","Consumo de combustible doméstico\nen 1000 TOE"]
["ttghg",{"$f":"INDEX($C$5:$E$1048576,,$B$3)","v":" 1000 t GHG "}," 1000 t GHG "," 1000 t GES ","1000t GEI "]
[null,{"$f":"INDEX($C$5:$E$1048576,,$B$3)","v":0}]
[null,0]
[null,0]
[null,0]
[null,0]
[null,0]
[null,0]
[null,0]
[null,0]
[null,0]
[null,0]
[null,0]
[null,0]
[null,0]
[null,0]
[null,0]
[null,0]
[null,0]
[null,0]
[null,0]
[null,0]
[null,0]
[null,0]
[null,0]
[null,0]
[null,0]
[null,0]
[null,0]
[null,0]
[null,0]
[null,0]
[null,{"$f":"INDEX($C$5:$E$1048576,,$B$3)","v":0}]
[null,0]
[null,0]
[null,0]
[null,0]
[null,0]